{"text_format":"1","workbook":"xlsx","n_sheets":9,"sheets":["基本データ転記先シート","事業報告書まとめ_設備更新","別紙1_CO2排出量(主要システム)","別紙2_計画進捗","作業用_活動量と単位","作業用_年月等","集計用_まとめ","集計用_別紙1","集計用_別紙2"],"not_rendered":{"charts":1,"images":1,"macros":1,"external_links":0,"defined_names":15,"comments":4,"pivot_tables":0},"unopened":[],"bounds":{"document_bytes":16777216,"sheet_cells":100000,"rows_first":2000,"rows_last":500,"rows_between":2000,"halvings":0,"cell_chars":16384,"cell_head_chars":4096},"cells_cut":0,"cells_raw":0,"read":"whole","date_system":"1900"}

{"sheet":"基本データ転記先シート","index":0,"n_rows":176,"n_cols":41,"rows_kept":176,"cut":false,"hidden":false,"merged":[[93,2,93,8],[93,9,93,15],[94,9,95,9],[94,10,95,10],[94,11,95,11],[94,12,94,13],[94,14,94,15],[94,3,95,3],[94,4,95,4],[94,5,94,6],[94,7,94,8],[94,2,95,2],[24,26,24,28],[25,2,25,4],[25,26,25,28],[26,2,26,4],[18,26,18,28],[19,2,19,4],[19,26,19,28],[23,2,23,4],[23,26,23,28],[16,8,19,15],[26,26,26,28],[16,26,16,28],[17,2,17,4],[17,26,17,28],[18,2,18,4],[30,26,30,28],[44,9,44,13],[27,2,27,4],[27,26,27,28],[28,2,28,4],[28,26,28,28],[29,2,29,4],[29,26,29,28],[66,1,68,1],[69,1,70,1],[74,2,75,2],[44,33,44,37],[74,30,74,31],[74,32,74,33],[74,4,74,5],[74,6,74,7],[74,8,74,9],[74,26,75,26],[74,27,75,27],[74,28,74,29],[47,1,53,1],[54,1,56,1],[74,3,75,3],[57,1,58,1],[4,13,10,16],[59,1,65,1],[16,2,16,4],[24,2,24,4],[31,2,35,2],[36,2,40,2],[30,2,30,4],[20,2,20,4],[21,2,21,4],[22,2,22,4]]}
[]
[null,"環境省　令和３年度二酸化炭素排出抑制対策事業費等補助金 （工場・事業場における先導的な脱炭素化取組推進事業のうち設備更新補助事業）"]
[]
[null,"基本データ転記先シート"]
[null,null,null,null,null,null,null,null,null,null,null,null,null,"（注）\n・令和3年度実施計画書(sf03b8)には、\n　「事業報告書用データ転記元シート」は\n　ありません。\n・令和3年度診断報告書/実施計画書(sf03a11)\n　にある「事業報告書用データ転記元シート」\n  は使用できません。"]
[null,"以下の手順を実行すると、実施計画書からの転記が必要な情報を、事業報告書の当該箇所に一括で転記することができます。"]
[]
[null,"①","実施計画書（.xlsm）または診断報告書/実施計画書（.xlsm）の「事業報告書用データ転記元シート」を開き、記載の手順にしたがい転記するデータを取得する。"]
[null,"②","「事業報告書用データ転記元シート」にある表１の色付きセル範囲を選択し、コピーする。"]
[null,"③","下記の表１の色付きセル範囲を選択し、張り付ける。"]
[null,"④","表２、表３、表４についても、②、③を行う。"]
[]
[]
[null,null,null,null,null,null,null,null,null,null,null,null,null,null,null,null,null,null,null,null,null,null,null,null,null,null,null,null,null,null,null,"indirect用"]
[null,null,null,null,null,null,null,null,null,null,null,null,null,null,null,null,null,null,null,null,null,null,null,null,null,null,null,null,null,null,null,{"$error":"#N/A"},{"$error":"#N/A"},{"$error":"#N/A"},{"$error":"#N/A"},{"$error":"#N/A"}]
[null,null,"表１：基本情報（実施計画書より）",null,null,null,null,null,null,null,null,null,null,null,null,null,null,null,null,null,null,null,null,null,null,null,"表１"]
[null,null,"GAJ事業番号",null,null,null,null,null,"　※注記\n　実施計画書の完成時点から事業者名、工場・事業場名等の変更があったものについては、実施計画書からのデータ転記後、表1～4の該当箇所に直接入力して修正してください。",null,null,null,null,null,null,null,null,null,null,null,null,null,null,null,null,null,"管理番号",null,null,{"$f":"IF(INDIRECT($AJ$15&\"H8\")=\"\",\"\",INDIRECT($AJ$15&\"H8\"))","v":{"$error":"#N/A"}}]
[null,null,"事業者名（法人名）",null,null,null,null,null,null,null,null,null,null,null,null,null,null,null,null,null,null,null,null,null,null,null,"事業者名（法人名）",null,null,{"$f":"IF(INDIRECT($AJ$15&\"H9\")=\"\",\"\",INDIRECT($AJ$15&\"H9\"))","v":{"$error":"#N/A"}}]
[null,null,"工場・事業場名",null,null,null,null,null,null,null,null,null,null,null,null,null,null,null,null,null,null,null,null,null,null,null,"工場・事業場名",null,null,{"$f":"IF(INDIRECT($AJ$15&\"H10\")=\"\",\"\",INDIRECT($AJ$15&\"H10\"))","v":{"$error":"#N/A"}}]
[null,null,"工場・事業場No.1の業種（中分類・小分類）",null,null,null,null,null,null,null,null,null,null,null,null,null,null,null,null,null,null,null,null,null,null,null,"工場・事業場の業種",null,null,{"$f":"IF(INDIRECT($AF$15&\"F12\")=\"\",\"\",INDIRECT($AF$15&\"F12\"))","v":{"$error":"#N/A"}}]
[null,null,"工場・事業場No.2の業種（中分類・小分類）"]
[null,null,"工場・事業場No.3の業種（中分類・小分類）"]
[null,null,"工場・事業場No.4の業種（中分類・小分類）"]
[null,null,"工場・事業場No.5の業種（中分類・小分類）",null,null,null,null,null,null,null,null,null,null,null,null,null,null,null,null,null,null,null,null,null,null,null,"工場・事業場の部門",null,null,{"$f":"IF(INDIRECT($AF$15&\"W12\")=\"\",\"\",INDIRECT($AF$15&\"W12\"))","v":{"$error":"#N/A"}}]
[null,null,"工場・事業場全体の基準年度排出量（t-CO2/年）",null,null,null,null,null,null,null,null,null,null,null,null,null,null,null,null,null,null,null,null,null,null,null,"工場・事業場全体の基準年度排出量（t-CO2/年）",null,null,{"$f":"IF(INDIRECT($AG$15&\"Q65\")=\"\",\"\",INDIRECT($AG$15&\"Q65\"))","v":{"$error":"#N/A"}}]
[null,null,"工場・事業場全体の基準年度エネルギー使用量(GJ/年）",null,null,null,null,null,null,null,null,null,null,null,null,null,null,null,null,null,null,null,null,null,null,null,"工場・事業場全体の基準年度エネルギー使用量(GJ/年）",null,null,{"$f":"IF(INDIRECT($AG$15&\"Q68\")=\"\",\"\",INDIRECT($AG$15&\"Q68\"))","v":{"$error":"#N/A"}}]
[null,null,"工場・事業場全体の脱炭素化指標",null,null,null,null,null,null,null,null,null,null,null,null,null,null,null,null,null,null,null,null,null,null,null,"工場・事業場全体の脱炭素化指標",null,null,{"$f":"IF(INDIRECT($AG$15&\"Q71\")=\"\",\"\",INDIRECT($AG$15&\"Q71\"))","v":{"$error":"#N/A"}}]
[null,null,"主要システム系統の名称",null,null,null,null,null,null,null,null,null,null,null,null,null,null,null,null,null,null,null,null,null,null,null,"主要システム系統の名称",null,null,{"$f":"IF(INDIRECT($AG$15&\"B17\")=\"\",\"\",INDIRECT($AG$15&\"B17\"))","v":{"$error":"#N/A"}}]
[null,null,"主要システムの基準年度排出量（t-CO2/年）",null,null,null,null,null,null,null,null,null,null,null,null,null,null,null,null,null,null,null,null,null,null,null,"主要システムの基準年度排出量（t-CO2/年）",null,null,{"$f":"IF(INDIRECT($AG$15&\"Q74\")=\"\",\"\",INDIRECT($AG$15&\"Q74\"))","v":{"$error":"#N/A"}}]
[null,null,"主要システムの基準年度エネルギー使用量(GJ/年）",null,null,null,null,null,null,null,null,null,null,null,null,null,null,null,null,null,null,null,null,null,null,null,"主要システムの基準年度エネルギー使用量(GJ/年）",null,null,{"$f":"IF(INDIRECT($AG$15&\"Q77\")=\"\",\"\",INDIRECT($AG$15&\"Q77\"))","v":{"$error":"#N/A"}}]
[null,null,"主要システムの脱炭素化指標",null,null,null,null,null,null,null,null,null,null,null,null,null,null,null,null,null,null,null,null,null,null,null,"主要システムの脱炭素化指標",null,null,{"$f":"IF(INDIRECT($AG$15&\"Q80\")=\"\",\"\",INDIRECT($AG$15&\"Q80\"))","v":{"$error":"#N/A"}}]
[null,null,"工場・事業場の計画CO2排出量(対策後）","計画年度1","CO2排出量"]
[null,null,null,"計画年度2","CO2排出量"]
[null,null,null,"計画年度3","CO2排出量"]
[null,null,null,"計画年度4","CO2排出量"]
[null,null,null,"計画年度5","CO2排出量"]
[null,null,"主要システム系統の計画CO2排出量(対策後）","計画年度1","CO2排出量"]
[null,null,null,"計画年度2","CO2排出量"]
[null,null,null,"計画年度3","CO2排出量"]
[null,null,null,"計画年度4","CO2排出量"]
[null,null,null,"計画年度5","CO2排出量"]
[]
[]
[null,null,"表２：脱炭素化計画（実施計画書より）",null,null,null,null,null,null,null,null,null,null,null,null,null,null,null,null,null,null,null,null,null,null,null,"C","E","I","AC","AE","AJ","AN","AQ","AT","AW","AZ","BC","BF","EQ"]
[null,null,"対策個票番号","対策の種類","対策の名称","主要システム系統","申請予定補助金","対策着手時期","年間CO2削減量(t-CO2)","計画年度・CO2削減量",null,null,null,null,"以降の活動予定","年間エネルギー削減量(GJ)","対策メニュー番号",null,null,null,null,null,null,null,null,null,"対策個票番号","対策の種類","対策の名称","主要システム系統","申請予定補助金","対策着手時期","年間CO2削減量(t-CO2)","計画年度・CO2削減量",null,null,null,null,"以降の活動予定","年間エネルギー削減量(GJ)"]
[null,null,null,null,null,null,null,null,null,null,null,null,null,null,null,null,null,null,null,null,null,null,null,null,null,null,"---","---","---","---","---","---","---",{"$f":"IF(INDIRECT($AG$15&AH$44&$AO46)=\"\",\"\",INDIRECT($AG$15&AH$44&$AO46))","v":{"$error":"#N/A"}},{"$error":"#N/A"},{"$error":"#N/A"},{"$error":"#N/A"},{"$error":"#N/A"},"---","---",24]
[null,null,null,null,null,null,null,null,null,null,null,null,null,null,null,null,null,null,null,null,null,null,null,null,null,null,"---","---","---","---","---","---","---",{"$error":"#N/A"},{"$error":"#N/A"},{"$error":"#N/A"},{"$error":"#N/A"},{"$error":"#N/A"},"---","---",25]
[1,"省エネ",null,null,null,null,null,null,null,null,null,null,null,null,null,null,null,null,null,null,null,null,null,null,null,1,{"$f":"IF(INDIRECT($AG$15&AA$44&$AO48)=\"\",\"\",INDIRECT($AG$15&AA$44&$AO48))","v":{"$error":"#N/A"}},{"$error":"#N/A"},{"$error":"#N/A"},{"$error":"#N/A"},{"$error":"#N/A"},{"$error":"#N/A"},{"$error":"#N/A"},{"$error":"#N/A"},{"$error":"#N/A"},{"$error":"#N/A"},{"$error":"#N/A"},{"$f":"IF(INDIRECT($AG$15&AL$44&$AO48)=\"\",\"\",INDIRECT($AG$15&AL$44&$AO48))","v":{"$error":"#N/A"}},{"$f":"IF(INDIRECT($AG$15&AM$44&$AO48)=\"\",\"\",INDIRECT($AG$15&AM$44&$AO48))","v":{"$error":"#N/A"}},{"$f":"IF(INDIRECT($AG$15&AN$44&$AO48)=\"\",\"\",INDIRECT($AG$15&AN$44&$AO48))","v":{"$error":"#N/A"}},27]
[2,null,null,null,null,null,null,null,null,null,null,null,null,null,null,null,null,null,null,null,null,null,null,null,null,2,{"$f":"IF(INDIRECT($AG$15&AA$44&$AO49)=\"\",\"\",INDIRECT($AG$15&AA$44&$AO49))","v":{"$error":"#N/A"}},{"$f":"IF(INDIRECT($AG$15&AB$44&$AO49)=\"\",\"\",INDIRECT($AG$15&AB$44&$AO49))","v":{"$error":"#N/A"}},{"$f":"IF(INDIRECT($AG$15&AC$44&$AO49)=\"\",\"\",INDIRECT($AG$15&AC$44&$AO49))","v":{"$error":"#N/A"}},{"$f":"IF(INDIRECT($AG$15&AD$44&$AO49)=\"\",\"\",INDIRECT($AG$15&AD$44&$AO49))","v":{"$error":"#N/A"}},{"$f":"IF(INDIRECT($AG$15&AE$44&$AO49)=\"\",\"\",INDIRECT($AG$15&AE$44&$AO49))","v":{"$error":"#N/A"}},{"$f":"IF(INDIRECT($AG$15&AF$44&$AO49)=\"\",\"\",INDIRECT($AG$15&AF$44&$AO49))","v":{"$error":"#N/A"}},{"$f":"IF(INDIRECT($AG$15&AG$44&$AO49)=\"\",\"\",INDIRECT($AG$15&AG$44&$AO49))","v":{"$error":"#N/A"}},{"$f":"IF(INDIRECT($AG$15&AH$44&$AO49)=\"\",\"\",INDIRECT($AG$15&AH$44&$AO49))","v":{"$error":"#N/A"}},{"$f":"IF(INDIRECT($AG$15&AI$44&$AO49)=\"\",\"\",INDIRECT($AG$15&AI$44&$AO49))","v":{"$error":"#N/A"}},{"$f":"IF(INDIRECT($AG$15&AJ$44&$AO49)=\"\",\"\",INDIRECT($AG$15&AJ$44&$AO49))","v":{"$error":"#N/A"}},{"$f":"IF(INDIRECT($AG$15&AK$44&$AO49)=\"\",\"\",INDIRECT($AG$15&AK$44&$AO49))","v":{"$error":"#N/A"}},{"$f":"IF(INDIRECT($AG$15&AL$44&$AO49)=\"\",\"\",INDIRECT($AG$15&AL$44&$AO49))","v":{"$error":"#N/A"}},{"$f":"IF(INDIRECT($AG$15&AM$44&$AO49)=\"\",\"\",INDIRECT($AG$15&AM$44&$AO49))","v":{"$error":"#N/A"}},{"$f":"IF(INDIRECT($AG$15&AN$44&$AO49)=\"\",\"\",INDIRECT($AG$15&AN$44&$AO49))","v":{"$error":"#N/A"}},28]
[3,null,null,null,null,null,null,null,null,null,null,null,null,null,null,null,null,null,null,null,null,null,null,null,null,3,{"$f":"IF(INDIRECT($AG$15&AA$44&$AO50)=\"\",\"\",INDIRECT($AG$15&AA$44&$AO50))","v":{"$error":"#N/A"}},{"$f":"IF(INDIRECT($AG$15&AB$44&$AO50)=\"\",\"\",INDIRECT($AG$15&AB$44&$AO50))","v":{"$error":"#N/A"}},{"$f":"IF(INDIRECT($AG$15&AC$44&$AO50)=\"\",\"\",INDIRECT($AG$15&AC$44&$AO50))","v":{"$error":"#N/A"}},{"$f":"IF(INDIRECT($AG$15&AD$44&$AO50)=\"\",\"\",INDIRECT($AG$15&AD$44&$AO50))","v":{"$error":"#N/A"}},{"$f":"IF(INDIRECT($AG$15&AE$44&$AO50)=\"\",\"\",INDIRECT($AG$15&AE$44&$AO50))","v":{"$error":"#N/A"}},{"$f":"IF(INDIRECT($AG$15&AF$44&$AO50)=\"\",\"\",INDIRECT($AG$15&AF$44&$AO50))","v":{"$error":"#N/A"}},{"$f":"IF(INDIRECT($AG$15&AG$44&$AO50)=\"\",\"\",INDIRECT($AG$15&AG$44&$AO50))","v":{"$error":"#N/A"}},{"$f":"IF(INDIRECT($AG$15&AH$44&$AO50)=\"\",\"\",INDIRECT($AG$15&AH$44&$AO50))","v":{"$error":"#N/A"}},{"$f":"IF(INDIRECT($AG$15&AI$44&$AO50)=\"\",\"\",INDIRECT($AG$15&AI$44&$AO50))","v":{"$error":"#N/A"}},{"$f":"IF(INDIRECT($AG$15&AJ$44&$AO50)=\"\",\"\",INDIRECT($AG$15&AJ$44&$AO50))","v":{"$error":"#N/A"}},{"$f":"IF(INDIRECT($AG$15&AK$44&$AO50)=\"\",\"\",INDIRECT($AG$15&AK$44&$AO50))","v":{"$error":"#N/A"}},{"$f":"IF(INDIRECT($AG$15&AL$44&$AO50)=\"\",\"\",INDIRECT($AG$15&AL$44&$AO50))","v":{"$error":"#N/A"}},{"$f":"IF(INDIRECT($AG$15&AM$44&$AO50)=\"\",\"\",INDIRECT($AG$15&AM$44&$AO50))","v":{"$error":"#N/A"}},{"$f":"IF(INDIRECT($AG$15&AN$44&$AO50)=\"\",\"\",INDIRECT($AG$15&AN$44&$AO50))","v":{"$error":"#N/A"}},29]
[4,null,null,null,null,null,null,null,null,null,null,null,null,null,null,null,null,null,null,null,null,null,null,null,null,4,{"$f":"IF(INDIRECT($AG$15&AA$44&$AO51)=\"\",\"\",INDIRECT($AG$15&AA$44&$AO51))","v":{"$error":"#N/A"}},{"$f":"IF(INDIRECT($AG$15&AB$44&$AO51)=\"\",\"\",INDIRECT($AG$15&AB$44&$AO51))","v":{"$error":"#N/A"}},{"$f":"IF(INDIRECT($AG$15&AC$44&$AO51)=\"\",\"\",INDIRECT($AG$15&AC$44&$AO51))","v":{"$error":"#N/A"}},{"$f":"IF(INDIRECT($AG$15&AD$44&$AO51)=\"\",\"\",INDIRECT($AG$15&AD$44&$AO51))","v":{"$error":"#N/A"}},{"$f":"IF(INDIRECT($AG$15&AE$44&$AO51)=\"\",\"\",INDIRECT($AG$15&AE$44&$AO51))","v":{"$error":"#N/A"}},{"$f":"IF(INDIRECT($AG$15&AF$44&$AO51)=\"\",\"\",INDIRECT($AG$15&AF$44&$AO51))","v":{"$error":"#N/A"}},{"$f":"IF(INDIRECT($AG$15&AG$44&$AO51)=\"\",\"\",INDIRECT($AG$15&AG$44&$AO51))","v":{"$error":"#N/A"}},{"$f":"IF(INDIRECT($AG$15&AH$44&$AO51)=\"\",\"\",INDIRECT($AG$15&AH$44&$AO51))","v":{"$error":"#N/A"}},{"$f":"IF(INDIRECT($AG$15&AI$44&$AO51)=\"\",\"\",INDIRECT($AG$15&AI$44&$AO51))","v":{"$error":"#N/A"}},{"$f":"IF(INDIRECT($AG$15&AJ$44&$AO51)=\"\",\"\",INDIRECT($AG$15&AJ$44&$AO51))","v":{"$error":"#N/A"}},{"$f":"IF(INDIRECT($AG$15&AK$44&$AO51)=\"\",\"\",INDIRECT($AG$15&AK$44&$AO51))","v":{"$error":"#N/A"}},{"$f":"IF(INDIRECT($AG$15&AL$44&$AO51)=\"\",\"\",INDIRECT($AG$15&AL$44&$AO51))","v":{"$error":"#N/A"}},{"$f":"IF(INDIRECT($AG$15&AM$44&$AO51)=\"\",\"\",INDIRECT($AG$15&AM$44&$AO51))","v":{"$error":"#N/A"}},{"$f":"IF(INDIRECT($AG$15&AN$44&$AO51)=\"\",\"\",INDIRECT($AG$15&AN$44&$AO51))","v":{"$error":"#N/A"}},30]
[5,null,null,null,null,null,null,null,null,null,null,null,null,null,null,null,null,null,null,null,null,null,null,null,null,5,{"$f":"IF(INDIRECT($AG$15&AA$44&$AO52)=\"\",\"\",INDIRECT($AG$15&AA$44&$AO52))","v":{"$error":"#N/A"}},{"$f":"IF(INDIRECT($AG$15&AB$44&$AO52)=\"\",\"\",INDIRECT($AG$15&AB$44&$AO52))","v":{"$error":"#N/A"}},{"$f":"IF(INDIRECT($AG$15&AC$44&$AO52)=\"\",\"\",INDIRECT($AG$15&AC$44&$AO52))","v":{"$error":"#N/A"}},{"$f":"IF(INDIRECT($AG$15&AD$44&$AO52)=\"\",\"\",INDIRECT($AG$15&AD$44&$AO52))","v":{"$error":"#N/A"}},{"$f":"IF(INDIRECT($AG$15&AE$44&$AO52)=\"\",\"\",INDIRECT($AG$15&AE$44&$AO52))","v":{"$error":"#N/A"}},{"$f":"IF(INDIRECT($AG$15&AF$44&$AO52)=\"\",\"\",INDIRECT($AG$15&AF$44&$AO52))","v":{"$error":"#N/A"}},{"$f":"IF(INDIRECT($AG$15&AG$44&$AO52)=\"\",\"\",INDIRECT($AG$15&AG$44&$AO52))","v":{"$error":"#N/A"}},{"$f":"IF(INDIRECT($AG$15&AH$44&$AO52)=\"\",\"\",INDIRECT($AG$15&AH$44&$AO52))","v":{"$error":"#N/A"}},{"$f":"IF(INDIRECT($AG$15&AI$44&$AO52)=\"\",\"\",INDIRECT($AG$15&AI$44&$AO52))","v":{"$error":"#N/A"}},{"$f":"IF(INDIRECT($AG$15&AJ$44&$AO52)=\"\",\"\",INDIRECT($AG$15&AJ$44&$AO52))","v":{"$error":"#N/A"}},{"$f":"IF(INDIRECT($AG$15&AK$44&$AO52)=\"\",\"\",INDIRECT($AG$15&AK$44&$AO52))","v":{"$error":"#N/A"}},{"$f":"IF(INDIRECT($AG$15&AL$44&$AO52)=\"\",\"\",INDIRECT($AG$15&AL$44&$AO52))","v":{"$error":"#N/A"}},{"$f":"IF(INDIRECT($AG$15&AM$44&$AO52)=\"\",\"\",INDIRECT($AG$15&AM$44&$AO52))","v":{"$error":"#N/A"}},{"$f":"IF(INDIRECT($AG$15&AN$44&$AO52)=\"\",\"\",INDIRECT($AG$15&AN$44&$AO52))","v":{"$error":"#N/A"}},31]
[6,null,null,null,null,null,null,null,null,null,null,null,null,null,null,null,null,null,null,null,null,null,null,null,null,6,{"$f":"IF(INDIRECT($AG$15&AA$44&$AO53)=\"\",\"\",INDIRECT($AG$15&AA$44&$AO53))","v":{"$error":"#N/A"}},{"$f":"IF(INDIRECT($AG$15&AB$44&$AO53)=\"\",\"\",INDIRECT($AG$15&AB$44&$AO53))","v":{"$error":"#N/A"}},{"$f":"IF(INDIRECT($AG$15&AC$44&$AO53)=\"\",\"\",INDIRECT($AG$15&AC$44&$AO53))","v":{"$error":"#N/A"}},{"$f":"IF(INDIRECT($AG$15&AD$44&$AO53)=\"\",\"\",INDIRECT($AG$15&AD$44&$AO53))","v":{"$error":"#N/A"}},{"$f":"IF(INDIRECT($AG$15&AE$44&$AO53)=\"\",\"\",INDIRECT($AG$15&AE$44&$AO53))","v":{"$error":"#N/A"}},{"$f":"IF(INDIRECT($AG$15&AF$44&$AO53)=\"\",\"\",INDIRECT($AG$15&AF$44&$AO53))","v":{"$error":"#N/A"}},{"$f":"IF(INDIRECT($AG$15&AG$44&$AO53)=\"\",\"\",INDIRECT($AG$15&AG$44&$AO53))","v":{"$error":"#N/A"}},{"$f":"IF(INDIRECT($AG$15&AH$44&$AO53)=\"\",\"\",INDIRECT($AG$15&AH$44&$AO53))","v":{"$error":"#N/A"}},{"$f":"IF(INDIRECT($AG$15&AI$44&$AO53)=\"\",\"\",INDIRECT($AG$15&AI$44&$AO53))","v":{"$error":"#N/A"}},{"$f":"IF(INDIRECT($AG$15&AJ$44&$AO53)=\"\",\"\",INDIRECT($AG$15&AJ$44&$AO53))","v":{"$error":"#N/A"}},{"$f":"IF(INDIRECT($AG$15&AK$44&$AO53)=\"\",\"\",INDIRECT($AG$15&AK$44&$AO53))","v":{"$error":"#N/A"}},{"$f":"IF(INDIRECT($AG$15&AL$44&$AO53)=\"\",\"\",INDIRECT($AG$15&AL$44&$AO53))","v":{"$error":"#N/A"}},{"$f":"IF(INDIRECT($AG$15&AM$44&$AO53)=\"\",\"\",INDIRECT($AG$15&AM$44&$AO53))","v":{"$error":"#N/A"}},{"$f":"IF(INDIRECT($AG$15&AN$44&$AO53)=\"\",\"\",INDIRECT($AG$15&AN$44&$AO53))","v":{"$error":"#N/A"}},32]
[7,null,null,null,null,null,null,null,null,null,null,null,null,null,null,null,null,null,null,null,null,null,null,null,null,7,{"$f":"IF(INDIRECT($AG$15&AA$44&$AO54)=\"\",\"\",INDIRECT($AG$15&AA$44&$AO54))","v":{"$error":"#N/A"}},{"$f":"IF(INDIRECT($AG$15&AB$44&$AO54)=\"\",\"\",INDIRECT($AG$15&AB$44&$AO54))","v":{"$error":"#N/A"}},{"$f":"IF(INDIRECT($AG$15&AC$44&$AO54)=\"\",\"\",INDIRECT($AG$15&AC$44&$AO54))","v":{"$error":"#N/A"}},{"$f":"IF(INDIRECT($AG$15&AD$44&$AO54)=\"\",\"\",INDIRECT($AG$15&AD$44&$AO54))","v":{"$error":"#N/A"}},{"$f":"IF(INDIRECT($AG$15&AE$44&$AO54)=\"\",\"\",INDIRECT($AG$15&AE$44&$AO54))","v":{"$error":"#N/A"}},{"$f":"IF(INDIRECT($AG$15&AF$44&$AO54)=\"\",\"\",INDIRECT($AG$15&AF$44&$AO54))","v":{"$error":"#N/A"}},{"$f":"IF(INDIRECT($AG$15&AG$44&$AO54)=\"\",\"\",INDIRECT($AG$15&AG$44&$AO54))","v":{"$error":"#N/A"}},{"$f":"IF(INDIRECT($AG$15&AH$44&$AO54)=\"\",\"\",INDIRECT($AG$15&AH$44&$AO54))","v":{"$error":"#N/A"}},{"$f":"IF(INDIRECT($AG$15&AI$44&$AO54)=\"\",\"\",INDIRECT($AG$15&AI$44&$AO54))","v":{"$error":"#N/A"}},{"$f":"IF(INDIRECT($AG$15&AJ$44&$AO54)=\"\",\"\",INDIRECT($AG$15&AJ$44&$AO54))","v":{"$error":"#N/A"}},{"$f":"IF(INDIRECT($AG$15&AK$44&$AO54)=\"\",\"\",INDIRECT($AG$15&AK$44&$AO54))","v":{"$error":"#N/A"}},{"$f":"IF(INDIRECT($AG$15&AL$44&$AO54)=\"\",\"\",INDIRECT($AG$15&AL$44&$AO54))","v":{"$error":"#N/A"}},{"$f":"IF(INDIRECT($AG$15&AM$44&$AO54)=\"\",\"\",INDIRECT($AG$15&AM$44&$AO54))","v":{"$error":"#N/A"}},{"$f":"IF(INDIRECT($AG$15&AN$44&$AO54)=\"\",\"\",INDIRECT($AG$15&AN$44&$AO54))","v":{"$error":"#N/A"}},33]
[8,"脱炭素化\n(エネ転等)",null,null,null,null,null,null,null,null,null,null,null,null,null,null,null,null,null,null,null,null,null,null,null,8,{"$f":"IF(INDIRECT($AG$15&AA$44&$AO55)=\"\",\"\",INDIRECT($AG$15&AA$44&$AO55))","v":{"$error":"#N/A"}},{"$f":"IF(INDIRECT($AG$15&AB$44&$AO55)=\"\",\"\",INDIRECT($AG$15&AB$44&$AO55))","v":{"$error":"#N/A"}},{"$f":"IF(INDIRECT($AG$15&AC$44&$AO55)=\"\",\"\",INDIRECT($AG$15&AC$44&$AO55))","v":{"$error":"#N/A"}},{"$f":"IF(INDIRECT($AG$15&AD$44&$AO55)=\"\",\"\",INDIRECT($AG$15&AD$44&$AO55))","v":{"$error":"#N/A"}},{"$f":"IF(INDIRECT($AG$15&AE$44&$AO55)=\"\",\"\",INDIRECT($AG$15&AE$44&$AO55))","v":{"$error":"#N/A"}},{"$f":"IF(INDIRECT($AG$15&AF$44&$AO55)=\"\",\"\",INDIRECT($AG$15&AF$44&$AO55))","v":{"$error":"#N/A"}},{"$f":"IF(INDIRECT($AG$15&AG$44&$AO55)=\"\",\"\",INDIRECT($AG$15&AG$44&$AO55))","v":{"$error":"#N/A"}},{"$f":"IF(INDIRECT($AG$15&AH$44&$AO55)=\"\",\"\",INDIRECT($AG$15&AH$44&$AO55))","v":{"$error":"#N/A"}},{"$f":"IF(INDIRECT($AG$15&AI$44&$AO55)=\"\",\"\",INDIRECT($AG$15&AI$44&$AO55))","v":{"$error":"#N/A"}},{"$f":"IF(INDIRECT($AG$15&AJ$44&$AO55)=\"\",\"\",INDIRECT($AG$15&AJ$44&$AO55))","v":{"$error":"#N/A"}},{"$f":"IF(INDIRECT($AG$15&AK$44&$AO55)=\"\",\"\",INDIRECT($AG$15&AK$44&$AO55))","v":{"$error":"#N/A"}},{"$f":"IF(INDIRECT($AG$15&AL$44&$AO55)=\"\",\"\",INDIRECT($AG$15&AL$44&$AO55))","v":{"$error":"#N/A"}},{"$f":"IF(INDIRECT($AG$15&AM$44&$AO55)=\"\",\"\",INDIRECT($AG$15&AM$44&$AO55))","v":{"$error":"#N/A"}},{"$f":"IF(INDIRECT($AG$15&AN$44&$AO55)=\"\",\"\",INDIRECT($AG$15&AN$44&$AO55))","v":{"$error":"#N/A"}},35]
[9,null,null,null,null,null,null,null,null,null,null,null,null,null,null,null,null,null,null,null,null,null,null,null,null,9,{"$f":"IF(INDIRECT($AG$15&AA$44&$AO56)=\"\",\"\",INDIRECT($AG$15&AA$44&$AO56))","v":{"$error":"#N/A"}},{"$f":"IF(INDIRECT($AG$15&AB$44&$AO56)=\"\",\"\",INDIRECT($AG$15&AB$44&$AO56))","v":{"$error":"#N/A"}},{"$f":"IF(INDIRECT($AG$15&AC$44&$AO56)=\"\",\"\",INDIRECT($AG$15&AC$44&$AO56))","v":{"$error":"#N/A"}},{"$f":"IF(INDIRECT($AG$15&AD$44&$AO56)=\"\",\"\",INDIRECT($AG$15&AD$44&$AO56))","v":{"$error":"#N/A"}},{"$f":"IF(INDIRECT($AG$15&AE$44&$AO56)=\"\",\"\",INDIRECT($AG$15&AE$44&$AO56))","v":{"$error":"#N/A"}},{"$f":"IF(INDIRECT($AG$15&AF$44&$AO56)=\"\",\"\",INDIRECT($AG$15&AF$44&$AO56))","v":{"$error":"#N/A"}},{"$f":"IF(INDIRECT($AG$15&AG$44&$AO56)=\"\",\"\",INDIRECT($AG$15&AG$44&$AO56))","v":{"$error":"#N/A"}},{"$f":"IF(INDIRECT($AG$15&AH$44&$AO56)=\"\",\"\",INDIRECT($AG$15&AH$44&$AO56))","v":{"$error":"#N/A"}},{"$f":"IF(INDIRECT($AG$15&AI$44&$AO56)=\"\",\"\",INDIRECT($AG$15&AI$44&$AO56))","v":{"$error":"#N/A"}},{"$f":"IF(INDIRECT($AG$15&AJ$44&$AO56)=\"\",\"\",INDIRECT($AG$15&AJ$44&$AO56))","v":{"$error":"#N/A"}},{"$f":"IF(INDIRECT($AG$15&AK$44&$AO56)=\"\",\"\",INDIRECT($AG$15&AK$44&$AO56))","v":{"$error":"#N/A"}},{"$f":"IF(INDIRECT($AG$15&AL$44&$AO56)=\"\",\"\",INDIRECT($AG$15&AL$44&$AO56))","v":{"$error":"#N/A"}},{"$f":"IF(INDIRECT($AG$15&AM$44&$AO56)=\"\",\"\",INDIRECT($AG$15&AM$44&$AO56))","v":{"$error":"#N/A"}},{"$f":"IF(INDIRECT($AG$15&AN$44&$AO56)=\"\",\"\",INDIRECT($AG$15&AN$44&$AO56))","v":{"$error":"#N/A"}},36]
[10,null,null,null,null,null,null,null,null,null,null,null,null,null,null,null,null,null,null,null,null,null,null,null,null,10,{"$f":"IF(INDIRECT($AG$15&AA$44&$AO57)=\"\",\"\",INDIRECT($AG$15&AA$44&$AO57))","v":{"$error":"#N/A"}},{"$f":"IF(INDIRECT($AG$15&AB$44&$AO57)=\"\",\"\",INDIRECT($AG$15&AB$44&$AO57))","v":{"$error":"#N/A"}},{"$f":"IF(INDIRECT($AG$15&AC$44&$AO57)=\"\",\"\",INDIRECT($AG$15&AC$44&$AO57))","v":{"$error":"#N/A"}},{"$f":"IF(INDIRECT($AG$15&AD$44&$AO57)=\"\",\"\",INDIRECT($AG$15&AD$44&$AO57))","v":{"$error":"#N/A"}},{"$f":"IF(INDIRECT($AG$15&AE$44&$AO57)=\"\",\"\",INDIRECT($AG$15&AE$44&$AO57))","v":{"$error":"#N/A"}},{"$f":"IF(INDIRECT($AG$15&AF$44&$AO57)=\"\",\"\",INDIRECT($AG$15&AF$44&$AO57))","v":{"$error":"#N/A"}},{"$f":"IF(INDIRECT($AG$15&AG$44&$AO57)=\"\",\"\",INDIRECT($AG$15&AG$44&$AO57))","v":{"$error":"#N/A"}},{"$f":"IF(INDIRECT($AG$15&AH$44&$AO57)=\"\",\"\",INDIRECT($AG$15&AH$44&$AO57))","v":{"$error":"#N/A"}},{"$f":"IF(INDIRECT($AG$15&AI$44&$AO57)=\"\",\"\",INDIRECT($AG$15&AI$44&$AO57))","v":{"$error":"#N/A"}},{"$f":"IF(INDIRECT($AG$15&AJ$44&$AO57)=\"\",\"\",INDIRECT($AG$15&AJ$44&$AO57))","v":{"$error":"#N/A"}},{"$f":"IF(INDIRECT($AG$15&AK$44&$AO57)=\"\",\"\",INDIRECT($AG$15&AK$44&$AO57))","v":{"$error":"#N/A"}},{"$f":"IF(INDIRECT($AG$15&AL$44&$AO57)=\"\",\"\",INDIRECT($AG$15&AL$44&$AO57))","v":{"$error":"#N/A"}},{"$f":"IF(INDIRECT($AG$15&AM$44&$AO57)=\"\",\"\",INDIRECT($AG$15&AM$44&$AO57))","v":{"$error":"#N/A"}},{"$f":"IF(INDIRECT($AG$15&AN$44&$AO57)=\"\",\"\",INDIRECT($AG$15&AN$44&$AO57))","v":{"$error":"#N/A"}},37]
[11,"脱炭素化\n(系統電力変更)",null,null,null,null,null,null,null,null,null,null,null,null,null,null,null,null,null,null,null,null,null,null,null,11,{"$f":"IF(INDIRECT($AG$15&AA$44&$AO58)=\"\",\"\",INDIRECT($AG$15&AA$44&$AO58))","v":{"$error":"#N/A"}},{"$f":"IF(INDIRECT($AG$15&AB$44&$AO58)=\"\",\"\",INDIRECT($AG$15&AB$44&$AO58))","v":{"$error":"#N/A"}},{"$f":"IF(INDIRECT($AG$15&AC$44&$AO58)=\"\",\"\",INDIRECT($AG$15&AC$44&$AO58))","v":{"$error":"#N/A"}},{"$f":"IF(INDIRECT($AG$15&AD$44&$AO58)=\"\",\"\",INDIRECT($AG$15&AD$44&$AO58))","v":{"$error":"#N/A"}},{"$f":"IF(INDIRECT($AG$15&AE$44&$AO58)=\"\",\"\",INDIRECT($AG$15&AE$44&$AO58))","v":{"$error":"#N/A"}},{"$f":"IF(INDIRECT($AG$15&AF$44&$AO58)=\"\",\"\",INDIRECT($AG$15&AF$44&$AO58))","v":{"$error":"#N/A"}},{"$f":"IF(INDIRECT($AG$15&AG$44&$AO58)=\"\",\"\",INDIRECT($AG$15&AG$44&$AO58))","v":{"$error":"#N/A"}},{"$f":"IF(INDIRECT($AG$15&AH$44&$AO58)=\"\",\"\",INDIRECT($AG$15&AH$44&$AO58))","v":{"$error":"#N/A"}},{"$f":"IF(INDIRECT($AG$15&AI$44&$AO58)=\"\",\"\",INDIRECT($AG$15&AI$44&$AO58))","v":{"$error":"#N/A"}},{"$f":"IF(INDIRECT($AG$15&AJ$44&$AO58)=\"\",\"\",INDIRECT($AG$15&AJ$44&$AO58))","v":{"$error":"#N/A"}},{"$f":"IF(INDIRECT($AG$15&AK$44&$AO58)=\"\",\"\",INDIRECT($AG$15&AK$44&$AO58))","v":{"$error":"#N/A"}},{"$f":"IF(INDIRECT($AG$15&AL$44&$AO58)=\"\",\"\",INDIRECT($AG$15&AL$44&$AO58))","v":{"$error":"#N/A"}},{"$f":"IF(INDIRECT($AG$15&AM$44&$AO58)=\"\",\"\",INDIRECT($AG$15&AM$44&$AO58))","v":{"$error":"#N/A"}},{"$f":"IF(INDIRECT($AG$15&AN$44&$AO58)=\"\",\"\",INDIRECT($AG$15&AN$44&$AO58))","v":{"$error":"#N/A"}},39]
[12,null,null,null,null,null,null,null,null,null,null,null,null,null,null,null,null,null,null,null,null,null,null,null,null,12,{"$f":"IF(INDIRECT($AG$15&AA$44&$AO59)=\"\",\"\",INDIRECT($AG$15&AA$44&$AO59))","v":{"$error":"#N/A"}},{"$f":"IF(INDIRECT($AG$15&AB$44&$AO59)=\"\",\"\",INDIRECT($AG$15&AB$44&$AO59))","v":{"$error":"#N/A"}},{"$f":"IF(INDIRECT($AG$15&AC$44&$AO59)=\"\",\"\",INDIRECT($AG$15&AC$44&$AO59))","v":{"$error":"#N/A"}},{"$f":"IF(INDIRECT($AG$15&AD$44&$AO59)=\"\",\"\",INDIRECT($AG$15&AD$44&$AO59))","v":{"$error":"#N/A"}},{"$f":"IF(INDIRECT($AG$15&AE$44&$AO59)=\"\",\"\",INDIRECT($AG$15&AE$44&$AO59))","v":{"$error":"#N/A"}},{"$f":"IF(INDIRECT($AG$15&AF$44&$AO59)=\"\",\"\",INDIRECT($AG$15&AF$44&$AO59))","v":{"$error":"#N/A"}},{"$f":"IF(INDIRECT($AG$15&AG$44&$AO59)=\"\",\"\",INDIRECT($AG$15&AG$44&$AO59))","v":{"$error":"#N/A"}},{"$f":"IF(INDIRECT($AG$15&AH$44&$AO59)=\"\",\"\",INDIRECT($AG$15&AH$44&$AO59))","v":{"$error":"#N/A"}},{"$f":"IF(INDIRECT($AG$15&AI$44&$AO59)=\"\",\"\",INDIRECT($AG$15&AI$44&$AO59))","v":{"$error":"#N/A"}},{"$f":"IF(INDIRECT($AG$15&AJ$44&$AO59)=\"\",\"\",INDIRECT($AG$15&AJ$44&$AO59))","v":{"$error":"#N/A"}},{"$f":"IF(INDIRECT($AG$15&AK$44&$AO59)=\"\",\"\",INDIRECT($AG$15&AK$44&$AO59))","v":{"$error":"#N/A"}},{"$f":"IF(INDIRECT($AG$15&AL$44&$AO59)=\"\",\"\",INDIRECT($AG$15&AL$44&$AO59))","v":{"$error":"#N/A"}},{"$f":"IF(INDIRECT($AG$15&AM$44&$AO59)=\"\",\"\",INDIRECT($AG$15&AM$44&$AO59))","v":{"$error":"#N/A"}},{"$f":"IF(INDIRECT($AG$15&AN$44&$AO59)=\"\",\"\",INDIRECT($AG$15&AN$44&$AO59))","v":{"$error":"#N/A"}},40]
[13,"省エネ",null,null,null,null,null,null,null,null,null,null,null,null,null,null,null,null,null,null,null,null,null,null,null,13,{"$f":"IF(INDIRECT($AG$15&AA$44&$AO60)=\"\",\"\",INDIRECT($AG$15&AA$44&$AO60))","v":{"$error":"#N/A"}},{"$f":"IF(INDIRECT($AG$15&AB$44&$AO60)=\"\",\"\",INDIRECT($AG$15&AB$44&$AO60))","v":{"$error":"#N/A"}},{"$f":"IF(INDIRECT($AG$15&AC$44&$AO60)=\"\",\"\",INDIRECT($AG$15&AC$44&$AO60))","v":{"$error":"#N/A"}},{"$f":"IF(INDIRECT($AG$15&AD$44&$AO60)=\"\",\"\",INDIRECT($AG$15&AD$44&$AO60))","v":{"$error":"#N/A"}},{"$f":"IF(INDIRECT($AG$15&AE$44&$AO60)=\"\",\"\",INDIRECT($AG$15&AE$44&$AO60))","v":{"$error":"#N/A"}},{"$f":"IF(INDIRECT($AG$15&AF$44&$AO60)=\"\",\"\",INDIRECT($AG$15&AF$44&$AO60))","v":{"$error":"#N/A"}},{"$f":"IF(INDIRECT($AG$15&AG$44&$AO60)=\"\",\"\",INDIRECT($AG$15&AG$44&$AO60))","v":{"$error":"#N/A"}},{"$f":"IF(INDIRECT($AG$15&AH$44&$AO60)=\"\",\"\",INDIRECT($AG$15&AH$44&$AO60))","v":{"$error":"#N/A"}},{"$f":"IF(INDIRECT($AG$15&AI$44&$AO60)=\"\",\"\",INDIRECT($AG$15&AI$44&$AO60))","v":{"$error":"#N/A"}},{"$f":"IF(INDIRECT($AG$15&AJ$44&$AO60)=\"\",\"\",INDIRECT($AG$15&AJ$44&$AO60))","v":{"$error":"#N/A"}},{"$f":"IF(INDIRECT($AG$15&AK$44&$AO60)=\"\",\"\",INDIRECT($AG$15&AK$44&$AO60))","v":{"$error":"#N/A"}},{"$f":"IF(INDIRECT($AG$15&AL$44&$AO60)=\"\",\"\",INDIRECT($AG$15&AL$44&$AO60))","v":{"$error":"#N/A"}},{"$f":"IF(INDIRECT($AG$15&AM$44&$AO60)=\"\",\"\",INDIRECT($AG$15&AM$44&$AO60))","v":{"$error":"#N/A"}},{"$f":"IF(INDIRECT($AG$15&AN$44&$AO60)=\"\",\"\",INDIRECT($AG$15&AN$44&$AO60))","v":{"$error":"#N/A"}},47]
[14,null,null,null,null,null,null,null,null,null,null,null,null,null,null,null,null,null,null,null,null,null,null,null,null,14,{"$f":"IF(INDIRECT($AG$15&AA$44&$AO61)=\"\",\"\",INDIRECT($AG$15&AA$44&$AO61))","v":{"$error":"#N/A"}},{"$f":"IF(INDIRECT($AG$15&AB$44&$AO61)=\"\",\"\",INDIRECT($AG$15&AB$44&$AO61))","v":{"$error":"#N/A"}},{"$f":"IF(INDIRECT($AG$15&AC$44&$AO61)=\"\",\"\",INDIRECT($AG$15&AC$44&$AO61))","v":{"$error":"#N/A"}},{"$f":"IF(INDIRECT($AG$15&AD$44&$AO61)=\"\",\"\",INDIRECT($AG$15&AD$44&$AO61))","v":{"$error":"#N/A"}},{"$f":"IF(INDIRECT($AG$15&AE$44&$AO61)=\"\",\"\",INDIRECT($AG$15&AE$44&$AO61))","v":{"$error":"#N/A"}},{"$f":"IF(INDIRECT($AG$15&AF$44&$AO61)=\"\",\"\",INDIRECT($AG$15&AF$44&$AO61))","v":{"$error":"#N/A"}},{"$f":"IF(INDIRECT($AG$15&AG$44&$AO61)=\"\",\"\",INDIRECT($AG$15&AG$44&$AO61))","v":{"$error":"#N/A"}},{"$f":"IF(INDIRECT($AG$15&AH$44&$AO61)=\"\",\"\",INDIRECT($AG$15&AH$44&$AO61))","v":{"$error":"#N/A"}},{"$f":"IF(INDIRECT($AG$15&AI$44&$AO61)=\"\",\"\",INDIRECT($AG$15&AI$44&$AO61))","v":{"$error":"#N/A"}},{"$f":"IF(INDIRECT($AG$15&AJ$44&$AO61)=\"\",\"\",INDIRECT($AG$15&AJ$44&$AO61))","v":{"$error":"#N/A"}},{"$f":"IF(INDIRECT($AG$15&AK$44&$AO61)=\"\",\"\",INDIRECT($AG$15&AK$44&$AO61))","v":{"$error":"#N/A"}},{"$f":"IF(INDIRECT($AG$15&AL$44&$AO61)=\"\",\"\",INDIRECT($AG$15&AL$44&$AO61))","v":{"$error":"#N/A"}},{"$f":"IF(INDIRECT($AG$15&AM$44&$AO61)=\"\",\"\",INDIRECT($AG$15&AM$44&$AO61))","v":{"$error":"#N/A"}},{"$f":"IF(INDIRECT($AG$15&AN$44&$AO61)=\"\",\"\",INDIRECT($AG$15&AN$44&$AO61))","v":{"$error":"#N/A"}},48]
[15,null,null,null,null,null,null,null,null,null,null,null,null,null,null,null,null,null,null,null,null,null,null,null,null,15,{"$f":"IF(INDIRECT($AG$15&AA$44&$AO62)=\"\",\"\",INDIRECT($AG$15&AA$44&$AO62))","v":{"$error":"#N/A"}},{"$f":"IF(INDIRECT($AG$15&AB$44&$AO62)=\"\",\"\",INDIRECT($AG$15&AB$44&$AO62))","v":{"$error":"#N/A"}},{"$f":"IF(INDIRECT($AG$15&AC$44&$AO62)=\"\",\"\",INDIRECT($AG$15&AC$44&$AO62))","v":{"$error":"#N/A"}},{"$f":"IF(INDIRECT($AG$15&AD$44&$AO62)=\"\",\"\",INDIRECT($AG$15&AD$44&$AO62))","v":{"$error":"#N/A"}},{"$f":"IF(INDIRECT($AG$15&AE$44&$AO62)=\"\",\"\",INDIRECT($AG$15&AE$44&$AO62))","v":{"$error":"#N/A"}},{"$f":"IF(INDIRECT($AG$15&AF$44&$AO62)=\"\",\"\",INDIRECT($AG$15&AF$44&$AO62))","v":{"$error":"#N/A"}},{"$f":"IF(INDIRECT($AG$15&AG$44&$AO62)=\"\",\"\",INDIRECT($AG$15&AG$44&$AO62))","v":{"$error":"#N/A"}},{"$f":"IF(INDIRECT($AG$15&AH$44&$AO62)=\"\",\"\",INDIRECT($AG$15&AH$44&$AO62))","v":{"$error":"#N/A"}},{"$f":"IF(INDIRECT($AG$15&AI$44&$AO62)=\"\",\"\",INDIRECT($AG$15&AI$44&$AO62))","v":{"$error":"#N/A"}},{"$f":"IF(INDIRECT($AG$15&AJ$44&$AO62)=\"\",\"\",INDIRECT($AG$15&AJ$44&$AO62))","v":{"$error":"#N/A"}},{"$f":"IF(INDIRECT($AG$15&AK$44&$AO62)=\"\",\"\",INDIRECT($AG$15&AK$44&$AO62))","v":{"$error":"#N/A"}},{"$f":"IF(INDIRECT($AG$15&AL$44&$AO62)=\"\",\"\",INDIRECT($AG$15&AL$44&$AO62))","v":{"$error":"#N/A"}},{"$f":"IF(INDIRECT($AG$15&AM$44&$AO62)=\"\",\"\",INDIRECT($AG$15&AM$44&$AO62))","v":{"$error":"#N/A"}},{"$f":"IF(INDIRECT($AG$15&AN$44&$AO62)=\"\",\"\",INDIRECT($AG$15&AN$44&$AO62))","v":{"$error":"#N/A"}},49]
[16,null,null,null,null,null,null,null,null,null,null,null,null,null,null,null,null,null,null,null,null,null,null,null,null,16,{"$f":"IF(INDIRECT($AG$15&AA$44&$AO63)=\"\",\"\",INDIRECT($AG$15&AA$44&$AO63))","v":{"$error":"#N/A"}},{"$f":"IF(INDIRECT($AG$15&AB$44&$AO63)=\"\",\"\",INDIRECT($AG$15&AB$44&$AO63))","v":{"$error":"#N/A"}},{"$f":"IF(INDIRECT($AG$15&AC$44&$AO63)=\"\",\"\",INDIRECT($AG$15&AC$44&$AO63))","v":{"$error":"#N/A"}},{"$f":"IF(INDIRECT($AG$15&AD$44&$AO63)=\"\",\"\",INDIRECT($AG$15&AD$44&$AO63))","v":{"$error":"#N/A"}},{"$f":"IF(INDIRECT($AG$15&AE$44&$AO63)=\"\",\"\",INDIRECT($AG$15&AE$44&$AO63))","v":{"$error":"#N/A"}},{"$f":"IF(INDIRECT($AG$15&AF$44&$AO63)=\"\",\"\",INDIRECT($AG$15&AF$44&$AO63))","v":{"$error":"#N/A"}},{"$f":"IF(INDIRECT($AG$15&AG$44&$AO63)=\"\",\"\",INDIRECT($AG$15&AG$44&$AO63))","v":{"$error":"#N/A"}},{"$f":"IF(INDIRECT($AG$15&AH$44&$AO63)=\"\",\"\",INDIRECT($AG$15&AH$44&$AO63))","v":{"$error":"#N/A"}},{"$f":"IF(INDIRECT($AG$15&AI$44&$AO63)=\"\",\"\",INDIRECT($AG$15&AI$44&$AO63))","v":{"$error":"#N/A"}},{"$f":"IF(INDIRECT($AG$15&AJ$44&$AO63)=\"\",\"\",INDIRECT($AG$15&AJ$44&$AO63))","v":{"$error":"#N/A"}},{"$f":"IF(INDIRECT($AG$15&AK$44&$AO63)=\"\",\"\",INDIRECT($AG$15&AK$44&$AO63))","v":{"$error":"#N/A"}},{"$f":"IF(INDIRECT($AG$15&AL$44&$AO63)=\"\",\"\",INDIRECT($AG$15&AL$44&$AO63))","v":{"$error":"#N/A"}},{"$f":"IF(INDIRECT($AG$15&AM$44&$AO63)=\"\",\"\",INDIRECT($AG$15&AM$44&$AO63))","v":{"$error":"#N/A"}},{"$f":"IF(INDIRECT($AG$15&AN$44&$AO63)=\"\",\"\",INDIRECT($AG$15&AN$44&$AO63))","v":{"$error":"#N/A"}},50]
[17,null,null,null,null,null,null,null,null,null,null,null,null,null,null,null,null,null,null,null,null,null,null,null,null,17,{"$f":"IF(INDIRECT($AG$15&AA$44&$AO64)=\"\",\"\",INDIRECT($AG$15&AA$44&$AO64))","v":{"$error":"#N/A"}},{"$f":"IF(INDIRECT($AG$15&AB$44&$AO64)=\"\",\"\",INDIRECT($AG$15&AB$44&$AO64))","v":{"$error":"#N/A"}},{"$f":"IF(INDIRECT($AG$15&AC$44&$AO64)=\"\",\"\",INDIRECT($AG$15&AC$44&$AO64))","v":{"$error":"#N/A"}},{"$f":"IF(INDIRECT($AG$15&AD$44&$AO64)=\"\",\"\",INDIRECT($AG$15&AD$44&$AO64))","v":{"$error":"#N/A"}},{"$f":"IF(INDIRECT($AG$15&AE$44&$AO64)=\"\",\"\",INDIRECT($AG$15&AE$44&$AO64))","v":{"$error":"#N/A"}},{"$f":"IF(INDIRECT($AG$15&AF$44&$AO64)=\"\",\"\",INDIRECT($AG$15&AF$44&$AO64))","v":{"$error":"#N/A"}},{"$f":"IF(INDIRECT($AG$15&AG$44&$AO64)=\"\",\"\",INDIRECT($AG$15&AG$44&$AO64))","v":{"$error":"#N/A"}},{"$f":"IF(INDIRECT($AG$15&AH$44&$AO64)=\"\",\"\",INDIRECT($AG$15&AH$44&$AO64))","v":{"$error":"#N/A"}},{"$f":"IF(INDIRECT($AG$15&AI$44&$AO64)=\"\",\"\",INDIRECT($AG$15&AI$44&$AO64))","v":{"$error":"#N/A"}},{"$f":"IF(INDIRECT($AG$15&AJ$44&$AO64)=\"\",\"\",INDIRECT($AG$15&AJ$44&$AO64))","v":{"$error":"#N/A"}},{"$f":"IF(INDIRECT($AG$15&AK$44&$AO64)=\"\",\"\",INDIRECT($AG$15&AK$44&$AO64))","v":{"$error":"#N/A"}},{"$f":"IF(INDIRECT($AG$15&AL$44&$AO64)=\"\",\"\",INDIRECT($AG$15&AL$44&$AO64))","v":{"$error":"#N/A"}},{"$f":"IF(INDIRECT($AG$15&AM$44&$AO64)=\"\",\"\",INDIRECT($AG$15&AM$44&$AO64))","v":{"$error":"#N/A"}},{"$f":"IF(INDIRECT($AG$15&AN$44&$AO64)=\"\",\"\",INDIRECT($AG$15&AN$44&$AO64))","v":{"$error":"#N/A"}},51]
[18,null,null,null,null,null,null,null,null,null,null,null,null,null,null,null,null,null,null,null,null,null,null,null,null,18,{"$f":"IF(INDIRECT($AG$15&AA$44&$AO65)=\"\",\"\",INDIRECT($AG$15&AA$44&$AO65))","v":{"$error":"#N/A"}},{"$f":"IF(INDIRECT($AG$15&AB$44&$AO65)=\"\",\"\",INDIRECT($AG$15&AB$44&$AO65))","v":{"$error":"#N/A"}},{"$f":"IF(INDIRECT($AG$15&AC$44&$AO65)=\"\",\"\",INDIRECT($AG$15&AC$44&$AO65))","v":{"$error":"#N/A"}},{"$f":"IF(INDIRECT($AG$15&AD$44&$AO65)=\"\",\"\",INDIRECT($AG$15&AD$44&$AO65))","v":{"$error":"#N/A"}},{"$f":"IF(INDIRECT($AG$15&AE$44&$AO65)=\"\",\"\",INDIRECT($AG$15&AE$44&$AO65))","v":{"$error":"#N/A"}},{"$f":"IF(INDIRECT($AG$15&AF$44&$AO65)=\"\",\"\",INDIRECT($AG$15&AF$44&$AO65))","v":{"$error":"#N/A"}},{"$f":"IF(INDIRECT($AG$15&AG$44&$AO65)=\"\",\"\",INDIRECT($AG$15&AG$44&$AO65))","v":{"$error":"#N/A"}},{"$f":"IF(INDIRECT($AG$15&AH$44&$AO65)=\"\",\"\",INDIRECT($AG$15&AH$44&$AO65))","v":{"$error":"#N/A"}},{"$f":"IF(INDIRECT($AG$15&AI$44&$AO65)=\"\",\"\",INDIRECT($AG$15&AI$44&$AO65))","v":{"$error":"#N/A"}},{"$f":"IF(INDIRECT($AG$15&AJ$44&$AO65)=\"\",\"\",INDIRECT($AG$15&AJ$44&$AO65))","v":{"$error":"#N/A"}},{"$f":"IF(INDIRECT($AG$15&AK$44&$AO65)=\"\",\"\",INDIRECT($AG$15&AK$44&$AO65))","v":{"$error":"#N/A"}},{"$f":"IF(INDIRECT($AG$15&AL$44&$AO65)=\"\",\"\",INDIRECT($AG$15&AL$44&$AO65))","v":{"$error":"#N/A"}},{"$f":"IF(INDIRECT($AG$15&AM$44&$AO65)=\"\",\"\",INDIRECT($AG$15&AM$44&$AO65))","v":{"$error":"#N/A"}},{"$f":"IF(INDIRECT($AG$15&AN$44&$AO65)=\"\",\"\",INDIRECT($AG$15&AN$44&$AO65))","v":{"$error":"#N/A"}},52]
[19,null,null,null,null,null,null,null,null,null,null,null,null,null,null,null,null,null,null,null,null,null,null,null,null,19,{"$f":"IF(INDIRECT($AG$15&AA$44&$AO66)=\"\",\"\",INDIRECT($AG$15&AA$44&$AO66))","v":{"$error":"#N/A"}},{"$f":"IF(INDIRECT($AG$15&AB$44&$AO66)=\"\",\"\",INDIRECT($AG$15&AB$44&$AO66))","v":{"$error":"#N/A"}},{"$f":"IF(INDIRECT($AG$15&AC$44&$AO66)=\"\",\"\",INDIRECT($AG$15&AC$44&$AO66))","v":{"$error":"#N/A"}},{"$f":"IF(INDIRECT($AG$15&AD$44&$AO66)=\"\",\"\",INDIRECT($AG$15&AD$44&$AO66))","v":{"$error":"#N/A"}},{"$f":"IF(INDIRECT($AG$15&AE$44&$AO66)=\"\",\"\",INDIRECT($AG$15&AE$44&$AO66))","v":{"$error":"#N/A"}},{"$f":"IF(INDIRECT($AG$15&AF$44&$AO66)=\"\",\"\",INDIRECT($AG$15&AF$44&$AO66))","v":{"$error":"#N/A"}},{"$f":"IF(INDIRECT($AG$15&AG$44&$AO66)=\"\",\"\",INDIRECT($AG$15&AG$44&$AO66))","v":{"$error":"#N/A"}},{"$f":"IF(INDIRECT($AG$15&AH$44&$AO66)=\"\",\"\",INDIRECT($AG$15&AH$44&$AO66))","v":{"$error":"#N/A"}},{"$f":"IF(INDIRECT($AG$15&AI$44&$AO66)=\"\",\"\",INDIRECT($AG$15&AI$44&$AO66))","v":{"$error":"#N/A"}},{"$f":"IF(INDIRECT($AG$15&AJ$44&$AO66)=\"\",\"\",INDIRECT($AG$15&AJ$44&$AO66))","v":{"$error":"#N/A"}},{"$f":"IF(INDIRECT($AG$15&AK$44&$AO66)=\"\",\"\",INDIRECT($AG$15&AK$44&$AO66))","v":{"$error":"#N/A"}},{"$f":"IF(INDIRECT($AG$15&AL$44&$AO66)=\"\",\"\",INDIRECT($AG$15&AL$44&$AO66))","v":{"$error":"#N/A"}},{"$f":"IF(INDIRECT($AG$15&AM$44&$AO66)=\"\",\"\",INDIRECT($AG$15&AM$44&$AO66))","v":{"$error":"#N/A"}},{"$f":"IF(INDIRECT($AG$15&AN$44&$AO66)=\"\",\"\",INDIRECT($AG$15&AN$44&$AO66))","v":{"$error":"#N/A"}},53]
[20,"脱炭素化\n(エネ転等)",null,null,null,null,null,null,null,null,null,null,null,null,null,null,null,null,null,null,null,null,null,null,null,20,{"$f":"IF(INDIRECT($AG$15&AA$44&$AO67)=\"\",\"\",INDIRECT($AG$15&AA$44&$AO67))","v":{"$error":"#N/A"}},{"$f":"IF(INDIRECT($AG$15&AB$44&$AO67)=\"\",\"\",INDIRECT($AG$15&AB$44&$AO67))","v":{"$error":"#N/A"}},{"$f":"IF(INDIRECT($AG$15&AC$44&$AO67)=\"\",\"\",INDIRECT($AG$15&AC$44&$AO67))","v":{"$error":"#N/A"}},{"$f":"IF(INDIRECT($AG$15&AD$44&$AO67)=\"\",\"\",INDIRECT($AG$15&AD$44&$AO67))","v":{"$error":"#N/A"}},{"$f":"IF(INDIRECT($AG$15&AE$44&$AO67)=\"\",\"\",INDIRECT($AG$15&AE$44&$AO67))","v":{"$error":"#N/A"}},{"$f":"IF(INDIRECT($AG$15&AF$44&$AO67)=\"\",\"\",INDIRECT($AG$15&AF$44&$AO67))","v":{"$error":"#N/A"}},{"$f":"IF(INDIRECT($AG$15&AG$44&$AO67)=\"\",\"\",INDIRECT($AG$15&AG$44&$AO67))","v":{"$error":"#N/A"}},{"$f":"IF(INDIRECT($AG$15&AH$44&$AO67)=\"\",\"\",INDIRECT($AG$15&AH$44&$AO67))","v":{"$error":"#N/A"}},{"$f":"IF(INDIRECT($AG$15&AI$44&$AO67)=\"\",\"\",INDIRECT($AG$15&AI$44&$AO67))","v":{"$error":"#N/A"}},{"$f":"IF(INDIRECT($AG$15&AJ$44&$AO67)=\"\",\"\",INDIRECT($AG$15&AJ$44&$AO67))","v":{"$error":"#N/A"}},{"$f":"IF(INDIRECT($AG$15&AK$44&$AO67)=\"\",\"\",INDIRECT($AG$15&AK$44&$AO67))","v":{"$error":"#N/A"}},{"$f":"IF(INDIRECT($AG$15&AL$44&$AO67)=\"\",\"\",INDIRECT($AG$15&AL$44&$AO67))","v":{"$error":"#N/A"}},{"$f":"IF(INDIRECT($AG$15&AM$44&$AO67)=\"\",\"\",INDIRECT($AG$15&AM$44&$AO67))","v":{"$error":"#N/A"}},{"$f":"IF(INDIRECT($AG$15&AN$44&$AO67)=\"\",\"\",INDIRECT($AG$15&AN$44&$AO67))","v":{"$error":"#N/A"}},55]
[21,null,null,null,null,null,null,null,null,null,null,null,null,null,null,null,null,null,null,null,null,null,null,null,null,21,{"$f":"IF(INDIRECT($AG$15&AA$44&$AO68)=\"\",\"\",INDIRECT($AG$15&AA$44&$AO68))","v":{"$error":"#N/A"}},{"$f":"IF(INDIRECT($AG$15&AB$44&$AO68)=\"\",\"\",INDIRECT($AG$15&AB$44&$AO68))","v":{"$error":"#N/A"}},{"$f":"IF(INDIRECT($AG$15&AC$44&$AO68)=\"\",\"\",INDIRECT($AG$15&AC$44&$AO68))","v":{"$error":"#N/A"}},{"$f":"IF(INDIRECT($AG$15&AD$44&$AO68)=\"\",\"\",INDIRECT($AG$15&AD$44&$AO68))","v":{"$error":"#N/A"}},{"$f":"IF(INDIRECT($AG$15&AE$44&$AO68)=\"\",\"\",INDIRECT($AG$15&AE$44&$AO68))","v":{"$error":"#N/A"}},{"$f":"IF(INDIRECT($AG$15&AF$44&$AO68)=\"\",\"\",INDIRECT($AG$15&AF$44&$AO68))","v":{"$error":"#N/A"}},{"$f":"IF(INDIRECT($AG$15&AG$44&$AO68)=\"\",\"\",INDIRECT($AG$15&AG$44&$AO68))","v":{"$error":"#N/A"}},{"$f":"IF(INDIRECT($AG$15&AH$44&$AO68)=\"\",\"\",INDIRECT($AG$15&AH$44&$AO68))","v":{"$error":"#N/A"}},{"$f":"IF(INDIRECT($AG$15&AI$44&$AO68)=\"\",\"\",INDIRECT($AG$15&AI$44&$AO68))","v":{"$error":"#N/A"}},{"$f":"IF(INDIRECT($AG$15&AJ$44&$AO68)=\"\",\"\",INDIRECT($AG$15&AJ$44&$AO68))","v":{"$error":"#N/A"}},{"$f":"IF(INDIRECT($AG$15&AK$44&$AO68)=\"\",\"\",INDIRECT($AG$15&AK$44&$AO68))","v":{"$error":"#N/A"}},{"$f":"IF(INDIRECT($AG$15&AL$44&$AO68)=\"\",\"\",INDIRECT($AG$15&AL$44&$AO68))","v":{"$error":"#N/A"}},{"$f":"IF(INDIRECT($AG$15&AM$44&$AO68)=\"\",\"\",INDIRECT($AG$15&AM$44&$AO68))","v":{"$error":"#N/A"}},{"$f":"IF(INDIRECT($AG$15&AN$44&$AO68)=\"\",\"\",INDIRECT($AG$15&AN$44&$AO68))","v":{"$error":"#N/A"}},56]
[22,null,null,null,null,null,null,null,null,null,null,null,null,null,null,null,null,null,null,null,null,null,null,null,null,22,{"$f":"IF(INDIRECT($AG$15&AA$44&$AO69)=\"\",\"\",INDIRECT($AG$15&AA$44&$AO69))","v":{"$error":"#N/A"}},{"$f":"IF(INDIRECT($AG$15&AB$44&$AO69)=\"\",\"\",INDIRECT($AG$15&AB$44&$AO69))","v":{"$error":"#N/A"}},{"$f":"IF(INDIRECT($AG$15&AC$44&$AO69)=\"\",\"\",INDIRECT($AG$15&AC$44&$AO69))","v":{"$error":"#N/A"}},{"$f":"IF(INDIRECT($AG$15&AD$44&$AO69)=\"\",\"\",INDIRECT($AG$15&AD$44&$AO69))","v":{"$error":"#N/A"}},{"$f":"IF(INDIRECT($AG$15&AE$44&$AO69)=\"\",\"\",INDIRECT($AG$15&AE$44&$AO69))","v":{"$error":"#N/A"}},{"$f":"IF(INDIRECT($AG$15&AF$44&$AO69)=\"\",\"\",INDIRECT($AG$15&AF$44&$AO69))","v":{"$error":"#N/A"}},{"$f":"IF(INDIRECT($AG$15&AG$44&$AO69)=\"\",\"\",INDIRECT($AG$15&AG$44&$AO69))","v":{"$error":"#N/A"}},{"$f":"IF(INDIRECT($AG$15&AH$44&$AO69)=\"\",\"\",INDIRECT($AG$15&AH$44&$AO69))","v":{"$error":"#N/A"}},{"$f":"IF(INDIRECT($AG$15&AI$44&$AO69)=\"\",\"\",INDIRECT($AG$15&AI$44&$AO69))","v":{"$error":"#N/A"}},{"$f":"IF(INDIRECT($AG$15&AJ$44&$AO69)=\"\",\"\",INDIRECT($AG$15&AJ$44&$AO69))","v":{"$error":"#N/A"}},{"$f":"IF(INDIRECT($AG$15&AK$44&$AO69)=\"\",\"\",INDIRECT($AG$15&AK$44&$AO69))","v":{"$error":"#N/A"}},{"$f":"IF(INDIRECT($AG$15&AL$44&$AO69)=\"\",\"\",INDIRECT($AG$15&AL$44&$AO69))","v":{"$error":"#N/A"}},{"$f":"IF(INDIRECT($AG$15&AM$44&$AO69)=\"\",\"\",INDIRECT($AG$15&AM$44&$AO69))","v":{"$error":"#N/A"}},{"$f":"IF(INDIRECT($AG$15&AN$44&$AO69)=\"\",\"\",INDIRECT($AG$15&AN$44&$AO69))","v":{"$error":"#N/A"}},57]
[23,"脱炭素化\n(系統電力変更)",null,null,null,null,null,null,null,null,null,null,null,null,null,null,null,null,null,null,null,null,null,null,null,23,{"$f":"IF(INDIRECT($AG$15&AA$44&$AO70)=\"\",\"\",INDIRECT($AG$15&AA$44&$AO70))","v":{"$error":"#N/A"}},{"$f":"IF(INDIRECT($AG$15&AB$44&$AO70)=\"\",\"\",INDIRECT($AG$15&AB$44&$AO70))","v":{"$error":"#N/A"}},{"$f":"IF(INDIRECT($AG$15&AC$44&$AO70)=\"\",\"\",INDIRECT($AG$15&AC$44&$AO70))","v":{"$error":"#N/A"}},{"$f":"IF(INDIRECT($AG$15&AD$44&$AO70)=\"\",\"\",INDIRECT($AG$15&AD$44&$AO70))","v":{"$error":"#N/A"}},{"$f":"IF(INDIRECT($AG$15&AE$44&$AO70)=\"\",\"\",INDIRECT($AG$15&AE$44&$AO70))","v":{"$error":"#N/A"}},{"$f":"IF(INDIRECT($AG$15&AF$44&$AO70)=\"\",\"\",INDIRECT($AG$15&AF$44&$AO70))","v":{"$error":"#N/A"}},{"$f":"IF(INDIRECT($AG$15&AG$44&$AO70)=\"\",\"\",INDIRECT($AG$15&AG$44&$AO70))","v":{"$error":"#N/A"}},{"$f":"IF(INDIRECT($AG$15&AH$44&$AO70)=\"\",\"\",INDIRECT($AG$15&AH$44&$AO70))","v":{"$error":"#N/A"}},{"$f":"IF(INDIRECT($AG$15&AI$44&$AO70)=\"\",\"\",INDIRECT($AG$15&AI$44&$AO70))","v":{"$error":"#N/A"}},{"$f":"IF(INDIRECT($AG$15&AJ$44&$AO70)=\"\",\"\",INDIRECT($AG$15&AJ$44&$AO70))","v":{"$error":"#N/A"}},{"$f":"IF(INDIRECT($AG$15&AK$44&$AO70)=\"\",\"\",INDIRECT($AG$15&AK$44&$AO70))","v":{"$error":"#N/A"}},{"$f":"IF(INDIRECT($AG$15&AL$44&$AO70)=\"\",\"\",INDIRECT($AG$15&AL$44&$AO70))","v":{"$error":"#N/A"}},{"$f":"IF(INDIRECT($AG$15&AM$44&$AO70)=\"\",\"\",INDIRECT($AG$15&AM$44&$AO70))","v":{"$error":"#N/A"}},{"$f":"IF(INDIRECT($AG$15&AN$44&$AO70)=\"\",\"\",INDIRECT($AG$15&AN$44&$AO70))","v":{"$error":"#N/A"}},59]
[24,null,null,null,null,null,null,null,null,null,null,null,null,null,null,null,null,null,null,null,null,null,null,null,null,24,{"$f":"IF(INDIRECT($AG$15&AA$44&$AO71)=\"\",\"\",INDIRECT($AG$15&AA$44&$AO71))","v":{"$error":"#N/A"}},{"$f":"IF(INDIRECT($AG$15&AB$44&$AO71)=\"\",\"\",INDIRECT($AG$15&AB$44&$AO71))","v":{"$error":"#N/A"}},{"$f":"IF(INDIRECT($AG$15&AC$44&$AO71)=\"\",\"\",INDIRECT($AG$15&AC$44&$AO71))","v":{"$error":"#N/A"}},{"$f":"IF(INDIRECT($AG$15&AD$44&$AO71)=\"\",\"\",INDIRECT($AG$15&AD$44&$AO71))","v":{"$error":"#N/A"}},{"$f":"IF(INDIRECT($AG$15&AE$44&$AO71)=\"\",\"\",INDIRECT($AG$15&AE$44&$AO71))","v":{"$error":"#N/A"}},{"$f":"IF(INDIRECT($AG$15&AF$44&$AO71)=\"\",\"\",INDIRECT($AG$15&AF$44&$AO71))","v":{"$error":"#N/A"}},{"$f":"IF(INDIRECT($AG$15&AG$44&$AO71)=\"\",\"\",INDIRECT($AG$15&AG$44&$AO71))","v":{"$error":"#N/A"}},{"$f":"IF(INDIRECT($AG$15&AH$44&$AO71)=\"\",\"\",INDIRECT($AG$15&AH$44&$AO71))","v":{"$error":"#N/A"}},{"$f":"IF(INDIRECT($AG$15&AI$44&$AO71)=\"\",\"\",INDIRECT($AG$15&AI$44&$AO71))","v":{"$error":"#N/A"}},{"$f":"IF(INDIRECT($AG$15&AJ$44&$AO71)=\"\",\"\",INDIRECT($AG$15&AJ$44&$AO71))","v":{"$error":"#N/A"}},{"$f":"IF(INDIRECT($AG$15&AK$44&$AO71)=\"\",\"\",INDIRECT($AG$15&AK$44&$AO71))","v":{"$error":"#N/A"}},{"$f":"IF(INDIRECT($AG$15&AL$44&$AO71)=\"\",\"\",INDIRECT($AG$15&AL$44&$AO71))","v":{"$error":"#N/A"}},{"$f":"IF(INDIRECT($AG$15&AM$44&$AO71)=\"\",\"\",INDIRECT($AG$15&AM$44&$AO71))","v":{"$error":"#N/A"}},{"$f":"IF(INDIRECT($AG$15&AN$44&$AO71)=\"\",\"\",INDIRECT($AG$15&AN$44&$AO71))","v":{"$error":"#N/A"}},60]
[]
[null,null,null,null,null,null,null,null,null,null,null,null,null,null,null,null,null,null,null,null,null,null,null,null,null,null,"表３"]
[null,null,"表３：排出係数・単価表に記載した係数（実施計画書より）",null,null,null,null,null,null,null,null,null,null,null,null,null,null,null,null,null,null,null,null,null,null,null,"B","C","D","E","F","G","H","I"]
[null,null,"活動種別","単位","単位発熱量",null,"CO2排出係数",null,"単価",null,null,null,null,null,null,null,null,null,null,null,null,null,null,null,null,null,"活動種別","単位","単位発熱量",null,"CO2排出係数",null,"単価"]
[null,null,null,null,"係数","単位","係数","単位","単価","単位",null,null,null,null,null,null,null,null,null,null,null,null,null,null,null,null,null,null,"係数","単位","係数","単位","単価","単位"]
[null,1,null,null,null,null,null,null,null,null,null,null,null,null,null,null,null,null,null,null,null,null,null,null,null,1,{"$f":"IF(INDIRECT($AI$15&AA$74&$AI77)=\"\",\"\",INDIRECT($AI$15&AA$74&$AI77))","v":{"$error":"#N/A"}},{"$error":"#N/A"},{"$error":"#N/A"},{"$error":"#N/A"},{"$error":"#N/A"},{"$error":"#N/A"},{"$error":"#N/A"},{"$error":"#N/A"},11]
[null,2,null,null,null,null,null,null,null,null,null,null,null,null,null,null,null,null,null,null,null,null,null,null,null,2,{"$f":"IF(INDIRECT($AI$15&AA$74&$AI78)=\"\",\"\",INDIRECT($AI$15&AA$74&$AI78))","v":{"$error":"#N/A"}},{"$f":"IF(INDIRECT($AI$15&AB$74&$AI78)=\"\",\"\",INDIRECT($AI$15&AB$74&$AI78))","v":{"$error":"#N/A"}},{"$f":"IF(INDIRECT($AI$15&AC$74&$AI78)=\"\",\"\",INDIRECT($AI$15&AC$74&$AI78))","v":{"$error":"#N/A"}},{"$f":"IF(INDIRECT($AI$15&AD$74&$AI78)=\"\",\"\",INDIRECT($AI$15&AD$74&$AI78))","v":{"$error":"#N/A"}},{"$f":"IF(INDIRECT($AI$15&AE$74&$AI78)=\"\",\"\",INDIRECT($AI$15&AE$74&$AI78))","v":{"$error":"#N/A"}},{"$f":"IF(INDIRECT($AI$15&AF$74&$AI78)=\"\",\"\",INDIRECT($AI$15&AF$74&$AI78))","v":{"$error":"#N/A"}},{"$f":"IF(INDIRECT($AI$15&AG$74&$AI78)=\"\",\"\",INDIRECT($AI$15&AG$74&$AI78))","v":{"$error":"#N/A"}},{"$f":"IF(INDIRECT($AI$15&AH$74&$AI78)=\"\",\"\",INDIRECT($AI$15&AH$74&$AI78))","v":{"$error":"#N/A"}},12]
[null,3,null,null,null,null,null,null,null,null,null,null,null,null,null,null,null,null,null,null,null,null,null,null,null,3,{"$f":"IF(INDIRECT($AI$15&AA$74&$AI79)=\"\",\"\",INDIRECT($AI$15&AA$74&$AI79))","v":{"$error":"#N/A"}},{"$f":"IF(INDIRECT($AI$15&AB$74&$AI79)=\"\",\"\",INDIRECT($AI$15&AB$74&$AI79))","v":{"$error":"#N/A"}},{"$f":"IF(INDIRECT($AI$15&AC$74&$AI79)=\"\",\"\",INDIRECT($AI$15&AC$74&$AI79))","v":{"$error":"#N/A"}},{"$f":"IF(INDIRECT($AI$15&AD$74&$AI79)=\"\",\"\",INDIRECT($AI$15&AD$74&$AI79))","v":{"$error":"#N/A"}},{"$f":"IF(INDIRECT($AI$15&AE$74&$AI79)=\"\",\"\",INDIRECT($AI$15&AE$74&$AI79))","v":{"$error":"#N/A"}},{"$f":"IF(INDIRECT($AI$15&AF$74&$AI79)=\"\",\"\",INDIRECT($AI$15&AF$74&$AI79))","v":{"$error":"#N/A"}},{"$f":"IF(INDIRECT($AI$15&AG$74&$AI79)=\"\",\"\",INDIRECT($AI$15&AG$74&$AI79))","v":{"$error":"#N/A"}},{"$f":"IF(INDIRECT($AI$15&AH$74&$AI79)=\"\",\"\",INDIRECT($AI$15&AH$74&$AI79))","v":{"$error":"#N/A"}},13]
[null,4,null,null,null,null,null,null,null,null,null,null,null,null,null,null,null,null,null,null,null,null,null,null,null,4,{"$f":"IF(INDIRECT($AI$15&AA$74&$AI80)=\"\",\"\",INDIRECT($AI$15&AA$74&$AI80))","v":{"$error":"#N/A"}},{"$f":"IF(INDIRECT($AI$15&AB$74&$AI80)=\"\",\"\",INDIRECT($AI$15&AB$74&$AI80))","v":{"$error":"#N/A"}},{"$f":"IF(INDIRECT($AI$15&AC$74&$AI80)=\"\",\"\",INDIRECT($AI$15&AC$74&$AI80))","v":{"$error":"#N/A"}},{"$f":"IF(INDIRECT($AI$15&AD$74&$AI80)=\"\",\"\",INDIRECT($AI$15&AD$74&$AI80))","v":{"$error":"#N/A"}},{"$f":"IF(INDIRECT($AI$15&AE$74&$AI80)=\"\",\"\",INDIRECT($AI$15&AE$74&$AI80))","v":{"$error":"#N/A"}},{"$f":"IF(INDIRECT($AI$15&AF$74&$AI80)=\"\",\"\",INDIRECT($AI$15&AF$74&$AI80))","v":{"$error":"#N/A"}},{"$f":"IF(INDIRECT($AI$15&AG$74&$AI80)=\"\",\"\",INDIRECT($AI$15&AG$74&$AI80))","v":{"$error":"#N/A"}},{"$f":"IF(INDIRECT($AI$15&AH$74&$AI80)=\"\",\"\",INDIRECT($AI$15&AH$74&$AI80))","v":{"$error":"#N/A"}},14]
[null,5,null,null,null,null,null,null,null,null,null,null,null,null,null,null,null,null,null,null,null,null,null,null,null,5,{"$f":"IF(INDIRECT($AI$15&AA$74&$AI81)=\"\",\"\",INDIRECT($AI$15&AA$74&$AI81))","v":{"$error":"#N/A"}},{"$f":"IF(INDIRECT($AI$15&AB$74&$AI81)=\"\",\"\",INDIRECT($AI$15&AB$74&$AI81))","v":{"$error":"#N/A"}},{"$f":"IF(INDIRECT($AI$15&AC$74&$AI81)=\"\",\"\",INDIRECT($AI$15&AC$74&$AI81))","v":{"$error":"#N/A"}},{"$f":"IF(INDIRECT($AI$15&AD$74&$AI81)=\"\",\"\",INDIRECT($AI$15&AD$74&$AI81))","v":{"$error":"#N/A"}},{"$f":"IF(INDIRECT($AI$15&AE$74&$AI81)=\"\",\"\",INDIRECT($AI$15&AE$74&$AI81))","v":{"$error":"#N/A"}},{"$f":"IF(INDIRECT($AI$15&AF$74&$AI81)=\"\",\"\",INDIRECT($AI$15&AF$74&$AI81))","v":{"$error":"#N/A"}},{"$f":"IF(INDIRECT($AI$15&AG$74&$AI81)=\"\",\"\",INDIRECT($AI$15&AG$74&$AI81))","v":{"$error":"#N/A"}},{"$f":"IF(INDIRECT($AI$15&AH$74&$AI81)=\"\",\"\",INDIRECT($AI$15&AH$74&$AI81))","v":{"$error":"#N/A"}},15]
[null,6,null,null,null,null,null,null,null,null,null,null,null,null,null,null,null,null,null,null,null,null,null,null,null,6,{"$f":"IF(INDIRECT($AI$15&AA$74&$AI82)=\"\",\"\",INDIRECT($AI$15&AA$74&$AI82))","v":{"$error":"#N/A"}},{"$f":"IF(INDIRECT($AI$15&AB$74&$AI82)=\"\",\"\",INDIRECT($AI$15&AB$74&$AI82))","v":{"$error":"#N/A"}},{"$f":"IF(INDIRECT($AI$15&AC$74&$AI82)=\"\",\"\",INDIRECT($AI$15&AC$74&$AI82))","v":{"$error":"#N/A"}},{"$f":"IF(INDIRECT($AI$15&AD$74&$AI82)=\"\",\"\",INDIRECT($AI$15&AD$74&$AI82))","v":{"$error":"#N/A"}},{"$f":"IF(INDIRECT($AI$15&AE$74&$AI82)=\"\",\"\",INDIRECT($AI$15&AE$74&$AI82))","v":{"$error":"#N/A"}},{"$f":"IF(INDIRECT($AI$15&AF$74&$AI82)=\"\",\"\",INDIRECT($AI$15&AF$74&$AI82))","v":{"$error":"#N/A"}},{"$f":"IF(INDIRECT($AI$15&AG$74&$AI82)=\"\",\"\",INDIRECT($AI$15&AG$74&$AI82))","v":{"$error":"#N/A"}},{"$f":"IF(INDIRECT($AI$15&AH$74&$AI82)=\"\",\"\",INDIRECT($AI$15&AH$74&$AI82))","v":{"$error":"#N/A"}},16]
[null,7,null,null,null,null,null,null,null,null,null,null,null,null,null,null,null,null,null,null,null,null,null,null,null,7,{"$f":"IF(INDIRECT($AI$15&AA$74&$AI83)=\"\",\"\",INDIRECT($AI$15&AA$74&$AI83))","v":{"$error":"#N/A"}},{"$f":"IF(INDIRECT($AI$15&AB$74&$AI83)=\"\",\"\",INDIRECT($AI$15&AB$74&$AI83))","v":{"$error":"#N/A"}},{"$f":"IF(INDIRECT($AI$15&AC$74&$AI83)=\"\",\"\",INDIRECT($AI$15&AC$74&$AI83))","v":{"$error":"#N/A"}},{"$f":"IF(INDIRECT($AI$15&AD$74&$AI83)=\"\",\"\",INDIRECT($AI$15&AD$74&$AI83))","v":{"$error":"#N/A"}},{"$f":"IF(INDIRECT($AI$15&AE$74&$AI83)=\"\",\"\",INDIRECT($AI$15&AE$74&$AI83))","v":{"$error":"#N/A"}},{"$f":"IF(INDIRECT($AI$15&AF$74&$AI83)=\"\",\"\",INDIRECT($AI$15&AF$74&$AI83))","v":{"$error":"#N/A"}},{"$f":"IF(INDIRECT($AI$15&AG$74&$AI83)=\"\",\"\",INDIRECT($AI$15&AG$74&$AI83))","v":{"$error":"#N/A"}},{"$f":"IF(INDIRECT($AI$15&AH$74&$AI83)=\"\",\"\",INDIRECT($AI$15&AH$74&$AI83))","v":{"$error":"#N/A"}},17]
[null,8,null,null,null,null,null,null,null,null,null,null,null,null,null,null,null,null,null,null,null,null,null,null,null,8,{"$f":"IF(INDIRECT($AI$15&AA$74&$AI84)=\"\",\"\",INDIRECT($AI$15&AA$74&$AI84))","v":{"$error":"#N/A"}},{"$f":"IF(INDIRECT($AI$15&AB$74&$AI84)=\"\",\"\",INDIRECT($AI$15&AB$74&$AI84))","v":{"$error":"#N/A"}},{"$f":"IF(INDIRECT($AI$15&AC$74&$AI84)=\"\",\"\",INDIRECT($AI$15&AC$74&$AI84))","v":{"$error":"#N/A"}},{"$f":"IF(INDIRECT($AI$15&AD$74&$AI84)=\"\",\"\",INDIRECT($AI$15&AD$74&$AI84))","v":{"$error":"#N/A"}},{"$f":"IF(INDIRECT($AI$15&AE$74&$AI84)=\"\",\"\",INDIRECT($AI$15&AE$74&$AI84))","v":{"$error":"#N/A"}},{"$f":"IF(INDIRECT($AI$15&AF$74&$AI84)=\"\",\"\",INDIRECT($AI$15&AF$74&$AI84))","v":{"$error":"#N/A"}},{"$f":"IF(INDIRECT($AI$15&AG$74&$AI84)=\"\",\"\",INDIRECT($AI$15&AG$74&$AI84))","v":{"$error":"#N/A"}},{"$f":"IF(INDIRECT($AI$15&AH$74&$AI84)=\"\",\"\",INDIRECT($AI$15&AH$74&$AI84))","v":{"$error":"#N/A"}},18]
[null,9,null,null,null,null,null,null,null,null,null,null,null,null,null,null,null,null,null,null,null,null,null,null,null,9,{"$f":"IF(INDIRECT($AI$15&AA$74&$AI85)=\"\",\"\",INDIRECT($AI$15&AA$74&$AI85))","v":{"$error":"#N/A"}},{"$f":"IF(INDIRECT($AI$15&AB$74&$AI85)=\"\",\"\",INDIRECT($AI$15&AB$74&$AI85))","v":{"$error":"#N/A"}},{"$f":"IF(INDIRECT($AI$15&AC$74&$AI85)=\"\",\"\",INDIRECT($AI$15&AC$74&$AI85))","v":{"$error":"#N/A"}},{"$f":"IF(INDIRECT($AI$15&AD$74&$AI85)=\"\",\"\",INDIRECT($AI$15&AD$74&$AI85))","v":{"$error":"#N/A"}},{"$f":"IF(INDIRECT($AI$15&AE$74&$AI85)=\"\",\"\",INDIRECT($AI$15&AE$74&$AI85))","v":{"$error":"#N/A"}},{"$f":"IF(INDIRECT($AI$15&AF$74&$AI85)=\"\",\"\",INDIRECT($AI$15&AF$74&$AI85))","v":{"$error":"#N/A"}},{"$f":"IF(INDIRECT($AI$15&AG$74&$AI85)=\"\",\"\",INDIRECT($AI$15&AG$74&$AI85))","v":{"$error":"#N/A"}},{"$f":"IF(INDIRECT($AI$15&AH$74&$AI85)=\"\",\"\",INDIRECT($AI$15&AH$74&$AI85))","v":{"$error":"#N/A"}},19]
[null,10,null,null,null,null,null,null,null,null,null,null,null,null,null,null,null,null,null,null,null,null,null,null,null,10,{"$f":"IF(INDIRECT($AI$15&AA$74&$AI86)=\"\",\"\",INDIRECT($AI$15&AA$74&$AI86))","v":{"$error":"#N/A"}},{"$f":"IF(INDIRECT($AI$15&AB$74&$AI86)=\"\",\"\",INDIRECT($AI$15&AB$74&$AI86))","v":{"$error":"#N/A"}},{"$f":"IF(INDIRECT($AI$15&AC$74&$AI86)=\"\",\"\",INDIRECT($AI$15&AC$74&$AI86))","v":{"$error":"#N/A"}},{"$f":"IF(INDIRECT($AI$15&AD$74&$AI86)=\"\",\"\",INDIRECT($AI$15&AD$74&$AI86))","v":{"$error":"#N/A"}},{"$f":"IF(INDIRECT($AI$15&AE$74&$AI86)=\"\",\"\",INDIRECT($AI$15&AE$74&$AI86))","v":{"$error":"#N/A"}},{"$f":"IF(INDIRECT($AI$15&AF$74&$AI86)=\"\",\"\",INDIRECT($AI$15&AF$74&$AI86))","v":{"$error":"#N/A"}},{"$f":"IF(INDIRECT($AI$15&AG$74&$AI86)=\"\",\"\",INDIRECT($AI$15&AG$74&$AI86))","v":{"$error":"#N/A"}},{"$f":"IF(INDIRECT($AI$15&AH$74&$AI86)=\"\",\"\",INDIRECT($AI$15&AH$74&$AI86))","v":{"$error":"#N/A"}},20]
[null,11,null,null,null,null,null,null,null,null,null,null,null,null,null,null,null,null,null,null,null,null,null,null,null,11,{"$f":"IF(INDIRECT($AI$15&AA$74&$AI87)=\"\",\"\",INDIRECT($AI$15&AA$74&$AI87))","v":{"$error":"#N/A"}},{"$f":"IF(INDIRECT($AI$15&AB$74&$AI87)=\"\",\"\",INDIRECT($AI$15&AB$74&$AI87))","v":{"$error":"#N/A"}},{"$f":"IF(INDIRECT($AI$15&AC$74&$AI87)=\"\",\"\",INDIRECT($AI$15&AC$74&$AI87))","v":{"$error":"#N/A"}},{"$f":"IF(INDIRECT($AI$15&AD$74&$AI87)=\"\",\"\",INDIRECT($AI$15&AD$74&$AI87))","v":{"$error":"#N/A"}},{"$f":"IF(INDIRECT($AI$15&AE$74&$AI87)=\"\",\"\",INDIRECT($AI$15&AE$74&$AI87))","v":{"$error":"#N/A"}},{"$f":"IF(INDIRECT($AI$15&AF$74&$AI87)=\"\",\"\",INDIRECT($AI$15&AF$74&$AI87))","v":{"$error":"#N/A"}},{"$f":"IF(INDIRECT($AI$15&AG$74&$AI87)=\"\",\"\",INDIRECT($AI$15&AG$74&$AI87))","v":{"$error":"#N/A"}},{"$f":"IF(INDIRECT($AI$15&AH$74&$AI87)=\"\",\"\",INDIRECT($AI$15&AH$74&$AI87))","v":{"$error":"#N/A"}},21]
[null,12,null,null,null,null,null,null,null,null,null,null,null,null,null,null,null,null,null,null,null,null,null,null,null,12,{"$f":"IF(INDIRECT($AI$15&AA$74&$AI88)=\"\",\"\",INDIRECT($AI$15&AA$74&$AI88))","v":{"$error":"#N/A"}},{"$f":"IF(INDIRECT($AI$15&AB$74&$AI88)=\"\",\"\",INDIRECT($AI$15&AB$74&$AI88))","v":{"$error":"#N/A"}},{"$f":"IF(INDIRECT($AI$15&AC$74&$AI88)=\"\",\"\",INDIRECT($AI$15&AC$74&$AI88))","v":{"$error":"#N/A"}},{"$f":"IF(INDIRECT($AI$15&AD$74&$AI88)=\"\",\"\",INDIRECT($AI$15&AD$74&$AI88))","v":{"$error":"#N/A"}},{"$f":"IF(INDIRECT($AI$15&AE$74&$AI88)=\"\",\"\",INDIRECT($AI$15&AE$74&$AI88))","v":{"$error":"#N/A"}},{"$f":"IF(INDIRECT($AI$15&AF$74&$AI88)=\"\",\"\",INDIRECT($AI$15&AF$74&$AI88))","v":{"$error":"#N/A"}},{"$f":"IF(INDIRECT($AI$15&AG$74&$AI88)=\"\",\"\",INDIRECT($AI$15&AG$74&$AI88))","v":{"$error":"#N/A"}},{"$f":"IF(INDIRECT($AI$15&AH$74&$AI88)=\"\",\"\",INDIRECT($AI$15&AH$74&$AI88))","v":{"$error":"#N/A"}},22]
[null,13,null,null,null,null,null,null,null,null,null,null,null,null,null,null,null,null,null,null,null,null,null,null,null,13,{"$f":"IF(INDIRECT($AI$15&AA$74&$AI89)=\"\",\"\",INDIRECT($AI$15&AA$74&$AI89))","v":{"$error":"#N/A"}},{"$f":"IF(INDIRECT($AI$15&AB$74&$AI89)=\"\",\"\",INDIRECT($AI$15&AB$74&$AI89))","v":{"$error":"#N/A"}},{"$f":"IF(INDIRECT($AI$15&AC$74&$AI89)=\"\",\"\",INDIRECT($AI$15&AC$74&$AI89))","v":{"$error":"#N/A"}},{"$f":"IF(INDIRECT($AI$15&AD$74&$AI89)=\"\",\"\",INDIRECT($AI$15&AD$74&$AI89))","v":{"$error":"#N/A"}},{"$f":"IF(INDIRECT($AI$15&AE$74&$AI89)=\"\",\"\",INDIRECT($AI$15&AE$74&$AI89))","v":{"$error":"#N/A"}},{"$f":"IF(INDIRECT($AI$15&AF$74&$AI89)=\"\",\"\",INDIRECT($AI$15&AF$74&$AI89))","v":{"$error":"#N/A"}},{"$f":"IF(INDIRECT($AI$15&AG$74&$AI89)=\"\",\"\",INDIRECT($AI$15&AG$74&$AI89))","v":{"$error":"#N/A"}},{"$f":"IF(INDIRECT($AI$15&AH$74&$AI89)=\"\",\"\",INDIRECT($AI$15&AH$74&$AI89))","v":{"$error":"#N/A"}},23]
[null,14,null,null,null,null,null,null,null,null,null,null,null,null,null,null,null,null,null,null,null,null,null,null,null,14,{"$f":"IF(INDIRECT($AI$15&AA$74&$AI90)=\"\",\"\",INDIRECT($AI$15&AA$74&$AI90))","v":{"$error":"#N/A"}},{"$f":"IF(INDIRECT($AI$15&AB$74&$AI90)=\"\",\"\",INDIRECT($AI$15&AB$74&$AI90))","v":{"$error":"#N/A"}},{"$f":"IF(INDIRECT($AI$15&AC$74&$AI90)=\"\",\"\",INDIRECT($AI$15&AC$74&$AI90))","v":{"$error":"#N/A"}},{"$f":"IF(INDIRECT($AI$15&AD$74&$AI90)=\"\",\"\",INDIRECT($AI$15&AD$74&$AI90))","v":{"$error":"#N/A"}},{"$f":"IF(INDIRECT($AI$15&AE$74&$AI90)=\"\",\"\",INDIRECT($AI$15&AE$74&$AI90))","v":{"$error":"#N/A"}},{"$f":"IF(INDIRECT($AI$15&AF$74&$AI90)=\"\",\"\",INDIRECT($AI$15&AF$74&$AI90))","v":{"$error":"#N/A"}},{"$f":"IF(INDIRECT($AI$15&AG$74&$AI90)=\"\",\"\",INDIRECT($AI$15&AG$74&$AI90))","v":{"$error":"#N/A"}},{"$f":"IF(INDIRECT($AI$15&AH$74&$AI90)=\"\",\"\",INDIRECT($AI$15&AH$74&$AI90))","v":{"$error":"#N/A"}},24]
[]
[]
[null,null,"表４：算定年度③で使用した係数（算定報告書より）"]
[null,null,"工場・事業場全体",null,null,null,null,null,null,"主要システム系統"]
[null,null,"モニタリングポイントNo.","活動種別","単位","単位発熱量",null,"CO2排出係数",null,"モニタリングポイントNo.","活動種別","単位","単位発熱量",null,"CO2排出係数"]
[null,null,null,null,null,"係数","単位","係数","単位",null,null,null,"係数","単位","係数","単位"]
[null,1]
[null,2]
[null,3]
[null,4]
[null,5]
[null,6]
[null,7]
[null,8]
[null,9]
[null,10]
[null,11]
[null,12]
[null,13]
[null,14]
[null,15]
[null,16]
[null,17]
[null,18]
[null,19]
[null,20]
[null,21]
[null,22]
[null,23]
[null,24]
[null,25]
[null,26]
[null,27]
[null,28]
[null,29]
[null,30]
[null,31]
[null,32]
[null,33]
[null,34]
[null,35]
[null,36]
[null,37]
[null,38]
[null,39]
[null,40]
[null,41]
[null,42]
[null,43]
[null,44]
[null,45]
[null,46]
[null,47]
[null,48]
[null,49]
[null,50]
[null,51]
[null,52]
[null,53]
[null,54]
[null,55]
[null,56]
[null,57]
[null,58]
[null,59]
[null,60]
[null,61]
[null,62]
[null,63]
[null,64]
[null,65]
[null,66]
[null,67]
[null,68]
[null,69]
[null,70]
[null,71]
[null,72]
[null,73]
[null,74]
[null,75]
[null,76]
[null,77]
[null,78]
[null,79]
[null,80]

{"sheet":"事業報告書まとめ_設備更新","index":1,"n_rows":54,"n_cols":49,"rows_kept":54,"cut":false,"hidden":false,"merged":[[10,4,10,8],[11,4,11,8],[12,4,12,8],[13,4,13,8],[8,2,9,8],[10,2,14,3],[1,1,1,36],[2,1,2,36],[5,2,5,8],[5,9,5,14],[5,15,5,17],[5,18,5,35],[6,2,7,8],[6,9,7,35],[8,9,9,35],[19,3,19,9],[19,10,19,21],[10,32,10,35],[10,29,10,31],[11,29,11,31],[11,32,11,35],[14,29,14,31],[14,32,14,35],[14,4,14,8],[10,9,10,28],[11,9,11,28],[14,9,14,28],[12,9,12,28],[12,29,12,31],[38,12,38,14],[25,2,26,35],[37,3,39,3],[37,4,37,7],[38,4,38,7],[39,4,39,7],[34,22,35,28],[33,15,33,28],[37,8,37,11],[38,8,38,11],[39,8,39,11],[33,8,33,14],[37,12,37,14],[30,3,31,6],[34,3,35,7],[36,15,36,18],[52,40,54,40],[38,15,38,18],[39,15,39,18],[37,22,37,25],[39,19,39,21],[37,19,37,21],[38,19,38,21],[37,26,37,28],[38,22,38,25],[38,26,38,28],[39,22,39,25],[39,26,39,28],[47,40,49,40],[37,15,37,18],[40,4,40,28],[39,12,39,14],[12,32,12,35],[13,9,13,28],[13,29,13,31],[13,32,13,35],[36,8,36,14],[34,8,35,14],[20,3,20,9],[36,19,36,21],[36,22,36,28],[34,15,35,21],[30,7,31,35],[36,3,36,7],[20,10,20,21],[21,3,21,9],[21,10,21,21]]}
[null,null,null,null,null,null,null,null,null,null,null,null,null,null,null,null,null,null,null,null,null,null,null,null,null,null,null,null,null,null,null,null,null,null,null,null,null,"Ver. 1.0",null,null,null,null,null,null,null,null,null,null,"セル色表示／非表示"]
[null,"令和３年度二酸化炭素排出抑制対策事業費等補助金",null,null,null,null,null,null,null,null,null,null,null,null,null,null,null,null,null,null,null,null,null,null,null,null,null,null,null,null,null,null,null,null,null,null,null,null,null,null,null,null,null,null,null,null,null,null,false]
[null,"（工場・事業場における先導的な脱炭素化取組推進事業のうち設備更新補助事業）"]
[]
[null,"【補助事業者情報】"]
[null,null,"GAJ事業番号",null,null,null,null,null,null,{"$f":"IF(基本データ転記先シート!$F$17=\"\",\"\",基本データ転記先シート!$F$17)","v":""},null,null,null,null,null,"補助の区分"]
[null,null,"補助事業者名（法人名）",null,null,null,null,null,null,{"$f":"IF(基本データ転記先シート!$F$18=\"\",\"\",基本データ転記先シート!$F$18)","v":""}]
[]
[null,null,"工場・事業場名",null,null,null,null,null,null,{"$f":"IF(基本データ転記先シート!$F$19=\"\",\"\",基本データ転記先シート!$F$19)","v":""}]
[]
[null,null,"業種",null,"工場・事業場No.1",null,null,null,null,{"$f":"IF(基本データ転記先シート!$G$20=\"\",\"\",基本データ転記先シート!$G$20)","v":""},null,null,null,null,null,null,null,null,null,null,null,null,null,null,null,null,null,null,null,"区分",null,null,{"$f":"IF($J$11=\"\",\"\",VLOOKUP($J$11,部門,2,FALSE))","v":""}]
[null,null,null,null,"工場・事業場No.2",null,null,null,null,{"$f":"IF(基本データ転記先シート!$G$21=\"\",\"\",基本データ転記先シート!$G$21)","v":""},null,null,null,null,null,null,null,null,null,null,null,null,null,null,null,null,null,null,null,"区分",null,null,{"$f":"IF($J$12=\"\",\"\",VLOOKUP($J$12,部門,2,FALSE))","v":""}]
[null,null,null,null,"工場・事業場No.3",null,null,null,null,{"$f":"IF(基本データ転記先シート!$G$22=\"\",\"\",基本データ転記先シート!$G$22)","v":""},null,null,null,null,null,null,null,null,null,null,null,null,null,null,null,null,null,null,null,"区分",null,null,{"$f":"IF($J$13=\"\",\"\",VLOOKUP($J$13,部門,2,FALSE))","v":""}]
[null,null,null,null,"工場・事業場No.4",null,null,null,null,{"$f":"IF(基本データ転記先シート!$G$23=\"\",\"\",基本データ転記先シート!$G$23)","v":""},null,null,null,null,null,null,null,null,null,null,null,null,null,null,null,null,null,null,null,"区分",null,null,{"$f":"IF($J$14=\"\",\"\",VLOOKUP($J$14,部門,2,FALSE))","v":""}]
[null,null,null,null,"工場・事業場No.5",null,null,null,null,{"$f":"IF(基本データ転記先シート!$G$24=\"\",\"\",基本データ転記先シート!$G$24)","v":""},null,null,null,null,null,null,null,null,null,null,null,null,null,null,null,null,null,null,null,"区分",null,null,{"$f":"IF($J$15=\"\",\"\",VLOOKUP($J$15,部門,2,FALSE))","v":""}]
[]
[]
[null,"【事業報告年度】"]
[]
[null,null,null,"削減目標年度"]
[null,null,null,"調整・自主削減年度"]
[null,null,null,"報告年度"]
[]
[]
[null,"【二酸化炭素排出量の推移と計画排出量の達成状況】"]
[null,null,"基準年度及び事業報告年度における主要システム系統のエネルギー起源二酸化炭素排出量（計画CO2排出量・実績CO2排出量）、ならびに計画・実績排出量の差分を示しています。"]
[]
[]
[null,null,"■主要システム系統"]
[]
[null,null,null,"名称",null,null,null,{"$f":"IF(基本データ転記先シート!$F$28=\"\",\"\",基本データ転記先シート!$F$28)","v":""}]
[]
[]
[null,null,null,null,null,null,null,null,"計画",null,null,null,null,null,null,"実績"]
[null,null,null,"年度",null,null,null,null,"CO2排出量\n(対策後）",null,null,null,null,null,null,"CO2排出量",null,null,null,null,null,null,"CO2排出超過量*\n（対計画CO2排出量）"]
[]
[null,null,null,"基準年度",null,null,null,null,"－",null,null,null,null,null,null,{"$f":"IF(基本データ転記先シート!$F$29=\"\",\"\",基本データ転記先シート!$F$29)","v":""},null,null,null,"t-CO2/年",null,null,"－"]
[null,null,null,"事業報告年度",{"$f":"IF($K$20=\"\",\"事業報告年度を選択して下さい\",MID($K$20,1,FIND(\"(\",$K$20)-1))","v":"事業報告年度を選択して下さい"},null,null,null,{"$f":"IFERROR(IF(VLOOKUP(E38,基本データ転記先シート!$F$37:$G$41,2,FALSE)=\"\",\"\",VLOOKUP(E38,基本データ転記先シート!$F$37:$G$41,2,FALSE)),\"\")","v":""},null,null,null,"t-CO2/年",null,null,{"$f":"IF('別紙1_CO2排出量(主要システム)'!$E$15=\"\",\"\",'別紙1_CO2排出量(主要システム)'!$E$15)","v":0},null,null,null,"t-CO2/年",null,null,{"$f":"IFERROR($P$38-I38,\"\")","v":""},null,null,null,"t-CO2/年"]
[null,null,null,null,{"$f":"IF($K$21=\"\",\"事業報告年度を選択して下さい\",MID($K$21,1,FIND(\"(\",$K$21)-1))","v":"事業報告年度を選択して下さい"},null,null,null,{"$f":"IFERROR(IF(VLOOKUP(E39,基本データ転記先シート!$F$37:$G$41,2,FALSE)=\"\",\"\",VLOOKUP(E39,基本データ転記先シート!$F$37:$G$41,2,FALSE)),\"\")","v":""},null,null,null,"t-CO2/年",null,null,{"$f":"IF('別紙1_CO2排出量(主要システム)'!$F$15=\"\",\"\",'別紙1_CO2排出量(主要システム)'!$F$15)","v":0},null,null,null,"t-CO2/年",null,null,{"$f":"IFERROR($P$39-I39,\"\")","v":""},null,null,null,"t-CO2/年"]
[null,null,null,null,{"$f":"IF($K$22=\"\",\"事業報告年度を選択して下さい\",MID($K$22,1,FIND(\"(\",$K$22)-1))","v":"事業報告年度を選択して下さい"},null,null,null,{"$f":"IFERROR(IF(VLOOKUP(E40,基本データ転記先シート!$F$37:$G$41,2,FALSE)=\"\",\"\",VLOOKUP(E40,基本データ転記先シート!$F$37:$G$41,2,FALSE)),\"\")","v":""},null,null,null,"t-CO2/年",null,null,{"$f":"IF('別紙1_CO2排出量(主要システム)'!$G$15=\"\",\"\",'別紙1_CO2排出量(主要システム)'!$G$15)","v":0},null,null,null,"t-CO2/年",null,null,{"$f":"IFERROR($P$40-I40,\"\")","v":""},null,null,null,"t-CO2/年"]
[null,null,null,"備考"]
[null,null,null,"※数値は、小数点以下を四捨五入した整数で表示されています。"]
[]
[]
[]
[null,null,null,null,null,null,null,null,null,null,null,null,null,null,null,null,null,null,null,null,null,null,null,null,null,null,null,null,null,null,null,null,null,null,null,null,null,null,null,null,null,null,"グラフ用のデータ表"]
[]
[null,null,null,null,null,null,null,null,null,null,null,null,null,null,null,null,null,null,null,null,null,null,null,null,null,null,null,null,null,null,null,null,null,null,null,null,null,null,null,null,"工場／事業場全体"]
[]
[]
[]
[null,null,null,null,null,null,null,null,null,null,null,null,null,null,null,null,null,null,null,null,null,null,null,null,null,null,null,null,null,null,null,null,null,null,null,null,null,null,null,null,null,null,"基準年度",{"$f":"IF($E$38=\"\",\"\",$E$38)","v":"事業報告年度を選択して下さい"},{"$f":"IF($E$39=\"\",\"\",$E$39)","v":"事業報告年度を選択して下さい"},{"$f":"IF($E$40=\"\",\"\",$E$40)","v":"事業報告年度を選択して下さい"}]
[null,null,null,null,null,null,null,null,null,null,null,null,null,null,null,null,null,null,null,null,null,null,null,null,null,null,null,null,null,null,null,null,null,null,null,null,null,null,null,null,"主要システム系統","計画排出量","---",{"$f":"$I$38","v":""},{"$f":"$I$39","v":""},{"$f":"$I$40","v":""}]
[null,null,null,null,null,null,null,null,null,null,null,null,null,null,null,null,null,null,null,null,null,null,null,null,null,null,null,null,null,null,null,null,null,null,null,null,null,null,null,null,null,"実績排出量",{"$f":"$P$37","v":""},{"$f":"$P$38","v":0},{"$f":"$P$39","v":0},{"$f":"$P$40","v":0}]

{"sheet":"別紙1_CO2排出量(主要システム)","index":2,"n_rows":110,"n_cols":72,"rows_kept":110,"cut":false,"hidden":false,"merged":[[23,1,23,2],[24,1,24,2],[25,1,25,2],[27,1,29,1],[27,2,29,2],[7,3,7,13],[8,3,8,13],[27,15,29,15],[27,16,28,16],[27,17,27,31],[9,3,9,13],[27,4,28,7],[27,12,28,14],[27,10,28,11],[27,3,29,3],[27,8,28,9],[27,47,27,61],[27,62,27,65],[28,17,28,31],[28,32,28,46],[28,47,28,61],[28,62,29,62],[28,63,28,65],[27,32,27,46],[55,10,55,11],[56,10,56,11],[59,1,61,1],[59,2,61,2],[59,3,61,3],[59,4,60,7],[59,8,60,9],[59,10,60,11],[55,1,56,9],[59,12,60,14],[59,15,61,15],[59,16,60,16],[59,17,59,31],[59,47,59,61],[59,62,59,65],[60,17,60,31],[60,32,60,46],[60,47,60,61],[60,62,61,62],[60,63,60,65],[59,32,59,46]]}
[null,null,null,null,null,null,null,null,null,null,null,null,null,null,null,null,null,null,null,null,null,null,null,null,null,null,null,null,null,null,null,null,null,null,null,null,null,null,null,null,null,null,null,null,null,null,null,null,null,null,null,null,null,null,null,null,null,null,null,null,null,null,null,null,null,null,null,null,null,null,null,"セル色表示／非表示"]
[null,null,null,null,null,null,null,null,null,null,null,null,null,null,null,null,null,null,null,null,null,null,null,null,null,null,null,null,null,null,null,null,null,null,null,null,null,null,null,null,null,null,null,null,null,null,null,null,null,null,null,null,null,null,null,null,null,null,null,null,null,null,null,null,null,null,null,null,null,null,null,false]
[]
[null,"環境省　令和３年度二酸化炭素排出抑制対策事業費等補助金 （工場・事業場における先導的な脱炭素化取組推進事業のうち設備更新補助事業）"]
[]
[null,"【事業報告書】 別紙1_主要システム系統のCO2排出量"]
[]
[null,"事業者名（法人名）",null,{"$f":"IF(事業報告書まとめ_設備更新!$J$7=\"\",\"\",事業報告書まとめ_設備更新!$J$7)","v":""}]
[null,"工場・事業場名",null,{"$f":"IF(事業報告書まとめ_設備更新!$J$9=\"\",\"\",事業報告書まとめ_設備更新!$J$9)","v":""}]
[null,"主要システム系統名",null,{"$f":"IF(事業報告書まとめ_設備更新!$H$31=\"\",\"\",事業報告書まとめ_設備更新!$H$31)","v":""}]
[]
[null,"■主要システム系統のエネルギー起源CO2排出量等の推移\n"]
[]
[null,null,null,"基準年度",{"$f":"$B$24","v":"事業報告年度:未選択"},{"$f":"$B$25","v":"事業報告年度:未選択"},{"$f":"$B$26","v":"事業報告年度:未選択"}]
[null,"CO2排出量(t-CO2)",null,{"$f":"IF(基本データ転記先シート!$F$29=\"\",\"\",基本データ転記先シート!$F$29)","v":""},{"$f":"IF($M$57=\"\",\"\",$M$57)","v":0},{"$f":"IF($N$57=\"\",\"\",$N$57)","v":0},{"$f":"IF($O$57=\"\",\"\",$O$57)","v":0}]
[null,"エネルギー使用量(GJ)",null,{"$f":"IF(基本データ転記先シート!$F$30=\"\",\"\",基本データ転記先シート!$F$30)","v":""},{"$f":"IF($BL$56=\"\",\"\",$BL$56)","v":0},{"$f":"IF($BM$56=\"\",\"\",$BM$56)","v":0},{"$f":"IF($BN$56=\"\",\"\",$BN$56)","v":0}]
[null,"脱炭素化指標(t-CO2/GJ)",null,{"$f":"IF(基本データ転記先シート!$F$31=\"\",\"\",基本データ転記先シート!$F$31)","v":""},{"$f":"IF($BL$57=\"\",\"\",$BL$57)","v":"---"},{"$f":"IF($BM$57=\"\",\"\",$BM$57)","v":"---"},{"$f":"IF($BN$57=\"\",\"\",$BN$57)","v":"---"}]
[]
[]
[null,"■活動種別と活動量\n"]
[]
[null,"チェックを外すと、当該年度分が非表示となります。"]
[null,"チェックを入れると再表示されます。"]
[null,{"$f":"IF(COUNTIF(事業報告書まとめ_設備更新!$E$38,\"*選択*\"),\"事業報告年度:未選択\",事業報告書まとめ_設備更新!$E$38)","v":"事業報告年度:未選択"},true,null,{"$f":"MID(CELL(\"address\",$E$27),2,1)","v":"E"},{"$f":"MID(CELL(\"address\",$M$27),2,1)","v":"M"},{"$f":"MID(CELL(\"address\",$R$27),2,1)&\":\"&MID(CELL(\"address\",$AF$27),2,2)","v":"R:AF"},{"$f":"MID(CELL(\"address\",$BL$27),2,2)","v":"BL"}]
[null,{"$f":"IF(COUNTIF(事業報告書まとめ_設備更新!$E$39,\"*選択*\"),\"事業報告年度:未選択\",事業報告書まとめ_設備更新!$E$39)","v":"事業報告年度:未選択"},true,null,{"$f":"MID(CELL(\"address\",$F$27),2,1)","v":"F"},{"$f":"MID(CELL(\"address\",$N$27),2,1)","v":"N"},{"$f":"MID(CELL(\"address\",$AG$27),2,2)&\":\"&MID(CELL(\"address\",$AU$27),2,2)","v":"AG:AU"},{"$f":"MID(CELL(\"address\",$BM$27),2,2)","v":"BM"}]
[null,{"$f":"IF(COUNTIF(事業報告書まとめ_設備更新!$E$40,\"*選択*\"),\"事業報告年度:未選択\",事業報告書まとめ_設備更新!$E$40)","v":"事業報告年度:未選択"},true,null,{"$f":"MID(CELL(\"address\",$G$27),2,1)","v":"G"},{"$f":"MID(CELL(\"address\",$O$27),2,1)","v":"O"},{"$f":"MID(CELL(\"address\",$AV$27),2,2)&\":\"&MID(CELL(\"address\",$BJ$27),2,2)","v":"AV:BJ"},{"$f":"MID(CELL(\"address\",$BN$27),2,2)","v":"BN"}]
[]
[null,"事業所No.","モニタリング\nポイントNo.","活動種別","活動量",null,null,null,"単位発熱量",null,"CO2排出係数",null,"CO2排出量[t-CO2]",null,null,"備考","活動量",{"$f":"$B$24","v":"事業報告年度:未選択"},null,null,null,null,null,null,null,null,null,null,null,null,null,null,{"$f":"$B$25","v":"事業報告年度:未選択"},null,null,null,null,null,null,null,null,null,null,null,null,null,null,{"$f":"$B$26","v":"事業報告年度:未選択"},null,null,null,null,null,null,null,null,null,null,null,null,null,null,"GJ換算"]
[null,null,null,null,null,null,null,null,null,null,null,null,null,null,null,null,null,"月別の購買量　※「活動量」の単位（I列）と整合するように記入ください。",null,null,null,null,null,null,null,null,null,null,null,null,null,null,"月別の購買量　※「活動量」の単位（I列）と整合するように記入ください。",null,null,null,null,null,null,null,null,null,null,null,null,null,null,"月別の購買量　※「活動量」の単位（F列）と整合するように記入ください。",null,null,null,null,null,null,null,null,null,null,null,null,null,null,"対象"]
[null,null,null,null,{"$f":"$B$24","v":"事業報告年度:未選択"},{"$f":"$B$25","v":"事業報告年度:未選択"},{"$f":"$B$26","v":"事業報告年度:未選択"},"単位","係数","単位","係数","単位",{"$f":"$B$24","v":"事業報告年度:未選択"},{"$f":"$B$25","v":"事業報告年度:未選択"},{"$f":"$B$26","v":"事業報告年度:未選択"},null,"把握対象","年度開始\n時点の\n在庫量","４月","５月","６月","７月","８月","９月","１０月","１１月","１２月","１月","２月","３月","年度終了\n時点の\n在庫量","製品中への注入量","年度開始\n時点の\n在庫量","４月","５月","６月","７月","８月","９月","１０月","１１月","１２月","１月","２月","３月","年度終了\n時点の\n在庫量","製品中への注入量","年度開始\n時点の\n在庫量","４月","５月","６月","７月","８月","９月","１０月","１１月","１２月","１月","２月","３月","年度終了\n時点の\n在庫量","製品中への注入量",null,{"$f":"$B$24","v":"事業報告年度:未選択"},{"$f":"$B$25","v":"事業報告年度:未選択"},{"$f":"$B$26","v":"事業報告年度:未選択"}]
[{"$f":"IF($D31=\"\",\"\",VLOOKUP($D31,活動の種別と単位,2,FALSE))","v":""},null,null,null,{"$f":"SUM($S31:$AD31)+($R31-$AE31)-$AF31","v":0},{"$f":"SUM($AH31:$AS31)+($AG31-$AT31)-$AU31","v":0},{"$f":"SUM($AW31:$BH31)+($AV31-$BI31)-$BJ31","v":0},{"$f":"IF($D31=\"\",\"\",VLOOKUP($D31,活動の種別と単位,4,FALSE))","v":""},null,{"$f":"IF($D31=\"\",\"\",VLOOKUP($D31,活動の種別と単位,5,FALSE))","v":""},null,{"$f":"IF($D31=\"\",\"\",VLOOKUP($D31,活動の種別と単位,6,FALSE))","v":""},{"$f":"IF($D31=\"\",\"\",IF($A31=0,$E31*$I31*$K31,$E31*$K31))","v":""},{"$f":"IF($D31=\"\",\"\",IF($A31=0,$F31*$I31*$K31,$F31*$K31))","v":""},{"$f":"IF($D31=\"\",\"\",IF($A31=0,$G31*$I31*$K31,$G31*$K31))","v":""},null,{"$f":"IF($D31=\"\",\"\",VLOOKUP($D31,活動の種別と単位,3,FALSE))","v":""},null,null,null,null,null,null,null,null,null,null,null,null,null,null,null,{"$f":"AE31","v":0},null,null,null,null,null,null,null,null,null,null,null,null,null,null,{"$f":"AT31","v":0},null,null,null,null,null,null,null,null,null,null,null,null,null,null,{"$f":"IF($D31=\"\",\"\",VLOOKUP($D31,活動の種別と単位,7,FALSE))","v":""},{"$f":"IF($D31=\"\",\"\",IF($BK31=\"対象\",IF(OR($D31=\"系統電力\",$D31=\"産業用蒸気\",$D31=\"温水\",$D31=\"冷水\",$D31=\"蒸気（産業用以外）\"),$E31*VLOOKUP($D31,電力等のGJ換算係数,2,FALSE),$E31*$I31),\"---\"))","v":""},{"$f":"IF($D31=\"\",\"\",IF($BK31=\"対象\",IF(OR($D31=\"系統電力\",$D31=\"産業用蒸気\",$D31=\"温水\",$D31=\"冷水\",$D31=\"蒸気（産業用以外）\"),$F31*VLOOKUP($D31,電力等のGJ換算係数,2,FALSE),$F31*$I31),\"---\"))","v":""},{"$f":"IF($D31=\"\",\"\",IF($BK31=\"対象\",IF(OR($D31=\"系統電力\",$D31=\"産業用蒸気\",$D31=\"温水\",$D31=\"冷水\",$D31=\"蒸気（産業用以外）\"),$G31*VLOOKUP($D31,電力等のGJ換算係数,2,FALSE),$G31*$I31),\"---\"))","v":""}]
["",null,null,null,{"$f":"SUM($S32:$AD32)+($R32-$AE32)-$AF32","v":0},{"$f":"SUM($AH32:$AS32)+($AG32-$AT32)-$AU32","v":0},{"$f":"SUM($AW32:$BH32)+($AV32-$BI32)-$BJ32","v":0},"",null,"",null,"","","","",null,"",null,null,null,null,null,null,null,null,null,null,null,null,null,null,null,{"$f":"AE32","v":0},null,null,null,null,null,null,null,null,null,null,null,null,null,null,{"$f":"AT32","v":0},null,null,null,null,null,null,null,null,null,null,null,null,null,null,{"$f":"IF($D32=\"\",\"\",VLOOKUP($D32,活動の種別と単位,7,FALSE))","v":""},"","",""]
["",null,null,null,0,0,0,"",null,"",null,"","","","",null,"",null,null,null,null,null,null,null,null,null,null,null,null,null,null,null,0,null,null,null,null,null,null,null,null,null,null,null,null,null,null,0,null,null,null,null,null,null,null,null,null,null,null,null,null,null,"","","",""]
["",null,null,null,0,0,0,"",null,"",null,"","","","",null,"",null,null,null,null,null,null,null,null,null,null,null,null,null,null,null,0,null,null,null,null,null,null,null,null,null,null,null,null,null,null,0,null,null,null,null,null,null,null,null,null,null,null,null,null,null,"","","",""]
["",null,null,null,0,0,0,"",null,"",null,"","","","",null,"",null,null,null,null,null,null,null,null,null,null,null,null,null,null,null,0,null,null,null,null,null,null,null,null,null,null,null,null,null,null,0,null,null,null,null,null,null,null,null,null,null,null,null,null,null,"","","",""]
["",null,null,null,0,0,0,"",null,"",null,"","","","",null,"",null,null,null,null,null,null,null,null,null,null,null,null,null,null,null,0,null,null,null,null,null,null,null,null,null,null,null,null,null,null,0,null,null,null,null,null,null,null,null,null,null,null,null,null,null,"","","",""]
["",null,null,null,0,0,0,"",null,"",null,"","","","",null,"",null,null,null,null,null,null,null,null,null,null,null,null,null,null,null,0,null,null,null,null,null,null,null,null,null,null,null,null,null,null,0,null,null,null,null,null,null,null,null,null,null,null,null,null,null,"","","",""]
["",null,null,null,0,0,0,"",null,"",null,"","","","",null,"",null,null,null,null,null,null,null,null,null,null,null,null,null,null,null,0,null,null,null,null,null,null,null,null,null,null,null,null,null,null,0,null,null,null,null,null,null,null,null,null,null,null,null,null,null,"","","",""]
["",null,null,null,0,0,0,"",null,"",null,"","","","",null,"",null,null,null,null,null,null,null,null,null,null,null,null,null,null,null,0,null,null,null,null,null,null,null,null,null,null,null,null,null,null,0,null,null,null,null,null,null,null,null,null,null,null,null,null,null,"","","",""]
["",null,null,null,0,0,0,"",null,"",null,"","","","",null,"",null,null,null,null,null,null,null,null,null,null,null,null,null,null,null,0,null,null,null,null,null,null,null,null,null,null,null,null,null,null,0,null,null,null,null,null,null,null,null,null,null,null,null,null,null,"","","",""]
["",null,null,null,0,0,0,"",null,"",null,"","","","",null,"",null,null,null,null,null,null,null,null,null,null,null,null,null,null,null,0,null,null,null,null,null,null,null,null,null,null,null,null,null,null,0,null,null,null,null,null,null,null,null,null,null,null,null,null,null,"","","",""]
["",null,null,null,0,0,0,"",null,"",null,"","","","",null,"",null,null,null,null,null,null,null,null,null,null,null,null,null,null,null,0,null,null,null,null,null,null,null,null,null,null,null,null,null,null,0,null,null,null,null,null,null,null,null,null,null,null,null,null,null,"","","",""]
["",null,null,null,0,0,0,"",null,"",null,"","","","",null,"",null,null,null,null,null,null,null,null,null,null,null,null,null,null,null,0,null,null,null,null,null,null,null,null,null,null,null,null,null,null,0,null,null,null,null,null,null,null,null,null,null,null,null,null,null,"","","",""]
["",null,null,null,0,0,0,"",null,"",null,"","","","",null,"",null,null,null,null,null,null,null,null,null,null,null,null,null,null,null,0,null,null,null,null,null,null,null,null,null,null,null,null,null,null,0,null,null,null,null,null,null,null,null,null,null,null,null,null,null,"","","",""]
["",null,null,null,0,0,0,"",null,"",null,"","","","",null,"",null,null,null,null,null,null,null,null,null,null,null,null,null,null,null,0,null,null,null,null,null,null,null,null,null,null,null,null,null,null,0,null,null,null,null,null,null,null,null,null,null,null,null,null,null,"","","",""]
[{"$f":"IF($I46=\"\",1,0)","v":1},null,null,"その他（要：備考欄への詳細記載）",0,0,0,null,null,null,null,null,0,0,0,null,null,null,null,null,null,null,null,null,null,null,null,null,null,null,null,null,0,null,null,null,null,null,null,null,null,null,null,null,null,null,null,0,null,null,null,null,null,null,null,null,null,null,null,null,null,null,null,"---","---","---"]
[{"$f":"IF($I47=\"\",1,0)","v":1},null,null,"その他（要：備考欄への詳細記載）",0,0,0,null,null,null,null,null,0,0,0,null,null,null,null,null,null,null,null,null,null,null,null,null,null,null,null,null,0,null,null,null,null,null,null,null,null,null,null,null,null,null,null,0,null,null,null,null,null,null,null,null,null,null,null,null,null,null,null,"---","---","---"]
[1,null,null,"その他（要：備考欄への詳細記載）",0,0,0,null,null,null,null,null,0,0,0,null,null,null,null,null,null,null,null,null,null,null,null,null,null,null,null,null,0,null,null,null,null,null,null,null,null,null,null,null,null,null,null,0,null,null,null,null,null,null,null,null,null,null,null,null,null,null,null,"---","---","---"]
[1,null,null,"その他（要：備考欄への詳細記載）",0,0,0,null,null,null,null,null,0,0,0,null,null,null,null,null,null,null,null,null,null,null,null,null,null,null,null,null,0,null,null,null,null,null,null,null,null,null,null,null,null,null,null,0,null,null,null,null,null,null,null,null,null,null,null,null,null,null,null,"---","---","---"]
[1,null,null,"その他（要：備考欄への詳細記載）",0,0,0,null,null,null,null,null,0,0,0,null,null,null,null,null,null,null,null,null,null,null,null,null,null,null,null,null,0,null,null,null,null,null,null,null,null,null,null,null,null,null,null,0,null,null,null,null,null,null,null,null,null,null,null,null,null,null,null,"---","---","---"]
[1,null,null,"その他（要：備考欄への詳細記載）",0,0,0,null,null,null,null,null,0,0,0,null,null,null,null,null,null,null,null,null,null,null,null,null,null,null,null,null,0,null,null,null,null,null,null,null,null,null,null,null,null,null,null,0,null,null,null,null,null,null,null,null,null,null,null,null,null,null,null,"---","---","---"]
[1,null,null,"その他（要：備考欄への詳細記載）",0,0,0,null,null,null,null,null,0,0,0,null,null,null,null,null,null,null,null,null,null,null,null,null,null,null,null,null,0,null,null,null,null,null,null,null,null,null,null,null,null,null,null,0,null,null,null,null,null,null,null,null,null,null,null,null,null,null,null,"---","---","---"]
[1,null,null,"その他（要：備考欄への詳細記載）",0,0,0,null,null,null,null,null,0,0,0,null,null,null,null,null,null,null,null,null,null,null,null,null,null,null,null,null,0,null,null,null,null,null,null,null,null,null,null,null,null,null,null,0,null,null,null,null,null,null,null,null,null,null,null,null,null,null,null,"---","---","---"]
[1,null,null,"その他（要：備考欄への詳細記載）",0,0,0,null,null,null,null,null,0,0,0,null,null,null,null,null,null,null,null,null,null,null,null,null,null,null,null,null,0,null,null,null,null,null,null,null,null,null,null,null,null,null,null,0,null,null,null,null,null,null,null,null,null,null,null,null,null,null,null,"---","---","---"]
[{"$f":"IF($I55=\"\",1,0)","v":1},null,null,"その他（要：備考欄への詳細記載）",0,0,0,null,null,null,null,null,0,0,0,null,null,null,null,null,null,null,null,null,null,null,null,null,null,null,null,null,0,null,null,null,null,null,null,null,null,null,null,null,null,null,null,{"$f":"AT55","v":0},null,null,null,null,null,null,null,null,null,null,null,null,null,null,null,"---","---","---"]
[null,"1) 年度開始時点の在庫量・月別の購買量・年度終了時点の在庫量・製品中への注入量は小数点以下を切り捨てずに記入してください。\n2) 活動種別が「その他」の場合には、指定されている行を使用し、活動量単位や係数等の必要な情報を入力してください。\n3) 記入欄が足りない場合には、下表に記入してください。",null,null,null,null,null,null,null,null,"CO2排出量の合計",null,{"$f":"SUM($M$31:$M$55)+SUM($M$63:$M$110)","v":0},{"$f":"SUM($N$31:$N$55)+SUM($N$63:$N$110)","v":0},{"$f":"SUM($O$31:$O$55)+SUM($O$63:$O$110)","v":0},null,null,null,null,null,null,null,null,null,null,null,null,null,null,null,null,null,null,null,null,null,null,null,null,null,null,null,null,null,null,null,null,null,null,null,null,null,null,null,null,null,null,null,null,null,null,null,"GJ換算量の合計(b)",{"$f":"SUM($BL31:$BL55)+SUM($BL63:$BL110)","v":0},{"$f":"SUM($BM31:$BM55)+SUM($BM63:$BM110)","v":0},{"$f":"SUM($BN31:$BN55)+SUM($BN63:$BN110)","v":0}]
[null,null,null,null,null,null,null,null,null,null,"エネルギー起源\nCO2排出量の合計(a)",null,{"$f":"SUMIFS($M31:$M55,$BK31:$BK55,\"対象\")+SUMIFS($M63:$M110,$BK63:$BK110,\"対象\")","v":0},{"$f":"SUMIFS($N31:$N55,$BK31:$BK55,\"対象\")+SUMIFS($N63:$N110,$BK63:$BK110,\"対象\")","v":0},{"$f":"SUMIFS($O31:$O55,$BK31:$BK55,\"対象\")+SUMIFS($O63:$O110,$BK63:$BK110,\"対象\")","v":0},null,null,null,null,null,null,null,null,null,null,null,null,null,null,null,null,null,null,null,null,null,null,null,null,null,null,null,null,null,null,null,null,null,null,null,null,null,null,null,null,null,null,null,null,null,null,null,"脱炭素化指標(a)/(b)",{"$f":"IFERROR($M57/$BL56,\"---\")","v":"---"},{"$f":"IFERROR($N57/$BM56,\"---\")","v":"---"},{"$f":"IFERROR($O57/$BN56,\"---\")","v":"---"}]
[]
[]
[null,"事業所No.","モニタリング\nポイント\nNo.","活動種別","活動量",null,null,null,"単位発熱量",null,"CO2排出係数",null,"CO2排出量[t-CO2]",null,null,"備考","活動量",{"$f":"$B$24","v":"事業報告年度:未選択"},null,null,null,null,null,null,null,null,null,null,null,null,null,null,{"$f":"$B$25","v":"事業報告年度:未選択"},null,null,null,null,null,null,null,null,null,null,null,null,null,null,{"$f":"$B$26","v":"事業報告年度:未選択"},null,null,null,null,null,null,null,null,null,null,null,null,null,null,"GJ換算"]
[null,null,null,null,null,null,null,null,null,null,null,null,null,null,null,null,null,"月別の購買量　※「活動量」の単位（I列）と整合するように記入ください。",null,null,null,null,null,null,null,null,null,null,null,null,null,null,"月別の購買量　※「活動量」の単位（I列）と整合するように記入ください。",null,null,null,null,null,null,null,null,null,null,null,null,null,null,"月別の購買量　※「活動量」の単位（I列）と整合するように記入ください。",null,null,null,null,null,null,null,null,null,null,null,null,null,null,"対象"]
[null,null,null,null,{"$f":"$B$24","v":"事業報告年度:未選択"},{"$f":"$B$25","v":"事業報告年度:未選択"},{"$f":"$B$26","v":"事業報告年度:未選択"},"単位","係数","単位","係数","単位",{"$f":"$B$24","v":"事業報告年度:未選択"},{"$f":"$B$25","v":"事業報告年度:未選択"},{"$f":"$B$26","v":"事業報告年度:未選択"},null,"把握対象","年度開始\n時点の\n在庫量","４月","５月","６月","７月","８月","９月","１０月","１１月","１２月","１月","２月","３月","年度終了\n時点の\n在庫量","製品中への注入量","年度開始\n時点の\n在庫量","４月","５月","６月","７月","８月","９月","１０月","１１月","１２月","１月","２月","３月","年度終了\n時点の\n在庫量","製品中への注入量","年度開始\n時点の\n在庫量","４月","５月","６月","７月","８月","９月","１０月","１１月","１２月","１月","２月","３月","年度終了\n時点の\n在庫量","製品中への注入量",null,{"$f":"$B$24","v":"事業報告年度:未選択"},{"$f":"$B$25","v":"事業報告年度:未選択"},{"$f":"$B$26","v":"事業報告年度:未選択"}]
[{"$f":"IF($D63=\"\",\"\",VLOOKUP($D63,活動の種別と単位,2,FALSE))","v":""},null,null,null,{"$f":"SUM($S63:$AD63)+($R63-$AE63)-$AF63","v":0},{"$f":"SUM($AH63:$AS63)+($AG63-$AT63)-$AU63","v":0},{"$f":"SUM($AW63:$BH63)+($AV63-$BI63)-$BJ63","v":0},{"$f":"IF($D63=\"\",\"\",VLOOKUP($D63,活動の種別と単位,4,FALSE))","v":""},null,{"$f":"IF($D63=\"\",\"\",VLOOKUP($D63,活動の種別と単位,5,FALSE))","v":""},null,{"$f":"IF($D63=\"\",\"\",VLOOKUP($D63,活動の種別と単位,6,FALSE))","v":""},{"$f":"IF($D63=\"\",\"\",IF($A63=0,$E63*$I63*$K63,$E63*$K63))","v":""},{"$f":"IF($D63=\"\",\"\",IF($A63=0,$F63*$I63*$K63,$F63*$K63))","v":""},{"$f":"IF($D63=\"\",\"\",IF($A63=0,$G63*$I63*$K63,$G63*$K63))","v":""},null,{"$f":"IF($D63=\"\",\"\",VLOOKUP($D63,活動の種別と単位,3,FALSE))","v":""},null,null,null,null,null,null,null,null,null,null,null,null,null,null,null,{"$f":"AE63","v":0},null,null,null,null,null,null,null,null,null,null,null,null,null,null,{"$f":"AT63","v":0},null,null,null,null,null,null,null,null,null,null,null,null,null,null,{"$f":"IF($D63=\"\",\"\",VLOOKUP($D63,活動の種別と単位,7,FALSE))","v":""},{"$f":"IF($D63=\"\",\"\",IF($BK63=\"対象\",IF(OR($D63=\"系統電力\",$D63=\"産業用蒸気\",$D63=\"温水\",$D63=\"冷水\",$D63=\"蒸気（産業用以外）\"),$E63*VLOOKUP($D63,電力等のGJ換算係数,2,FALSE),$E63*$I63),\"---\"))","v":""},{"$f":"IF($D63=\"\",\"\",IF($BK63=\"対象\",IF(OR($D63=\"系統電力\",$D63=\"産業用蒸気\",$D63=\"温水\",$D63=\"冷水\",$D63=\"蒸気（産業用以外）\"),$F63*VLOOKUP($D63,電力等のGJ換算係数,2,FALSE),$F63*$I63),\"---\"))","v":""},{"$f":"IF($D63=\"\",\"\",IF($BK63=\"対象\",IF(OR($D63=\"系統電力\",$D63=\"産業用蒸気\",$D63=\"温水\",$D63=\"冷水\",$D63=\"蒸気（産業用以外）\"),$G63*VLOOKUP($D63,電力等のGJ換算係数,2,FALSE),$G63*$I63),\"---\"))","v":""}]
["",null,null,null,{"$f":"SUM($S64:$AD64)+($R64-$AE64)-$AF64","v":0},{"$f":"SUM($AH64:$AS64)+($AG64-$AT64)-$AU64","v":0},{"$f":"SUM($AW64:$BH64)+($AV64-$BI64)-$BJ64","v":0},"",null,"",null,"","","","",null,"",null,null,null,null,null,null,null,null,null,null,null,null,null,null,null,{"$f":"AE64","v":0},null,null,null,null,null,null,null,null,null,null,null,null,null,null,{"$f":"AT64","v":0},null,null,null,null,null,null,null,null,null,null,null,null,null,null,"","","",""]
["",null,null,null,0,0,0,"",null,"",null,"","","","",null,"",null,null,null,null,null,null,null,null,null,null,null,null,null,null,null,0,null,null,null,null,null,null,null,null,null,null,null,null,null,null,0,null,null,null,null,null,null,null,null,null,null,null,null,null,null,"","","",""]
["",null,null,null,0,0,0,"",null,"",null,"","","","",null,"",null,null,null,null,null,null,null,null,null,null,null,null,null,null,null,0,null,null,null,null,null,null,null,null,null,null,null,null,null,null,0,null,null,null,null,null,null,null,null,null,null,null,null,null,null,"","","",""]
["",null,null,null,0,0,0,"",null,"",null,"","","","",null,"",null,null,null,null,null,null,null,null,null,null,null,null,null,null,null,0,null,null,null,null,null,null,null,null,null,null,null,null,null,null,0,null,null,null,null,null,null,null,null,null,null,null,null,null,null,"","","",""]
["",null,null,null,0,0,0,"",null,"",null,"","","","",null,"",null,null,null,null,null,null,null,null,null,null,null,null,null,null,null,0,null,null,null,null,null,null,null,null,null,null,null,null,null,null,0,null,null,null,null,null,null,null,null,null,null,null,null,null,null,"","","",""]
["",null,null,null,0,0,0,"",null,"",null,"","","","",null,"",null,null,null,null,null,null,null,null,null,null,null,null,null,null,null,0,null,null,null,null,null,null,null,null,null,null,null,null,null,null,0,null,null,null,null,null,null,null,null,null,null,null,null,null,null,"","","",""]
["",null,null,null,0,0,0,"",null,"",null,"","","","",null,"",null,null,null,null,null,null,null,null,null,null,null,null,null,null,null,0,null,null,null,null,null,null,null,null,null,null,null,null,null,null,0,null,null,null,null,null,null,null,null,null,null,null,null,null,null,"","","",""]
["",null,null,null,{"$f":"SUM($S71:$AD71)+($R71-$AE71)-$AF71","v":0},0,0,"",null,"",null,"","","","",null,"",null,null,null,null,null,null,null,null,null,null,null,null,null,null,null,0,null,null,null,null,null,null,null,null,null,null,null,null,null,null,0,null,null,null,null,null,null,null,null,null,null,null,null,null,null,"","","",""]
["",null,null,null,0,0,0,"",null,"",null,"","","","",null,"",null,null,null,null,null,null,null,null,null,null,null,null,null,null,null,0,null,null,null,null,null,null,null,null,null,null,null,null,null,null,0,null,null,null,null,null,null,null,null,null,null,null,null,null,null,"","","",""]
["",null,null,null,0,0,0,"",null,"",null,"","","","",null,"",null,null,null,null,null,null,null,null,null,null,null,null,null,null,null,0,null,null,null,null,null,null,null,null,null,null,null,null,null,null,0,null,null,null,null,null,null,null,null,null,null,null,null,null,null,"","","",""]
["",null,null,null,0,0,0,"",null,"",null,"","","","",null,"",null,null,null,null,null,null,null,null,null,null,null,null,null,null,null,0,null,null,null,null,null,null,null,null,null,null,null,null,null,null,0,null,null,null,null,null,null,null,null,null,null,null,null,null,null,"","","",""]
["",null,null,null,0,0,0,"",null,"",null,"","","","",null,"",null,null,null,null,null,null,null,null,null,null,null,null,null,null,null,0,null,null,null,null,null,null,null,null,null,null,null,null,null,null,0,null,null,null,null,null,null,null,null,null,null,null,null,null,null,"","","",""]
["",null,null,null,0,0,0,"",null,"",null,"","","","",null,"",null,null,null,null,null,null,null,null,null,null,null,null,null,null,null,0,null,null,null,null,null,null,null,null,null,null,null,null,null,null,0,null,null,null,null,null,null,null,null,null,null,null,null,null,null,"","","",""]
["",null,null,null,0,0,0,"",null,"",null,"","","","",null,"",null,null,null,null,null,null,null,null,null,null,null,null,null,null,null,0,null,null,null,null,null,null,null,null,null,null,null,null,null,null,0,null,null,null,null,null,null,null,null,null,null,null,null,null,null,"","","",""]
["",null,null,null,0,0,0,"",null,"",null,"","","","",null,"",null,null,null,null,null,null,null,null,null,null,null,null,null,null,null,0,null,null,null,null,null,null,null,null,null,null,null,null,null,null,0,null,null,null,null,null,null,null,null,null,null,null,null,null,null,"","","",""]
["",null,null,null,0,0,0,"",null,"",null,"","","","",null,"",null,null,null,null,null,null,null,null,null,null,null,null,null,null,null,0,null,null,null,null,null,null,null,null,null,null,null,null,null,null,0,null,null,null,null,null,null,null,null,null,null,null,null,null,null,"","","",""]
["",null,null,null,0,0,0,"",null,"",null,"","","","",null,"",null,null,null,null,null,null,null,null,null,null,null,null,null,null,null,0,null,null,null,null,null,null,null,null,null,null,null,null,null,null,0,null,null,null,null,null,null,null,null,null,null,null,null,null,null,"","","",""]
["",null,null,null,0,0,0,"",null,"",null,"","","","",null,"",null,null,null,null,null,null,null,null,null,null,null,null,null,null,null,0,null,null,null,null,null,null,null,null,null,null,null,null,null,null,0,null,null,null,null,null,null,null,null,null,null,null,null,null,null,"","","",""]
["",null,null,null,0,0,0,"",null,"",null,"","","","",null,"",null,null,null,null,null,null,null,null,null,null,null,null,null,null,null,0,null,null,null,null,null,null,null,null,null,null,null,null,null,null,0,null,null,null,null,null,null,null,null,null,null,null,null,null,null,"","","",""]
["",null,null,null,0,0,0,"",null,"",null,"","","","",null,"",null,null,null,null,null,null,null,null,null,null,null,null,null,null,null,0,null,null,null,null,null,null,null,null,null,null,null,null,null,null,0,null,null,null,null,null,null,null,null,null,null,null,null,null,null,"","","",""]
["",null,null,null,0,0,0,"",null,"",null,"","","","",null,"",null,null,null,null,null,null,null,null,null,null,null,null,null,null,null,0,null,null,null,null,null,null,null,null,null,null,null,null,null,null,0,null,null,null,null,null,null,null,null,null,null,null,null,null,null,"","","",""]
["",null,null,null,0,0,0,"",null,"",null,"","","","",null,"",null,null,null,null,null,null,null,null,null,null,null,null,null,null,null,0,null,null,null,null,null,null,null,null,null,null,null,null,null,null,0,null,null,null,null,null,null,null,null,null,null,null,null,null,null,"","","",""]
["",null,null,null,0,0,0,"",null,"",null,"","","","",null,"",null,null,null,null,null,null,null,null,null,null,null,null,null,null,null,0,null,null,null,null,null,null,null,null,null,null,null,null,null,null,0,null,null,null,null,null,null,null,null,null,null,null,null,null,null,"","","",""]
["",null,null,null,0,0,0,"",null,"",null,"","","","",null,"",null,null,null,null,null,null,null,null,null,null,null,null,null,null,null,0,null,null,null,null,null,null,null,null,null,null,null,null,null,null,0,null,null,null,null,null,null,null,null,null,null,null,null,null,null,"","","",""]
["",null,null,null,0,0,0,"",null,"",null,"","","","",null,"",null,null,null,null,null,null,null,null,null,null,null,null,null,null,null,0,null,null,null,null,null,null,null,null,null,null,null,null,null,null,0,null,null,null,null,null,null,null,null,null,null,null,null,null,null,"","","",""]
["",null,null,null,0,0,0,"",null,"",null,"","","","",null,"",null,null,null,null,null,null,null,null,null,null,null,null,null,null,null,0,null,null,null,null,null,null,null,null,null,null,null,null,null,null,0,null,null,null,null,null,null,null,null,null,null,null,null,null,null,"","","",""]
["",null,null,null,0,0,0,"",null,"",null,"","","","",null,"",null,null,null,null,null,null,null,null,null,null,null,null,null,null,null,0,null,null,null,null,null,null,null,null,null,null,null,null,null,null,0,null,null,null,null,null,null,null,null,null,null,null,null,null,null,"","","",""]
["",null,null,null,0,0,0,"",null,"",null,"","","","",null,"",null,null,null,null,null,null,null,null,null,null,null,null,null,null,null,0,null,null,null,null,null,null,null,null,null,null,null,null,null,null,0,null,null,null,null,null,null,null,null,null,null,null,null,null,null,"","","",""]
["",null,null,null,0,0,0,"",null,"",null,"","","","",null,"",null,null,null,null,null,null,null,null,null,null,null,null,null,null,null,0,null,null,null,null,null,null,null,null,null,null,null,null,null,null,0,null,null,null,null,null,null,null,null,null,null,null,null,null,null,"","","",""]
["",null,null,null,0,0,0,"",null,"",null,"","","","",null,"",null,null,null,null,null,null,null,null,null,null,null,null,null,null,null,0,null,null,null,null,null,null,null,null,null,null,null,null,null,null,0,null,null,null,null,null,null,null,null,null,null,null,null,null,null,"","","",""]
["",null,null,null,0,0,0,"",null,"",null,"","","","",null,"",null,null,null,null,null,null,null,null,null,null,null,null,null,null,null,0,null,null,null,null,null,null,null,null,null,null,null,null,null,null,0,null,null,null,null,null,null,null,null,null,null,null,null,null,null,"","","",""]
["",null,null,null,0,0,0,"",null,"",null,"","","","",null,"",null,null,null,null,null,null,null,null,null,null,null,null,null,null,null,0,null,null,null,null,null,null,null,null,null,null,null,null,null,null,0,null,null,null,null,null,null,null,null,null,null,null,null,null,null,"","","",""]
["",null,null,null,0,0,0,"",null,"",null,"","","","",null,"",null,null,null,null,null,null,null,null,null,null,null,null,null,null,null,0,null,null,null,null,null,null,null,null,null,null,null,null,null,null,0,null,null,null,null,null,null,null,null,null,null,null,null,null,null,"","","",""]
["",null,null,null,0,0,0,"",null,"",null,"","","","",null,"",null,null,null,null,null,null,null,null,null,null,null,null,null,null,null,0,null,null,null,null,null,null,null,null,null,null,null,null,null,null,0,null,null,null,null,null,null,null,null,null,null,null,null,null,null,"","","",""]
["",null,null,null,0,0,0,"",null,"",null,"","","","",null,"",null,null,null,null,null,null,null,null,null,null,null,null,null,null,null,0,null,null,null,null,null,null,null,null,null,null,null,null,null,null,0,null,null,null,null,null,null,null,null,null,null,null,null,null,null,"","","",""]
["",null,null,null,0,0,0,"",null,"",null,"","","","",null,"",null,null,null,null,null,null,null,null,null,null,null,null,null,null,null,0,null,null,null,null,null,null,null,null,null,null,null,null,null,null,0,null,null,null,null,null,null,null,null,null,null,null,null,null,null,"","","",""]
["",null,null,null,0,0,0,"",null,"",null,"","","","",null,"",null,null,null,null,null,null,null,null,null,null,null,null,null,null,null,0,null,null,null,null,null,null,null,null,null,null,null,null,null,null,0,null,null,null,null,null,null,null,null,null,null,null,null,null,null,"","","",""]
["",null,null,null,0,0,0,"",null,"",null,"","","","",null,"",null,null,null,null,null,null,null,null,null,null,null,null,null,null,null,0,null,null,null,null,null,null,null,null,null,null,null,null,null,null,0,null,null,null,null,null,null,null,null,null,null,null,null,null,null,"","","",""]
["",null,null,null,0,0,0,"",null,"",null,"","","","",null,"",null,null,null,null,null,null,null,null,null,null,null,null,null,null,null,0,null,null,null,null,null,null,null,null,null,null,null,null,null,null,0,null,null,null,null,null,null,null,null,null,null,null,null,null,null,"","","",""]
["",null,null,null,0,0,0,"",null,"",null,"","","","",null,"",null,null,null,null,null,null,null,null,null,null,null,null,null,null,null,0,null,null,null,null,null,null,null,null,null,null,null,null,null,null,0,null,null,null,null,null,null,null,null,null,null,null,null,null,null,"","","",""]
["",null,null,null,0,0,0,"",null,"",null,"","","","",null,"",null,null,null,null,null,null,null,null,null,null,null,null,null,null,null,0,null,null,null,null,null,null,null,null,null,null,null,null,null,null,0,null,null,null,null,null,null,null,null,null,null,null,null,null,null,"","","",""]
["",null,null,null,0,0,0,"",null,"",null,"","","","",null,"",null,null,null,null,null,null,null,null,null,null,null,null,null,null,null,0,null,null,null,null,null,null,null,null,null,null,null,null,null,null,0,null,null,null,null,null,null,null,null,null,null,null,null,null,null,"","","",""]
["",null,null,null,0,0,0,"",null,"",null,"","","","",null,"",null,null,null,null,null,null,null,null,null,null,null,null,null,null,null,0,null,null,null,null,null,null,null,null,null,null,null,null,null,null,0,null,null,null,null,null,null,null,null,null,null,null,null,null,null,"","","",""]
["",null,null,null,0,0,0,"",null,"",null,"","","","",null,"",null,null,null,null,null,null,null,null,null,null,null,null,null,null,null,0,null,null,null,null,null,null,null,null,null,null,null,null,null,null,0,null,null,null,null,null,null,null,null,null,null,null,null,null,null,"","","",""]
["",null,null,null,0,0,0,"",null,"",null,"","","","",null,"",null,null,null,null,null,null,null,null,null,null,null,null,null,null,null,0,null,null,null,null,null,null,null,null,null,null,null,null,null,null,0,null,null,null,null,null,null,null,null,null,null,null,null,null,null,"","","",""]
["",null,null,null,0,0,0,"",null,"",null,"","","","",null,"",null,null,null,null,null,null,null,null,null,null,null,null,null,null,null,0,null,null,null,null,null,null,null,null,null,null,null,null,null,null,0,null,null,null,null,null,null,null,null,null,null,null,null,null,null,"","","",""]
["",null,null,null,0,0,0,"",null,"",null,"","","","",null,"",null,null,null,null,null,null,null,null,null,null,null,null,null,null,null,0,null,null,null,null,null,null,null,null,null,null,null,null,null,null,0,null,null,null,null,null,null,null,null,null,null,null,null,null,null,"","","",""]

{"sheet":"別紙2_計画進捗","index":3,"n_rows":58,"n_cols":115,"rows_kept":58,"cut":false,"hidden":false,"merged":[[19,65,19,79],[19,80,19,94],[19,95,19,109],[40,95,42,97],[40,98,42,98],[40,99,42,99],[40,100,42,100],[40,101,42,101],[40,102,42,102],[40,103,40,107],[40,108,42,108],[40,109,42,109],[20,95,22,97],[20,98,22,98],[20,99,22,99],[20,100,22,100],[20,101,22,101],[20,102,22,102],[20,103,20,107],[20,108,22,108],[20,109,22,109],[40,80,42,82],[40,83,42,83],[40,84,42,84],[40,85,42,85],[40,86,42,86],[40,87,42,87],[40,88,40,92],[40,93,42,93],[40,94,42,94],[20,87,22,87],[20,88,20,92],[20,93,22,93],[20,94,22,94],[20,79,22,79],[40,79,42,79],[20,80,22,82],[20,83,22,83],[20,84,22,84],[20,85,22,85],[20,86,22,86],[20,57,22,64],[19,1,19,64],[20,1,22,7],[20,8,22,27],[20,28,22,29],[20,30,22,34],[20,35,22,38],[20,39,22,41],[20,42,20,56],[22,42,22,44],[22,45,22,47],[22,48,22,50],[22,51,22,53],[22,54,22,56],[21,42,21,44],[21,45,21,47],[21,48,21,50],[21,51,21,53],[21,54,21,56],[24,57,24,64],[25,2,25,3],[25,4,25,7],[25,8,25,27],[25,28,25,29],[25,30,25,34],[25,35,25,38],[25,39,25,41],[25,42,25,44],[25,45,25,47],[24,39,24,41],[24,42,24,44],[24,45,24,47],[24,48,24,50],[24,51,24,53],[24,54,24,56],[24,2,24,3],[24,4,24,7],[24,8,24,27],[24,28,24,29],[24,30,24,34],[24,35,24,38],[25,48,25,50],[25,51,25,53],[25,54,25,56],[25,57,25,64],[26,2,26,3],[26,4,26,7],[26,8,26,27],[26,28,26,29],[26,30,26,34],[26,35,26,38],[26,57,26,64],[26,39,26,41],[26,42,26,44],[26,45,26,47],[26,48,26,50],[26,51,26,53],[26,54,26,56],[27,57,27,64],[28,2,28,3],[28,4,28,7],[28,8,28,27],[28,28,28,29],[28,30,28,34],[28,35,28,38],[28,57,28,64],[28,39,28,41],[28,42,28,44],[28,45,28,47],[28,48,28,50],[28,51,28,53],[28,54,28,56],[27,2,27,3],[27,4,27,7],[27,8,27,27],[27,28,27,29],[27,30,27,34],[27,35,27,38],[27,39,27,41],[27,42,27,44],[27,45,27,47],[29,2,29,3],[29,4,29,7],[29,8,29,27],[29,28,29,29],[29,30,29,34],[29,35,29,38],[29,39,29,41],[29,42,29,44],[29,45,29,47],[30,2,30,3],[30,4,30,7],[30,8,30,27],[30,28,30,29],[30,30,30,34],[30,35,30,38],[30,57,30,64],[30,39,30,41],[30,42,30,44],[30,45,30,47],[30,48,30,50],[30,51,30,53],[30,54,30,56],[32,2,32,3],[32,4,32,7],[32,8,32,27],[32,28,32,29],[32,30,32,34],[32,35,32,38],[32,39,32,41],[32,42,32,44],[32,45,32,47],[33,2,33,3],[33,4,33,7],[33,8,33,27],[33,28,33,29],[33,30,33,34],[33,35,33,38],[33,57,33,64],[33,39,33,41],[33,42,33,44],[33,45,33,47],[33,48,33,50],[33,51,33,53],[33,54,33,56],[34,2,34,3],[34,4,34,7],[34,8,34,27],[34,28,34,29],[34,30,34,34],[34,35,34,38],[34,39,34,41],[34,42,34,44],[34,45,34,47],[36,2,36,3],[36,4,36,7],[36,8,36,27],[36,28,36,29],[36,30,36,34],[36,35,36,38],[36,57,36,64],[36,39,36,41],[36,42,36,44],[36,45,36,47],[36,48,36,50],[36,51,36,53],[36,54,36,56],[37,2,37,3],[37,4,37,7],[37,8,37,27],[37,28,37,29],[37,30,37,34],[37,35,37,38],[37,39,37,41],[37,42,37,44],[37,45,37,47],[40,1,42,7],[40,8,42,27],[40,28,42,29],[40,30,42,34],[40,35,42,38],[40,39,42,41],[42,42,42,44],[42,45,42,47],[42,48,42,50],[41,42,41,44],[41,45,41,47],[41,48,41,50],[44,39,44,41],[44,42,44,44],[44,45,44,47],[44,48,44,50],[44,51,44,53],[44,54,44,56],[44,2,44,3],[44,4,44,7],[44,8,44,27],[44,28,44,29],[44,30,44,34],[44,35,44,38],[45,2,45,3],[45,4,45,7],[45,8,45,27],[45,28,45,29],[45,30,45,34],[45,35,45,38],[45,39,45,41],[45,42,45,44],[45,45,45,47],[46,2,46,3],[46,4,46,7],[46,8,46,27],[46,28,46,29],[46,30,46,34],[46,35,46,38],[46,57,46,64],[46,39,46,41],[46,42,46,44],[46,45,46,47],[46,48,46,50],[46,51,46,53],[46,54,46,56],[47,2,47,3],[47,4,47,7],[47,8,47,27],[47,28,47,29],[47,30,47,34],[47,35,47,38],[47,39,47,41],[47,42,47,44],[47,45,47,47],[48,39,48,41],[48,42,48,44],[48,45,48,47],[48,48,48,50],[48,51,48,53],[48,54,48,56],[48,2,48,3],[48,4,48,7],[48,8,48,27],[48,28,48,29],[48,30,48,34],[48,35,48,38],[49,2,49,3],[49,4,49,7],[49,8,49,27],[49,28,49,29],[49,30,49,34],[49,35,49,38],[49,39,49,41],[49,42,49,44],[49,45,49,47],[50,39,50,41],[50,42,50,44],[50,45,50,47],[50,48,50,50],[50,51,50,53],[50,54,50,56],[50,2,50,3],[50,4,50,7],[50,8,50,27],[50,28,50,29],[50,30,50,34],[50,35,50,38],[53,45,53,47],[53,48,53,50],[53,51,53,53],[53,54,53,56],[53,2,53,3],[53,4,53,7],[52,2,52,3],[52,4,52,7],[52,8,52,27],[52,28,52,29],[52,30,52,34],[52,35,52,38],[52,39,52,41],[52,42,52,44],[52,45,52,47],[53,8,53,27],[53,28,53,29],[53,30,53,34],[53,35,53,38],[53,39,53,41],[53,42,53,44],[57,45,57,47],[57,2,57,3],[57,4,57,7],[57,8,57,27],[57,28,57,29],[57,30,57,34],[57,35,57,38],[56,2,56,3],[56,4,56,7],[56,8,56,27],[56,28,56,29],[56,30,56,34],[56,35,56,38],[56,45,56,47],[54,2,54,3],[54,4,54,7],[54,8,54,27],[54,28,54,29],[54,30,54,34],[54,35,54,38],[57,39,57,41],[57,42,57,44],[56,39,56,41],[56,42,56,44],[56,48,56,50],[56,51,56,53],[56,54,56,56],[54,48,54,50],[54,51,54,53],[54,54,54,56],[54,39,54,41],[54,42,54,44],[54,45,54,47],[44,57,44,64],[45,48,45,50],[45,51,45,53],[57,48,57,50],[57,51,57,53],[57,54,57,56],[57,57,57,64],[20,65,22,67],[20,68,22,68],[53,57,53,64],[34,51,34,53],[34,54,34,56],[34,57,34,64],[32,48,32,50],[32,51,32,53],[32,54,32,56],[32,57,32,64],[29,48,29,50],[29,51,29,53],[29,54,29,56],[29,57,29,64],[27,48,27,50],[27,51,27,53],[27,54,27,56],[41,51,41,53],[41,54,41,56],[34,48,34,50],[20,69,22,69],[20,70,22,70],[20,71,22,71],[56,57,56,64],[54,57,54,64],[52,48,52,50],[52,51,52,53],[52,54,52,56],[52,57,52,64],[49,48,49,50],[49,51,49,53],[49,54,49,56],[49,57,49,64],[47,48,47,50],[47,51,47,53],[47,54,47,56],[47,57,47,64],[50,57,50,64],[48,57,48,64],[45,54,45,56],[45,57,45,64],[14,1,14,8],[15,1,15,8],[16,1,16,8],[7,9,7,41],[8,9,8,41],[20,72,22,72],[20,73,20,77],[20,78,22,78],[40,65,42,67],[40,68,42,68],[40,69,42,69],[40,70,42,70],[40,71,42,71],[40,72,42,72],[40,73,40,77],[40,78,42,78],[40,42,40,56],[40,57,42,64],[37,48,37,50],[37,51,37,53],[37,54,37,56],[37,57,37,64],[42,51,42,53],[42,54,42,56]]}
[null,null,null,null,null,null,null,null,null,null,null,null,null,null,null,null,null,null,null,null,null,null,null,null,null,null,null,null,null,null,null,null,null,null,null,null,null,null,null,null,null,null,null,null,null,null,null,null,null,null,null,null,null,null,null,null,null,null,null,null,null,null,null,null,null,null,null,null,null,null,null,null,null,null,null,null,null,null,null,null,null,null,null,null,null,null,null,null,null,null,null,null,null,null,null,null,null,null,null,null,null,null,null,null,null,null,null,null,null,null,null,null,null,null,"セル色表示／非表示"]
[null,null,null,null,null,null,null,null,null,null,null,null,null,null,null,null,null,null,null,null,null,null,null,null,null,null,null,null,null,null,null,null,null,null,null,null,null,null,null,null,null,null,null,null,null,null,null,null,null,null,null,null,null,null,null,null,null,null,null,null,null,null,null,null,null,null,null,null,null,null,null,null,null,null,null,null,null,null,null,null,null,null,null,null,null,null,null,null,null,null,null,null,null,null,null,null,null,null,null,null,null,null,null,null,null,null,null,null,null,null,null,null,null,null,false]
[]
[null,"環境省　令和３年度二酸化炭素排出抑制対策事業費等補助金 （工場・事業場における先導的な脱炭素化取組推進事業のうち設備更新補助事業）"]
[]
[null,"【事業報告書】 別紙2_脱炭素化計画の進捗状況"]
[]
[null,"事業者名（法人名）",null,null,null,null,null,null,null,{"$f":"IF(事業報告書まとめ_設備更新!$J$7=\"\",\"\",事業報告書まとめ_設備更新!$J$7)","v":""}]
[null,"工場・事業場名",null,null,null,null,null,null,null,{"$f":"IF(事業報告書まとめ_設備更新!$J$9=\"\",\"\",事業報告書まとめ_設備更新!$J$9)","v":""}]
[]
[]
[null,"■脱炭素化計画の進捗状況"]
[]
[null,"チェックを外すと、当該年度分が非表示となります。チェックを入れると再表示されます。"]
[null,{"$f":"IF(COUNTIF(事業報告書まとめ_設備更新!$E$38,\"*選択*\"),\"事業報告年度:未選択\",事業報告書まとめ_設備更新!$E$38)","v":"事業報告年度:未選択"},null,null,null,null,null,null,null,null,null,null,{"$f":"MID(CELL(\"address\",$BN$19),2,2)&\":\"&MID(CELL(\"address\",$CB$19),2,2)","v":"BN:CB"}]
[null,{"$f":"IF(COUNTIF(事業報告書まとめ_設備更新!$E$39,\"*選択*\"),\"事業報告年度:未選択\",事業報告書まとめ_設備更新!$E$39)","v":"事業報告年度:未選択"},null,null,null,null,null,null,null,null,null,null,{"$f":"MID(CELL(\"address\",$CC$19),2,2)&\":\"&MID(CELL(\"address\",$CQ$19),2,2)","v":"CC:CQ"}]
[null,{"$f":"IF(COUNTIF(事業報告書まとめ_設備更新!$E$40,\"*選択*\"),\"事業報告年度:未選択\",事業報告書まとめ_設備更新!$E$40)","v":"事業報告年度:未選択"},null,null,null,null,null,null,null,null,null,null,{"$f":"MID(CELL(\"address\",$CR$19),2,2)&\":\"&MID(CELL(\"address\",$DF$19),2,2)","v":"CR:DF"}]
[]
[]
[null,"設備更新補助採択時点",null,null,null,null,null,null,null,null,null,null,null,null,null,null,null,null,null,null,null,null,null,null,null,null,null,null,null,null,null,null,null,null,null,null,null,null,null,null,null,null,null,null,null,null,null,null,null,null,null,null,null,null,null,null,null,null,null,null,null,null,null,null,null,{"$f":"$B$15","v":"事業報告年度:未選択"},null,null,null,null,null,null,null,null,null,null,null,null,null,null,{"$f":"$B$16","v":"事業報告年度:未選択"},null,null,null,null,null,null,null,null,null,null,null,null,null,null,{"$f":"$B$17","v":"事業報告年度:未選択"}]
[null,"対策の種類\n[対策個票番号]",null,null,null,null,null,null,"対策名称",null,null,null,null,null,null,null,null,null,null,null,null,null,null,null,null,null,null,null,"主要\nシステム\n系統",null,"申請予定\n補助金",null,null,null,null,"対策着手\n時期",null,null,null,"年間CO2\n削減量",null,null,"計画年度・CO2削減量",null,null,null,null,null,null,null,null,null,null,null,null,null,null,"以降の活動予定",null,null,null,null,null,null,null,"対策の種類\n[対策個票番号]",null,null,"対策名称","主要\nシステム\n系統","申請予定\n補助金","対策着手\n時期","年間CO2\n削減量","計画年度・CO2削減量",null,null,null,null,"以降の活動予定","変更理由・備考","対策の種類\n[対策個票番号]",null,null,"対策名称","主要\nシステム\n系統","申請予定\n補助金","対策着手\n時期","年間CO2\n削減量","計画年度・CO2削減量",null,null,null,null,"以降の活動予定","変更理由・備考","対策の種類\n[対策個票番号]",null,null,"対策名称","主要\nシステム\n系統","申請予定\n補助金","対策着手\n時期","年間CO2\n削減量","計画年度・CO2削減量",null,null,null,null,"以降の活動予定","変更理由・備考"]
[null,null,null,null,null,null,null,null,null,null,null,null,null,null,null,null,null,null,null,null,null,null,null,null,null,null,null,null,null,null,null,null,null,null,null,null,null,null,null,null,null,null,{"$f":"IF(基本データ転記先シート!$J$46=\"\",\"\",基本データ転記先シート!$J$46)","v":""},null,null,{"$f":"IF(基本データ転記先シート!$K$46=\"\",\"\",基本データ転記先シート!$K$46)","v":""},null,null,{"$f":"IF(基本データ転記先シート!$L$46=\"\",\"\",基本データ転記先シート!$L$46)","v":""},null,null,{"$f":"IF(基本データ転記先シート!$M$46=\"\",\"\",基本データ転記先シート!$M$46)","v":""},null,null,{"$f":"IF(基本データ転記先シート!$N$46=\"\",\"\",基本データ転記先シート!$N$46)","v":""}]
[null,null,null,null,null,null,null,null,null,null,null,null,null,null,null,null,null,null,null,null,null,null,null,null,null,null,null,null,null,null,null,null,null,null,null,null,null,null,null,null,null,null,{"$f":"IF(基本データ転記先シート!$J$47=\"\",\"\",基本データ転記先シート!$J$47)","v":""},null,null,{"$f":"IF(基本データ転記先シート!$K$47=\"\",\"\",基本データ転記先シート!$K$47)","v":""},null,null,{"$f":"IF(基本データ転記先シート!$L$47=\"\",\"\",基本データ転記先シート!$L$47)","v":""},null,null,{"$f":"IF(基本データ転記先シート!$M$47=\"\",\"\",基本データ転記先シート!$M$47)","v":""},null,null,{"$f":"IF(基本データ転記先シート!$N$47=\"\",\"\",基本データ転記先シート!$N$47)","v":""}]
[null,"省エネルギー",null,null,null,null,null,null,null,null,null,null,null,null,null,null,null,null,null,null,null,null,null,null,null,null,null,null,null,null,null,null,null,null,null,null,null,null,null,null,null,null,null,null,null,null,null,null,null,null,null,null,null,null,null,null,null,null,null,null,null,null,null,null,null,"省エネルギー",null,null,null,null,null,null,null,null,null,null,null,null,null,null,"省エネルギー",null,null,null,null,null,null,null,null,null,null,null,null,null,null,"省エネルギー",null,null,null,null,null,null,null,null,null,null,null,null,null,null,null,null,null,null,"対策メニュー番号"]
[null,null,{"$f":"IF(基本データ転記先シート!$C$48=\"\",\"\",基本データ転記先シート!$C$48)","v":""},null,{"$f":"IF(基本データ転記先シート!$D$48=\"\",\"\",基本データ転記先シート!$D$48)","v":""},null,null,null,{"$f":"IF(基本データ転記先シート!$E$48=\"\",\"\",基本データ転記先シート!$E$48)","v":""},null,null,null,null,null,null,null,null,null,null,null,null,null,null,null,null,null,null,null,{"$f":"IF(基本データ転記先シート!$F$48=\"\",\"\",基本データ転記先シート!$F$48)","v":""},null,{"$f":"IF(基本データ転記先シート!$G$48=\"\",\"\",基本データ転記先シート!$G$48)","v":""},null,null,null,null,{"$f":"IF(基本データ転記先シート!$H$48=\"\",\"\",基本データ転記先シート!$H$48)","v":""},null,null,null,{"$f":"IF(基本データ転記先シート!$I$48=\"\",\"\",基本データ転記先シート!$I$48)","v":""},null,null,{"$f":"IF(基本データ転記先シート!$J$48=\"\",\"\",基本データ転記先シート!$J$48)","v":""},null,null,{"$f":"IF(基本データ転記先シート!$K$48=\"\",\"\",基本データ転記先シート!$K$48)","v":""},null,null,{"$f":"IF(基本データ転記先シート!$L$48=\"\",\"\",基本データ転記先シート!$L$48)","v":""},null,null,{"$f":"IF(基本データ転記先シート!$M$48=\"\",\"\",基本データ転記先シート!$M$48)","v":""},null,null,{"$f":"IF(基本データ転記先シート!$N$48=\"\",\"\",基本データ転記先シート!$N$48)","v":""},null,null,{"$f":"IF(基本データ転記先シート!$O$48=\"\",\"\",基本データ転記先シート!$O$48)","v":""},null,null,null,null,null,null,null,null,null,null,null,null,null,null,null,null,null,null,null,null,null,null,null,null,null,null,null,null,null,null,null,null,null,null,null,null,null,null,null,null,null,null,null,null,null,null,null,null,null,null,null,null,null,null,null,null,{"$f":"IF(基本データ転記先シート!$Q48=\"\",\"\",基本データ転記先シート!$Q48)","v":""}]
[null,null,{"$f":"IF(基本データ転記先シート!$C$49=\"\",\"\",基本データ転記先シート!$C$49)","v":""},null,{"$f":"IF(基本データ転記先シート!$D$49=\"\",\"\",基本データ転記先シート!$D$49)","v":""},null,null,null,{"$f":"IF(基本データ転記先シート!$E$49=\"\",\"\",基本データ転記先シート!$E$49)","v":""},null,null,null,null,null,null,null,null,null,null,null,null,null,null,null,null,null,null,null,{"$f":"IF(基本データ転記先シート!$F$49=\"\",\"\",基本データ転記先シート!$F$49)","v":""},null,{"$f":"IF(基本データ転記先シート!$G$49=\"\",\"\",基本データ転記先シート!$G$49)","v":""},null,null,null,null,{"$f":"IF(基本データ転記先シート!$H$49=\"\",\"\",基本データ転記先シート!$H$49)","v":""},null,null,null,{"$f":"IF(基本データ転記先シート!$I$49=\"\",\"\",基本データ転記先シート!$I$49)","v":""},null,null,{"$f":"IF(基本データ転記先シート!$J$49=\"\",\"\",基本データ転記先シート!$J$49)","v":""},null,null,{"$f":"IF(基本データ転記先シート!$K$49=\"\",\"\",基本データ転記先シート!$K$49)","v":""},null,null,{"$f":"IF(基本データ転記先シート!$L$49=\"\",\"\",基本データ転記先シート!$L$49)","v":""},null,null,{"$f":"IF(基本データ転記先シート!$M$49=\"\",\"\",基本データ転記先シート!$M$49)","v":""},null,null,{"$f":"IF(基本データ転記先シート!$N$49=\"\",\"\",基本データ転記先シート!$N$49)","v":""},null,null,{"$f":"IF(基本データ転記先シート!$O$49=\"\",\"\",基本データ転記先シート!$O$49)","v":""},null,null,null,null,null,null,null,null,null,null,null,null,null,null,null,null,null,null,null,null,null,null,null,null,null,null,null,null,null,null,null,null,null,null,null,null,null,null,null,null,null,null,null,null,null,null,null,null,null,null,null,null,null,null,null,null,{"$f":"IF(基本データ転記先シート!$Q49=\"\",\"\",基本データ転記先シート!$Q49)","v":""}]
[null,null,{"$f":"IF(基本データ転記先シート!$C$50=\"\",\"\",基本データ転記先シート!$C$50)","v":""},null,{"$f":"IF(基本データ転記先シート!$D$50=\"\",\"\",基本データ転記先シート!$D$50)","v":""},null,null,null,{"$f":"IF(基本データ転記先シート!$E$50=\"\",\"\",基本データ転記先シート!$E$50)","v":""},null,null,null,null,null,null,null,null,null,null,null,null,null,null,null,null,null,null,null,{"$f":"IF(基本データ転記先シート!$F$50=\"\",\"\",基本データ転記先シート!$F$50)","v":""},null,{"$f":"IF(基本データ転記先シート!$G$50=\"\",\"\",基本データ転記先シート!$G$50)","v":""},null,null,null,null,{"$f":"IF(基本データ転記先シート!$H$50=\"\",\"\",基本データ転記先シート!$H$50)","v":""},null,null,null,{"$f":"IF(基本データ転記先シート!$I$50=\"\",\"\",基本データ転記先シート!$I$50)","v":""},null,null,{"$f":"IF(基本データ転記先シート!$J$50=\"\",\"\",基本データ転記先シート!$J$50)","v":""},null,null,{"$f":"IF(基本データ転記先シート!$K$50=\"\",\"\",基本データ転記先シート!$K$50)","v":""},null,null,{"$f":"IF(基本データ転記先シート!$L$50=\"\",\"\",基本データ転記先シート!$L$50)","v":""},null,null,{"$f":"IF(基本データ転記先シート!$M$50=\"\",\"\",基本データ転記先シート!$M$50)","v":""},null,null,{"$f":"IF(基本データ転記先シート!$N$50=\"\",\"\",基本データ転記先シート!$N$50)","v":""},null,null,{"$f":"IF(基本データ転記先シート!$O$50=\"\",\"\",基本データ転記先シート!$O$50)","v":""},null,null,null,null,null,null,null,null,null,null,null,null,null,null,null,null,null,null,null,null,null,null,null,null,null,null,null,null,null,null,null,null,null,null,null,null,null,null,null,null,null,null,null,null,null,null,null,null,null,null,null,null,null,null,null,null,{"$f":"IF(基本データ転記先シート!$Q50=\"\",\"\",基本データ転記先シート!$Q50)","v":""}]
[null,null,{"$f":"IF(基本データ転記先シート!$C$51=\"\",\"\",基本データ転記先シート!$C$51)","v":""},null,{"$f":"IF(基本データ転記先シート!$D$51=\"\",\"\",基本データ転記先シート!$D$51)","v":""},null,null,null,{"$f":"IF(基本データ転記先シート!$E$51=\"\",\"\",基本データ転記先シート!$E$51)","v":""},null,null,null,null,null,null,null,null,null,null,null,null,null,null,null,null,null,null,null,{"$f":"IF(基本データ転記先シート!$F$51=\"\",\"\",基本データ転記先シート!$F$51)","v":""},null,{"$f":"IF(基本データ転記先シート!$G$51=\"\",\"\",基本データ転記先シート!$G$51)","v":""},null,null,null,null,{"$f":"IF(基本データ転記先シート!$H$51=\"\",\"\",基本データ転記先シート!$H$51)","v":""},null,null,null,{"$f":"IF(基本データ転記先シート!$I$51=\"\",\"\",基本データ転記先シート!$I$51)","v":""},null,null,{"$f":"IF(基本データ転記先シート!$J$51=\"\",\"\",基本データ転記先シート!$J$51)","v":""},null,null,{"$f":"IF(基本データ転記先シート!$K$51=\"\",\"\",基本データ転記先シート!$K$51)","v":""},null,null,{"$f":"IF(基本データ転記先シート!$L$51=\"\",\"\",基本データ転記先シート!$L$51)","v":""},null,null,{"$f":"IF(基本データ転記先シート!$M$51=\"\",\"\",基本データ転記先シート!$M$51)","v":""},null,null,{"$f":"IF(基本データ転記先シート!$N$51=\"\",\"\",基本データ転記先シート!$N$51)","v":""},null,null,{"$f":"IF(基本データ転記先シート!$O$51=\"\",\"\",基本データ転記先シート!$O$51)","v":""},null,null,null,null,null,null,null,null,null,null,null,null,null,null,null,null,null,null,null,null,null,null,null,null,null,null,null,null,null,null,null,null,null,null,null,null,null,null,null,null,null,null,null,null,null,null,null,null,null,null,null,null,null,null,null,null,{"$f":"IF(基本データ転記先シート!$Q51=\"\",\"\",基本データ転記先シート!$Q51)","v":""}]
[null,null,{"$f":"IF(基本データ転記先シート!$C$52=\"\",\"\",基本データ転記先シート!$C$52)","v":""},null,{"$f":"IF(基本データ転記先シート!$D$52=\"\",\"\",基本データ転記先シート!$D$52)","v":""},null,null,null,{"$f":"IF(基本データ転記先シート!$E$52=\"\",\"\",基本データ転記先シート!$E$52)","v":""},null,null,null,null,null,null,null,null,null,null,null,null,null,null,null,null,null,null,null,{"$f":"IF(基本データ転記先シート!$F$52=\"\",\"\",基本データ転記先シート!$F$52)","v":""},null,{"$f":"IF(基本データ転記先シート!$G$52=\"\",\"\",基本データ転記先シート!$G$52)","v":""},null,null,null,null,{"$f":"IF(基本データ転記先シート!$H$52=\"\",\"\",基本データ転記先シート!$H$52)","v":""},null,null,null,{"$f":"IF(基本データ転記先シート!$I$52=\"\",\"\",基本データ転記先シート!$I$52)","v":""},null,null,{"$f":"IF(基本データ転記先シート!$J$52=\"\",\"\",基本データ転記先シート!$J$52)","v":""},null,null,{"$f":"IF(基本データ転記先シート!$K$52=\"\",\"\",基本データ転記先シート!$K$52)","v":""},null,null,{"$f":"IF(基本データ転記先シート!$L$52=\"\",\"\",基本データ転記先シート!$L$52)","v":""},null,null,{"$f":"IF(基本データ転記先シート!$M$52=\"\",\"\",基本データ転記先シート!$M$52)","v":""},null,null,{"$f":"IF(基本データ転記先シート!$N$52=\"\",\"\",基本データ転記先シート!$N$52)","v":""},null,null,{"$f":"IF(基本データ転記先シート!$O$52=\"\",\"\",基本データ転記先シート!$O$52)","v":""},null,null,null,null,null,null,null,null,null,null,null,null,null,null,null,null,null,null,null,null,null,null,null,null,null,null,null,null,null,null,null,null,null,null,null,null,null,null,null,null,null,null,null,null,null,null,null,null,null,null,null,null,null,null,null,null,{"$f":"IF(基本データ転記先シート!$Q52=\"\",\"\",基本データ転記先シート!$Q52)","v":""}]
[null,null,{"$f":"IF(基本データ転記先シート!$C$53=\"\",\"\",基本データ転記先シート!$C$53)","v":""},null,{"$f":"IF(基本データ転記先シート!$D$53=\"\",\"\",基本データ転記先シート!$D$53)","v":""},null,null,null,{"$f":"IF(基本データ転記先シート!$E$53=\"\",\"\",基本データ転記先シート!$E$53)","v":""},null,null,null,null,null,null,null,null,null,null,null,null,null,null,null,null,null,null,null,{"$f":"IF(基本データ転記先シート!$F$53=\"\",\"\",基本データ転記先シート!$F$53)","v":""},null,{"$f":"IF(基本データ転記先シート!$G$53=\"\",\"\",基本データ転記先シート!$G$53)","v":""},null,null,null,null,{"$f":"IF(基本データ転記先シート!$H$53=\"\",\"\",基本データ転記先シート!$H$53)","v":""},null,null,null,{"$f":"IF(基本データ転記先シート!$I$53=\"\",\"\",基本データ転記先シート!$I$53)","v":""},null,null,{"$f":"IF(基本データ転記先シート!$J$53=\"\",\"\",基本データ転記先シート!$J$53)","v":""},null,null,{"$f":"IF(基本データ転記先シート!$K$53=\"\",\"\",基本データ転記先シート!$K$53)","v":""},null,null,{"$f":"IF(基本データ転記先シート!$L$53=\"\",\"\",基本データ転記先シート!$L$53)","v":""},null,null,{"$f":"IF(基本データ転記先シート!$M$53=\"\",\"\",基本データ転記先シート!$M$53)","v":""},null,null,{"$f":"IF(基本データ転記先シート!$N$53=\"\",\"\",基本データ転記先シート!$N$53)","v":""},null,null,{"$f":"IF(基本データ転記先シート!$O$53=\"\",\"\",基本データ転記先シート!$O$53)","v":""},null,null,null,null,null,null,null,null,null,null,null,null,null,null,null,null,null,null,null,null,null,null,null,null,null,null,null,null,null,null,null,null,null,null,null,null,null,null,null,null,null,null,null,null,null,null,null,null,null,null,null,null,null,null,null,null,{"$f":"IF(基本データ転記先シート!$Q53=\"\",\"\",基本データ転記先シート!$Q53)","v":""}]
[null,null,{"$f":"IF(基本データ転記先シート!$C$54=\"\",\"\",基本データ転記先シート!$C$54)","v":""},null,{"$f":"IF(基本データ転記先シート!$D$54=\"\",\"\",基本データ転記先シート!$D$54)","v":""},null,null,null,{"$f":"IF(基本データ転記先シート!$E$54=\"\",\"\",基本データ転記先シート!$E$54)","v":""},null,null,null,null,null,null,null,null,null,null,null,null,null,null,null,null,null,null,null,{"$f":"IF(基本データ転記先シート!$F$54=\"\",\"\",基本データ転記先シート!$F$54)","v":""},null,{"$f":"IF(基本データ転記先シート!$G$54=\"\",\"\",基本データ転記先シート!$G$54)","v":""},null,null,null,null,{"$f":"IF(基本データ転記先シート!$H$54=\"\",\"\",基本データ転記先シート!$H$54)","v":""},null,null,null,{"$f":"IF(基本データ転記先シート!$I$54=\"\",\"\",基本データ転記先シート!$I$54)","v":""},null,null,{"$f":"IF(基本データ転記先シート!$J$54=\"\",\"\",基本データ転記先シート!$J$54)","v":""},null,null,{"$f":"IF(基本データ転記先シート!$K$54=\"\",\"\",基本データ転記先シート!$K$54)","v":""},null,null,{"$f":"IF(基本データ転記先シート!$L$54=\"\",\"\",基本データ転記先シート!$L$54)","v":""},null,null,{"$f":"IF(基本データ転記先シート!$M$54=\"\",\"\",基本データ転記先シート!$M$54)","v":""},null,null,{"$f":"IF(基本データ転記先シート!$N$54=\"\",\"\",基本データ転記先シート!$N$54)","v":""},null,null,{"$f":"IF(基本データ転記先シート!$O$54=\"\",\"\",基本データ転記先シート!$O$54)","v":""},null,null,null,null,null,null,null,null,null,null,null,null,null,null,null,null,null,null,null,null,null,null,null,null,null,null,null,null,null,null,null,null,null,null,null,null,null,null,null,null,null,null,null,null,null,null,null,null,null,null,null,null,null,null,null,null,{"$f":"IF(基本データ転記先シート!$Q54=\"\",\"\",基本データ転記先シート!$Q54)","v":""}]
[null,"脱炭素化／ガス化または電化等の燃料転換、太陽光発電等の再生可能エネルギー利用など",null,null,null,null,null,null,null,null,null,null,null,null,null,null,null,null,null,null,null,null,null,null,null,null,null,null,null,null,null,null,null,null,null,null,null,null,null,null,null,null,null,null,null,null,null,null,null,null,null,null,null,null,null,null,null,null,null,null,null,null,null,null,null,"脱炭素化／ガス化または電化等の燃料転換、太陽光発電等の再生可能エネルギー利用など",null,null,null,null,null,null,null,null,null,null,null,null,null,null,"脱炭素化／ガス化または電化等の燃料転換、太陽光発電等の再生可能エネルギー利用など",null,null,null,null,null,null,null,null,null,null,null,null,null,null,"脱炭素化／ガス化または電化等の燃料転換、太陽光発電等の再生可能エネルギー利用など"]
[null,null,{"$f":"IF(基本データ転記先シート!$C$55=\"\",\"\",基本データ転記先シート!$C$55)","v":""},null,{"$f":"IF(基本データ転記先シート!$D$55=\"\",\"\",基本データ転記先シート!$D$55)","v":""},null,null,null,{"$f":"IF(基本データ転記先シート!$E$55=\"\",\"\",基本データ転記先シート!$E$55)","v":""},null,null,null,null,null,null,null,null,null,null,null,null,null,null,null,null,null,null,null,{"$f":"IF(基本データ転記先シート!$F$55=\"\",\"\",基本データ転記先シート!$F$55)","v":""},null,{"$f":"IF(基本データ転記先シート!$G$55=\"\",\"\",基本データ転記先シート!$G$55)","v":""},null,null,null,null,{"$f":"IF(基本データ転記先シート!$H$55=\"\",\"\",基本データ転記先シート!$H$55)","v":""},null,null,null,{"$f":"IF(基本データ転記先シート!$I$55=\"\",\"\",基本データ転記先シート!$I$55)","v":""},null,null,{"$f":"IF(基本データ転記先シート!$J$55=\"\",\"\",基本データ転記先シート!$J$55)","v":""},null,null,{"$f":"IF(基本データ転記先シート!$K$55=\"\",\"\",基本データ転記先シート!$K$55)","v":""},null,null,{"$f":"IF(基本データ転記先シート!$L$55=\"\",\"\",基本データ転記先シート!$L$55)","v":""},null,null,{"$f":"IF(基本データ転記先シート!$M$55=\"\",\"\",基本データ転記先シート!$M$55)","v":""},null,null,{"$f":"IF(基本データ転記先シート!$N$55=\"\",\"\",基本データ転記先シート!$N$55)","v":""},null,null,{"$f":"IF(基本データ転記先シート!$O$55=\"\",\"\",基本データ転記先シート!$O$55)","v":""},null,null,null,null,null,null,null,null,null,null,null,null,null,null,null,null,null,null,null,null,null,null,null,null,null,null,null,null,null,null,null,null,null,null,null,null,null,null,null,null,null,null,null,null,null,null,null,null,null,null,null,null,null,null,null,null,{"$f":"IF(基本データ転記先シート!$Q55=\"\",\"\",基本データ転記先シート!$Q55)","v":""}]
[null,null,{"$f":"IF(基本データ転記先シート!$C$56=\"\",\"\",基本データ転記先シート!$C$56)","v":""},null,{"$f":"IF(基本データ転記先シート!$D$56=\"\",\"\",基本データ転記先シート!$D$56)","v":""},null,null,null,{"$f":"IF(基本データ転記先シート!$E$56=\"\",\"\",基本データ転記先シート!$E$56)","v":""},null,null,null,null,null,null,null,null,null,null,null,null,null,null,null,null,null,null,null,{"$f":"IF(基本データ転記先シート!$F$56=\"\",\"\",基本データ転記先シート!$F$56)","v":""},null,{"$f":"IF(基本データ転記先シート!$G$56=\"\",\"\",基本データ転記先シート!$G$56)","v":""},null,null,null,null,{"$f":"IF(基本データ転記先シート!$H$56=\"\",\"\",基本データ転記先シート!$H$56)","v":""},null,null,null,{"$f":"IF(基本データ転記先シート!$I$56=\"\",\"\",基本データ転記先シート!$I$56)","v":""},null,null,{"$f":"IF(基本データ転記先シート!$J$56=\"\",\"\",基本データ転記先シート!$J$56)","v":""},null,null,{"$f":"IF(基本データ転記先シート!$K$56=\"\",\"\",基本データ転記先シート!$K$56)","v":""},null,null,{"$f":"IF(基本データ転記先シート!$L$56=\"\",\"\",基本データ転記先シート!$L$56)","v":""},null,null,{"$f":"IF(基本データ転記先シート!$M$56=\"\",\"\",基本データ転記先シート!$M$56)","v":""},null,null,{"$f":"IF(基本データ転記先シート!$N$56=\"\",\"\",基本データ転記先シート!$N$56)","v":""},null,null,{"$f":"IF(基本データ転記先シート!$O$56=\"\",\"\",基本データ転記先シート!$O$56)","v":""},null,null,null,null,null,null,null,null,null,null,null,null,null,null,null,null,null,null,null,null,null,null,null,null,null,null,null,null,null,null,null,null,null,null,null,null,null,null,null,null,null,null,null,null,null,null,null,null,null,null,null,null,null,null,null,null,{"$f":"IF(基本データ転記先シート!$Q56=\"\",\"\",基本データ転記先シート!$Q56)","v":""}]
[null,null,{"$f":"IF(基本データ転記先シート!$C$57=\"\",\"\",基本データ転記先シート!$C$57)","v":""},null,{"$f":"IF(基本データ転記先シート!$D$57=\"\",\"\",基本データ転記先シート!$D$57)","v":""},null,null,null,{"$f":"IF(基本データ転記先シート!$E$57=\"\",\"\",基本データ転記先シート!$E$57)","v":""},null,null,null,null,null,null,null,null,null,null,null,null,null,null,null,null,null,null,null,{"$f":"IF(基本データ転記先シート!$F$57=\"\",\"\",基本データ転記先シート!$F$57)","v":""},null,{"$f":"IF(基本データ転記先シート!$G$57=\"\",\"\",基本データ転記先シート!$G$57)","v":""},null,null,null,null,{"$f":"IF(基本データ転記先シート!$H$57=\"\",\"\",基本データ転記先シート!$H$57)","v":""},null,null,null,{"$f":"IF(基本データ転記先シート!$I$57=\"\",\"\",基本データ転記先シート!$I$57)","v":""},null,null,{"$f":"IF(基本データ転記先シート!$J$57=\"\",\"\",基本データ転記先シート!$J$57)","v":""},null,null,{"$f":"IF(基本データ転記先シート!$K$57=\"\",\"\",基本データ転記先シート!$K$57)","v":""},null,null,{"$f":"IF(基本データ転記先シート!$L$57=\"\",\"\",基本データ転記先シート!$L$57)","v":""},null,null,{"$f":"IF(基本データ転記先シート!$M$57=\"\",\"\",基本データ転記先シート!$M$57)","v":""},null,null,{"$f":"IF(基本データ転記先シート!$N$57=\"\",\"\",基本データ転記先シート!$N$57)","v":""},null,null,{"$f":"IF(基本データ転記先シート!$O$57=\"\",\"\",基本データ転記先シート!$O$57)","v":""},null,null,null,null,null,null,null,null,null,null,null,null,null,null,null,null,null,null,null,null,null,null,null,null,null,null,null,null,null,null,null,null,null,null,null,null,null,null,null,null,null,null,null,null,null,null,null,null,null,null,null,null,null,null,null,null,{"$f":"IF(基本データ転記先シート!$Q57=\"\",\"\",基本データ転記先シート!$Q57)","v":""}]
[null,"脱炭素化／低炭素系統電力への変更",null,null,null,null,null,null,null,null,null,null,null,null,null,null,null,null,null,null,null,null,null,null,null,null,null,null,null,null,null,null,null,null,null,null,null,null,null,null,null,null,null,null,null,null,null,null,null,null,null,null,null,null,null,null,null,null,null,null,null,null,null,null,null,"脱炭素化／低炭素系統電力への変更",null,null,null,null,null,null,null,null,null,null,null,null,null,null,"脱炭素化／低炭素系統電力への変更",null,null,null,null,null,null,null,null,null,null,null,null,null,null,"脱炭素化／低炭素系統電力への変更"]
[null,null,{"$f":"IF(基本データ転記先シート!$C$58=\"\",\"\",基本データ転記先シート!$C$58)","v":""},null,{"$f":"IF(基本データ転記先シート!$D$58=\"\",\"\",基本データ転記先シート!$D$58)","v":""},null,null,null,{"$f":"IF(基本データ転記先シート!$E$58=\"\",\"\",基本データ転記先シート!$E$58)","v":""},null,null,null,null,null,null,null,null,null,null,null,null,null,null,null,null,null,null,null,{"$f":"IF(基本データ転記先シート!$F$58=\"\",\"\",基本データ転記先シート!$F$58)","v":""},null,{"$f":"IF(基本データ転記先シート!$G$58=\"\",\"\",基本データ転記先シート!$G$58)","v":""},null,null,null,null,{"$f":"IF(基本データ転記先シート!$H$58=\"\",\"\",基本データ転記先シート!$H$58)","v":""},null,null,null,{"$f":"IF(基本データ転記先シート!$I$58=\"\",\"\",基本データ転記先シート!$I$58)","v":""},null,null,{"$f":"IF(基本データ転記先シート!$J$58=\"\",\"\",基本データ転記先シート!$J$58)","v":""},null,null,{"$f":"IF(基本データ転記先シート!$K$58=\"\",\"\",基本データ転記先シート!$K$58)","v":""},null,null,{"$f":"IF(基本データ転記先シート!$L$58=\"\",\"\",基本データ転記先シート!$L$58)","v":""},null,null,{"$f":"IF(基本データ転記先シート!$M$58=\"\",\"\",基本データ転記先シート!$M$58)","v":""},null,null,{"$f":"IF(基本データ転記先シート!$N$58=\"\",\"\",基本データ転記先シート!$N$58)","v":""},null,null,{"$f":"IF(基本データ転記先シート!$O$58=\"\",\"\",基本データ転記先シート!$O$58)","v":""},null,null,null,null,null,null,null,null,null,null,null,null,null,null,null,null,null,null,null,null,null,null,null,null,null,null,null,null,null,null,null,null,null,null,null,null,null,null,null,null,null,null,null,null,null,null,null,null,null,null,null,null,null,null,null,null,{"$f":"IF(基本データ転記先シート!$Q58=\"\",\"\",基本データ転記先シート!$Q58)","v":""}]
[null,null,{"$f":"IF(基本データ転記先シート!$C$59=\"\",\"\",基本データ転記先シート!$C$59)","v":""},null,{"$f":"IF(基本データ転記先シート!$D$59=\"\",\"\",基本データ転記先シート!$D$59)","v":""},null,null,null,{"$f":"IF(基本データ転記先シート!$E$59=\"\",\"\",基本データ転記先シート!$E$59)","v":""},null,null,null,null,null,null,null,null,null,null,null,null,null,null,null,null,null,null,null,{"$f":"IF(基本データ転記先シート!$F$59=\"\",\"\",基本データ転記先シート!$F$59)","v":""},null,{"$f":"IF(基本データ転記先シート!$G$59=\"\",\"\",基本データ転記先シート!$G$59)","v":""},null,null,null,null,{"$f":"IF(基本データ転記先シート!$H$59=\"\",\"\",基本データ転記先シート!$H$59)","v":""},null,null,null,{"$f":"IF(基本データ転記先シート!$I$59=\"\",\"\",基本データ転記先シート!$I$59)","v":""},null,null,{"$f":"IF(基本データ転記先シート!$J$59=\"\",\"\",基本データ転記先シート!$J$59)","v":""},null,null,{"$f":"IF(基本データ転記先シート!$K$59=\"\",\"\",基本データ転記先シート!$K$59)","v":""},null,null,{"$f":"IF(基本データ転記先シート!$L$59=\"\",\"\",基本データ転記先シート!$L$59)","v":""},null,null,{"$f":"IF(基本データ転記先シート!$M$59=\"\",\"\",基本データ転記先シート!$M$59)","v":""},null,null,{"$f":"IF(基本データ転記先シート!$N$59=\"\",\"\",基本データ転記先シート!$N$59)","v":""},null,null,{"$f":"IF(基本データ転記先シート!$O$59=\"\",\"\",基本データ転記先シート!$O$59)","v":""},null,null,null,null,null,null,null,null,null,null,null,null,null,null,null,null,null,null,null,null,null,null,null,null,null,null,null,null,null,null,null,null,null,null,null,null,null,null,null,null,null,null,null,null,null,null,null,null,null,null,null,null,null,null,null,null,{"$f":"IF(基本データ転記先シート!$Q59=\"\",\"\",基本データ転記先シート!$Q59)","v":""}]
[]
[]
[null,"対策の種類\n[対策個票番号]",null,null,null,null,null,null,"対策名称",null,null,null,null,null,null,null,null,null,null,null,null,null,null,null,null,null,null,null,"主要\nシステム\n系統",null,"申請予定\n補助金",null,null,null,null,"対策着手\n時期",null,null,null,"年間CO2\n削減量",null,null,"計画年度・CO2削減量",null,null,null,null,null,null,null,null,null,null,null,null,null,null,"以降の活動予定",null,null,null,null,null,null,null,"対策の種類\n[対策個票番号]",null,null,"対策名称","主要\nシステム\n系統","申請予定\n補助金","対策着手\n時期","年間CO2\n削減量","計画年度・CO2削減量",null,null,null,null,"以降の活動予定","変更理由・備考","対策の種類\n[対策個票番号]",null,null,"対策名称","主要\nシステム\n系統","申請予定\n補助金","対策着手\n時期","年間CO2\n削減量","計画年度・CO2削減量",null,null,null,null,"以降の活動予定","変更理由・備考","対策の種類\n[対策個票番号]",null,null,"対策名称","主要\nシステム\n系統","申請予定\n補助金","対策着手\n時期","年間CO2\n削減量","計画年度・CO2削減量",null,null,null,null,"以降の活動予定","変更理由・備考"]
[null,null,null,null,null,null,null,null,null,null,null,null,null,null,null,null,null,null,null,null,null,null,null,null,null,null,null,null,null,null,null,null,null,null,null,null,null,null,null,null,null,null,{"$f":"IF(基本データ転記先シート!$J$46=\"\",\"\",基本データ転記先シート!$J$46)","v":""},null,null,{"$f":"IF(基本データ転記先シート!$K$46=\"\",\"\",基本データ転記先シート!$K$46)","v":""},null,null,{"$f":"IF(基本データ転記先シート!$L$46=\"\",\"\",基本データ転記先シート!$L$46)","v":""},null,null,{"$f":"IF(基本データ転記先シート!$M$46=\"\",\"\",基本データ転記先シート!$M$46)","v":""},null,null,{"$f":"IF(基本データ転記先シート!$N$46=\"\",\"\",基本データ転記先シート!$N$46)","v":""}]
[null,null,null,null,null,null,null,null,null,null,null,null,null,null,null,null,null,null,null,null,null,null,null,null,null,null,null,null,null,null,null,null,null,null,null,null,null,null,null,null,null,null,{"$f":"IF(基本データ転記先シート!$J$47=\"\",\"\",基本データ転記先シート!$J$47)","v":""},null,null,{"$f":"IF(基本データ転記先シート!$K$47=\"\",\"\",基本データ転記先シート!$K$47)","v":""},null,null,{"$f":"IF(基本データ転記先シート!$L$47=\"\",\"\",基本データ転記先シート!$L$47)","v":""},null,null,{"$f":"IF(基本データ転記先シート!$M$47=\"\",\"\",基本データ転記先シート!$M$47)","v":""},null,null,{"$f":"IF(基本データ転記先シート!$N$47=\"\",\"\",基本データ転記先シート!$N$47)","v":""}]
[null,"省エネルギー",null,null,null,null,null,null,null,null,null,null,null,null,null,null,null,null,null,null,null,null,null,null,null,null,null,null,null,null,null,null,null,null,null,null,null,null,null,null,null,null,null,null,null,null,null,null,null,null,null,null,null,null,null,null,null,null,null,null,null,null,null,null,null,"省エネルギー",null,null,null,null,null,null,null,null,null,null,null,null,null,null,"省エネルギー",null,null,null,null,null,null,null,null,null,null,null,null,null,null,"省エネルギー"]
[null,null,{"$f":"IF(基本データ転記先シート!$C$60=\"\",\"\",基本データ転記先シート!$C$60)","v":""},null,{"$f":"IF(基本データ転記先シート!$D$60=\"\",\"\",基本データ転記先シート!$D$60)","v":""},null,null,null,{"$f":"IF(基本データ転記先シート!$E$60=\"\",\"\",基本データ転記先シート!$E$60)","v":""},null,null,null,null,null,null,null,null,null,null,null,null,null,null,null,null,null,null,null,{"$f":"IF(基本データ転記先シート!$F$60=\"\",\"\",基本データ転記先シート!$F$60)","v":""},null,{"$f":"IF(基本データ転記先シート!$G$60=\"\",\"\",基本データ転記先シート!$G$60)","v":""},null,null,null,null,{"$f":"IF(基本データ転記先シート!$H$60=\"\",\"\",基本データ転記先シート!$H$60)","v":""},null,null,null,{"$f":"IF(基本データ転記先シート!$I$60=\"\",\"\",基本データ転記先シート!$I$60)","v":""},null,null,{"$f":"IF(基本データ転記先シート!$J$60=\"\",\"\",基本データ転記先シート!$J$60)","v":""},null,null,{"$f":"IF(基本データ転記先シート!$K$60=\"\",\"\",基本データ転記先シート!$K$60)","v":""},null,null,{"$f":"IF(基本データ転記先シート!$L$60=\"\",\"\",基本データ転記先シート!$L$60)","v":""},null,null,{"$f":"IF(基本データ転記先シート!$M$60=\"\",\"\",基本データ転記先シート!$M$60)","v":""},null,null,{"$f":"IF(基本データ転記先シート!$N$60=\"\",\"\",基本データ転記先シート!$N$60)","v":""},null,null,{"$f":"IF(基本データ転記先シート!$O$60=\"\",\"\",基本データ転記先シート!$O$60)","v":""},null,null,null,null,null,null,null,null,null,null,null,null,null,null,null,null,null,null,null,null,null,null,null,null,null,null,null,null,null,null,null,null,null,null,null,null,null,null,null,null,null,null,null,null,null,null,null,null,null,null,null,null,null,null,null,null,{"$f":"IF(基本データ転記先シート!$Q60=\"\",\"\",基本データ転記先シート!$Q60)","v":""}]
[null,null,{"$f":"IF(基本データ転記先シート!$C$61=\"\",\"\",基本データ転記先シート!$C$61)","v":""},null,{"$f":"IF(基本データ転記先シート!$D$61=\"\",\"\",基本データ転記先シート!$D$61)","v":""},null,null,null,{"$f":"IF(基本データ転記先シート!$E$61=\"\",\"\",基本データ転記先シート!$E$61)","v":""},null,null,null,null,null,null,null,null,null,null,null,null,null,null,null,null,null,null,null,{"$f":"IF(基本データ転記先シート!$F$61=\"\",\"\",基本データ転記先シート!$F$61)","v":""},null,{"$f":"IF(基本データ転記先シート!$G$61=\"\",\"\",基本データ転記先シート!$G$61)","v":""},null,null,null,null,{"$f":"IF(基本データ転記先シート!$H$61=\"\",\"\",基本データ転記先シート!$H$61)","v":""},null,null,null,{"$f":"IF(基本データ転記先シート!$I$61=\"\",\"\",基本データ転記先シート!$I$61)","v":""},null,null,{"$f":"IF(基本データ転記先シート!$J$61=\"\",\"\",基本データ転記先シート!$J$61)","v":""},null,null,{"$f":"IF(基本データ転記先シート!$K$61=\"\",\"\",基本データ転記先シート!$K$61)","v":""},null,null,{"$f":"IF(基本データ転記先シート!$L$61=\"\",\"\",基本データ転記先シート!$L$61)","v":""},null,null,{"$f":"IF(基本データ転記先シート!$M$61=\"\",\"\",基本データ転記先シート!$M$61)","v":""},null,null,{"$f":"IF(基本データ転記先シート!$N$61=\"\",\"\",基本データ転記先シート!$N$61)","v":""},null,null,{"$f":"IF(基本データ転記先シート!$O$61=\"\",\"\",基本データ転記先シート!$O$61)","v":""},null,null,null,null,null,null,null,null,null,null,null,null,null,null,null,null,null,null,null,null,null,null,null,null,null,null,null,null,null,null,null,null,null,null,null,null,null,null,null,null,null,null,null,null,null,null,null,null,null,null,null,null,null,null,null,null,{"$f":"IF(基本データ転記先シート!$Q61=\"\",\"\",基本データ転記先シート!$Q61)","v":""}]
[null,null,{"$f":"IF(基本データ転記先シート!$C$62=\"\",\"\",基本データ転記先シート!$C$62)","v":""},null,{"$f":"IF(基本データ転記先シート!$D$62=\"\",\"\",基本データ転記先シート!$D$62)","v":""},null,null,null,{"$f":"IF(基本データ転記先シート!$E$62=\"\",\"\",基本データ転記先シート!$E$62)","v":""},null,null,null,null,null,null,null,null,null,null,null,null,null,null,null,null,null,null,null,{"$f":"IF(基本データ転記先シート!$F$62=\"\",\"\",基本データ転記先シート!$F$62)","v":""},null,{"$f":"IF(基本データ転記先シート!$G$62=\"\",\"\",基本データ転記先シート!$G$62)","v":""},null,null,null,null,{"$f":"IF(基本データ転記先シート!$H$62=\"\",\"\",基本データ転記先シート!$H$62)","v":""},null,null,null,{"$f":"IF(基本データ転記先シート!$I$62=\"\",\"\",基本データ転記先シート!$I$62)","v":""},null,null,{"$f":"IF(基本データ転記先シート!$J$62=\"\",\"\",基本データ転記先シート!$J$62)","v":""},null,null,{"$f":"IF(基本データ転記先シート!$K$62=\"\",\"\",基本データ転記先シート!$K$62)","v":""},null,null,{"$f":"IF(基本データ転記先シート!$L$62=\"\",\"\",基本データ転記先シート!$L$62)","v":""},null,null,{"$f":"IF(基本データ転記先シート!$M$62=\"\",\"\",基本データ転記先シート!$M$62)","v":""},null,null,{"$f":"IF(基本データ転記先シート!$N$62=\"\",\"\",基本データ転記先シート!$N$62)","v":""},null,null,{"$f":"IF(基本データ転記先シート!$O$62=\"\",\"\",基本データ転記先シート!$O$62)","v":""},null,null,null,null,null,null,null,null,null,null,null,null,null,null,null,null,null,null,null,null,null,null,null,null,null,null,null,null,null,null,null,null,null,null,null,null,null,null,null,null,null,null,null,null,null,null,null,null,null,null,null,null,null,null,null,null,{"$f":"IF(基本データ転記先シート!$Q62=\"\",\"\",基本データ転記先シート!$Q62)","v":""}]
[null,null,{"$f":"IF(基本データ転記先シート!$C$63=\"\",\"\",基本データ転記先シート!$C$63)","v":""},null,{"$f":"IF(基本データ転記先シート!$D$63=\"\",\"\",基本データ転記先シート!$D$63)","v":""},null,null,null,{"$f":"IF(基本データ転記先シート!$E$63=\"\",\"\",基本データ転記先シート!$E$63)","v":""},null,null,null,null,null,null,null,null,null,null,null,null,null,null,null,null,null,null,null,{"$f":"IF(基本データ転記先シート!$F$63=\"\",\"\",基本データ転記先シート!$F$63)","v":""},null,{"$f":"IF(基本データ転記先シート!$G$63=\"\",\"\",基本データ転記先シート!$G$63)","v":""},null,null,null,null,{"$f":"IF(基本データ転記先シート!$H$63=\"\",\"\",基本データ転記先シート!$H$63)","v":""},null,null,null,{"$f":"IF(基本データ転記先シート!$I$63=\"\",\"\",基本データ転記先シート!$I$63)","v":""},null,null,{"$f":"IF(基本データ転記先シート!$J$63=\"\",\"\",基本データ転記先シート!$J$63)","v":""},null,null,{"$f":"IF(基本データ転記先シート!$K$63=\"\",\"\",基本データ転記先シート!$K$63)","v":""},null,null,{"$f":"IF(基本データ転記先シート!$L$63=\"\",\"\",基本データ転記先シート!$L$63)","v":""},null,null,{"$f":"IF(基本データ転記先シート!$M$63=\"\",\"\",基本データ転記先シート!$M$63)","v":""},null,null,{"$f":"IF(基本データ転記先シート!$N$63=\"\",\"\",基本データ転記先シート!$N$63)","v":""},null,null,{"$f":"IF(基本データ転記先シート!$O$63=\"\",\"\",基本データ転記先シート!$O$63)","v":""},null,null,null,null,null,null,null,null,null,null,null,null,null,null,null,null,null,null,null,null,null,null,null,null,null,null,null,null,null,null,null,null,null,null,null,null,null,null,null,null,null,null,null,null,null,null,null,null,null,null,null,null,null,null,null,null,{"$f":"IF(基本データ転記先シート!$Q63=\"\",\"\",基本データ転記先シート!$Q63)","v":""}]
[null,null,{"$f":"IF(基本データ転記先シート!$C$64=\"\",\"\",基本データ転記先シート!$C$64)","v":""},null,{"$f":"IF(基本データ転記先シート!$D$64=\"\",\"\",基本データ転記先シート!$D$64)","v":""},null,null,null,{"$f":"IF(基本データ転記先シート!$E$64=\"\",\"\",基本データ転記先シート!$E$64)","v":""},null,null,null,null,null,null,null,null,null,null,null,null,null,null,null,null,null,null,null,{"$f":"IF(基本データ転記先シート!$F$64=\"\",\"\",基本データ転記先シート!$F$64)","v":""},null,{"$f":"IF(基本データ転記先シート!$G$64=\"\",\"\",基本データ転記先シート!$G$64)","v":""},null,null,null,null,{"$f":"IF(基本データ転記先シート!$H$64=\"\",\"\",基本データ転記先シート!$H$64)","v":""},null,null,null,{"$f":"IF(基本データ転記先シート!$I$64=\"\",\"\",基本データ転記先シート!$I$64)","v":""},null,null,{"$f":"IF(基本データ転記先シート!$J$64=\"\",\"\",基本データ転記先シート!$J$64)","v":""},null,null,{"$f":"IF(基本データ転記先シート!$K$64=\"\",\"\",基本データ転記先シート!$K$64)","v":""},null,null,{"$f":"IF(基本データ転記先シート!$L$64=\"\",\"\",基本データ転記先シート!$L$64)","v":""},null,null,{"$f":"IF(基本データ転記先シート!$M$64=\"\",\"\",基本データ転記先シート!$M$64)","v":""},null,null,{"$f":"IF(基本データ転記先シート!$N$64=\"\",\"\",基本データ転記先シート!$N$64)","v":""},null,null,{"$f":"IF(基本データ転記先シート!$O$64=\"\",\"\",基本データ転記先シート!$O$64)","v":""},null,null,null,null,null,null,null,null,null,null,null,null,null,null,null,null,null,null,null,null,null,null,null,null,null,null,null,null,null,null,null,null,null,null,null,null,null,null,null,null,null,null,null,null,null,null,null,null,null,null,null,null,null,null,null,null,{"$f":"IF(基本データ転記先シート!$Q64=\"\",\"\",基本データ転記先シート!$Q64)","v":""}]
[null,null,{"$f":"IF(基本データ転記先シート!$C$65=\"\",\"\",基本データ転記先シート!$C$65)","v":""},null,{"$f":"IF(基本データ転記先シート!$D$65=\"\",\"\",基本データ転記先シート!$D$65)","v":""},null,null,null,{"$f":"IF(基本データ転記先シート!$E$65=\"\",\"\",基本データ転記先シート!$E$65)","v":""},null,null,null,null,null,null,null,null,null,null,null,null,null,null,null,null,null,null,null,{"$f":"IF(基本データ転記先シート!$F$65=\"\",\"\",基本データ転記先シート!$F$65)","v":""},null,{"$f":"IF(基本データ転記先シート!$G$65=\"\",\"\",基本データ転記先シート!$G$65)","v":""},null,null,null,null,{"$f":"IF(基本データ転記先シート!$H$65=\"\",\"\",基本データ転記先シート!$H$65)","v":""},null,null,null,{"$f":"IF(基本データ転記先シート!$I$65=\"\",\"\",基本データ転記先シート!$I$65)","v":""},null,null,{"$f":"IF(基本データ転記先シート!$J$65=\"\",\"\",基本データ転記先シート!$J$65)","v":""},null,null,{"$f":"IF(基本データ転記先シート!$K$65=\"\",\"\",基本データ転記先シート!$K$65)","v":""},null,null,{"$f":"IF(基本データ転記先シート!$L$65=\"\",\"\",基本データ転記先シート!$L$65)","v":""},null,null,{"$f":"IF(基本データ転記先シート!$M$65=\"\",\"\",基本データ転記先シート!$M$65)","v":""},null,null,{"$f":"IF(基本データ転記先シート!$N$65=\"\",\"\",基本データ転記先シート!$N$65)","v":""},null,null,{"$f":"IF(基本データ転記先シート!$O$65=\"\",\"\",基本データ転記先シート!$O$65)","v":""},null,null,null,null,null,null,null,null,null,null,null,null,null,null,null,null,null,null,null,null,null,null,null,null,null,null,null,null,null,null,null,null,null,null,null,null,null,null,null,null,null,null,null,null,null,null,null,null,null,null,null,null,null,null,null,null,{"$f":"IF(基本データ転記先シート!$Q65=\"\",\"\",基本データ転記先シート!$Q65)","v":""}]
[null,null,{"$f":"IF(基本データ転記先シート!$C$66=\"\",\"\",基本データ転記先シート!$C$66)","v":""},null,{"$f":"IF(基本データ転記先シート!$D$66=\"\",\"\",基本データ転記先シート!$D$66)","v":""},null,null,null,{"$f":"IF(基本データ転記先シート!$E$66=\"\",\"\",基本データ転記先シート!$E$66)","v":""},null,null,null,null,null,null,null,null,null,null,null,null,null,null,null,null,null,null,null,{"$f":"IF(基本データ転記先シート!$F$66=\"\",\"\",基本データ転記先シート!$F$66)","v":""},null,{"$f":"IF(基本データ転記先シート!$G$66=\"\",\"\",基本データ転記先シート!$G$66)","v":""},null,null,null,null,{"$f":"IF(基本データ転記先シート!$H$66=\"\",\"\",基本データ転記先シート!$H$66)","v":""},null,null,null,{"$f":"IF(基本データ転記先シート!$I$66=\"\",\"\",基本データ転記先シート!$I$66)","v":""},null,null,{"$f":"IF(基本データ転記先シート!$J$66=\"\",\"\",基本データ転記先シート!$J$66)","v":""},null,null,{"$f":"IF(基本データ転記先シート!$K$66=\"\",\"\",基本データ転記先シート!$K$66)","v":""},null,null,{"$f":"IF(基本データ転記先シート!$L$66=\"\",\"\",基本データ転記先シート!$L$66)","v":""},null,null,{"$f":"IF(基本データ転記先シート!$M$66=\"\",\"\",基本データ転記先シート!$M$66)","v":""},null,null,{"$f":"IF(基本データ転記先シート!$N$66=\"\",\"\",基本データ転記先シート!$N$66)","v":""},null,null,{"$f":"IF(基本データ転記先シート!$O$66=\"\",\"\",基本データ転記先シート!$O$66)","v":""},null,null,null,null,null,null,null,null,null,null,null,null,null,null,null,null,null,null,null,null,null,null,null,null,null,null,null,null,null,null,null,null,null,null,null,null,null,null,null,null,null,null,null,null,null,null,null,null,null,null,null,null,null,null,null,null,{"$f":"IF(基本データ転記先シート!$Q66=\"\",\"\",基本データ転記先シート!$Q66)","v":""}]
[null,"脱炭素化／ガス化または電化等の燃料転換、太陽光発電等の再生可能エネルギー利用など",null,null,null,null,null,null,null,null,null,null,null,null,null,null,null,null,null,null,null,null,null,null,null,null,null,null,null,null,null,null,null,null,null,null,null,null,null,null,null,null,null,null,null,null,null,null,null,null,null,null,null,null,null,null,null,null,null,null,null,null,null,null,null,"脱炭素化／ガス化または電化等の燃料転換、太陽光発電等の再生可能エネルギー利用など",null,null,null,null,null,null,null,null,null,null,null,null,null,null,"脱炭素化／ガス化または電化等の燃料転換、太陽光発電等の再生可能エネルギー利用など",null,null,null,null,null,null,null,null,null,null,null,null,null,null,"脱炭素化／ガス化または電化等の燃料転換、太陽光発電等の再生可能エネルギー利用など"]
[null,null,{"$f":"IF(基本データ転記先シート!$C$67=\"\",\"\",基本データ転記先シート!$C$67)","v":""},null,{"$f":"IF(基本データ転記先シート!$D$67=\"\",\"\",基本データ転記先シート!$D$67)","v":""},null,null,null,{"$f":"IF(基本データ転記先シート!$E$67=\"\",\"\",基本データ転記先シート!$E$67)","v":""},null,null,null,null,null,null,null,null,null,null,null,null,null,null,null,null,null,null,null,{"$f":"IF(基本データ転記先シート!$F$67=\"\",\"\",基本データ転記先シート!$F$67)","v":""},null,{"$f":"IF(基本データ転記先シート!$G$67=\"\",\"\",基本データ転記先シート!$G$67)","v":""},null,null,null,null,{"$f":"IF(基本データ転記先シート!$H$67=\"\",\"\",基本データ転記先シート!$H$67)","v":""},null,null,null,{"$f":"IF(基本データ転記先シート!$I$67=\"\",\"\",基本データ転記先シート!$I$67)","v":""},null,null,{"$f":"IF(基本データ転記先シート!$J$67=\"\",\"\",基本データ転記先シート!$J$67)","v":""},null,null,{"$f":"IF(基本データ転記先シート!$K$67=\"\",\"\",基本データ転記先シート!$K$67)","v":""},null,null,{"$f":"IF(基本データ転記先シート!$L$67=\"\",\"\",基本データ転記先シート!$L$67)","v":""},null,null,{"$f":"IF(基本データ転記先シート!$M$67=\"\",\"\",基本データ転記先シート!$M$67)","v":""},null,null,{"$f":"IF(基本データ転記先シート!$N$67=\"\",\"\",基本データ転記先シート!$N$67)","v":""},null,null,{"$f":"IF(基本データ転記先シート!$O$67=\"\",\"\",基本データ転記先シート!$O$67)","v":""},null,null,null,null,null,null,null,null,null,null,null,null,null,null,null,null,null,null,null,null,null,null,null,null,null,null,null,null,null,null,null,null,null,null,null,null,null,null,null,null,null,null,null,null,null,null,null,null,null,null,null,null,null,null,null,null,{"$f":"IF(基本データ転記先シート!$Q67=\"\",\"\",基本データ転記先シート!$Q67)","v":""}]
[null,null,{"$f":"IF(基本データ転記先シート!$C$68=\"\",\"\",基本データ転記先シート!$C$68)","v":""},null,{"$f":"IF(基本データ転記先シート!$D$68=\"\",\"\",基本データ転記先シート!$D$68)","v":""},null,null,null,{"$f":"IF(基本データ転記先シート!$E$68=\"\",\"\",基本データ転記先シート!$E$68)","v":""},null,null,null,null,null,null,null,null,null,null,null,null,null,null,null,null,null,null,null,{"$f":"IF(基本データ転記先シート!$F$68=\"\",\"\",基本データ転記先シート!$F$68)","v":""},null,{"$f":"IF(基本データ転記先シート!$G$68=\"\",\"\",基本データ転記先シート!$G$68)","v":""},null,null,null,null,{"$f":"IF(基本データ転記先シート!$H$68=\"\",\"\",基本データ転記先シート!$H$68)","v":""},null,null,null,{"$f":"IF(基本データ転記先シート!$I$68=\"\",\"\",基本データ転記先シート!$I$68)","v":""},null,null,{"$f":"IF(基本データ転記先シート!$J$68=\"\",\"\",基本データ転記先シート!$J$68)","v":""},null,null,{"$f":"IF(基本データ転記先シート!$K$68=\"\",\"\",基本データ転記先シート!$K$68)","v":""},null,null,{"$f":"IF(基本データ転記先シート!$L$68=\"\",\"\",基本データ転記先シート!$L$68)","v":""},null,null,{"$f":"IF(基本データ転記先シート!$M$68=\"\",\"\",基本データ転記先シート!$M$68)","v":""},null,null,{"$f":"IF(基本データ転記先シート!$N$68=\"\",\"\",基本データ転記先シート!$N$68)","v":""},null,null,{"$f":"IF(基本データ転記先シート!$O$68=\"\",\"\",基本データ転記先シート!$O$68)","v":""},null,null,null,null,null,null,null,null,null,null,null,null,null,null,null,null,null,null,null,null,null,null,null,null,null,null,null,null,null,null,null,null,null,null,null,null,null,null,null,null,null,null,null,null,null,null,null,null,null,null,null,null,null,null,null,null,{"$f":"IF(基本データ転記先シート!$Q68=\"\",\"\",基本データ転記先シート!$Q68)","v":""}]
[null,null,{"$f":"IF(基本データ転記先シート!$C$69=\"\",\"\",基本データ転記先シート!$C$6)","v":""},null,{"$f":"IF(基本データ転記先シート!$D$69=\"\",\"\",基本データ転記先シート!$D$69)","v":""},null,null,null,{"$f":"IF(基本データ転記先シート!$E$69=\"\",\"\",基本データ転記先シート!$E$69)","v":""},null,null,null,null,null,null,null,null,null,null,null,null,null,null,null,null,null,null,null,{"$f":"IF(基本データ転記先シート!$F$69=\"\",\"\",基本データ転記先シート!$F$69)","v":""},null,{"$f":"IF(基本データ転記先シート!$G$69=\"\",\"\",基本データ転記先シート!$G$69)","v":""},null,null,null,null,{"$f":"IF(基本データ転記先シート!$H$69=\"\",\"\",基本データ転記先シート!$H$69)","v":""},null,null,null,{"$f":"IF(基本データ転記先シート!$I$69=\"\",\"\",基本データ転記先シート!$I$69)","v":""},null,null,{"$f":"IF(基本データ転記先シート!$J$69=\"\",\"\",基本データ転記先シート!$J$69)","v":""},null,null,{"$f":"IF(基本データ転記先シート!$K$69=\"\",\"\",基本データ転記先シート!$K$69)","v":""},null,null,{"$f":"IF(基本データ転記先シート!$L$69=\"\",\"\",基本データ転記先シート!$L$69)","v":""},null,null,{"$f":"IF(基本データ転記先シート!$M$69=\"\",\"\",基本データ転記先シート!$M$69)","v":""},null,null,{"$f":"IF(基本データ転記先シート!$N$69=\"\",\"\",基本データ転記先シート!$N$69)","v":""},null,null,{"$f":"IF(基本データ転記先シート!$O$69=\"\",\"\",基本データ転記先シート!$O$69)","v":""},null,null,null,null,null,null,null,null,null,null,null,null,null,null,null,null,null,null,null,null,null,null,null,null,null,null,null,null,null,null,null,null,null,null,null,null,null,null,null,null,null,null,null,null,null,null,null,null,null,null,null,null,null,null,null,null,{"$f":"IF(基本データ転記先シート!$Q69=\"\",\"\",基本データ転記先シート!$Q69)","v":""}]
[null,"脱炭素化／低炭素系統電力への変更",null,null,null,null,null,null,null,null,null,null,null,null,null,null,null,null,null,null,null,null,null,null,null,null,null,null,null,null,null,null,null,null,null,null,null,null,null,null,null,null,null,null,null,null,null,null,null,null,null,null,null,null,null,null,null,null,null,null,null,null,null,null,null,"脱炭素化／低炭素系統電力への変更",null,null,null,null,null,null,null,null,null,null,null,null,null,null,"脱炭素化／低炭素系統電力への変更",null,null,null,null,null,null,null,null,null,null,null,null,null,null,"脱炭素化／低炭素系統電力への変更"]
[null,null,{"$f":"IF(基本データ転記先シート!$C$70=\"\",\"\",基本データ転記先シート!$C$70)","v":""},null,{"$f":"IF(基本データ転記先シート!$D$70=\"\",\"\",基本データ転記先シート!$D$70)","v":""},null,null,null,{"$f":"IF(基本データ転記先シート!$E$70=\"\",\"\",基本データ転記先シート!$E$70)","v":""},null,null,null,null,null,null,null,null,null,null,null,null,null,null,null,null,null,null,null,{"$f":"IF(基本データ転記先シート!$F$70=\"\",\"\",基本データ転記先シート!$F$70)","v":""},null,{"$f":"IF(基本データ転記先シート!$G$70=\"\",\"\",基本データ転記先シート!$G$70)","v":""},null,null,null,null,{"$f":"IF(基本データ転記先シート!$H$70=\"\",\"\",基本データ転記先シート!$H$70)","v":""},null,null,null,{"$f":"IF(基本データ転記先シート!$I$70=\"\",\"\",基本データ転記先シート!$I$70)","v":""},null,null,{"$f":"IF(基本データ転記先シート!$J$70=\"\",\"\",基本データ転記先シート!$J$70)","v":""},null,null,{"$f":"IF(基本データ転記先シート!$K$70=\"\",\"\",基本データ転記先シート!$K$70)","v":""},null,null,{"$f":"IF(基本データ転記先シート!$L$70=\"\",\"\",基本データ転記先シート!$L$70)","v":""},null,null,{"$f":"IF(基本データ転記先シート!$M$70=\"\",\"\",基本データ転記先シート!$M$70)","v":""},null,null,{"$f":"IF(基本データ転記先シート!$N$70=\"\",\"\",基本データ転記先シート!$N$70)","v":""},null,null,{"$f":"IF(基本データ転記先シート!$O$70=\"\",\"\",基本データ転記先シート!$O$70)","v":""},null,null,null,null,null,null,null,null,null,null,null,null,null,null,null,null,null,null,null,null,null,null,null,null,null,null,null,null,null,null,null,null,null,null,null,null,null,null,null,null,null,null,null,null,null,null,null,null,null,null,null,null,null,null,null,null,{"$f":"IF(基本データ転記先シート!$Q70=\"\",\"\",基本データ転記先シート!$Q70)","v":""}]
[null,null,{"$f":"IF(基本データ転記先シート!$C$71=\"\",\"\",基本データ転記先シート!$C$71)","v":""},null,{"$f":"IF(基本データ転記先シート!$D$71=\"\",\"\",基本データ転記先シート!$D$71)","v":""},null,null,null,{"$f":"IF(基本データ転記先シート!$E$71=\"\",\"\",基本データ転記先シート!$E$71)","v":""},null,null,null,null,null,null,null,null,null,null,null,null,null,null,null,null,null,null,null,{"$f":"IF(基本データ転記先シート!$F$71=\"\",\"\",基本データ転記先シート!$F$71)","v":""},null,{"$f":"IF(基本データ転記先シート!$G$71=\"\",\"\",基本データ転記先シート!$G$71)","v":""},null,null,null,null,{"$f":"IF(基本データ転記先シート!$H$71=\"\",\"\",基本データ転記先シート!$H$71)","v":""},null,null,null,{"$f":"IF(基本データ転記先シート!$I$71=\"\",\"\",基本データ転記先シート!$I$71)","v":""},null,null,{"$f":"IF(基本データ転記先シート!$J$71=\"\",\"\",基本データ転記先シート!$J$71)","v":""},null,null,{"$f":"IF(基本データ転記先シート!$K$71=\"\",\"\",基本データ転記先シート!$K$71)","v":""},null,null,{"$f":"IF(基本データ転記先シート!$L$71=\"\",\"\",基本データ転記先シート!$L$71)","v":""},null,null,{"$f":"IF(基本データ転記先シート!$M$71=\"\",\"\",基本データ転記先シート!$M$71)","v":""},null,null,{"$f":"IF(基本データ転記先シート!$N$71=\"\",\"\",基本データ転記先シート!$N$71)","v":""},null,null,{"$f":"IF(基本データ転記先シート!$O$71=\"\",\"\",基本データ転記先シート!$O$71)","v":""},null,null,null,null,null,null,null,null,null,null,null,null,null,null,null,null,null,null,null,null,null,null,null,null,null,null,null,null,null,null,null,null,null,null,null,null,null,null,null,null,null,null,null,null,null,null,null,null,null,null,null,null,null,null,null,null,{"$f":"IF(基本データ転記先シート!$Q71=\"\",\"\",基本データ転記先シート!$Q71)","v":""}]

{"sheet":"作業用_活動量と単位","index":4,"n_rows":76,"n_cols":17,"rows_kept":76,"cut":false,"hidden":true,"merged":[]}
[]
[]
[null,null,null,"↓R2年度末にECCJが作成した算定報告書案からもってきた。"]
[null,null,null,"↓R3年度の正式な算定報告書（ガイドライン）と合っているかを確認済み"]
[]
[null,null,null,"※活動種別は細分化済みの状態"]
[null,"ガイドライン"]
[null,"項目","ページ","活動種別","計算式振り分け用","活動量の種別","活動単位","単位発熱量の単位","CO2排出係数の単位","GJ換算対象（エネ起＝対象／非エネ起＝非対象）",null,null,null,null,"電力等のGJ換算係数"]
[null,1.2,"II-15","系統電力",1,"使用量","kWh","---","t-CO2/kWh","対象",null,null,null,null,"系統電力",9.7599999999999996E-3,"GJ/kWh"]
[null,1.1000000000000001,"II-21","輸入原料炭",0,"使用量","t","GJ/t","t-CO2/GJ","対象",null,null,null,null,"産業用蒸気",1.02,"GJ"]
[null,1.1000000000000001,"II-21","国産一般炭",0,"使用量","t","GJ/t","t-CO2/GJ","対象",null,null,null,null,"温水",1.36,"GJ"]
[null,1.1000000000000001,"II-21","輸入一般炭",0,"使用量","t","GJ/t","t-CO2/GJ","対象",null,null,null,null,"冷水",1.36,"GJ"]
[null,1.1000000000000001,"II-21","輸入無煙炭",0,"使用量","t","GJ/t","t-CO2/GJ","対象",null,null,null,null,"蒸気（産業用以外）",1.36,"GJ"]
[null,1.1000000000000001,"II-21","コークス",0,"使用量","t","GJ/t","t-CO2/GJ","対象"]
[null,1.1000000000000001,"II-21","原油",0,"使用量","kl","GJ/kl","t-CO2/GJ","対象",null,null,null,null,"↑R3年度の正式な算定報告書（ガイドライン）と合っているかを確認済み"]
[null,1.1000000000000001,"II-21","ガソリン",0,"使用量","kl","GJ/kl","t-CO2/GJ","対象"]
[null,1.1000000000000001,"II-21","ナフサ",0,"使用量","kl","GJ/kl","t-CO2/GJ","対象"]
[null,1.1000000000000001,"II-21","ジェット燃料",0,"使用量","kl","GJ/kl","t-CO2/GJ","対象"]
[null,1.1000000000000001,"II-21","灯油",0,"使用量","kl","GJ/kl","t-CO2/GJ","対象"]
[null,1.1000000000000001,"II-21","軽油",0,"使用量","kl","GJ/kl","t-CO2/GJ","対象"]
[null,1.1000000000000001,"II-21","A重油",0,"使用量","kl","GJ/kl","t-CO2/GJ","対象"]
[null,1.1000000000000001,"II-21","B重油",0,"使用量","kl","GJ/kl","t-CO2/GJ","対象"]
[null,1.1000000000000001,"II-21","C重油",0,"使用量","kl","GJ/kl","t-CO2/GJ","対象"]
[null,1.1000000000000001,"II-21","潤滑油",0,"使用量","kl","GJ/kl","t-CO2/GJ","対象"]
[null,1.1000000000000001,"II-21","オイルコークス",0,"使用量","t","GJ/t","t-CO2/GJ","対象"]
[null,1.1000000000000001,"II-21","LPG",0,"使用量","t","GJ/t","t-CO2/GJ","対象"]
[null,1.1000000000000001,"II-21","天然ガス",0,"使用量","千Nm3","GJ/千Nm3","t-CO2/GJ","対象"]
[null,1.1000000000000001,"II-21","LNG",0,"使用量","t","GJ/t","t-CO2/GJ","対象"]
[null,1.1000000000000001,"II-21","都市ガス",0,"使用量","千Nm3","GJ/千Nm3","t-CO2/GJ","対象"]
[null,1.1000000000000001,"II-21","コールタール",0,"使用量","t","GJ/t","t-CO2/GJ","対象"]
[null,1.1000000000000001,"II-21","アスファルト",0,"使用量","t","GJ/t","t-CO2/GJ","対象"]
[null,1.1000000000000001,"II-21","NGL・コンデンセート",0,"使用量","kl","GJ/kl","t-CO2/GJ","対象"]
[null,1.1000000000000001,"II-21","製油所ガス",0,"使用量","千Nm3","GJ/千Nm3","t-CO2/GJ","対象"]
[null,1.1000000000000001,"II-21","コークス炉ガス",0,"使用量","千Nm3","GJ/千Nm3","t-CO2/GJ","対象"]
[null,1.1000000000000001,"II-21","高炉ガス",0,"使用量","千Nm3","GJ/千Nm3","t-CO2/GJ","対象"]
[null,1.1000000000000001,"II-21","転炉ガス",0,"使用量","千Nm3","GJ/千Nm3","t-CO2/GJ","対象"]
[null,1.3,"II-17","産業用蒸気",1,"使用量","GJ","---","t-CO2/GJ","対象"]
[null,1.3,"II-17","温水",1,"使用量","GJ","---","t-CO2/GJ","対象"]
[null,1.3,"II-17","冷水",1,"使用量","GJ","---","t-CO2/GJ","対象"]
[null,1.3,"II-17","蒸気（産業用以外）",1,"使用量","GJ","---","t-CO2/GJ","対象"]
[null,1.4,"II-18","所内消費電力",1,"消費量","kWh","---","t-CO2/kWh","---","←6-1.～6-3.、7-1.～7-3.で使用しない場合は、把握対象、単位は不要。"]
[null,1.4,"II-18","外部供給電力",1,"供給量","kWh","---","t-CO2/kWh","---","←6-1.～6-3.、7-1.～7-4.で使用しない場合は、把握対象、単位は不要。"]
[null,1.4,"II-18","所内消費熱",1,"消費量","GJ","---","t-CO2/GJ","---","←6-1.～6-3.、7-1.～7-5.で使用しない場合は、把握対象、単位は不要。"]
[null,1.4,"II-18","外部供給熱",1,"供給量","GJ","---","t-CO2/GJ","---","←6-1.～6-3.、7-1.～7-6.で使用しない場合は、把握対象、単位は不要。"]
[null,2,"II-27","①廃油",1,"焼却・使用量","t","---","t-CO2/t","---"]
[null,2,"II-27","②廃合成繊維",1,"焼却・使用量","t","---","t-CO2/t","---"]
[null,2,"II-27","③廃ゴムタイヤ",1,"焼却・使用量","t","---","t-CO2/t","---"]
[null,2,"II-27","④　②③以外の廃プラスチック類（産業廃棄物）",1,"焼却・使用量","t","---","t-CO2/t","---"]
[null,2,"II-27","⑤　②③④以外の廃プラスチック類（一般廃棄物）",1,"焼却・使用量","t","---","t-CO2/t","---"]
[null,2,"II-27","廃油から製造される燃料油",1,"焼却・使用量","kl","---","t-CO2/kl","---"]
[null,2,"II-27","廃プラスチック類から製造される燃料油",1,"焼却・使用量","kl","---","t-CO2/kl","---"]
[null,2,"II-27","ごみ固形燃料（RPF）",1,"焼却・使用量","t","---","t-CO2/t","---"]
[null,2,"II-27","ごみ固形燃料（RDF）",1,"焼却・使用量","t","---","t-CO2/t","---"]
[null,3.1,"II-28","セメントの製造",1,"クリンカー製造量","t","---","t-CO2/t","---"]
[null,3.2,"II-30","生石灰の製造（原料：石灰石）",1,"原料使用量","t","---","t-CO2/t","---"]
[null,3.2,"II-30","生石灰の製造（原料：ドロマイト）",1,"原料使用量","t","---","t-CO2/t","---"]
[null,3.3,"II-32","石灰石（タンカル）の使用",1,"使用量","t","---","t-CO2/t","---"]
[null,3.3,"II-32","ドロマイトの使用",1,"使用量","t","---","t-CO2/t","---"]
[null,3.4,"II-35","ソーダ灰の製造",1,"追加投入量","t","---","t-CO2/t","---"]
[null,3.5,"II-37","ソーダ灰の使用",1,"使用量","t","---","t-CO2/t","---"]
[null,3.6,"II-39","アンモニアの製造（原料：石炭）",1,"原料使用量","t","---","t-CO2/t","---"]
[null,3.6,"II-39","アンモニアの製造（原料：ナフサ）",1,"原料使用量","kl","---","t-CO2/kl","---"]
[null,3.6,"II-39","アンモニアの製造（原料：オイルコークス）",1,"原料使用量","t","---","t-CO2/t","---"]
[null,3.6,"II-39","アンモニアの製造（原料：LPG）",1,"原料使用量","t","---","t-CO2/t","---"]
[null,3.6,"II-39","アンモニアの製造（原料：LNG）",1,"原料使用量","t","---","t-CO2/t","---"]
[null,3.6,"II-39","アンモニアの製造（原料：天然ガス(LNG除く)）",1,"原料使用量","千Nm3","---","t-CO2/千Nm3","---"]
[null,3.6,"II-39","アンモニアの製造（原料：コークス炉ガス）",1,"原料使用量","千Nm3","---","t-CO2/千Nm3","---"]
[null,3.6,"II-39","アンモニアの製造（原料：石油系炭化水素ガス）",1,"原料使用量","千Nm3","---","t-CO2/千Nm3","---"]
[null,3.7,"II-42","シリコンカーバイドの製造",1,"石油コークス使用量","t","---","t-CO2/t","---"]
[null,3.8,"II-44","カルシウムカーバイドの製造（石灰石起源）",1,"製造量","t","---","t-CO2/t","---"]
[null,3.8,"II-44","カルシウムカーバイドの製造（還元剤起源）",1,"製造量","t","---","t-CO2/t","---"]
[null,3.9,"II-46","エチレンの製造",1,"製造量","t","---","t-CO2/t","---"]
[null,"3.10","II-47","カルシウムカーバイドを原料としたアセチレンの使用（燃焼）",1,"使用量","t","---","t-CO2/t","---"]
[null,"3.11","II-49","電気炉を使用した粗鋼の製造",1,"製造量","t","---","t-CO2/t","---"]
[null,"3.12","II-50","ドライアイス／液化炭酸ガス／噴霧器の使用",1,"使用量","t","---","t-CO2/t","---"]
[null,null,null,"その他（要：備考欄への詳細記載）",null,null,null,null,null,"---","←「計算式の振り分け」は、6-1.～6-3.、7-1.～7-3.の各シートにおける係数の入力状況に基づき、各シートのA列にて判断。"]

{"sheet":"作業用_年月等","index":5,"n_rows":539,"n_cols":31,"rows_kept":539,"cut":false,"hidden":true,"merged":[]}
[]
[]
[]
[]
[]
[]
[]
[null,null,"年度","年","年度・西暦",null,null,null,null,"対策個票の呼び出し番号",null,null,null,"5類型",null,"補助金",null,"実施状況"]
[null,2021,"令和3年度","令和3年",{"$f":"C9&\"(\"&B9&\"年度)\"","v":"令和3年度(2021年度)"},null,null,null,null,1,null,null,null,"運用改善",null,"国(SHIFT)",null,"① 計画変更なし","=変更なし・実施",null,null,null,null,null,"中分類",null,null,"中分類","小分類","部門","中分類"]
[null,2022,"令和4年度","令和4年",{"$f":"C10&\"(\"&B10&\"年度)\"","v":"令和4年度(2022年度)"},null,null,null,null,2,null,null,null,"部分更新・ 機能付加",null,"国\n(その他)",null,"② 申請予定補助金を変更","=変更あり・実施",null,null,null,null,null,"01 農業","中分類1",null,"01 農業","010 管理，補助的経済活動を行う事業所（01農業）","業務","01 農業"]
[null,2023,"令和5年度","令和5年","令和5年度(2023年度)",null,null,null,null,3,null,null,null,"設備導入",null,"地方\n自治体",null,"③ 着手/完了時期を変更","=変更あり・実施",null,null,null,null,null,"02 林業","中分類2",null,null,"011 耕種農業","産業","01 農業"]
[null,2024,"令和6年度","令和6年","令和6年度(2024年度)",null,null,null,null,4,null,null,null,"燃料転換",null,"その他\n補助金",null,"④ 年間CO2削減量を変更","=変更あり・実施",null,null,null,null,null,"03 漁業（水産養殖業を除く）","中分類3",null,null,"012 畜産農業","産業","01 農業"]
[null,2025,"令和7年度","令和7年","令和7年度(2025年度)",null,null,null,null,5,null,null,null,"電力低炭素化",null,"予定なし",null,"⑤ ②及び③","=変更あり・実施",null,null,null,null,null,"04 水産養殖業","中分類4",null,null,"013 農業サービス業（園芸サービス業を除く）","産業","01 農業"]
[null,2026,"令和8年度","令和8年","令和8年度(2026年度)",null,null,null,null,6,null,null,null,null,null,null,null,"⑥ ③及び④","=変更あり・実施",null,null,null,null,null,"05 鉱業，採石業，砂利採取業","中分類5",null,null,"014 園芸サービス業","産業","01 農業"]
[null,2027,"令和9年度","令和9年","令和9年度(2027年度)",null,null,null,null,7,null,null,null,null,null,null,null,"⑦ ②及び④","=変更あり・実施",null,null,null,null,null,"06 総合工事業","中分類6",null,"02 林業","020 管理，補助的経済活動を行う事業所（02林業）","業務","02 林業"]
[null,2028,"令和10年度","令和10年","令和10年度(2028年度)",null,null,null,null,8,null,null,null,null,null,null,null,"⑧ ②,③及び④","=変更あり・実施",null,null,null,null,null,"07 職別工事業(設備工事業を除く)","中分類7",null,null,"021 育林業","産業","02 林業"]
[null,2029,"令和11年度","令和11年","令和11年度(2029年度)",null,null,null,null,9,null,null,null,null,null,null,null,"⑨ 中断・再考中","=変更あり・未実施（今後実施の可能性あり）",null,null,null,null,null,"08 設備工事業","中分類8",null,null,"022 素材生産業","産業","02 林業"]
[null,2030,"令和12年度","令和12年","令和12年度(2030年度)",null,null,null,null,10,null,"補助の種別",null,null,null,null,null,"⑩ 中止・廃止","=変更あり・未実施（今後実施の可能性なし）",null,null,null,null,null,"09 食料品製造業","中分類9",null,null,"023 特用林産物生産業（きのこ類の栽培を除く）","産業","02 林業"]
[null,2031,"令和13年度","令和13年","令和13年度(2031年度)",null,null,null,null,11,null,"補助事業A：工場・事業場でCO2排出量15%削減",null,null,null,null,null,null,null,null,null,null,null,null,"10 飲料・たばこ・飼料製造業","中分類10",null,null,"024 林業サービス業","産業","02 林業"]
[null,2032,"令和14年度","令和14年","令和14年度(2032年度)",null,null,null,null,12,null,"補助事業A：主要なシステム系統でCO2排出量30%削減",null,null,null,null,null,null,null,null,null,null,null,null,"11 繊維工業","中分類11",null,null,"029 その他の林業","産業","02 林業"]
[null,2033,"令和15年度","令和15年","令和15年度(2033年度)",null,null,null,null,13,null,"補助事業B",null,null,null,null,null,null,null,null,null,null,null,null,"12 木材・木製品製造業（家具を除く）","中分類12",null,"03 漁業（水産養殖業を除く）","030 管理，補助的経済活動を行う事業所（03漁業）","業務","03 漁業（水産養殖業を除く）"]
[null,2034,"令和16年度","令和16年","令和16年度(2034年度)",null,null,null,null,14,null,null,null,null,null,null,null,"中断中止理由",null,null,null,null,null,null,"13 家具・装備品製造業","中分類13",null,null,"031 海面漁業","産業","03 漁業（水産養殖業を除く）"]
[null,2035,"令和17年度","令和17年","令和17年度(2035年度)",null,null,null,null,15,null,null,null,null,null,null,null,"① 資金調達の見通しなし",null,null,null,null,null,null,"14 パルプ・紙・紙加工品製造業","中分類14",null,null,"032 内水面漁業","産業","03 漁業（水産養殖業を除く）"]
[null,2036,"令和18年度","令和18年","令和18年度(2036年度)",null,null,null,null,16,null,null,null,null,null,null,null,"② 対象設備等の稼働停止・売却",null,null,null,null,null,null,"15 印刷・同関連業","中分類15",null,"04 水産養殖業","040 管理，補助的経済活動を行う事業所（04水産養殖業）","業務","04 水産養殖業"]
[null,2037,"令和19年度","令和19年","令和19年度(2037年度)",null,null,null,null,17,null,null,null,null,null,null,null,"③ 推進体制の縮小",null,null,null,null,null,null,"16 化学工業","中分類16",null,null,"041 海面養殖業","産業","04 水産養殖業"]
[null,2038,"令和20年度","令和20年","令和20年度(2038年度)",null,null,null,null,18,null,null,null,null,null,null,null,"④ CO2削減効果に懸念",null,null,null,null,null,null,"17 石油製品・石炭製品製造業","中分類17",null,null,"042 内水面養殖業","産業","04 水産養殖業"]
[null,null,null,null,null,null,null,null,null,19,null,null,null,null,null,null,null,"⑤ 実施方法に懸念",null,null,null,null,null,null,"18 プラスチック製品製造業（別掲を除く）","中分類18",null,"05 鉱業，採石業，砂利採取業","050 管理，補助的経済活動を行う事業所（05鉱業，採石業，砂利採取業）","業務","05 鉱業，採石業，砂利採取業"]
[null,null,null,null,null,null,null,null,null,20,null,null,null,null,null,null,null,"⑥ 経営計画/事業計画の変更",null,null,null,null,null,null,"19 ゴム製品製造業","中分類19",null,null,"051 金属鉱業","産業","05 鉱業，採石業，砂利採取業"]
[null,null,null,null,null,null,null,null,null,21,null,null,null,null,null,null,null,"⑦ その他（備考欄に記載）",null,null,null,null,null,null,"20 なめし革・同製品・毛皮製造業","中分類20",null,null,"052 石炭・亜炭鉱業","産業","05 鉱業，採石業，砂利採取業"]
[null,null,null,null,null,null,null,null,null,22,null,null,null,null,null,null,null,null,null,null,null,null,null,null,"21 窯業・土石製品製造業","中分類21",null,null,"053 原油・天然ガス鉱業","産業","05 鉱業，採石業，砂利採取業"]
[null,null,null,null,null,null,null,null,null,23,null,null,null,null,null,null,null,null,null,null,null,null,null,null,"22 鉄鋼業","中分類22",null,null,"054 採石業，砂・砂利・玉石採取業","産業","05 鉱業，採石業，砂利採取業"]
[null,null,null,null,null,null,null,null,null,24,null,null,null,null,null,null,null,"補助金変更理由",null,null,null,null,null,null,"23 非鉄金属製造業","中分類23",null,null,"055 窯業原料用鉱物鉱業（耐火物・陶磁器・ガラス・セメント原料用に限る）","産業","05 鉱業，採石業，砂利採取業"]
[null,null,null,null,null,null,null,null,null,null,null,null,null,null,null,null,null,"① 申請不採択",null,null,null,null,null,null,"24 金属製品製造業","中分類24",null,null,"059 その他の鉱業","産業","05 鉱業，採石業，砂利採取業"]
[null,null,null,null,null,null,null,null,null,null,null,null,null,null,null,null,null,"② 予定の補助制度の終了",null,null,null,null,null,null,"25 はん用機械器具製造業","中分類25",null,"06 総合工事業","060 管理，補助的経済活動を行う事業所（06総合工事業）","業務","06 総合工事業"]
[null,null,null,null,null,null,null,null,null,null,null,null,null,null,null,null,null,"③ 別の補助制度に変更",null,null,null,null,null,null,"26 生産用機械器具製造業","中分類26",null,null,"061 一般土木建築工事業","産業","06 総合工事業"]
[null,null,null,null,null,null,null,null,null,null,null,null,null,null,null,null,null,"④ 金融機関の融資に変更",null,null,null,null,null,null,"27 業務用機械器具製造業","中分類27",null,null,"062 土木工事業（舗装工事業を除く）","産業","06 総合工事業"]
[null,null,null,null,null,null,null,null,null,null,null,null,null,null,null,null,null,"⑤ 自己資金に変更",null,null,null,null,null,null,"28 電子部品・デバイス・電子回路製造業","中分類28",null,null,"063 舗装工事業","産業","06 総合工事業"]
[null,null,null,null,null,null,null,null,null,null,null,null,null,null,null,null,null,"⑥ その他（備考欄に記載）",null,null,null,null,null,null,"29 電気機械器具製造業","中分類29",null,null,"064 建築工事業(木造建築工事業を除く)","産業","06 総合工事業"]
[null,null,null,null,null,null,null,null,null,null,null,null,null,null,null,null,null,null,null,null,null,null,null,null,"30 情報通信機械器具製造業","中分類30",null,null,"065 木造建築工事業","産業","06 総合工事業"]
[null,null,null,null,null,null,null,null,null,null,null,null,null,null,null,null,null,null,null,null,null,null,null,null,"31 輸送用機械器具製造業","中分類31",null,null,"066 建築リフォーム工事業","産業","06 総合工事業"]
[null,null,null,null,null,null,null,null,null,null,null,null,null,null,null,null,null,"時期変更理由",null,null,null,null,null,null,"32 その他の製造業","中分類32",null,"07 職別工事業(設備工事業を除く)","070 管理，補助的経済活動を行う事業所（07職別工事業）","業務","07 職別工事業(設備工事業を除く)"]
[null,null,null,null,null,null,null,null,null,null,null,null,null,null,null,null,null,"① 資金調達の遅れ",null,null,null,null,null,null,"33 電気業","中分類33",null,null,"071 大工工事業","産業","07 職別工事業(設備工事業を除く)"]
[null,null,null,null,null,null,null,null,null,null,null,null,null,null,null,null,null,"② 資金調達方法の変更",null,null,null,null,null,null,"34 ガス業","中分類34",null,null,"072 とび・土工・コンクリート工事業","産業","07 職別工事業(設備工事業を除く)"]
[null,null,null,null,null,null,null,null,null,null,null,null,null,null,null,null,null,"③ 対策実施規模の拡大",null,null,null,null,null,null,"35 熱供給業","中分類35",null,null,"073 鉄骨・鉄筋工事業","産業","07 職別工事業(設備工事業を除く)"]
[null,null,null,null,null,null,null,null,null,null,null,null,null,null,null,null,null,"④ 対策実施規模の縮小",null,null,null,null,null,null,"36 水道業","中分類36",null,null,"074 石工・れんが・タイル・ブロック工事業","産業","07 職別工事業(設備工事業を除く)"]
[null,null,null,null,null,null,null,null,null,null,null,null,null,null,null,null,null,"⑤ 実施方法の変更",null,null,null,null,null,null,"37 通信業","中分類37",null,null,"075 左官工事業","産業","07 職別工事業(設備工事業を除く)"]
[null,null,null,null,null,null,null,null,null,null,null,null,null,null,null,null,null,"⑥ 経営計画/事業計画の変更",null,null,null,null,null,null,"38 放送業","中分類38",null,null,"076 板金・金物工事業","産業","07 職別工事業(設備工事業を除く)"]
[null,null,null,null,null,null,null,null,null,null,null,null,null,null,null,null,null,"⑥ その他（備考欄に記載）",null,null,null,null,null,null,"39 情報サービス業","中分類39",null,null,"077 塗装工事業","産業","07 職別工事業(設備工事業を除く)"]
[null,null,null,null,null,null,null,null,null,null,null,null,null,null,null,null,null,null,null,null,null,null,null,null,"40 インターネット附随サービス業","中分類40",null,null,"078 床・内装工事業","産業","07 職別工事業(設備工事業を除く)"]
[null,null,null,null,null,null,null,null,null,null,null,null,null,null,null,null,null,null,null,null,null,null,null,null,"41 映像・音声・文字情報制作業","中分類41",null,null,"079 その他の職別工事業","産業","07 職別工事業(設備工事業を除く)"]
[null,null,null,null,null,null,null,null,null,null,null,null,null,null,null,null,null,"削減量変更理由",null,null,null,null,null,null,"42 鉄道業","中分類42",null,"08 設備工事業","080 管理，補助的経済活動を行う事業所（08設備工事業）","業務","08 設備工事業"]
[null,null,null,null,null,null,null,null,null,null,null,null,null,null,null,null,null,"① 対象設備等の稼働時間短縮",null,null,null,null,null,null,"43 道路旅客運送業","中分類43",null,null,"081 電気工事業","産業","08 設備工事業"]
[null,null,null,null,null,null,null,null,null,null,null,null,null,null,null,null,null,"② 計画規模の拡大",null,null,null,null,null,null,"44 道路貨物運送業","中分類44",null,null,"082 電気通信・信号装置工事業","産業","08 設備工事業"]
[null,null,null,null,null,null,null,null,null,null,null,null,null,null,null,null,null,"③ 計画規模の縮小",null,null,null,null,null,null,"45 水運業","中分類45",null,null,"083 管工事業（さく井工事業を除く）","産業","08 設備工事業"]
[null,null,null,null,null,null,null,null,null,null,null,null,null,null,null,null,null,"④ 導入設備等の仕様変更",null,null,null,null,null,null,"46 航空運輸業","中分類46",null,null,"084 機械器具設置工事業","産業","08 設備工事業"]
[null,null,null,null,null,null,null,null,null,null,null,null,null,null,null,null,null,"⑤ その他（備考欄に記載）",null,null,null,null,null,null,"47 倉庫業","中分類47",null,null,"089 その他の設備工事業","産業","08 設備工事業"]
[null,null,null,null,null,null,null,null,null,null,null,null,null,null,null,null,null,null,null,null,null,null,null,null,"48 運輸に附帯するサービス業","中分類48",null,"09 食料品製造業","090 管理，補助的経済活動を行う事業所（09食料品製造業）","業務","09 食料品製造業"]
[null,null,null,null,null,null,null,null,null,null,null,null,null,null,null,null,null,null,null,null,null,null,null,null,"49 郵便業（信書便事業を含む）","中分類49",null,null,"091 畜産食料品製造業","産業","09 食料品製造業"]
[null,null,null,null,null,null,null,null,null,null,null,null,null,null,null,null,null,null,null,null,null,null,null,null,"50 各種商品卸売業","中分類50",null,null,"092 水産食料品製造業","産業","09 食料品製造業"]
[null,null,null,null,null,null,null,null,null,null,null,null,null,null,null,null,null,null,null,null,null,null,null,null,"51 繊維・衣服等卸売業","中分類51",null,null,"093 野菜缶詰・果実缶詰・農産保存食料品製造業","産業","09 食料品製造業"]
[null,null,null,null,null,null,null,null,null,null,null,null,null,null,null,null,null,null,null,null,null,null,null,null,"52 飲食料品卸売業","中分類52",null,null,"094 調味料製造業","産業","09 食料品製造業"]
[null,null,null,null,null,null,null,null,null,null,null,null,null,null,null,null,null,null,null,null,null,null,null,null,"53 建築材料，鉱物・金属材料等卸売業","中分類53",null,null,"095 糖類製造業","産業","09 食料品製造業"]
[null,null,null,null,null,null,null,null,null,null,null,null,null,null,null,null,null,null,null,null,null,null,null,null,"54 機械器具卸売業","中分類54",null,null,"096 精穀・製粉業","産業","09 食料品製造業"]
[null,null,null,null,null,null,null,null,null,null,null,null,null,null,null,null,null,null,null,null,null,null,null,null,"55 その他の卸売業","中分類55",null,null,"097 パン・菓子製造業","産業","09 食料品製造業"]
[null,null,null,null,null,null,null,null,null,null,null,null,null,null,null,null,null,null,null,null,null,null,null,null,"56 各種商品小売業","中分類56",null,null,"098 動植物油脂製造業","産業","09 食料品製造業"]
[null,null,null,null,null,null,null,null,null,null,null,null,null,null,null,null,null,null,null,null,null,null,null,null,"57 織物・衣服・身の回り品小売業","中分類57",null,null,"099 その他の食料品製造業","産業","09 食料品製造業"]
[null,null,null,null,null,null,null,null,null,null,null,null,null,null,null,null,null,null,null,null,null,null,null,null,"58 飲食料品小売業","中分類58",null,"10 飲料・たばこ・飼料製造業","100 管理，補助的経済活動を行う事業所（10飲料・たばこ・飼料製造業）","業務","10 飲料・たばこ・飼料製造業"]
[null,null,null,null,null,null,null,null,null,null,null,null,null,null,null,null,null,null,null,null,null,null,null,null,"59 機械器具小売業","中分類59",null,null,"101 清涼飲料製造業","産業","10 飲料・たばこ・飼料製造業"]
[null,null,null,null,null,null,null,null,null,null,null,null,null,null,null,null,null,null,null,null,null,null,null,null,"60 その他の小売業","中分類60",null,null,"102 酒類製造業","産業","10 飲料・たばこ・飼料製造業"]
[null,null,null,null,null,null,null,null,null,null,null,null,null,null,null,null,null,null,null,null,null,null,null,null,"61 無店舗小売業","中分類61",null,null,"103 茶・コーヒー製造業（清涼飲料を除く）","産業","10 飲料・たばこ・飼料製造業"]
[null,null,null,null,null,null,null,null,null,null,null,null,null,null,null,null,null,null,null,null,null,null,null,null,"62 銀行業","中分類62",null,null,"104 製氷業","産業","10 飲料・たばこ・飼料製造業"]
[null,null,null,null,null,null,null,null,null,null,null,null,null,null,null,null,null,null,null,null,null,null,null,null,"63 協同組織金融業","中分類63",null,null,"105 たばこ製造業","産業","10 飲料・たばこ・飼料製造業"]
[null,null,null,null,null,null,null,null,null,null,null,null,null,null,null,null,null,null,null,null,null,null,null,null,"64 貸金業，クレジットカード業等非預金信用機関","中分類64",null,null,"106 飼料・有機質肥料製造業","産業","10 飲料・たばこ・飼料製造業"]
[null,null,null,null,null,null,null,null,null,null,null,null,null,null,null,null,null,null,null,null,null,null,null,null,"65 金融商品取引業，商品先物取引業","中分類65",null,"11 繊維工業","110 管理，補助的経済活動を行う事業所（11繊維工業）","業務","11 繊維工業"]
[null,null,null,null,null,null,null,null,null,null,null,null,null,null,null,null,null,null,null,null,null,null,null,null,"66 補助的金融業等","中分類66",null,null,"111 製糸業，紡績業，化学繊維・ねん糸等製造業","産業","11 繊維工業"]
[null,null,null,null,null,null,null,null,null,null,null,null,null,null,null,null,null,null,null,null,null,null,null,null,"67 保険業（保険媒介代理業，保険サービス業を含む）","中分類67",null,null,"112 織物業","産業","11 繊維工業"]
[null,null,null,null,null,null,null,null,null,null,null,null,null,null,null,null,null,null,null,null,null,null,null,null,"68 不動産取引業","中分類68",null,null,"113 ニット生地製造業","産業","11 繊維工業"]
[null,null,null,null,null,null,null,null,null,null,null,null,null,null,null,null,null,null,null,null,null,null,null,null,"69 不動産賃貸業・管理業","中分類69",null,null,"114 染色整理業","産業","11 繊維工業"]
[null,null,null,null,null,null,null,null,null,null,null,null,null,null,null,null,null,null,null,null,null,null,null,null,"70 物品賃貸業","中分類70",null,null,"115 綱・網・レース・繊維粗製品製造業","産業","11 繊維工業"]
[null,null,null,null,null,null,null,null,null,null,null,null,null,null,null,null,null,null,null,null,null,null,null,null,"71 学術・開発研究機関","中分類71",null,null,"116 外衣・シャツ製造業（和式を除く）","産業","11 繊維工業"]
[null,null,null,null,null,null,null,null,null,null,null,null,null,null,null,null,null,null,null,null,null,null,null,null,"72 専門サービス業（他に分類されないもの）","中分類72",null,null,"117 下着類製造業","産業","11 繊維工業"]
[null,null,null,null,null,null,null,null,null,null,null,null,null,null,null,null,null,null,null,null,null,null,null,null,"73 広告業","中分類73",null,null,"118 和装製品・その他の衣服・繊維製身の回り品製造業","産業","11 繊維工業"]
[null,null,null,null,null,null,null,null,null,null,null,null,null,null,null,null,null,null,null,null,null,null,null,null,"74 技術サービス業（他に分類されないもの）","中分類74",null,null,"119 その他の繊維製品製造業","産業","11 繊維工業"]
[null,null,null,null,null,null,null,null,null,null,null,null,null,null,null,null,null,null,null,null,null,null,null,null,"75 宿泊業","中分類75",null,"12 木材・木製品製造業（家具を除く）","120 管理，補助的経済活動を行う事業所（12木材・木製品製造業）","業務","12 木材・木製品製造業（家具を除く）"]
[null,null,null,null,null,null,null,null,null,null,null,null,null,null,null,null,null,null,null,null,null,null,null,null,"76 飲食店","中分類76",null,null,"121 製材業，木製品製造業","産業","12 木材・木製品製造業（家具を除く）"]
[null,null,null,null,null,null,null,null,null,null,null,null,null,null,null,null,null,null,null,null,null,null,null,null,"77 持ち帰り・配達飲食サービス業","中分類77",null,null,"122 造作材・合板・建築用組立材料製造業","産業","12 木材・木製品製造業（家具を除く）"]
[null,null,null,null,null,null,null,null,null,null,null,null,null,null,null,null,null,null,null,null,null,null,null,null,"78 洗濯・理容・美容・浴場業","中分類78",null,null,"123 木製容器製造業（竹，とうを含む）","産業","12 木材・木製品製造業（家具を除く）"]
[null,null,null,null,null,null,null,null,null,null,null,null,null,null,null,null,null,null,null,null,null,null,null,null,"79 その他の生活関連サービス業","中分類79",null,null,"129 その他の木製品製造業(竹，とうを含む)","産業","12 木材・木製品製造業（家具を除く）"]
[null,null,null,null,null,null,null,null,null,null,null,null,null,null,null,null,null,null,null,null,null,null,null,null,"80 娯楽業","中分類80",null,"13 家具・装備品製造業","130 管理，補助的経済活動を行う事業所（13家具・装備品製造業）","業務","13 家具・装備品製造業"]
[null,null,null,null,null,null,null,null,null,null,null,null,null,null,null,null,null,null,null,null,null,null,null,null,"81 学校教育","中分類81",null,null,"131 家具製造業","産業","13 家具・装備品製造業"]
[null,null,null,null,null,null,null,null,null,null,null,null,null,null,null,null,null,null,null,null,null,null,null,null,"82 その他の教育，学習支援業","中分類82",null,null,"132 宗教用具製造業","産業","13 家具・装備品製造業"]
[null,null,null,null,null,null,null,null,null,null,null,null,null,null,null,null,null,null,null,null,null,null,null,null,"83 医療業","中分類83",null,null,"133 建具製造業","産業","13 家具・装備品製造業"]
[null,null,null,null,null,null,null,null,null,null,null,null,null,null,null,null,null,null,null,null,null,null,null,null,"84 保健衛生","中分類84",null,null,"139 その他の家具・装備品製造業","産業","13 家具・装備品製造業"]
[null,null,null,null,null,null,null,null,null,null,null,null,null,null,null,null,null,null,null,null,null,null,null,null,"85 社会保険・社会福祉・介護事業","中分類85",null,"14 パルプ・紙・紙加工品製造業","140 管理，補助的経済活動を行う事業所（14パルプ・紙・紙加工品製造業）","業務","14 パルプ・紙・紙加工品製造業"]
[null,null,null,null,null,null,null,null,null,null,null,null,null,null,null,null,null,null,null,null,null,null,null,null,"86 郵便局","中分類86",null,null,"141 パルプ製造業","産業","14 パルプ・紙・紙加工品製造業"]
[null,null,null,null,null,null,null,null,null,null,null,null,null,null,null,null,null,null,null,null,null,null,null,null,"87 協同組合（他に分類されないもの）","中分類87",null,null,"142 紙製造業","産業","14 パルプ・紙・紙加工品製造業"]
[null,null,null,null,null,null,null,null,null,null,null,null,null,null,null,null,null,null,null,null,null,null,null,null,"88 廃棄物処理業","中分類88",null,null,"143 加工紙製造業","産業","14 パルプ・紙・紙加工品製造業"]
[null,null,null,null,null,null,null,null,null,null,null,null,null,null,null,null,null,null,null,null,null,null,null,null,"89 自動車整備業","中分類89",null,null,"144 紙製品製造業","産業","14 パルプ・紙・紙加工品製造業"]
[null,null,null,null,null,null,null,null,null,null,null,null,null,null,null,null,null,null,null,null,null,null,null,null,"90 機械等修理業（別掲を除く）","中分類90",null,null,"145 紙製容器製造業","産業","14 パルプ・紙・紙加工品製造業"]
[null,null,null,null,null,null,null,null,null,null,null,null,null,null,null,null,null,null,null,null,null,null,null,null,"91 職業紹介・労働者派遣業","中分類91",null,null,"149 その他のパルプ・紙・紙加工品製造業","産業","14 パルプ・紙・紙加工品製造業"]
[null,null,null,null,null,null,null,null,null,null,null,null,null,null,null,null,null,null,null,null,null,null,null,null,"92 その他の事業サービス業","中分類92",null,"15 印刷・同関連業","150 管理，補助的経済活動を行う事業所（15印刷・同関連業）","業務","15 印刷・同関連業"]
[null,null,null,null,null,null,null,null,null,null,null,null,null,null,null,null,null,null,null,null,null,null,null,null,"93 政治・経済・文化団体","中分類93",null,null,"151 印刷業","産業","15 印刷・同関連業"]
[null,null,null,null,null,null,null,null,null,null,null,null,null,null,null,null,null,null,null,null,null,null,null,null,"94 宗教","中分類94",null,null,"152 製版業","産業","15 印刷・同関連業"]
[null,null,null,null,null,null,null,null,null,null,null,null,null,null,null,null,null,null,null,null,null,null,null,null,"95 その他のサービス業","中分類95",null,null,"153 製本業，印刷物加工業","産業","15 印刷・同関連業"]
[null,null,null,null,null,null,null,null,null,null,null,null,null,null,null,null,null,null,null,null,null,null,null,null,"96 外国公務","中分類96",null,null,"159 印刷関連サービス業","産業","15 印刷・同関連業"]
[null,null,null,null,null,null,null,null,null,null,null,null,null,null,null,null,null,null,null,null,null,null,null,null,"97 国家公務","中分類97",null,"16 化学工業","160 管理，補助的経済活動を行う事業所（16化学工業）","業務","16 化学工業"]
[null,null,null,null,null,null,null,null,null,null,null,null,null,null,null,null,null,null,null,null,null,null,null,null,"98 地方公務","中分類98",null,null,"161 化学肥料製造業","産業","16 化学工業"]
[null,null,null,null,null,null,null,null,null,null,null,null,null,null,null,null,null,null,null,null,null,null,null,null,"99 分類不能の産業","中分類99",null,null,"162 無機化学工業製品製造業","産業","16 化学工業"]
[null,null,null,null,null,null,null,null,null,null,null,null,null,null,null,null,null,null,null,null,null,null,null,null,null,null,null,null,"163 有機化学工業製品製造業","産業","16 化学工業"]
[null,null,null,null,null,null,null,null,null,null,null,null,null,null,null,null,null,null,null,null,null,null,null,null,null,null,null,null,"164 油脂加工製品・石けん・合成洗剤・界面活性剤・塗料製造業","産業","16 化学工業"]
[null,null,null,null,null,null,null,null,null,null,null,null,null,null,null,null,null,null,null,null,null,null,null,null,null,null,null,null,"165 医薬品製造業","産業","16 化学工業"]
[null,null,null,null,null,null,null,null,null,null,null,null,null,null,null,null,null,null,null,null,null,null,null,null,null,null,null,null,"166 化粧品・歯磨・その他の化粧用調整品製造業","産業","16 化学工業"]
[null,null,null,null,null,null,null,null,null,null,null,null,null,null,null,null,null,null,null,null,null,null,null,null,null,null,null,null,"169 その他の化学工業","産業","16 化学工業"]
[null,null,null,null,null,null,null,null,null,null,null,null,null,null,null,null,null,null,null,null,null,null,null,null,null,null,null,"17 石油製品・石炭製品製造業","170 管理，補助的経済活動を行う事業所（17石油製品・石炭製品製造業）","業務","17 石油製品・石炭製品製造業"]
[null,null,null,null,null,null,null,null,null,null,null,null,null,null,null,null,null,null,null,null,null,null,null,null,null,null,null,null,"171 石油精製業","産業","17 石油製品・石炭製品製造業"]
[null,null,null,null,null,null,null,null,null,null,null,null,null,null,null,null,null,null,null,null,null,null,null,null,null,null,null,null,"172 潤滑油・グリース製造業（石油精製業によらないもの）","産業","17 石油製品・石炭製品製造業"]
[null,null,null,null,null,null,null,null,null,null,null,null,null,null,null,null,null,null,null,null,null,null,null,null,null,null,null,null,"173 コークス製造業","産業","17 石油製品・石炭製品製造業"]
[null,null,null,null,null,null,null,null,null,null,null,null,null,null,null,null,null,null,null,null,null,null,null,null,null,null,null,null,"174 舗装材料製造業","産業","17 石油製品・石炭製品製造業"]
[null,null,null,null,null,null,null,null,null,null,null,null,null,null,null,null,null,null,null,null,null,null,null,null,null,null,null,null,"179 その他の石油製品・石炭製品製造業","産業","17 石油製品・石炭製品製造業"]
[null,null,null,null,null,null,null,null,null,null,null,null,null,null,null,null,null,null,null,null,null,null,null,null,null,null,null,"18 プラスチック製品製造業（別掲を除く）","180 管理，補助的経済活動を行う事業所（18プラスチック製品製造業）","業務","18 プラスチック製品製造業（別掲を除く）"]
[null,null,null,null,null,null,null,null,null,null,null,null,null,null,null,null,null,null,null,null,null,null,null,null,null,null,null,null,"181 プラスチック板・棒・管・継手・異形押出製品製造業","産業","18 プラスチック製品製造業（別掲を除く）"]
[null,null,null,null,null,null,null,null,null,null,null,null,null,null,null,null,null,null,null,null,null,null,null,null,null,null,null,null,"182 プラスチックフィルム・シート・床材・合成皮革製造業","産業","18 プラスチック製品製造業（別掲を除く）"]
[null,null,null,null,null,null,null,null,null,null,null,null,null,null,null,null,null,null,null,null,null,null,null,null,null,null,null,null,"183 工業用プラスチック製品製造業","産業","18 プラスチック製品製造業（別掲を除く）"]
[null,null,null,null,null,null,null,null,null,null,null,null,null,null,null,null,null,null,null,null,null,null,null,null,null,null,null,null,"184 発泡・強化プラスチック製品製造業","産業","18 プラスチック製品製造業（別掲を除く）"]
[null,null,null,null,null,null,null,null,null,null,null,null,null,null,null,null,null,null,null,null,null,null,null,null,null,null,null,null,"185 プラスチック成形材料製造業（廃プラスチックを含む）","産業","18 プラスチック製品製造業（別掲を除く）"]
[null,null,null,null,null,null,null,null,null,null,null,null,null,null,null,null,null,null,null,null,null,null,null,null,null,null,null,null,"189 その他のプラスチック製品製造業","産業","18 プラスチック製品製造業（別掲を除く）"]
[null,null,null,null,null,null,null,null,null,null,null,null,null,null,null,null,null,null,null,null,null,null,null,null,null,null,null,"19 ゴム製品製造業","190 管理，補助的経済活動を行う事業所（19ゴム製品製造業）","業務","19 ゴム製品製造業"]
[null,null,null,null,null,null,null,null,null,null,null,null,null,null,null,null,null,null,null,null,null,null,null,null,null,null,null,null,"191 タイヤ・チューブ製造業","産業","19 ゴム製品製造業"]
[null,null,null,null,null,null,null,null,null,null,null,null,null,null,null,null,null,null,null,null,null,null,null,null,null,null,null,null,"192 ゴム製・プラスチック製履物・同附属品製造業","産業","19 ゴム製品製造業"]
[null,null,null,null,null,null,null,null,null,null,null,null,null,null,null,null,null,null,null,null,null,null,null,null,null,null,null,null,"193 ゴムベルト・ゴムホース・工業用ゴム製品製造業","産業","19 ゴム製品製造業"]
[null,null,null,null,null,null,null,null,null,null,null,null,null,null,null,null,null,null,null,null,null,null,null,null,null,null,null,null,"199 その他のゴム製品製造業","産業","19 ゴム製品製造業"]
[null,null,null,null,null,null,null,null,null,null,null,null,null,null,null,null,null,null,null,null,null,null,null,null,null,null,null,"20 なめし革・同製品・毛皮製造業","200 管理，補助的経済活動を行う事業所（20なめし革・同製品・毛皮製造業）","業務","20 なめし革・同製品・毛皮製造業"]
[null,null,null,null,null,null,null,null,null,null,null,null,null,null,null,null,null,null,null,null,null,null,null,null,null,null,null,null,"201 なめし革製造業","産業","20 なめし革・同製品・毛皮製造業"]
[null,null,null,null,null,null,null,null,null,null,null,null,null,null,null,null,null,null,null,null,null,null,null,null,null,null,null,null,"202 工業用革製品製造業（手袋を除く）","産業","20 なめし革・同製品・毛皮製造業"]
[null,null,null,null,null,null,null,null,null,null,null,null,null,null,null,null,null,null,null,null,null,null,null,null,null,null,null,null,"203 革製履物用材料・同附属品製造業","産業","20 なめし革・同製品・毛皮製造業"]
[null,null,null,null,null,null,null,null,null,null,null,null,null,null,null,null,null,null,null,null,null,null,null,null,null,null,null,null,"204 革製履物製造業","産業","20 なめし革・同製品・毛皮製造業"]
[null,null,null,null,null,null,null,null,null,null,null,null,null,null,null,null,null,null,null,null,null,null,null,null,null,null,null,null,"205 革製手袋製造業","産業","20 なめし革・同製品・毛皮製造業"]
[null,null,null,null,null,null,null,null,null,null,null,null,null,null,null,null,null,null,null,null,null,null,null,null,null,null,null,null,"206 かばん製造業","産業","20 なめし革・同製品・毛皮製造業"]
[null,null,null,null,null,null,null,null,null,null,null,null,null,null,null,null,null,null,null,null,null,null,null,null,null,null,null,null,"207 袋物製造業","産業","20 なめし革・同製品・毛皮製造業"]
[null,null,null,null,null,null,null,null,null,null,null,null,null,null,null,null,null,null,null,null,null,null,null,null,null,null,null,null,"208 毛皮製造業","産業","20 なめし革・同製品・毛皮製造業"]
[null,null,null,null,null,null,null,null,null,null,null,null,null,null,null,null,null,null,null,null,null,null,null,null,null,null,null,null,"209 その他のなめし革製品製造業","産業","20 なめし革・同製品・毛皮製造業"]
[null,null,null,null,null,null,null,null,null,null,null,null,null,null,null,null,null,null,null,null,null,null,null,null,null,null,null,"21 窯業・土石製品製造業","210 管理，補助的経済活動を行う事業所（21窯業・土石製品製造業）","業務","21 窯業・土石製品製造業"]
[null,null,null,null,null,null,null,null,null,null,null,null,null,null,null,null,null,null,null,null,null,null,null,null,null,null,null,null,"211 ガラス・同製品製造業","産業","21 窯業・土石製品製造業"]
[null,null,null,null,null,null,null,null,null,null,null,null,null,null,null,null,null,null,null,null,null,null,null,null,null,null,null,null,"212 セメント・同製品製造業","産業","21 窯業・土石製品製造業"]
[null,null,null,null,null,null,null,null,null,null,null,null,null,null,null,null,null,null,null,null,null,null,null,null,null,null,null,null,"213 建設用粘土製品製造業（陶磁器製を除く)","産業","21 窯業・土石製品製造業"]
[null,null,null,null,null,null,null,null,null,null,null,null,null,null,null,null,null,null,null,null,null,null,null,null,null,null,null,null,"214 陶磁器・同関連製品製造業","産業","21 窯業・土石製品製造業"]
[null,null,null,null,null,null,null,null,null,null,null,null,null,null,null,null,null,null,null,null,null,null,null,null,null,null,null,null,"215 耐火物製造業","産業","21 窯業・土石製品製造業"]
[null,null,null,null,null,null,null,null,null,null,null,null,null,null,null,null,null,null,null,null,null,null,null,null,null,null,null,null,"216 炭素・黒鉛製品製造業","産業","21 窯業・土石製品製造業"]
[null,null,null,null,null,null,null,null,null,null,null,null,null,null,null,null,null,null,null,null,null,null,null,null,null,null,null,null,"217 研磨材・同製品製造業","産業","21 窯業・土石製品製造業"]
[null,null,null,null,null,null,null,null,null,null,null,null,null,null,null,null,null,null,null,null,null,null,null,null,null,null,null,null,"218 骨材・石工品等製造業","産業","21 窯業・土石製品製造業"]
[null,null,null,null,null,null,null,null,null,null,null,null,null,null,null,null,null,null,null,null,null,null,null,null,null,null,null,null,"219 その他の窯業・土石製品製造業","産業","21 窯業・土石製品製造業"]
[null,null,null,null,null,null,null,null,null,null,null,null,null,null,null,null,null,null,null,null,null,null,null,null,null,null,null,"22 鉄鋼業","220 管理，補助的経済活動を行う事業所（22鉄鋼業）","業務","22 鉄鋼業"]
[null,null,null,null,null,null,null,null,null,null,null,null,null,null,null,null,null,null,null,null,null,null,null,null,null,null,null,null,"221 製鉄業","産業","22 鉄鋼業"]
[null,null,null,null,null,null,null,null,null,null,null,null,null,null,null,null,null,null,null,null,null,null,null,null,null,null,null,null,"222 製鋼・製鋼圧延業","産業","22 鉄鋼業"]
[null,null,null,null,null,null,null,null,null,null,null,null,null,null,null,null,null,null,null,null,null,null,null,null,null,null,null,null,"223 製鋼を行わない鋼材製造業（表面処理鋼材を除く）","産業","22 鉄鋼業"]
[null,null,null,null,null,null,null,null,null,null,null,null,null,null,null,null,null,null,null,null,null,null,null,null,null,null,null,null,"224 表面処理鋼材製造業","産業","22 鉄鋼業"]
[null,null,null,null,null,null,null,null,null,null,null,null,null,null,null,null,null,null,null,null,null,null,null,null,null,null,null,null,"225 鉄素形材製造業","産業","22 鉄鋼業"]
[null,null,null,null,null,null,null,null,null,null,null,null,null,null,null,null,null,null,null,null,null,null,null,null,null,null,null,null,"229 その他の鉄鋼業","産業","22 鉄鋼業"]
[null,null,null,null,null,null,null,null,null,null,null,null,null,null,null,null,null,null,null,null,null,null,null,null,null,null,null,"23 非鉄金属製造業","230 管理，補助的経済活動を行う事業所（23非鉄金属製造業）","業務","23 非鉄金属製造業"]
[null,null,null,null,null,null,null,null,null,null,null,null,null,null,null,null,null,null,null,null,null,null,null,null,null,null,null,null,"231 非鉄金属第1次製錬・精製業","産業","23 非鉄金属製造業"]
[null,null,null,null,null,null,null,null,null,null,null,null,null,null,null,null,null,null,null,null,null,null,null,null,null,null,null,null,"232 非鉄金属第2次製錬・精製業（非鉄金属合金製造業を含む）","産業","23 非鉄金属製造業"]
[null,null,null,null,null,null,null,null,null,null,null,null,null,null,null,null,null,null,null,null,null,null,null,null,null,null,null,null,"233 非鉄金属・同合金圧延業（抽伸，押出しを含む）","産業","23 非鉄金属製造業"]
[null,null,null,null,null,null,null,null,null,null,null,null,null,null,null,null,null,null,null,null,null,null,null,null,null,null,null,null,"234 電線・ケーブル製造業","産業","23 非鉄金属製造業"]
[null,null,null,null,null,null,null,null,null,null,null,null,null,null,null,null,null,null,null,null,null,null,null,null,null,null,null,null,"235 非鉄金属素形材製造業","産業","23 非鉄金属製造業"]
[null,null,null,null,null,null,null,null,null,null,null,null,null,null,null,null,null,null,null,null,null,null,null,null,null,null,null,null,"239 その他の非鉄金属製造業","産業","23 非鉄金属製造業"]
[null,null,null,null,null,null,null,null,null,null,null,null,null,null,null,null,null,null,null,null,null,null,null,null,null,null,null,"24 金属製品製造業","240 管理，補助的経済活動を行う事業所（24金属製品製造業）","業務","24 金属製品製造業"]
[null,null,null,null,null,null,null,null,null,null,null,null,null,null,null,null,null,null,null,null,null,null,null,null,null,null,null,null,"241 ブリキ缶・その他のめっき板等製品製造業","産業","24 金属製品製造業"]
[null,null,null,null,null,null,null,null,null,null,null,null,null,null,null,null,null,null,null,null,null,null,null,null,null,null,null,null,"242 洋食器・刃物・手道具・金物類製造業","産業","24 金属製品製造業"]
[null,null,null,null,null,null,null,null,null,null,null,null,null,null,null,null,null,null,null,null,null,null,null,null,null,null,null,null,"243 暖房・調理等装置,配管工事用附属品製造業","産業","24 金属製品製造業"]
[null,null,null,null,null,null,null,null,null,null,null,null,null,null,null,null,null,null,null,null,null,null,null,null,null,null,null,null,"244 建設用・建築用金属製品製造業（製缶板金業を含む)","産業","24 金属製品製造業"]
[null,null,null,null,null,null,null,null,null,null,null,null,null,null,null,null,null,null,null,null,null,null,null,null,null,null,null,null,"245 金属素形材製品製造業","産業","24 金属製品製造業"]
[null,null,null,null,null,null,null,null,null,null,null,null,null,null,null,null,null,null,null,null,null,null,null,null,null,null,null,null,"246 金属被覆・彫刻業，熱処理業（ほうろう鉄器を除く）","産業","24 金属製品製造業"]
[null,null,null,null,null,null,null,null,null,null,null,null,null,null,null,null,null,null,null,null,null,null,null,null,null,null,null,null,"247 金属線製品製造業（ねじ類を除く)","産業","24 金属製品製造業"]
[null,null,null,null,null,null,null,null,null,null,null,null,null,null,null,null,null,null,null,null,null,null,null,null,null,null,null,null,"248 ボルト・ナット・リベット・小ねじ・木ねじ等製造業","産業","24 金属製品製造業"]
[null,null,null,null,null,null,null,null,null,null,null,null,null,null,null,null,null,null,null,null,null,null,null,null,null,null,null,null,"249 その他の金属製品製造業","産業","24 金属製品製造業"]
[null,null,null,null,null,null,null,null,null,null,null,null,null,null,null,null,null,null,null,null,null,null,null,null,null,null,null,"25 はん用機械器具製造業","250 管理，補助的経済活動を行う事業所（25はん用機械器具製造業）","業務","25 はん用機械器具製造業"]
[null,null,null,null,null,null,null,null,null,null,null,null,null,null,null,null,null,null,null,null,null,null,null,null,null,null,null,null,"251 ボイラ・原動機製造業","産業","25 はん用機械器具製造業"]
[null,null,null,null,null,null,null,null,null,null,null,null,null,null,null,null,null,null,null,null,null,null,null,null,null,null,null,null,"252 ポンプ・圧縮機器製造業","産業","25 はん用機械器具製造業"]
[null,null,null,null,null,null,null,null,null,null,null,null,null,null,null,null,null,null,null,null,null,null,null,null,null,null,null,null,"253 一般産業用機械・装置製造業","産業","25 はん用機械器具製造業"]
[null,null,null,null,null,null,null,null,null,null,null,null,null,null,null,null,null,null,null,null,null,null,null,null,null,null,null,null,"259 その他のはん用機械・同部分品製造業","産業","25 はん用機械器具製造業"]
[null,null,null,null,null,null,null,null,null,null,null,null,null,null,null,null,null,null,null,null,null,null,null,null,null,null,null,"26 生産用機械器具製造業","260 管理，補助的経済活動を行う事業所（26生産用機械器具製造業）","業務","26 生産用機械器具製造業"]
[null,null,null,null,null,null,null,null,null,null,null,null,null,null,null,null,null,null,null,null,null,null,null,null,null,null,null,null,"261 農業用機械製造業（農業用器具を除く）","産業","26 生産用機械器具製造業"]
[null,null,null,null,null,null,null,null,null,null,null,null,null,null,null,null,null,null,null,null,null,null,null,null,null,null,null,null,"262 建設機械・鉱山機械製造業","産業","26 生産用機械器具製造業"]
[null,null,null,null,null,null,null,null,null,null,null,null,null,null,null,null,null,null,null,null,null,null,null,null,null,null,null,null,"263 繊維機械製造業","産業","26 生産用機械器具製造業"]
[null,null,null,null,null,null,null,null,null,null,null,null,null,null,null,null,null,null,null,null,null,null,null,null,null,null,null,null,"264 生活関連産業用機械製造業","産業","26 生産用機械器具製造業"]
[null,null,null,null,null,null,null,null,null,null,null,null,null,null,null,null,null,null,null,null,null,null,null,null,null,null,null,null,"265 基礎素材産業用機械製造業","産業","26 生産用機械器具製造業"]
[null,null,null,null,null,null,null,null,null,null,null,null,null,null,null,null,null,null,null,null,null,null,null,null,null,null,null,null,"266 金属加工機械製造業","産業","26 生産用機械器具製造業"]
[null,null,null,null,null,null,null,null,null,null,null,null,null,null,null,null,null,null,null,null,null,null,null,null,null,null,null,null,"267 半導体・フラットパネルディスプレイ製造装置製造業","産業","26 生産用機械器具製造業"]
[null,null,null,null,null,null,null,null,null,null,null,null,null,null,null,null,null,null,null,null,null,null,null,null,null,null,null,null,"269 その他の生産用機械・同部分品製造業","産業","26 生産用機械器具製造業"]
[null,null,null,null,null,null,null,null,null,null,null,null,null,null,null,null,null,null,null,null,null,null,null,null,null,null,null,"27 業務用機械器具製造業","270 管理，補助的経済活動を行う事業所（27業務用機械器具製造業）","業務","27 業務用機械器具製造業"]
[null,null,null,null,null,null,null,null,null,null,null,null,null,null,null,null,null,null,null,null,null,null,null,null,null,null,null,null,"271 事務用機械器具製造業","産業","27 業務用機械器具製造業"]
[null,null,null,null,null,null,null,null,null,null,null,null,null,null,null,null,null,null,null,null,null,null,null,null,null,null,null,null,"272 サービス用・娯楽用機械器具製造業","産業","27 業務用機械器具製造業"]
[null,null,null,null,null,null,null,null,null,null,null,null,null,null,null,null,null,null,null,null,null,null,null,null,null,null,null,null,"273 計量器・測定器・分析機器・試験機・測量機械器具・理化学機械器具製造業","産業","27 業務用機械器具製造業"]
[null,null,null,null,null,null,null,null,null,null,null,null,null,null,null,null,null,null,null,null,null,null,null,null,null,null,null,null,"274 医療用機械器具・医療用品製造業","産業","27 業務用機械器具製造業"]
[null,null,null,null,null,null,null,null,null,null,null,null,null,null,null,null,null,null,null,null,null,null,null,null,null,null,null,null,"275 光学機械器具・レンズ製造業","産業","27 業務用機械器具製造業"]
[null,null,null,null,null,null,null,null,null,null,null,null,null,null,null,null,null,null,null,null,null,null,null,null,null,null,null,null,"276 武器製造業","産業","27 業務用機械器具製造業"]
[null,null,null,null,null,null,null,null,null,null,null,null,null,null,null,null,null,null,null,null,null,null,null,null,null,null,null,"28 電子部品・デバイス・電子回路製造業","280 管理，補助的経済活動を行う事業所（28電子部品・デバイス・電子回路製造業）","業務","28 電子部品・デバイス・電子回路製造業"]
[null,null,null,null,null,null,null,null,null,null,null,null,null,null,null,null,null,null,null,null,null,null,null,null,null,null,null,null,"281 電子デバイス製造業","産業","28 電子部品・デバイス・電子回路製造業"]
[null,null,null,null,null,null,null,null,null,null,null,null,null,null,null,null,null,null,null,null,null,null,null,null,null,null,null,null,"282 電子部品製造業","産業","28 電子部品・デバイス・電子回路製造業"]
[null,null,null,null,null,null,null,null,null,null,null,null,null,null,null,null,null,null,null,null,null,null,null,null,null,null,null,null,"283 記録メディア製造業","産業","28 電子部品・デバイス・電子回路製造業"]
[null,null,null,null,null,null,null,null,null,null,null,null,null,null,null,null,null,null,null,null,null,null,null,null,null,null,null,null,"284 電子回路製造業","産業","28 電子部品・デバイス・電子回路製造業"]
[null,null,null,null,null,null,null,null,null,null,null,null,null,null,null,null,null,null,null,null,null,null,null,null,null,null,null,null,"285 ユニット部品製造業","産業","28 電子部品・デバイス・電子回路製造業"]
[null,null,null,null,null,null,null,null,null,null,null,null,null,null,null,null,null,null,null,null,null,null,null,null,null,null,null,null,"289 その他の電子部品・デバイス・電子回路製造業","産業","28 電子部品・デバイス・電子回路製造業"]
[null,null,null,null,null,null,null,null,null,null,null,null,null,null,null,null,null,null,null,null,null,null,null,null,null,null,null,"29 電気機械器具製造業","290 管理，補助的経済活動を行う事業所（29電気機械器具製造業）","業務","29 電気機械器具製造業"]
[null,null,null,null,null,null,null,null,null,null,null,null,null,null,null,null,null,null,null,null,null,null,null,null,null,null,null,null,"291 発電用・送電用・配電用電気機械器具製造業","産業","29 電気機械器具製造業"]
[null,null,null,null,null,null,null,null,null,null,null,null,null,null,null,null,null,null,null,null,null,null,null,null,null,null,null,null,"292 産業用電気機械器具製造業","産業","29 電気機械器具製造業"]
[null,null,null,null,null,null,null,null,null,null,null,null,null,null,null,null,null,null,null,null,null,null,null,null,null,null,null,null,"293 民生用電気機械器具製造業","産業","29 電気機械器具製造業"]
[null,null,null,null,null,null,null,null,null,null,null,null,null,null,null,null,null,null,null,null,null,null,null,null,null,null,null,null,"294 電球・電気照明器具製造業","産業","29 電気機械器具製造業"]
[null,null,null,null,null,null,null,null,null,null,null,null,null,null,null,null,null,null,null,null,null,null,null,null,null,null,null,null,"295 電池製造業","産業","29 電気機械器具製造業"]
[null,null,null,null,null,null,null,null,null,null,null,null,null,null,null,null,null,null,null,null,null,null,null,null,null,null,null,null,"296 電子応用装置製造業","産業","29 電気機械器具製造業"]
[null,null,null,null,null,null,null,null,null,null,null,null,null,null,null,null,null,null,null,null,null,null,null,null,null,null,null,null,"297 電気計測器製造業","産業","29 電気機械器具製造業"]
[null,null,null,null,null,null,null,null,null,null,null,null,null,null,null,null,null,null,null,null,null,null,null,null,null,null,null,null,"299 その他の電気機械器具製造業","産業","29 電気機械器具製造業"]
[null,null,null,null,null,null,null,null,null,null,null,null,null,null,null,null,null,null,null,null,null,null,null,null,null,null,null,"30 情報通信機械器具製造業","300 管理，補助的経済活動を行う事業所（30情報通信機械器具製造業）","業務","30 情報通信機械器具製造業"]
[null,null,null,null,null,null,null,null,null,null,null,null,null,null,null,null,null,null,null,null,null,null,null,null,null,null,null,null,"301 通信機械器具・同関連機械器具製造業","産業","30 情報通信機械器具製造業"]
[null,null,null,null,null,null,null,null,null,null,null,null,null,null,null,null,null,null,null,null,null,null,null,null,null,null,null,null,"302 映像・音響機械器具製造業","産業","30 情報通信機械器具製造業"]
[null,null,null,null,null,null,null,null,null,null,null,null,null,null,null,null,null,null,null,null,null,null,null,null,null,null,null,null,"303 電子計算機・同附属装置製造業","産業","30 情報通信機械器具製造業"]
[null,null,null,null,null,null,null,null,null,null,null,null,null,null,null,null,null,null,null,null,null,null,null,null,null,null,null,"31 輸送用機械器具製造業","310 管理，補助的経済活動を行う事業所（31輸送用機械器具製造業）","業務","31 輸送用機械器具製造業"]
[null,null,null,null,null,null,null,null,null,null,null,null,null,null,null,null,null,null,null,null,null,null,null,null,null,null,null,null,"311 自動車・同附属品製造業","産業","31 輸送用機械器具製造業"]
[null,null,null,null,null,null,null,null,null,null,null,null,null,null,null,null,null,null,null,null,null,null,null,null,null,null,null,null,"312 鉄道車両・同部分品製造業","産業","31 輸送用機械器具製造業"]
[null,null,null,null,null,null,null,null,null,null,null,null,null,null,null,null,null,null,null,null,null,null,null,null,null,null,null,null,"313 船舶製造・修理業，舶用機関製造業","産業","31 輸送用機械器具製造業"]
[null,null,null,null,null,null,null,null,null,null,null,null,null,null,null,null,null,null,null,null,null,null,null,null,null,null,null,null,"314 航空機・同附属品製造業","産業","31 輸送用機械器具製造業"]
[null,null,null,null,null,null,null,null,null,null,null,null,null,null,null,null,null,null,null,null,null,null,null,null,null,null,null,null,"315 産業用運搬車両・同部分品・附属品製造業","産業","31 輸送用機械器具製造業"]
[null,null,null,null,null,null,null,null,null,null,null,null,null,null,null,null,null,null,null,null,null,null,null,null,null,null,null,null,"319 その他の輸送用機械器具製造業","産業","31 輸送用機械器具製造業"]
[null,null,null,null,null,null,null,null,null,null,null,null,null,null,null,null,null,null,null,null,null,null,null,null,null,null,null,"32 その他の製造業","320 管理，補助的経済活動を行う事業所（32その他の製造業）","業務","32 その他の製造業"]
[null,null,null,null,null,null,null,null,null,null,null,null,null,null,null,null,null,null,null,null,null,null,null,null,null,null,null,null,"321 貴金属・宝石製品製造業","産業","32 その他の製造業"]
[null,null,null,null,null,null,null,null,null,null,null,null,null,null,null,null,null,null,null,null,null,null,null,null,null,null,null,null,"322 装身具・装飾品・ボタン・同関連品製造業（貴金属・宝石製を除く）","産業","32 その他の製造業"]
[null,null,null,null,null,null,null,null,null,null,null,null,null,null,null,null,null,null,null,null,null,null,null,null,null,null,null,null,"323 時計・同部分品製造業","産業","32 その他の製造業"]
[null,null,null,null,null,null,null,null,null,null,null,null,null,null,null,null,null,null,null,null,null,null,null,null,null,null,null,null,"324 楽器製造業","産業","32 その他の製造業"]
[null,null,null,null,null,null,null,null,null,null,null,null,null,null,null,null,null,null,null,null,null,null,null,null,null,null,null,null,"325 がん具・運動用具製造業","産業","32 その他の製造業"]
[null,null,null,null,null,null,null,null,null,null,null,null,null,null,null,null,null,null,null,null,null,null,null,null,null,null,null,null,"326 ペン・鉛筆・絵画用品・その他の事務用品製造業","産業","32 その他の製造業"]
[null,null,null,null,null,null,null,null,null,null,null,null,null,null,null,null,null,null,null,null,null,null,null,null,null,null,null,null,"327 漆器製造業","産業","32 その他の製造業"]
[null,null,null,null,null,null,null,null,null,null,null,null,null,null,null,null,null,null,null,null,null,null,null,null,null,null,null,null,"328 畳等生活雑貨製品製造業","産業","32 その他の製造業"]
[null,null,null,null,null,null,null,null,null,null,null,null,null,null,null,null,null,null,null,null,null,null,null,null,null,null,null,null,"329 他に分類されない製造業","産業","32 その他の製造業"]
[null,null,null,null,null,null,null,null,null,null,null,null,null,null,null,null,null,null,null,null,null,null,null,null,null,null,null,"33 電気業","330 管理，補助的経済活動を行う事業所（33電気業）","業務","33 電気業"]
[null,null,null,null,null,null,null,null,null,null,null,null,null,null,null,null,null,null,null,null,null,null,null,null,null,null,null,null,"331 電気業","業務","33 電気業"]
[null,null,null,null,null,null,null,null,null,null,null,null,null,null,null,null,null,null,null,null,null,null,null,null,null,null,null,"34 ガス業","340 管理，補助的経済活動を行う事業所（34ガス業）","業務","34 ガス業"]
[null,null,null,null,null,null,null,null,null,null,null,null,null,null,null,null,null,null,null,null,null,null,null,null,null,null,null,null,"341 ガス業","業務","34 ガス業"]
[null,null,null,null,null,null,null,null,null,null,null,null,null,null,null,null,null,null,null,null,null,null,null,null,null,null,null,"35 熱供給業","350 管理，補助的経済活動を行う事業所（35熱供給業）","業務","35 熱供給業"]
[null,null,null,null,null,null,null,null,null,null,null,null,null,null,null,null,null,null,null,null,null,null,null,null,null,null,null,null,"351 熱供給業","業務","35 熱供給業"]
[null,null,null,null,null,null,null,null,null,null,null,null,null,null,null,null,null,null,null,null,null,null,null,null,null,null,null,"36 水道業","360 管理，補助的経済活動を行う事業所（36水道業）","業務","36 水道業"]
[null,null,null,null,null,null,null,null,null,null,null,null,null,null,null,null,null,null,null,null,null,null,null,null,null,null,null,null,"361 上水道業","業務","36 水道業"]
[null,null,null,null,null,null,null,null,null,null,null,null,null,null,null,null,null,null,null,null,null,null,null,null,null,null,null,null,"362 工業用水道業","業務","36 水道業"]
[null,null,null,null,null,null,null,null,null,null,null,null,null,null,null,null,null,null,null,null,null,null,null,null,null,null,null,null,"363 下水道業","業務","36 水道業"]
[null,null,null,null,null,null,null,null,null,null,null,null,null,null,null,null,null,null,null,null,null,null,null,null,null,null,null,"37 通信業","370 管理，補助的経済活動を行う事業所（37通信業）","業務","37 通信業"]
[null,null,null,null,null,null,null,null,null,null,null,null,null,null,null,null,null,null,null,null,null,null,null,null,null,null,null,null,"371 固定電気通信業","業務","37 通信業"]
[null,null,null,null,null,null,null,null,null,null,null,null,null,null,null,null,null,null,null,null,null,null,null,null,null,null,null,null,"372 移動電気通信業","業務","37 通信業"]
[null,null,null,null,null,null,null,null,null,null,null,null,null,null,null,null,null,null,null,null,null,null,null,null,null,null,null,null,"373 電気通信に附帯するサービス業","業務","37 通信業"]
[null,null,null,null,null,null,null,null,null,null,null,null,null,null,null,null,null,null,null,null,null,null,null,null,null,null,null,"38 放送業","380 管理，補助的経済活動を行う事業所（38放送業）","業務","38 放送業"]
[null,null,null,null,null,null,null,null,null,null,null,null,null,null,null,null,null,null,null,null,null,null,null,null,null,null,null,null,"381 公共放送業（有線放送業を除く）","業務","38 放送業"]
[null,null,null,null,null,null,null,null,null,null,null,null,null,null,null,null,null,null,null,null,null,null,null,null,null,null,null,null,"382 民間放送業（有線放送業を除く）","業務","38 放送業"]
[null,null,null,null,null,null,null,null,null,null,null,null,null,null,null,null,null,null,null,null,null,null,null,null,null,null,null,null,"383 有線放送業","業務","38 放送業"]
[null,null,null,null,null,null,null,null,null,null,null,null,null,null,null,null,null,null,null,null,null,null,null,null,null,null,null,"39 情報サービス業","390 管理，補助的経済活動を行う事業所（39情報サービス業）","業務","39 情報サービス業"]
[null,null,null,null,null,null,null,null,null,null,null,null,null,null,null,null,null,null,null,null,null,null,null,null,null,null,null,null,"391 ソフトウェア業","業務","39 情報サービス業"]
[null,null,null,null,null,null,null,null,null,null,null,null,null,null,null,null,null,null,null,null,null,null,null,null,null,null,null,null,"392 情報処理・提供サービス業","業務","39 情報サービス業"]
[null,null,null,null,null,null,null,null,null,null,null,null,null,null,null,null,null,null,null,null,null,null,null,null,null,null,null,"40 インターネット附随サービス業","400 管理，補助的経済活動を行う事業所（40インターネット附随サービス業）","業務","40 インターネット附随サービス業"]
[null,null,null,null,null,null,null,null,null,null,null,null,null,null,null,null,null,null,null,null,null,null,null,null,null,null,null,null,"401 インターネット附随サービス業","業務","40 インターネット附随サービス業"]
[null,null,null,null,null,null,null,null,null,null,null,null,null,null,null,null,null,null,null,null,null,null,null,null,null,null,null,"41 映像・音声・文字情報制作業","410 管理，補助的経済活動を行う事業所（41映像・音声・文字情報制作業）","業務","41 映像・音声・文字情報制作業"]
[null,null,null,null,null,null,null,null,null,null,null,null,null,null,null,null,null,null,null,null,null,null,null,null,null,null,null,null,"411 映像情報制作・配給業","業務","41 映像・音声・文字情報制作業"]
[null,null,null,null,null,null,null,null,null,null,null,null,null,null,null,null,null,null,null,null,null,null,null,null,null,null,null,null,"412 音声情報制作業","業務","41 映像・音声・文字情報制作業"]
[null,null,null,null,null,null,null,null,null,null,null,null,null,null,null,null,null,null,null,null,null,null,null,null,null,null,null,null,"413 新聞業","業務","41 映像・音声・文字情報制作業"]
[null,null,null,null,null,null,null,null,null,null,null,null,null,null,null,null,null,null,null,null,null,null,null,null,null,null,null,null,"414 出版業","業務","41 映像・音声・文字情報制作業"]
[null,null,null,null,null,null,null,null,null,null,null,null,null,null,null,null,null,null,null,null,null,null,null,null,null,null,null,null,"415 広告制作業","業務","41 映像・音声・文字情報制作業"]
[null,null,null,null,null,null,null,null,null,null,null,null,null,null,null,null,null,null,null,null,null,null,null,null,null,null,null,null,"416 映像・音声・文字情報制作に附帯するサービス業","業務","41 映像・音声・文字情報制作業"]
[null,null,null,null,null,null,null,null,null,null,null,null,null,null,null,null,null,null,null,null,null,null,null,null,null,null,null,"42 鉄道業","420 管理，補助的経済活動を行う事業所（42鉄道業）","業務","42 鉄道業"]
[null,null,null,null,null,null,null,null,null,null,null,null,null,null,null,null,null,null,null,null,null,null,null,null,null,null,null,null,"421 鉄道業","業務","42 鉄道業"]
[null,null,null,null,null,null,null,null,null,null,null,null,null,null,null,null,null,null,null,null,null,null,null,null,null,null,null,"43 道路旅客運送業","430 管理，補助的経済活動を行う事業所（43道路旅客運送業）","業務","43 道路旅客運送業"]
[null,null,null,null,null,null,null,null,null,null,null,null,null,null,null,null,null,null,null,null,null,null,null,null,null,null,null,null,"431 一般乗合旅客自動車運送業","業務","43 道路旅客運送業"]
[null,null,null,null,null,null,null,null,null,null,null,null,null,null,null,null,null,null,null,null,null,null,null,null,null,null,null,null,"432 一般乗用旅客自動車運送業","業務","43 道路旅客運送業"]
[null,null,null,null,null,null,null,null,null,null,null,null,null,null,null,null,null,null,null,null,null,null,null,null,null,null,null,null,"433 一般貸切旅客自動車運送業","業務","43 道路旅客運送業"]
[null,null,null,null,null,null,null,null,null,null,null,null,null,null,null,null,null,null,null,null,null,null,null,null,null,null,null,null,"439 その他の道路旅客運送業","業務","43 道路旅客運送業"]
[null,null,null,null,null,null,null,null,null,null,null,null,null,null,null,null,null,null,null,null,null,null,null,null,null,null,null,"44 道路貨物運送業","440 管理，補助的経済活動を行う事業所（44道路貨物運送業）","業務","44 道路貨物運送業"]
[null,null,null,null,null,null,null,null,null,null,null,null,null,null,null,null,null,null,null,null,null,null,null,null,null,null,null,null,"441 一般貨物自動車運送業","業務","44 道路貨物運送業"]
[null,null,null,null,null,null,null,null,null,null,null,null,null,null,null,null,null,null,null,null,null,null,null,null,null,null,null,null,"442 特定貨物自動車運送業","業務","44 道路貨物運送業"]
[null,null,null,null,null,null,null,null,null,null,null,null,null,null,null,null,null,null,null,null,null,null,null,null,null,null,null,null,"443 貨物軽自動車運送業","業務","44 道路貨物運送業"]
[null,null,null,null,null,null,null,null,null,null,null,null,null,null,null,null,null,null,null,null,null,null,null,null,null,null,null,null,"444 集配利用運送業","業務","44 道路貨物運送業"]
[null,null,null,null,null,null,null,null,null,null,null,null,null,null,null,null,null,null,null,null,null,null,null,null,null,null,null,null,"449 その他の道路貨物運送業","業務","44 道路貨物運送業"]
[null,null,null,null,null,null,null,null,null,null,null,null,null,null,null,null,null,null,null,null,null,null,null,null,null,null,null,"45 水運業","450 管理，補助的経済活動を行う事業所（45水運業）","業務","45 水運業"]
[null,null,null,null,null,null,null,null,null,null,null,null,null,null,null,null,null,null,null,null,null,null,null,null,null,null,null,null,"451 外航海運業","業務","45 水運業"]
[null,null,null,null,null,null,null,null,null,null,null,null,null,null,null,null,null,null,null,null,null,null,null,null,null,null,null,null,"452 沿海海運業","業務","45 水運業"]
[null,null,null,null,null,null,null,null,null,null,null,null,null,null,null,null,null,null,null,null,null,null,null,null,null,null,null,null,"453 内陸水運業","業務","45 水運業"]
[null,null,null,null,null,null,null,null,null,null,null,null,null,null,null,null,null,null,null,null,null,null,null,null,null,null,null,null,"454 船舶貸渡業","業務","45 水運業"]
[null,null,null,null,null,null,null,null,null,null,null,null,null,null,null,null,null,null,null,null,null,null,null,null,null,null,null,"46 航空運輸業","460 管理，補助的経済活動を行う事業所（46航空運輸業）","業務","46 航空運輸業"]
[null,null,null,null,null,null,null,null,null,null,null,null,null,null,null,null,null,null,null,null,null,null,null,null,null,null,null,null,"461 航空運送業","業務","46 航空運輸業"]
[null,null,null,null,null,null,null,null,null,null,null,null,null,null,null,null,null,null,null,null,null,null,null,null,null,null,null,null,"462 航空機使用業（航空運送業を除く）","業務","46 航空運輸業"]
[null,null,null,null,null,null,null,null,null,null,null,null,null,null,null,null,null,null,null,null,null,null,null,null,null,null,null,"47 倉庫業","470 管理，補助的経済活動を行う事業所（47倉庫業）","業務","47 倉庫業"]
[null,null,null,null,null,null,null,null,null,null,null,null,null,null,null,null,null,null,null,null,null,null,null,null,null,null,null,null,"471 倉庫業（冷蔵倉庫業を除く）","業務","47 倉庫業"]
[null,null,null,null,null,null,null,null,null,null,null,null,null,null,null,null,null,null,null,null,null,null,null,null,null,null,null,null,"472 冷蔵倉庫業","業務","47 倉庫業"]
[null,null,null,null,null,null,null,null,null,null,null,null,null,null,null,null,null,null,null,null,null,null,null,null,null,null,null,"48 運輸に附帯するサービス業","480 管理，補助的経済活動を行う事業所（48運輸に附帯するサービス業）","業務","48 運輸に附帯するサービス業"]
[null,null,null,null,null,null,null,null,null,null,null,null,null,null,null,null,null,null,null,null,null,null,null,null,null,null,null,null,"481 港湾運送業","業務","48 運輸に附帯するサービス業"]
[null,null,null,null,null,null,null,null,null,null,null,null,null,null,null,null,null,null,null,null,null,null,null,null,null,null,null,null,"482 貨物運送取扱業（集配利用運送業を除く）","業務","48 運輸に附帯するサービス業"]
[null,null,null,null,null,null,null,null,null,null,null,null,null,null,null,null,null,null,null,null,null,null,null,null,null,null,null,null,"483 運送代理店","業務","48 運輸に附帯するサービス業"]
[null,null,null,null,null,null,null,null,null,null,null,null,null,null,null,null,null,null,null,null,null,null,null,null,null,null,null,null,"484 こん包業","業務","48 運輸に附帯するサービス業"]
[null,null,null,null,null,null,null,null,null,null,null,null,null,null,null,null,null,null,null,null,null,null,null,null,null,null,null,null,"485 運輸施設提供業","業務","48 運輸に附帯するサービス業"]
[null,null,null,null,null,null,null,null,null,null,null,null,null,null,null,null,null,null,null,null,null,null,null,null,null,null,null,null,"489 その他の運輸に附帯するサービス業","業務","48 運輸に附帯するサービス業"]
[null,null,null,null,null,null,null,null,null,null,null,null,null,null,null,null,null,null,null,null,null,null,null,null,null,null,null,"49 郵便業（信書便事業を含む）","490 管理，補助的経済活動を行う事業所（49郵便業）","業務","49 郵便業（信書便事業を含む）"]
[null,null,null,null,null,null,null,null,null,null,null,null,null,null,null,null,null,null,null,null,null,null,null,null,null,null,null,null,"491 郵便業（信書便事業を含む）","業務","49 郵便業（信書便事業を含む）"]
[null,null,null,null,null,null,null,null,null,null,null,null,null,null,null,null,null,null,null,null,null,null,null,null,null,null,null,"50 各種商品卸売業","500 管理，補助的経済活動を行う事業所（50各種商品卸売業）","業務","50 各種商品卸売業"]
[null,null,null,null,null,null,null,null,null,null,null,null,null,null,null,null,null,null,null,null,null,null,null,null,null,null,null,null,"501 各種商品卸売業","業務","50 各種商品卸売業"]
[null,null,null,null,null,null,null,null,null,null,null,null,null,null,null,null,null,null,null,null,null,null,null,null,null,null,null,"51 繊維・衣服等卸売業","510 管理，補助的経済活動を行う事業所（51繊維・衣服等卸売業）","業務","51 繊維・衣服等卸売業"]
[null,null,null,null,null,null,null,null,null,null,null,null,null,null,null,null,null,null,null,null,null,null,null,null,null,null,null,null,"511 繊維品卸売業（衣服，身の回り品を除く）","業務","51 繊維・衣服等卸売業"]
[null,null,null,null,null,null,null,null,null,null,null,null,null,null,null,null,null,null,null,null,null,null,null,null,null,null,null,null,"512 衣服卸売業","業務","51 繊維・衣服等卸売業"]
[null,null,null,null,null,null,null,null,null,null,null,null,null,null,null,null,null,null,null,null,null,null,null,null,null,null,null,null,"513 身の回り品卸売業","業務","51 繊維・衣服等卸売業"]
[null,null,null,null,null,null,null,null,null,null,null,null,null,null,null,null,null,null,null,null,null,null,null,null,null,null,null,"52 飲食料品卸売業","520 管理，補助的経済活動を行う事業所（52飲食料品卸売業）","業務","52 飲食料品卸売業"]
[null,null,null,null,null,null,null,null,null,null,null,null,null,null,null,null,null,null,null,null,null,null,null,null,null,null,null,null,"521 農畜産物・水産物卸売業","業務","52 飲食料品卸売業"]
[null,null,null,null,null,null,null,null,null,null,null,null,null,null,null,null,null,null,null,null,null,null,null,null,null,null,null,null,"522 食料・飲料卸売業","業務","52 飲食料品卸売業"]
[null,null,null,null,null,null,null,null,null,null,null,null,null,null,null,null,null,null,null,null,null,null,null,null,null,null,null,"53 建築材料，鉱物・金属材料等卸売業","530 管理，補助的経済活動を行う事業所（53建築材料，鉱物・金属材料等卸売業）","業務","53 建築材料，鉱物・金属材料等卸売業"]
[null,null,null,null,null,null,null,null,null,null,null,null,null,null,null,null,null,null,null,null,null,null,null,null,null,null,null,null,"531 建築材料卸売業","業務","53 建築材料，鉱物・金属材料等卸売業"]
[null,null,null,null,null,null,null,null,null,null,null,null,null,null,null,null,null,null,null,null,null,null,null,null,null,null,null,null,"532 化学製品卸売業","業務","53 建築材料，鉱物・金属材料等卸売業"]
[null,null,null,null,null,null,null,null,null,null,null,null,null,null,null,null,null,null,null,null,null,null,null,null,null,null,null,null,"533 石油・鉱物卸売業","業務","53 建築材料，鉱物・金属材料等卸売業"]
[null,null,null,null,null,null,null,null,null,null,null,null,null,null,null,null,null,null,null,null,null,null,null,null,null,null,null,null,"534 鉄鋼製品卸売業","業務","53 建築材料，鉱物・金属材料等卸売業"]
[null,null,null,null,null,null,null,null,null,null,null,null,null,null,null,null,null,null,null,null,null,null,null,null,null,null,null,null,"535 非鉄金属卸売業","業務","53 建築材料，鉱物・金属材料等卸売業"]
[null,null,null,null,null,null,null,null,null,null,null,null,null,null,null,null,null,null,null,null,null,null,null,null,null,null,null,null,"536 再生資源卸売業","業務","53 建築材料，鉱物・金属材料等卸売業"]
[null,null,null,null,null,null,null,null,null,null,null,null,null,null,null,null,null,null,null,null,null,null,null,null,null,null,null,"54 機械器具卸売業","540 管理，補助的経済活動を行う事業所（54機械器具卸売業）","業務","54 機械器具卸売業"]
[null,null,null,null,null,null,null,null,null,null,null,null,null,null,null,null,null,null,null,null,null,null,null,null,null,null,null,null,"541 産業機械器具卸売業","業務","54 機械器具卸売業"]
[null,null,null,null,null,null,null,null,null,null,null,null,null,null,null,null,null,null,null,null,null,null,null,null,null,null,null,null,"542 自動車卸売業","業務","54 機械器具卸売業"]
[null,null,null,null,null,null,null,null,null,null,null,null,null,null,null,null,null,null,null,null,null,null,null,null,null,null,null,null,"543 電気機械器具卸売業","業務","54 機械器具卸売業"]
[null,null,null,null,null,null,null,null,null,null,null,null,null,null,null,null,null,null,null,null,null,null,null,null,null,null,null,null,"549 その他の機械器具卸売業","業務","54 機械器具卸売業"]
[null,null,null,null,null,null,null,null,null,null,null,null,null,null,null,null,null,null,null,null,null,null,null,null,null,null,null,"55 その他の卸売業","550 管理，補助的経済活動を行う事業所（55その他の卸売業）","業務","55 その他の卸売業"]
[null,null,null,null,null,null,null,null,null,null,null,null,null,null,null,null,null,null,null,null,null,null,null,null,null,null,null,null,"551 家具・建具・じゅう器等卸売業","業務","55 その他の卸売業"]
[null,null,null,null,null,null,null,null,null,null,null,null,null,null,null,null,null,null,null,null,null,null,null,null,null,null,null,null,"552 医薬品・化粧品等卸売業","業務","55 その他の卸売業"]
[null,null,null,null,null,null,null,null,null,null,null,null,null,null,null,null,null,null,null,null,null,null,null,null,null,null,null,null,"553 紙・紙製品卸売業","業務","55 その他の卸売業"]
[null,null,null,null,null,null,null,null,null,null,null,null,null,null,null,null,null,null,null,null,null,null,null,null,null,null,null,null,"559 他に分類されない卸売業","業務","55 その他の卸売業"]
[null,null,null,null,null,null,null,null,null,null,null,null,null,null,null,null,null,null,null,null,null,null,null,null,null,null,null,"56 各種商品小売業","560 管理，補助的経済活動を行う事業所（56各種商品小売業）","業務","56 各種商品小売業"]
[null,null,null,null,null,null,null,null,null,null,null,null,null,null,null,null,null,null,null,null,null,null,null,null,null,null,null,null,"561 百貨店，総合スーパー","業務","56 各種商品小売業"]
[null,null,null,null,null,null,null,null,null,null,null,null,null,null,null,null,null,null,null,null,null,null,null,null,null,null,null,null,"569 その他の各種商品小売業（従業者が常時50人未満のもの）","業務","56 各種商品小売業"]
[null,null,null,null,null,null,null,null,null,null,null,null,null,null,null,null,null,null,null,null,null,null,null,null,null,null,null,"57 織物・衣服・身の回り品小売業","570 管理，補助的経済活動を行う事業所（57織物・衣服・身の回り品小売業）","業務","57 織物・衣服・身の回り品小売業"]
[null,null,null,null,null,null,null,null,null,null,null,null,null,null,null,null,null,null,null,null,null,null,null,null,null,null,null,null,"571 呉服・服地・寝具小売業","業務","57 織物・衣服・身の回り品小売業"]
[null,null,null,null,null,null,null,null,null,null,null,null,null,null,null,null,null,null,null,null,null,null,null,null,null,null,null,null,"572 男子服小売業","業務","57 織物・衣服・身の回り品小売業"]
[null,null,null,null,null,null,null,null,null,null,null,null,null,null,null,null,null,null,null,null,null,null,null,null,null,null,null,null,"573 婦人・子供服小売業","業務","57 織物・衣服・身の回り品小売業"]
[null,null,null,null,null,null,null,null,null,null,null,null,null,null,null,null,null,null,null,null,null,null,null,null,null,null,null,null,"574 靴・履物小売業","業務","57 織物・衣服・身の回り品小売業"]
[null,null,null,null,null,null,null,null,null,null,null,null,null,null,null,null,null,null,null,null,null,null,null,null,null,null,null,null,"579 その他の織物・衣服・身の回り品小売業","業務","57 織物・衣服・身の回り品小売業"]
[null,null,null,null,null,null,null,null,null,null,null,null,null,null,null,null,null,null,null,null,null,null,null,null,null,null,null,"58 飲食料品小売業","580 管理，補助的経済活動を行う事業所（58飲食料品小売業）","業務","58 飲食料品小売業"]
[null,null,null,null,null,null,null,null,null,null,null,null,null,null,null,null,null,null,null,null,null,null,null,null,null,null,null,null,"581 各種食料品小売業","業務","58 飲食料品小売業"]
[null,null,null,null,null,null,null,null,null,null,null,null,null,null,null,null,null,null,null,null,null,null,null,null,null,null,null,null,"582 野菜・果実小売業","業務","58 飲食料品小売業"]
[null,null,null,null,null,null,null,null,null,null,null,null,null,null,null,null,null,null,null,null,null,null,null,null,null,null,null,null,"583 食肉小売業","業務","58 飲食料品小売業"]
[null,null,null,null,null,null,null,null,null,null,null,null,null,null,null,null,null,null,null,null,null,null,null,null,null,null,null,null,"584 鮮魚小売業","業務","58 飲食料品小売業"]
[null,null,null,null,null,null,null,null,null,null,null,null,null,null,null,null,null,null,null,null,null,null,null,null,null,null,null,null,"585 酒小売業","業務","58 飲食料品小売業"]
[null,null,null,null,null,null,null,null,null,null,null,null,null,null,null,null,null,null,null,null,null,null,null,null,null,null,null,null,"586 菓子・パン小売業","業務","58 飲食料品小売業"]
[null,null,null,null,null,null,null,null,null,null,null,null,null,null,null,null,null,null,null,null,null,null,null,null,null,null,null,null,"589 その他の飲食料品小売業","業務","58 飲食料品小売業"]
[null,null,null,null,null,null,null,null,null,null,null,null,null,null,null,null,null,null,null,null,null,null,null,null,null,null,null,"59 機械器具小売業","590 管理，補助的経済活動を行う事業所（59機械器具小売業）","業務","59 機械器具小売業"]
[null,null,null,null,null,null,null,null,null,null,null,null,null,null,null,null,null,null,null,null,null,null,null,null,null,null,null,null,"591 自動車小売業","業務","59 機械器具小売業"]
[null,null,null,null,null,null,null,null,null,null,null,null,null,null,null,null,null,null,null,null,null,null,null,null,null,null,null,null,"592 自転車小売業","業務","59 機械器具小売業"]
[null,null,null,null,null,null,null,null,null,null,null,null,null,null,null,null,null,null,null,null,null,null,null,null,null,null,null,null,"593 機械器具小売業（自動車，自転車を除く）","業務","59 機械器具小売業"]
[null,null,null,null,null,null,null,null,null,null,null,null,null,null,null,null,null,null,null,null,null,null,null,null,null,null,null,"60 その他の小売業","600 管理，補助的経済活動を行う事業所（60その他の小売業）","業務","60 その他の小売業"]
[null,null,null,null,null,null,null,null,null,null,null,null,null,null,null,null,null,null,null,null,null,null,null,null,null,null,null,null,"601 家具・建具・畳小売業","業務","60 その他の小売業"]
[null,null,null,null,null,null,null,null,null,null,null,null,null,null,null,null,null,null,null,null,null,null,null,null,null,null,null,null,"602 じゅう器小売業","業務","60 その他の小売業"]
[null,null,null,null,null,null,null,null,null,null,null,null,null,null,null,null,null,null,null,null,null,null,null,null,null,null,null,null,"603 医薬品・化粧品小売業","業務","60 その他の小売業"]
[null,null,null,null,null,null,null,null,null,null,null,null,null,null,null,null,null,null,null,null,null,null,null,null,null,null,null,null,"604 農耕用品小売業","業務","60 その他の小売業"]
[null,null,null,null,null,null,null,null,null,null,null,null,null,null,null,null,null,null,null,null,null,null,null,null,null,null,null,null,"605 燃料小売業","業務","60 その他の小売業"]
[null,null,null,null,null,null,null,null,null,null,null,null,null,null,null,null,null,null,null,null,null,null,null,null,null,null,null,null,"606 書籍・文房具小売業","業務","60 その他の小売業"]
[null,null,null,null,null,null,null,null,null,null,null,null,null,null,null,null,null,null,null,null,null,null,null,null,null,null,null,null,"607 スポーツ用品・がん具・娯楽用品・楽器小売業","業務","60 その他の小売業"]
[null,null,null,null,null,null,null,null,null,null,null,null,null,null,null,null,null,null,null,null,null,null,null,null,null,null,null,null,"608 写真機・時計・眼鏡小売業","業務","60 その他の小売業"]
[null,null,null,null,null,null,null,null,null,null,null,null,null,null,null,null,null,null,null,null,null,null,null,null,null,null,null,null,"609 他に分類されない小売業","業務","60 その他の小売業"]
[null,null,null,null,null,null,null,null,null,null,null,null,null,null,null,null,null,null,null,null,null,null,null,null,null,null,null,"61 無店舗小売業","610 管理，補助的経済活動を行う事業所（61無店舗小売業）","業務","61 無店舗小売業"]
[null,null,null,null,null,null,null,null,null,null,null,null,null,null,null,null,null,null,null,null,null,null,null,null,null,null,null,null,"611 通信販売・訪問販売小売業","業務","61 無店舗小売業"]
[null,null,null,null,null,null,null,null,null,null,null,null,null,null,null,null,null,null,null,null,null,null,null,null,null,null,null,null,"612 自動販売機による小売業","業務","61 無店舗小売業"]
[null,null,null,null,null,null,null,null,null,null,null,null,null,null,null,null,null,null,null,null,null,null,null,null,null,null,null,null,"619 その他の無店舗小売業","業務","61 無店舗小売業"]
[null,null,null,null,null,null,null,null,null,null,null,null,null,null,null,null,null,null,null,null,null,null,null,null,null,null,null,"62 銀行業","620 管理，補助的経済活動を行う事業所（62銀行業）","業務","62 銀行業"]
[null,null,null,null,null,null,null,null,null,null,null,null,null,null,null,null,null,null,null,null,null,null,null,null,null,null,null,null,"621 中央銀行","業務","62 銀行業"]
[null,null,null,null,null,null,null,null,null,null,null,null,null,null,null,null,null,null,null,null,null,null,null,null,null,null,null,null,"622 銀行（中央銀行を除く）","業務","62 銀行業"]
[null,null,null,null,null,null,null,null,null,null,null,null,null,null,null,null,null,null,null,null,null,null,null,null,null,null,null,"63 協同組織金融業","630 管理，補助的経済活動を行う事業所（63協同組織金融業）","業務","63 協同組織金融業"]
[null,null,null,null,null,null,null,null,null,null,null,null,null,null,null,null,null,null,null,null,null,null,null,null,null,null,null,null,"631 中小企業等金融業","業務","63 協同組織金融業"]
[null,null,null,null,null,null,null,null,null,null,null,null,null,null,null,null,null,null,null,null,null,null,null,null,null,null,null,null,"632 農林水産金融業","業務","63 協同組織金融業"]
[null,null,null,null,null,null,null,null,null,null,null,null,null,null,null,null,null,null,null,null,null,null,null,null,null,null,null,"64 貸金業，クレジットカード業等非預金信用機関","640 管理，補助的経済活動を行う事業所（64貸金業，クレジットカード業等非預金信用機関）","業務","64 貸金業，クレジットカード業等非預金信用機関"]
[null,null,null,null,null,null,null,null,null,null,null,null,null,null,null,null,null,null,null,null,null,null,null,null,null,null,null,null,"641 貸金業","業務","64 貸金業，クレジットカード業等非預金信用機関"]
[null,null,null,null,null,null,null,null,null,null,null,null,null,null,null,null,null,null,null,null,null,null,null,null,null,null,null,null,"642 質屋","業務","64 貸金業，クレジットカード業等非預金信用機関"]
[null,null,null,null,null,null,null,null,null,null,null,null,null,null,null,null,null,null,null,null,null,null,null,null,null,null,null,null,"643 クレジットカード業，割賦金融業","業務","64 貸金業，クレジットカード業等非預金信用機関"]
[null,null,null,null,null,null,null,null,null,null,null,null,null,null,null,null,null,null,null,null,null,null,null,null,null,null,null,null,"649 その他の非預金信用機関","業務","64 貸金業，クレジットカード業等非預金信用機関"]
[null,null,null,null,null,null,null,null,null,null,null,null,null,null,null,null,null,null,null,null,null,null,null,null,null,null,null,"65 金融商品取引業，商品先物取引業","650 管理，補助的経済活動を行う事業所（65金融商品取引業，商品先物取引業）","業務","65 金融商品取引業，商品先物取引業"]
[null,null,null,null,null,null,null,null,null,null,null,null,null,null,null,null,null,null,null,null,null,null,null,null,null,null,null,null,"651 金融商品取引業","業務","65 金融商品取引業，商品先物取引業"]
[null,null,null,null,null,null,null,null,null,null,null,null,null,null,null,null,null,null,null,null,null,null,null,null,null,null,null,null,"652 商品先物取引業，商品投資顧問業","業務","65 金融商品取引業，商品先物取引業"]
[null,null,null,null,null,null,null,null,null,null,null,null,null,null,null,null,null,null,null,null,null,null,null,null,null,null,null,"66 補助的金融業等","660 管理，補助的経済活動を行う事業所（66補助的金融業等）","業務","66 補助的金融業等"]
[null,null,null,null,null,null,null,null,null,null,null,null,null,null,null,null,null,null,null,null,null,null,null,null,null,null,null,null,"661 補助的金融業，金融附帯業","業務","66 補助的金融業等"]
[null,null,null,null,null,null,null,null,null,null,null,null,null,null,null,null,null,null,null,null,null,null,null,null,null,null,null,null,"662 信託業","業務","66 補助的金融業等"]
[null,null,null,null,null,null,null,null,null,null,null,null,null,null,null,null,null,null,null,null,null,null,null,null,null,null,null,null,"663 金融代理業","業務","66 補助的金融業等"]
[null,null,null,null,null,null,null,null,null,null,null,null,null,null,null,null,null,null,null,null,null,null,null,null,null,null,null,"67 保険業（保険媒介代理業，保険サービス業を含む）","670 管理，補助的経済活動を行う事業所（67保険業）","業務","67 保険業（保険媒介代理業，保険サービス業を含む）"]
[null,null,null,null,null,null,null,null,null,null,null,null,null,null,null,null,null,null,null,null,null,null,null,null,null,null,null,null,"671 生命保険業","業務","67 保険業（保険媒介代理業，保険サービス業を含む）"]
[null,null,null,null,null,null,null,null,null,null,null,null,null,null,null,null,null,null,null,null,null,null,null,null,null,null,null,null,"672 損害保険業","業務","67 保険業（保険媒介代理業，保険サービス業を含む）"]
[null,null,null,null,null,null,null,null,null,null,null,null,null,null,null,null,null,null,null,null,null,null,null,null,null,null,null,null,"673 共済事業，少額短期保険業","業務","67 保険業（保険媒介代理業，保険サービス業を含む）"]
[null,null,null,null,null,null,null,null,null,null,null,null,null,null,null,null,null,null,null,null,null,null,null,null,null,null,null,null,"674 保険媒介代理業","業務","67 保険業（保険媒介代理業，保険サービス業を含む）"]
[null,null,null,null,null,null,null,null,null,null,null,null,null,null,null,null,null,null,null,null,null,null,null,null,null,null,null,null,"675 保険サービス業","業務","67 保険業（保険媒介代理業，保険サービス業を含む）"]
[null,null,null,null,null,null,null,null,null,null,null,null,null,null,null,null,null,null,null,null,null,null,null,null,null,null,null,"68 不動産取引業","680 管理，補助的経済活動を行う事業所（68不動産取引業）","業務","68 不動産取引業"]
[null,null,null,null,null,null,null,null,null,null,null,null,null,null,null,null,null,null,null,null,null,null,null,null,null,null,null,null,"681 建物売買業，土地売買業","業務","68 不動産取引業"]
[null,null,null,null,null,null,null,null,null,null,null,null,null,null,null,null,null,null,null,null,null,null,null,null,null,null,null,null,"682 不動産代理業・仲介業","業務","68 不動産取引業"]
[null,null,null,null,null,null,null,null,null,null,null,null,null,null,null,null,null,null,null,null,null,null,null,null,null,null,null,"69 不動産賃貸業・管理業","690 管理，補助的経済活動を行う事業所（69不動産賃貸業・管理業）","業務","69 不動産賃貸業・管理業"]
[null,null,null,null,null,null,null,null,null,null,null,null,null,null,null,null,null,null,null,null,null,null,null,null,null,null,null,null,"691 不動産賃貸業（貸家業，貸間業を除く）","業務","69 不動産賃貸業・管理業"]
[null,null,null,null,null,null,null,null,null,null,null,null,null,null,null,null,null,null,null,null,null,null,null,null,null,null,null,null,"692 貸家業，貸間業","業務","69 不動産賃貸業・管理業"]
[null,null,null,null,null,null,null,null,null,null,null,null,null,null,null,null,null,null,null,null,null,null,null,null,null,null,null,null,"693 駐車場業","業務","69 不動産賃貸業・管理業"]
[null,null,null,null,null,null,null,null,null,null,null,null,null,null,null,null,null,null,null,null,null,null,null,null,null,null,null,null,"694 不動産管理業","業務","69 不動産賃貸業・管理業"]
[null,null,null,null,null,null,null,null,null,null,null,null,null,null,null,null,null,null,null,null,null,null,null,null,null,null,null,"70 物品賃貸業","700 管理，補助的経済活動を行う事業所（70物品賃貸業）","業務","70 物品賃貸業"]
[null,null,null,null,null,null,null,null,null,null,null,null,null,null,null,null,null,null,null,null,null,null,null,null,null,null,null,null,"701 各種物品賃貸業","業務","70 物品賃貸業"]
[null,null,null,null,null,null,null,null,null,null,null,null,null,null,null,null,null,null,null,null,null,null,null,null,null,null,null,null,"702 産業用機械器具賃貸業","業務","70 物品賃貸業"]
[null,null,null,null,null,null,null,null,null,null,null,null,null,null,null,null,null,null,null,null,null,null,null,null,null,null,null,null,"703 事務用機械器具賃貸業","業務","70 物品賃貸業"]
[null,null,null,null,null,null,null,null,null,null,null,null,null,null,null,null,null,null,null,null,null,null,null,null,null,null,null,null,"704 自動車賃貸業","業務","70 物品賃貸業"]
[null,null,null,null,null,null,null,null,null,null,null,null,null,null,null,null,null,null,null,null,null,null,null,null,null,null,null,null,"705 スポーツ・娯楽用品賃貸業","業務","70 物品賃貸業"]
[null,null,null,null,null,null,null,null,null,null,null,null,null,null,null,null,null,null,null,null,null,null,null,null,null,null,null,null,"709 その他の物品賃貸業","業務","70 物品賃貸業"]
[null,null,null,null,null,null,null,null,null,null,null,null,null,null,null,null,null,null,null,null,null,null,null,null,null,null,null,"71 学術・開発研究機関","710 管理，補助的経済活動を行う事業所（71学術・開発研究機関）","業務","71 学術・開発研究機関"]
[null,null,null,null,null,null,null,null,null,null,null,null,null,null,null,null,null,null,null,null,null,null,null,null,null,null,null,null,"711 自然科学研究所","業務","71 学術・開発研究機関"]
[null,null,null,null,null,null,null,null,null,null,null,null,null,null,null,null,null,null,null,null,null,null,null,null,null,null,null,null,"712 人文・社会科学研究所","業務","71 学術・開発研究機関"]
[null,null,null,null,null,null,null,null,null,null,null,null,null,null,null,null,null,null,null,null,null,null,null,null,null,null,null,"72 専門サービス業（他に分類されないもの）","720 管理，補助的経済活動を行う事業所（72専門サービス業）","業務","72 専門サービス業（他に分類されないもの）"]
[null,null,null,null,null,null,null,null,null,null,null,null,null,null,null,null,null,null,null,null,null,null,null,null,null,null,null,null,"721 法律事務所，特許事務所","業務","72 専門サービス業（他に分類されないもの）"]
[null,null,null,null,null,null,null,null,null,null,null,null,null,null,null,null,null,null,null,null,null,null,null,null,null,null,null,null,"722 公証人役場，司法書士事務所，土地家屋調査士事務所","業務","72 専門サービス業（他に分類されないもの）"]
[null,null,null,null,null,null,null,null,null,null,null,null,null,null,null,null,null,null,null,null,null,null,null,null,null,null,null,null,"723 行政書士事務所","業務","72 専門サービス業（他に分類されないもの）"]
[null,null,null,null,null,null,null,null,null,null,null,null,null,null,null,null,null,null,null,null,null,null,null,null,null,null,null,null,"724 公認会計士事務所，税理士事務所","業務","72 専門サービス業（他に分類されないもの）"]
[null,null,null,null,null,null,null,null,null,null,null,null,null,null,null,null,null,null,null,null,null,null,null,null,null,null,null,null,"725 社会保険労務士事務所","業務","72 専門サービス業（他に分類されないもの）"]
[null,null,null,null,null,null,null,null,null,null,null,null,null,null,null,null,null,null,null,null,null,null,null,null,null,null,null,null,"726 デザイン業","業務","72 専門サービス業（他に分類されないもの）"]
[null,null,null,null,null,null,null,null,null,null,null,null,null,null,null,null,null,null,null,null,null,null,null,null,null,null,null,null,"727 著述・芸術家業","業務","72 専門サービス業（他に分類されないもの）"]
[null,null,null,null,null,null,null,null,null,null,null,null,null,null,null,null,null,null,null,null,null,null,null,null,null,null,null,null,"728 経営コンサルタント業，純粋持株会社","業務","72 専門サービス業（他に分類されないもの）"]
[null,null,null,null,null,null,null,null,null,null,null,null,null,null,null,null,null,null,null,null,null,null,null,null,null,null,null,null,"729 その他の専門サービス業","業務","72 専門サービス業（他に分類されないもの）"]
[null,null,null,null,null,null,null,null,null,null,null,null,null,null,null,null,null,null,null,null,null,null,null,null,null,null,null,"73 広告業","730 管理，補助的経済活動を行う事業所（73広告業）","業務","73 広告業"]
[null,null,null,null,null,null,null,null,null,null,null,null,null,null,null,null,null,null,null,null,null,null,null,null,null,null,null,null,"731 広告業","業務","73 広告業"]
[null,null,null,null,null,null,null,null,null,null,null,null,null,null,null,null,null,null,null,null,null,null,null,null,null,null,null,"74 技術サービス業（他に分類されないもの）","740 管理，補助的経済活動を行う事業所（74技術サービス業）","業務","74 技術サービス業（他に分類されないもの）"]
[null,null,null,null,null,null,null,null,null,null,null,null,null,null,null,null,null,null,null,null,null,null,null,null,null,null,null,null,"741 獣医業","業務","74 技術サービス業（他に分類されないもの）"]
[null,null,null,null,null,null,null,null,null,null,null,null,null,null,null,null,null,null,null,null,null,null,null,null,null,null,null,null,"742 土木建築サービス業","業務","74 技術サービス業（他に分類されないもの）"]
[null,null,null,null,null,null,null,null,null,null,null,null,null,null,null,null,null,null,null,null,null,null,null,null,null,null,null,null,"743 機械設計業","業務","74 技術サービス業（他に分類されないもの）"]
[null,null,null,null,null,null,null,null,null,null,null,null,null,null,null,null,null,null,null,null,null,null,null,null,null,null,null,null,"744 商品・非破壊検査業","業務","74 技術サービス業（他に分類されないもの）"]
[null,null,null,null,null,null,null,null,null,null,null,null,null,null,null,null,null,null,null,null,null,null,null,null,null,null,null,null,"745 計量証明業","業務","74 技術サービス業（他に分類されないもの）"]
[null,null,null,null,null,null,null,null,null,null,null,null,null,null,null,null,null,null,null,null,null,null,null,null,null,null,null,null,"746 写真業","業務","74 技術サービス業（他に分類されないもの）"]
[null,null,null,null,null,null,null,null,null,null,null,null,null,null,null,null,null,null,null,null,null,null,null,null,null,null,null,null,"749 その他の技術サービス業","業務","74 技術サービス業（他に分類されないもの）"]
[null,null,null,null,null,null,null,null,null,null,null,null,null,null,null,null,null,null,null,null,null,null,null,null,null,null,null,"75 宿泊業","750 管理，補助的経済活動を行う事業所（75宿泊業）","業務","75 宿泊業"]
[null,null,null,null,null,null,null,null,null,null,null,null,null,null,null,null,null,null,null,null,null,null,null,null,null,null,null,null,"751 旅館，ホテル","業務","75 宿泊業"]
[null,null,null,null,null,null,null,null,null,null,null,null,null,null,null,null,null,null,null,null,null,null,null,null,null,null,null,null,"752 簡易宿所","業務","75 宿泊業"]
[null,null,null,null,null,null,null,null,null,null,null,null,null,null,null,null,null,null,null,null,null,null,null,null,null,null,null,null,"753 下宿業","業務","75 宿泊業"]
[null,null,null,null,null,null,null,null,null,null,null,null,null,null,null,null,null,null,null,null,null,null,null,null,null,null,null,null,"759 その他の宿泊業","業務","75 宿泊業"]
[null,null,null,null,null,null,null,null,null,null,null,null,null,null,null,null,null,null,null,null,null,null,null,null,null,null,null,"76 飲食店","760 管理，補助的経済活動を行う事業所（76飲食店）","業務","76 飲食店"]
[null,null,null,null,null,null,null,null,null,null,null,null,null,null,null,null,null,null,null,null,null,null,null,null,null,null,null,null,"761 食堂，レストラン（専門料理店を除く）","業務","76 飲食店"]
[null,null,null,null,null,null,null,null,null,null,null,null,null,null,null,null,null,null,null,null,null,null,null,null,null,null,null,null,"762 専門料理店","業務","76 飲食店"]
[null,null,null,null,null,null,null,null,null,null,null,null,null,null,null,null,null,null,null,null,null,null,null,null,null,null,null,null,"763 そば・うどん店","業務","76 飲食店"]
[null,null,null,null,null,null,null,null,null,null,null,null,null,null,null,null,null,null,null,null,null,null,null,null,null,null,null,null,"764 すし店","業務","76 飲食店"]
[null,null,null,null,null,null,null,null,null,null,null,null,null,null,null,null,null,null,null,null,null,null,null,null,null,null,null,null,"765 酒場，ビヤホール","業務","76 飲食店"]
[null,null,null,null,null,null,null,null,null,null,null,null,null,null,null,null,null,null,null,null,null,null,null,null,null,null,null,null,"766 バー，キャバレー，ナイトクラブ","業務","76 飲食店"]
[null,null,null,null,null,null,null,null,null,null,null,null,null,null,null,null,null,null,null,null,null,null,null,null,null,null,null,null,"767 喫茶店","業務","76 飲食店"]
[null,null,null,null,null,null,null,null,null,null,null,null,null,null,null,null,null,null,null,null,null,null,null,null,null,null,null,null,"769 その他の飲食店","業務","76 飲食店"]
[null,null,null,null,null,null,null,null,null,null,null,null,null,null,null,null,null,null,null,null,null,null,null,null,null,null,null,"77 持ち帰り・配達飲食サービス業","770 管理，補助的経済活動を行う事業所（77持ち帰り・配達飲食サービス業）","業務","77 持ち帰り・配達飲食サービス業"]
[null,null,null,null,null,null,null,null,null,null,null,null,null,null,null,null,null,null,null,null,null,null,null,null,null,null,null,null,"771 持ち帰り飲食サービス業","業務","77 持ち帰り・配達飲食サービス業"]
[null,null,null,null,null,null,null,null,null,null,null,null,null,null,null,null,null,null,null,null,null,null,null,null,null,null,null,null,"772 配達飲食サービス業","業務","77 持ち帰り・配達飲食サービス業"]
[null,null,null,null,null,null,null,null,null,null,null,null,null,null,null,null,null,null,null,null,null,null,null,null,null,null,null,"78 洗濯・理容・美容・浴場業","780 管理，補助的経済活動を行う事業所（78洗濯・理容・美容・浴場業）","業務","78 洗濯・理容・美容・浴場業"]
[null,null,null,null,null,null,null,null,null,null,null,null,null,null,null,null,null,null,null,null,null,null,null,null,null,null,null,null,"781 洗濯業","業務","78 洗濯・理容・美容・浴場業"]
[null,null,null,null,null,null,null,null,null,null,null,null,null,null,null,null,null,null,null,null,null,null,null,null,null,null,null,null,"782 理容業","業務","78 洗濯・理容・美容・浴場業"]
[null,null,null,null,null,null,null,null,null,null,null,null,null,null,null,null,null,null,null,null,null,null,null,null,null,null,null,null,"783 美容業","業務","78 洗濯・理容・美容・浴場業"]
[null,null,null,null,null,null,null,null,null,null,null,null,null,null,null,null,null,null,null,null,null,null,null,null,null,null,null,null,"784 一般公衆浴場業","業務","78 洗濯・理容・美容・浴場業"]
[null,null,null,null,null,null,null,null,null,null,null,null,null,null,null,null,null,null,null,null,null,null,null,null,null,null,null,null,"785 その他の公衆浴場業","業務","78 洗濯・理容・美容・浴場業"]
[null,null,null,null,null,null,null,null,null,null,null,null,null,null,null,null,null,null,null,null,null,null,null,null,null,null,null,null,"789 その他の洗濯・理容・美容・浴場業","業務","78 洗濯・理容・美容・浴場業"]
[null,null,null,null,null,null,null,null,null,null,null,null,null,null,null,null,null,null,null,null,null,null,null,null,null,null,null,"79 その他の生活関連サービス業","790 管理，補助的経済活動を行う事業所（79その他の生活関連サービス業）","業務","79 その他の生活関連サービス業"]
[null,null,null,null,null,null,null,null,null,null,null,null,null,null,null,null,null,null,null,null,null,null,null,null,null,null,null,null,"791 旅行業","業務","79 その他の生活関連サービス業"]
[null,null,null,null,null,null,null,null,null,null,null,null,null,null,null,null,null,null,null,null,null,null,null,null,null,null,null,null,"792 家事サービス業","業務","79 その他の生活関連サービス業"]
[null,null,null,null,null,null,null,null,null,null,null,null,null,null,null,null,null,null,null,null,null,null,null,null,null,null,null,null,"793 衣服裁縫修理業","業務","79 その他の生活関連サービス業"]
[null,null,null,null,null,null,null,null,null,null,null,null,null,null,null,null,null,null,null,null,null,null,null,null,null,null,null,null,"794 物品預り業","業務","79 その他の生活関連サービス業"]
[null,null,null,null,null,null,null,null,null,null,null,null,null,null,null,null,null,null,null,null,null,null,null,null,null,null,null,null,"795 火葬・墓地管理業","業務","79 その他の生活関連サービス業"]
[null,null,null,null,null,null,null,null,null,null,null,null,null,null,null,null,null,null,null,null,null,null,null,null,null,null,null,null,"796 冠婚葬祭業","業務","79 その他の生活関連サービス業"]
[null,null,null,null,null,null,null,null,null,null,null,null,null,null,null,null,null,null,null,null,null,null,null,null,null,null,null,null,"799 他に分類されない生活関連サービス業","業務","79 その他の生活関連サービス業"]
[null,null,null,null,null,null,null,null,null,null,null,null,null,null,null,null,null,null,null,null,null,null,null,null,null,null,null,"80 娯楽業","800 管理，補助的経済活動を行う事業所（80娯楽業）","業務","80 娯楽業"]
[null,null,null,null,null,null,null,null,null,null,null,null,null,null,null,null,null,null,null,null,null,null,null,null,null,null,null,null,"801 映画館","業務","80 娯楽業"]
[null,null,null,null,null,null,null,null,null,null,null,null,null,null,null,null,null,null,null,null,null,null,null,null,null,null,null,null,"802 興行場（別掲を除く），興行団","業務","80 娯楽業"]
[null,null,null,null,null,null,null,null,null,null,null,null,null,null,null,null,null,null,null,null,null,null,null,null,null,null,null,null,"803 競輪・競馬等の競走場，競技団","業務","80 娯楽業"]
[null,null,null,null,null,null,null,null,null,null,null,null,null,null,null,null,null,null,null,null,null,null,null,null,null,null,null,null,"804 スポーツ施設提供業","業務","80 娯楽業"]
[null,null,null,null,null,null,null,null,null,null,null,null,null,null,null,null,null,null,null,null,null,null,null,null,null,null,null,null,"805 公園，遊園地","業務","80 娯楽業"]
[null,null,null,null,null,null,null,null,null,null,null,null,null,null,null,null,null,null,null,null,null,null,null,null,null,null,null,null,"806 遊戯場","業務","80 娯楽業"]
[null,null,null,null,null,null,null,null,null,null,null,null,null,null,null,null,null,null,null,null,null,null,null,null,null,null,null,null,"809 その他の娯楽業","業務","80 娯楽業"]
[null,null,null,null,null,null,null,null,null,null,null,null,null,null,null,null,null,null,null,null,null,null,null,null,null,null,null,"81 学校教育","810 管理，補助的経済活動を行う事業所（81学校教育）","業務","81 学校教育"]
[null,null,null,null,null,null,null,null,null,null,null,null,null,null,null,null,null,null,null,null,null,null,null,null,null,null,null,null,"811 幼稚園","業務","81 学校教育"]
[null,null,null,null,null,null,null,null,null,null,null,null,null,null,null,null,null,null,null,null,null,null,null,null,null,null,null,null,"812 小学校","業務","81 学校教育"]
[null,null,null,null,null,null,null,null,null,null,null,null,null,null,null,null,null,null,null,null,null,null,null,null,null,null,null,null,"813 中学校","業務","81 学校教育"]
[null,null,null,null,null,null,null,null,null,null,null,null,null,null,null,null,null,null,null,null,null,null,null,null,null,null,null,null,"814 高等学校，中等教育学校","業務","81 学校教育"]
[null,null,null,null,null,null,null,null,null,null,null,null,null,null,null,null,null,null,null,null,null,null,null,null,null,null,null,null,"815 特別支援学校","業務","81 学校教育"]
[null,null,null,null,null,null,null,null,null,null,null,null,null,null,null,null,null,null,null,null,null,null,null,null,null,null,null,null,"816 高等教育機関","業務","81 学校教育"]
[null,null,null,null,null,null,null,null,null,null,null,null,null,null,null,null,null,null,null,null,null,null,null,null,null,null,null,null,"817 専修学校，各種学校","業務","81 学校教育"]
[null,null,null,null,null,null,null,null,null,null,null,null,null,null,null,null,null,null,null,null,null,null,null,null,null,null,null,null,"818 学校教育支援機関","業務","81 学校教育"]
[null,null,null,null,null,null,null,null,null,null,null,null,null,null,null,null,null,null,null,null,null,null,null,null,null,null,null,null,"819 幼保連携型認定こども園","業務","81 学校教育"]
[null,null,null,null,null,null,null,null,null,null,null,null,null,null,null,null,null,null,null,null,null,null,null,null,null,null,null,"82 その他の教育，学習支援業","820 管理，補助的経済活動を行う事業所（82その他の教育，学習支援業）","業務","82 その他の教育，学習支援業"]
[null,null,null,null,null,null,null,null,null,null,null,null,null,null,null,null,null,null,null,null,null,null,null,null,null,null,null,null,"821 社会教育","業務","82 その他の教育，学習支援業"]
[null,null,null,null,null,null,null,null,null,null,null,null,null,null,null,null,null,null,null,null,null,null,null,null,null,null,null,null,"822 職業・教育支援施設","業務","82 その他の教育，学習支援業"]
[null,null,null,null,null,null,null,null,null,null,null,null,null,null,null,null,null,null,null,null,null,null,null,null,null,null,null,null,"823 学習塾","業務","82 その他の教育，学習支援業"]
[null,null,null,null,null,null,null,null,null,null,null,null,null,null,null,null,null,null,null,null,null,null,null,null,null,null,null,null,"824 教養・技能教授業","業務","82 その他の教育，学習支援業"]
[null,null,null,null,null,null,null,null,null,null,null,null,null,null,null,null,null,null,null,null,null,null,null,null,null,null,null,null,"829 他に分類されない教育，学習支援業","業務","82 その他の教育，学習支援業"]
[null,null,null,null,null,null,null,null,null,null,null,null,null,null,null,null,null,null,null,null,null,null,null,null,null,null,null,"83 医療業","830 管理，補助的経済活動を行う事業所（83医療業）","業務","83 医療業"]
[null,null,null,null,null,null,null,null,null,null,null,null,null,null,null,null,null,null,null,null,null,null,null,null,null,null,null,null,"831 病院","業務","83 医療業"]
[null,null,null,null,null,null,null,null,null,null,null,null,null,null,null,null,null,null,null,null,null,null,null,null,null,null,null,null,"832 一般診療所","業務","83 医療業"]
[null,null,null,null,null,null,null,null,null,null,null,null,null,null,null,null,null,null,null,null,null,null,null,null,null,null,null,null,"833 歯科診療所","業務","83 医療業"]
[null,null,null,null,null,null,null,null,null,null,null,null,null,null,null,null,null,null,null,null,null,null,null,null,null,null,null,null,"834 助産・看護業","業務","83 医療業"]
[null,null,null,null,null,null,null,null,null,null,null,null,null,null,null,null,null,null,null,null,null,null,null,null,null,null,null,null,"835 療術業","業務","83 医療業"]
[null,null,null,null,null,null,null,null,null,null,null,null,null,null,null,null,null,null,null,null,null,null,null,null,null,null,null,null,"836 医療に附帯するサービス業","業務","83 医療業"]
[null,null,null,null,null,null,null,null,null,null,null,null,null,null,null,null,null,null,null,null,null,null,null,null,null,null,null,"84 保健衛生","840 管理，補助的経済活動を行う事業所（84保健衛生）","業務","84 保健衛生"]
[null,null,null,null,null,null,null,null,null,null,null,null,null,null,null,null,null,null,null,null,null,null,null,null,null,null,null,null,"841 保健所","業務","84 保健衛生"]
[null,null,null,null,null,null,null,null,null,null,null,null,null,null,null,null,null,null,null,null,null,null,null,null,null,null,null,null,"842 健康相談施設","業務","84 保健衛生"]
[null,null,null,null,null,null,null,null,null,null,null,null,null,null,null,null,null,null,null,null,null,null,null,null,null,null,null,null,"849 その他の保健衛生","業務","84 保健衛生"]
[null,null,null,null,null,null,null,null,null,null,null,null,null,null,null,null,null,null,null,null,null,null,null,null,null,null,null,"85 社会保険・社会福祉・介護事業","850 管理，補助的経済活動を行う事業所（85社会保険・社会福祉・介護事業）","業務","85 社会保険・社会福祉・介護事業"]
[null,null,null,null,null,null,null,null,null,null,null,null,null,null,null,null,null,null,null,null,null,null,null,null,null,null,null,null,"851 社会保険事業団体","業務","85 社会保険・社会福祉・介護事業"]
[null,null,null,null,null,null,null,null,null,null,null,null,null,null,null,null,null,null,null,null,null,null,null,null,null,null,null,null,"852 福祉事務所","業務","85 社会保険・社会福祉・介護事業"]
[null,null,null,null,null,null,null,null,null,null,null,null,null,null,null,null,null,null,null,null,null,null,null,null,null,null,null,null,"853 児童福祉事業","業務","85 社会保険・社会福祉・介護事業"]
[null,null,null,null,null,null,null,null,null,null,null,null,null,null,null,null,null,null,null,null,null,null,null,null,null,null,null,null,"854 老人福祉・介護事業","業務","85 社会保険・社会福祉・介護事業"]
[null,null,null,null,null,null,null,null,null,null,null,null,null,null,null,null,null,null,null,null,null,null,null,null,null,null,null,null,"855 障害者福祉事業","業務","85 社会保険・社会福祉・介護事業"]
[null,null,null,null,null,null,null,null,null,null,null,null,null,null,null,null,null,null,null,null,null,null,null,null,null,null,null,null,"859 その他の社会保険・社会福祉・介護事業","業務","85 社会保険・社会福祉・介護事業"]
[null,null,null,null,null,null,null,null,null,null,null,null,null,null,null,null,null,null,null,null,null,null,null,null,null,null,null,"86 郵便局","860 管理，補助的経済活動を行う事業所（86郵便局）","業務","86 郵便局"]
[null,null,null,null,null,null,null,null,null,null,null,null,null,null,null,null,null,null,null,null,null,null,null,null,null,null,null,null,"861 郵便局","業務","86 郵便局"]
[null,null,null,null,null,null,null,null,null,null,null,null,null,null,null,null,null,null,null,null,null,null,null,null,null,null,null,null,"862 郵便局受託業","業務","86 郵便局"]
[null,null,null,null,null,null,null,null,null,null,null,null,null,null,null,null,null,null,null,null,null,null,null,null,null,null,null,"87 協同組合（他に分類されないもの）","870 管理，補助的経済活動を行う事業所（87協同組合）","業務","87 協同組合（他に分類されないもの）"]
[null,null,null,null,null,null,null,null,null,null,null,null,null,null,null,null,null,null,null,null,null,null,null,null,null,null,null,null,"871 農林水産業協同組合（他に分類されないもの）","業務","87 協同組合（他に分類されないもの）"]
[null,null,null,null,null,null,null,null,null,null,null,null,null,null,null,null,null,null,null,null,null,null,null,null,null,null,null,null,"872 事業協同組合（他に分類されないもの）","業務","87 協同組合（他に分類されないもの）"]
[null,null,null,null,null,null,null,null,null,null,null,null,null,null,null,null,null,null,null,null,null,null,null,null,null,null,null,"88 廃棄物処理業","880 管理，補助的経済活動を行う事業所（88廃棄物処理業）","業務","88 廃棄物処理業"]
[null,null,null,null,null,null,null,null,null,null,null,null,null,null,null,null,null,null,null,null,null,null,null,null,null,null,null,null,"881 一般廃棄物処理業","業務","88 廃棄物処理業"]
[null,null,null,null,null,null,null,null,null,null,null,null,null,null,null,null,null,null,null,null,null,null,null,null,null,null,null,null,"882 産業廃棄物処理業","業務","88 廃棄物処理業"]
[null,null,null,null,null,null,null,null,null,null,null,null,null,null,null,null,null,null,null,null,null,null,null,null,null,null,null,null,"889 その他の廃棄物処理業","業務","88 廃棄物処理業"]
[null,null,null,null,null,null,null,null,null,null,null,null,null,null,null,null,null,null,null,null,null,null,null,null,null,null,null,"89 自動車整備業","890 管理，補助的経済活動を行う事業所（89自動車整備業）","業務","89 自動車整備業"]
[null,null,null,null,null,null,null,null,null,null,null,null,null,null,null,null,null,null,null,null,null,null,null,null,null,null,null,null,"891 自動車整備業","業務","89 自動車整備業"]
[null,null,null,null,null,null,null,null,null,null,null,null,null,null,null,null,null,null,null,null,null,null,null,null,null,null,null,"90 機械等修理業（別掲を除く）","900 管理，補助的経済活動を行う事業所（90機械等修理業）","業務","90 機械等修理業（別掲を除く）"]
[null,null,null,null,null,null,null,null,null,null,null,null,null,null,null,null,null,null,null,null,null,null,null,null,null,null,null,null,"901 機械修理業（電気機械器具を除く）","業務","90 機械等修理業（別掲を除く）"]
[null,null,null,null,null,null,null,null,null,null,null,null,null,null,null,null,null,null,null,null,null,null,null,null,null,null,null,null,"902 電気機械器具修理業","業務","90 機械等修理業（別掲を除く）"]
[null,null,null,null,null,null,null,null,null,null,null,null,null,null,null,null,null,null,null,null,null,null,null,null,null,null,null,null,"903 表具業","業務","90 機械等修理業（別掲を除く）"]
[null,null,null,null,null,null,null,null,null,null,null,null,null,null,null,null,null,null,null,null,null,null,null,null,null,null,null,null,"909 その他の修理業","業務","90 機械等修理業（別掲を除く）"]
[null,null,null,null,null,null,null,null,null,null,null,null,null,null,null,null,null,null,null,null,null,null,null,null,null,null,null,"91 職業紹介・労働者派遣業","910 管理，補助的経済活動を行う事業所（91職業紹介・労働者派遣業）","業務","91 職業紹介・労働者派遣業"]
[null,null,null,null,null,null,null,null,null,null,null,null,null,null,null,null,null,null,null,null,null,null,null,null,null,null,null,null,"911 職業紹介業","業務","91 職業紹介・労働者派遣業"]
[null,null,null,null,null,null,null,null,null,null,null,null,null,null,null,null,null,null,null,null,null,null,null,null,null,null,null,null,"912 労働者派遣業","業務","91 職業紹介・労働者派遣業"]
[null,null,null,null,null,null,null,null,null,null,null,null,null,null,null,null,null,null,null,null,null,null,null,null,null,null,null,"92 その他の事業サービス業","920 管理，補助的経済活動を行う事業所（92その他の事業サービス業）","業務","92 その他の事業サービス業"]
[null,null,null,null,null,null,null,null,null,null,null,null,null,null,null,null,null,null,null,null,null,null,null,null,null,null,null,null,"921 速記・ワープロ入力・複写業","業務","92 その他の事業サービス業"]
[null,null,null,null,null,null,null,null,null,null,null,null,null,null,null,null,null,null,null,null,null,null,null,null,null,null,null,null,"922 建物サービス業","業務","92 その他の事業サービス業"]
[null,null,null,null,null,null,null,null,null,null,null,null,null,null,null,null,null,null,null,null,null,null,null,null,null,null,null,null,"923 警備業","業務","92 その他の事業サービス業"]
[null,null,null,null,null,null,null,null,null,null,null,null,null,null,null,null,null,null,null,null,null,null,null,null,null,null,null,null,"929 他に分類されない事業サービス業","業務","92 その他の事業サービス業"]
[null,null,null,null,null,null,null,null,null,null,null,null,null,null,null,null,null,null,null,null,null,null,null,null,null,null,null,"93 政治・経済・文化団体","931 経済団体","業務","93 政治・経済・文化団体"]
[null,null,null,null,null,null,null,null,null,null,null,null,null,null,null,null,null,null,null,null,null,null,null,null,null,null,null,null,"932 労働団体","業務","93 政治・経済・文化団体"]
[null,null,null,null,null,null,null,null,null,null,null,null,null,null,null,null,null,null,null,null,null,null,null,null,null,null,null,null,"933 学術・文化団体","業務","93 政治・経済・文化団体"]
[null,null,null,null,null,null,null,null,null,null,null,null,null,null,null,null,null,null,null,null,null,null,null,null,null,null,null,null,"934 政治団体","業務","93 政治・経済・文化団体"]
[null,null,null,null,null,null,null,null,null,null,null,null,null,null,null,null,null,null,null,null,null,null,null,null,null,null,null,null,"939 他に分類されない非営利的団体","業務","93 政治・経済・文化団体"]
[null,null,null,null,null,null,null,null,null,null,null,null,null,null,null,null,null,null,null,null,null,null,null,null,null,null,null,"94 宗教","941 神道系宗教","業務","94 宗教"]
[null,null,null,null,null,null,null,null,null,null,null,null,null,null,null,null,null,null,null,null,null,null,null,null,null,null,null,null,"942 仏教系宗教","業務","94 宗教"]
[null,null,null,null,null,null,null,null,null,null,null,null,null,null,null,null,null,null,null,null,null,null,null,null,null,null,null,null,"943 キリスト教系宗教","業務","94 宗教"]
[null,null,null,null,null,null,null,null,null,null,null,null,null,null,null,null,null,null,null,null,null,null,null,null,null,null,null,null,"949 その他の宗教","業務","94 宗教"]
[null,null,null,null,null,null,null,null,null,null,null,null,null,null,null,null,null,null,null,null,null,null,null,null,null,null,null,"95 その他のサービス業","950 管理，補助的経済活動を行う事業所（95その他のサービス業）","業務","95 その他のサービス業"]
[null,null,null,null,null,null,null,null,null,null,null,null,null,null,null,null,null,null,null,null,null,null,null,null,null,null,null,null,"951 集会場","業務","95 その他のサービス業"]
[null,null,null,null,null,null,null,null,null,null,null,null,null,null,null,null,null,null,null,null,null,null,null,null,null,null,null,null,"952 と畜場","業務","95 その他のサービス業"]
[null,null,null,null,null,null,null,null,null,null,null,null,null,null,null,null,null,null,null,null,null,null,null,null,null,null,null,null,"959 他に分類されないサービス業","業務","95 その他のサービス業"]
[null,null,null,null,null,null,null,null,null,null,null,null,null,null,null,null,null,null,null,null,null,null,null,null,null,null,null,"96 外国公務","961 外国公館","業務","96 外国公務"]
[null,null,null,null,null,null,null,null,null,null,null,null,null,null,null,null,null,null,null,null,null,null,null,null,null,null,null,null,"969 その他の外国公務","業務","96 外国公務"]
[null,null,null,null,null,null,null,null,null,null,null,null,null,null,null,null,null,null,null,null,null,null,null,null,null,null,null,"97 国家公務","971 立法機関","業務","97 国家公務"]
[null,null,null,null,null,null,null,null,null,null,null,null,null,null,null,null,null,null,null,null,null,null,null,null,null,null,null,null,"972 司法機関","業務","97 国家公務"]
[null,null,null,null,null,null,null,null,null,null,null,null,null,null,null,null,null,null,null,null,null,null,null,null,null,null,null,null,"973 行政機関","業務","97 国家公務"]
[null,null,null,null,null,null,null,null,null,null,null,null,null,null,null,null,null,null,null,null,null,null,null,null,null,null,null,"98 地方公務","981 都道府県機関","業務","98 地方公務"]
[null,null,null,null,null,null,null,null,null,null,null,null,null,null,null,null,null,null,null,null,null,null,null,null,null,null,null,null,"982 市町村機関","業務","98 地方公務"]
[null,null,null,null,null,null,null,null,null,null,null,null,null,null,null,null,null,null,null,null,null,null,null,null,null,null,null,"99 分類不能の産業","999 分類不能の産業","業務","99 分類不能の産業"]

{"sheet":"集計用_まとめ","index":6,"n_rows":18,"n_cols":39,"rows_kept":18,"cut":false,"hidden":true,"merged":[[10,35,10,38],[9,19,9,38],[11,21,11,23],[10,27,10,31],[11,29,11,30],[11,32,11,33],[10,32,10,34],[11,4,11,5],[11,9,11,10],[10,7,10,11],[11,16,11,18],[9,6,9,18],[9,1,9,5],[10,12,10,18]]}
[]
[null,{"$f":"MID(CELL(\"filename\",事業報告書まとめ_設備更新!$A$1),FIND(\"]\",CELL(\"filename\",事業報告書まとめ_設備更新!$A$1))+1,LEN(CELL(\"filename\",事業報告書まとめ_設備更新!$A$1)))&\"!\"","v":"事業報告書まとめ_設備更新!"},{"$f":"MID(CELL(\"filename\",#REF!),FIND(\"]\",CELL(\"filename\",#REF!))+1,LEN(CELL(\"filename\",#REF!)))&\"!\"","v":{"$error":"#REF!"}},{"$f":"MID(CELL(\"filename\",#REF!),FIND(\"]\",CELL(\"filename\",#REF!))+1,LEN(CELL(\"filename\",#REF!)))&\"!\"","v":{"$error":"#REF!"}},{"$f":"MID(CELL(\"filename\",#REF!),FIND(\"]\",CELL(\"filename\",#REF!))+1,LEN(CELL(\"filename\",#REF!)))&\"!\"","v":{"$error":"#REF!"}}]
[]
[]
[]
[]
[]
[null,"事業報告書まとめ",null,null,null,null,null,"事業報告書まとめ",null,null,null,null,null,null,null,null,null,null,null,"様式16"]
[]
[null,"補助事業者情報",null,null,null,null,"CO2排出量の推移と計画排出量の達成状況",null,null,null,null,null,null,null,null,null,null,null,null,"様式16"]
[null,null,null,null,null,null,null,"工場・事業場全体",null,null,null,null,"主要システム系統",null,null,null,null,null,null,null,null,null,null,null,null,null,null,"１　脱炭素化促進計画に記された取組の実施状況・予定",null,null,null,null,"２　事業実施による二酸化炭素排出削減効果について",null,null,"本件責任者及び担当者の氏名、連絡先等"]
[null,null,null,null,"業種",null,null,null,"計画","実績",null,null,null,null,null,"計画","実績",null,null,null,null,"交付日",null,null,"交付番号",null,null,null,"設備更新補助事業A/Bへの申請有無","その他の補助事業の利用状況",null,"脱炭素化計画に記載された対策の実施状況","計画二酸化炭素排出量及び実績二酸化炭素排出量"]
[null,"GAJ事業番号/補助の区分","補助事業者名（法人名）","工場・事業場名","中分類","小分類",null,"年度","CO2排出量（対策後）","CO2排出量","CO2排出超過量（対計画CO2排出量）","備考","主要システム系統の名称",null,"年度","CO2排出量（対策後）","CO2排出量","CO2排出超過量（対計画CO2排出量）","備考","環境省補助事業ID","GAJ事業番号","年","月","日",null,"第～号",null,null,"1＝申請した\n2=申請していない","1＝利用した\n2=利用していない","その他補助事業の詳細","1=前年度の脱炭素化計画通り実施した\n2=前年度の脱炭素化計画から変更があった","計画二酸化炭素排出量","実績二酸化炭素排出量","実績二酸化炭素排出量が計画二酸化炭素排出量を超過した場合の原因","責任者の所属部署・職名・氏名","担当者の所属部署・職名・氏名","電話番号","メールアドレス"]
[null,{"$f":"IF(INDIRECT($B$2&\"J6\")=\"\",\"\",INDIRECT($B$2&\"J6\"))","v":""},{"$f":"IF(INDIRECT($B$2&\"J7\")=\"\",\"\",INDIRECT($B$2&\"J7\"))","v":""},{"$f":"IF(INDIRECT($B$2&\"J9\")=\"\",\"\",INDIRECT($B$2&\"J9\"))","v":""},{"$f":"VLOOKUP($F$14,中分類,3,FALSE)","v":{"$error":"#N/A"}},{"$f":"IF(INDIRECT($B$2&\"J11\")=\"\",\"\",INDIRECT($B$2&\"J11\"))","v":""},"a",null,null,null,null,null,{"$f":"IF(INDIRECT($B$2&\"H31\")=\"\",\"\",INDIRECT($B$2&\"H31\"))","v":""},"a","基準年度",null,{"$f":"IF(INDIRECT($B$2&\"P37\")=\"\",\"\",INDIRECT($B$2&\"P37\"))","v":""},null,{"$f":"IF(INDIRECT($B$2&\"E41\")=\"\",\"\",INDIRECT($B$2&\"E41\"))","v":""}]
[null,{"$f":"IF(INDIRECT($B$2&\"S6\")=\"\",\"\",INDIRECT($B$2&\"S6\"))","v":""},null,null,{"$f":"VLOOKUP($F$15,中分類,3,FALSE)","v":{"$error":"#N/A"}},{"$f":"IF(INDIRECT($B$2&\"J12\")=\"\",\"\",INDIRECT($B$2&\"J12\"))","v":""},"b",null,null,null,null,null,null,"b",{"$f":"IF(INDIRECT($B$2&\"E38\")=\"\",\"\",INDIRECT($B$2&\"E38\"))","v":"事業報告年度を選択して下さい"},{"$f":"IF(INDIRECT($B$2&\"I38\")=\"\",\"\",INDIRECT($B$2&\"I38\"))","v":""},{"$f":"IF(INDIRECT($B$2&\"P38\")=\"\",\"\",INDIRECT($B$2&\"P38\"))","v":0},{"$f":"IF(INDIRECT($B$2&\"W38\")=\"\",\"\",INDIRECT($B$2&\"W38\"))","v":""}]
[null,null,null,null,{"$f":"VLOOKUP($F$16,中分類,3,FALSE)","v":{"$error":"#N/A"}},{"$f":"IF(INDIRECT($B$2&\"J13\")=\"\",\"\",INDIRECT($B$2&\"J13\"))","v":""},"c",null,null,null,null,null,null,"c",{"$f":"IF(INDIRECT($B$2&\"E39\")=\"\",\"\",INDIRECT($B$2&\"E39\"))","v":"事業報告年度を選択して下さい"},{"$f":"IF(INDIRECT($B$2&\"I39\")=\"\",\"\",INDIRECT($B$2&\"I39\"))","v":""},{"$f":"IF(INDIRECT($B$2&\"P39\")=\"\",\"\",INDIRECT($B$2&\"P39\"))","v":0},{"$f":"IF(INDIRECT($B$2&\"W39\")=\"\",\"\",INDIRECT($B$2&\"W39\"))","v":""}]
[null,null,null,null,{"$f":"VLOOKUP($F$17,中分類,3,FALSE)","v":{"$error":"#N/A"}},{"$f":"IF(INDIRECT($B$2&\"J14\")=\"\",\"\",INDIRECT($B$2&\"J14\"))","v":""},"d",null,null,null,null,null,null,"d",{"$f":"IF(INDIRECT($B$2&\"E40\")=\"\",\"\",INDIRECT($B$2&\"E40\"))","v":"事業報告年度を選択して下さい"},{"$f":"IF(INDIRECT($B$2&\"I40\")=\"\",\"\",INDIRECT($B$2&\"I40\"))","v":""},{"$f":"IF(INDIRECT($B$2&\"P40\")=\"\",\"\",INDIRECT($B$2&\"P37\"))","v":""},{"$f":"IF(INDIRECT($B$2&\"W40\")=\"\",\"\",INDIRECT($B$2&\"W40\"))","v":""}]
[null,null,null,null,{"$f":"VLOOKUP($F$18,中分類,3,FALSE)","v":{"$error":"#N/A"}},{"$f":"IF(INDIRECT($B$2&\"J15\")=\"\",\"\",INDIRECT($B$2&\"J15\"))","v":""}]

{"sheet":"集計用_別紙1","index":7,"n_rows":83,"n_cols":97,"rows_kept":83,"cut":false,"hidden":true,"merged":[[8,77,8,91],[8,92,8,96],[7,1,7,96],[8,6,8,10],[8,11,8,14],[8,17,8,21],[8,22,8,23],[8,24,8,25],[8,26,8,29],[8,32,8,46],[8,47,8,61],[8,62,8,76]]}
[]
[null,{"$f":"\"'\"&MID(CELL(\"filename\",'別紙1_CO2排出量(主要システム)'!A1),FIND(\"]\",CELL(\"filename\",'別紙1_CO2排出量(主要システム)'!A1))+1,LEN(CELL(\"filename\",'別紙1_CO2排出量(主要システム)'!A1)))&\"'!\"","v":"'別紙1_CO2排出量(主要システム)'!"},null,null,null,null,null,null,null,null,null,null,null,null,null,null,{"$f":"MID(CELL(\"address\",'別紙1_CO2排出量(主要システム)'!D8),FIND(\"!\",CELL(\"address\",'別紙1_CO2排出量(主要システム)'!D8))+2,1)","v":"D"},null,{"$f":"MID(CELL(\"address\",'別紙1_CO2排出量(主要システム)'!E8),FIND(\"!\",CELL(\"address\",'別紙1_CO2排出量(主要システム)'!E8))+2,1)","v":"E"},{"$f":"MID(CELL(\"address\",'別紙1_CO2排出量(主要システム)'!F8),FIND(\"!\",CELL(\"address\",'別紙1_CO2排出量(主要システム)'!F8))+2,1)","v":"F"},{"$f":"MID(CELL(\"address\",'別紙1_CO2排出量(主要システム)'!G8),FIND(\"!\",CELL(\"address\",'別紙1_CO2排出量(主要システム)'!G8))+2,1)","v":"G"},{"$f":"MID(CELL(\"address\",'別紙1_CO2排出量(主要システム)'!H8),FIND(\"!\",CELL(\"address\",'別紙1_CO2排出量(主要システム)'!H8))+2,1)","v":"H"},{"$f":"MID(CELL(\"address\",'別紙1_CO2排出量(主要システム)'!I8),FIND(\"!\",CELL(\"address\",'別紙1_CO2排出量(主要システム)'!I8))+2,1)","v":"I"},{"$f":"MID(CELL(\"address\",'別紙1_CO2排出量(主要システム)'!J8),FIND(\"!\",CELL(\"address\",'別紙1_CO2排出量(主要システム)'!J8))+2,1)","v":"J"},{"$f":"MID(CELL(\"address\",'別紙1_CO2排出量(主要システム)'!K8),FIND(\"!\",CELL(\"address\",'別紙1_CO2排出量(主要システム)'!K8))+2,1)","v":"K"},{"$f":"MID(CELL(\"address\",'別紙1_CO2排出量(主要システム)'!L8),FIND(\"!\",CELL(\"address\",'別紙1_CO2排出量(主要システム)'!L8))+2,1)","v":"L"},null,{"$f":"MID(CELL(\"address\",'別紙1_CO2排出量(主要システム)'!M8),FIND(\"!\",CELL(\"address\",'別紙1_CO2排出量(主要システム)'!M8))+2,1)","v":"M"},{"$f":"MID(CELL(\"address\",'別紙1_CO2排出量(主要システム)'!N8),FIND(\"!\",CELL(\"address\",'別紙1_CO2排出量(主要システム)'!N8))+2,1)","v":"N"},{"$f":"MID(CELL(\"address\",'別紙1_CO2排出量(主要システム)'!O8),FIND(\"!\",CELL(\"address\",'別紙1_CO2排出量(主要システム)'!O8))+2,1)","v":"O"},{"$f":"MID(CELL(\"address\",'別紙1_CO2排出量(主要システム)'!P8),FIND(\"!\",CELL(\"address\",'別紙1_CO2排出量(主要システム)'!P8))+2,1)","v":"P"},{"$f":"MID(CELL(\"address\",'別紙1_CO2排出量(主要システム)'!Q8),FIND(\"!\",CELL(\"address\",'別紙1_CO2排出量(主要システム)'!Q8))+2,1)","v":"Q"},null,null,null,null,null,null,null,null,null,null,null,null,null,null,null,{"$f":"MID(CELL(\"address\",'別紙1_CO2排出量(主要システム)'!R8),FIND(\"!\",CELL(\"address\",'別紙1_CO2排出量(主要システム)'!R8))+2,1)","v":"R"},{"$f":"MID(CELL(\"address\",'別紙1_CO2排出量(主要システム)'!S8),FIND(\"!\",CELL(\"address\",'別紙1_CO2排出量(主要システム)'!S8))+2,1)","v":"S"},{"$f":"MID(CELL(\"address\",'別紙1_CO2排出量(主要システム)'!T8),FIND(\"!\",CELL(\"address\",'別紙1_CO2排出量(主要システム)'!T8))+2,1)","v":"T"},{"$f":"MID(CELL(\"address\",'別紙1_CO2排出量(主要システム)'!U8),FIND(\"!\",CELL(\"address\",'別紙1_CO2排出量(主要システム)'!U8))+2,1)","v":"U"},{"$f":"MID(CELL(\"address\",'別紙1_CO2排出量(主要システム)'!V8),FIND(\"!\",CELL(\"address\",'別紙1_CO2排出量(主要システム)'!V8))+2,1)","v":"V"},{"$f":"MID(CELL(\"address\",'別紙1_CO2排出量(主要システム)'!W8),FIND(\"!\",CELL(\"address\",'別紙1_CO2排出量(主要システム)'!W8))+2,1)","v":"W"},{"$f":"MID(CELL(\"address\",'別紙1_CO2排出量(主要システム)'!X8),FIND(\"!\",CELL(\"address\",'別紙1_CO2排出量(主要システム)'!X8))+2,1)","v":"X"},{"$f":"MID(CELL(\"address\",'別紙1_CO2排出量(主要システム)'!Y8),FIND(\"!\",CELL(\"address\",'別紙1_CO2排出量(主要システム)'!Y8))+2,1)","v":"Y"},{"$f":"MID(CELL(\"address\",'別紙1_CO2排出量(主要システム)'!Z8),FIND(\"!\",CELL(\"address\",'別紙1_CO2排出量(主要システム)'!Z8))+2,1)","v":"Z"},{"$f":"MID(CELL(\"address\",'別紙1_CO2排出量(主要システム)'!AA8),FIND(\"!\",CELL(\"address\",'別紙1_CO2排出量(主要システム)'!AA8))+2,2)","v":"AA"},{"$f":"MID(CELL(\"address\",'別紙1_CO2排出量(主要システム)'!AB8),FIND(\"!\",CELL(\"address\",'別紙1_CO2排出量(主要システム)'!AB8))+2,2)","v":"AB"},{"$f":"MID(CELL(\"address\",'別紙1_CO2排出量(主要システム)'!AC8),FIND(\"!\",CELL(\"address\",'別紙1_CO2排出量(主要システム)'!AC8))+2,2)","v":"AC"},{"$f":"MID(CELL(\"address\",'別紙1_CO2排出量(主要システム)'!AD8),FIND(\"!\",CELL(\"address\",'別紙1_CO2排出量(主要システム)'!AD8))+2,2)","v":"AD"},{"$f":"MID(CELL(\"address\",'別紙1_CO2排出量(主要システム)'!AE8),FIND(\"!\",CELL(\"address\",'別紙1_CO2排出量(主要システム)'!AE8))+2,2)","v":"AE"},{"$f":"MID(CELL(\"address\",'別紙1_CO2排出量(主要システム)'!AF8),FIND(\"!\",CELL(\"address\",'別紙1_CO2排出量(主要システム)'!AF8))+2,2)","v":"AF"},{"$f":"MID(CELL(\"address\",'別紙1_CO2排出量(主要システム)'!AG8),FIND(\"!\",CELL(\"address\",'別紙1_CO2排出量(主要システム)'!AG8))+2,2)","v":"AG"},{"$f":"MID(CELL(\"address\",'別紙1_CO2排出量(主要システム)'!AH8),FIND(\"!\",CELL(\"address\",'別紙1_CO2排出量(主要システム)'!AH8))+2,2)","v":"AH"},{"$f":"MID(CELL(\"address\",'別紙1_CO2排出量(主要システム)'!AI8),FIND(\"!\",CELL(\"address\",'別紙1_CO2排出量(主要システム)'!AI8))+2,2)","v":"AI"},{"$f":"MID(CELL(\"address\",'別紙1_CO2排出量(主要システム)'!AJ8),FIND(\"!\",CELL(\"address\",'別紙1_CO2排出量(主要システム)'!AJ8))+2,2)","v":"AJ"},{"$f":"MID(CELL(\"address\",'別紙1_CO2排出量(主要システム)'!AK8),FIND(\"!\",CELL(\"address\",'別紙1_CO2排出量(主要システム)'!AK8))+2,2)","v":"AK"},{"$f":"MID(CELL(\"address\",'別紙1_CO2排出量(主要システム)'!AL8),FIND(\"!\",CELL(\"address\",'別紙1_CO2排出量(主要システム)'!AL8))+2,2)","v":"AL"},{"$f":"MID(CELL(\"address\",'別紙1_CO2排出量(主要システム)'!AM8),FIND(\"!\",CELL(\"address\",'別紙1_CO2排出量(主要システム)'!AM8))+2,2)","v":"AM"},{"$f":"MID(CELL(\"address\",'別紙1_CO2排出量(主要システム)'!AN8),FIND(\"!\",CELL(\"address\",'別紙1_CO2排出量(主要システム)'!AN8))+2,2)","v":"AN"},{"$f":"MID(CELL(\"address\",'別紙1_CO2排出量(主要システム)'!AO8),FIND(\"!\",CELL(\"address\",'別紙1_CO2排出量(主要システム)'!AO8))+2,2)","v":"AO"},{"$f":"MID(CELL(\"address\",'別紙1_CO2排出量(主要システム)'!AP8),FIND(\"!\",CELL(\"address\",'別紙1_CO2排出量(主要システム)'!AP8))+2,2)","v":"AP"},{"$f":"MID(CELL(\"address\",'別紙1_CO2排出量(主要システム)'!AQ8),FIND(\"!\",CELL(\"address\",'別紙1_CO2排出量(主要システム)'!AQ8))+2,2)","v":"AQ"},{"$f":"MID(CELL(\"address\",'別紙1_CO2排出量(主要システム)'!AR8),FIND(\"!\",CELL(\"address\",'別紙1_CO2排出量(主要システム)'!AR8))+2,2)","v":"AR"},{"$f":"MID(CELL(\"address\",'別紙1_CO2排出量(主要システム)'!AS8),FIND(\"!\",CELL(\"address\",'別紙1_CO2排出量(主要システム)'!AS8))+2,2)","v":"AS"},{"$f":"MID(CELL(\"address\",'別紙1_CO2排出量(主要システム)'!AT8),FIND(\"!\",CELL(\"address\",'別紙1_CO2排出量(主要システム)'!AT8))+2,2)","v":"AT"},{"$f":"MID(CELL(\"address\",'別紙1_CO2排出量(主要システム)'!AU8),FIND(\"!\",CELL(\"address\",'別紙1_CO2排出量(主要システム)'!AU8))+2,2)","v":"AU"},{"$f":"MID(CELL(\"address\",'別紙1_CO2排出量(主要システム)'!AV8),FIND(\"!\",CELL(\"address\",'別紙1_CO2排出量(主要システム)'!AV8))+2,2)","v":"AV"},{"$f":"MID(CELL(\"address\",'別紙1_CO2排出量(主要システム)'!AW8),FIND(\"!\",CELL(\"address\",'別紙1_CO2排出量(主要システム)'!AW8))+2,2)","v":"AW"},{"$f":"MID(CELL(\"address\",'別紙1_CO2排出量(主要システム)'!AX8),FIND(\"!\",CELL(\"address\",'別紙1_CO2排出量(主要システム)'!AX8))+2,2)","v":"AX"},{"$f":"MID(CELL(\"address\",'別紙1_CO2排出量(主要システム)'!AY8),FIND(\"!\",CELL(\"address\",'別紙1_CO2排出量(主要システム)'!AY8))+2,2)","v":"AY"},{"$f":"MID(CELL(\"address\",'別紙1_CO2排出量(主要システム)'!AZ8),FIND(\"!\",CELL(\"address\",'別紙1_CO2排出量(主要システム)'!AZ8))+2,2)","v":"AZ"},{"$f":"MID(CELL(\"address\",'別紙1_CO2排出量(主要システム)'!BA8),FIND(\"!\",CELL(\"address\",'別紙1_CO2排出量(主要システム)'!BA8))+2,2)","v":"BA"},{"$f":"MID(CELL(\"address\",'別紙1_CO2排出量(主要システム)'!BB8),FIND(\"!\",CELL(\"address\",'別紙1_CO2排出量(主要システム)'!BB8))+2,2)","v":"BB"},{"$f":"MID(CELL(\"address\",'別紙1_CO2排出量(主要システム)'!BC8),FIND(\"!\",CELL(\"address\",'別紙1_CO2排出量(主要システム)'!BC8))+2,2)","v":"BC"},{"$f":"MID(CELL(\"address\",'別紙1_CO2排出量(主要システム)'!BD8),FIND(\"!\",CELL(\"address\",'別紙1_CO2排出量(主要システム)'!BD8))+2,2)","v":"BD"},{"$f":"MID(CELL(\"address\",'別紙1_CO2排出量(主要システム)'!BE8),FIND(\"!\",CELL(\"address\",'別紙1_CO2排出量(主要システム)'!BE8))+2,2)","v":"BE"},{"$f":"MID(CELL(\"address\",'別紙1_CO2排出量(主要システム)'!BF8),FIND(\"!\",CELL(\"address\",'別紙1_CO2排出量(主要システム)'!BF8))+2,2)","v":"BF"},{"$f":"MID(CELL(\"address\",'別紙1_CO2排出量(主要システム)'!BG8),FIND(\"!\",CELL(\"address\",'別紙1_CO2排出量(主要システム)'!BG8))+2,2)","v":"BG"},{"$f":"MID(CELL(\"address\",'別紙1_CO2排出量(主要システム)'!BH8),FIND(\"!\",CELL(\"address\",'別紙1_CO2排出量(主要システム)'!BH8))+2,2)","v":"BH"},{"$f":"MID(CELL(\"address\",'別紙1_CO2排出量(主要システム)'!BI8),FIND(\"!\",CELL(\"address\",'別紙1_CO2排出量(主要システム)'!BI8))+2,2)","v":"BI"},{"$f":"MID(CELL(\"address\",'別紙1_CO2排出量(主要システム)'!BJ8),FIND(\"!\",CELL(\"address\",'別紙1_CO2排出量(主要システム)'!BJ8))+2,2)","v":"BJ"},{"$f":"MID(CELL(\"address\",'別紙1_CO2排出量(主要システム)'!BK8),FIND(\"!\",CELL(\"address\",'別紙1_CO2排出量(主要システム)'!BK8))+2,2)","v":"BK"},null,{"$f":"MID(CELL(\"address\",'別紙1_CO2排出量(主要システム)'!BL8),FIND(\"!\",CELL(\"address\",'別紙1_CO2排出量(主要システム)'!BL8))+2,2)","v":"BL"},{"$f":"MID(CELL(\"address\",'別紙1_CO2排出量(主要システム)'!BM8),FIND(\"!\",CELL(\"address\",'別紙1_CO2排出量(主要システム)'!BM8))+2,2)","v":"BM"},{"$f":"MID(CELL(\"address\",'別紙1_CO2排出量(主要システム)'!BN8),FIND(\"!\",CELL(\"address\",'別紙1_CO2排出量(主要システム)'!BN8))+2,2)","v":"BN"}]
[]
[]
[]
[null,"別紙2_CO2排出量(主要システム)"]
[]
[null,"主要システム系統のエネルギー起源CO2排出量等の推移"]
[null,null,null,null,null,null,"エネルギー起源CO2排出量等",null,null,null,null,"CO2排出量",null,null,null,null,null,"活動量",null,null,null,null,"単位発熱量",null,"CO2排出係数",null,"CO2排出量[t-CO2]",null,null,null,null,"活動量","事業報告年度0:(参考)令和3年度",null,null,null,null,null,null,null,null,null,null,null,null,null,null,"事業報告年度1:令和4年度",null,null,null,null,null,null,null,null,null,null,null,null,null,null,"事業報告年度2:令和5年度",null,null,null,null,null,null,null,null,null,null,null,null,null,null,"事業報告年度3:令和6年度",null,null,null,null,null,null,null,null,null,null,null,null,null,null,"GJ換算量"]
[null,"事業者名（法人名）","工場・事業場名","主要システム系統の名称",null,null,"基準年度","事業報告年度0","事業報告年度1","事業報告年度2","事業報告年度3","事業報告年度0","事業報告年度1","事業報告年度2","事業報告年度3",null,"活動種別","事業報告年度0","事業報告年度1","事業報告年度2","事業報告年度3","単位","係数","単位","係数","単位","事業報告年度0","事業報告年度1","事業報告年度2","事業報告年度3","備考","把握対象","年度開始\n時点の\n在庫量","４月","５月","６月","７月","８月","９月","１０月","１１月","１２月","１月","２月","３月","年度終了\n時点の\n在庫量","製品中への注入量","年度開始\n時点の\n在庫量","４月","５月","６月","７月","８月","９月","１０月","１１月","１２月","１月","２月","３月","年度終了\n時点の\n在庫量","製品中への注入量","年度開始\n時点の\n在庫量","４月","５月","６月","７月","８月","９月","１０月","１１月","１２月","１月","２月","３月","年度終了\n時点の\n在庫量","製品中への注入量","年度開始\n時点の\n在庫量","４月","５月","６月","７月","８月","９月","１０月","１１月","１２月","１月","２月","３月","年度終了\n時点の\n在庫量","製品中への注入量","対象","事業報告年度0","事業報告年度1","事業報告年度2","事業報告年度3"]
[31,{"$f":"IF(INDIRECT($B$2&$Q$2&\"8\")=\"\",\"\",INDIRECT($B$2&$Q$2&\"8\"))","v":""},{"$f":"IF(INDIRECT($B$2&$Q$2&\"9\")=\"\",\"\",INDIRECT($B$2&$Q$2&\"9\"))","v":""},{"$f":"IF(INDIRECT($B$2&$Q$2&\"10\")=\"\",\"\",INDIRECT($B$2&$Q$2&\"10\"))","v":""},1,"事業報告年度",null,null,{"$f":"IF(INDIRECT($B$2&$S$2&\"14\")=\"\",\"\",INDIRECT($B$2&$S$2&\"14\"))","v":"事業報告年度:未選択"},{"$f":"IF(INDIRECT($B$2&$T$2&\"14\")=\"\",\"\",INDIRECT($B$2&$T$2&\"14\"))","v":"事業報告年度:未選択"},{"$f":"IF(INDIRECT($B$2&$U$2&\"14\")=\"\",\"\",INDIRECT($B$2&$U$2&\"14\"))","v":"事業報告年度:未選択"},null,null,null,null,1,{"$f":"IF(INDIRECT($B$2&$Q$2&$A11)=\"\",\"\",INDIRECT($B$2&$Q$2&$A11))","v":""},null,{"$f":"IF(INDIRECT($B$2&$S$2&$A11)=\"\",\"\",INDIRECT($B$2&$S$2&$A11))","v":0},{"$f":"IF(INDIRECT($B$2&$T$2&$A11)=\"\",\"\",INDIRECT($B$2&$T$2&$A11))","v":0},{"$f":"IF(INDIRECT($B$2&$U$2&$A11)=\"\",\"\",INDIRECT($B$2&$U$2&$A11))","v":0},{"$f":"IF(INDIRECT($B$2&$V$2&$A11)=\"\",\"\",INDIRECT($B$2&$V$2&$A11))","v":""},{"$f":"IF(INDIRECT($B$2&$W$2&$A11)=\"\",\"\",INDIRECT($B$2&$W$2&$A11))","v":""},{"$f":"IF(INDIRECT($B$2&$X$2&$A11)=\"\",\"\",INDIRECT($B$2&$X$2&$A11))","v":""},{"$f":"IF(INDIRECT($B$2&$Y$2&$A11)=\"\",\"\",INDIRECT($B$2&$Y$2&$A11))","v":""},{"$f":"IF(INDIRECT($B$2&$Z$2&$A11)=\"\",\"\",INDIRECT($B$2&$Z$2&$A11))","v":""},null,{"$f":"IF(INDIRECT($B$2&$AB$2&$A11)=\"\",\"\",INDIRECT($B$2&$AB$2&$A11))","v":""},{"$f":"IF(INDIRECT($B$2&$AC$2&$A11)=\"\",\"\",INDIRECT($B$2&$AC$2&$A11))","v":""},{"$f":"IF(INDIRECT($B$2&$AD$2&$A11)=\"\",\"\",INDIRECT($B$2&$AD$2&$A11))","v":""},{"$f":"IF(INDIRECT($B$2&$AE$2&$A11)=\"\",\"\",INDIRECT($B$2&$AE$2&$A11))","v":""},{"$f":"IF(INDIRECT($B$2&$AF$2&$A11)=\"\",\"\",INDIRECT($B$2&$AF$2&$A11))","v":""},null,null,null,null,null,null,null,null,null,null,null,null,null,null,null,{"$f":"IF(INDIRECT($B$2&AV$2&$A11)=\"\",\"\",INDIRECT($B$2&AV$2&$A11))","v":""},{"$f":"IF(INDIRECT($B$2&AW$2&$A11)=\"\",\"\",INDIRECT($B$2&AW$2&$A11))","v":""},{"$f":"IF(INDIRECT($B$2&AX$2&$A11)=\"\",\"\",INDIRECT($B$2&AX$2&$A11))","v":""},{"$f":"IF(INDIRECT($B$2&AY$2&$A11)=\"\",\"\",INDIRECT($B$2&AY$2&$A11))","v":""},{"$f":"IF(INDIRECT($B$2&AZ$2&$A11)=\"\",\"\",INDIRECT($B$2&AZ$2&$A11))","v":""},{"$f":"IF(INDIRECT($B$2&BA$2&$A11)=\"\",\"\",INDIRECT($B$2&BA$2&$A11))","v":""},{"$f":"IF(INDIRECT($B$2&BB$2&$A11)=\"\",\"\",INDIRECT($B$2&BB$2&$A11))","v":""},{"$f":"IF(INDIRECT($B$2&BC$2&$A11)=\"\",\"\",INDIRECT($B$2&BC$2&$A11))","v":""},{"$f":"IF(INDIRECT($B$2&BD$2&$A11)=\"\",\"\",INDIRECT($B$2&BD$2&$A11))","v":""},{"$f":"IF(INDIRECT($B$2&BE$2&$A11)=\"\",\"\",INDIRECT($B$2&BE$2&$A11))","v":""},{"$f":"IF(INDIRECT($B$2&BF$2&$A11)=\"\",\"\",INDIRECT($B$2&BF$2&$A11))","v":""},{"$f":"IF(INDIRECT($B$2&BG$2&$A11)=\"\",\"\",INDIRECT($B$2&BG$2&$A11))","v":""},{"$f":"IF(INDIRECT($B$2&BH$2&$A11)=\"\",\"\",INDIRECT($B$2&BH$2&$A11))","v":""},{"$f":"IF(INDIRECT($B$2&BI$2&$A11)=\"\",\"\",INDIRECT($B$2&BI$2&$A11))","v":""},{"$f":"IF(INDIRECT($B$2&BJ$2&$A11)=\"\",\"\",INDIRECT($B$2&BJ$2&$A11))","v":""},{"$f":"IF(INDIRECT($B$2&BK$2&$A11)=\"\",\"\",INDIRECT($B$2&BK$2&$A11))","v":0},{"$f":"IF(INDIRECT($B$2&BL$2&$A11)=\"\",\"\",INDIRECT($B$2&BL$2&$A11))","v":""},{"$f":"IF(INDIRECT($B$2&BM$2&$A11)=\"\",\"\",INDIRECT($B$2&BM$2&$A11))","v":""},{"$f":"IF(INDIRECT($B$2&BN$2&$A11)=\"\",\"\",INDIRECT($B$2&BN$2&$A11))","v":""},{"$f":"IF(INDIRECT($B$2&BO$2&$A11)=\"\",\"\",INDIRECT($B$2&BO$2&$A11))","v":""},{"$f":"IF(INDIRECT($B$2&BP$2&$A11)=\"\",\"\",INDIRECT($B$2&BP$2&$A11))","v":""},{"$f":"IF(INDIRECT($B$2&BQ$2&$A11)=\"\",\"\",INDIRECT($B$2&BQ$2&$A11))","v":""},{"$f":"IF(INDIRECT($B$2&BR$2&$A11)=\"\",\"\",INDIRECT($B$2&BR$2&$A11))","v":""},{"$f":"IF(INDIRECT($B$2&BS$2&$A11)=\"\",\"\",INDIRECT($B$2&BS$2&$A11))","v":""},{"$f":"IF(INDIRECT($B$2&BT$2&$A11)=\"\",\"\",INDIRECT($B$2&BT$2&$A11))","v":""},{"$f":"IF(INDIRECT($B$2&BU$2&$A11)=\"\",\"\",INDIRECT($B$2&BU$2&$A11))","v":""},{"$f":"IF(INDIRECT($B$2&BV$2&$A11)=\"\",\"\",INDIRECT($B$2&BV$2&$A11))","v":""},{"$f":"IF(INDIRECT($B$2&BW$2&$A11)=\"\",\"\",INDIRECT($B$2&BW$2&$A11))","v":""},{"$f":"IF(INDIRECT($B$2&BX$2&$A11)=\"\",\"\",INDIRECT($B$2&BX$2&$A11))","v":""},{"$f":"IF(INDIRECT($B$2&BY$2&$A11)=\"\",\"\",INDIRECT($B$2&BY$2&$A11))","v":""},{"$f":"IF(INDIRECT($B$2&BZ$2&$A11)=\"\",\"\",INDIRECT($B$2&BZ$2&$A11))","v":0},{"$f":"IF(INDIRECT($B$2&CA$2&$A11)=\"\",\"\",INDIRECT($B$2&CA$2&$A11))","v":""},{"$f":"IF(INDIRECT($B$2&CB$2&$A11)=\"\",\"\",INDIRECT($B$2&CB$2&$A11))","v":""},{"$f":"IF(INDIRECT($B$2&CC$2&$A11)=\"\",\"\",INDIRECT($B$2&CC$2&$A11))","v":""},{"$f":"IF(INDIRECT($B$2&CD$2&$A11)=\"\",\"\",INDIRECT($B$2&CD$2&$A11))","v":""},{"$f":"IF(INDIRECT($B$2&CE$2&$A11)=\"\",\"\",INDIRECT($B$2&CE$2&$A11))","v":""},{"$f":"IF(INDIRECT($B$2&CF$2&$A11)=\"\",\"\",INDIRECT($B$2&CF$2&$A11))","v":""},{"$f":"IF(INDIRECT($B$2&CG$2&$A11)=\"\",\"\",INDIRECT($B$2&CG$2&$A11))","v":""},{"$f":"IF(INDIRECT($B$2&CH$2&$A11)=\"\",\"\",INDIRECT($B$2&CH$2&$A11))","v":""},{"$f":"IF(INDIRECT($B$2&CI$2&$A11)=\"\",\"\",INDIRECT($B$2&CI$2&$A11))","v":""},{"$f":"IF(INDIRECT($B$2&CJ$2&$A11)=\"\",\"\",INDIRECT($B$2&CJ$2&$A11))","v":""},{"$f":"IF(INDIRECT($B$2&CK$2&$A11)=\"\",\"\",INDIRECT($B$2&CK$2&$A11))","v":""},{"$f":"IF(INDIRECT($B$2&CL$2&$A11)=\"\",\"\",INDIRECT($B$2&CL$2&$A11))","v":""},{"$f":"IF(INDIRECT($B$2&CM$2&$A11)=\"\",\"\",INDIRECT($B$2&CM$2&$A11))","v":""},{"$f":"IF(INDIRECT($B$2&CN$2&$A11)=\"\",\"\",INDIRECT($B$2&CN$2&$A11))","v":""},{"$f":"IF(INDIRECT($B$2&CO$2&$A11)=\"\",\"\",INDIRECT($B$2&CO$2&$A11))","v":""},null,{"$f":"IF(INDIRECT($B$2&CQ$2&$A11)=\"\",\"\",INDIRECT($B$2&CQ$2&$A11))","v":""},{"$f":"IF(INDIRECT($B$2&CR$2&$A11)=\"\",\"\",INDIRECT($B$2&CR$2&$A11))","v":""},{"$f":"IF(INDIRECT($B$2&CS$2&$A11)=\"\",\"\",INDIRECT($B$2&CS$2&$A11))","v":""}]
[32,null,null,null,2,"CO2排出量(t-CO2)",{"$f":"IF(INDIRECT($B$2&$Q$2&\"15\")=\"\",\"\",INDIRECT($B$2&$Q$2&\"15\"))","v":""},null,{"$f":"IF(INDIRECT($B$2&$S$2&\"15\")=\"\",\"\",INDIRECT($B$2&$S$2&\"15\"))","v":0},{"$f":"IF(INDIRECT($B$2&$T$2&\"15\")=\"\",\"\",INDIRECT($B$2&$T$2&\"15\"))","v":0},{"$f":"IF(INDIRECT($B$2&$U$2&\"15\")=\"\",\"\",INDIRECT($B$2&$U$2&\"15\"))","v":0},null,{"$f":"IF(INDIRECT($B$2&$AB$2&\"56\")=\"\",\"\",INDIRECT($B$2&$AB$2&\"56\"))","v":0},{"$f":"IF(INDIRECT($B$2&$AC$2&\"56\")=\"\",\"\",INDIRECT($B$2&$AC$2&\"56\"))","v":0},{"$f":"IF(INDIRECT($B$2&$AD$2&\"56\")=\"\",\"\",INDIRECT($B$2&$AD$2&\"56\"))","v":0},2,{"$f":"IF(INDIRECT($B$2&$Q$2&$A12)=\"\",\"\",INDIRECT($B$2&$Q$2&$A12))","v":""},null,{"$f":"IF(INDIRECT($B$2&$S$2&$A12)=\"\",\"\",INDIRECT($B$2&$S$2&$A12))","v":0},{"$f":"IF(INDIRECT($B$2&$T$2&$A12)=\"\",\"\",INDIRECT($B$2&$T$2&$A12))","v":0},{"$f":"IF(INDIRECT($B$2&$U$2&$A12)=\"\",\"\",INDIRECT($B$2&$U$2&$A12))","v":0},{"$f":"IF(INDIRECT($B$2&$V$2&$A12)=\"\",\"\",INDIRECT($B$2&$V$2&$A12))","v":""},{"$f":"IF(INDIRECT($B$2&$W$2&$A12)=\"\",\"\",INDIRECT($B$2&$W$2&$A12))","v":""},{"$f":"IF(INDIRECT($B$2&$X$2&$A12)=\"\",\"\",INDIRECT($B$2&$X$2&$A12))","v":""},{"$f":"IF(INDIRECT($B$2&$Y$2&$A12)=\"\",\"\",INDIRECT($B$2&$Y$2&$A12))","v":""},{"$f":"IF(INDIRECT($B$2&$Z$2&$A12)=\"\",\"\",INDIRECT($B$2&$Z$2&$A12))","v":""},null,{"$f":"IF(INDIRECT($B$2&$AB$2&$A12)=\"\",\"\",INDIRECT($B$2&$AB$2&$A12))","v":""},{"$f":"IF(INDIRECT($B$2&$AC$2&$A12)=\"\",\"\",INDIRECT($B$2&$AC$2&$A12))","v":""},{"$f":"IF(INDIRECT($B$2&$AD$2&$A12)=\"\",\"\",INDIRECT($B$2&$AD$2&$A12))","v":""},{"$f":"IF(INDIRECT($B$2&$AE$2&$A12)=\"\",\"\",INDIRECT($B$2&$AE$2&$A12))","v":""},{"$f":"IF(INDIRECT($B$2&$AF$2&$A12)=\"\",\"\",INDIRECT($B$2&$AF$2&$A12))","v":""},null,null,null,null,null,null,null,null,null,null,null,null,null,null,null,{"$f":"IF(INDIRECT($B$2&AV$2&$A12)=\"\",\"\",INDIRECT($B$2&AV$2&$A12))","v":""},{"$f":"IF(INDIRECT($B$2&AW$2&$A12)=\"\",\"\",INDIRECT($B$2&AW$2&$A12))","v":""},{"$f":"IF(INDIRECT($B$2&AX$2&$A12)=\"\",\"\",INDIRECT($B$2&AX$2&$A12))","v":""},{"$f":"IF(INDIRECT($B$2&AY$2&$A12)=\"\",\"\",INDIRECT($B$2&AY$2&$A12))","v":""},{"$f":"IF(INDIRECT($B$2&AZ$2&$A12)=\"\",\"\",INDIRECT($B$2&AZ$2&$A12))","v":""},{"$f":"IF(INDIRECT($B$2&BA$2&$A12)=\"\",\"\",INDIRECT($B$2&BA$2&$A12))","v":""},{"$f":"IF(INDIRECT($B$2&BB$2&$A12)=\"\",\"\",INDIRECT($B$2&BB$2&$A12))","v":""},{"$f":"IF(INDIRECT($B$2&BC$2&$A12)=\"\",\"\",INDIRECT($B$2&BC$2&$A12))","v":""},{"$f":"IF(INDIRECT($B$2&BD$2&$A12)=\"\",\"\",INDIRECT($B$2&BD$2&$A12))","v":""},{"$f":"IF(INDIRECT($B$2&BE$2&$A12)=\"\",\"\",INDIRECT($B$2&BE$2&$A12))","v":""},{"$f":"IF(INDIRECT($B$2&BF$2&$A12)=\"\",\"\",INDIRECT($B$2&BF$2&$A12))","v":""},{"$f":"IF(INDIRECT($B$2&BG$2&$A12)=\"\",\"\",INDIRECT($B$2&BG$2&$A12))","v":""},{"$f":"IF(INDIRECT($B$2&BH$2&$A12)=\"\",\"\",INDIRECT($B$2&BH$2&$A12))","v":""},{"$f":"IF(INDIRECT($B$2&BI$2&$A12)=\"\",\"\",INDIRECT($B$2&BI$2&$A12))","v":""},{"$f":"IF(INDIRECT($B$2&BJ$2&$A12)=\"\",\"\",INDIRECT($B$2&BJ$2&$A12))","v":""},{"$f":"IF(INDIRECT($B$2&BK$2&$A12)=\"\",\"\",INDIRECT($B$2&BK$2&$A12))","v":0},{"$f":"IF(INDIRECT($B$2&BL$2&$A12)=\"\",\"\",INDIRECT($B$2&BL$2&$A12))","v":""},{"$f":"IF(INDIRECT($B$2&BM$2&$A12)=\"\",\"\",INDIRECT($B$2&BM$2&$A12))","v":""},{"$f":"IF(INDIRECT($B$2&BN$2&$A12)=\"\",\"\",INDIRECT($B$2&BN$2&$A12))","v":""},{"$f":"IF(INDIRECT($B$2&BO$2&$A12)=\"\",\"\",INDIRECT($B$2&BO$2&$A12))","v":""},{"$f":"IF(INDIRECT($B$2&BP$2&$A12)=\"\",\"\",INDIRECT($B$2&BP$2&$A12))","v":""},{"$f":"IF(INDIRECT($B$2&BQ$2&$A12)=\"\",\"\",INDIRECT($B$2&BQ$2&$A12))","v":""},{"$f":"IF(INDIRECT($B$2&BR$2&$A12)=\"\",\"\",INDIRECT($B$2&BR$2&$A12))","v":""},{"$f":"IF(INDIRECT($B$2&BS$2&$A12)=\"\",\"\",INDIRECT($B$2&BS$2&$A12))","v":""},{"$f":"IF(INDIRECT($B$2&BT$2&$A12)=\"\",\"\",INDIRECT($B$2&BT$2&$A12))","v":""},{"$f":"IF(INDIRECT($B$2&BU$2&$A12)=\"\",\"\",INDIRECT($B$2&BU$2&$A12))","v":""},{"$f":"IF(INDIRECT($B$2&BV$2&$A12)=\"\",\"\",INDIRECT($B$2&BV$2&$A12))","v":""},{"$f":"IF(INDIRECT($B$2&BW$2&$A12)=\"\",\"\",INDIRECT($B$2&BW$2&$A12))","v":""},{"$f":"IF(INDIRECT($B$2&BX$2&$A12)=\"\",\"\",INDIRECT($B$2&BX$2&$A12))","v":""},{"$f":"IF(INDIRECT($B$2&BY$2&$A12)=\"\",\"\",INDIRECT($B$2&BY$2&$A12))","v":""},{"$f":"IF(INDIRECT($B$2&BZ$2&$A12)=\"\",\"\",INDIRECT($B$2&BZ$2&$A12))","v":0},{"$f":"IF(INDIRECT($B$2&CA$2&$A12)=\"\",\"\",INDIRECT($B$2&CA$2&$A12))","v":""},{"$f":"IF(INDIRECT($B$2&CB$2&$A12)=\"\",\"\",INDIRECT($B$2&CB$2&$A12))","v":""},{"$f":"IF(INDIRECT($B$2&CC$2&$A12)=\"\",\"\",INDIRECT($B$2&CC$2&$A12))","v":""},{"$f":"IF(INDIRECT($B$2&CD$2&$A12)=\"\",\"\",INDIRECT($B$2&CD$2&$A12))","v":""},{"$f":"IF(INDIRECT($B$2&CE$2&$A12)=\"\",\"\",INDIRECT($B$2&CE$2&$A12))","v":""},{"$f":"IF(INDIRECT($B$2&CF$2&$A12)=\"\",\"\",INDIRECT($B$2&CF$2&$A12))","v":""},{"$f":"IF(INDIRECT($B$2&CG$2&$A12)=\"\",\"\",INDIRECT($B$2&CG$2&$A12))","v":""},{"$f":"IF(INDIRECT($B$2&CH$2&$A12)=\"\",\"\",INDIRECT($B$2&CH$2&$A12))","v":""},{"$f":"IF(INDIRECT($B$2&CI$2&$A12)=\"\",\"\",INDIRECT($B$2&CI$2&$A12))","v":""},{"$f":"IF(INDIRECT($B$2&CJ$2&$A12)=\"\",\"\",INDIRECT($B$2&CJ$2&$A12))","v":""},{"$f":"IF(INDIRECT($B$2&CK$2&$A12)=\"\",\"\",INDIRECT($B$2&CK$2&$A12))","v":""},{"$f":"IF(INDIRECT($B$2&CL$2&$A12)=\"\",\"\",INDIRECT($B$2&CL$2&$A12))","v":""},{"$f":"IF(INDIRECT($B$2&CM$2&$A12)=\"\",\"\",INDIRECT($B$2&CM$2&$A12))","v":""},{"$f":"IF(INDIRECT($B$2&CN$2&$A12)=\"\",\"\",INDIRECT($B$2&CN$2&$A12))","v":""},{"$f":"IF(INDIRECT($B$2&CO$2&$A12)=\"\",\"\",INDIRECT($B$2&CO$2&$A12))","v":""},null,{"$f":"IF(INDIRECT($B$2&CQ$2&$A12)=\"\",\"\",INDIRECT($B$2&CQ$2&$A12))","v":""},{"$f":"IF(INDIRECT($B$2&CR$2&$A12)=\"\",\"\",INDIRECT($B$2&CR$2&$A12))","v":""},{"$f":"IF(INDIRECT($B$2&CS$2&$A12)=\"\",\"\",INDIRECT($B$2&CS$2&$A12))","v":""}]
[33,null,null,null,3,"エネルギー使用量(GJ)",{"$f":"IF(INDIRECT($B$2&$Q$2&\"16\")=\"\",\"\",INDIRECT($B$2&$Q$2&\"16\"))","v":""},null,{"$f":"IF(INDIRECT($B$2&$S$2&\"16\")=\"\",\"\",INDIRECT($B$2&$S$2&\"16\"))","v":0},{"$f":"IF(INDIRECT($B$2&$T$2&\"16\")=\"\",\"\",INDIRECT($B$2&$T$2&\"16\"))","v":0},{"$f":"IF(INDIRECT($B$2&$U$2&\"16\")=\"\",\"\",INDIRECT($B$2&$U$2&\"16\"))","v":0},null,null,null,null,3,{"$f":"IF(INDIRECT($B$2&$Q$2&$A13)=\"\",\"\",INDIRECT($B$2&$Q$2&$A13))","v":""},null,{"$f":"IF(INDIRECT($B$2&$S$2&$A13)=\"\",\"\",INDIRECT($B$2&$S$2&$A13))","v":0},{"$f":"IF(INDIRECT($B$2&$T$2&$A13)=\"\",\"\",INDIRECT($B$2&$T$2&$A13))","v":0},{"$f":"IF(INDIRECT($B$2&$U$2&$A13)=\"\",\"\",INDIRECT($B$2&$U$2&$A13))","v":0},{"$f":"IF(INDIRECT($B$2&$V$2&$A13)=\"\",\"\",INDIRECT($B$2&$V$2&$A13))","v":""},{"$f":"IF(INDIRECT($B$2&$W$2&$A13)=\"\",\"\",INDIRECT($B$2&$W$2&$A13))","v":""},{"$f":"IF(INDIRECT($B$2&$X$2&$A13)=\"\",\"\",INDIRECT($B$2&$X$2&$A13))","v":""},{"$f":"IF(INDIRECT($B$2&$Y$2&$A13)=\"\",\"\",INDIRECT($B$2&$Y$2&$A13))","v":""},{"$f":"IF(INDIRECT($B$2&$Z$2&$A13)=\"\",\"\",INDIRECT($B$2&$Z$2&$A13))","v":""},null,{"$f":"IF(INDIRECT($B$2&$AB$2&$A13)=\"\",\"\",INDIRECT($B$2&$AB$2&$A13))","v":""},{"$f":"IF(INDIRECT($B$2&$AC$2&$A13)=\"\",\"\",INDIRECT($B$2&$AC$2&$A13))","v":""},{"$f":"IF(INDIRECT($B$2&$AD$2&$A13)=\"\",\"\",INDIRECT($B$2&$AD$2&$A13))","v":""},{"$f":"IF(INDIRECT($B$2&$AE$2&$A13)=\"\",\"\",INDIRECT($B$2&$AE$2&$A13))","v":""},{"$f":"IF(INDIRECT($B$2&$AF$2&$A13)=\"\",\"\",INDIRECT($B$2&$AF$2&$A13))","v":""},null,null,null,null,null,null,null,null,null,null,null,null,null,null,null,{"$f":"IF(INDIRECT($B$2&AV$2&$A13)=\"\",\"\",INDIRECT($B$2&AV$2&$A13))","v":""},{"$f":"IF(INDIRECT($B$2&AW$2&$A13)=\"\",\"\",INDIRECT($B$2&AW$2&$A13))","v":""},{"$f":"IF(INDIRECT($B$2&AX$2&$A13)=\"\",\"\",INDIRECT($B$2&AX$2&$A13))","v":""},{"$f":"IF(INDIRECT($B$2&AY$2&$A13)=\"\",\"\",INDIRECT($B$2&AY$2&$A13))","v":""},{"$f":"IF(INDIRECT($B$2&AZ$2&$A13)=\"\",\"\",INDIRECT($B$2&AZ$2&$A13))","v":""},{"$f":"IF(INDIRECT($B$2&BA$2&$A13)=\"\",\"\",INDIRECT($B$2&BA$2&$A13))","v":""},{"$f":"IF(INDIRECT($B$2&BB$2&$A13)=\"\",\"\",INDIRECT($B$2&BB$2&$A13))","v":""},{"$f":"IF(INDIRECT($B$2&BC$2&$A13)=\"\",\"\",INDIRECT($B$2&BC$2&$A13))","v":""},{"$f":"IF(INDIRECT($B$2&BD$2&$A13)=\"\",\"\",INDIRECT($B$2&BD$2&$A13))","v":""},{"$f":"IF(INDIRECT($B$2&BE$2&$A13)=\"\",\"\",INDIRECT($B$2&BE$2&$A13))","v":""},{"$f":"IF(INDIRECT($B$2&BF$2&$A13)=\"\",\"\",INDIRECT($B$2&BF$2&$A13))","v":""},{"$f":"IF(INDIRECT($B$2&BG$2&$A13)=\"\",\"\",INDIRECT($B$2&BG$2&$A13))","v":""},{"$f":"IF(INDIRECT($B$2&BH$2&$A13)=\"\",\"\",INDIRECT($B$2&BH$2&$A13))","v":""},{"$f":"IF(INDIRECT($B$2&BI$2&$A13)=\"\",\"\",INDIRECT($B$2&BI$2&$A13))","v":""},{"$f":"IF(INDIRECT($B$2&BJ$2&$A13)=\"\",\"\",INDIRECT($B$2&BJ$2&$A13))","v":""},{"$f":"IF(INDIRECT($B$2&BK$2&$A13)=\"\",\"\",INDIRECT($B$2&BK$2&$A13))","v":0},{"$f":"IF(INDIRECT($B$2&BL$2&$A13)=\"\",\"\",INDIRECT($B$2&BL$2&$A13))","v":""},{"$f":"IF(INDIRECT($B$2&BM$2&$A13)=\"\",\"\",INDIRECT($B$2&BM$2&$A13))","v":""},{"$f":"IF(INDIRECT($B$2&BN$2&$A13)=\"\",\"\",INDIRECT($B$2&BN$2&$A13))","v":""},{"$f":"IF(INDIRECT($B$2&BO$2&$A13)=\"\",\"\",INDIRECT($B$2&BO$2&$A13))","v":""},{"$f":"IF(INDIRECT($B$2&BP$2&$A13)=\"\",\"\",INDIRECT($B$2&BP$2&$A13))","v":""},{"$f":"IF(INDIRECT($B$2&BQ$2&$A13)=\"\",\"\",INDIRECT($B$2&BQ$2&$A13))","v":""},{"$f":"IF(INDIRECT($B$2&BR$2&$A13)=\"\",\"\",INDIRECT($B$2&BR$2&$A13))","v":""},{"$f":"IF(INDIRECT($B$2&BS$2&$A13)=\"\",\"\",INDIRECT($B$2&BS$2&$A13))","v":""},{"$f":"IF(INDIRECT($B$2&BT$2&$A13)=\"\",\"\",INDIRECT($B$2&BT$2&$A13))","v":""},{"$f":"IF(INDIRECT($B$2&BU$2&$A13)=\"\",\"\",INDIRECT($B$2&BU$2&$A13))","v":""},{"$f":"IF(INDIRECT($B$2&BV$2&$A13)=\"\",\"\",INDIRECT($B$2&BV$2&$A13))","v":""},{"$f":"IF(INDIRECT($B$2&BW$2&$A13)=\"\",\"\",INDIRECT($B$2&BW$2&$A13))","v":""},{"$f":"IF(INDIRECT($B$2&BX$2&$A13)=\"\",\"\",INDIRECT($B$2&BX$2&$A13))","v":""},{"$f":"IF(INDIRECT($B$2&BY$2&$A13)=\"\",\"\",INDIRECT($B$2&BY$2&$A13))","v":""},{"$f":"IF(INDIRECT($B$2&BZ$2&$A13)=\"\",\"\",INDIRECT($B$2&BZ$2&$A13))","v":0},{"$f":"IF(INDIRECT($B$2&CA$2&$A13)=\"\",\"\",INDIRECT($B$2&CA$2&$A13))","v":""},{"$f":"IF(INDIRECT($B$2&CB$2&$A13)=\"\",\"\",INDIRECT($B$2&CB$2&$A13))","v":""},{"$f":"IF(INDIRECT($B$2&CC$2&$A13)=\"\",\"\",INDIRECT($B$2&CC$2&$A13))","v":""},{"$f":"IF(INDIRECT($B$2&CD$2&$A13)=\"\",\"\",INDIRECT($B$2&CD$2&$A13))","v":""},{"$f":"IF(INDIRECT($B$2&CE$2&$A13)=\"\",\"\",INDIRECT($B$2&CE$2&$A13))","v":""},{"$f":"IF(INDIRECT($B$2&CF$2&$A13)=\"\",\"\",INDIRECT($B$2&CF$2&$A13))","v":""},{"$f":"IF(INDIRECT($B$2&CG$2&$A13)=\"\",\"\",INDIRECT($B$2&CG$2&$A13))","v":""},{"$f":"IF(INDIRECT($B$2&CH$2&$A13)=\"\",\"\",INDIRECT($B$2&CH$2&$A13))","v":""},{"$f":"IF(INDIRECT($B$2&CI$2&$A13)=\"\",\"\",INDIRECT($B$2&CI$2&$A13))","v":""},{"$f":"IF(INDIRECT($B$2&CJ$2&$A13)=\"\",\"\",INDIRECT($B$2&CJ$2&$A13))","v":""},{"$f":"IF(INDIRECT($B$2&CK$2&$A13)=\"\",\"\",INDIRECT($B$2&CK$2&$A13))","v":""},{"$f":"IF(INDIRECT($B$2&CL$2&$A13)=\"\",\"\",INDIRECT($B$2&CL$2&$A13))","v":""},{"$f":"IF(INDIRECT($B$2&CM$2&$A13)=\"\",\"\",INDIRECT($B$2&CM$2&$A13))","v":""},{"$f":"IF(INDIRECT($B$2&CN$2&$A13)=\"\",\"\",INDIRECT($B$2&CN$2&$A13))","v":""},{"$f":"IF(INDIRECT($B$2&CO$2&$A13)=\"\",\"\",INDIRECT($B$2&CO$2&$A13))","v":""},null,{"$f":"IF(INDIRECT($B$2&CQ$2&$A13)=\"\",\"\",INDIRECT($B$2&CQ$2&$A13))","v":""},{"$f":"IF(INDIRECT($B$2&CR$2&$A13)=\"\",\"\",INDIRECT($B$2&CR$2&$A13))","v":""},{"$f":"IF(INDIRECT($B$2&CS$2&$A13)=\"\",\"\",INDIRECT($B$2&CS$2&$A13))","v":""}]
[34,null,null,null,4,"脱炭素化指標(t-CO2/GJ)",{"$f":"IF(INDIRECT($B$2&$Q$2&\"17\")=\"\",\"\",INDIRECT($B$2&$Q$2&\"17\"))","v":""},null,{"$f":"IF(INDIRECT($B$2&$S$2&\"17\")=\"\",\"\",INDIRECT($B$2&$S$2&\"17\"))","v":"---"},{"$f":"IF(INDIRECT($B$2&$T$2&\"17\")=\"\",\"\",INDIRECT($B$2&$T$2&\"17\"))","v":"---"},{"$f":"IF(INDIRECT($B$2&$U$2&\"17\")=\"\",\"\",INDIRECT($B$2&$U$2&\"17\"))","v":"---"},null,null,null,null,4,{"$f":"IF(INDIRECT($B$2&$Q$2&$A14)=\"\",\"\",INDIRECT($B$2&$Q$2&$A14))","v":""},null,{"$f":"IF(INDIRECT($B$2&$S$2&$A14)=\"\",\"\",INDIRECT($B$2&$S$2&$A14))","v":0},{"$f":"IF(INDIRECT($B$2&$T$2&$A14)=\"\",\"\",INDIRECT($B$2&$T$2&$A14))","v":0},{"$f":"IF(INDIRECT($B$2&$U$2&$A14)=\"\",\"\",INDIRECT($B$2&$U$2&$A14))","v":0},{"$f":"IF(INDIRECT($B$2&$V$2&$A14)=\"\",\"\",INDIRECT($B$2&$V$2&$A14))","v":""},{"$f":"IF(INDIRECT($B$2&$W$2&$A14)=\"\",\"\",INDIRECT($B$2&$W$2&$A14))","v":""},{"$f":"IF(INDIRECT($B$2&$X$2&$A14)=\"\",\"\",INDIRECT($B$2&$X$2&$A14))","v":""},{"$f":"IF(INDIRECT($B$2&$Y$2&$A14)=\"\",\"\",INDIRECT($B$2&$Y$2&$A14))","v":""},{"$f":"IF(INDIRECT($B$2&$Z$2&$A14)=\"\",\"\",INDIRECT($B$2&$Z$2&$A14))","v":""},null,{"$f":"IF(INDIRECT($B$2&$AB$2&$A14)=\"\",\"\",INDIRECT($B$2&$AB$2&$A14))","v":""},{"$f":"IF(INDIRECT($B$2&$AC$2&$A14)=\"\",\"\",INDIRECT($B$2&$AC$2&$A14))","v":""},{"$f":"IF(INDIRECT($B$2&$AD$2&$A14)=\"\",\"\",INDIRECT($B$2&$AD$2&$A14))","v":""},{"$f":"IF(INDIRECT($B$2&$AE$2&$A14)=\"\",\"\",INDIRECT($B$2&$AE$2&$A14))","v":""},{"$f":"IF(INDIRECT($B$2&$AF$2&$A14)=\"\",\"\",INDIRECT($B$2&$AF$2&$A14))","v":""},null,null,null,null,null,null,null,null,null,null,null,null,null,null,null,{"$f":"IF(INDIRECT($B$2&AV$2&$A14)=\"\",\"\",INDIRECT($B$2&AV$2&$A14))","v":""},{"$f":"IF(INDIRECT($B$2&AW$2&$A14)=\"\",\"\",INDIRECT($B$2&AW$2&$A14))","v":""},{"$f":"IF(INDIRECT($B$2&AX$2&$A14)=\"\",\"\",INDIRECT($B$2&AX$2&$A14))","v":""},{"$f":"IF(INDIRECT($B$2&AY$2&$A14)=\"\",\"\",INDIRECT($B$2&AY$2&$A14))","v":""},{"$f":"IF(INDIRECT($B$2&AZ$2&$A14)=\"\",\"\",INDIRECT($B$2&AZ$2&$A14))","v":""},{"$f":"IF(INDIRECT($B$2&BA$2&$A14)=\"\",\"\",INDIRECT($B$2&BA$2&$A14))","v":""},{"$f":"IF(INDIRECT($B$2&BB$2&$A14)=\"\",\"\",INDIRECT($B$2&BB$2&$A14))","v":""},{"$f":"IF(INDIRECT($B$2&BC$2&$A14)=\"\",\"\",INDIRECT($B$2&BC$2&$A14))","v":""},{"$f":"IF(INDIRECT($B$2&BD$2&$A14)=\"\",\"\",INDIRECT($B$2&BD$2&$A14))","v":""},{"$f":"IF(INDIRECT($B$2&BE$2&$A14)=\"\",\"\",INDIRECT($B$2&BE$2&$A14))","v":""},{"$f":"IF(INDIRECT($B$2&BF$2&$A14)=\"\",\"\",INDIRECT($B$2&BF$2&$A14))","v":""},{"$f":"IF(INDIRECT($B$2&BG$2&$A14)=\"\",\"\",INDIRECT($B$2&BG$2&$A14))","v":""},{"$f":"IF(INDIRECT($B$2&BH$2&$A14)=\"\",\"\",INDIRECT($B$2&BH$2&$A14))","v":""},{"$f":"IF(INDIRECT($B$2&BI$2&$A14)=\"\",\"\",INDIRECT($B$2&BI$2&$A14))","v":""},{"$f":"IF(INDIRECT($B$2&BJ$2&$A14)=\"\",\"\",INDIRECT($B$2&BJ$2&$A14))","v":""},{"$f":"IF(INDIRECT($B$2&BK$2&$A14)=\"\",\"\",INDIRECT($B$2&BK$2&$A14))","v":0},{"$f":"IF(INDIRECT($B$2&BL$2&$A14)=\"\",\"\",INDIRECT($B$2&BL$2&$A14))","v":""},{"$f":"IF(INDIRECT($B$2&BM$2&$A14)=\"\",\"\",INDIRECT($B$2&BM$2&$A14))","v":""},{"$f":"IF(INDIRECT($B$2&BN$2&$A14)=\"\",\"\",INDIRECT($B$2&BN$2&$A14))","v":""},{"$f":"IF(INDIRECT($B$2&BO$2&$A14)=\"\",\"\",INDIRECT($B$2&BO$2&$A14))","v":""},{"$f":"IF(INDIRECT($B$2&BP$2&$A14)=\"\",\"\",INDIRECT($B$2&BP$2&$A14))","v":""},{"$f":"IF(INDIRECT($B$2&BQ$2&$A14)=\"\",\"\",INDIRECT($B$2&BQ$2&$A14))","v":""},{"$f":"IF(INDIRECT($B$2&BR$2&$A14)=\"\",\"\",INDIRECT($B$2&BR$2&$A14))","v":""},{"$f":"IF(INDIRECT($B$2&BS$2&$A14)=\"\",\"\",INDIRECT($B$2&BS$2&$A14))","v":""},{"$f":"IF(INDIRECT($B$2&BT$2&$A14)=\"\",\"\",INDIRECT($B$2&BT$2&$A14))","v":""},{"$f":"IF(INDIRECT($B$2&BU$2&$A14)=\"\",\"\",INDIRECT($B$2&BU$2&$A14))","v":""},{"$f":"IF(INDIRECT($B$2&BV$2&$A14)=\"\",\"\",INDIRECT($B$2&BV$2&$A14))","v":""},{"$f":"IF(INDIRECT($B$2&BW$2&$A14)=\"\",\"\",INDIRECT($B$2&BW$2&$A14))","v":""},{"$f":"IF(INDIRECT($B$2&BX$2&$A14)=\"\",\"\",INDIRECT($B$2&BX$2&$A14))","v":""},{"$f":"IF(INDIRECT($B$2&BY$2&$A14)=\"\",\"\",INDIRECT($B$2&BY$2&$A14))","v":""},{"$f":"IF(INDIRECT($B$2&BZ$2&$A14)=\"\",\"\",INDIRECT($B$2&BZ$2&$A14))","v":0},{"$f":"IF(INDIRECT($B$2&CA$2&$A14)=\"\",\"\",INDIRECT($B$2&CA$2&$A14))","v":""},{"$f":"IF(INDIRECT($B$2&CB$2&$A14)=\"\",\"\",INDIRECT($B$2&CB$2&$A14))","v":""},{"$f":"IF(INDIRECT($B$2&CC$2&$A14)=\"\",\"\",INDIRECT($B$2&CC$2&$A14))","v":""},{"$f":"IF(INDIRECT($B$2&CD$2&$A14)=\"\",\"\",INDIRECT($B$2&CD$2&$A14))","v":""},{"$f":"IF(INDIRECT($B$2&CE$2&$A14)=\"\",\"\",INDIRECT($B$2&CE$2&$A14))","v":""},{"$f":"IF(INDIRECT($B$2&CF$2&$A14)=\"\",\"\",INDIRECT($B$2&CF$2&$A14))","v":""},{"$f":"IF(INDIRECT($B$2&CG$2&$A14)=\"\",\"\",INDIRECT($B$2&CG$2&$A14))","v":""},{"$f":"IF(INDIRECT($B$2&CH$2&$A14)=\"\",\"\",INDIRECT($B$2&CH$2&$A14))","v":""},{"$f":"IF(INDIRECT($B$2&CI$2&$A14)=\"\",\"\",INDIRECT($B$2&CI$2&$A14))","v":""},{"$f":"IF(INDIRECT($B$2&CJ$2&$A14)=\"\",\"\",INDIRECT($B$2&CJ$2&$A14))","v":""},{"$f":"IF(INDIRECT($B$2&CK$2&$A14)=\"\",\"\",INDIRECT($B$2&CK$2&$A14))","v":""},{"$f":"IF(INDIRECT($B$2&CL$2&$A14)=\"\",\"\",INDIRECT($B$2&CL$2&$A14))","v":""},{"$f":"IF(INDIRECT($B$2&CM$2&$A14)=\"\",\"\",INDIRECT($B$2&CM$2&$A14))","v":""},{"$f":"IF(INDIRECT($B$2&CN$2&$A14)=\"\",\"\",INDIRECT($B$2&CN$2&$A14))","v":""},{"$f":"IF(INDIRECT($B$2&CO$2&$A14)=\"\",\"\",INDIRECT($B$2&CO$2&$A14))","v":""},null,{"$f":"IF(INDIRECT($B$2&CQ$2&$A14)=\"\",\"\",INDIRECT($B$2&CQ$2&$A14))","v":""},{"$f":"IF(INDIRECT($B$2&CR$2&$A14)=\"\",\"\",INDIRECT($B$2&CR$2&$A14))","v":""},{"$f":"IF(INDIRECT($B$2&CS$2&$A14)=\"\",\"\",INDIRECT($B$2&CS$2&$A14))","v":""}]
[35,null,null,null,null,null,null,null,null,null,null,null,null,null,null,5,{"$f":"IF(INDIRECT($B$2&$Q$2&$A15)=\"\",\"\",INDIRECT($B$2&$Q$2&$A15))","v":""},null,{"$f":"IF(INDIRECT($B$2&$S$2&$A15)=\"\",\"\",INDIRECT($B$2&$S$2&$A15))","v":0},{"$f":"IF(INDIRECT($B$2&$T$2&$A15)=\"\",\"\",INDIRECT($B$2&$T$2&$A15))","v":0},{"$f":"IF(INDIRECT($B$2&$U$2&$A15)=\"\",\"\",INDIRECT($B$2&$U$2&$A15))","v":0},{"$f":"IF(INDIRECT($B$2&$V$2&$A15)=\"\",\"\",INDIRECT($B$2&$V$2&$A15))","v":""},{"$f":"IF(INDIRECT($B$2&$W$2&$A15)=\"\",\"\",INDIRECT($B$2&$W$2&$A15))","v":""},{"$f":"IF(INDIRECT($B$2&$X$2&$A15)=\"\",\"\",INDIRECT($B$2&$X$2&$A15))","v":""},{"$f":"IF(INDIRECT($B$2&$Y$2&$A15)=\"\",\"\",INDIRECT($B$2&$Y$2&$A15))","v":""},{"$f":"IF(INDIRECT($B$2&$Z$2&$A15)=\"\",\"\",INDIRECT($B$2&$Z$2&$A15))","v":""},null,{"$f":"IF(INDIRECT($B$2&$AB$2&$A15)=\"\",\"\",INDIRECT($B$2&$AB$2&$A15))","v":""},{"$f":"IF(INDIRECT($B$2&$AC$2&$A15)=\"\",\"\",INDIRECT($B$2&$AC$2&$A15))","v":""},{"$f":"IF(INDIRECT($B$2&$AD$2&$A15)=\"\",\"\",INDIRECT($B$2&$AD$2&$A15))","v":""},{"$f":"IF(INDIRECT($B$2&$AE$2&$A15)=\"\",\"\",INDIRECT($B$2&$AE$2&$A15))","v":""},{"$f":"IF(INDIRECT($B$2&$AF$2&$A15)=\"\",\"\",INDIRECT($B$2&$AF$2&$A15))","v":""},null,null,null,null,null,null,null,null,null,null,null,null,null,null,null,{"$f":"IF(INDIRECT($B$2&AV$2&$A15)=\"\",\"\",INDIRECT($B$2&AV$2&$A15))","v":""},{"$f":"IF(INDIRECT($B$2&AW$2&$A15)=\"\",\"\",INDIRECT($B$2&AW$2&$A15))","v":""},{"$f":"IF(INDIRECT($B$2&AX$2&$A15)=\"\",\"\",INDIRECT($B$2&AX$2&$A15))","v":""},{"$f":"IF(INDIRECT($B$2&AY$2&$A15)=\"\",\"\",INDIRECT($B$2&AY$2&$A15))","v":""},{"$f":"IF(INDIRECT($B$2&AZ$2&$A15)=\"\",\"\",INDIRECT($B$2&AZ$2&$A15))","v":""},{"$f":"IF(INDIRECT($B$2&BA$2&$A15)=\"\",\"\",INDIRECT($B$2&BA$2&$A15))","v":""},{"$f":"IF(INDIRECT($B$2&BB$2&$A15)=\"\",\"\",INDIRECT($B$2&BB$2&$A15))","v":""},{"$f":"IF(INDIRECT($B$2&BC$2&$A15)=\"\",\"\",INDIRECT($B$2&BC$2&$A15))","v":""},{"$f":"IF(INDIRECT($B$2&BD$2&$A15)=\"\",\"\",INDIRECT($B$2&BD$2&$A15))","v":""},{"$f":"IF(INDIRECT($B$2&BE$2&$A15)=\"\",\"\",INDIRECT($B$2&BE$2&$A15))","v":""},{"$f":"IF(INDIRECT($B$2&BF$2&$A15)=\"\",\"\",INDIRECT($B$2&BF$2&$A15))","v":""},{"$f":"IF(INDIRECT($B$2&BG$2&$A15)=\"\",\"\",INDIRECT($B$2&BG$2&$A15))","v":""},{"$f":"IF(INDIRECT($B$2&BH$2&$A15)=\"\",\"\",INDIRECT($B$2&BH$2&$A15))","v":""},{"$f":"IF(INDIRECT($B$2&BI$2&$A15)=\"\",\"\",INDIRECT($B$2&BI$2&$A15))","v":""},{"$f":"IF(INDIRECT($B$2&BJ$2&$A15)=\"\",\"\",INDIRECT($B$2&BJ$2&$A15))","v":""},{"$f":"IF(INDIRECT($B$2&BK$2&$A15)=\"\",\"\",INDIRECT($B$2&BK$2&$A15))","v":0},{"$f":"IF(INDIRECT($B$2&BL$2&$A15)=\"\",\"\",INDIRECT($B$2&BL$2&$A15))","v":""},{"$f":"IF(INDIRECT($B$2&BM$2&$A15)=\"\",\"\",INDIRECT($B$2&BM$2&$A15))","v":""},{"$f":"IF(INDIRECT($B$2&BN$2&$A15)=\"\",\"\",INDIRECT($B$2&BN$2&$A15))","v":""},{"$f":"IF(INDIRECT($B$2&BO$2&$A15)=\"\",\"\",INDIRECT($B$2&BO$2&$A15))","v":""},{"$f":"IF(INDIRECT($B$2&BP$2&$A15)=\"\",\"\",INDIRECT($B$2&BP$2&$A15))","v":""},{"$f":"IF(INDIRECT($B$2&BQ$2&$A15)=\"\",\"\",INDIRECT($B$2&BQ$2&$A15))","v":""},{"$f":"IF(INDIRECT($B$2&BR$2&$A15)=\"\",\"\",INDIRECT($B$2&BR$2&$A15))","v":""},{"$f":"IF(INDIRECT($B$2&BS$2&$A15)=\"\",\"\",INDIRECT($B$2&BS$2&$A15))","v":""},{"$f":"IF(INDIRECT($B$2&BT$2&$A15)=\"\",\"\",INDIRECT($B$2&BT$2&$A15))","v":""},{"$f":"IF(INDIRECT($B$2&BU$2&$A15)=\"\",\"\",INDIRECT($B$2&BU$2&$A15))","v":""},{"$f":"IF(INDIRECT($B$2&BV$2&$A15)=\"\",\"\",INDIRECT($B$2&BV$2&$A15))","v":""},{"$f":"IF(INDIRECT($B$2&BW$2&$A15)=\"\",\"\",INDIRECT($B$2&BW$2&$A15))","v":""},{"$f":"IF(INDIRECT($B$2&BX$2&$A15)=\"\",\"\",INDIRECT($B$2&BX$2&$A15))","v":""},{"$f":"IF(INDIRECT($B$2&BY$2&$A15)=\"\",\"\",INDIRECT($B$2&BY$2&$A15))","v":""},{"$f":"IF(INDIRECT($B$2&BZ$2&$A15)=\"\",\"\",INDIRECT($B$2&BZ$2&$A15))","v":0},{"$f":"IF(INDIRECT($B$2&CA$2&$A15)=\"\",\"\",INDIRECT($B$2&CA$2&$A15))","v":""},{"$f":"IF(INDIRECT($B$2&CB$2&$A15)=\"\",\"\",INDIRECT($B$2&CB$2&$A15))","v":""},{"$f":"IF(INDIRECT($B$2&CC$2&$A15)=\"\",\"\",INDIRECT($B$2&CC$2&$A15))","v":""},{"$f":"IF(INDIRECT($B$2&CD$2&$A15)=\"\",\"\",INDIRECT($B$2&CD$2&$A15))","v":""},{"$f":"IF(INDIRECT($B$2&CE$2&$A15)=\"\",\"\",INDIRECT($B$2&CE$2&$A15))","v":""},{"$f":"IF(INDIRECT($B$2&CF$2&$A15)=\"\",\"\",INDIRECT($B$2&CF$2&$A15))","v":""},{"$f":"IF(INDIRECT($B$2&CG$2&$A15)=\"\",\"\",INDIRECT($B$2&CG$2&$A15))","v":""},{"$f":"IF(INDIRECT($B$2&CH$2&$A15)=\"\",\"\",INDIRECT($B$2&CH$2&$A15))","v":""},{"$f":"IF(INDIRECT($B$2&CI$2&$A15)=\"\",\"\",INDIRECT($B$2&CI$2&$A15))","v":""},{"$f":"IF(INDIRECT($B$2&CJ$2&$A15)=\"\",\"\",INDIRECT($B$2&CJ$2&$A15))","v":""},{"$f":"IF(INDIRECT($B$2&CK$2&$A15)=\"\",\"\",INDIRECT($B$2&CK$2&$A15))","v":""},{"$f":"IF(INDIRECT($B$2&CL$2&$A15)=\"\",\"\",INDIRECT($B$2&CL$2&$A15))","v":""},{"$f":"IF(INDIRECT($B$2&CM$2&$A15)=\"\",\"\",INDIRECT($B$2&CM$2&$A15))","v":""},{"$f":"IF(INDIRECT($B$2&CN$2&$A15)=\"\",\"\",INDIRECT($B$2&CN$2&$A15))","v":""},{"$f":"IF(INDIRECT($B$2&CO$2&$A15)=\"\",\"\",INDIRECT($B$2&CO$2&$A15))","v":""},null,{"$f":"IF(INDIRECT($B$2&CQ$2&$A15)=\"\",\"\",INDIRECT($B$2&CQ$2&$A15))","v":""},{"$f":"IF(INDIRECT($B$2&CR$2&$A15)=\"\",\"\",INDIRECT($B$2&CR$2&$A15))","v":""},{"$f":"IF(INDIRECT($B$2&CS$2&$A15)=\"\",\"\",INDIRECT($B$2&CS$2&$A15))","v":""}]
[36,null,null,null,null,null,null,null,null,null,null,null,null,null,null,6,{"$f":"IF(INDIRECT($B$2&$Q$2&$A16)=\"\",\"\",INDIRECT($B$2&$Q$2&$A16))","v":""},null,{"$f":"IF(INDIRECT($B$2&$S$2&$A16)=\"\",\"\",INDIRECT($B$2&$S$2&$A16))","v":0},{"$f":"IF(INDIRECT($B$2&$T$2&$A16)=\"\",\"\",INDIRECT($B$2&$T$2&$A16))","v":0},{"$f":"IF(INDIRECT($B$2&$U$2&$A16)=\"\",\"\",INDIRECT($B$2&$U$2&$A16))","v":0},{"$f":"IF(INDIRECT($B$2&$V$2&$A16)=\"\",\"\",INDIRECT($B$2&$V$2&$A16))","v":""},{"$f":"IF(INDIRECT($B$2&$W$2&$A16)=\"\",\"\",INDIRECT($B$2&$W$2&$A16))","v":""},{"$f":"IF(INDIRECT($B$2&$X$2&$A16)=\"\",\"\",INDIRECT($B$2&$X$2&$A16))","v":""},{"$f":"IF(INDIRECT($B$2&$Y$2&$A16)=\"\",\"\",INDIRECT($B$2&$Y$2&$A16))","v":""},{"$f":"IF(INDIRECT($B$2&$Z$2&$A16)=\"\",\"\",INDIRECT($B$2&$Z$2&$A16))","v":""},null,{"$f":"IF(INDIRECT($B$2&$AB$2&$A16)=\"\",\"\",INDIRECT($B$2&$AB$2&$A16))","v":""},{"$f":"IF(INDIRECT($B$2&$AC$2&$A16)=\"\",\"\",INDIRECT($B$2&$AC$2&$A16))","v":""},{"$f":"IF(INDIRECT($B$2&$AD$2&$A16)=\"\",\"\",INDIRECT($B$2&$AD$2&$A16))","v":""},{"$f":"IF(INDIRECT($B$2&$AE$2&$A16)=\"\",\"\",INDIRECT($B$2&$AE$2&$A16))","v":""},{"$f":"IF(INDIRECT($B$2&$AF$2&$A16)=\"\",\"\",INDIRECT($B$2&$AF$2&$A16))","v":""},null,null,null,null,null,null,null,null,null,null,null,null,null,null,null,{"$f":"IF(INDIRECT($B$2&AV$2&$A16)=\"\",\"\",INDIRECT($B$2&AV$2&$A16))","v":""},{"$f":"IF(INDIRECT($B$2&AW$2&$A16)=\"\",\"\",INDIRECT($B$2&AW$2&$A16))","v":""},{"$f":"IF(INDIRECT($B$2&AX$2&$A16)=\"\",\"\",INDIRECT($B$2&AX$2&$A16))","v":""},{"$f":"IF(INDIRECT($B$2&AY$2&$A16)=\"\",\"\",INDIRECT($B$2&AY$2&$A16))","v":""},{"$f":"IF(INDIRECT($B$2&AZ$2&$A16)=\"\",\"\",INDIRECT($B$2&AZ$2&$A16))","v":""},{"$f":"IF(INDIRECT($B$2&BA$2&$A16)=\"\",\"\",INDIRECT($B$2&BA$2&$A16))","v":""},{"$f":"IF(INDIRECT($B$2&BB$2&$A16)=\"\",\"\",INDIRECT($B$2&BB$2&$A16))","v":""},{"$f":"IF(INDIRECT($B$2&BC$2&$A16)=\"\",\"\",INDIRECT($B$2&BC$2&$A16))","v":""},{"$f":"IF(INDIRECT($B$2&BD$2&$A16)=\"\",\"\",INDIRECT($B$2&BD$2&$A16))","v":""},{"$f":"IF(INDIRECT($B$2&BE$2&$A16)=\"\",\"\",INDIRECT($B$2&BE$2&$A16))","v":""},{"$f":"IF(INDIRECT($B$2&BF$2&$A16)=\"\",\"\",INDIRECT($B$2&BF$2&$A16))","v":""},{"$f":"IF(INDIRECT($B$2&BG$2&$A16)=\"\",\"\",INDIRECT($B$2&BG$2&$A16))","v":""},{"$f":"IF(INDIRECT($B$2&BH$2&$A16)=\"\",\"\",INDIRECT($B$2&BH$2&$A16))","v":""},{"$f":"IF(INDIRECT($B$2&BI$2&$A16)=\"\",\"\",INDIRECT($B$2&BI$2&$A16))","v":""},{"$f":"IF(INDIRECT($B$2&BJ$2&$A16)=\"\",\"\",INDIRECT($B$2&BJ$2&$A16))","v":""},{"$f":"IF(INDIRECT($B$2&BK$2&$A16)=\"\",\"\",INDIRECT($B$2&BK$2&$A16))","v":0},{"$f":"IF(INDIRECT($B$2&BL$2&$A16)=\"\",\"\",INDIRECT($B$2&BL$2&$A16))","v":""},{"$f":"IF(INDIRECT($B$2&BM$2&$A16)=\"\",\"\",INDIRECT($B$2&BM$2&$A16))","v":""},{"$f":"IF(INDIRECT($B$2&BN$2&$A16)=\"\",\"\",INDIRECT($B$2&BN$2&$A16))","v":""},{"$f":"IF(INDIRECT($B$2&BO$2&$A16)=\"\",\"\",INDIRECT($B$2&BO$2&$A16))","v":""},{"$f":"IF(INDIRECT($B$2&BP$2&$A16)=\"\",\"\",INDIRECT($B$2&BP$2&$A16))","v":""},{"$f":"IF(INDIRECT($B$2&BQ$2&$A16)=\"\",\"\",INDIRECT($B$2&BQ$2&$A16))","v":""},{"$f":"IF(INDIRECT($B$2&BR$2&$A16)=\"\",\"\",INDIRECT($B$2&BR$2&$A16))","v":""},{"$f":"IF(INDIRECT($B$2&BS$2&$A16)=\"\",\"\",INDIRECT($B$2&BS$2&$A16))","v":""},{"$f":"IF(INDIRECT($B$2&BT$2&$A16)=\"\",\"\",INDIRECT($B$2&BT$2&$A16))","v":""},{"$f":"IF(INDIRECT($B$2&BU$2&$A16)=\"\",\"\",INDIRECT($B$2&BU$2&$A16))","v":""},{"$f":"IF(INDIRECT($B$2&BV$2&$A16)=\"\",\"\",INDIRECT($B$2&BV$2&$A16))","v":""},{"$f":"IF(INDIRECT($B$2&BW$2&$A16)=\"\",\"\",INDIRECT($B$2&BW$2&$A16))","v":""},{"$f":"IF(INDIRECT($B$2&BX$2&$A16)=\"\",\"\",INDIRECT($B$2&BX$2&$A16))","v":""},{"$f":"IF(INDIRECT($B$2&BY$2&$A16)=\"\",\"\",INDIRECT($B$2&BY$2&$A16))","v":""},{"$f":"IF(INDIRECT($B$2&BZ$2&$A16)=\"\",\"\",INDIRECT($B$2&BZ$2&$A16))","v":0},{"$f":"IF(INDIRECT($B$2&CA$2&$A16)=\"\",\"\",INDIRECT($B$2&CA$2&$A16))","v":""},{"$f":"IF(INDIRECT($B$2&CB$2&$A16)=\"\",\"\",INDIRECT($B$2&CB$2&$A16))","v":""},{"$f":"IF(INDIRECT($B$2&CC$2&$A16)=\"\",\"\",INDIRECT($B$2&CC$2&$A16))","v":""},{"$f":"IF(INDIRECT($B$2&CD$2&$A16)=\"\",\"\",INDIRECT($B$2&CD$2&$A16))","v":""},{"$f":"IF(INDIRECT($B$2&CE$2&$A16)=\"\",\"\",INDIRECT($B$2&CE$2&$A16))","v":""},{"$f":"IF(INDIRECT($B$2&CF$2&$A16)=\"\",\"\",INDIRECT($B$2&CF$2&$A16))","v":""},{"$f":"IF(INDIRECT($B$2&CG$2&$A16)=\"\",\"\",INDIRECT($B$2&CG$2&$A16))","v":""},{"$f":"IF(INDIRECT($B$2&CH$2&$A16)=\"\",\"\",INDIRECT($B$2&CH$2&$A16))","v":""},{"$f":"IF(INDIRECT($B$2&CI$2&$A16)=\"\",\"\",INDIRECT($B$2&CI$2&$A16))","v":""},{"$f":"IF(INDIRECT($B$2&CJ$2&$A16)=\"\",\"\",INDIRECT($B$2&CJ$2&$A16))","v":""},{"$f":"IF(INDIRECT($B$2&CK$2&$A16)=\"\",\"\",INDIRECT($B$2&CK$2&$A16))","v":""},{"$f":"IF(INDIRECT($B$2&CL$2&$A16)=\"\",\"\",INDIRECT($B$2&CL$2&$A16))","v":""},{"$f":"IF(INDIRECT($B$2&CM$2&$A16)=\"\",\"\",INDIRECT($B$2&CM$2&$A16))","v":""},{"$f":"IF(INDIRECT($B$2&CN$2&$A16)=\"\",\"\",INDIRECT($B$2&CN$2&$A16))","v":""},{"$f":"IF(INDIRECT($B$2&CO$2&$A16)=\"\",\"\",INDIRECT($B$2&CO$2&$A16))","v":""},null,{"$f":"IF(INDIRECT($B$2&CQ$2&$A16)=\"\",\"\",INDIRECT($B$2&CQ$2&$A16))","v":""},{"$f":"IF(INDIRECT($B$2&CR$2&$A16)=\"\",\"\",INDIRECT($B$2&CR$2&$A16))","v":""},{"$f":"IF(INDIRECT($B$2&CS$2&$A16)=\"\",\"\",INDIRECT($B$2&CS$2&$A16))","v":""}]
[37,null,null,null,null,null,null,null,null,null,null,null,null,null,null,7,{"$f":"IF(INDIRECT($B$2&$Q$2&$A17)=\"\",\"\",INDIRECT($B$2&$Q$2&$A17))","v":""},null,{"$f":"IF(INDIRECT($B$2&$S$2&$A17)=\"\",\"\",INDIRECT($B$2&$S$2&$A17))","v":0},{"$f":"IF(INDIRECT($B$2&$T$2&$A17)=\"\",\"\",INDIRECT($B$2&$T$2&$A17))","v":0},{"$f":"IF(INDIRECT($B$2&$U$2&$A17)=\"\",\"\",INDIRECT($B$2&$U$2&$A17))","v":0},{"$f":"IF(INDIRECT($B$2&$V$2&$A17)=\"\",\"\",INDIRECT($B$2&$V$2&$A17))","v":""},{"$f":"IF(INDIRECT($B$2&$W$2&$A17)=\"\",\"\",INDIRECT($B$2&$W$2&$A17))","v":""},{"$f":"IF(INDIRECT($B$2&$X$2&$A17)=\"\",\"\",INDIRECT($B$2&$X$2&$A17))","v":""},{"$f":"IF(INDIRECT($B$2&$Y$2&$A17)=\"\",\"\",INDIRECT($B$2&$Y$2&$A17))","v":""},{"$f":"IF(INDIRECT($B$2&$Z$2&$A17)=\"\",\"\",INDIRECT($B$2&$Z$2&$A17))","v":""},null,{"$f":"IF(INDIRECT($B$2&$AB$2&$A17)=\"\",\"\",INDIRECT($B$2&$AB$2&$A17))","v":""},{"$f":"IF(INDIRECT($B$2&$AC$2&$A17)=\"\",\"\",INDIRECT($B$2&$AC$2&$A17))","v":""},{"$f":"IF(INDIRECT($B$2&$AD$2&$A17)=\"\",\"\",INDIRECT($B$2&$AD$2&$A17))","v":""},{"$f":"IF(INDIRECT($B$2&$AE$2&$A17)=\"\",\"\",INDIRECT($B$2&$AE$2&$A17))","v":""},{"$f":"IF(INDIRECT($B$2&$AF$2&$A17)=\"\",\"\",INDIRECT($B$2&$AF$2&$A17))","v":""},null,null,null,null,null,null,null,null,null,null,null,null,null,null,null,{"$f":"IF(INDIRECT($B$2&AV$2&$A17)=\"\",\"\",INDIRECT($B$2&AV$2&$A17))","v":""},{"$f":"IF(INDIRECT($B$2&AW$2&$A17)=\"\",\"\",INDIRECT($B$2&AW$2&$A17))","v":""},{"$f":"IF(INDIRECT($B$2&AX$2&$A17)=\"\",\"\",INDIRECT($B$2&AX$2&$A17))","v":""},{"$f":"IF(INDIRECT($B$2&AY$2&$A17)=\"\",\"\",INDIRECT($B$2&AY$2&$A17))","v":""},{"$f":"IF(INDIRECT($B$2&AZ$2&$A17)=\"\",\"\",INDIRECT($B$2&AZ$2&$A17))","v":""},{"$f":"IF(INDIRECT($B$2&BA$2&$A17)=\"\",\"\",INDIRECT($B$2&BA$2&$A17))","v":""},{"$f":"IF(INDIRECT($B$2&BB$2&$A17)=\"\",\"\",INDIRECT($B$2&BB$2&$A17))","v":""},{"$f":"IF(INDIRECT($B$2&BC$2&$A17)=\"\",\"\",INDIRECT($B$2&BC$2&$A17))","v":""},{"$f":"IF(INDIRECT($B$2&BD$2&$A17)=\"\",\"\",INDIRECT($B$2&BD$2&$A17))","v":""},{"$f":"IF(INDIRECT($B$2&BE$2&$A17)=\"\",\"\",INDIRECT($B$2&BE$2&$A17))","v":""},{"$f":"IF(INDIRECT($B$2&BF$2&$A17)=\"\",\"\",INDIRECT($B$2&BF$2&$A17))","v":""},{"$f":"IF(INDIRECT($B$2&BG$2&$A17)=\"\",\"\",INDIRECT($B$2&BG$2&$A17))","v":""},{"$f":"IF(INDIRECT($B$2&BH$2&$A17)=\"\",\"\",INDIRECT($B$2&BH$2&$A17))","v":""},{"$f":"IF(INDIRECT($B$2&BI$2&$A17)=\"\",\"\",INDIRECT($B$2&BI$2&$A17))","v":""},{"$f":"IF(INDIRECT($B$2&BJ$2&$A17)=\"\",\"\",INDIRECT($B$2&BJ$2&$A17))","v":""},{"$f":"IF(INDIRECT($B$2&BK$2&$A17)=\"\",\"\",INDIRECT($B$2&BK$2&$A17))","v":0},{"$f":"IF(INDIRECT($B$2&BL$2&$A17)=\"\",\"\",INDIRECT($B$2&BL$2&$A17))","v":""},{"$f":"IF(INDIRECT($B$2&BM$2&$A17)=\"\",\"\",INDIRECT($B$2&BM$2&$A17))","v":""},{"$f":"IF(INDIRECT($B$2&BN$2&$A17)=\"\",\"\",INDIRECT($B$2&BN$2&$A17))","v":""},{"$f":"IF(INDIRECT($B$2&BO$2&$A17)=\"\",\"\",INDIRECT($B$2&BO$2&$A17))","v":""},{"$f":"IF(INDIRECT($B$2&BP$2&$A17)=\"\",\"\",INDIRECT($B$2&BP$2&$A17))","v":""},{"$f":"IF(INDIRECT($B$2&BQ$2&$A17)=\"\",\"\",INDIRECT($B$2&BQ$2&$A17))","v":""},{"$f":"IF(INDIRECT($B$2&BR$2&$A17)=\"\",\"\",INDIRECT($B$2&BR$2&$A17))","v":""},{"$f":"IF(INDIRECT($B$2&BS$2&$A17)=\"\",\"\",INDIRECT($B$2&BS$2&$A17))","v":""},{"$f":"IF(INDIRECT($B$2&BT$2&$A17)=\"\",\"\",INDIRECT($B$2&BT$2&$A17))","v":""},{"$f":"IF(INDIRECT($B$2&BU$2&$A17)=\"\",\"\",INDIRECT($B$2&BU$2&$A17))","v":""},{"$f":"IF(INDIRECT($B$2&BV$2&$A17)=\"\",\"\",INDIRECT($B$2&BV$2&$A17))","v":""},{"$f":"IF(INDIRECT($B$2&BW$2&$A17)=\"\",\"\",INDIRECT($B$2&BW$2&$A17))","v":""},{"$f":"IF(INDIRECT($B$2&BX$2&$A17)=\"\",\"\",INDIRECT($B$2&BX$2&$A17))","v":""},{"$f":"IF(INDIRECT($B$2&BY$2&$A17)=\"\",\"\",INDIRECT($B$2&BY$2&$A17))","v":""},{"$f":"IF(INDIRECT($B$2&BZ$2&$A17)=\"\",\"\",INDIRECT($B$2&BZ$2&$A17))","v":0},{"$f":"IF(INDIRECT($B$2&CA$2&$A17)=\"\",\"\",INDIRECT($B$2&CA$2&$A17))","v":""},{"$f":"IF(INDIRECT($B$2&CB$2&$A17)=\"\",\"\",INDIRECT($B$2&CB$2&$A17))","v":""},{"$f":"IF(INDIRECT($B$2&CC$2&$A17)=\"\",\"\",INDIRECT($B$2&CC$2&$A17))","v":""},{"$f":"IF(INDIRECT($B$2&CD$2&$A17)=\"\",\"\",INDIRECT($B$2&CD$2&$A17))","v":""},{"$f":"IF(INDIRECT($B$2&CE$2&$A17)=\"\",\"\",INDIRECT($B$2&CE$2&$A17))","v":""},{"$f":"IF(INDIRECT($B$2&CF$2&$A17)=\"\",\"\",INDIRECT($B$2&CF$2&$A17))","v":""},{"$f":"IF(INDIRECT($B$2&CG$2&$A17)=\"\",\"\",INDIRECT($B$2&CG$2&$A17))","v":""},{"$f":"IF(INDIRECT($B$2&CH$2&$A17)=\"\",\"\",INDIRECT($B$2&CH$2&$A17))","v":""},{"$f":"IF(INDIRECT($B$2&CI$2&$A17)=\"\",\"\",INDIRECT($B$2&CI$2&$A17))","v":""},{"$f":"IF(INDIRECT($B$2&CJ$2&$A17)=\"\",\"\",INDIRECT($B$2&CJ$2&$A17))","v":""},{"$f":"IF(INDIRECT($B$2&CK$2&$A17)=\"\",\"\",INDIRECT($B$2&CK$2&$A17))","v":""},{"$f":"IF(INDIRECT($B$2&CL$2&$A17)=\"\",\"\",INDIRECT($B$2&CL$2&$A17))","v":""},{"$f":"IF(INDIRECT($B$2&CM$2&$A17)=\"\",\"\",INDIRECT($B$2&CM$2&$A17))","v":""},{"$f":"IF(INDIRECT($B$2&CN$2&$A17)=\"\",\"\",INDIRECT($B$2&CN$2&$A17))","v":""},{"$f":"IF(INDIRECT($B$2&CO$2&$A17)=\"\",\"\",INDIRECT($B$2&CO$2&$A17))","v":""},null,{"$f":"IF(INDIRECT($B$2&CQ$2&$A17)=\"\",\"\",INDIRECT($B$2&CQ$2&$A17))","v":""},{"$f":"IF(INDIRECT($B$2&CR$2&$A17)=\"\",\"\",INDIRECT($B$2&CR$2&$A17))","v":""},{"$f":"IF(INDIRECT($B$2&CS$2&$A17)=\"\",\"\",INDIRECT($B$2&CS$2&$A17))","v":""}]
[38,null,null,null,null,null,null,null,null,null,null,null,null,null,null,8,{"$f":"IF(INDIRECT($B$2&$Q$2&$A18)=\"\",\"\",INDIRECT($B$2&$Q$2&$A18))","v":""},null,{"$f":"IF(INDIRECT($B$2&$S$2&$A18)=\"\",\"\",INDIRECT($B$2&$S$2&$A18))","v":0},{"$f":"IF(INDIRECT($B$2&$T$2&$A18)=\"\",\"\",INDIRECT($B$2&$T$2&$A18))","v":0},{"$f":"IF(INDIRECT($B$2&$U$2&$A18)=\"\",\"\",INDIRECT($B$2&$U$2&$A18))","v":0},{"$f":"IF(INDIRECT($B$2&$V$2&$A18)=\"\",\"\",INDIRECT($B$2&$V$2&$A18))","v":""},{"$f":"IF(INDIRECT($B$2&$W$2&$A18)=\"\",\"\",INDIRECT($B$2&$W$2&$A18))","v":""},{"$f":"IF(INDIRECT($B$2&$X$2&$A18)=\"\",\"\",INDIRECT($B$2&$X$2&$A18))","v":""},{"$f":"IF(INDIRECT($B$2&$Y$2&$A18)=\"\",\"\",INDIRECT($B$2&$Y$2&$A18))","v":""},{"$f":"IF(INDIRECT($B$2&$Z$2&$A18)=\"\",\"\",INDIRECT($B$2&$Z$2&$A18))","v":""},null,{"$f":"IF(INDIRECT($B$2&$AB$2&$A18)=\"\",\"\",INDIRECT($B$2&$AB$2&$A18))","v":""},{"$f":"IF(INDIRECT($B$2&$AC$2&$A18)=\"\",\"\",INDIRECT($B$2&$AC$2&$A18))","v":""},{"$f":"IF(INDIRECT($B$2&$AD$2&$A18)=\"\",\"\",INDIRECT($B$2&$AD$2&$A18))","v":""},{"$f":"IF(INDIRECT($B$2&$AE$2&$A18)=\"\",\"\",INDIRECT($B$2&$AE$2&$A18))","v":""},{"$f":"IF(INDIRECT($B$2&$AF$2&$A18)=\"\",\"\",INDIRECT($B$2&$AF$2&$A18))","v":""},null,null,null,null,null,null,null,null,null,null,null,null,null,null,null,{"$f":"IF(INDIRECT($B$2&AV$2&$A18)=\"\",\"\",INDIRECT($B$2&AV$2&$A18))","v":""},{"$f":"IF(INDIRECT($B$2&AW$2&$A18)=\"\",\"\",INDIRECT($B$2&AW$2&$A18))","v":""},{"$f":"IF(INDIRECT($B$2&AX$2&$A18)=\"\",\"\",INDIRECT($B$2&AX$2&$A18))","v":""},{"$f":"IF(INDIRECT($B$2&AY$2&$A18)=\"\",\"\",INDIRECT($B$2&AY$2&$A18))","v":""},{"$f":"IF(INDIRECT($B$2&AZ$2&$A18)=\"\",\"\",INDIRECT($B$2&AZ$2&$A18))","v":""},{"$f":"IF(INDIRECT($B$2&BA$2&$A18)=\"\",\"\",INDIRECT($B$2&BA$2&$A18))","v":""},{"$f":"IF(INDIRECT($B$2&BB$2&$A18)=\"\",\"\",INDIRECT($B$2&BB$2&$A18))","v":""},{"$f":"IF(INDIRECT($B$2&BC$2&$A18)=\"\",\"\",INDIRECT($B$2&BC$2&$A18))","v":""},{"$f":"IF(INDIRECT($B$2&BD$2&$A18)=\"\",\"\",INDIRECT($B$2&BD$2&$A18))","v":""},{"$f":"IF(INDIRECT($B$2&BE$2&$A18)=\"\",\"\",INDIRECT($B$2&BE$2&$A18))","v":""},{"$f":"IF(INDIRECT($B$2&BF$2&$A18)=\"\",\"\",INDIRECT($B$2&BF$2&$A18))","v":""},{"$f":"IF(INDIRECT($B$2&BG$2&$A18)=\"\",\"\",INDIRECT($B$2&BG$2&$A18))","v":""},{"$f":"IF(INDIRECT($B$2&BH$2&$A18)=\"\",\"\",INDIRECT($B$2&BH$2&$A18))","v":""},{"$f":"IF(INDIRECT($B$2&BI$2&$A18)=\"\",\"\",INDIRECT($B$2&BI$2&$A18))","v":""},{"$f":"IF(INDIRECT($B$2&BJ$2&$A18)=\"\",\"\",INDIRECT($B$2&BJ$2&$A18))","v":""},{"$f":"IF(INDIRECT($B$2&BK$2&$A18)=\"\",\"\",INDIRECT($B$2&BK$2&$A18))","v":0},{"$f":"IF(INDIRECT($B$2&BL$2&$A18)=\"\",\"\",INDIRECT($B$2&BL$2&$A18))","v":""},{"$f":"IF(INDIRECT($B$2&BM$2&$A18)=\"\",\"\",INDIRECT($B$2&BM$2&$A18))","v":""},{"$f":"IF(INDIRECT($B$2&BN$2&$A18)=\"\",\"\",INDIRECT($B$2&BN$2&$A18))","v":""},{"$f":"IF(INDIRECT($B$2&BO$2&$A18)=\"\",\"\",INDIRECT($B$2&BO$2&$A18))","v":""},{"$f":"IF(INDIRECT($B$2&BP$2&$A18)=\"\",\"\",INDIRECT($B$2&BP$2&$A18))","v":""},{"$f":"IF(INDIRECT($B$2&BQ$2&$A18)=\"\",\"\",INDIRECT($B$2&BQ$2&$A18))","v":""},{"$f":"IF(INDIRECT($B$2&BR$2&$A18)=\"\",\"\",INDIRECT($B$2&BR$2&$A18))","v":""},{"$f":"IF(INDIRECT($B$2&BS$2&$A18)=\"\",\"\",INDIRECT($B$2&BS$2&$A18))","v":""},{"$f":"IF(INDIRECT($B$2&BT$2&$A18)=\"\",\"\",INDIRECT($B$2&BT$2&$A18))","v":""},{"$f":"IF(INDIRECT($B$2&BU$2&$A18)=\"\",\"\",INDIRECT($B$2&BU$2&$A18))","v":""},{"$f":"IF(INDIRECT($B$2&BV$2&$A18)=\"\",\"\",INDIRECT($B$2&BV$2&$A18))","v":""},{"$f":"IF(INDIRECT($B$2&BW$2&$A18)=\"\",\"\",INDIRECT($B$2&BW$2&$A18))","v":""},{"$f":"IF(INDIRECT($B$2&BX$2&$A18)=\"\",\"\",INDIRECT($B$2&BX$2&$A18))","v":""},{"$f":"IF(INDIRECT($B$2&BY$2&$A18)=\"\",\"\",INDIRECT($B$2&BY$2&$A18))","v":""},{"$f":"IF(INDIRECT($B$2&BZ$2&$A18)=\"\",\"\",INDIRECT($B$2&BZ$2&$A18))","v":0},{"$f":"IF(INDIRECT($B$2&CA$2&$A18)=\"\",\"\",INDIRECT($B$2&CA$2&$A18))","v":""},{"$f":"IF(INDIRECT($B$2&CB$2&$A18)=\"\",\"\",INDIRECT($B$2&CB$2&$A18))","v":""},{"$f":"IF(INDIRECT($B$2&CC$2&$A18)=\"\",\"\",INDIRECT($B$2&CC$2&$A18))","v":""},{"$f":"IF(INDIRECT($B$2&CD$2&$A18)=\"\",\"\",INDIRECT($B$2&CD$2&$A18))","v":""},{"$f":"IF(INDIRECT($B$2&CE$2&$A18)=\"\",\"\",INDIRECT($B$2&CE$2&$A18))","v":""},{"$f":"IF(INDIRECT($B$2&CF$2&$A18)=\"\",\"\",INDIRECT($B$2&CF$2&$A18))","v":""},{"$f":"IF(INDIRECT($B$2&CG$2&$A18)=\"\",\"\",INDIRECT($B$2&CG$2&$A18))","v":""},{"$f":"IF(INDIRECT($B$2&CH$2&$A18)=\"\",\"\",INDIRECT($B$2&CH$2&$A18))","v":""},{"$f":"IF(INDIRECT($B$2&CI$2&$A18)=\"\",\"\",INDIRECT($B$2&CI$2&$A18))","v":""},{"$f":"IF(INDIRECT($B$2&CJ$2&$A18)=\"\",\"\",INDIRECT($B$2&CJ$2&$A18))","v":""},{"$f":"IF(INDIRECT($B$2&CK$2&$A18)=\"\",\"\",INDIRECT($B$2&CK$2&$A18))","v":""},{"$f":"IF(INDIRECT($B$2&CL$2&$A18)=\"\",\"\",INDIRECT($B$2&CL$2&$A18))","v":""},{"$f":"IF(INDIRECT($B$2&CM$2&$A18)=\"\",\"\",INDIRECT($B$2&CM$2&$A18))","v":""},{"$f":"IF(INDIRECT($B$2&CN$2&$A18)=\"\",\"\",INDIRECT($B$2&CN$2&$A18))","v":""},{"$f":"IF(INDIRECT($B$2&CO$2&$A18)=\"\",\"\",INDIRECT($B$2&CO$2&$A18))","v":""},null,{"$f":"IF(INDIRECT($B$2&CQ$2&$A18)=\"\",\"\",INDIRECT($B$2&CQ$2&$A18))","v":""},{"$f":"IF(INDIRECT($B$2&CR$2&$A18)=\"\",\"\",INDIRECT($B$2&CR$2&$A18))","v":""},{"$f":"IF(INDIRECT($B$2&CS$2&$A18)=\"\",\"\",INDIRECT($B$2&CS$2&$A18))","v":""}]
[39,null,null,null,null,null,null,null,null,null,null,null,null,null,null,9,{"$f":"IF(INDIRECT($B$2&$Q$2&$A19)=\"\",\"\",INDIRECT($B$2&$Q$2&$A19))","v":""},null,{"$f":"IF(INDIRECT($B$2&$S$2&$A19)=\"\",\"\",INDIRECT($B$2&$S$2&$A19))","v":0},{"$f":"IF(INDIRECT($B$2&$T$2&$A19)=\"\",\"\",INDIRECT($B$2&$T$2&$A19))","v":0},{"$f":"IF(INDIRECT($B$2&$U$2&$A19)=\"\",\"\",INDIRECT($B$2&$U$2&$A19))","v":0},{"$f":"IF(INDIRECT($B$2&$V$2&$A19)=\"\",\"\",INDIRECT($B$2&$V$2&$A19))","v":""},{"$f":"IF(INDIRECT($B$2&$W$2&$A19)=\"\",\"\",INDIRECT($B$2&$W$2&$A19))","v":""},{"$f":"IF(INDIRECT($B$2&$X$2&$A19)=\"\",\"\",INDIRECT($B$2&$X$2&$A19))","v":""},{"$f":"IF(INDIRECT($B$2&$Y$2&$A19)=\"\",\"\",INDIRECT($B$2&$Y$2&$A19))","v":""},{"$f":"IF(INDIRECT($B$2&$Z$2&$A19)=\"\",\"\",INDIRECT($B$2&$Z$2&$A19))","v":""},null,{"$f":"IF(INDIRECT($B$2&$AB$2&$A19)=\"\",\"\",INDIRECT($B$2&$AB$2&$A19))","v":""},{"$f":"IF(INDIRECT($B$2&$AC$2&$A19)=\"\",\"\",INDIRECT($B$2&$AC$2&$A19))","v":""},{"$f":"IF(INDIRECT($B$2&$AD$2&$A19)=\"\",\"\",INDIRECT($B$2&$AD$2&$A19))","v":""},{"$f":"IF(INDIRECT($B$2&$AE$2&$A19)=\"\",\"\",INDIRECT($B$2&$AE$2&$A19))","v":""},{"$f":"IF(INDIRECT($B$2&$AF$2&$A19)=\"\",\"\",INDIRECT($B$2&$AF$2&$A19))","v":""},null,null,null,null,null,null,null,null,null,null,null,null,null,null,null,{"$f":"IF(INDIRECT($B$2&AV$2&$A19)=\"\",\"\",INDIRECT($B$2&AV$2&$A19))","v":""},{"$f":"IF(INDIRECT($B$2&AW$2&$A19)=\"\",\"\",INDIRECT($B$2&AW$2&$A19))","v":""},{"$f":"IF(INDIRECT($B$2&AX$2&$A19)=\"\",\"\",INDIRECT($B$2&AX$2&$A19))","v":""},{"$f":"IF(INDIRECT($B$2&AY$2&$A19)=\"\",\"\",INDIRECT($B$2&AY$2&$A19))","v":""},{"$f":"IF(INDIRECT($B$2&AZ$2&$A19)=\"\",\"\",INDIRECT($B$2&AZ$2&$A19))","v":""},{"$f":"IF(INDIRECT($B$2&BA$2&$A19)=\"\",\"\",INDIRECT($B$2&BA$2&$A19))","v":""},{"$f":"IF(INDIRECT($B$2&BB$2&$A19)=\"\",\"\",INDIRECT($B$2&BB$2&$A19))","v":""},{"$f":"IF(INDIRECT($B$2&BC$2&$A19)=\"\",\"\",INDIRECT($B$2&BC$2&$A19))","v":""},{"$f":"IF(INDIRECT($B$2&BD$2&$A19)=\"\",\"\",INDIRECT($B$2&BD$2&$A19))","v":""},{"$f":"IF(INDIRECT($B$2&BE$2&$A19)=\"\",\"\",INDIRECT($B$2&BE$2&$A19))","v":""},{"$f":"IF(INDIRECT($B$2&BF$2&$A19)=\"\",\"\",INDIRECT($B$2&BF$2&$A19))","v":""},{"$f":"IF(INDIRECT($B$2&BG$2&$A19)=\"\",\"\",INDIRECT($B$2&BG$2&$A19))","v":""},{"$f":"IF(INDIRECT($B$2&BH$2&$A19)=\"\",\"\",INDIRECT($B$2&BH$2&$A19))","v":""},{"$f":"IF(INDIRECT($B$2&BI$2&$A19)=\"\",\"\",INDIRECT($B$2&BI$2&$A19))","v":""},{"$f":"IF(INDIRECT($B$2&BJ$2&$A19)=\"\",\"\",INDIRECT($B$2&BJ$2&$A19))","v":""},{"$f":"IF(INDIRECT($B$2&BK$2&$A19)=\"\",\"\",INDIRECT($B$2&BK$2&$A19))","v":0},{"$f":"IF(INDIRECT($B$2&BL$2&$A19)=\"\",\"\",INDIRECT($B$2&BL$2&$A19))","v":""},{"$f":"IF(INDIRECT($B$2&BM$2&$A19)=\"\",\"\",INDIRECT($B$2&BM$2&$A19))","v":""},{"$f":"IF(INDIRECT($B$2&BN$2&$A19)=\"\",\"\",INDIRECT($B$2&BN$2&$A19))","v":""},{"$f":"IF(INDIRECT($B$2&BO$2&$A19)=\"\",\"\",INDIRECT($B$2&BO$2&$A19))","v":""},{"$f":"IF(INDIRECT($B$2&BP$2&$A19)=\"\",\"\",INDIRECT($B$2&BP$2&$A19))","v":""},{"$f":"IF(INDIRECT($B$2&BQ$2&$A19)=\"\",\"\",INDIRECT($B$2&BQ$2&$A19))","v":""},{"$f":"IF(INDIRECT($B$2&BR$2&$A19)=\"\",\"\",INDIRECT($B$2&BR$2&$A19))","v":""},{"$f":"IF(INDIRECT($B$2&BS$2&$A19)=\"\",\"\",INDIRECT($B$2&BS$2&$A19))","v":""},{"$f":"IF(INDIRECT($B$2&BT$2&$A19)=\"\",\"\",INDIRECT($B$2&BT$2&$A19))","v":""},{"$f":"IF(INDIRECT($B$2&BU$2&$A19)=\"\",\"\",INDIRECT($B$2&BU$2&$A19))","v":""},{"$f":"IF(INDIRECT($B$2&BV$2&$A19)=\"\",\"\",INDIRECT($B$2&BV$2&$A19))","v":""},{"$f":"IF(INDIRECT($B$2&BW$2&$A19)=\"\",\"\",INDIRECT($B$2&BW$2&$A19))","v":""},{"$f":"IF(INDIRECT($B$2&BX$2&$A19)=\"\",\"\",INDIRECT($B$2&BX$2&$A19))","v":""},{"$f":"IF(INDIRECT($B$2&BY$2&$A19)=\"\",\"\",INDIRECT($B$2&BY$2&$A19))","v":""},{"$f":"IF(INDIRECT($B$2&BZ$2&$A19)=\"\",\"\",INDIRECT($B$2&BZ$2&$A19))","v":0},{"$f":"IF(INDIRECT($B$2&CA$2&$A19)=\"\",\"\",INDIRECT($B$2&CA$2&$A19))","v":""},{"$f":"IF(INDIRECT($B$2&CB$2&$A19)=\"\",\"\",INDIRECT($B$2&CB$2&$A19))","v":""},{"$f":"IF(INDIRECT($B$2&CC$2&$A19)=\"\",\"\",INDIRECT($B$2&CC$2&$A19))","v":""},{"$f":"IF(INDIRECT($B$2&CD$2&$A19)=\"\",\"\",INDIRECT($B$2&CD$2&$A19))","v":""},{"$f":"IF(INDIRECT($B$2&CE$2&$A19)=\"\",\"\",INDIRECT($B$2&CE$2&$A19))","v":""},{"$f":"IF(INDIRECT($B$2&CF$2&$A19)=\"\",\"\",INDIRECT($B$2&CF$2&$A19))","v":""},{"$f":"IF(INDIRECT($B$2&CG$2&$A19)=\"\",\"\",INDIRECT($B$2&CG$2&$A19))","v":""},{"$f":"IF(INDIRECT($B$2&CH$2&$A19)=\"\",\"\",INDIRECT($B$2&CH$2&$A19))","v":""},{"$f":"IF(INDIRECT($B$2&CI$2&$A19)=\"\",\"\",INDIRECT($B$2&CI$2&$A19))","v":""},{"$f":"IF(INDIRECT($B$2&CJ$2&$A19)=\"\",\"\",INDIRECT($B$2&CJ$2&$A19))","v":""},{"$f":"IF(INDIRECT($B$2&CK$2&$A19)=\"\",\"\",INDIRECT($B$2&CK$2&$A19))","v":""},{"$f":"IF(INDIRECT($B$2&CL$2&$A19)=\"\",\"\",INDIRECT($B$2&CL$2&$A19))","v":""},{"$f":"IF(INDIRECT($B$2&CM$2&$A19)=\"\",\"\",INDIRECT($B$2&CM$2&$A19))","v":""},{"$f":"IF(INDIRECT($B$2&CN$2&$A19)=\"\",\"\",INDIRECT($B$2&CN$2&$A19))","v":""},{"$f":"IF(INDIRECT($B$2&CO$2&$A19)=\"\",\"\",INDIRECT($B$2&CO$2&$A19))","v":""},null,{"$f":"IF(INDIRECT($B$2&CQ$2&$A19)=\"\",\"\",INDIRECT($B$2&CQ$2&$A19))","v":""},{"$f":"IF(INDIRECT($B$2&CR$2&$A19)=\"\",\"\",INDIRECT($B$2&CR$2&$A19))","v":""},{"$f":"IF(INDIRECT($B$2&CS$2&$A19)=\"\",\"\",INDIRECT($B$2&CS$2&$A19))","v":""}]
[40,null,null,null,null,null,null,null,null,null,null,null,null,null,null,10,{"$f":"IF(INDIRECT($B$2&$Q$2&$A20)=\"\",\"\",INDIRECT($B$2&$Q$2&$A20))","v":""},null,{"$f":"IF(INDIRECT($B$2&$S$2&$A20)=\"\",\"\",INDIRECT($B$2&$S$2&$A20))","v":0},{"$f":"IF(INDIRECT($B$2&$T$2&$A20)=\"\",\"\",INDIRECT($B$2&$T$2&$A20))","v":0},{"$f":"IF(INDIRECT($B$2&$U$2&$A20)=\"\",\"\",INDIRECT($B$2&$U$2&$A20))","v":0},{"$f":"IF(INDIRECT($B$2&$V$2&$A20)=\"\",\"\",INDIRECT($B$2&$V$2&$A20))","v":""},{"$f":"IF(INDIRECT($B$2&$W$2&$A20)=\"\",\"\",INDIRECT($B$2&$W$2&$A20))","v":""},{"$f":"IF(INDIRECT($B$2&$X$2&$A20)=\"\",\"\",INDIRECT($B$2&$X$2&$A20))","v":""},{"$f":"IF(INDIRECT($B$2&$Y$2&$A20)=\"\",\"\",INDIRECT($B$2&$Y$2&$A20))","v":""},{"$f":"IF(INDIRECT($B$2&$Z$2&$A20)=\"\",\"\",INDIRECT($B$2&$Z$2&$A20))","v":""},null,{"$f":"IF(INDIRECT($B$2&$AB$2&$A20)=\"\",\"\",INDIRECT($B$2&$AB$2&$A20))","v":""},{"$f":"IF(INDIRECT($B$2&$AC$2&$A20)=\"\",\"\",INDIRECT($B$2&$AC$2&$A20))","v":""},{"$f":"IF(INDIRECT($B$2&$AD$2&$A20)=\"\",\"\",INDIRECT($B$2&$AD$2&$A20))","v":""},{"$f":"IF(INDIRECT($B$2&$AE$2&$A20)=\"\",\"\",INDIRECT($B$2&$AE$2&$A20))","v":""},{"$f":"IF(INDIRECT($B$2&$AF$2&$A20)=\"\",\"\",INDIRECT($B$2&$AF$2&$A20))","v":""},null,null,null,null,null,null,null,null,null,null,null,null,null,null,null,{"$f":"IF(INDIRECT($B$2&AV$2&$A20)=\"\",\"\",INDIRECT($B$2&AV$2&$A20))","v":""},{"$f":"IF(INDIRECT($B$2&AW$2&$A20)=\"\",\"\",INDIRECT($B$2&AW$2&$A20))","v":""},{"$f":"IF(INDIRECT($B$2&AX$2&$A20)=\"\",\"\",INDIRECT($B$2&AX$2&$A20))","v":""},{"$f":"IF(INDIRECT($B$2&AY$2&$A20)=\"\",\"\",INDIRECT($B$2&AY$2&$A20))","v":""},{"$f":"IF(INDIRECT($B$2&AZ$2&$A20)=\"\",\"\",INDIRECT($B$2&AZ$2&$A20))","v":""},{"$f":"IF(INDIRECT($B$2&BA$2&$A20)=\"\",\"\",INDIRECT($B$2&BA$2&$A20))","v":""},{"$f":"IF(INDIRECT($B$2&BB$2&$A20)=\"\",\"\",INDIRECT($B$2&BB$2&$A20))","v":""},{"$f":"IF(INDIRECT($B$2&BC$2&$A20)=\"\",\"\",INDIRECT($B$2&BC$2&$A20))","v":""},{"$f":"IF(INDIRECT($B$2&BD$2&$A20)=\"\",\"\",INDIRECT($B$2&BD$2&$A20))","v":""},{"$f":"IF(INDIRECT($B$2&BE$2&$A20)=\"\",\"\",INDIRECT($B$2&BE$2&$A20))","v":""},{"$f":"IF(INDIRECT($B$2&BF$2&$A20)=\"\",\"\",INDIRECT($B$2&BF$2&$A20))","v":""},{"$f":"IF(INDIRECT($B$2&BG$2&$A20)=\"\",\"\",INDIRECT($B$2&BG$2&$A20))","v":""},{"$f":"IF(INDIRECT($B$2&BH$2&$A20)=\"\",\"\",INDIRECT($B$2&BH$2&$A20))","v":""},{"$f":"IF(INDIRECT($B$2&BI$2&$A20)=\"\",\"\",INDIRECT($B$2&BI$2&$A20))","v":""},{"$f":"IF(INDIRECT($B$2&BJ$2&$A20)=\"\",\"\",INDIRECT($B$2&BJ$2&$A20))","v":""},{"$f":"IF(INDIRECT($B$2&BK$2&$A20)=\"\",\"\",INDIRECT($B$2&BK$2&$A20))","v":0},{"$f":"IF(INDIRECT($B$2&BL$2&$A20)=\"\",\"\",INDIRECT($B$2&BL$2&$A20))","v":""},{"$f":"IF(INDIRECT($B$2&BM$2&$A20)=\"\",\"\",INDIRECT($B$2&BM$2&$A20))","v":""},{"$f":"IF(INDIRECT($B$2&BN$2&$A20)=\"\",\"\",INDIRECT($B$2&BN$2&$A20))","v":""},{"$f":"IF(INDIRECT($B$2&BO$2&$A20)=\"\",\"\",INDIRECT($B$2&BO$2&$A20))","v":""},{"$f":"IF(INDIRECT($B$2&BP$2&$A20)=\"\",\"\",INDIRECT($B$2&BP$2&$A20))","v":""},{"$f":"IF(INDIRECT($B$2&BQ$2&$A20)=\"\",\"\",INDIRECT($B$2&BQ$2&$A20))","v":""},{"$f":"IF(INDIRECT($B$2&BR$2&$A20)=\"\",\"\",INDIRECT($B$2&BR$2&$A20))","v":""},{"$f":"IF(INDIRECT($B$2&BS$2&$A20)=\"\",\"\",INDIRECT($B$2&BS$2&$A20))","v":""},{"$f":"IF(INDIRECT($B$2&BT$2&$A20)=\"\",\"\",INDIRECT($B$2&BT$2&$A20))","v":""},{"$f":"IF(INDIRECT($B$2&BU$2&$A20)=\"\",\"\",INDIRECT($B$2&BU$2&$A20))","v":""},{"$f":"IF(INDIRECT($B$2&BV$2&$A20)=\"\",\"\",INDIRECT($B$2&BV$2&$A20))","v":""},{"$f":"IF(INDIRECT($B$2&BW$2&$A20)=\"\",\"\",INDIRECT($B$2&BW$2&$A20))","v":""},{"$f":"IF(INDIRECT($B$2&BX$2&$A20)=\"\",\"\",INDIRECT($B$2&BX$2&$A20))","v":""},{"$f":"IF(INDIRECT($B$2&BY$2&$A20)=\"\",\"\",INDIRECT($B$2&BY$2&$A20))","v":""},{"$f":"IF(INDIRECT($B$2&BZ$2&$A20)=\"\",\"\",INDIRECT($B$2&BZ$2&$A20))","v":0},{"$f":"IF(INDIRECT($B$2&CA$2&$A20)=\"\",\"\",INDIRECT($B$2&CA$2&$A20))","v":""},{"$f":"IF(INDIRECT($B$2&CB$2&$A20)=\"\",\"\",INDIRECT($B$2&CB$2&$A20))","v":""},{"$f":"IF(INDIRECT($B$2&CC$2&$A20)=\"\",\"\",INDIRECT($B$2&CC$2&$A20))","v":""},{"$f":"IF(INDIRECT($B$2&CD$2&$A20)=\"\",\"\",INDIRECT($B$2&CD$2&$A20))","v":""},{"$f":"IF(INDIRECT($B$2&CE$2&$A20)=\"\",\"\",INDIRECT($B$2&CE$2&$A20))","v":""},{"$f":"IF(INDIRECT($B$2&CF$2&$A20)=\"\",\"\",INDIRECT($B$2&CF$2&$A20))","v":""},{"$f":"IF(INDIRECT($B$2&CG$2&$A20)=\"\",\"\",INDIRECT($B$2&CG$2&$A20))","v":""},{"$f":"IF(INDIRECT($B$2&CH$2&$A20)=\"\",\"\",INDIRECT($B$2&CH$2&$A20))","v":""},{"$f":"IF(INDIRECT($B$2&CI$2&$A20)=\"\",\"\",INDIRECT($B$2&CI$2&$A20))","v":""},{"$f":"IF(INDIRECT($B$2&CJ$2&$A20)=\"\",\"\",INDIRECT($B$2&CJ$2&$A20))","v":""},{"$f":"IF(INDIRECT($B$2&CK$2&$A20)=\"\",\"\",INDIRECT($B$2&CK$2&$A20))","v":""},{"$f":"IF(INDIRECT($B$2&CL$2&$A20)=\"\",\"\",INDIRECT($B$2&CL$2&$A20))","v":""},{"$f":"IF(INDIRECT($B$2&CM$2&$A20)=\"\",\"\",INDIRECT($B$2&CM$2&$A20))","v":""},{"$f":"IF(INDIRECT($B$2&CN$2&$A20)=\"\",\"\",INDIRECT($B$2&CN$2&$A20))","v":""},{"$f":"IF(INDIRECT($B$2&CO$2&$A20)=\"\",\"\",INDIRECT($B$2&CO$2&$A20))","v":""},null,{"$f":"IF(INDIRECT($B$2&CQ$2&$A20)=\"\",\"\",INDIRECT($B$2&CQ$2&$A20))","v":""},{"$f":"IF(INDIRECT($B$2&CR$2&$A20)=\"\",\"\",INDIRECT($B$2&CR$2&$A20))","v":""},{"$f":"IF(INDIRECT($B$2&CS$2&$A20)=\"\",\"\",INDIRECT($B$2&CS$2&$A20))","v":""}]
[41,null,null,null,null,null,null,null,null,null,null,null,null,null,null,11,{"$f":"IF(INDIRECT($B$2&$Q$2&$A21)=\"\",\"\",INDIRECT($B$2&$Q$2&$A21))","v":""},null,{"$f":"IF(INDIRECT($B$2&$S$2&$A21)=\"\",\"\",INDIRECT($B$2&$S$2&$A21))","v":0},{"$f":"IF(INDIRECT($B$2&$T$2&$A21)=\"\",\"\",INDIRECT($B$2&$T$2&$A21))","v":0},{"$f":"IF(INDIRECT($B$2&$U$2&$A21)=\"\",\"\",INDIRECT($B$2&$U$2&$A21))","v":0},{"$f":"IF(INDIRECT($B$2&$V$2&$A21)=\"\",\"\",INDIRECT($B$2&$V$2&$A21))","v":""},{"$f":"IF(INDIRECT($B$2&$W$2&$A21)=\"\",\"\",INDIRECT($B$2&$W$2&$A21))","v":""},{"$f":"IF(INDIRECT($B$2&$X$2&$A21)=\"\",\"\",INDIRECT($B$2&$X$2&$A21))","v":""},{"$f":"IF(INDIRECT($B$2&$Y$2&$A21)=\"\",\"\",INDIRECT($B$2&$Y$2&$A21))","v":""},{"$f":"IF(INDIRECT($B$2&$Z$2&$A21)=\"\",\"\",INDIRECT($B$2&$Z$2&$A21))","v":""},null,{"$f":"IF(INDIRECT($B$2&$AB$2&$A21)=\"\",\"\",INDIRECT($B$2&$AB$2&$A21))","v":""},{"$f":"IF(INDIRECT($B$2&$AC$2&$A21)=\"\",\"\",INDIRECT($B$2&$AC$2&$A21))","v":""},{"$f":"IF(INDIRECT($B$2&$AD$2&$A21)=\"\",\"\",INDIRECT($B$2&$AD$2&$A21))","v":""},{"$f":"IF(INDIRECT($B$2&$AE$2&$A21)=\"\",\"\",INDIRECT($B$2&$AE$2&$A21))","v":""},{"$f":"IF(INDIRECT($B$2&$AF$2&$A21)=\"\",\"\",INDIRECT($B$2&$AF$2&$A21))","v":""},null,null,null,null,null,null,null,null,null,null,null,null,null,null,null,{"$f":"IF(INDIRECT($B$2&AV$2&$A21)=\"\",\"\",INDIRECT($B$2&AV$2&$A21))","v":""},{"$f":"IF(INDIRECT($B$2&AW$2&$A21)=\"\",\"\",INDIRECT($B$2&AW$2&$A21))","v":""},{"$f":"IF(INDIRECT($B$2&AX$2&$A21)=\"\",\"\",INDIRECT($B$2&AX$2&$A21))","v":""},{"$f":"IF(INDIRECT($B$2&AY$2&$A21)=\"\",\"\",INDIRECT($B$2&AY$2&$A21))","v":""},{"$f":"IF(INDIRECT($B$2&AZ$2&$A21)=\"\",\"\",INDIRECT($B$2&AZ$2&$A21))","v":""},{"$f":"IF(INDIRECT($B$2&BA$2&$A21)=\"\",\"\",INDIRECT($B$2&BA$2&$A21))","v":""},{"$f":"IF(INDIRECT($B$2&BB$2&$A21)=\"\",\"\",INDIRECT($B$2&BB$2&$A21))","v":""},{"$f":"IF(INDIRECT($B$2&BC$2&$A21)=\"\",\"\",INDIRECT($B$2&BC$2&$A21))","v":""},{"$f":"IF(INDIRECT($B$2&BD$2&$A21)=\"\",\"\",INDIRECT($B$2&BD$2&$A21))","v":""},{"$f":"IF(INDIRECT($B$2&BE$2&$A21)=\"\",\"\",INDIRECT($B$2&BE$2&$A21))","v":""},{"$f":"IF(INDIRECT($B$2&BF$2&$A21)=\"\",\"\",INDIRECT($B$2&BF$2&$A21))","v":""},{"$f":"IF(INDIRECT($B$2&BG$2&$A21)=\"\",\"\",INDIRECT($B$2&BG$2&$A21))","v":""},{"$f":"IF(INDIRECT($B$2&BH$2&$A21)=\"\",\"\",INDIRECT($B$2&BH$2&$A21))","v":""},{"$f":"IF(INDIRECT($B$2&BI$2&$A21)=\"\",\"\",INDIRECT($B$2&BI$2&$A21))","v":""},{"$f":"IF(INDIRECT($B$2&BJ$2&$A21)=\"\",\"\",INDIRECT($B$2&BJ$2&$A21))","v":""},{"$f":"IF(INDIRECT($B$2&BK$2&$A21)=\"\",\"\",INDIRECT($B$2&BK$2&$A21))","v":0},{"$f":"IF(INDIRECT($B$2&BL$2&$A21)=\"\",\"\",INDIRECT($B$2&BL$2&$A21))","v":""},{"$f":"IF(INDIRECT($B$2&BM$2&$A21)=\"\",\"\",INDIRECT($B$2&BM$2&$A21))","v":""},{"$f":"IF(INDIRECT($B$2&BN$2&$A21)=\"\",\"\",INDIRECT($B$2&BN$2&$A21))","v":""},{"$f":"IF(INDIRECT($B$2&BO$2&$A21)=\"\",\"\",INDIRECT($B$2&BO$2&$A21))","v":""},{"$f":"IF(INDIRECT($B$2&BP$2&$A21)=\"\",\"\",INDIRECT($B$2&BP$2&$A21))","v":""},{"$f":"IF(INDIRECT($B$2&BQ$2&$A21)=\"\",\"\",INDIRECT($B$2&BQ$2&$A21))","v":""},{"$f":"IF(INDIRECT($B$2&BR$2&$A21)=\"\",\"\",INDIRECT($B$2&BR$2&$A21))","v":""},{"$f":"IF(INDIRECT($B$2&BS$2&$A21)=\"\",\"\",INDIRECT($B$2&BS$2&$A21))","v":""},{"$f":"IF(INDIRECT($B$2&BT$2&$A21)=\"\",\"\",INDIRECT($B$2&BT$2&$A21))","v":""},{"$f":"IF(INDIRECT($B$2&BU$2&$A21)=\"\",\"\",INDIRECT($B$2&BU$2&$A21))","v":""},{"$f":"IF(INDIRECT($B$2&BV$2&$A21)=\"\",\"\",INDIRECT($B$2&BV$2&$A21))","v":""},{"$f":"IF(INDIRECT($B$2&BW$2&$A21)=\"\",\"\",INDIRECT($B$2&BW$2&$A21))","v":""},{"$f":"IF(INDIRECT($B$2&BX$2&$A21)=\"\",\"\",INDIRECT($B$2&BX$2&$A21))","v":""},{"$f":"IF(INDIRECT($B$2&BY$2&$A21)=\"\",\"\",INDIRECT($B$2&BY$2&$A21))","v":""},{"$f":"IF(INDIRECT($B$2&BZ$2&$A21)=\"\",\"\",INDIRECT($B$2&BZ$2&$A21))","v":0},{"$f":"IF(INDIRECT($B$2&CA$2&$A21)=\"\",\"\",INDIRECT($B$2&CA$2&$A21))","v":""},{"$f":"IF(INDIRECT($B$2&CB$2&$A21)=\"\",\"\",INDIRECT($B$2&CB$2&$A21))","v":""},{"$f":"IF(INDIRECT($B$2&CC$2&$A21)=\"\",\"\",INDIRECT($B$2&CC$2&$A21))","v":""},{"$f":"IF(INDIRECT($B$2&CD$2&$A21)=\"\",\"\",INDIRECT($B$2&CD$2&$A21))","v":""},{"$f":"IF(INDIRECT($B$2&CE$2&$A21)=\"\",\"\",INDIRECT($B$2&CE$2&$A21))","v":""},{"$f":"IF(INDIRECT($B$2&CF$2&$A21)=\"\",\"\",INDIRECT($B$2&CF$2&$A21))","v":""},{"$f":"IF(INDIRECT($B$2&CG$2&$A21)=\"\",\"\",INDIRECT($B$2&CG$2&$A21))","v":""},{"$f":"IF(INDIRECT($B$2&CH$2&$A21)=\"\",\"\",INDIRECT($B$2&CH$2&$A21))","v":""},{"$f":"IF(INDIRECT($B$2&CI$2&$A21)=\"\",\"\",INDIRECT($B$2&CI$2&$A21))","v":""},{"$f":"IF(INDIRECT($B$2&CJ$2&$A21)=\"\",\"\",INDIRECT($B$2&CJ$2&$A21))","v":""},{"$f":"IF(INDIRECT($B$2&CK$2&$A21)=\"\",\"\",INDIRECT($B$2&CK$2&$A21))","v":""},{"$f":"IF(INDIRECT($B$2&CL$2&$A21)=\"\",\"\",INDIRECT($B$2&CL$2&$A21))","v":""},{"$f":"IF(INDIRECT($B$2&CM$2&$A21)=\"\",\"\",INDIRECT($B$2&CM$2&$A21))","v":""},{"$f":"IF(INDIRECT($B$2&CN$2&$A21)=\"\",\"\",INDIRECT($B$2&CN$2&$A21))","v":""},{"$f":"IF(INDIRECT($B$2&CO$2&$A21)=\"\",\"\",INDIRECT($B$2&CO$2&$A21))","v":""},null,{"$f":"IF(INDIRECT($B$2&CQ$2&$A21)=\"\",\"\",INDIRECT($B$2&CQ$2&$A21))","v":""},{"$f":"IF(INDIRECT($B$2&CR$2&$A21)=\"\",\"\",INDIRECT($B$2&CR$2&$A21))","v":""},{"$f":"IF(INDIRECT($B$2&CS$2&$A21)=\"\",\"\",INDIRECT($B$2&CS$2&$A21))","v":""}]
[42,null,null,null,null,null,null,null,null,null,null,null,null,null,null,12,{"$f":"IF(INDIRECT($B$2&$Q$2&$A22)=\"\",\"\",INDIRECT($B$2&$Q$2&$A22))","v":""},null,{"$f":"IF(INDIRECT($B$2&$S$2&$A22)=\"\",\"\",INDIRECT($B$2&$S$2&$A22))","v":0},{"$f":"IF(INDIRECT($B$2&$T$2&$A22)=\"\",\"\",INDIRECT($B$2&$T$2&$A22))","v":0},{"$f":"IF(INDIRECT($B$2&$U$2&$A22)=\"\",\"\",INDIRECT($B$2&$U$2&$A22))","v":0},{"$f":"IF(INDIRECT($B$2&$V$2&$A22)=\"\",\"\",INDIRECT($B$2&$V$2&$A22))","v":""},{"$f":"IF(INDIRECT($B$2&$W$2&$A22)=\"\",\"\",INDIRECT($B$2&$W$2&$A22))","v":""},{"$f":"IF(INDIRECT($B$2&$X$2&$A22)=\"\",\"\",INDIRECT($B$2&$X$2&$A22))","v":""},{"$f":"IF(INDIRECT($B$2&$Y$2&$A22)=\"\",\"\",INDIRECT($B$2&$Y$2&$A22))","v":""},{"$f":"IF(INDIRECT($B$2&$Z$2&$A22)=\"\",\"\",INDIRECT($B$2&$Z$2&$A22))","v":""},null,{"$f":"IF(INDIRECT($B$2&$AB$2&$A22)=\"\",\"\",INDIRECT($B$2&$AB$2&$A22))","v":""},{"$f":"IF(INDIRECT($B$2&$AC$2&$A22)=\"\",\"\",INDIRECT($B$2&$AC$2&$A22))","v":""},{"$f":"IF(INDIRECT($B$2&$AD$2&$A22)=\"\",\"\",INDIRECT($B$2&$AD$2&$A22))","v":""},{"$f":"IF(INDIRECT($B$2&$AE$2&$A22)=\"\",\"\",INDIRECT($B$2&$AE$2&$A22))","v":""},{"$f":"IF(INDIRECT($B$2&$AF$2&$A22)=\"\",\"\",INDIRECT($B$2&$AF$2&$A22))","v":""},null,null,null,null,null,null,null,null,null,null,null,null,null,null,null,{"$f":"IF(INDIRECT($B$2&AV$2&$A22)=\"\",\"\",INDIRECT($B$2&AV$2&$A22))","v":""},{"$f":"IF(INDIRECT($B$2&AW$2&$A22)=\"\",\"\",INDIRECT($B$2&AW$2&$A22))","v":""},{"$f":"IF(INDIRECT($B$2&AX$2&$A22)=\"\",\"\",INDIRECT($B$2&AX$2&$A22))","v":""},{"$f":"IF(INDIRECT($B$2&AY$2&$A22)=\"\",\"\",INDIRECT($B$2&AY$2&$A22))","v":""},{"$f":"IF(INDIRECT($B$2&AZ$2&$A22)=\"\",\"\",INDIRECT($B$2&AZ$2&$A22))","v":""},{"$f":"IF(INDIRECT($B$2&BA$2&$A22)=\"\",\"\",INDIRECT($B$2&BA$2&$A22))","v":""},{"$f":"IF(INDIRECT($B$2&BB$2&$A22)=\"\",\"\",INDIRECT($B$2&BB$2&$A22))","v":""},{"$f":"IF(INDIRECT($B$2&BC$2&$A22)=\"\",\"\",INDIRECT($B$2&BC$2&$A22))","v":""},{"$f":"IF(INDIRECT($B$2&BD$2&$A22)=\"\",\"\",INDIRECT($B$2&BD$2&$A22))","v":""},{"$f":"IF(INDIRECT($B$2&BE$2&$A22)=\"\",\"\",INDIRECT($B$2&BE$2&$A22))","v":""},{"$f":"IF(INDIRECT($B$2&BF$2&$A22)=\"\",\"\",INDIRECT($B$2&BF$2&$A22))","v":""},{"$f":"IF(INDIRECT($B$2&BG$2&$A22)=\"\",\"\",INDIRECT($B$2&BG$2&$A22))","v":""},{"$f":"IF(INDIRECT($B$2&BH$2&$A22)=\"\",\"\",INDIRECT($B$2&BH$2&$A22))","v":""},{"$f":"IF(INDIRECT($B$2&BI$2&$A22)=\"\",\"\",INDIRECT($B$2&BI$2&$A22))","v":""},{"$f":"IF(INDIRECT($B$2&BJ$2&$A22)=\"\",\"\",INDIRECT($B$2&BJ$2&$A22))","v":""},{"$f":"IF(INDIRECT($B$2&BK$2&$A22)=\"\",\"\",INDIRECT($B$2&BK$2&$A22))","v":0},{"$f":"IF(INDIRECT($B$2&BL$2&$A22)=\"\",\"\",INDIRECT($B$2&BL$2&$A22))","v":""},{"$f":"IF(INDIRECT($B$2&BM$2&$A22)=\"\",\"\",INDIRECT($B$2&BM$2&$A22))","v":""},{"$f":"IF(INDIRECT($B$2&BN$2&$A22)=\"\",\"\",INDIRECT($B$2&BN$2&$A22))","v":""},{"$f":"IF(INDIRECT($B$2&BO$2&$A22)=\"\",\"\",INDIRECT($B$2&BO$2&$A22))","v":""},{"$f":"IF(INDIRECT($B$2&BP$2&$A22)=\"\",\"\",INDIRECT($B$2&BP$2&$A22))","v":""},{"$f":"IF(INDIRECT($B$2&BQ$2&$A22)=\"\",\"\",INDIRECT($B$2&BQ$2&$A22))","v":""},{"$f":"IF(INDIRECT($B$2&BR$2&$A22)=\"\",\"\",INDIRECT($B$2&BR$2&$A22))","v":""},{"$f":"IF(INDIRECT($B$2&BS$2&$A22)=\"\",\"\",INDIRECT($B$2&BS$2&$A22))","v":""},{"$f":"IF(INDIRECT($B$2&BT$2&$A22)=\"\",\"\",INDIRECT($B$2&BT$2&$A22))","v":""},{"$f":"IF(INDIRECT($B$2&BU$2&$A22)=\"\",\"\",INDIRECT($B$2&BU$2&$A22))","v":""},{"$f":"IF(INDIRECT($B$2&BV$2&$A22)=\"\",\"\",INDIRECT($B$2&BV$2&$A22))","v":""},{"$f":"IF(INDIRECT($B$2&BW$2&$A22)=\"\",\"\",INDIRECT($B$2&BW$2&$A22))","v":""},{"$f":"IF(INDIRECT($B$2&BX$2&$A22)=\"\",\"\",INDIRECT($B$2&BX$2&$A22))","v":""},{"$f":"IF(INDIRECT($B$2&BY$2&$A22)=\"\",\"\",INDIRECT($B$2&BY$2&$A22))","v":""},{"$f":"IF(INDIRECT($B$2&BZ$2&$A22)=\"\",\"\",INDIRECT($B$2&BZ$2&$A22))","v":0},{"$f":"IF(INDIRECT($B$2&CA$2&$A22)=\"\",\"\",INDIRECT($B$2&CA$2&$A22))","v":""},{"$f":"IF(INDIRECT($B$2&CB$2&$A22)=\"\",\"\",INDIRECT($B$2&CB$2&$A22))","v":""},{"$f":"IF(INDIRECT($B$2&CC$2&$A22)=\"\",\"\",INDIRECT($B$2&CC$2&$A22))","v":""},{"$f":"IF(INDIRECT($B$2&CD$2&$A22)=\"\",\"\",INDIRECT($B$2&CD$2&$A22))","v":""},{"$f":"IF(INDIRECT($B$2&CE$2&$A22)=\"\",\"\",INDIRECT($B$2&CE$2&$A22))","v":""},{"$f":"IF(INDIRECT($B$2&CF$2&$A22)=\"\",\"\",INDIRECT($B$2&CF$2&$A22))","v":""},{"$f":"IF(INDIRECT($B$2&CG$2&$A22)=\"\",\"\",INDIRECT($B$2&CG$2&$A22))","v":""},{"$f":"IF(INDIRECT($B$2&CH$2&$A22)=\"\",\"\",INDIRECT($B$2&CH$2&$A22))","v":""},{"$f":"IF(INDIRECT($B$2&CI$2&$A22)=\"\",\"\",INDIRECT($B$2&CI$2&$A22))","v":""},{"$f":"IF(INDIRECT($B$2&CJ$2&$A22)=\"\",\"\",INDIRECT($B$2&CJ$2&$A22))","v":""},{"$f":"IF(INDIRECT($B$2&CK$2&$A22)=\"\",\"\",INDIRECT($B$2&CK$2&$A22))","v":""},{"$f":"IF(INDIRECT($B$2&CL$2&$A22)=\"\",\"\",INDIRECT($B$2&CL$2&$A22))","v":""},{"$f":"IF(INDIRECT($B$2&CM$2&$A22)=\"\",\"\",INDIRECT($B$2&CM$2&$A22))","v":""},{"$f":"IF(INDIRECT($B$2&CN$2&$A22)=\"\",\"\",INDIRECT($B$2&CN$2&$A22))","v":""},{"$f":"IF(INDIRECT($B$2&CO$2&$A22)=\"\",\"\",INDIRECT($B$2&CO$2&$A22))","v":""},null,{"$f":"IF(INDIRECT($B$2&CQ$2&$A22)=\"\",\"\",INDIRECT($B$2&CQ$2&$A22))","v":""},{"$f":"IF(INDIRECT($B$2&CR$2&$A22)=\"\",\"\",INDIRECT($B$2&CR$2&$A22))","v":""},{"$f":"IF(INDIRECT($B$2&CS$2&$A22)=\"\",\"\",INDIRECT($B$2&CS$2&$A22))","v":""}]
[43,null,null,null,null,null,null,null,null,null,null,null,null,null,null,13,{"$f":"IF(INDIRECT($B$2&$Q$2&$A23)=\"\",\"\",INDIRECT($B$2&$Q$2&$A23))","v":""},null,{"$f":"IF(INDIRECT($B$2&$S$2&$A23)=\"\",\"\",INDIRECT($B$2&$S$2&$A23))","v":0},{"$f":"IF(INDIRECT($B$2&$T$2&$A23)=\"\",\"\",INDIRECT($B$2&$T$2&$A23))","v":0},{"$f":"IF(INDIRECT($B$2&$U$2&$A23)=\"\",\"\",INDIRECT($B$2&$U$2&$A23))","v":0},{"$f":"IF(INDIRECT($B$2&$V$2&$A23)=\"\",\"\",INDIRECT($B$2&$V$2&$A23))","v":""},{"$f":"IF(INDIRECT($B$2&$W$2&$A23)=\"\",\"\",INDIRECT($B$2&$W$2&$A23))","v":""},{"$f":"IF(INDIRECT($B$2&$X$2&$A23)=\"\",\"\",INDIRECT($B$2&$X$2&$A23))","v":""},{"$f":"IF(INDIRECT($B$2&$Y$2&$A23)=\"\",\"\",INDIRECT($B$2&$Y$2&$A23))","v":""},{"$f":"IF(INDIRECT($B$2&$Z$2&$A23)=\"\",\"\",INDIRECT($B$2&$Z$2&$A23))","v":""},null,{"$f":"IF(INDIRECT($B$2&$AB$2&$A23)=\"\",\"\",INDIRECT($B$2&$AB$2&$A23))","v":""},{"$f":"IF(INDIRECT($B$2&$AC$2&$A23)=\"\",\"\",INDIRECT($B$2&$AC$2&$A23))","v":""},{"$f":"IF(INDIRECT($B$2&$AD$2&$A23)=\"\",\"\",INDIRECT($B$2&$AD$2&$A23))","v":""},{"$f":"IF(INDIRECT($B$2&$AE$2&$A23)=\"\",\"\",INDIRECT($B$2&$AE$2&$A23))","v":""},{"$f":"IF(INDIRECT($B$2&$AF$2&$A23)=\"\",\"\",INDIRECT($B$2&$AF$2&$A23))","v":""},null,null,null,null,null,null,null,null,null,null,null,null,null,null,null,{"$f":"IF(INDIRECT($B$2&AV$2&$A23)=\"\",\"\",INDIRECT($B$2&AV$2&$A23))","v":""},{"$f":"IF(INDIRECT($B$2&AW$2&$A23)=\"\",\"\",INDIRECT($B$2&AW$2&$A23))","v":""},{"$f":"IF(INDIRECT($B$2&AX$2&$A23)=\"\",\"\",INDIRECT($B$2&AX$2&$A23))","v":""},{"$f":"IF(INDIRECT($B$2&AY$2&$A23)=\"\",\"\",INDIRECT($B$2&AY$2&$A23))","v":""},{"$f":"IF(INDIRECT($B$2&AZ$2&$A23)=\"\",\"\",INDIRECT($B$2&AZ$2&$A23))","v":""},{"$f":"IF(INDIRECT($B$2&BA$2&$A23)=\"\",\"\",INDIRECT($B$2&BA$2&$A23))","v":""},{"$f":"IF(INDIRECT($B$2&BB$2&$A23)=\"\",\"\",INDIRECT($B$2&BB$2&$A23))","v":""},{"$f":"IF(INDIRECT($B$2&BC$2&$A23)=\"\",\"\",INDIRECT($B$2&BC$2&$A23))","v":""},{"$f":"IF(INDIRECT($B$2&BD$2&$A23)=\"\",\"\",INDIRECT($B$2&BD$2&$A23))","v":""},{"$f":"IF(INDIRECT($B$2&BE$2&$A23)=\"\",\"\",INDIRECT($B$2&BE$2&$A23))","v":""},{"$f":"IF(INDIRECT($B$2&BF$2&$A23)=\"\",\"\",INDIRECT($B$2&BF$2&$A23))","v":""},{"$f":"IF(INDIRECT($B$2&BG$2&$A23)=\"\",\"\",INDIRECT($B$2&BG$2&$A23))","v":""},{"$f":"IF(INDIRECT($B$2&BH$2&$A23)=\"\",\"\",INDIRECT($B$2&BH$2&$A23))","v":""},{"$f":"IF(INDIRECT($B$2&BI$2&$A23)=\"\",\"\",INDIRECT($B$2&BI$2&$A23))","v":""},{"$f":"IF(INDIRECT($B$2&BJ$2&$A23)=\"\",\"\",INDIRECT($B$2&BJ$2&$A23))","v":""},{"$f":"IF(INDIRECT($B$2&BK$2&$A23)=\"\",\"\",INDIRECT($B$2&BK$2&$A23))","v":0},{"$f":"IF(INDIRECT($B$2&BL$2&$A23)=\"\",\"\",INDIRECT($B$2&BL$2&$A23))","v":""},{"$f":"IF(INDIRECT($B$2&BM$2&$A23)=\"\",\"\",INDIRECT($B$2&BM$2&$A23))","v":""},{"$f":"IF(INDIRECT($B$2&BN$2&$A23)=\"\",\"\",INDIRECT($B$2&BN$2&$A23))","v":""},{"$f":"IF(INDIRECT($B$2&BO$2&$A23)=\"\",\"\",INDIRECT($B$2&BO$2&$A23))","v":""},{"$f":"IF(INDIRECT($B$2&BP$2&$A23)=\"\",\"\",INDIRECT($B$2&BP$2&$A23))","v":""},{"$f":"IF(INDIRECT($B$2&BQ$2&$A23)=\"\",\"\",INDIRECT($B$2&BQ$2&$A23))","v":""},{"$f":"IF(INDIRECT($B$2&BR$2&$A23)=\"\",\"\",INDIRECT($B$2&BR$2&$A23))","v":""},{"$f":"IF(INDIRECT($B$2&BS$2&$A23)=\"\",\"\",INDIRECT($B$2&BS$2&$A23))","v":""},{"$f":"IF(INDIRECT($B$2&BT$2&$A23)=\"\",\"\",INDIRECT($B$2&BT$2&$A23))","v":""},{"$f":"IF(INDIRECT($B$2&BU$2&$A23)=\"\",\"\",INDIRECT($B$2&BU$2&$A23))","v":""},{"$f":"IF(INDIRECT($B$2&BV$2&$A23)=\"\",\"\",INDIRECT($B$2&BV$2&$A23))","v":""},{"$f":"IF(INDIRECT($B$2&BW$2&$A23)=\"\",\"\",INDIRECT($B$2&BW$2&$A23))","v":""},{"$f":"IF(INDIRECT($B$2&BX$2&$A23)=\"\",\"\",INDIRECT($B$2&BX$2&$A23))","v":""},{"$f":"IF(INDIRECT($B$2&BY$2&$A23)=\"\",\"\",INDIRECT($B$2&BY$2&$A23))","v":""},{"$f":"IF(INDIRECT($B$2&BZ$2&$A23)=\"\",\"\",INDIRECT($B$2&BZ$2&$A23))","v":0},{"$f":"IF(INDIRECT($B$2&CA$2&$A23)=\"\",\"\",INDIRECT($B$2&CA$2&$A23))","v":""},{"$f":"IF(INDIRECT($B$2&CB$2&$A23)=\"\",\"\",INDIRECT($B$2&CB$2&$A23))","v":""},{"$f":"IF(INDIRECT($B$2&CC$2&$A23)=\"\",\"\",INDIRECT($B$2&CC$2&$A23))","v":""},{"$f":"IF(INDIRECT($B$2&CD$2&$A23)=\"\",\"\",INDIRECT($B$2&CD$2&$A23))","v":""},{"$f":"IF(INDIRECT($B$2&CE$2&$A23)=\"\",\"\",INDIRECT($B$2&CE$2&$A23))","v":""},{"$f":"IF(INDIRECT($B$2&CF$2&$A23)=\"\",\"\",INDIRECT($B$2&CF$2&$A23))","v":""},{"$f":"IF(INDIRECT($B$2&CG$2&$A23)=\"\",\"\",INDIRECT($B$2&CG$2&$A23))","v":""},{"$f":"IF(INDIRECT($B$2&CH$2&$A23)=\"\",\"\",INDIRECT($B$2&CH$2&$A23))","v":""},{"$f":"IF(INDIRECT($B$2&CI$2&$A23)=\"\",\"\",INDIRECT($B$2&CI$2&$A23))","v":""},{"$f":"IF(INDIRECT($B$2&CJ$2&$A23)=\"\",\"\",INDIRECT($B$2&CJ$2&$A23))","v":""},{"$f":"IF(INDIRECT($B$2&CK$2&$A23)=\"\",\"\",INDIRECT($B$2&CK$2&$A23))","v":""},{"$f":"IF(INDIRECT($B$2&CL$2&$A23)=\"\",\"\",INDIRECT($B$2&CL$2&$A23))","v":""},{"$f":"IF(INDIRECT($B$2&CM$2&$A23)=\"\",\"\",INDIRECT($B$2&CM$2&$A23))","v":""},{"$f":"IF(INDIRECT($B$2&CN$2&$A23)=\"\",\"\",INDIRECT($B$2&CN$2&$A23))","v":""},{"$f":"IF(INDIRECT($B$2&CO$2&$A23)=\"\",\"\",INDIRECT($B$2&CO$2&$A23))","v":""},null,{"$f":"IF(INDIRECT($B$2&CQ$2&$A23)=\"\",\"\",INDIRECT($B$2&CQ$2&$A23))","v":""},{"$f":"IF(INDIRECT($B$2&CR$2&$A23)=\"\",\"\",INDIRECT($B$2&CR$2&$A23))","v":""},{"$f":"IF(INDIRECT($B$2&CS$2&$A23)=\"\",\"\",INDIRECT($B$2&CS$2&$A23))","v":""}]
[44,null,null,null,null,null,null,null,null,null,null,null,null,null,null,14,{"$f":"IF(INDIRECT($B$2&$Q$2&$A24)=\"\",\"\",INDIRECT($B$2&$Q$2&$A24))","v":""},null,{"$f":"IF(INDIRECT($B$2&$S$2&$A24)=\"\",\"\",INDIRECT($B$2&$S$2&$A24))","v":0},{"$f":"IF(INDIRECT($B$2&$T$2&$A24)=\"\",\"\",INDIRECT($B$2&$T$2&$A24))","v":0},{"$f":"IF(INDIRECT($B$2&$U$2&$A24)=\"\",\"\",INDIRECT($B$2&$U$2&$A24))","v":0},{"$f":"IF(INDIRECT($B$2&$V$2&$A24)=\"\",\"\",INDIRECT($B$2&$V$2&$A24))","v":""},{"$f":"IF(INDIRECT($B$2&$W$2&$A24)=\"\",\"\",INDIRECT($B$2&$W$2&$A24))","v":""},{"$f":"IF(INDIRECT($B$2&$X$2&$A24)=\"\",\"\",INDIRECT($B$2&$X$2&$A24))","v":""},{"$f":"IF(INDIRECT($B$2&$Y$2&$A24)=\"\",\"\",INDIRECT($B$2&$Y$2&$A24))","v":""},{"$f":"IF(INDIRECT($B$2&$Z$2&$A24)=\"\",\"\",INDIRECT($B$2&$Z$2&$A24))","v":""},null,{"$f":"IF(INDIRECT($B$2&$AB$2&$A24)=\"\",\"\",INDIRECT($B$2&$AB$2&$A24))","v":""},{"$f":"IF(INDIRECT($B$2&$AC$2&$A24)=\"\",\"\",INDIRECT($B$2&$AC$2&$A24))","v":""},{"$f":"IF(INDIRECT($B$2&$AD$2&$A24)=\"\",\"\",INDIRECT($B$2&$AD$2&$A24))","v":""},{"$f":"IF(INDIRECT($B$2&$AE$2&$A24)=\"\",\"\",INDIRECT($B$2&$AE$2&$A24))","v":""},{"$f":"IF(INDIRECT($B$2&$AF$2&$A24)=\"\",\"\",INDIRECT($B$2&$AF$2&$A24))","v":""},null,null,null,null,null,null,null,null,null,null,null,null,null,null,null,{"$f":"IF(INDIRECT($B$2&AV$2&$A24)=\"\",\"\",INDIRECT($B$2&AV$2&$A24))","v":""},{"$f":"IF(INDIRECT($B$2&AW$2&$A24)=\"\",\"\",INDIRECT($B$2&AW$2&$A24))","v":""},{"$f":"IF(INDIRECT($B$2&AX$2&$A24)=\"\",\"\",INDIRECT($B$2&AX$2&$A24))","v":""},{"$f":"IF(INDIRECT($B$2&AY$2&$A24)=\"\",\"\",INDIRECT($B$2&AY$2&$A24))","v":""},{"$f":"IF(INDIRECT($B$2&AZ$2&$A24)=\"\",\"\",INDIRECT($B$2&AZ$2&$A24))","v":""},{"$f":"IF(INDIRECT($B$2&BA$2&$A24)=\"\",\"\",INDIRECT($B$2&BA$2&$A24))","v":""},{"$f":"IF(INDIRECT($B$2&BB$2&$A24)=\"\",\"\",INDIRECT($B$2&BB$2&$A24))","v":""},{"$f":"IF(INDIRECT($B$2&BC$2&$A24)=\"\",\"\",INDIRECT($B$2&BC$2&$A24))","v":""},{"$f":"IF(INDIRECT($B$2&BD$2&$A24)=\"\",\"\",INDIRECT($B$2&BD$2&$A24))","v":""},{"$f":"IF(INDIRECT($B$2&BE$2&$A24)=\"\",\"\",INDIRECT($B$2&BE$2&$A24))","v":""},{"$f":"IF(INDIRECT($B$2&BF$2&$A24)=\"\",\"\",INDIRECT($B$2&BF$2&$A24))","v":""},{"$f":"IF(INDIRECT($B$2&BG$2&$A24)=\"\",\"\",INDIRECT($B$2&BG$2&$A24))","v":""},{"$f":"IF(INDIRECT($B$2&BH$2&$A24)=\"\",\"\",INDIRECT($B$2&BH$2&$A24))","v":""},{"$f":"IF(INDIRECT($B$2&BI$2&$A24)=\"\",\"\",INDIRECT($B$2&BI$2&$A24))","v":""},{"$f":"IF(INDIRECT($B$2&BJ$2&$A24)=\"\",\"\",INDIRECT($B$2&BJ$2&$A24))","v":""},{"$f":"IF(INDIRECT($B$2&BK$2&$A24)=\"\",\"\",INDIRECT($B$2&BK$2&$A24))","v":0},{"$f":"IF(INDIRECT($B$2&BL$2&$A24)=\"\",\"\",INDIRECT($B$2&BL$2&$A24))","v":""},{"$f":"IF(INDIRECT($B$2&BM$2&$A24)=\"\",\"\",INDIRECT($B$2&BM$2&$A24))","v":""},{"$f":"IF(INDIRECT($B$2&BN$2&$A24)=\"\",\"\",INDIRECT($B$2&BN$2&$A24))","v":""},{"$f":"IF(INDIRECT($B$2&BO$2&$A24)=\"\",\"\",INDIRECT($B$2&BO$2&$A24))","v":""},{"$f":"IF(INDIRECT($B$2&BP$2&$A24)=\"\",\"\",INDIRECT($B$2&BP$2&$A24))","v":""},{"$f":"IF(INDIRECT($B$2&BQ$2&$A24)=\"\",\"\",INDIRECT($B$2&BQ$2&$A24))","v":""},{"$f":"IF(INDIRECT($B$2&BR$2&$A24)=\"\",\"\",INDIRECT($B$2&BR$2&$A24))","v":""},{"$f":"IF(INDIRECT($B$2&BS$2&$A24)=\"\",\"\",INDIRECT($B$2&BS$2&$A24))","v":""},{"$f":"IF(INDIRECT($B$2&BT$2&$A24)=\"\",\"\",INDIRECT($B$2&BT$2&$A24))","v":""},{"$f":"IF(INDIRECT($B$2&BU$2&$A24)=\"\",\"\",INDIRECT($B$2&BU$2&$A24))","v":""},{"$f":"IF(INDIRECT($B$2&BV$2&$A24)=\"\",\"\",INDIRECT($B$2&BV$2&$A24))","v":""},{"$f":"IF(INDIRECT($B$2&BW$2&$A24)=\"\",\"\",INDIRECT($B$2&BW$2&$A24))","v":""},{"$f":"IF(INDIRECT($B$2&BX$2&$A24)=\"\",\"\",INDIRECT($B$2&BX$2&$A24))","v":""},{"$f":"IF(INDIRECT($B$2&BY$2&$A24)=\"\",\"\",INDIRECT($B$2&BY$2&$A24))","v":""},{"$f":"IF(INDIRECT($B$2&BZ$2&$A24)=\"\",\"\",INDIRECT($B$2&BZ$2&$A24))","v":0},{"$f":"IF(INDIRECT($B$2&CA$2&$A24)=\"\",\"\",INDIRECT($B$2&CA$2&$A24))","v":""},{"$f":"IF(INDIRECT($B$2&CB$2&$A24)=\"\",\"\",INDIRECT($B$2&CB$2&$A24))","v":""},{"$f":"IF(INDIRECT($B$2&CC$2&$A24)=\"\",\"\",INDIRECT($B$2&CC$2&$A24))","v":""},{"$f":"IF(INDIRECT($B$2&CD$2&$A24)=\"\",\"\",INDIRECT($B$2&CD$2&$A24))","v":""},{"$f":"IF(INDIRECT($B$2&CE$2&$A24)=\"\",\"\",INDIRECT($B$2&CE$2&$A24))","v":""},{"$f":"IF(INDIRECT($B$2&CF$2&$A24)=\"\",\"\",INDIRECT($B$2&CF$2&$A24))","v":""},{"$f":"IF(INDIRECT($B$2&CG$2&$A24)=\"\",\"\",INDIRECT($B$2&CG$2&$A24))","v":""},{"$f":"IF(INDIRECT($B$2&CH$2&$A24)=\"\",\"\",INDIRECT($B$2&CH$2&$A24))","v":""},{"$f":"IF(INDIRECT($B$2&CI$2&$A24)=\"\",\"\",INDIRECT($B$2&CI$2&$A24))","v":""},{"$f":"IF(INDIRECT($B$2&CJ$2&$A24)=\"\",\"\",INDIRECT($B$2&CJ$2&$A24))","v":""},{"$f":"IF(INDIRECT($B$2&CK$2&$A24)=\"\",\"\",INDIRECT($B$2&CK$2&$A24))","v":""},{"$f":"IF(INDIRECT($B$2&CL$2&$A24)=\"\",\"\",INDIRECT($B$2&CL$2&$A24))","v":""},{"$f":"IF(INDIRECT($B$2&CM$2&$A24)=\"\",\"\",INDIRECT($B$2&CM$2&$A24))","v":""},{"$f":"IF(INDIRECT($B$2&CN$2&$A24)=\"\",\"\",INDIRECT($B$2&CN$2&$A24))","v":""},{"$f":"IF(INDIRECT($B$2&CO$2&$A24)=\"\",\"\",INDIRECT($B$2&CO$2&$A24))","v":""},null,{"$f":"IF(INDIRECT($B$2&CQ$2&$A24)=\"\",\"\",INDIRECT($B$2&CQ$2&$A24))","v":""},{"$f":"IF(INDIRECT($B$2&CR$2&$A24)=\"\",\"\",INDIRECT($B$2&CR$2&$A24))","v":""},{"$f":"IF(INDIRECT($B$2&CS$2&$A24)=\"\",\"\",INDIRECT($B$2&CS$2&$A24))","v":""}]
[45,null,null,null,null,null,null,null,null,null,null,null,null,null,null,15,{"$f":"IF(INDIRECT($B$2&$Q$2&$A25)=\"\",\"\",INDIRECT($B$2&$Q$2&$A25))","v":""},null,{"$f":"IF(INDIRECT($B$2&$S$2&$A25)=\"\",\"\",INDIRECT($B$2&$S$2&$A25))","v":0},{"$f":"IF(INDIRECT($B$2&$T$2&$A25)=\"\",\"\",INDIRECT($B$2&$T$2&$A25))","v":0},{"$f":"IF(INDIRECT($B$2&$U$2&$A25)=\"\",\"\",INDIRECT($B$2&$U$2&$A25))","v":0},{"$f":"IF(INDIRECT($B$2&$V$2&$A25)=\"\",\"\",INDIRECT($B$2&$V$2&$A25))","v":""},{"$f":"IF(INDIRECT($B$2&$W$2&$A25)=\"\",\"\",INDIRECT($B$2&$W$2&$A25))","v":""},{"$f":"IF(INDIRECT($B$2&$X$2&$A25)=\"\",\"\",INDIRECT($B$2&$X$2&$A25))","v":""},{"$f":"IF(INDIRECT($B$2&$Y$2&$A25)=\"\",\"\",INDIRECT($B$2&$Y$2&$A25))","v":""},{"$f":"IF(INDIRECT($B$2&$Z$2&$A25)=\"\",\"\",INDIRECT($B$2&$Z$2&$A25))","v":""},null,{"$f":"IF(INDIRECT($B$2&$AB$2&$A25)=\"\",\"\",INDIRECT($B$2&$AB$2&$A25))","v":""},{"$f":"IF(INDIRECT($B$2&$AC$2&$A25)=\"\",\"\",INDIRECT($B$2&$AC$2&$A25))","v":""},{"$f":"IF(INDIRECT($B$2&$AD$2&$A25)=\"\",\"\",INDIRECT($B$2&$AD$2&$A25))","v":""},{"$f":"IF(INDIRECT($B$2&$AE$2&$A25)=\"\",\"\",INDIRECT($B$2&$AE$2&$A25))","v":""},{"$f":"IF(INDIRECT($B$2&$AF$2&$A25)=\"\",\"\",INDIRECT($B$2&$AF$2&$A25))","v":""},null,null,null,null,null,null,null,null,null,null,null,null,null,null,null,{"$f":"IF(INDIRECT($B$2&AV$2&$A25)=\"\",\"\",INDIRECT($B$2&AV$2&$A25))","v":""},{"$f":"IF(INDIRECT($B$2&AW$2&$A25)=\"\",\"\",INDIRECT($B$2&AW$2&$A25))","v":""},{"$f":"IF(INDIRECT($B$2&AX$2&$A25)=\"\",\"\",INDIRECT($B$2&AX$2&$A25))","v":""},{"$f":"IF(INDIRECT($B$2&AY$2&$A25)=\"\",\"\",INDIRECT($B$2&AY$2&$A25))","v":""},{"$f":"IF(INDIRECT($B$2&AZ$2&$A25)=\"\",\"\",INDIRECT($B$2&AZ$2&$A25))","v":""},{"$f":"IF(INDIRECT($B$2&BA$2&$A25)=\"\",\"\",INDIRECT($B$2&BA$2&$A25))","v":""},{"$f":"IF(INDIRECT($B$2&BB$2&$A25)=\"\",\"\",INDIRECT($B$2&BB$2&$A25))","v":""},{"$f":"IF(INDIRECT($B$2&BC$2&$A25)=\"\",\"\",INDIRECT($B$2&BC$2&$A25))","v":""},{"$f":"IF(INDIRECT($B$2&BD$2&$A25)=\"\",\"\",INDIRECT($B$2&BD$2&$A25))","v":""},{"$f":"IF(INDIRECT($B$2&BE$2&$A25)=\"\",\"\",INDIRECT($B$2&BE$2&$A25))","v":""},{"$f":"IF(INDIRECT($B$2&BF$2&$A25)=\"\",\"\",INDIRECT($B$2&BF$2&$A25))","v":""},{"$f":"IF(INDIRECT($B$2&BG$2&$A25)=\"\",\"\",INDIRECT($B$2&BG$2&$A25))","v":""},{"$f":"IF(INDIRECT($B$2&BH$2&$A25)=\"\",\"\",INDIRECT($B$2&BH$2&$A25))","v":""},{"$f":"IF(INDIRECT($B$2&BI$2&$A25)=\"\",\"\",INDIRECT($B$2&BI$2&$A25))","v":""},{"$f":"IF(INDIRECT($B$2&BJ$2&$A25)=\"\",\"\",INDIRECT($B$2&BJ$2&$A25))","v":""},{"$f":"IF(INDIRECT($B$2&BK$2&$A25)=\"\",\"\",INDIRECT($B$2&BK$2&$A25))","v":0},{"$f":"IF(INDIRECT($B$2&BL$2&$A25)=\"\",\"\",INDIRECT($B$2&BL$2&$A25))","v":""},{"$f":"IF(INDIRECT($B$2&BM$2&$A25)=\"\",\"\",INDIRECT($B$2&BM$2&$A25))","v":""},{"$f":"IF(INDIRECT($B$2&BN$2&$A25)=\"\",\"\",INDIRECT($B$2&BN$2&$A25))","v":""},{"$f":"IF(INDIRECT($B$2&BO$2&$A25)=\"\",\"\",INDIRECT($B$2&BO$2&$A25))","v":""},{"$f":"IF(INDIRECT($B$2&BP$2&$A25)=\"\",\"\",INDIRECT($B$2&BP$2&$A25))","v":""},{"$f":"IF(INDIRECT($B$2&BQ$2&$A25)=\"\",\"\",INDIRECT($B$2&BQ$2&$A25))","v":""},{"$f":"IF(INDIRECT($B$2&BR$2&$A25)=\"\",\"\",INDIRECT($B$2&BR$2&$A25))","v":""},{"$f":"IF(INDIRECT($B$2&BS$2&$A25)=\"\",\"\",INDIRECT($B$2&BS$2&$A25))","v":""},{"$f":"IF(INDIRECT($B$2&BT$2&$A25)=\"\",\"\",INDIRECT($B$2&BT$2&$A25))","v":""},{"$f":"IF(INDIRECT($B$2&BU$2&$A25)=\"\",\"\",INDIRECT($B$2&BU$2&$A25))","v":""},{"$f":"IF(INDIRECT($B$2&BV$2&$A25)=\"\",\"\",INDIRECT($B$2&BV$2&$A25))","v":""},{"$f":"IF(INDIRECT($B$2&BW$2&$A25)=\"\",\"\",INDIRECT($B$2&BW$2&$A25))","v":""},{"$f":"IF(INDIRECT($B$2&BX$2&$A25)=\"\",\"\",INDIRECT($B$2&BX$2&$A25))","v":""},{"$f":"IF(INDIRECT($B$2&BY$2&$A25)=\"\",\"\",INDIRECT($B$2&BY$2&$A25))","v":""},{"$f":"IF(INDIRECT($B$2&BZ$2&$A25)=\"\",\"\",INDIRECT($B$2&BZ$2&$A25))","v":0},{"$f":"IF(INDIRECT($B$2&CA$2&$A25)=\"\",\"\",INDIRECT($B$2&CA$2&$A25))","v":""},{"$f":"IF(INDIRECT($B$2&CB$2&$A25)=\"\",\"\",INDIRECT($B$2&CB$2&$A25))","v":""},{"$f":"IF(INDIRECT($B$2&CC$2&$A25)=\"\",\"\",INDIRECT($B$2&CC$2&$A25))","v":""},{"$f":"IF(INDIRECT($B$2&CD$2&$A25)=\"\",\"\",INDIRECT($B$2&CD$2&$A25))","v":""},{"$f":"IF(INDIRECT($B$2&CE$2&$A25)=\"\",\"\",INDIRECT($B$2&CE$2&$A25))","v":""},{"$f":"IF(INDIRECT($B$2&CF$2&$A25)=\"\",\"\",INDIRECT($B$2&CF$2&$A25))","v":""},{"$f":"IF(INDIRECT($B$2&CG$2&$A25)=\"\",\"\",INDIRECT($B$2&CG$2&$A25))","v":""},{"$f":"IF(INDIRECT($B$2&CH$2&$A25)=\"\",\"\",INDIRECT($B$2&CH$2&$A25))","v":""},{"$f":"IF(INDIRECT($B$2&CI$2&$A25)=\"\",\"\",INDIRECT($B$2&CI$2&$A25))","v":""},{"$f":"IF(INDIRECT($B$2&CJ$2&$A25)=\"\",\"\",INDIRECT($B$2&CJ$2&$A25))","v":""},{"$f":"IF(INDIRECT($B$2&CK$2&$A25)=\"\",\"\",INDIRECT($B$2&CK$2&$A25))","v":""},{"$f":"IF(INDIRECT($B$2&CL$2&$A25)=\"\",\"\",INDIRECT($B$2&CL$2&$A25))","v":""},{"$f":"IF(INDIRECT($B$2&CM$2&$A25)=\"\",\"\",INDIRECT($B$2&CM$2&$A25))","v":""},{"$f":"IF(INDIRECT($B$2&CN$2&$A25)=\"\",\"\",INDIRECT($B$2&CN$2&$A25))","v":""},{"$f":"IF(INDIRECT($B$2&CO$2&$A25)=\"\",\"\",INDIRECT($B$2&CO$2&$A25))","v":""},null,{"$f":"IF(INDIRECT($B$2&CQ$2&$A25)=\"\",\"\",INDIRECT($B$2&CQ$2&$A25))","v":""},{"$f":"IF(INDIRECT($B$2&CR$2&$A25)=\"\",\"\",INDIRECT($B$2&CR$2&$A25))","v":""},{"$f":"IF(INDIRECT($B$2&CS$2&$A25)=\"\",\"\",INDIRECT($B$2&CS$2&$A25))","v":""}]
[46,null,null,null,null,null,null,null,null,null,null,null,null,null,null,16,{"$f":"IF(INDIRECT($B$2&$Q$2&$A26)=\"\",\"\",INDIRECT($B$2&$Q$2&$A26))","v":"その他（要：備考欄への詳細記載）"},null,{"$f":"IF(INDIRECT($B$2&$S$2&$A26)=\"\",\"\",INDIRECT($B$2&$S$2&$A26))","v":0},{"$f":"IF(INDIRECT($B$2&$T$2&$A26)=\"\",\"\",INDIRECT($B$2&$T$2&$A26))","v":0},{"$f":"IF(INDIRECT($B$2&$U$2&$A26)=\"\",\"\",INDIRECT($B$2&$U$2&$A26))","v":0},{"$f":"IF(INDIRECT($B$2&$V$2&$A26)=\"\",\"\",INDIRECT($B$2&$V$2&$A26))","v":""},{"$f":"IF(INDIRECT($B$2&$W$2&$A26)=\"\",\"\",INDIRECT($B$2&$W$2&$A26))","v":""},{"$f":"IF(INDIRECT($B$2&$X$2&$A26)=\"\",\"\",INDIRECT($B$2&$X$2&$A26))","v":""},{"$f":"IF(INDIRECT($B$2&$Y$2&$A26)=\"\",\"\",INDIRECT($B$2&$Y$2&$A26))","v":""},{"$f":"IF(INDIRECT($B$2&$Z$2&$A26)=\"\",\"\",INDIRECT($B$2&$Z$2&$A26))","v":""},null,{"$f":"IF(INDIRECT($B$2&$AB$2&$A26)=\"\",\"\",INDIRECT($B$2&$AB$2&$A26))","v":0},{"$f":"IF(INDIRECT($B$2&$AC$2&$A26)=\"\",\"\",INDIRECT($B$2&$AC$2&$A26))","v":0},{"$f":"IF(INDIRECT($B$2&$AD$2&$A26)=\"\",\"\",INDIRECT($B$2&$AD$2&$A26))","v":0},{"$f":"IF(INDIRECT($B$2&$AE$2&$A26)=\"\",\"\",INDIRECT($B$2&$AE$2&$A26))","v":""},{"$f":"IF(INDIRECT($B$2&$AF$2&$A26)=\"\",\"\",INDIRECT($B$2&$AF$2&$A26))","v":""},null,null,null,null,null,null,null,null,null,null,null,null,null,null,null,{"$f":"IF(INDIRECT($B$2&AV$2&$A26)=\"\",\"\",INDIRECT($B$2&AV$2&$A26))","v":""},{"$f":"IF(INDIRECT($B$2&AW$2&$A26)=\"\",\"\",INDIRECT($B$2&AW$2&$A26))","v":""},{"$f":"IF(INDIRECT($B$2&AX$2&$A26)=\"\",\"\",INDIRECT($B$2&AX$2&$A26))","v":""},{"$f":"IF(INDIRECT($B$2&AY$2&$A26)=\"\",\"\",INDIRECT($B$2&AY$2&$A26))","v":""},{"$f":"IF(INDIRECT($B$2&AZ$2&$A26)=\"\",\"\",INDIRECT($B$2&AZ$2&$A26))","v":""},{"$f":"IF(INDIRECT($B$2&BA$2&$A26)=\"\",\"\",INDIRECT($B$2&BA$2&$A26))","v":""},{"$f":"IF(INDIRECT($B$2&BB$2&$A26)=\"\",\"\",INDIRECT($B$2&BB$2&$A26))","v":""},{"$f":"IF(INDIRECT($B$2&BC$2&$A26)=\"\",\"\",INDIRECT($B$2&BC$2&$A26))","v":""},{"$f":"IF(INDIRECT($B$2&BD$2&$A26)=\"\",\"\",INDIRECT($B$2&BD$2&$A26))","v":""},{"$f":"IF(INDIRECT($B$2&BE$2&$A26)=\"\",\"\",INDIRECT($B$2&BE$2&$A26))","v":""},{"$f":"IF(INDIRECT($B$2&BF$2&$A26)=\"\",\"\",INDIRECT($B$2&BF$2&$A26))","v":""},{"$f":"IF(INDIRECT($B$2&BG$2&$A26)=\"\",\"\",INDIRECT($B$2&BG$2&$A26))","v":""},{"$f":"IF(INDIRECT($B$2&BH$2&$A26)=\"\",\"\",INDIRECT($B$2&BH$2&$A26))","v":""},{"$f":"IF(INDIRECT($B$2&BI$2&$A26)=\"\",\"\",INDIRECT($B$2&BI$2&$A26))","v":""},{"$f":"IF(INDIRECT($B$2&BJ$2&$A26)=\"\",\"\",INDIRECT($B$2&BJ$2&$A26))","v":""},{"$f":"IF(INDIRECT($B$2&BK$2&$A26)=\"\",\"\",INDIRECT($B$2&BK$2&$A26))","v":0},{"$f":"IF(INDIRECT($B$2&BL$2&$A26)=\"\",\"\",INDIRECT($B$2&BL$2&$A26))","v":""},{"$f":"IF(INDIRECT($B$2&BM$2&$A26)=\"\",\"\",INDIRECT($B$2&BM$2&$A26))","v":""},{"$f":"IF(INDIRECT($B$2&BN$2&$A26)=\"\",\"\",INDIRECT($B$2&BN$2&$A26))","v":""},{"$f":"IF(INDIRECT($B$2&BO$2&$A26)=\"\",\"\",INDIRECT($B$2&BO$2&$A26))","v":""},{"$f":"IF(INDIRECT($B$2&BP$2&$A26)=\"\",\"\",INDIRECT($B$2&BP$2&$A26))","v":""},{"$f":"IF(INDIRECT($B$2&BQ$2&$A26)=\"\",\"\",INDIRECT($B$2&BQ$2&$A26))","v":""},{"$f":"IF(INDIRECT($B$2&BR$2&$A26)=\"\",\"\",INDIRECT($B$2&BR$2&$A26))","v":""},{"$f":"IF(INDIRECT($B$2&BS$2&$A26)=\"\",\"\",INDIRECT($B$2&BS$2&$A26))","v":""},{"$f":"IF(INDIRECT($B$2&BT$2&$A26)=\"\",\"\",INDIRECT($B$2&BT$2&$A26))","v":""},{"$f":"IF(INDIRECT($B$2&BU$2&$A26)=\"\",\"\",INDIRECT($B$2&BU$2&$A26))","v":""},{"$f":"IF(INDIRECT($B$2&BV$2&$A26)=\"\",\"\",INDIRECT($B$2&BV$2&$A26))","v":""},{"$f":"IF(INDIRECT($B$2&BW$2&$A26)=\"\",\"\",INDIRECT($B$2&BW$2&$A26))","v":""},{"$f":"IF(INDIRECT($B$2&BX$2&$A26)=\"\",\"\",INDIRECT($B$2&BX$2&$A26))","v":""},{"$f":"IF(INDIRECT($B$2&BY$2&$A26)=\"\",\"\",INDIRECT($B$2&BY$2&$A26))","v":""},{"$f":"IF(INDIRECT($B$2&BZ$2&$A26)=\"\",\"\",INDIRECT($B$2&BZ$2&$A26))","v":0},{"$f":"IF(INDIRECT($B$2&CA$2&$A26)=\"\",\"\",INDIRECT($B$2&CA$2&$A26))","v":""},{"$f":"IF(INDIRECT($B$2&CB$2&$A26)=\"\",\"\",INDIRECT($B$2&CB$2&$A26))","v":""},{"$f":"IF(INDIRECT($B$2&CC$2&$A26)=\"\",\"\",INDIRECT($B$2&CC$2&$A26))","v":""},{"$f":"IF(INDIRECT($B$2&CD$2&$A26)=\"\",\"\",INDIRECT($B$2&CD$2&$A26))","v":""},{"$f":"IF(INDIRECT($B$2&CE$2&$A26)=\"\",\"\",INDIRECT($B$2&CE$2&$A26))","v":""},{"$f":"IF(INDIRECT($B$2&CF$2&$A26)=\"\",\"\",INDIRECT($B$2&CF$2&$A26))","v":""},{"$f":"IF(INDIRECT($B$2&CG$2&$A26)=\"\",\"\",INDIRECT($B$2&CG$2&$A26))","v":""},{"$f":"IF(INDIRECT($B$2&CH$2&$A26)=\"\",\"\",INDIRECT($B$2&CH$2&$A26))","v":""},{"$f":"IF(INDIRECT($B$2&CI$2&$A26)=\"\",\"\",INDIRECT($B$2&CI$2&$A26))","v":""},{"$f":"IF(INDIRECT($B$2&CJ$2&$A26)=\"\",\"\",INDIRECT($B$2&CJ$2&$A26))","v":""},{"$f":"IF(INDIRECT($B$2&CK$2&$A26)=\"\",\"\",INDIRECT($B$2&CK$2&$A26))","v":""},{"$f":"IF(INDIRECT($B$2&CL$2&$A26)=\"\",\"\",INDIRECT($B$2&CL$2&$A26))","v":""},{"$f":"IF(INDIRECT($B$2&CM$2&$A26)=\"\",\"\",INDIRECT($B$2&CM$2&$A26))","v":""},{"$f":"IF(INDIRECT($B$2&CN$2&$A26)=\"\",\"\",INDIRECT($B$2&CN$2&$A26))","v":""},{"$f":"IF(INDIRECT($B$2&CO$2&$A26)=\"\",\"\",INDIRECT($B$2&CO$2&$A26))","v":""},null,{"$f":"IF(INDIRECT($B$2&CQ$2&$A26)=\"\",\"\",INDIRECT($B$2&CQ$2&$A26))","v":"---"},{"$f":"IF(INDIRECT($B$2&CR$2&$A26)=\"\",\"\",INDIRECT($B$2&CR$2&$A26))","v":"---"},{"$f":"IF(INDIRECT($B$2&CS$2&$A26)=\"\",\"\",INDIRECT($B$2&CS$2&$A26))","v":"---"}]
[47,null,null,null,null,null,null,null,null,null,null,null,null,null,null,17,{"$f":"IF(INDIRECT($B$2&$Q$2&$A27)=\"\",\"\",INDIRECT($B$2&$Q$2&$A27))","v":"その他（要：備考欄への詳細記載）"},null,{"$f":"IF(INDIRECT($B$2&$S$2&$A27)=\"\",\"\",INDIRECT($B$2&$S$2&$A27))","v":0},{"$f":"IF(INDIRECT($B$2&$T$2&$A27)=\"\",\"\",INDIRECT($B$2&$T$2&$A27))","v":0},{"$f":"IF(INDIRECT($B$2&$U$2&$A27)=\"\",\"\",INDIRECT($B$2&$U$2&$A27))","v":0},{"$f":"IF(INDIRECT($B$2&$V$2&$A27)=\"\",\"\",INDIRECT($B$2&$V$2&$A27))","v":""},{"$f":"IF(INDIRECT($B$2&$W$2&$A27)=\"\",\"\",INDIRECT($B$2&$W$2&$A27))","v":""},{"$f":"IF(INDIRECT($B$2&$X$2&$A27)=\"\",\"\",INDIRECT($B$2&$X$2&$A27))","v":""},{"$f":"IF(INDIRECT($B$2&$Y$2&$A27)=\"\",\"\",INDIRECT($B$2&$Y$2&$A27))","v":""},{"$f":"IF(INDIRECT($B$2&$Z$2&$A27)=\"\",\"\",INDIRECT($B$2&$Z$2&$A27))","v":""},null,{"$f":"IF(INDIRECT($B$2&$AB$2&$A27)=\"\",\"\",INDIRECT($B$2&$AB$2&$A27))","v":0},{"$f":"IF(INDIRECT($B$2&$AC$2&$A27)=\"\",\"\",INDIRECT($B$2&$AC$2&$A27))","v":0},{"$f":"IF(INDIRECT($B$2&$AD$2&$A27)=\"\",\"\",INDIRECT($B$2&$AD$2&$A27))","v":0},{"$f":"IF(INDIRECT($B$2&$AE$2&$A27)=\"\",\"\",INDIRECT($B$2&$AE$2&$A27))","v":""},{"$f":"IF(INDIRECT($B$2&$AF$2&$A27)=\"\",\"\",INDIRECT($B$2&$AF$2&$A27))","v":""},null,null,null,null,null,null,null,null,null,null,null,null,null,null,null,{"$f":"IF(INDIRECT($B$2&AV$2&$A27)=\"\",\"\",INDIRECT($B$2&AV$2&$A27))","v":""},{"$f":"IF(INDIRECT($B$2&AW$2&$A27)=\"\",\"\",INDIRECT($B$2&AW$2&$A27))","v":""},{"$f":"IF(INDIRECT($B$2&AX$2&$A27)=\"\",\"\",INDIRECT($B$2&AX$2&$A27))","v":""},{"$f":"IF(INDIRECT($B$2&AY$2&$A27)=\"\",\"\",INDIRECT($B$2&AY$2&$A27))","v":""},{"$f":"IF(INDIRECT($B$2&AZ$2&$A27)=\"\",\"\",INDIRECT($B$2&AZ$2&$A27))","v":""},{"$f":"IF(INDIRECT($B$2&BA$2&$A27)=\"\",\"\",INDIRECT($B$2&BA$2&$A27))","v":""},{"$f":"IF(INDIRECT($B$2&BB$2&$A27)=\"\",\"\",INDIRECT($B$2&BB$2&$A27))","v":""},{"$f":"IF(INDIRECT($B$2&BC$2&$A27)=\"\",\"\",INDIRECT($B$2&BC$2&$A27))","v":""},{"$f":"IF(INDIRECT($B$2&BD$2&$A27)=\"\",\"\",INDIRECT($B$2&BD$2&$A27))","v":""},{"$f":"IF(INDIRECT($B$2&BE$2&$A27)=\"\",\"\",INDIRECT($B$2&BE$2&$A27))","v":""},{"$f":"IF(INDIRECT($B$2&BF$2&$A27)=\"\",\"\",INDIRECT($B$2&BF$2&$A27))","v":""},{"$f":"IF(INDIRECT($B$2&BG$2&$A27)=\"\",\"\",INDIRECT($B$2&BG$2&$A27))","v":""},{"$f":"IF(INDIRECT($B$2&BH$2&$A27)=\"\",\"\",INDIRECT($B$2&BH$2&$A27))","v":""},{"$f":"IF(INDIRECT($B$2&BI$2&$A27)=\"\",\"\",INDIRECT($B$2&BI$2&$A27))","v":""},{"$f":"IF(INDIRECT($B$2&BJ$2&$A27)=\"\",\"\",INDIRECT($B$2&BJ$2&$A27))","v":""},{"$f":"IF(INDIRECT($B$2&BK$2&$A27)=\"\",\"\",INDIRECT($B$2&BK$2&$A27))","v":0},{"$f":"IF(INDIRECT($B$2&BL$2&$A27)=\"\",\"\",INDIRECT($B$2&BL$2&$A27))","v":""},{"$f":"IF(INDIRECT($B$2&BM$2&$A27)=\"\",\"\",INDIRECT($B$2&BM$2&$A27))","v":""},{"$f":"IF(INDIRECT($B$2&BN$2&$A27)=\"\",\"\",INDIRECT($B$2&BN$2&$A27))","v":""},{"$f":"IF(INDIRECT($B$2&BO$2&$A27)=\"\",\"\",INDIRECT($B$2&BO$2&$A27))","v":""},{"$f":"IF(INDIRECT($B$2&BP$2&$A27)=\"\",\"\",INDIRECT($B$2&BP$2&$A27))","v":""},{"$f":"IF(INDIRECT($B$2&BQ$2&$A27)=\"\",\"\",INDIRECT($B$2&BQ$2&$A27))","v":""},{"$f":"IF(INDIRECT($B$2&BR$2&$A27)=\"\",\"\",INDIRECT($B$2&BR$2&$A27))","v":""},{"$f":"IF(INDIRECT($B$2&BS$2&$A27)=\"\",\"\",INDIRECT($B$2&BS$2&$A27))","v":""},{"$f":"IF(INDIRECT($B$2&BT$2&$A27)=\"\",\"\",INDIRECT($B$2&BT$2&$A27))","v":""},{"$f":"IF(INDIRECT($B$2&BU$2&$A27)=\"\",\"\",INDIRECT($B$2&BU$2&$A27))","v":""},{"$f":"IF(INDIRECT($B$2&BV$2&$A27)=\"\",\"\",INDIRECT($B$2&BV$2&$A27))","v":""},{"$f":"IF(INDIRECT($B$2&BW$2&$A27)=\"\",\"\",INDIRECT($B$2&BW$2&$A27))","v":""},{"$f":"IF(INDIRECT($B$2&BX$2&$A27)=\"\",\"\",INDIRECT($B$2&BX$2&$A27))","v":""},{"$f":"IF(INDIRECT($B$2&BY$2&$A27)=\"\",\"\",INDIRECT($B$2&BY$2&$A27))","v":""},{"$f":"IF(INDIRECT($B$2&BZ$2&$A27)=\"\",\"\",INDIRECT($B$2&BZ$2&$A27))","v":0},{"$f":"IF(INDIRECT($B$2&CA$2&$A27)=\"\",\"\",INDIRECT($B$2&CA$2&$A27))","v":""},{"$f":"IF(INDIRECT($B$2&CB$2&$A27)=\"\",\"\",INDIRECT($B$2&CB$2&$A27))","v":""},{"$f":"IF(INDIRECT($B$2&CC$2&$A27)=\"\",\"\",INDIRECT($B$2&CC$2&$A27))","v":""},{"$f":"IF(INDIRECT($B$2&CD$2&$A27)=\"\",\"\",INDIRECT($B$2&CD$2&$A27))","v":""},{"$f":"IF(INDIRECT($B$2&CE$2&$A27)=\"\",\"\",INDIRECT($B$2&CE$2&$A27))","v":""},{"$f":"IF(INDIRECT($B$2&CF$2&$A27)=\"\",\"\",INDIRECT($B$2&CF$2&$A27))","v":""},{"$f":"IF(INDIRECT($B$2&CG$2&$A27)=\"\",\"\",INDIRECT($B$2&CG$2&$A27))","v":""},{"$f":"IF(INDIRECT($B$2&CH$2&$A27)=\"\",\"\",INDIRECT($B$2&CH$2&$A27))","v":""},{"$f":"IF(INDIRECT($B$2&CI$2&$A27)=\"\",\"\",INDIRECT($B$2&CI$2&$A27))","v":""},{"$f":"IF(INDIRECT($B$2&CJ$2&$A27)=\"\",\"\",INDIRECT($B$2&CJ$2&$A27))","v":""},{"$f":"IF(INDIRECT($B$2&CK$2&$A27)=\"\",\"\",INDIRECT($B$2&CK$2&$A27))","v":""},{"$f":"IF(INDIRECT($B$2&CL$2&$A27)=\"\",\"\",INDIRECT($B$2&CL$2&$A27))","v":""},{"$f":"IF(INDIRECT($B$2&CM$2&$A27)=\"\",\"\",INDIRECT($B$2&CM$2&$A27))","v":""},{"$f":"IF(INDIRECT($B$2&CN$2&$A27)=\"\",\"\",INDIRECT($B$2&CN$2&$A27))","v":""},{"$f":"IF(INDIRECT($B$2&CO$2&$A27)=\"\",\"\",INDIRECT($B$2&CO$2&$A27))","v":""},null,{"$f":"IF(INDIRECT($B$2&CQ$2&$A27)=\"\",\"\",INDIRECT($B$2&CQ$2&$A27))","v":"---"},{"$f":"IF(INDIRECT($B$2&CR$2&$A27)=\"\",\"\",INDIRECT($B$2&CR$2&$A27))","v":"---"},{"$f":"IF(INDIRECT($B$2&CS$2&$A27)=\"\",\"\",INDIRECT($B$2&CS$2&$A27))","v":"---"}]
[48,null,null,null,null,null,null,null,null,null,null,null,null,null,null,18,{"$f":"IF(INDIRECT($B$2&$Q$2&$A28)=\"\",\"\",INDIRECT($B$2&$Q$2&$A28))","v":"その他（要：備考欄への詳細記載）"},null,{"$f":"IF(INDIRECT($B$2&$S$2&$A28)=\"\",\"\",INDIRECT($B$2&$S$2&$A28))","v":0},{"$f":"IF(INDIRECT($B$2&$T$2&$A28)=\"\",\"\",INDIRECT($B$2&$T$2&$A28))","v":0},{"$f":"IF(INDIRECT($B$2&$U$2&$A28)=\"\",\"\",INDIRECT($B$2&$U$2&$A28))","v":0},{"$f":"IF(INDIRECT($B$2&$V$2&$A28)=\"\",\"\",INDIRECT($B$2&$V$2&$A28))","v":""},{"$f":"IF(INDIRECT($B$2&$W$2&$A28)=\"\",\"\",INDIRECT($B$2&$W$2&$A28))","v":""},{"$f":"IF(INDIRECT($B$2&$X$2&$A28)=\"\",\"\",INDIRECT($B$2&$X$2&$A28))","v":""},{"$f":"IF(INDIRECT($B$2&$Y$2&$A28)=\"\",\"\",INDIRECT($B$2&$Y$2&$A28))","v":""},{"$f":"IF(INDIRECT($B$2&$Z$2&$A28)=\"\",\"\",INDIRECT($B$2&$Z$2&$A28))","v":""},null,{"$f":"IF(INDIRECT($B$2&$AB$2&$A28)=\"\",\"\",INDIRECT($B$2&$AB$2&$A28))","v":0},{"$f":"IF(INDIRECT($B$2&$AC$2&$A28)=\"\",\"\",INDIRECT($B$2&$AC$2&$A28))","v":0},{"$f":"IF(INDIRECT($B$2&$AD$2&$A28)=\"\",\"\",INDIRECT($B$2&$AD$2&$A28))","v":0},{"$f":"IF(INDIRECT($B$2&$AE$2&$A28)=\"\",\"\",INDIRECT($B$2&$AE$2&$A28))","v":""},{"$f":"IF(INDIRECT($B$2&$AF$2&$A28)=\"\",\"\",INDIRECT($B$2&$AF$2&$A28))","v":""},null,null,null,null,null,null,null,null,null,null,null,null,null,null,null,{"$f":"IF(INDIRECT($B$2&AV$2&$A28)=\"\",\"\",INDIRECT($B$2&AV$2&$A28))","v":""},{"$f":"IF(INDIRECT($B$2&AW$2&$A28)=\"\",\"\",INDIRECT($B$2&AW$2&$A28))","v":""},{"$f":"IF(INDIRECT($B$2&AX$2&$A28)=\"\",\"\",INDIRECT($B$2&AX$2&$A28))","v":""},{"$f":"IF(INDIRECT($B$2&AY$2&$A28)=\"\",\"\",INDIRECT($B$2&AY$2&$A28))","v":""},{"$f":"IF(INDIRECT($B$2&AZ$2&$A28)=\"\",\"\",INDIRECT($B$2&AZ$2&$A28))","v":""},{"$f":"IF(INDIRECT($B$2&BA$2&$A28)=\"\",\"\",INDIRECT($B$2&BA$2&$A28))","v":""},{"$f":"IF(INDIRECT($B$2&BB$2&$A28)=\"\",\"\",INDIRECT($B$2&BB$2&$A28))","v":""},{"$f":"IF(INDIRECT($B$2&BC$2&$A28)=\"\",\"\",INDIRECT($B$2&BC$2&$A28))","v":""},{"$f":"IF(INDIRECT($B$2&BD$2&$A28)=\"\",\"\",INDIRECT($B$2&BD$2&$A28))","v":""},{"$f":"IF(INDIRECT($B$2&BE$2&$A28)=\"\",\"\",INDIRECT($B$2&BE$2&$A28))","v":""},{"$f":"IF(INDIRECT($B$2&BF$2&$A28)=\"\",\"\",INDIRECT($B$2&BF$2&$A28))","v":""},{"$f":"IF(INDIRECT($B$2&BG$2&$A28)=\"\",\"\",INDIRECT($B$2&BG$2&$A28))","v":""},{"$f":"IF(INDIRECT($B$2&BH$2&$A28)=\"\",\"\",INDIRECT($B$2&BH$2&$A28))","v":""},{"$f":"IF(INDIRECT($B$2&BI$2&$A28)=\"\",\"\",INDIRECT($B$2&BI$2&$A28))","v":""},{"$f":"IF(INDIRECT($B$2&BJ$2&$A28)=\"\",\"\",INDIRECT($B$2&BJ$2&$A28))","v":""},{"$f":"IF(INDIRECT($B$2&BK$2&$A28)=\"\",\"\",INDIRECT($B$2&BK$2&$A28))","v":0},{"$f":"IF(INDIRECT($B$2&BL$2&$A28)=\"\",\"\",INDIRECT($B$2&BL$2&$A28))","v":""},{"$f":"IF(INDIRECT($B$2&BM$2&$A28)=\"\",\"\",INDIRECT($B$2&BM$2&$A28))","v":""},{"$f":"IF(INDIRECT($B$2&BN$2&$A28)=\"\",\"\",INDIRECT($B$2&BN$2&$A28))","v":""},{"$f":"IF(INDIRECT($B$2&BO$2&$A28)=\"\",\"\",INDIRECT($B$2&BO$2&$A28))","v":""},{"$f":"IF(INDIRECT($B$2&BP$2&$A28)=\"\",\"\",INDIRECT($B$2&BP$2&$A28))","v":""},{"$f":"IF(INDIRECT($B$2&BQ$2&$A28)=\"\",\"\",INDIRECT($B$2&BQ$2&$A28))","v":""},{"$f":"IF(INDIRECT($B$2&BR$2&$A28)=\"\",\"\",INDIRECT($B$2&BR$2&$A28))","v":""},{"$f":"IF(INDIRECT($B$2&BS$2&$A28)=\"\",\"\",INDIRECT($B$2&BS$2&$A28))","v":""},{"$f":"IF(INDIRECT($B$2&BT$2&$A28)=\"\",\"\",INDIRECT($B$2&BT$2&$A28))","v":""},{"$f":"IF(INDIRECT($B$2&BU$2&$A28)=\"\",\"\",INDIRECT($B$2&BU$2&$A28))","v":""},{"$f":"IF(INDIRECT($B$2&BV$2&$A28)=\"\",\"\",INDIRECT($B$2&BV$2&$A28))","v":""},{"$f":"IF(INDIRECT($B$2&BW$2&$A28)=\"\",\"\",INDIRECT($B$2&BW$2&$A28))","v":""},{"$f":"IF(INDIRECT($B$2&BX$2&$A28)=\"\",\"\",INDIRECT($B$2&BX$2&$A28))","v":""},{"$f":"IF(INDIRECT($B$2&BY$2&$A28)=\"\",\"\",INDIRECT($B$2&BY$2&$A28))","v":""},{"$f":"IF(INDIRECT($B$2&BZ$2&$A28)=\"\",\"\",INDIRECT($B$2&BZ$2&$A28))","v":0},{"$f":"IF(INDIRECT($B$2&CA$2&$A28)=\"\",\"\",INDIRECT($B$2&CA$2&$A28))","v":""},{"$f":"IF(INDIRECT($B$2&CB$2&$A28)=\"\",\"\",INDIRECT($B$2&CB$2&$A28))","v":""},{"$f":"IF(INDIRECT($B$2&CC$2&$A28)=\"\",\"\",INDIRECT($B$2&CC$2&$A28))","v":""},{"$f":"IF(INDIRECT($B$2&CD$2&$A28)=\"\",\"\",INDIRECT($B$2&CD$2&$A28))","v":""},{"$f":"IF(INDIRECT($B$2&CE$2&$A28)=\"\",\"\",INDIRECT($B$2&CE$2&$A28))","v":""},{"$f":"IF(INDIRECT($B$2&CF$2&$A28)=\"\",\"\",INDIRECT($B$2&CF$2&$A28))","v":""},{"$f":"IF(INDIRECT($B$2&CG$2&$A28)=\"\",\"\",INDIRECT($B$2&CG$2&$A28))","v":""},{"$f":"IF(INDIRECT($B$2&CH$2&$A28)=\"\",\"\",INDIRECT($B$2&CH$2&$A28))","v":""},{"$f":"IF(INDIRECT($B$2&CI$2&$A28)=\"\",\"\",INDIRECT($B$2&CI$2&$A28))","v":""},{"$f":"IF(INDIRECT($B$2&CJ$2&$A28)=\"\",\"\",INDIRECT($B$2&CJ$2&$A28))","v":""},{"$f":"IF(INDIRECT($B$2&CK$2&$A28)=\"\",\"\",INDIRECT($B$2&CK$2&$A28))","v":""},{"$f":"IF(INDIRECT($B$2&CL$2&$A28)=\"\",\"\",INDIRECT($B$2&CL$2&$A28))","v":""},{"$f":"IF(INDIRECT($B$2&CM$2&$A28)=\"\",\"\",INDIRECT($B$2&CM$2&$A28))","v":""},{"$f":"IF(INDIRECT($B$2&CN$2&$A28)=\"\",\"\",INDIRECT($B$2&CN$2&$A28))","v":""},{"$f":"IF(INDIRECT($B$2&CO$2&$A28)=\"\",\"\",INDIRECT($B$2&CO$2&$A28))","v":""},null,{"$f":"IF(INDIRECT($B$2&CQ$2&$A28)=\"\",\"\",INDIRECT($B$2&CQ$2&$A28))","v":"---"},{"$f":"IF(INDIRECT($B$2&CR$2&$A28)=\"\",\"\",INDIRECT($B$2&CR$2&$A28))","v":"---"},{"$f":"IF(INDIRECT($B$2&CS$2&$A28)=\"\",\"\",INDIRECT($B$2&CS$2&$A28))","v":"---"}]
[49,null,null,null,null,null,null,null,null,null,null,null,null,null,null,19,{"$f":"IF(INDIRECT($B$2&$Q$2&$A29)=\"\",\"\",INDIRECT($B$2&$Q$2&$A29))","v":"その他（要：備考欄への詳細記載）"},null,{"$f":"IF(INDIRECT($B$2&$S$2&$A29)=\"\",\"\",INDIRECT($B$2&$S$2&$A29))","v":0},{"$f":"IF(INDIRECT($B$2&$T$2&$A29)=\"\",\"\",INDIRECT($B$2&$T$2&$A29))","v":0},{"$f":"IF(INDIRECT($B$2&$U$2&$A29)=\"\",\"\",INDIRECT($B$2&$U$2&$A29))","v":0},{"$f":"IF(INDIRECT($B$2&$V$2&$A29)=\"\",\"\",INDIRECT($B$2&$V$2&$A29))","v":""},{"$f":"IF(INDIRECT($B$2&$W$2&$A29)=\"\",\"\",INDIRECT($B$2&$W$2&$A29))","v":""},{"$f":"IF(INDIRECT($B$2&$X$2&$A29)=\"\",\"\",INDIRECT($B$2&$X$2&$A29))","v":""},{"$f":"IF(INDIRECT($B$2&$Y$2&$A29)=\"\",\"\",INDIRECT($B$2&$Y$2&$A29))","v":""},{"$f":"IF(INDIRECT($B$2&$Z$2&$A29)=\"\",\"\",INDIRECT($B$2&$Z$2&$A29))","v":""},null,{"$f":"IF(INDIRECT($B$2&$AB$2&$A29)=\"\",\"\",INDIRECT($B$2&$AB$2&$A29))","v":0},{"$f":"IF(INDIRECT($B$2&$AC$2&$A29)=\"\",\"\",INDIRECT($B$2&$AC$2&$A29))","v":0},{"$f":"IF(INDIRECT($B$2&$AD$2&$A29)=\"\",\"\",INDIRECT($B$2&$AD$2&$A29))","v":0},{"$f":"IF(INDIRECT($B$2&$AE$2&$A29)=\"\",\"\",INDIRECT($B$2&$AE$2&$A29))","v":""},{"$f":"IF(INDIRECT($B$2&$AF$2&$A29)=\"\",\"\",INDIRECT($B$2&$AF$2&$A29))","v":""},null,null,null,null,null,null,null,null,null,null,null,null,null,null,null,{"$f":"IF(INDIRECT($B$2&AV$2&$A29)=\"\",\"\",INDIRECT($B$2&AV$2&$A29))","v":""},{"$f":"IF(INDIRECT($B$2&AW$2&$A29)=\"\",\"\",INDIRECT($B$2&AW$2&$A29))","v":""},{"$f":"IF(INDIRECT($B$2&AX$2&$A29)=\"\",\"\",INDIRECT($B$2&AX$2&$A29))","v":""},{"$f":"IF(INDIRECT($B$2&AY$2&$A29)=\"\",\"\",INDIRECT($B$2&AY$2&$A29))","v":""},{"$f":"IF(INDIRECT($B$2&AZ$2&$A29)=\"\",\"\",INDIRECT($B$2&AZ$2&$A29))","v":""},{"$f":"IF(INDIRECT($B$2&BA$2&$A29)=\"\",\"\",INDIRECT($B$2&BA$2&$A29))","v":""},{"$f":"IF(INDIRECT($B$2&BB$2&$A29)=\"\",\"\",INDIRECT($B$2&BB$2&$A29))","v":""},{"$f":"IF(INDIRECT($B$2&BC$2&$A29)=\"\",\"\",INDIRECT($B$2&BC$2&$A29))","v":""},{"$f":"IF(INDIRECT($B$2&BD$2&$A29)=\"\",\"\",INDIRECT($B$2&BD$2&$A29))","v":""},{"$f":"IF(INDIRECT($B$2&BE$2&$A29)=\"\",\"\",INDIRECT($B$2&BE$2&$A29))","v":""},{"$f":"IF(INDIRECT($B$2&BF$2&$A29)=\"\",\"\",INDIRECT($B$2&BF$2&$A29))","v":""},{"$f":"IF(INDIRECT($B$2&BG$2&$A29)=\"\",\"\",INDIRECT($B$2&BG$2&$A29))","v":""},{"$f":"IF(INDIRECT($B$2&BH$2&$A29)=\"\",\"\",INDIRECT($B$2&BH$2&$A29))","v":""},{"$f":"IF(INDIRECT($B$2&BI$2&$A29)=\"\",\"\",INDIRECT($B$2&BI$2&$A29))","v":""},{"$f":"IF(INDIRECT($B$2&BJ$2&$A29)=\"\",\"\",INDIRECT($B$2&BJ$2&$A29))","v":""},{"$f":"IF(INDIRECT($B$2&BK$2&$A29)=\"\",\"\",INDIRECT($B$2&BK$2&$A29))","v":0},{"$f":"IF(INDIRECT($B$2&BL$2&$A29)=\"\",\"\",INDIRECT($B$2&BL$2&$A29))","v":""},{"$f":"IF(INDIRECT($B$2&BM$2&$A29)=\"\",\"\",INDIRECT($B$2&BM$2&$A29))","v":""},{"$f":"IF(INDIRECT($B$2&BN$2&$A29)=\"\",\"\",INDIRECT($B$2&BN$2&$A29))","v":""},{"$f":"IF(INDIRECT($B$2&BO$2&$A29)=\"\",\"\",INDIRECT($B$2&BO$2&$A29))","v":""},{"$f":"IF(INDIRECT($B$2&BP$2&$A29)=\"\",\"\",INDIRECT($B$2&BP$2&$A29))","v":""},{"$f":"IF(INDIRECT($B$2&BQ$2&$A29)=\"\",\"\",INDIRECT($B$2&BQ$2&$A29))","v":""},{"$f":"IF(INDIRECT($B$2&BR$2&$A29)=\"\",\"\",INDIRECT($B$2&BR$2&$A29))","v":""},{"$f":"IF(INDIRECT($B$2&BS$2&$A29)=\"\",\"\",INDIRECT($B$2&BS$2&$A29))","v":""},{"$f":"IF(INDIRECT($B$2&BT$2&$A29)=\"\",\"\",INDIRECT($B$2&BT$2&$A29))","v":""},{"$f":"IF(INDIRECT($B$2&BU$2&$A29)=\"\",\"\",INDIRECT($B$2&BU$2&$A29))","v":""},{"$f":"IF(INDIRECT($B$2&BV$2&$A29)=\"\",\"\",INDIRECT($B$2&BV$2&$A29))","v":""},{"$f":"IF(INDIRECT($B$2&BW$2&$A29)=\"\",\"\",INDIRECT($B$2&BW$2&$A29))","v":""},{"$f":"IF(INDIRECT($B$2&BX$2&$A29)=\"\",\"\",INDIRECT($B$2&BX$2&$A29))","v":""},{"$f":"IF(INDIRECT($B$2&BY$2&$A29)=\"\",\"\",INDIRECT($B$2&BY$2&$A29))","v":""},{"$f":"IF(INDIRECT($B$2&BZ$2&$A29)=\"\",\"\",INDIRECT($B$2&BZ$2&$A29))","v":0},{"$f":"IF(INDIRECT($B$2&CA$2&$A29)=\"\",\"\",INDIRECT($B$2&CA$2&$A29))","v":""},{"$f":"IF(INDIRECT($B$2&CB$2&$A29)=\"\",\"\",INDIRECT($B$2&CB$2&$A29))","v":""},{"$f":"IF(INDIRECT($B$2&CC$2&$A29)=\"\",\"\",INDIRECT($B$2&CC$2&$A29))","v":""},{"$f":"IF(INDIRECT($B$2&CD$2&$A29)=\"\",\"\",INDIRECT($B$2&CD$2&$A29))","v":""},{"$f":"IF(INDIRECT($B$2&CE$2&$A29)=\"\",\"\",INDIRECT($B$2&CE$2&$A29))","v":""},{"$f":"IF(INDIRECT($B$2&CF$2&$A29)=\"\",\"\",INDIRECT($B$2&CF$2&$A29))","v":""},{"$f":"IF(INDIRECT($B$2&CG$2&$A29)=\"\",\"\",INDIRECT($B$2&CG$2&$A29))","v":""},{"$f":"IF(INDIRECT($B$2&CH$2&$A29)=\"\",\"\",INDIRECT($B$2&CH$2&$A29))","v":""},{"$f":"IF(INDIRECT($B$2&CI$2&$A29)=\"\",\"\",INDIRECT($B$2&CI$2&$A29))","v":""},{"$f":"IF(INDIRECT($B$2&CJ$2&$A29)=\"\",\"\",INDIRECT($B$2&CJ$2&$A29))","v":""},{"$f":"IF(INDIRECT($B$2&CK$2&$A29)=\"\",\"\",INDIRECT($B$2&CK$2&$A29))","v":""},{"$f":"IF(INDIRECT($B$2&CL$2&$A29)=\"\",\"\",INDIRECT($B$2&CL$2&$A29))","v":""},{"$f":"IF(INDIRECT($B$2&CM$2&$A29)=\"\",\"\",INDIRECT($B$2&CM$2&$A29))","v":""},{"$f":"IF(INDIRECT($B$2&CN$2&$A29)=\"\",\"\",INDIRECT($B$2&CN$2&$A29))","v":""},{"$f":"IF(INDIRECT($B$2&CO$2&$A29)=\"\",\"\",INDIRECT($B$2&CO$2&$A29))","v":""},null,{"$f":"IF(INDIRECT($B$2&CQ$2&$A29)=\"\",\"\",INDIRECT($B$2&CQ$2&$A29))","v":"---"},{"$f":"IF(INDIRECT($B$2&CR$2&$A29)=\"\",\"\",INDIRECT($B$2&CR$2&$A29))","v":"---"},{"$f":"IF(INDIRECT($B$2&CS$2&$A29)=\"\",\"\",INDIRECT($B$2&CS$2&$A29))","v":"---"}]
[50,null,null,null,null,null,null,null,null,null,null,null,null,null,null,20,{"$f":"IF(INDIRECT($B$2&$Q$2&$A30)=\"\",\"\",INDIRECT($B$2&$Q$2&$A30))","v":"その他（要：備考欄への詳細記載）"},null,{"$f":"IF(INDIRECT($B$2&$S$2&$A30)=\"\",\"\",INDIRECT($B$2&$S$2&$A30))","v":0},{"$f":"IF(INDIRECT($B$2&$T$2&$A30)=\"\",\"\",INDIRECT($B$2&$T$2&$A30))","v":0},{"$f":"IF(INDIRECT($B$2&$U$2&$A30)=\"\",\"\",INDIRECT($B$2&$U$2&$A30))","v":0},{"$f":"IF(INDIRECT($B$2&$V$2&$A30)=\"\",\"\",INDIRECT($B$2&$V$2&$A30))","v":""},{"$f":"IF(INDIRECT($B$2&$W$2&$A30)=\"\",\"\",INDIRECT($B$2&$W$2&$A30))","v":""},{"$f":"IF(INDIRECT($B$2&$X$2&$A30)=\"\",\"\",INDIRECT($B$2&$X$2&$A30))","v":""},{"$f":"IF(INDIRECT($B$2&$Y$2&$A30)=\"\",\"\",INDIRECT($B$2&$Y$2&$A30))","v":""},{"$f":"IF(INDIRECT($B$2&$Z$2&$A30)=\"\",\"\",INDIRECT($B$2&$Z$2&$A30))","v":""},null,{"$f":"IF(INDIRECT($B$2&$AB$2&$A30)=\"\",\"\",INDIRECT($B$2&$AB$2&$A30))","v":0},{"$f":"IF(INDIRECT($B$2&$AC$2&$A30)=\"\",\"\",INDIRECT($B$2&$AC$2&$A30))","v":0},{"$f":"IF(INDIRECT($B$2&$AD$2&$A30)=\"\",\"\",INDIRECT($B$2&$AD$2&$A30))","v":0},{"$f":"IF(INDIRECT($B$2&$AE$2&$A30)=\"\",\"\",INDIRECT($B$2&$AE$2&$A30))","v":""},{"$f":"IF(INDIRECT($B$2&$AF$2&$A30)=\"\",\"\",INDIRECT($B$2&$AF$2&$A30))","v":""},null,null,null,null,null,null,null,null,null,null,null,null,null,null,null,{"$f":"IF(INDIRECT($B$2&AV$2&$A30)=\"\",\"\",INDIRECT($B$2&AV$2&$A30))","v":""},{"$f":"IF(INDIRECT($B$2&AW$2&$A30)=\"\",\"\",INDIRECT($B$2&AW$2&$A30))","v":""},{"$f":"IF(INDIRECT($B$2&AX$2&$A30)=\"\",\"\",INDIRECT($B$2&AX$2&$A30))","v":""},{"$f":"IF(INDIRECT($B$2&AY$2&$A30)=\"\",\"\",INDIRECT($B$2&AY$2&$A30))","v":""},{"$f":"IF(INDIRECT($B$2&AZ$2&$A30)=\"\",\"\",INDIRECT($B$2&AZ$2&$A30))","v":""},{"$f":"IF(INDIRECT($B$2&BA$2&$A30)=\"\",\"\",INDIRECT($B$2&BA$2&$A30))","v":""},{"$f":"IF(INDIRECT($B$2&BB$2&$A30)=\"\",\"\",INDIRECT($B$2&BB$2&$A30))","v":""},{"$f":"IF(INDIRECT($B$2&BC$2&$A30)=\"\",\"\",INDIRECT($B$2&BC$2&$A30))","v":""},{"$f":"IF(INDIRECT($B$2&BD$2&$A30)=\"\",\"\",INDIRECT($B$2&BD$2&$A30))","v":""},{"$f":"IF(INDIRECT($B$2&BE$2&$A30)=\"\",\"\",INDIRECT($B$2&BE$2&$A30))","v":""},{"$f":"IF(INDIRECT($B$2&BF$2&$A30)=\"\",\"\",INDIRECT($B$2&BF$2&$A30))","v":""},{"$f":"IF(INDIRECT($B$2&BG$2&$A30)=\"\",\"\",INDIRECT($B$2&BG$2&$A30))","v":""},{"$f":"IF(INDIRECT($B$2&BH$2&$A30)=\"\",\"\",INDIRECT($B$2&BH$2&$A30))","v":""},{"$f":"IF(INDIRECT($B$2&BI$2&$A30)=\"\",\"\",INDIRECT($B$2&BI$2&$A30))","v":""},{"$f":"IF(INDIRECT($B$2&BJ$2&$A30)=\"\",\"\",INDIRECT($B$2&BJ$2&$A30))","v":""},{"$f":"IF(INDIRECT($B$2&BK$2&$A30)=\"\",\"\",INDIRECT($B$2&BK$2&$A30))","v":0},{"$f":"IF(INDIRECT($B$2&BL$2&$A30)=\"\",\"\",INDIRECT($B$2&BL$2&$A30))","v":""},{"$f":"IF(INDIRECT($B$2&BM$2&$A30)=\"\",\"\",INDIRECT($B$2&BM$2&$A30))","v":""},{"$f":"IF(INDIRECT($B$2&BN$2&$A30)=\"\",\"\",INDIRECT($B$2&BN$2&$A30))","v":""},{"$f":"IF(INDIRECT($B$2&BO$2&$A30)=\"\",\"\",INDIRECT($B$2&BO$2&$A30))","v":""},{"$f":"IF(INDIRECT($B$2&BP$2&$A30)=\"\",\"\",INDIRECT($B$2&BP$2&$A30))","v":""},{"$f":"IF(INDIRECT($B$2&BQ$2&$A30)=\"\",\"\",INDIRECT($B$2&BQ$2&$A30))","v":""},{"$f":"IF(INDIRECT($B$2&BR$2&$A30)=\"\",\"\",INDIRECT($B$2&BR$2&$A30))","v":""},{"$f":"IF(INDIRECT($B$2&BS$2&$A30)=\"\",\"\",INDIRECT($B$2&BS$2&$A30))","v":""},{"$f":"IF(INDIRECT($B$2&BT$2&$A30)=\"\",\"\",INDIRECT($B$2&BT$2&$A30))","v":""},{"$f":"IF(INDIRECT($B$2&BU$2&$A30)=\"\",\"\",INDIRECT($B$2&BU$2&$A30))","v":""},{"$f":"IF(INDIRECT($B$2&BV$2&$A30)=\"\",\"\",INDIRECT($B$2&BV$2&$A30))","v":""},{"$f":"IF(INDIRECT($B$2&BW$2&$A30)=\"\",\"\",INDIRECT($B$2&BW$2&$A30))","v":""},{"$f":"IF(INDIRECT($B$2&BX$2&$A30)=\"\",\"\",INDIRECT($B$2&BX$2&$A30))","v":""},{"$f":"IF(INDIRECT($B$2&BY$2&$A30)=\"\",\"\",INDIRECT($B$2&BY$2&$A30))","v":""},{"$f":"IF(INDIRECT($B$2&BZ$2&$A30)=\"\",\"\",INDIRECT($B$2&BZ$2&$A30))","v":0},{"$f":"IF(INDIRECT($B$2&CA$2&$A30)=\"\",\"\",INDIRECT($B$2&CA$2&$A30))","v":""},{"$f":"IF(INDIRECT($B$2&CB$2&$A30)=\"\",\"\",INDIRECT($B$2&CB$2&$A30))","v":""},{"$f":"IF(INDIRECT($B$2&CC$2&$A30)=\"\",\"\",INDIRECT($B$2&CC$2&$A30))","v":""},{"$f":"IF(INDIRECT($B$2&CD$2&$A30)=\"\",\"\",INDIRECT($B$2&CD$2&$A30))","v":""},{"$f":"IF(INDIRECT($B$2&CE$2&$A30)=\"\",\"\",INDIRECT($B$2&CE$2&$A30))","v":""},{"$f":"IF(INDIRECT($B$2&CF$2&$A30)=\"\",\"\",INDIRECT($B$2&CF$2&$A30))","v":""},{"$f":"IF(INDIRECT($B$2&CG$2&$A30)=\"\",\"\",INDIRECT($B$2&CG$2&$A30))","v":""},{"$f":"IF(INDIRECT($B$2&CH$2&$A30)=\"\",\"\",INDIRECT($B$2&CH$2&$A30))","v":""},{"$f":"IF(INDIRECT($B$2&CI$2&$A30)=\"\",\"\",INDIRECT($B$2&CI$2&$A30))","v":""},{"$f":"IF(INDIRECT($B$2&CJ$2&$A30)=\"\",\"\",INDIRECT($B$2&CJ$2&$A30))","v":""},{"$f":"IF(INDIRECT($B$2&CK$2&$A30)=\"\",\"\",INDIRECT($B$2&CK$2&$A30))","v":""},{"$f":"IF(INDIRECT($B$2&CL$2&$A30)=\"\",\"\",INDIRECT($B$2&CL$2&$A30))","v":""},{"$f":"IF(INDIRECT($B$2&CM$2&$A30)=\"\",\"\",INDIRECT($B$2&CM$2&$A30))","v":""},{"$f":"IF(INDIRECT($B$2&CN$2&$A30)=\"\",\"\",INDIRECT($B$2&CN$2&$A30))","v":""},{"$f":"IF(INDIRECT($B$2&CO$2&$A30)=\"\",\"\",INDIRECT($B$2&CO$2&$A30))","v":""},null,{"$f":"IF(INDIRECT($B$2&CQ$2&$A30)=\"\",\"\",INDIRECT($B$2&CQ$2&$A30))","v":"---"},{"$f":"IF(INDIRECT($B$2&CR$2&$A30)=\"\",\"\",INDIRECT($B$2&CR$2&$A30))","v":"---"},{"$f":"IF(INDIRECT($B$2&CS$2&$A30)=\"\",\"\",INDIRECT($B$2&CS$2&$A30))","v":"---"}]
[51,null,null,null,null,null,null,null,null,null,null,null,null,null,null,21,{"$f":"IF(INDIRECT($B$2&$Q$2&$A31)=\"\",\"\",INDIRECT($B$2&$Q$2&$A31))","v":"その他（要：備考欄への詳細記載）"},null,{"$f":"IF(INDIRECT($B$2&$S$2&$A31)=\"\",\"\",INDIRECT($B$2&$S$2&$A31))","v":0},{"$f":"IF(INDIRECT($B$2&$T$2&$A31)=\"\",\"\",INDIRECT($B$2&$T$2&$A31))","v":0},{"$f":"IF(INDIRECT($B$2&$U$2&$A31)=\"\",\"\",INDIRECT($B$2&$U$2&$A31))","v":0},{"$f":"IF(INDIRECT($B$2&$V$2&$A31)=\"\",\"\",INDIRECT($B$2&$V$2&$A31))","v":""},{"$f":"IF(INDIRECT($B$2&$W$2&$A31)=\"\",\"\",INDIRECT($B$2&$W$2&$A31))","v":""},{"$f":"IF(INDIRECT($B$2&$X$2&$A31)=\"\",\"\",INDIRECT($B$2&$X$2&$A31))","v":""},{"$f":"IF(INDIRECT($B$2&$Y$2&$A31)=\"\",\"\",INDIRECT($B$2&$Y$2&$A31))","v":""},{"$f":"IF(INDIRECT($B$2&$Z$2&$A31)=\"\",\"\",INDIRECT($B$2&$Z$2&$A31))","v":""},null,{"$f":"IF(INDIRECT($B$2&$AB$2&$A31)=\"\",\"\",INDIRECT($B$2&$AB$2&$A31))","v":0},{"$f":"IF(INDIRECT($B$2&$AC$2&$A31)=\"\",\"\",INDIRECT($B$2&$AC$2&$A31))","v":0},{"$f":"IF(INDIRECT($B$2&$AD$2&$A31)=\"\",\"\",INDIRECT($B$2&$AD$2&$A31))","v":0},{"$f":"IF(INDIRECT($B$2&$AE$2&$A31)=\"\",\"\",INDIRECT($B$2&$AE$2&$A31))","v":""},{"$f":"IF(INDIRECT($B$2&$AF$2&$A31)=\"\",\"\",INDIRECT($B$2&$AF$2&$A31))","v":""},null,null,null,null,null,null,null,null,null,null,null,null,null,null,null,{"$f":"IF(INDIRECT($B$2&AV$2&$A31)=\"\",\"\",INDIRECT($B$2&AV$2&$A31))","v":""},{"$f":"IF(INDIRECT($B$2&AW$2&$A31)=\"\",\"\",INDIRECT($B$2&AW$2&$A31))","v":""},{"$f":"IF(INDIRECT($B$2&AX$2&$A31)=\"\",\"\",INDIRECT($B$2&AX$2&$A31))","v":""},{"$f":"IF(INDIRECT($B$2&AY$2&$A31)=\"\",\"\",INDIRECT($B$2&AY$2&$A31))","v":""},{"$f":"IF(INDIRECT($B$2&AZ$2&$A31)=\"\",\"\",INDIRECT($B$2&AZ$2&$A31))","v":""},{"$f":"IF(INDIRECT($B$2&BA$2&$A31)=\"\",\"\",INDIRECT($B$2&BA$2&$A31))","v":""},{"$f":"IF(INDIRECT($B$2&BB$2&$A31)=\"\",\"\",INDIRECT($B$2&BB$2&$A31))","v":""},{"$f":"IF(INDIRECT($B$2&BC$2&$A31)=\"\",\"\",INDIRECT($B$2&BC$2&$A31))","v":""},{"$f":"IF(INDIRECT($B$2&BD$2&$A31)=\"\",\"\",INDIRECT($B$2&BD$2&$A31))","v":""},{"$f":"IF(INDIRECT($B$2&BE$2&$A31)=\"\",\"\",INDIRECT($B$2&BE$2&$A31))","v":""},{"$f":"IF(INDIRECT($B$2&BF$2&$A31)=\"\",\"\",INDIRECT($B$2&BF$2&$A31))","v":""},{"$f":"IF(INDIRECT($B$2&BG$2&$A31)=\"\",\"\",INDIRECT($B$2&BG$2&$A31))","v":""},{"$f":"IF(INDIRECT($B$2&BH$2&$A31)=\"\",\"\",INDIRECT($B$2&BH$2&$A31))","v":""},{"$f":"IF(INDIRECT($B$2&BI$2&$A31)=\"\",\"\",INDIRECT($B$2&BI$2&$A31))","v":""},{"$f":"IF(INDIRECT($B$2&BJ$2&$A31)=\"\",\"\",INDIRECT($B$2&BJ$2&$A31))","v":""},{"$f":"IF(INDIRECT($B$2&BK$2&$A31)=\"\",\"\",INDIRECT($B$2&BK$2&$A31))","v":0},{"$f":"IF(INDIRECT($B$2&BL$2&$A31)=\"\",\"\",INDIRECT($B$2&BL$2&$A31))","v":""},{"$f":"IF(INDIRECT($B$2&BM$2&$A31)=\"\",\"\",INDIRECT($B$2&BM$2&$A31))","v":""},{"$f":"IF(INDIRECT($B$2&BN$2&$A31)=\"\",\"\",INDIRECT($B$2&BN$2&$A31))","v":""},{"$f":"IF(INDIRECT($B$2&BO$2&$A31)=\"\",\"\",INDIRECT($B$2&BO$2&$A31))","v":""},{"$f":"IF(INDIRECT($B$2&BP$2&$A31)=\"\",\"\",INDIRECT($B$2&BP$2&$A31))","v":""},{"$f":"IF(INDIRECT($B$2&BQ$2&$A31)=\"\",\"\",INDIRECT($B$2&BQ$2&$A31))","v":""},{"$f":"IF(INDIRECT($B$2&BR$2&$A31)=\"\",\"\",INDIRECT($B$2&BR$2&$A31))","v":""},{"$f":"IF(INDIRECT($B$2&BS$2&$A31)=\"\",\"\",INDIRECT($B$2&BS$2&$A31))","v":""},{"$f":"IF(INDIRECT($B$2&BT$2&$A31)=\"\",\"\",INDIRECT($B$2&BT$2&$A31))","v":""},{"$f":"IF(INDIRECT($B$2&BU$2&$A31)=\"\",\"\",INDIRECT($B$2&BU$2&$A31))","v":""},{"$f":"IF(INDIRECT($B$2&BV$2&$A31)=\"\",\"\",INDIRECT($B$2&BV$2&$A31))","v":""},{"$f":"IF(INDIRECT($B$2&BW$2&$A31)=\"\",\"\",INDIRECT($B$2&BW$2&$A31))","v":""},{"$f":"IF(INDIRECT($B$2&BX$2&$A31)=\"\",\"\",INDIRECT($B$2&BX$2&$A31))","v":""},{"$f":"IF(INDIRECT($B$2&BY$2&$A31)=\"\",\"\",INDIRECT($B$2&BY$2&$A31))","v":""},{"$f":"IF(INDIRECT($B$2&BZ$2&$A31)=\"\",\"\",INDIRECT($B$2&BZ$2&$A31))","v":0},{"$f":"IF(INDIRECT($B$2&CA$2&$A31)=\"\",\"\",INDIRECT($B$2&CA$2&$A31))","v":""},{"$f":"IF(INDIRECT($B$2&CB$2&$A31)=\"\",\"\",INDIRECT($B$2&CB$2&$A31))","v":""},{"$f":"IF(INDIRECT($B$2&CC$2&$A31)=\"\",\"\",INDIRECT($B$2&CC$2&$A31))","v":""},{"$f":"IF(INDIRECT($B$2&CD$2&$A31)=\"\",\"\",INDIRECT($B$2&CD$2&$A31))","v":""},{"$f":"IF(INDIRECT($B$2&CE$2&$A31)=\"\",\"\",INDIRECT($B$2&CE$2&$A31))","v":""},{"$f":"IF(INDIRECT($B$2&CF$2&$A31)=\"\",\"\",INDIRECT($B$2&CF$2&$A31))","v":""},{"$f":"IF(INDIRECT($B$2&CG$2&$A31)=\"\",\"\",INDIRECT($B$2&CG$2&$A31))","v":""},{"$f":"IF(INDIRECT($B$2&CH$2&$A31)=\"\",\"\",INDIRECT($B$2&CH$2&$A31))","v":""},{"$f":"IF(INDIRECT($B$2&CI$2&$A31)=\"\",\"\",INDIRECT($B$2&CI$2&$A31))","v":""},{"$f":"IF(INDIRECT($B$2&CJ$2&$A31)=\"\",\"\",INDIRECT($B$2&CJ$2&$A31))","v":""},{"$f":"IF(INDIRECT($B$2&CK$2&$A31)=\"\",\"\",INDIRECT($B$2&CK$2&$A31))","v":""},{"$f":"IF(INDIRECT($B$2&CL$2&$A31)=\"\",\"\",INDIRECT($B$2&CL$2&$A31))","v":""},{"$f":"IF(INDIRECT($B$2&CM$2&$A31)=\"\",\"\",INDIRECT($B$2&CM$2&$A31))","v":""},{"$f":"IF(INDIRECT($B$2&CN$2&$A31)=\"\",\"\",INDIRECT($B$2&CN$2&$A31))","v":""},{"$f":"IF(INDIRECT($B$2&CO$2&$A31)=\"\",\"\",INDIRECT($B$2&CO$2&$A31))","v":""},null,{"$f":"IF(INDIRECT($B$2&CQ$2&$A31)=\"\",\"\",INDIRECT($B$2&CQ$2&$A31))","v":"---"},{"$f":"IF(INDIRECT($B$2&CR$2&$A31)=\"\",\"\",INDIRECT($B$2&CR$2&$A31))","v":"---"},{"$f":"IF(INDIRECT($B$2&CS$2&$A31)=\"\",\"\",INDIRECT($B$2&CS$2&$A31))","v":"---"}]
[52,null,null,null,null,null,null,null,null,null,null,null,null,null,null,22,{"$f":"IF(INDIRECT($B$2&$Q$2&$A32)=\"\",\"\",INDIRECT($B$2&$Q$2&$A32))","v":"その他（要：備考欄への詳細記載）"},null,{"$f":"IF(INDIRECT($B$2&$S$2&$A32)=\"\",\"\",INDIRECT($B$2&$S$2&$A32))","v":0},{"$f":"IF(INDIRECT($B$2&$T$2&$A32)=\"\",\"\",INDIRECT($B$2&$T$2&$A32))","v":0},{"$f":"IF(INDIRECT($B$2&$U$2&$A32)=\"\",\"\",INDIRECT($B$2&$U$2&$A32))","v":0},{"$f":"IF(INDIRECT($B$2&$V$2&$A32)=\"\",\"\",INDIRECT($B$2&$V$2&$A32))","v":""},{"$f":"IF(INDIRECT($B$2&$W$2&$A32)=\"\",\"\",INDIRECT($B$2&$W$2&$A32))","v":""},{"$f":"IF(INDIRECT($B$2&$X$2&$A32)=\"\",\"\",INDIRECT($B$2&$X$2&$A32))","v":""},{"$f":"IF(INDIRECT($B$2&$Y$2&$A32)=\"\",\"\",INDIRECT($B$2&$Y$2&$A32))","v":""},{"$f":"IF(INDIRECT($B$2&$Z$2&$A32)=\"\",\"\",INDIRECT($B$2&$Z$2&$A32))","v":""},null,{"$f":"IF(INDIRECT($B$2&$AB$2&$A32)=\"\",\"\",INDIRECT($B$2&$AB$2&$A32))","v":0},{"$f":"IF(INDIRECT($B$2&$AC$2&$A32)=\"\",\"\",INDIRECT($B$2&$AC$2&$A32))","v":0},{"$f":"IF(INDIRECT($B$2&$AD$2&$A32)=\"\",\"\",INDIRECT($B$2&$AD$2&$A32))","v":0},{"$f":"IF(INDIRECT($B$2&$AE$2&$A32)=\"\",\"\",INDIRECT($B$2&$AE$2&$A32))","v":""},{"$f":"IF(INDIRECT($B$2&$AF$2&$A32)=\"\",\"\",INDIRECT($B$2&$AF$2&$A32))","v":""},null,null,null,null,null,null,null,null,null,null,null,null,null,null,null,{"$f":"IF(INDIRECT($B$2&AV$2&$A32)=\"\",\"\",INDIRECT($B$2&AV$2&$A32))","v":""},{"$f":"IF(INDIRECT($B$2&AW$2&$A32)=\"\",\"\",INDIRECT($B$2&AW$2&$A32))","v":""},{"$f":"IF(INDIRECT($B$2&AX$2&$A32)=\"\",\"\",INDIRECT($B$2&AX$2&$A32))","v":""},{"$f":"IF(INDIRECT($B$2&AY$2&$A32)=\"\",\"\",INDIRECT($B$2&AY$2&$A32))","v":""},{"$f":"IF(INDIRECT($B$2&AZ$2&$A32)=\"\",\"\",INDIRECT($B$2&AZ$2&$A32))","v":""},{"$f":"IF(INDIRECT($B$2&BA$2&$A32)=\"\",\"\",INDIRECT($B$2&BA$2&$A32))","v":""},{"$f":"IF(INDIRECT($B$2&BB$2&$A32)=\"\",\"\",INDIRECT($B$2&BB$2&$A32))","v":""},{"$f":"IF(INDIRECT($B$2&BC$2&$A32)=\"\",\"\",INDIRECT($B$2&BC$2&$A32))","v":""},{"$f":"IF(INDIRECT($B$2&BD$2&$A32)=\"\",\"\",INDIRECT($B$2&BD$2&$A32))","v":""},{"$f":"IF(INDIRECT($B$2&BE$2&$A32)=\"\",\"\",INDIRECT($B$2&BE$2&$A32))","v":""},{"$f":"IF(INDIRECT($B$2&BF$2&$A32)=\"\",\"\",INDIRECT($B$2&BF$2&$A32))","v":""},{"$f":"IF(INDIRECT($B$2&BG$2&$A32)=\"\",\"\",INDIRECT($B$2&BG$2&$A32))","v":""},{"$f":"IF(INDIRECT($B$2&BH$2&$A32)=\"\",\"\",INDIRECT($B$2&BH$2&$A32))","v":""},{"$f":"IF(INDIRECT($B$2&BI$2&$A32)=\"\",\"\",INDIRECT($B$2&BI$2&$A32))","v":""},{"$f":"IF(INDIRECT($B$2&BJ$2&$A32)=\"\",\"\",INDIRECT($B$2&BJ$2&$A32))","v":""},{"$f":"IF(INDIRECT($B$2&BK$2&$A32)=\"\",\"\",INDIRECT($B$2&BK$2&$A32))","v":0},{"$f":"IF(INDIRECT($B$2&BL$2&$A32)=\"\",\"\",INDIRECT($B$2&BL$2&$A32))","v":""},{"$f":"IF(INDIRECT($B$2&BM$2&$A32)=\"\",\"\",INDIRECT($B$2&BM$2&$A32))","v":""},{"$f":"IF(INDIRECT($B$2&BN$2&$A32)=\"\",\"\",INDIRECT($B$2&BN$2&$A32))","v":""},{"$f":"IF(INDIRECT($B$2&BO$2&$A32)=\"\",\"\",INDIRECT($B$2&BO$2&$A32))","v":""},{"$f":"IF(INDIRECT($B$2&BP$2&$A32)=\"\",\"\",INDIRECT($B$2&BP$2&$A32))","v":""},{"$f":"IF(INDIRECT($B$2&BQ$2&$A32)=\"\",\"\",INDIRECT($B$2&BQ$2&$A32))","v":""},{"$f":"IF(INDIRECT($B$2&BR$2&$A32)=\"\",\"\",INDIRECT($B$2&BR$2&$A32))","v":""},{"$f":"IF(INDIRECT($B$2&BS$2&$A32)=\"\",\"\",INDIRECT($B$2&BS$2&$A32))","v":""},{"$f":"IF(INDIRECT($B$2&BT$2&$A32)=\"\",\"\",INDIRECT($B$2&BT$2&$A32))","v":""},{"$f":"IF(INDIRECT($B$2&BU$2&$A32)=\"\",\"\",INDIRECT($B$2&BU$2&$A32))","v":""},{"$f":"IF(INDIRECT($B$2&BV$2&$A32)=\"\",\"\",INDIRECT($B$2&BV$2&$A32))","v":""},{"$f":"IF(INDIRECT($B$2&BW$2&$A32)=\"\",\"\",INDIRECT($B$2&BW$2&$A32))","v":""},{"$f":"IF(INDIRECT($B$2&BX$2&$A32)=\"\",\"\",INDIRECT($B$2&BX$2&$A32))","v":""},{"$f":"IF(INDIRECT($B$2&BY$2&$A32)=\"\",\"\",INDIRECT($B$2&BY$2&$A32))","v":""},{"$f":"IF(INDIRECT($B$2&BZ$2&$A32)=\"\",\"\",INDIRECT($B$2&BZ$2&$A32))","v":0},{"$f":"IF(INDIRECT($B$2&CA$2&$A32)=\"\",\"\",INDIRECT($B$2&CA$2&$A32))","v":""},{"$f":"IF(INDIRECT($B$2&CB$2&$A32)=\"\",\"\",INDIRECT($B$2&CB$2&$A32))","v":""},{"$f":"IF(INDIRECT($B$2&CC$2&$A32)=\"\",\"\",INDIRECT($B$2&CC$2&$A32))","v":""},{"$f":"IF(INDIRECT($B$2&CD$2&$A32)=\"\",\"\",INDIRECT($B$2&CD$2&$A32))","v":""},{"$f":"IF(INDIRECT($B$2&CE$2&$A32)=\"\",\"\",INDIRECT($B$2&CE$2&$A32))","v":""},{"$f":"IF(INDIRECT($B$2&CF$2&$A32)=\"\",\"\",INDIRECT($B$2&CF$2&$A32))","v":""},{"$f":"IF(INDIRECT($B$2&CG$2&$A32)=\"\",\"\",INDIRECT($B$2&CG$2&$A32))","v":""},{"$f":"IF(INDIRECT($B$2&CH$2&$A32)=\"\",\"\",INDIRECT($B$2&CH$2&$A32))","v":""},{"$f":"IF(INDIRECT($B$2&CI$2&$A32)=\"\",\"\",INDIRECT($B$2&CI$2&$A32))","v":""},{"$f":"IF(INDIRECT($B$2&CJ$2&$A32)=\"\",\"\",INDIRECT($B$2&CJ$2&$A32))","v":""},{"$f":"IF(INDIRECT($B$2&CK$2&$A32)=\"\",\"\",INDIRECT($B$2&CK$2&$A32))","v":""},{"$f":"IF(INDIRECT($B$2&CL$2&$A32)=\"\",\"\",INDIRECT($B$2&CL$2&$A32))","v":""},{"$f":"IF(INDIRECT($B$2&CM$2&$A32)=\"\",\"\",INDIRECT($B$2&CM$2&$A32))","v":""},{"$f":"IF(INDIRECT($B$2&CN$2&$A32)=\"\",\"\",INDIRECT($B$2&CN$2&$A32))","v":""},{"$f":"IF(INDIRECT($B$2&CO$2&$A32)=\"\",\"\",INDIRECT($B$2&CO$2&$A32))","v":""},null,{"$f":"IF(INDIRECT($B$2&CQ$2&$A32)=\"\",\"\",INDIRECT($B$2&CQ$2&$A32))","v":"---"},{"$f":"IF(INDIRECT($B$2&CR$2&$A32)=\"\",\"\",INDIRECT($B$2&CR$2&$A32))","v":"---"},{"$f":"IF(INDIRECT($B$2&CS$2&$A32)=\"\",\"\",INDIRECT($B$2&CS$2&$A32))","v":"---"}]
[53,null,null,null,null,null,null,null,null,null,null,null,null,null,null,23,{"$f":"IF(INDIRECT($B$2&$Q$2&$A33)=\"\",\"\",INDIRECT($B$2&$Q$2&$A33))","v":"その他（要：備考欄への詳細記載）"},null,{"$f":"IF(INDIRECT($B$2&$S$2&$A33)=\"\",\"\",INDIRECT($B$2&$S$2&$A33))","v":0},{"$f":"IF(INDIRECT($B$2&$T$2&$A33)=\"\",\"\",INDIRECT($B$2&$T$2&$A33))","v":0},{"$f":"IF(INDIRECT($B$2&$U$2&$A33)=\"\",\"\",INDIRECT($B$2&$U$2&$A33))","v":0},{"$f":"IF(INDIRECT($B$2&$V$2&$A33)=\"\",\"\",INDIRECT($B$2&$V$2&$A33))","v":""},{"$f":"IF(INDIRECT($B$2&$W$2&$A33)=\"\",\"\",INDIRECT($B$2&$W$2&$A33))","v":""},{"$f":"IF(INDIRECT($B$2&$X$2&$A33)=\"\",\"\",INDIRECT($B$2&$X$2&$A33))","v":""},{"$f":"IF(INDIRECT($B$2&$Y$2&$A33)=\"\",\"\",INDIRECT($B$2&$Y$2&$A33))","v":""},{"$f":"IF(INDIRECT($B$2&$Z$2&$A33)=\"\",\"\",INDIRECT($B$2&$Z$2&$A33))","v":""},null,{"$f":"IF(INDIRECT($B$2&$AB$2&$A33)=\"\",\"\",INDIRECT($B$2&$AB$2&$A33))","v":0},{"$f":"IF(INDIRECT($B$2&$AC$2&$A33)=\"\",\"\",INDIRECT($B$2&$AC$2&$A33))","v":0},{"$f":"IF(INDIRECT($B$2&$AD$2&$A33)=\"\",\"\",INDIRECT($B$2&$AD$2&$A33))","v":0},{"$f":"IF(INDIRECT($B$2&$AE$2&$A33)=\"\",\"\",INDIRECT($B$2&$AE$2&$A33))","v":""},{"$f":"IF(INDIRECT($B$2&$AF$2&$A33)=\"\",\"\",INDIRECT($B$2&$AF$2&$A33))","v":""},null,null,null,null,null,null,null,null,null,null,null,null,null,null,null,{"$f":"IF(INDIRECT($B$2&AV$2&$A33)=\"\",\"\",INDIRECT($B$2&AV$2&$A33))","v":""},{"$f":"IF(INDIRECT($B$2&AW$2&$A33)=\"\",\"\",INDIRECT($B$2&AW$2&$A33))","v":""},{"$f":"IF(INDIRECT($B$2&AX$2&$A33)=\"\",\"\",INDIRECT($B$2&AX$2&$A33))","v":""},{"$f":"IF(INDIRECT($B$2&AY$2&$A33)=\"\",\"\",INDIRECT($B$2&AY$2&$A33))","v":""},{"$f":"IF(INDIRECT($B$2&AZ$2&$A33)=\"\",\"\",INDIRECT($B$2&AZ$2&$A33))","v":""},{"$f":"IF(INDIRECT($B$2&BA$2&$A33)=\"\",\"\",INDIRECT($B$2&BA$2&$A33))","v":""},{"$f":"IF(INDIRECT($B$2&BB$2&$A33)=\"\",\"\",INDIRECT($B$2&BB$2&$A33))","v":""},{"$f":"IF(INDIRECT($B$2&BC$2&$A33)=\"\",\"\",INDIRECT($B$2&BC$2&$A33))","v":""},{"$f":"IF(INDIRECT($B$2&BD$2&$A33)=\"\",\"\",INDIRECT($B$2&BD$2&$A33))","v":""},{"$f":"IF(INDIRECT($B$2&BE$2&$A33)=\"\",\"\",INDIRECT($B$2&BE$2&$A33))","v":""},{"$f":"IF(INDIRECT($B$2&BF$2&$A33)=\"\",\"\",INDIRECT($B$2&BF$2&$A33))","v":""},{"$f":"IF(INDIRECT($B$2&BG$2&$A33)=\"\",\"\",INDIRECT($B$2&BG$2&$A33))","v":""},{"$f":"IF(INDIRECT($B$2&BH$2&$A33)=\"\",\"\",INDIRECT($B$2&BH$2&$A33))","v":""},{"$f":"IF(INDIRECT($B$2&BI$2&$A33)=\"\",\"\",INDIRECT($B$2&BI$2&$A33))","v":""},{"$f":"IF(INDIRECT($B$2&BJ$2&$A33)=\"\",\"\",INDIRECT($B$2&BJ$2&$A33))","v":""},{"$f":"IF(INDIRECT($B$2&BK$2&$A33)=\"\",\"\",INDIRECT($B$2&BK$2&$A33))","v":0},{"$f":"IF(INDIRECT($B$2&BL$2&$A33)=\"\",\"\",INDIRECT($B$2&BL$2&$A33))","v":""},{"$f":"IF(INDIRECT($B$2&BM$2&$A33)=\"\",\"\",INDIRECT($B$2&BM$2&$A33))","v":""},{"$f":"IF(INDIRECT($B$2&BN$2&$A33)=\"\",\"\",INDIRECT($B$2&BN$2&$A33))","v":""},{"$f":"IF(INDIRECT($B$2&BO$2&$A33)=\"\",\"\",INDIRECT($B$2&BO$2&$A33))","v":""},{"$f":"IF(INDIRECT($B$2&BP$2&$A33)=\"\",\"\",INDIRECT($B$2&BP$2&$A33))","v":""},{"$f":"IF(INDIRECT($B$2&BQ$2&$A33)=\"\",\"\",INDIRECT($B$2&BQ$2&$A33))","v":""},{"$f":"IF(INDIRECT($B$2&BR$2&$A33)=\"\",\"\",INDIRECT($B$2&BR$2&$A33))","v":""},{"$f":"IF(INDIRECT($B$2&BS$2&$A33)=\"\",\"\",INDIRECT($B$2&BS$2&$A33))","v":""},{"$f":"IF(INDIRECT($B$2&BT$2&$A33)=\"\",\"\",INDIRECT($B$2&BT$2&$A33))","v":""},{"$f":"IF(INDIRECT($B$2&BU$2&$A33)=\"\",\"\",INDIRECT($B$2&BU$2&$A33))","v":""},{"$f":"IF(INDIRECT($B$2&BV$2&$A33)=\"\",\"\",INDIRECT($B$2&BV$2&$A33))","v":""},{"$f":"IF(INDIRECT($B$2&BW$2&$A33)=\"\",\"\",INDIRECT($B$2&BW$2&$A33))","v":""},{"$f":"IF(INDIRECT($B$2&BX$2&$A33)=\"\",\"\",INDIRECT($B$2&BX$2&$A33))","v":""},{"$f":"IF(INDIRECT($B$2&BY$2&$A33)=\"\",\"\",INDIRECT($B$2&BY$2&$A33))","v":""},{"$f":"IF(INDIRECT($B$2&BZ$2&$A33)=\"\",\"\",INDIRECT($B$2&BZ$2&$A33))","v":0},{"$f":"IF(INDIRECT($B$2&CA$2&$A33)=\"\",\"\",INDIRECT($B$2&CA$2&$A33))","v":""},{"$f":"IF(INDIRECT($B$2&CB$2&$A33)=\"\",\"\",INDIRECT($B$2&CB$2&$A33))","v":""},{"$f":"IF(INDIRECT($B$2&CC$2&$A33)=\"\",\"\",INDIRECT($B$2&CC$2&$A33))","v":""},{"$f":"IF(INDIRECT($B$2&CD$2&$A33)=\"\",\"\",INDIRECT($B$2&CD$2&$A33))","v":""},{"$f":"IF(INDIRECT($B$2&CE$2&$A33)=\"\",\"\",INDIRECT($B$2&CE$2&$A33))","v":""},{"$f":"IF(INDIRECT($B$2&CF$2&$A33)=\"\",\"\",INDIRECT($B$2&CF$2&$A33))","v":""},{"$f":"IF(INDIRECT($B$2&CG$2&$A33)=\"\",\"\",INDIRECT($B$2&CG$2&$A33))","v":""},{"$f":"IF(INDIRECT($B$2&CH$2&$A33)=\"\",\"\",INDIRECT($B$2&CH$2&$A33))","v":""},{"$f":"IF(INDIRECT($B$2&CI$2&$A33)=\"\",\"\",INDIRECT($B$2&CI$2&$A33))","v":""},{"$f":"IF(INDIRECT($B$2&CJ$2&$A33)=\"\",\"\",INDIRECT($B$2&CJ$2&$A33))","v":""},{"$f":"IF(INDIRECT($B$2&CK$2&$A33)=\"\",\"\",INDIRECT($B$2&CK$2&$A33))","v":""},{"$f":"IF(INDIRECT($B$2&CL$2&$A33)=\"\",\"\",INDIRECT($B$2&CL$2&$A33))","v":""},{"$f":"IF(INDIRECT($B$2&CM$2&$A33)=\"\",\"\",INDIRECT($B$2&CM$2&$A33))","v":""},{"$f":"IF(INDIRECT($B$2&CN$2&$A33)=\"\",\"\",INDIRECT($B$2&CN$2&$A33))","v":""},{"$f":"IF(INDIRECT($B$2&CO$2&$A33)=\"\",\"\",INDIRECT($B$2&CO$2&$A33))","v":""},null,{"$f":"IF(INDIRECT($B$2&CQ$2&$A33)=\"\",\"\",INDIRECT($B$2&CQ$2&$A33))","v":"---"},{"$f":"IF(INDIRECT($B$2&CR$2&$A33)=\"\",\"\",INDIRECT($B$2&CR$2&$A33))","v":"---"},{"$f":"IF(INDIRECT($B$2&CS$2&$A33)=\"\",\"\",INDIRECT($B$2&CS$2&$A33))","v":"---"}]
[54,null,null,null,null,null,null,null,null,null,null,null,null,null,null,24,{"$f":"IF(INDIRECT($B$2&$Q$2&$A34)=\"\",\"\",INDIRECT($B$2&$Q$2&$A34))","v":"その他（要：備考欄への詳細記載）"},null,{"$f":"IF(INDIRECT($B$2&$S$2&$A34)=\"\",\"\",INDIRECT($B$2&$S$2&$A34))","v":0},{"$f":"IF(INDIRECT($B$2&$T$2&$A34)=\"\",\"\",INDIRECT($B$2&$T$2&$A34))","v":0},{"$f":"IF(INDIRECT($B$2&$U$2&$A34)=\"\",\"\",INDIRECT($B$2&$U$2&$A34))","v":0},{"$f":"IF(INDIRECT($B$2&$V$2&$A34)=\"\",\"\",INDIRECT($B$2&$V$2&$A34))","v":""},{"$f":"IF(INDIRECT($B$2&$W$2&$A34)=\"\",\"\",INDIRECT($B$2&$W$2&$A34))","v":""},{"$f":"IF(INDIRECT($B$2&$X$2&$A34)=\"\",\"\",INDIRECT($B$2&$X$2&$A34))","v":""},{"$f":"IF(INDIRECT($B$2&$Y$2&$A34)=\"\",\"\",INDIRECT($B$2&$Y$2&$A34))","v":""},{"$f":"IF(INDIRECT($B$2&$Z$2&$A34)=\"\",\"\",INDIRECT($B$2&$Z$2&$A34))","v":""},null,{"$f":"IF(INDIRECT($B$2&$AB$2&$A34)=\"\",\"\",INDIRECT($B$2&$AB$2&$A34))","v":0},{"$f":"IF(INDIRECT($B$2&$AC$2&$A34)=\"\",\"\",INDIRECT($B$2&$AC$2&$A34))","v":0},{"$f":"IF(INDIRECT($B$2&$AD$2&$A34)=\"\",\"\",INDIRECT($B$2&$AD$2&$A34))","v":0},{"$f":"IF(INDIRECT($B$2&$AE$2&$A34)=\"\",\"\",INDIRECT($B$2&$AE$2&$A34))","v":""},{"$f":"IF(INDIRECT($B$2&$AF$2&$A34)=\"\",\"\",INDIRECT($B$2&$AF$2&$A34))","v":""},null,null,null,null,null,null,null,null,null,null,null,null,null,null,null,{"$f":"IF(INDIRECT($B$2&AV$2&$A34)=\"\",\"\",INDIRECT($B$2&AV$2&$A34))","v":""},{"$f":"IF(INDIRECT($B$2&AW$2&$A34)=\"\",\"\",INDIRECT($B$2&AW$2&$A34))","v":""},{"$f":"IF(INDIRECT($B$2&AX$2&$A34)=\"\",\"\",INDIRECT($B$2&AX$2&$A34))","v":""},{"$f":"IF(INDIRECT($B$2&AY$2&$A34)=\"\",\"\",INDIRECT($B$2&AY$2&$A34))","v":""},{"$f":"IF(INDIRECT($B$2&AZ$2&$A34)=\"\",\"\",INDIRECT($B$2&AZ$2&$A34))","v":""},{"$f":"IF(INDIRECT($B$2&BA$2&$A34)=\"\",\"\",INDIRECT($B$2&BA$2&$A34))","v":""},{"$f":"IF(INDIRECT($B$2&BB$2&$A34)=\"\",\"\",INDIRECT($B$2&BB$2&$A34))","v":""},{"$f":"IF(INDIRECT($B$2&BC$2&$A34)=\"\",\"\",INDIRECT($B$2&BC$2&$A34))","v":""},{"$f":"IF(INDIRECT($B$2&BD$2&$A34)=\"\",\"\",INDIRECT($B$2&BD$2&$A34))","v":""},{"$f":"IF(INDIRECT($B$2&BE$2&$A34)=\"\",\"\",INDIRECT($B$2&BE$2&$A34))","v":""},{"$f":"IF(INDIRECT($B$2&BF$2&$A34)=\"\",\"\",INDIRECT($B$2&BF$2&$A34))","v":""},{"$f":"IF(INDIRECT($B$2&BG$2&$A34)=\"\",\"\",INDIRECT($B$2&BG$2&$A34))","v":""},{"$f":"IF(INDIRECT($B$2&BH$2&$A34)=\"\",\"\",INDIRECT($B$2&BH$2&$A34))","v":""},{"$f":"IF(INDIRECT($B$2&BI$2&$A34)=\"\",\"\",INDIRECT($B$2&BI$2&$A34))","v":""},{"$f":"IF(INDIRECT($B$2&BJ$2&$A34)=\"\",\"\",INDIRECT($B$2&BJ$2&$A34))","v":""},{"$f":"IF(INDIRECT($B$2&BK$2&$A34)=\"\",\"\",INDIRECT($B$2&BK$2&$A34))","v":0},{"$f":"IF(INDIRECT($B$2&BL$2&$A34)=\"\",\"\",INDIRECT($B$2&BL$2&$A34))","v":""},{"$f":"IF(INDIRECT($B$2&BM$2&$A34)=\"\",\"\",INDIRECT($B$2&BM$2&$A34))","v":""},{"$f":"IF(INDIRECT($B$2&BN$2&$A34)=\"\",\"\",INDIRECT($B$2&BN$2&$A34))","v":""},{"$f":"IF(INDIRECT($B$2&BO$2&$A34)=\"\",\"\",INDIRECT($B$2&BO$2&$A34))","v":""},{"$f":"IF(INDIRECT($B$2&BP$2&$A34)=\"\",\"\",INDIRECT($B$2&BP$2&$A34))","v":""},{"$f":"IF(INDIRECT($B$2&BQ$2&$A34)=\"\",\"\",INDIRECT($B$2&BQ$2&$A34))","v":""},{"$f":"IF(INDIRECT($B$2&BR$2&$A34)=\"\",\"\",INDIRECT($B$2&BR$2&$A34))","v":""},{"$f":"IF(INDIRECT($B$2&BS$2&$A34)=\"\",\"\",INDIRECT($B$2&BS$2&$A34))","v":""},{"$f":"IF(INDIRECT($B$2&BT$2&$A34)=\"\",\"\",INDIRECT($B$2&BT$2&$A34))","v":""},{"$f":"IF(INDIRECT($B$2&BU$2&$A34)=\"\",\"\",INDIRECT($B$2&BU$2&$A34))","v":""},{"$f":"IF(INDIRECT($B$2&BV$2&$A34)=\"\",\"\",INDIRECT($B$2&BV$2&$A34))","v":""},{"$f":"IF(INDIRECT($B$2&BW$2&$A34)=\"\",\"\",INDIRECT($B$2&BW$2&$A34))","v":""},{"$f":"IF(INDIRECT($B$2&BX$2&$A34)=\"\",\"\",INDIRECT($B$2&BX$2&$A34))","v":""},{"$f":"IF(INDIRECT($B$2&BY$2&$A34)=\"\",\"\",INDIRECT($B$2&BY$2&$A34))","v":""},{"$f":"IF(INDIRECT($B$2&BZ$2&$A34)=\"\",\"\",INDIRECT($B$2&BZ$2&$A34))","v":0},{"$f":"IF(INDIRECT($B$2&CA$2&$A34)=\"\",\"\",INDIRECT($B$2&CA$2&$A34))","v":""},{"$f":"IF(INDIRECT($B$2&CB$2&$A34)=\"\",\"\",INDIRECT($B$2&CB$2&$A34))","v":""},{"$f":"IF(INDIRECT($B$2&CC$2&$A34)=\"\",\"\",INDIRECT($B$2&CC$2&$A34))","v":""},{"$f":"IF(INDIRECT($B$2&CD$2&$A34)=\"\",\"\",INDIRECT($B$2&CD$2&$A34))","v":""},{"$f":"IF(INDIRECT($B$2&CE$2&$A34)=\"\",\"\",INDIRECT($B$2&CE$2&$A34))","v":""},{"$f":"IF(INDIRECT($B$2&CF$2&$A34)=\"\",\"\",INDIRECT($B$2&CF$2&$A34))","v":""},{"$f":"IF(INDIRECT($B$2&CG$2&$A34)=\"\",\"\",INDIRECT($B$2&CG$2&$A34))","v":""},{"$f":"IF(INDIRECT($B$2&CH$2&$A34)=\"\",\"\",INDIRECT($B$2&CH$2&$A34))","v":""},{"$f":"IF(INDIRECT($B$2&CI$2&$A34)=\"\",\"\",INDIRECT($B$2&CI$2&$A34))","v":""},{"$f":"IF(INDIRECT($B$2&CJ$2&$A34)=\"\",\"\",INDIRECT($B$2&CJ$2&$A34))","v":""},{"$f":"IF(INDIRECT($B$2&CK$2&$A34)=\"\",\"\",INDIRECT($B$2&CK$2&$A34))","v":""},{"$f":"IF(INDIRECT($B$2&CL$2&$A34)=\"\",\"\",INDIRECT($B$2&CL$2&$A34))","v":""},{"$f":"IF(INDIRECT($B$2&CM$2&$A34)=\"\",\"\",INDIRECT($B$2&CM$2&$A34))","v":""},{"$f":"IF(INDIRECT($B$2&CN$2&$A34)=\"\",\"\",INDIRECT($B$2&CN$2&$A34))","v":""},{"$f":"IF(INDIRECT($B$2&CO$2&$A34)=\"\",\"\",INDIRECT($B$2&CO$2&$A34))","v":""},null,{"$f":"IF(INDIRECT($B$2&CQ$2&$A34)=\"\",\"\",INDIRECT($B$2&CQ$2&$A34))","v":"---"},{"$f":"IF(INDIRECT($B$2&CR$2&$A34)=\"\",\"\",INDIRECT($B$2&CR$2&$A34))","v":"---"},{"$f":"IF(INDIRECT($B$2&CS$2&$A34)=\"\",\"\",INDIRECT($B$2&CS$2&$A34))","v":"---"}]
[55,null,null,null,null,null,null,null,null,null,null,null,null,null,null,25,{"$f":"IF(INDIRECT($B$2&$Q$2&$A35)=\"\",\"\",INDIRECT($B$2&$Q$2&$A35))","v":"その他（要：備考欄への詳細記載）"},null,{"$f":"IF(INDIRECT($B$2&$S$2&$A35)=\"\",\"\",INDIRECT($B$2&$S$2&$A35))","v":0},{"$f":"IF(INDIRECT($B$2&$T$2&$A35)=\"\",\"\",INDIRECT($B$2&$T$2&$A35))","v":0},{"$f":"IF(INDIRECT($B$2&$U$2&$A35)=\"\",\"\",INDIRECT($B$2&$U$2&$A35))","v":0},{"$f":"IF(INDIRECT($B$2&$V$2&$A35)=\"\",\"\",INDIRECT($B$2&$V$2&$A35))","v":""},{"$f":"IF(INDIRECT($B$2&$W$2&$A35)=\"\",\"\",INDIRECT($B$2&$W$2&$A35))","v":""},{"$f":"IF(INDIRECT($B$2&$X$2&$A35)=\"\",\"\",INDIRECT($B$2&$X$2&$A35))","v":""},{"$f":"IF(INDIRECT($B$2&$Y$2&$A35)=\"\",\"\",INDIRECT($B$2&$Y$2&$A35))","v":""},{"$f":"IF(INDIRECT($B$2&$Z$2&$A35)=\"\",\"\",INDIRECT($B$2&$Z$2&$A35))","v":""},null,{"$f":"IF(INDIRECT($B$2&$AB$2&$A35)=\"\",\"\",INDIRECT($B$2&$AB$2&$A35))","v":0},{"$f":"IF(INDIRECT($B$2&$AC$2&$A35)=\"\",\"\",INDIRECT($B$2&$AC$2&$A35))","v":0},{"$f":"IF(INDIRECT($B$2&$AD$2&$A35)=\"\",\"\",INDIRECT($B$2&$AD$2&$A35))","v":0},{"$f":"IF(INDIRECT($B$2&$AE$2&$A35)=\"\",\"\",INDIRECT($B$2&$AE$2&$A35))","v":""},{"$f":"IF(INDIRECT($B$2&$AF$2&$A35)=\"\",\"\",INDIRECT($B$2&$AF$2&$A35))","v":""},null,null,null,null,null,null,null,null,null,null,null,null,null,null,null,{"$f":"IF(INDIRECT($B$2&AV$2&$A35)=\"\",\"\",INDIRECT($B$2&AV$2&$A35))","v":""},{"$f":"IF(INDIRECT($B$2&AW$2&$A35)=\"\",\"\",INDIRECT($B$2&AW$2&$A35))","v":""},{"$f":"IF(INDIRECT($B$2&AX$2&$A35)=\"\",\"\",INDIRECT($B$2&AX$2&$A35))","v":""},{"$f":"IF(INDIRECT($B$2&AY$2&$A35)=\"\",\"\",INDIRECT($B$2&AY$2&$A35))","v":""},{"$f":"IF(INDIRECT($B$2&AZ$2&$A35)=\"\",\"\",INDIRECT($B$2&AZ$2&$A35))","v":""},{"$f":"IF(INDIRECT($B$2&BA$2&$A35)=\"\",\"\",INDIRECT($B$2&BA$2&$A35))","v":""},{"$f":"IF(INDIRECT($B$2&BB$2&$A35)=\"\",\"\",INDIRECT($B$2&BB$2&$A35))","v":""},{"$f":"IF(INDIRECT($B$2&BC$2&$A35)=\"\",\"\",INDIRECT($B$2&BC$2&$A35))","v":""},{"$f":"IF(INDIRECT($B$2&BD$2&$A35)=\"\",\"\",INDIRECT($B$2&BD$2&$A35))","v":""},{"$f":"IF(INDIRECT($B$2&BE$2&$A35)=\"\",\"\",INDIRECT($B$2&BE$2&$A35))","v":""},{"$f":"IF(INDIRECT($B$2&BF$2&$A35)=\"\",\"\",INDIRECT($B$2&BF$2&$A35))","v":""},{"$f":"IF(INDIRECT($B$2&BG$2&$A35)=\"\",\"\",INDIRECT($B$2&BG$2&$A35))","v":""},{"$f":"IF(INDIRECT($B$2&BH$2&$A35)=\"\",\"\",INDIRECT($B$2&BH$2&$A35))","v":""},{"$f":"IF(INDIRECT($B$2&BI$2&$A35)=\"\",\"\",INDIRECT($B$2&BI$2&$A35))","v":""},{"$f":"IF(INDIRECT($B$2&BJ$2&$A35)=\"\",\"\",INDIRECT($B$2&BJ$2&$A35))","v":""},{"$f":"IF(INDIRECT($B$2&BK$2&$A35)=\"\",\"\",INDIRECT($B$2&BK$2&$A35))","v":0},{"$f":"IF(INDIRECT($B$2&BL$2&$A35)=\"\",\"\",INDIRECT($B$2&BL$2&$A35))","v":""},{"$f":"IF(INDIRECT($B$2&BM$2&$A35)=\"\",\"\",INDIRECT($B$2&BM$2&$A35))","v":""},{"$f":"IF(INDIRECT($B$2&BN$2&$A35)=\"\",\"\",INDIRECT($B$2&BN$2&$A35))","v":""},{"$f":"IF(INDIRECT($B$2&BO$2&$A35)=\"\",\"\",INDIRECT($B$2&BO$2&$A35))","v":""},{"$f":"IF(INDIRECT($B$2&BP$2&$A35)=\"\",\"\",INDIRECT($B$2&BP$2&$A35))","v":""},{"$f":"IF(INDIRECT($B$2&BQ$2&$A35)=\"\",\"\",INDIRECT($B$2&BQ$2&$A35))","v":""},{"$f":"IF(INDIRECT($B$2&BR$2&$A35)=\"\",\"\",INDIRECT($B$2&BR$2&$A35))","v":""},{"$f":"IF(INDIRECT($B$2&BS$2&$A35)=\"\",\"\",INDIRECT($B$2&BS$2&$A35))","v":""},{"$f":"IF(INDIRECT($B$2&BT$2&$A35)=\"\",\"\",INDIRECT($B$2&BT$2&$A35))","v":""},{"$f":"IF(INDIRECT($B$2&BU$2&$A35)=\"\",\"\",INDIRECT($B$2&BU$2&$A35))","v":""},{"$f":"IF(INDIRECT($B$2&BV$2&$A35)=\"\",\"\",INDIRECT($B$2&BV$2&$A35))","v":""},{"$f":"IF(INDIRECT($B$2&BW$2&$A35)=\"\",\"\",INDIRECT($B$2&BW$2&$A35))","v":""},{"$f":"IF(INDIRECT($B$2&BX$2&$A35)=\"\",\"\",INDIRECT($B$2&BX$2&$A35))","v":""},{"$f":"IF(INDIRECT($B$2&BY$2&$A35)=\"\",\"\",INDIRECT($B$2&BY$2&$A35))","v":""},{"$f":"IF(INDIRECT($B$2&BZ$2&$A35)=\"\",\"\",INDIRECT($B$2&BZ$2&$A35))","v":0},{"$f":"IF(INDIRECT($B$2&CA$2&$A35)=\"\",\"\",INDIRECT($B$2&CA$2&$A35))","v":""},{"$f":"IF(INDIRECT($B$2&CB$2&$A35)=\"\",\"\",INDIRECT($B$2&CB$2&$A35))","v":""},{"$f":"IF(INDIRECT($B$2&CC$2&$A35)=\"\",\"\",INDIRECT($B$2&CC$2&$A35))","v":""},{"$f":"IF(INDIRECT($B$2&CD$2&$A35)=\"\",\"\",INDIRECT($B$2&CD$2&$A35))","v":""},{"$f":"IF(INDIRECT($B$2&CE$2&$A35)=\"\",\"\",INDIRECT($B$2&CE$2&$A35))","v":""},{"$f":"IF(INDIRECT($B$2&CF$2&$A35)=\"\",\"\",INDIRECT($B$2&CF$2&$A35))","v":""},{"$f":"IF(INDIRECT($B$2&CG$2&$A35)=\"\",\"\",INDIRECT($B$2&CG$2&$A35))","v":""},{"$f":"IF(INDIRECT($B$2&CH$2&$A35)=\"\",\"\",INDIRECT($B$2&CH$2&$A35))","v":""},{"$f":"IF(INDIRECT($B$2&CI$2&$A35)=\"\",\"\",INDIRECT($B$2&CI$2&$A35))","v":""},{"$f":"IF(INDIRECT($B$2&CJ$2&$A35)=\"\",\"\",INDIRECT($B$2&CJ$2&$A35))","v":""},{"$f":"IF(INDIRECT($B$2&CK$2&$A35)=\"\",\"\",INDIRECT($B$2&CK$2&$A35))","v":""},{"$f":"IF(INDIRECT($B$2&CL$2&$A35)=\"\",\"\",INDIRECT($B$2&CL$2&$A35))","v":""},{"$f":"IF(INDIRECT($B$2&CM$2&$A35)=\"\",\"\",INDIRECT($B$2&CM$2&$A35))","v":""},{"$f":"IF(INDIRECT($B$2&CN$2&$A35)=\"\",\"\",INDIRECT($B$2&CN$2&$A35))","v":""},{"$f":"IF(INDIRECT($B$2&CO$2&$A35)=\"\",\"\",INDIRECT($B$2&CO$2&$A35))","v":""},null,{"$f":"IF(INDIRECT($B$2&CQ$2&$A35)=\"\",\"\",INDIRECT($B$2&CQ$2&$A35))","v":"---"},{"$f":"IF(INDIRECT($B$2&CR$2&$A35)=\"\",\"\",INDIRECT($B$2&CR$2&$A35))","v":"---"},{"$f":"IF(INDIRECT($B$2&CS$2&$A35)=\"\",\"\",INDIRECT($B$2&CS$2&$A35))","v":"---"}]
[63,null,null,null,null,null,null,null,null,null,null,null,null,null,null,26,{"$f":"IF(INDIRECT($B$2&$Q$2&$A36)=\"\",\"\",INDIRECT($B$2&$Q$2&$A36))","v":""},null,{"$f":"IF(INDIRECT($B$2&$S$2&$A36)=\"\",\"\",INDIRECT($B$2&$S$2&$A36))","v":0},{"$f":"IF(INDIRECT($B$2&$T$2&$A36)=\"\",\"\",INDIRECT($B$2&$T$2&$A36))","v":0},{"$f":"IF(INDIRECT($B$2&$U$2&$A36)=\"\",\"\",INDIRECT($B$2&$U$2&$A36))","v":0},{"$f":"IF(INDIRECT($B$2&$V$2&$A36)=\"\",\"\",INDIRECT($B$2&$V$2&$A36))","v":""},{"$f":"IF(INDIRECT($B$2&$W$2&$A36)=\"\",\"\",INDIRECT($B$2&$W$2&$A36))","v":""},{"$f":"IF(INDIRECT($B$2&$X$2&$A36)=\"\",\"\",INDIRECT($B$2&$X$2&$A36))","v":""},{"$f":"IF(INDIRECT($B$2&$Y$2&$A36)=\"\",\"\",INDIRECT($B$2&$Y$2&$A36))","v":""},{"$f":"IF(INDIRECT($B$2&$Z$2&$A36)=\"\",\"\",INDIRECT($B$2&$Z$2&$A36))","v":""},null,{"$f":"IF(INDIRECT($B$2&$AB$2&$A36)=\"\",\"\",INDIRECT($B$2&$AB$2&$A36))","v":""},{"$f":"IF(INDIRECT($B$2&$AC$2&$A36)=\"\",\"\",INDIRECT($B$2&$AC$2&$A36))","v":""},{"$f":"IF(INDIRECT($B$2&$AD$2&$A36)=\"\",\"\",INDIRECT($B$2&$AD$2&$A36))","v":""},{"$f":"IF(INDIRECT($B$2&$AE$2&$A36)=\"\",\"\",INDIRECT($B$2&$AE$2&$A36))","v":""},{"$f":"IF(INDIRECT($B$2&$AF$2&$A36)=\"\",\"\",INDIRECT($B$2&$AF$2&$A36))","v":""},null,null,null,null,null,null,null,null,null,null,null,null,null,null,null,{"$f":"IF(INDIRECT($B$2&AV$2&$A36)=\"\",\"\",INDIRECT($B$2&AV$2&$A36))","v":""},{"$f":"IF(INDIRECT($B$2&AW$2&$A36)=\"\",\"\",INDIRECT($B$2&AW$2&$A36))","v":""},{"$f":"IF(INDIRECT($B$2&AX$2&$A36)=\"\",\"\",INDIRECT($B$2&AX$2&$A36))","v":""},{"$f":"IF(INDIRECT($B$2&AY$2&$A36)=\"\",\"\",INDIRECT($B$2&AY$2&$A36))","v":""},{"$f":"IF(INDIRECT($B$2&AZ$2&$A36)=\"\",\"\",INDIRECT($B$2&AZ$2&$A36))","v":""},{"$f":"IF(INDIRECT($B$2&BA$2&$A36)=\"\",\"\",INDIRECT($B$2&BA$2&$A36))","v":""},{"$f":"IF(INDIRECT($B$2&BB$2&$A36)=\"\",\"\",INDIRECT($B$2&BB$2&$A36))","v":""},{"$f":"IF(INDIRECT($B$2&BC$2&$A36)=\"\",\"\",INDIRECT($B$2&BC$2&$A36))","v":""},{"$f":"IF(INDIRECT($B$2&BD$2&$A36)=\"\",\"\",INDIRECT($B$2&BD$2&$A36))","v":""},{"$f":"IF(INDIRECT($B$2&BE$2&$A36)=\"\",\"\",INDIRECT($B$2&BE$2&$A36))","v":""},{"$f":"IF(INDIRECT($B$2&BF$2&$A36)=\"\",\"\",INDIRECT($B$2&BF$2&$A36))","v":""},{"$f":"IF(INDIRECT($B$2&BG$2&$A36)=\"\",\"\",INDIRECT($B$2&BG$2&$A36))","v":""},{"$f":"IF(INDIRECT($B$2&BH$2&$A36)=\"\",\"\",INDIRECT($B$2&BH$2&$A36))","v":""},{"$f":"IF(INDIRECT($B$2&BI$2&$A36)=\"\",\"\",INDIRECT($B$2&BI$2&$A36))","v":""},{"$f":"IF(INDIRECT($B$2&BJ$2&$A36)=\"\",\"\",INDIRECT($B$2&BJ$2&$A36))","v":""},{"$f":"IF(INDIRECT($B$2&BK$2&$A36)=\"\",\"\",INDIRECT($B$2&BK$2&$A36))","v":0},{"$f":"IF(INDIRECT($B$2&BL$2&$A36)=\"\",\"\",INDIRECT($B$2&BL$2&$A36))","v":""},{"$f":"IF(INDIRECT($B$2&BM$2&$A36)=\"\",\"\",INDIRECT($B$2&BM$2&$A36))","v":""},{"$f":"IF(INDIRECT($B$2&BN$2&$A36)=\"\",\"\",INDIRECT($B$2&BN$2&$A36))","v":""},{"$f":"IF(INDIRECT($B$2&BO$2&$A36)=\"\",\"\",INDIRECT($B$2&BO$2&$A36))","v":""},{"$f":"IF(INDIRECT($B$2&BP$2&$A36)=\"\",\"\",INDIRECT($B$2&BP$2&$A36))","v":""},{"$f":"IF(INDIRECT($B$2&BQ$2&$A36)=\"\",\"\",INDIRECT($B$2&BQ$2&$A36))","v":""},{"$f":"IF(INDIRECT($B$2&BR$2&$A36)=\"\",\"\",INDIRECT($B$2&BR$2&$A36))","v":""},{"$f":"IF(INDIRECT($B$2&BS$2&$A36)=\"\",\"\",INDIRECT($B$2&BS$2&$A36))","v":""},{"$f":"IF(INDIRECT($B$2&BT$2&$A36)=\"\",\"\",INDIRECT($B$2&BT$2&$A36))","v":""},{"$f":"IF(INDIRECT($B$2&BU$2&$A36)=\"\",\"\",INDIRECT($B$2&BU$2&$A36))","v":""},{"$f":"IF(INDIRECT($B$2&BV$2&$A36)=\"\",\"\",INDIRECT($B$2&BV$2&$A36))","v":""},{"$f":"IF(INDIRECT($B$2&BW$2&$A36)=\"\",\"\",INDIRECT($B$2&BW$2&$A36))","v":""},{"$f":"IF(INDIRECT($B$2&BX$2&$A36)=\"\",\"\",INDIRECT($B$2&BX$2&$A36))","v":""},{"$f":"IF(INDIRECT($B$2&BY$2&$A36)=\"\",\"\",INDIRECT($B$2&BY$2&$A36))","v":""},{"$f":"IF(INDIRECT($B$2&BZ$2&$A36)=\"\",\"\",INDIRECT($B$2&BZ$2&$A36))","v":0},{"$f":"IF(INDIRECT($B$2&CA$2&$A36)=\"\",\"\",INDIRECT($B$2&CA$2&$A36))","v":""},{"$f":"IF(INDIRECT($B$2&CB$2&$A36)=\"\",\"\",INDIRECT($B$2&CB$2&$A36))","v":""},{"$f":"IF(INDIRECT($B$2&CC$2&$A36)=\"\",\"\",INDIRECT($B$2&CC$2&$A36))","v":""},{"$f":"IF(INDIRECT($B$2&CD$2&$A36)=\"\",\"\",INDIRECT($B$2&CD$2&$A36))","v":""},{"$f":"IF(INDIRECT($B$2&CE$2&$A36)=\"\",\"\",INDIRECT($B$2&CE$2&$A36))","v":""},{"$f":"IF(INDIRECT($B$2&CF$2&$A36)=\"\",\"\",INDIRECT($B$2&CF$2&$A36))","v":""},{"$f":"IF(INDIRECT($B$2&CG$2&$A36)=\"\",\"\",INDIRECT($B$2&CG$2&$A36))","v":""},{"$f":"IF(INDIRECT($B$2&CH$2&$A36)=\"\",\"\",INDIRECT($B$2&CH$2&$A36))","v":""},{"$f":"IF(INDIRECT($B$2&CI$2&$A36)=\"\",\"\",INDIRECT($B$2&CI$2&$A36))","v":""},{"$f":"IF(INDIRECT($B$2&CJ$2&$A36)=\"\",\"\",INDIRECT($B$2&CJ$2&$A36))","v":""},{"$f":"IF(INDIRECT($B$2&CK$2&$A36)=\"\",\"\",INDIRECT($B$2&CK$2&$A36))","v":""},{"$f":"IF(INDIRECT($B$2&CL$2&$A36)=\"\",\"\",INDIRECT($B$2&CL$2&$A36))","v":""},{"$f":"IF(INDIRECT($B$2&CM$2&$A36)=\"\",\"\",INDIRECT($B$2&CM$2&$A36))","v":""},{"$f":"IF(INDIRECT($B$2&CN$2&$A36)=\"\",\"\",INDIRECT($B$2&CN$2&$A36))","v":""},{"$f":"IF(INDIRECT($B$2&CO$2&$A36)=\"\",\"\",INDIRECT($B$2&CO$2&$A36))","v":""},null,{"$f":"IF(INDIRECT($B$2&CQ$2&$A36)=\"\",\"\",INDIRECT($B$2&CQ$2&$A36))","v":""},{"$f":"IF(INDIRECT($B$2&CR$2&$A36)=\"\",\"\",INDIRECT($B$2&CR$2&$A36))","v":""},{"$f":"IF(INDIRECT($B$2&CS$2&$A36)=\"\",\"\",INDIRECT($B$2&CS$2&$A36))","v":""}]
[64,null,null,null,null,null,null,null,null,null,null,null,null,null,null,27,{"$f":"IF(INDIRECT($B$2&$Q$2&$A37)=\"\",\"\",INDIRECT($B$2&$Q$2&$A37))","v":""},null,{"$f":"IF(INDIRECT($B$2&$S$2&$A37)=\"\",\"\",INDIRECT($B$2&$S$2&$A37))","v":0},{"$f":"IF(INDIRECT($B$2&$T$2&$A37)=\"\",\"\",INDIRECT($B$2&$T$2&$A37))","v":0},{"$f":"IF(INDIRECT($B$2&$U$2&$A37)=\"\",\"\",INDIRECT($B$2&$U$2&$A37))","v":0},{"$f":"IF(INDIRECT($B$2&$V$2&$A37)=\"\",\"\",INDIRECT($B$2&$V$2&$A37))","v":""},{"$f":"IF(INDIRECT($B$2&$W$2&$A37)=\"\",\"\",INDIRECT($B$2&$W$2&$A37))","v":""},{"$f":"IF(INDIRECT($B$2&$X$2&$A37)=\"\",\"\",INDIRECT($B$2&$X$2&$A37))","v":""},{"$f":"IF(INDIRECT($B$2&$Y$2&$A37)=\"\",\"\",INDIRECT($B$2&$Y$2&$A37))","v":""},{"$f":"IF(INDIRECT($B$2&$Z$2&$A37)=\"\",\"\",INDIRECT($B$2&$Z$2&$A37))","v":""},null,{"$f":"IF(INDIRECT($B$2&$AB$2&$A37)=\"\",\"\",INDIRECT($B$2&$AB$2&$A37))","v":""},{"$f":"IF(INDIRECT($B$2&$AC$2&$A37)=\"\",\"\",INDIRECT($B$2&$AC$2&$A37))","v":""},{"$f":"IF(INDIRECT($B$2&$AD$2&$A37)=\"\",\"\",INDIRECT($B$2&$AD$2&$A37))","v":""},{"$f":"IF(INDIRECT($B$2&$AE$2&$A37)=\"\",\"\",INDIRECT($B$2&$AE$2&$A37))","v":""},{"$f":"IF(INDIRECT($B$2&$AF$2&$A37)=\"\",\"\",INDIRECT($B$2&$AF$2&$A37))","v":""},null,null,null,null,null,null,null,null,null,null,null,null,null,null,null,{"$f":"IF(INDIRECT($B$2&AV$2&$A37)=\"\",\"\",INDIRECT($B$2&AV$2&$A37))","v":""},{"$f":"IF(INDIRECT($B$2&AW$2&$A37)=\"\",\"\",INDIRECT($B$2&AW$2&$A37))","v":""},{"$f":"IF(INDIRECT($B$2&AX$2&$A37)=\"\",\"\",INDIRECT($B$2&AX$2&$A37))","v":""},{"$f":"IF(INDIRECT($B$2&AY$2&$A37)=\"\",\"\",INDIRECT($B$2&AY$2&$A37))","v":""},{"$f":"IF(INDIRECT($B$2&AZ$2&$A37)=\"\",\"\",INDIRECT($B$2&AZ$2&$A37))","v":""},{"$f":"IF(INDIRECT($B$2&BA$2&$A37)=\"\",\"\",INDIRECT($B$2&BA$2&$A37))","v":""},{"$f":"IF(INDIRECT($B$2&BB$2&$A37)=\"\",\"\",INDIRECT($B$2&BB$2&$A37))","v":""},{"$f":"IF(INDIRECT($B$2&BC$2&$A37)=\"\",\"\",INDIRECT($B$2&BC$2&$A37))","v":""},{"$f":"IF(INDIRECT($B$2&BD$2&$A37)=\"\",\"\",INDIRECT($B$2&BD$2&$A37))","v":""},{"$f":"IF(INDIRECT($B$2&BE$2&$A37)=\"\",\"\",INDIRECT($B$2&BE$2&$A37))","v":""},{"$f":"IF(INDIRECT($B$2&BF$2&$A37)=\"\",\"\",INDIRECT($B$2&BF$2&$A37))","v":""},{"$f":"IF(INDIRECT($B$2&BG$2&$A37)=\"\",\"\",INDIRECT($B$2&BG$2&$A37))","v":""},{"$f":"IF(INDIRECT($B$2&BH$2&$A37)=\"\",\"\",INDIRECT($B$2&BH$2&$A37))","v":""},{"$f":"IF(INDIRECT($B$2&BI$2&$A37)=\"\",\"\",INDIRECT($B$2&BI$2&$A37))","v":""},{"$f":"IF(INDIRECT($B$2&BJ$2&$A37)=\"\",\"\",INDIRECT($B$2&BJ$2&$A37))","v":""},{"$f":"IF(INDIRECT($B$2&BK$2&$A37)=\"\",\"\",INDIRECT($B$2&BK$2&$A37))","v":0},{"$f":"IF(INDIRECT($B$2&BL$2&$A37)=\"\",\"\",INDIRECT($B$2&BL$2&$A37))","v":""},{"$f":"IF(INDIRECT($B$2&BM$2&$A37)=\"\",\"\",INDIRECT($B$2&BM$2&$A37))","v":""},{"$f":"IF(INDIRECT($B$2&BN$2&$A37)=\"\",\"\",INDIRECT($B$2&BN$2&$A37))","v":""},{"$f":"IF(INDIRECT($B$2&BO$2&$A37)=\"\",\"\",INDIRECT($B$2&BO$2&$A37))","v":""},{"$f":"IF(INDIRECT($B$2&BP$2&$A37)=\"\",\"\",INDIRECT($B$2&BP$2&$A37))","v":""},{"$f":"IF(INDIRECT($B$2&BQ$2&$A37)=\"\",\"\",INDIRECT($B$2&BQ$2&$A37))","v":""},{"$f":"IF(INDIRECT($B$2&BR$2&$A37)=\"\",\"\",INDIRECT($B$2&BR$2&$A37))","v":""},{"$f":"IF(INDIRECT($B$2&BS$2&$A37)=\"\",\"\",INDIRECT($B$2&BS$2&$A37))","v":""},{"$f":"IF(INDIRECT($B$2&BT$2&$A37)=\"\",\"\",INDIRECT($B$2&BT$2&$A37))","v":""},{"$f":"IF(INDIRECT($B$2&BU$2&$A37)=\"\",\"\",INDIRECT($B$2&BU$2&$A37))","v":""},{"$f":"IF(INDIRECT($B$2&BV$2&$A37)=\"\",\"\",INDIRECT($B$2&BV$2&$A37))","v":""},{"$f":"IF(INDIRECT($B$2&BW$2&$A37)=\"\",\"\",INDIRECT($B$2&BW$2&$A37))","v":""},{"$f":"IF(INDIRECT($B$2&BX$2&$A37)=\"\",\"\",INDIRECT($B$2&BX$2&$A37))","v":""},{"$f":"IF(INDIRECT($B$2&BY$2&$A37)=\"\",\"\",INDIRECT($B$2&BY$2&$A37))","v":""},{"$f":"IF(INDIRECT($B$2&BZ$2&$A37)=\"\",\"\",INDIRECT($B$2&BZ$2&$A37))","v":0},{"$f":"IF(INDIRECT($B$2&CA$2&$A37)=\"\",\"\",INDIRECT($B$2&CA$2&$A37))","v":""},{"$f":"IF(INDIRECT($B$2&CB$2&$A37)=\"\",\"\",INDIRECT($B$2&CB$2&$A37))","v":""},{"$f":"IF(INDIRECT($B$2&CC$2&$A37)=\"\",\"\",INDIRECT($B$2&CC$2&$A37))","v":""},{"$f":"IF(INDIRECT($B$2&CD$2&$A37)=\"\",\"\",INDIRECT($B$2&CD$2&$A37))","v":""},{"$f":"IF(INDIRECT($B$2&CE$2&$A37)=\"\",\"\",INDIRECT($B$2&CE$2&$A37))","v":""},{"$f":"IF(INDIRECT($B$2&CF$2&$A37)=\"\",\"\",INDIRECT($B$2&CF$2&$A37))","v":""},{"$f":"IF(INDIRECT($B$2&CG$2&$A37)=\"\",\"\",INDIRECT($B$2&CG$2&$A37))","v":""},{"$f":"IF(INDIRECT($B$2&CH$2&$A37)=\"\",\"\",INDIRECT($B$2&CH$2&$A37))","v":""},{"$f":"IF(INDIRECT($B$2&CI$2&$A37)=\"\",\"\",INDIRECT($B$2&CI$2&$A37))","v":""},{"$f":"IF(INDIRECT($B$2&CJ$2&$A37)=\"\",\"\",INDIRECT($B$2&CJ$2&$A37))","v":""},{"$f":"IF(INDIRECT($B$2&CK$2&$A37)=\"\",\"\",INDIRECT($B$2&CK$2&$A37))","v":""},{"$f":"IF(INDIRECT($B$2&CL$2&$A37)=\"\",\"\",INDIRECT($B$2&CL$2&$A37))","v":""},{"$f":"IF(INDIRECT($B$2&CM$2&$A37)=\"\",\"\",INDIRECT($B$2&CM$2&$A37))","v":""},{"$f":"IF(INDIRECT($B$2&CN$2&$A37)=\"\",\"\",INDIRECT($B$2&CN$2&$A37))","v":""},{"$f":"IF(INDIRECT($B$2&CO$2&$A37)=\"\",\"\",INDIRECT($B$2&CO$2&$A37))","v":""},null,{"$f":"IF(INDIRECT($B$2&CQ$2&$A37)=\"\",\"\",INDIRECT($B$2&CQ$2&$A37))","v":""},{"$f":"IF(INDIRECT($B$2&CR$2&$A37)=\"\",\"\",INDIRECT($B$2&CR$2&$A37))","v":""},{"$f":"IF(INDIRECT($B$2&CS$2&$A37)=\"\",\"\",INDIRECT($B$2&CS$2&$A37))","v":""}]
[65,null,null,null,null,null,null,null,null,null,null,null,null,null,null,28,{"$f":"IF(INDIRECT($B$2&$Q$2&$A38)=\"\",\"\",INDIRECT($B$2&$Q$2&$A38))","v":""},null,{"$f":"IF(INDIRECT($B$2&$S$2&$A38)=\"\",\"\",INDIRECT($B$2&$S$2&$A38))","v":0},{"$f":"IF(INDIRECT($B$2&$T$2&$A38)=\"\",\"\",INDIRECT($B$2&$T$2&$A38))","v":0},{"$f":"IF(INDIRECT($B$2&$U$2&$A38)=\"\",\"\",INDIRECT($B$2&$U$2&$A38))","v":0},{"$f":"IF(INDIRECT($B$2&$V$2&$A38)=\"\",\"\",INDIRECT($B$2&$V$2&$A38))","v":""},{"$f":"IF(INDIRECT($B$2&$W$2&$A38)=\"\",\"\",INDIRECT($B$2&$W$2&$A38))","v":""},{"$f":"IF(INDIRECT($B$2&$X$2&$A38)=\"\",\"\",INDIRECT($B$2&$X$2&$A38))","v":""},{"$f":"IF(INDIRECT($B$2&$Y$2&$A38)=\"\",\"\",INDIRECT($B$2&$Y$2&$A38))","v":""},{"$f":"IF(INDIRECT($B$2&$Z$2&$A38)=\"\",\"\",INDIRECT($B$2&$Z$2&$A38))","v":""},null,{"$f":"IF(INDIRECT($B$2&$AB$2&$A38)=\"\",\"\",INDIRECT($B$2&$AB$2&$A38))","v":""},{"$f":"IF(INDIRECT($B$2&$AC$2&$A38)=\"\",\"\",INDIRECT($B$2&$AC$2&$A38))","v":""},{"$f":"IF(INDIRECT($B$2&$AD$2&$A38)=\"\",\"\",INDIRECT($B$2&$AD$2&$A38))","v":""},{"$f":"IF(INDIRECT($B$2&$AE$2&$A38)=\"\",\"\",INDIRECT($B$2&$AE$2&$A38))","v":""},{"$f":"IF(INDIRECT($B$2&$AF$2&$A38)=\"\",\"\",INDIRECT($B$2&$AF$2&$A38))","v":""},null,null,null,null,null,null,null,null,null,null,null,null,null,null,null,{"$f":"IF(INDIRECT($B$2&AV$2&$A38)=\"\",\"\",INDIRECT($B$2&AV$2&$A38))","v":""},{"$f":"IF(INDIRECT($B$2&AW$2&$A38)=\"\",\"\",INDIRECT($B$2&AW$2&$A38))","v":""},{"$f":"IF(INDIRECT($B$2&AX$2&$A38)=\"\",\"\",INDIRECT($B$2&AX$2&$A38))","v":""},{"$f":"IF(INDIRECT($B$2&AY$2&$A38)=\"\",\"\",INDIRECT($B$2&AY$2&$A38))","v":""},{"$f":"IF(INDIRECT($B$2&AZ$2&$A38)=\"\",\"\",INDIRECT($B$2&AZ$2&$A38))","v":""},{"$f":"IF(INDIRECT($B$2&BA$2&$A38)=\"\",\"\",INDIRECT($B$2&BA$2&$A38))","v":""},{"$f":"IF(INDIRECT($B$2&BB$2&$A38)=\"\",\"\",INDIRECT($B$2&BB$2&$A38))","v":""},{"$f":"IF(INDIRECT($B$2&BC$2&$A38)=\"\",\"\",INDIRECT($B$2&BC$2&$A38))","v":""},{"$f":"IF(INDIRECT($B$2&BD$2&$A38)=\"\",\"\",INDIRECT($B$2&BD$2&$A38))","v":""},{"$f":"IF(INDIRECT($B$2&BE$2&$A38)=\"\",\"\",INDIRECT($B$2&BE$2&$A38))","v":""},{"$f":"IF(INDIRECT($B$2&BF$2&$A38)=\"\",\"\",INDIRECT($B$2&BF$2&$A38))","v":""},{"$f":"IF(INDIRECT($B$2&BG$2&$A38)=\"\",\"\",INDIRECT($B$2&BG$2&$A38))","v":""},{"$f":"IF(INDIRECT($B$2&BH$2&$A38)=\"\",\"\",INDIRECT($B$2&BH$2&$A38))","v":""},{"$f":"IF(INDIRECT($B$2&BI$2&$A38)=\"\",\"\",INDIRECT($B$2&BI$2&$A38))","v":""},{"$f":"IF(INDIRECT($B$2&BJ$2&$A38)=\"\",\"\",INDIRECT($B$2&BJ$2&$A38))","v":""},{"$f":"IF(INDIRECT($B$2&BK$2&$A38)=\"\",\"\",INDIRECT($B$2&BK$2&$A38))","v":0},{"$f":"IF(INDIRECT($B$2&BL$2&$A38)=\"\",\"\",INDIRECT($B$2&BL$2&$A38))","v":""},{"$f":"IF(INDIRECT($B$2&BM$2&$A38)=\"\",\"\",INDIRECT($B$2&BM$2&$A38))","v":""},{"$f":"IF(INDIRECT($B$2&BN$2&$A38)=\"\",\"\",INDIRECT($B$2&BN$2&$A38))","v":""},{"$f":"IF(INDIRECT($B$2&BO$2&$A38)=\"\",\"\",INDIRECT($B$2&BO$2&$A38))","v":""},{"$f":"IF(INDIRECT($B$2&BP$2&$A38)=\"\",\"\",INDIRECT($B$2&BP$2&$A38))","v":""},{"$f":"IF(INDIRECT($B$2&BQ$2&$A38)=\"\",\"\",INDIRECT($B$2&BQ$2&$A38))","v":""},{"$f":"IF(INDIRECT($B$2&BR$2&$A38)=\"\",\"\",INDIRECT($B$2&BR$2&$A38))","v":""},{"$f":"IF(INDIRECT($B$2&BS$2&$A38)=\"\",\"\",INDIRECT($B$2&BS$2&$A38))","v":""},{"$f":"IF(INDIRECT($B$2&BT$2&$A38)=\"\",\"\",INDIRECT($B$2&BT$2&$A38))","v":""},{"$f":"IF(INDIRECT($B$2&BU$2&$A38)=\"\",\"\",INDIRECT($B$2&BU$2&$A38))","v":""},{"$f":"IF(INDIRECT($B$2&BV$2&$A38)=\"\",\"\",INDIRECT($B$2&BV$2&$A38))","v":""},{"$f":"IF(INDIRECT($B$2&BW$2&$A38)=\"\",\"\",INDIRECT($B$2&BW$2&$A38))","v":""},{"$f":"IF(INDIRECT($B$2&BX$2&$A38)=\"\",\"\",INDIRECT($B$2&BX$2&$A38))","v":""},{"$f":"IF(INDIRECT($B$2&BY$2&$A38)=\"\",\"\",INDIRECT($B$2&BY$2&$A38))","v":""},{"$f":"IF(INDIRECT($B$2&BZ$2&$A38)=\"\",\"\",INDIRECT($B$2&BZ$2&$A38))","v":0},{"$f":"IF(INDIRECT($B$2&CA$2&$A38)=\"\",\"\",INDIRECT($B$2&CA$2&$A38))","v":""},{"$f":"IF(INDIRECT($B$2&CB$2&$A38)=\"\",\"\",INDIRECT($B$2&CB$2&$A38))","v":""},{"$f":"IF(INDIRECT($B$2&CC$2&$A38)=\"\",\"\",INDIRECT($B$2&CC$2&$A38))","v":""},{"$f":"IF(INDIRECT($B$2&CD$2&$A38)=\"\",\"\",INDIRECT($B$2&CD$2&$A38))","v":""},{"$f":"IF(INDIRECT($B$2&CE$2&$A38)=\"\",\"\",INDIRECT($B$2&CE$2&$A38))","v":""},{"$f":"IF(INDIRECT($B$2&CF$2&$A38)=\"\",\"\",INDIRECT($B$2&CF$2&$A38))","v":""},{"$f":"IF(INDIRECT($B$2&CG$2&$A38)=\"\",\"\",INDIRECT($B$2&CG$2&$A38))","v":""},{"$f":"IF(INDIRECT($B$2&CH$2&$A38)=\"\",\"\",INDIRECT($B$2&CH$2&$A38))","v":""},{"$f":"IF(INDIRECT($B$2&CI$2&$A38)=\"\",\"\",INDIRECT($B$2&CI$2&$A38))","v":""},{"$f":"IF(INDIRECT($B$2&CJ$2&$A38)=\"\",\"\",INDIRECT($B$2&CJ$2&$A38))","v":""},{"$f":"IF(INDIRECT($B$2&CK$2&$A38)=\"\",\"\",INDIRECT($B$2&CK$2&$A38))","v":""},{"$f":"IF(INDIRECT($B$2&CL$2&$A38)=\"\",\"\",INDIRECT($B$2&CL$2&$A38))","v":""},{"$f":"IF(INDIRECT($B$2&CM$2&$A38)=\"\",\"\",INDIRECT($B$2&CM$2&$A38))","v":""},{"$f":"IF(INDIRECT($B$2&CN$2&$A38)=\"\",\"\",INDIRECT($B$2&CN$2&$A38))","v":""},{"$f":"IF(INDIRECT($B$2&CO$2&$A38)=\"\",\"\",INDIRECT($B$2&CO$2&$A38))","v":""},null,{"$f":"IF(INDIRECT($B$2&CQ$2&$A38)=\"\",\"\",INDIRECT($B$2&CQ$2&$A38))","v":""},{"$f":"IF(INDIRECT($B$2&CR$2&$A38)=\"\",\"\",INDIRECT($B$2&CR$2&$A38))","v":""},{"$f":"IF(INDIRECT($B$2&CS$2&$A38)=\"\",\"\",INDIRECT($B$2&CS$2&$A38))","v":""}]
[66,null,null,null,null,null,null,null,null,null,null,null,null,null,null,29,{"$f":"IF(INDIRECT($B$2&$Q$2&$A39)=\"\",\"\",INDIRECT($B$2&$Q$2&$A39))","v":""},null,{"$f":"IF(INDIRECT($B$2&$S$2&$A39)=\"\",\"\",INDIRECT($B$2&$S$2&$A39))","v":0},{"$f":"IF(INDIRECT($B$2&$T$2&$A39)=\"\",\"\",INDIRECT($B$2&$T$2&$A39))","v":0},{"$f":"IF(INDIRECT($B$2&$U$2&$A39)=\"\",\"\",INDIRECT($B$2&$U$2&$A39))","v":0},{"$f":"IF(INDIRECT($B$2&$V$2&$A39)=\"\",\"\",INDIRECT($B$2&$V$2&$A39))","v":""},{"$f":"IF(INDIRECT($B$2&$W$2&$A39)=\"\",\"\",INDIRECT($B$2&$W$2&$A39))","v":""},{"$f":"IF(INDIRECT($B$2&$X$2&$A39)=\"\",\"\",INDIRECT($B$2&$X$2&$A39))","v":""},{"$f":"IF(INDIRECT($B$2&$Y$2&$A39)=\"\",\"\",INDIRECT($B$2&$Y$2&$A39))","v":""},{"$f":"IF(INDIRECT($B$2&$Z$2&$A39)=\"\",\"\",INDIRECT($B$2&$Z$2&$A39))","v":""},null,{"$f":"IF(INDIRECT($B$2&$AB$2&$A39)=\"\",\"\",INDIRECT($B$2&$AB$2&$A39))","v":""},{"$f":"IF(INDIRECT($B$2&$AC$2&$A39)=\"\",\"\",INDIRECT($B$2&$AC$2&$A39))","v":""},{"$f":"IF(INDIRECT($B$2&$AD$2&$A39)=\"\",\"\",INDIRECT($B$2&$AD$2&$A39))","v":""},{"$f":"IF(INDIRECT($B$2&$AE$2&$A39)=\"\",\"\",INDIRECT($B$2&$AE$2&$A39))","v":""},{"$f":"IF(INDIRECT($B$2&$AF$2&$A39)=\"\",\"\",INDIRECT($B$2&$AF$2&$A39))","v":""},null,null,null,null,null,null,null,null,null,null,null,null,null,null,null,{"$f":"IF(INDIRECT($B$2&AV$2&$A39)=\"\",\"\",INDIRECT($B$2&AV$2&$A39))","v":""},{"$f":"IF(INDIRECT($B$2&AW$2&$A39)=\"\",\"\",INDIRECT($B$2&AW$2&$A39))","v":""},{"$f":"IF(INDIRECT($B$2&AX$2&$A39)=\"\",\"\",INDIRECT($B$2&AX$2&$A39))","v":""},{"$f":"IF(INDIRECT($B$2&AY$2&$A39)=\"\",\"\",INDIRECT($B$2&AY$2&$A39))","v":""},{"$f":"IF(INDIRECT($B$2&AZ$2&$A39)=\"\",\"\",INDIRECT($B$2&AZ$2&$A39))","v":""},{"$f":"IF(INDIRECT($B$2&BA$2&$A39)=\"\",\"\",INDIRECT($B$2&BA$2&$A39))","v":""},{"$f":"IF(INDIRECT($B$2&BB$2&$A39)=\"\",\"\",INDIRECT($B$2&BB$2&$A39))","v":""},{"$f":"IF(INDIRECT($B$2&BC$2&$A39)=\"\",\"\",INDIRECT($B$2&BC$2&$A39))","v":""},{"$f":"IF(INDIRECT($B$2&BD$2&$A39)=\"\",\"\",INDIRECT($B$2&BD$2&$A39))","v":""},{"$f":"IF(INDIRECT($B$2&BE$2&$A39)=\"\",\"\",INDIRECT($B$2&BE$2&$A39))","v":""},{"$f":"IF(INDIRECT($B$2&BF$2&$A39)=\"\",\"\",INDIRECT($B$2&BF$2&$A39))","v":""},{"$f":"IF(INDIRECT($B$2&BG$2&$A39)=\"\",\"\",INDIRECT($B$2&BG$2&$A39))","v":""},{"$f":"IF(INDIRECT($B$2&BH$2&$A39)=\"\",\"\",INDIRECT($B$2&BH$2&$A39))","v":""},{"$f":"IF(INDIRECT($B$2&BI$2&$A39)=\"\",\"\",INDIRECT($B$2&BI$2&$A39))","v":""},{"$f":"IF(INDIRECT($B$2&BJ$2&$A39)=\"\",\"\",INDIRECT($B$2&BJ$2&$A39))","v":""},{"$f":"IF(INDIRECT($B$2&BK$2&$A39)=\"\",\"\",INDIRECT($B$2&BK$2&$A39))","v":0},{"$f":"IF(INDIRECT($B$2&BL$2&$A39)=\"\",\"\",INDIRECT($B$2&BL$2&$A39))","v":""},{"$f":"IF(INDIRECT($B$2&BM$2&$A39)=\"\",\"\",INDIRECT($B$2&BM$2&$A39))","v":""},{"$f":"IF(INDIRECT($B$2&BN$2&$A39)=\"\",\"\",INDIRECT($B$2&BN$2&$A39))","v":""},{"$f":"IF(INDIRECT($B$2&BO$2&$A39)=\"\",\"\",INDIRECT($B$2&BO$2&$A39))","v":""},{"$f":"IF(INDIRECT($B$2&BP$2&$A39)=\"\",\"\",INDIRECT($B$2&BP$2&$A39))","v":""},{"$f":"IF(INDIRECT($B$2&BQ$2&$A39)=\"\",\"\",INDIRECT($B$2&BQ$2&$A39))","v":""},{"$f":"IF(INDIRECT($B$2&BR$2&$A39)=\"\",\"\",INDIRECT($B$2&BR$2&$A39))","v":""},{"$f":"IF(INDIRECT($B$2&BS$2&$A39)=\"\",\"\",INDIRECT($B$2&BS$2&$A39))","v":""},{"$f":"IF(INDIRECT($B$2&BT$2&$A39)=\"\",\"\",INDIRECT($B$2&BT$2&$A39))","v":""},{"$f":"IF(INDIRECT($B$2&BU$2&$A39)=\"\",\"\",INDIRECT($B$2&BU$2&$A39))","v":""},{"$f":"IF(INDIRECT($B$2&BV$2&$A39)=\"\",\"\",INDIRECT($B$2&BV$2&$A39))","v":""},{"$f":"IF(INDIRECT($B$2&BW$2&$A39)=\"\",\"\",INDIRECT($B$2&BW$2&$A39))","v":""},{"$f":"IF(INDIRECT($B$2&BX$2&$A39)=\"\",\"\",INDIRECT($B$2&BX$2&$A39))","v":""},{"$f":"IF(INDIRECT($B$2&BY$2&$A39)=\"\",\"\",INDIRECT($B$2&BY$2&$A39))","v":""},{"$f":"IF(INDIRECT($B$2&BZ$2&$A39)=\"\",\"\",INDIRECT($B$2&BZ$2&$A39))","v":0},{"$f":"IF(INDIRECT($B$2&CA$2&$A39)=\"\",\"\",INDIRECT($B$2&CA$2&$A39))","v":""},{"$f":"IF(INDIRECT($B$2&CB$2&$A39)=\"\",\"\",INDIRECT($B$2&CB$2&$A39))","v":""},{"$f":"IF(INDIRECT($B$2&CC$2&$A39)=\"\",\"\",INDIRECT($B$2&CC$2&$A39))","v":""},{"$f":"IF(INDIRECT($B$2&CD$2&$A39)=\"\",\"\",INDIRECT($B$2&CD$2&$A39))","v":""},{"$f":"IF(INDIRECT($B$2&CE$2&$A39)=\"\",\"\",INDIRECT($B$2&CE$2&$A39))","v":""},{"$f":"IF(INDIRECT($B$2&CF$2&$A39)=\"\",\"\",INDIRECT($B$2&CF$2&$A39))","v":""},{"$f":"IF(INDIRECT($B$2&CG$2&$A39)=\"\",\"\",INDIRECT($B$2&CG$2&$A39))","v":""},{"$f":"IF(INDIRECT($B$2&CH$2&$A39)=\"\",\"\",INDIRECT($B$2&CH$2&$A39))","v":""},{"$f":"IF(INDIRECT($B$2&CI$2&$A39)=\"\",\"\",INDIRECT($B$2&CI$2&$A39))","v":""},{"$f":"IF(INDIRECT($B$2&CJ$2&$A39)=\"\",\"\",INDIRECT($B$2&CJ$2&$A39))","v":""},{"$f":"IF(INDIRECT($B$2&CK$2&$A39)=\"\",\"\",INDIRECT($B$2&CK$2&$A39))","v":""},{"$f":"IF(INDIRECT($B$2&CL$2&$A39)=\"\",\"\",INDIRECT($B$2&CL$2&$A39))","v":""},{"$f":"IF(INDIRECT($B$2&CM$2&$A39)=\"\",\"\",INDIRECT($B$2&CM$2&$A39))","v":""},{"$f":"IF(INDIRECT($B$2&CN$2&$A39)=\"\",\"\",INDIRECT($B$2&CN$2&$A39))","v":""},{"$f":"IF(INDIRECT($B$2&CO$2&$A39)=\"\",\"\",INDIRECT($B$2&CO$2&$A39))","v":""},null,{"$f":"IF(INDIRECT($B$2&CQ$2&$A39)=\"\",\"\",INDIRECT($B$2&CQ$2&$A39))","v":""},{"$f":"IF(INDIRECT($B$2&CR$2&$A39)=\"\",\"\",INDIRECT($B$2&CR$2&$A39))","v":""},{"$f":"IF(INDIRECT($B$2&CS$2&$A39)=\"\",\"\",INDIRECT($B$2&CS$2&$A39))","v":""}]
[67,null,null,null,null,null,null,null,null,null,null,null,null,null,null,30,{"$f":"IF(INDIRECT($B$2&$Q$2&$A40)=\"\",\"\",INDIRECT($B$2&$Q$2&$A40))","v":""},null,{"$f":"IF(INDIRECT($B$2&$S$2&$A40)=\"\",\"\",INDIRECT($B$2&$S$2&$A40))","v":0},{"$f":"IF(INDIRECT($B$2&$T$2&$A40)=\"\",\"\",INDIRECT($B$2&$T$2&$A40))","v":0},{"$f":"IF(INDIRECT($B$2&$U$2&$A40)=\"\",\"\",INDIRECT($B$2&$U$2&$A40))","v":0},{"$f":"IF(INDIRECT($B$2&$V$2&$A40)=\"\",\"\",INDIRECT($B$2&$V$2&$A40))","v":""},{"$f":"IF(INDIRECT($B$2&$W$2&$A40)=\"\",\"\",INDIRECT($B$2&$W$2&$A40))","v":""},{"$f":"IF(INDIRECT($B$2&$X$2&$A40)=\"\",\"\",INDIRECT($B$2&$X$2&$A40))","v":""},{"$f":"IF(INDIRECT($B$2&$Y$2&$A40)=\"\",\"\",INDIRECT($B$2&$Y$2&$A40))","v":""},{"$f":"IF(INDIRECT($B$2&$Z$2&$A40)=\"\",\"\",INDIRECT($B$2&$Z$2&$A40))","v":""},null,{"$f":"IF(INDIRECT($B$2&$AB$2&$A40)=\"\",\"\",INDIRECT($B$2&$AB$2&$A40))","v":""},{"$f":"IF(INDIRECT($B$2&$AC$2&$A40)=\"\",\"\",INDIRECT($B$2&$AC$2&$A40))","v":""},{"$f":"IF(INDIRECT($B$2&$AD$2&$A40)=\"\",\"\",INDIRECT($B$2&$AD$2&$A40))","v":""},{"$f":"IF(INDIRECT($B$2&$AE$2&$A40)=\"\",\"\",INDIRECT($B$2&$AE$2&$A40))","v":""},{"$f":"IF(INDIRECT($B$2&$AF$2&$A40)=\"\",\"\",INDIRECT($B$2&$AF$2&$A40))","v":""},null,null,null,null,null,null,null,null,null,null,null,null,null,null,null,{"$f":"IF(INDIRECT($B$2&AV$2&$A40)=\"\",\"\",INDIRECT($B$2&AV$2&$A40))","v":""},{"$f":"IF(INDIRECT($B$2&AW$2&$A40)=\"\",\"\",INDIRECT($B$2&AW$2&$A40))","v":""},{"$f":"IF(INDIRECT($B$2&AX$2&$A40)=\"\",\"\",INDIRECT($B$2&AX$2&$A40))","v":""},{"$f":"IF(INDIRECT($B$2&AY$2&$A40)=\"\",\"\",INDIRECT($B$2&AY$2&$A40))","v":""},{"$f":"IF(INDIRECT($B$2&AZ$2&$A40)=\"\",\"\",INDIRECT($B$2&AZ$2&$A40))","v":""},{"$f":"IF(INDIRECT($B$2&BA$2&$A40)=\"\",\"\",INDIRECT($B$2&BA$2&$A40))","v":""},{"$f":"IF(INDIRECT($B$2&BB$2&$A40)=\"\",\"\",INDIRECT($B$2&BB$2&$A40))","v":""},{"$f":"IF(INDIRECT($B$2&BC$2&$A40)=\"\",\"\",INDIRECT($B$2&BC$2&$A40))","v":""},{"$f":"IF(INDIRECT($B$2&BD$2&$A40)=\"\",\"\",INDIRECT($B$2&BD$2&$A40))","v":""},{"$f":"IF(INDIRECT($B$2&BE$2&$A40)=\"\",\"\",INDIRECT($B$2&BE$2&$A40))","v":""},{"$f":"IF(INDIRECT($B$2&BF$2&$A40)=\"\",\"\",INDIRECT($B$2&BF$2&$A40))","v":""},{"$f":"IF(INDIRECT($B$2&BG$2&$A40)=\"\",\"\",INDIRECT($B$2&BG$2&$A40))","v":""},{"$f":"IF(INDIRECT($B$2&BH$2&$A40)=\"\",\"\",INDIRECT($B$2&BH$2&$A40))","v":""},{"$f":"IF(INDIRECT($B$2&BI$2&$A40)=\"\",\"\",INDIRECT($B$2&BI$2&$A40))","v":""},{"$f":"IF(INDIRECT($B$2&BJ$2&$A40)=\"\",\"\",INDIRECT($B$2&BJ$2&$A40))","v":""},{"$f":"IF(INDIRECT($B$2&BK$2&$A40)=\"\",\"\",INDIRECT($B$2&BK$2&$A40))","v":0},{"$f":"IF(INDIRECT($B$2&BL$2&$A40)=\"\",\"\",INDIRECT($B$2&BL$2&$A40))","v":""},{"$f":"IF(INDIRECT($B$2&BM$2&$A40)=\"\",\"\",INDIRECT($B$2&BM$2&$A40))","v":""},{"$f":"IF(INDIRECT($B$2&BN$2&$A40)=\"\",\"\",INDIRECT($B$2&BN$2&$A40))","v":""},{"$f":"IF(INDIRECT($B$2&BO$2&$A40)=\"\",\"\",INDIRECT($B$2&BO$2&$A40))","v":""},{"$f":"IF(INDIRECT($B$2&BP$2&$A40)=\"\",\"\",INDIRECT($B$2&BP$2&$A40))","v":""},{"$f":"IF(INDIRECT($B$2&BQ$2&$A40)=\"\",\"\",INDIRECT($B$2&BQ$2&$A40))","v":""},{"$f":"IF(INDIRECT($B$2&BR$2&$A40)=\"\",\"\",INDIRECT($B$2&BR$2&$A40))","v":""},{"$f":"IF(INDIRECT($B$2&BS$2&$A40)=\"\",\"\",INDIRECT($B$2&BS$2&$A40))","v":""},{"$f":"IF(INDIRECT($B$2&BT$2&$A40)=\"\",\"\",INDIRECT($B$2&BT$2&$A40))","v":""},{"$f":"IF(INDIRECT($B$2&BU$2&$A40)=\"\",\"\",INDIRECT($B$2&BU$2&$A40))","v":""},{"$f":"IF(INDIRECT($B$2&BV$2&$A40)=\"\",\"\",INDIRECT($B$2&BV$2&$A40))","v":""},{"$f":"IF(INDIRECT($B$2&BW$2&$A40)=\"\",\"\",INDIRECT($B$2&BW$2&$A40))","v":""},{"$f":"IF(INDIRECT($B$2&BX$2&$A40)=\"\",\"\",INDIRECT($B$2&BX$2&$A40))","v":""},{"$f":"IF(INDIRECT($B$2&BY$2&$A40)=\"\",\"\",INDIRECT($B$2&BY$2&$A40))","v":""},{"$f":"IF(INDIRECT($B$2&BZ$2&$A40)=\"\",\"\",INDIRECT($B$2&BZ$2&$A40))","v":0},{"$f":"IF(INDIRECT($B$2&CA$2&$A40)=\"\",\"\",INDIRECT($B$2&CA$2&$A40))","v":""},{"$f":"IF(INDIRECT($B$2&CB$2&$A40)=\"\",\"\",INDIRECT($B$2&CB$2&$A40))","v":""},{"$f":"IF(INDIRECT($B$2&CC$2&$A40)=\"\",\"\",INDIRECT($B$2&CC$2&$A40))","v":""},{"$f":"IF(INDIRECT($B$2&CD$2&$A40)=\"\",\"\",INDIRECT($B$2&CD$2&$A40))","v":""},{"$f":"IF(INDIRECT($B$2&CE$2&$A40)=\"\",\"\",INDIRECT($B$2&CE$2&$A40))","v":""},{"$f":"IF(INDIRECT($B$2&CF$2&$A40)=\"\",\"\",INDIRECT($B$2&CF$2&$A40))","v":""},{"$f":"IF(INDIRECT($B$2&CG$2&$A40)=\"\",\"\",INDIRECT($B$2&CG$2&$A40))","v":""},{"$f":"IF(INDIRECT($B$2&CH$2&$A40)=\"\",\"\",INDIRECT($B$2&CH$2&$A40))","v":""},{"$f":"IF(INDIRECT($B$2&CI$2&$A40)=\"\",\"\",INDIRECT($B$2&CI$2&$A40))","v":""},{"$f":"IF(INDIRECT($B$2&CJ$2&$A40)=\"\",\"\",INDIRECT($B$2&CJ$2&$A40))","v":""},{"$f":"IF(INDIRECT($B$2&CK$2&$A40)=\"\",\"\",INDIRECT($B$2&CK$2&$A40))","v":""},{"$f":"IF(INDIRECT($B$2&CL$2&$A40)=\"\",\"\",INDIRECT($B$2&CL$2&$A40))","v":""},{"$f":"IF(INDIRECT($B$2&CM$2&$A40)=\"\",\"\",INDIRECT($B$2&CM$2&$A40))","v":""},{"$f":"IF(INDIRECT($B$2&CN$2&$A40)=\"\",\"\",INDIRECT($B$2&CN$2&$A40))","v":""},{"$f":"IF(INDIRECT($B$2&CO$2&$A40)=\"\",\"\",INDIRECT($B$2&CO$2&$A40))","v":""},null,{"$f":"IF(INDIRECT($B$2&CQ$2&$A40)=\"\",\"\",INDIRECT($B$2&CQ$2&$A40))","v":""},{"$f":"IF(INDIRECT($B$2&CR$2&$A40)=\"\",\"\",INDIRECT($B$2&CR$2&$A40))","v":""},{"$f":"IF(INDIRECT($B$2&CS$2&$A40)=\"\",\"\",INDIRECT($B$2&CS$2&$A40))","v":""}]
[68,null,null,null,null,null,null,null,null,null,null,null,null,null,null,31,{"$f":"IF(INDIRECT($B$2&$Q$2&$A41)=\"\",\"\",INDIRECT($B$2&$Q$2&$A41))","v":""},null,{"$f":"IF(INDIRECT($B$2&$S$2&$A41)=\"\",\"\",INDIRECT($B$2&$S$2&$A41))","v":0},{"$f":"IF(INDIRECT($B$2&$T$2&$A41)=\"\",\"\",INDIRECT($B$2&$T$2&$A41))","v":0},{"$f":"IF(INDIRECT($B$2&$U$2&$A41)=\"\",\"\",INDIRECT($B$2&$U$2&$A41))","v":0},{"$f":"IF(INDIRECT($B$2&$V$2&$A41)=\"\",\"\",INDIRECT($B$2&$V$2&$A41))","v":""},{"$f":"IF(INDIRECT($B$2&$W$2&$A41)=\"\",\"\",INDIRECT($B$2&$W$2&$A41))","v":""},{"$f":"IF(INDIRECT($B$2&$X$2&$A41)=\"\",\"\",INDIRECT($B$2&$X$2&$A41))","v":""},{"$f":"IF(INDIRECT($B$2&$Y$2&$A41)=\"\",\"\",INDIRECT($B$2&$Y$2&$A41))","v":""},{"$f":"IF(INDIRECT($B$2&$Z$2&$A41)=\"\",\"\",INDIRECT($B$2&$Z$2&$A41))","v":""},null,{"$f":"IF(INDIRECT($B$2&$AB$2&$A41)=\"\",\"\",INDIRECT($B$2&$AB$2&$A41))","v":""},{"$f":"IF(INDIRECT($B$2&$AC$2&$A41)=\"\",\"\",INDIRECT($B$2&$AC$2&$A41))","v":""},{"$f":"IF(INDIRECT($B$2&$AD$2&$A41)=\"\",\"\",INDIRECT($B$2&$AD$2&$A41))","v":""},{"$f":"IF(INDIRECT($B$2&$AE$2&$A41)=\"\",\"\",INDIRECT($B$2&$AE$2&$A41))","v":""},{"$f":"IF(INDIRECT($B$2&$AF$2&$A41)=\"\",\"\",INDIRECT($B$2&$AF$2&$A41))","v":""},null,null,null,null,null,null,null,null,null,null,null,null,null,null,null,{"$f":"IF(INDIRECT($B$2&AV$2&$A41)=\"\",\"\",INDIRECT($B$2&AV$2&$A41))","v":""},{"$f":"IF(INDIRECT($B$2&AW$2&$A41)=\"\",\"\",INDIRECT($B$2&AW$2&$A41))","v":""},{"$f":"IF(INDIRECT($B$2&AX$2&$A41)=\"\",\"\",INDIRECT($B$2&AX$2&$A41))","v":""},{"$f":"IF(INDIRECT($B$2&AY$2&$A41)=\"\",\"\",INDIRECT($B$2&AY$2&$A41))","v":""},{"$f":"IF(INDIRECT($B$2&AZ$2&$A41)=\"\",\"\",INDIRECT($B$2&AZ$2&$A41))","v":""},{"$f":"IF(INDIRECT($B$2&BA$2&$A41)=\"\",\"\",INDIRECT($B$2&BA$2&$A41))","v":""},{"$f":"IF(INDIRECT($B$2&BB$2&$A41)=\"\",\"\",INDIRECT($B$2&BB$2&$A41))","v":""},{"$f":"IF(INDIRECT($B$2&BC$2&$A41)=\"\",\"\",INDIRECT($B$2&BC$2&$A41))","v":""},{"$f":"IF(INDIRECT($B$2&BD$2&$A41)=\"\",\"\",INDIRECT($B$2&BD$2&$A41))","v":""},{"$f":"IF(INDIRECT($B$2&BE$2&$A41)=\"\",\"\",INDIRECT($B$2&BE$2&$A41))","v":""},{"$f":"IF(INDIRECT($B$2&BF$2&$A41)=\"\",\"\",INDIRECT($B$2&BF$2&$A41))","v":""},{"$f":"IF(INDIRECT($B$2&BG$2&$A41)=\"\",\"\",INDIRECT($B$2&BG$2&$A41))","v":""},{"$f":"IF(INDIRECT($B$2&BH$2&$A41)=\"\",\"\",INDIRECT($B$2&BH$2&$A41))","v":""},{"$f":"IF(INDIRECT($B$2&BI$2&$A41)=\"\",\"\",INDIRECT($B$2&BI$2&$A41))","v":""},{"$f":"IF(INDIRECT($B$2&BJ$2&$A41)=\"\",\"\",INDIRECT($B$2&BJ$2&$A41))","v":""},{"$f":"IF(INDIRECT($B$2&BK$2&$A41)=\"\",\"\",INDIRECT($B$2&BK$2&$A41))","v":0},{"$f":"IF(INDIRECT($B$2&BL$2&$A41)=\"\",\"\",INDIRECT($B$2&BL$2&$A41))","v":""},{"$f":"IF(INDIRECT($B$2&BM$2&$A41)=\"\",\"\",INDIRECT($B$2&BM$2&$A41))","v":""},{"$f":"IF(INDIRECT($B$2&BN$2&$A41)=\"\",\"\",INDIRECT($B$2&BN$2&$A41))","v":""},{"$f":"IF(INDIRECT($B$2&BO$2&$A41)=\"\",\"\",INDIRECT($B$2&BO$2&$A41))","v":""},{"$f":"IF(INDIRECT($B$2&BP$2&$A41)=\"\",\"\",INDIRECT($B$2&BP$2&$A41))","v":""},{"$f":"IF(INDIRECT($B$2&BQ$2&$A41)=\"\",\"\",INDIRECT($B$2&BQ$2&$A41))","v":""},{"$f":"IF(INDIRECT($B$2&BR$2&$A41)=\"\",\"\",INDIRECT($B$2&BR$2&$A41))","v":""},{"$f":"IF(INDIRECT($B$2&BS$2&$A41)=\"\",\"\",INDIRECT($B$2&BS$2&$A41))","v":""},{"$f":"IF(INDIRECT($B$2&BT$2&$A41)=\"\",\"\",INDIRECT($B$2&BT$2&$A41))","v":""},{"$f":"IF(INDIRECT($B$2&BU$2&$A41)=\"\",\"\",INDIRECT($B$2&BU$2&$A41))","v":""},{"$f":"IF(INDIRECT($B$2&BV$2&$A41)=\"\",\"\",INDIRECT($B$2&BV$2&$A41))","v":""},{"$f":"IF(INDIRECT($B$2&BW$2&$A41)=\"\",\"\",INDIRECT($B$2&BW$2&$A41))","v":""},{"$f":"IF(INDIRECT($B$2&BX$2&$A41)=\"\",\"\",INDIRECT($B$2&BX$2&$A41))","v":""},{"$f":"IF(INDIRECT($B$2&BY$2&$A41)=\"\",\"\",INDIRECT($B$2&BY$2&$A41))","v":""},{"$f":"IF(INDIRECT($B$2&BZ$2&$A41)=\"\",\"\",INDIRECT($B$2&BZ$2&$A41))","v":0},{"$f":"IF(INDIRECT($B$2&CA$2&$A41)=\"\",\"\",INDIRECT($B$2&CA$2&$A41))","v":""},{"$f":"IF(INDIRECT($B$2&CB$2&$A41)=\"\",\"\",INDIRECT($B$2&CB$2&$A41))","v":""},{"$f":"IF(INDIRECT($B$2&CC$2&$A41)=\"\",\"\",INDIRECT($B$2&CC$2&$A41))","v":""},{"$f":"IF(INDIRECT($B$2&CD$2&$A41)=\"\",\"\",INDIRECT($B$2&CD$2&$A41))","v":""},{"$f":"IF(INDIRECT($B$2&CE$2&$A41)=\"\",\"\",INDIRECT($B$2&CE$2&$A41))","v":""},{"$f":"IF(INDIRECT($B$2&CF$2&$A41)=\"\",\"\",INDIRECT($B$2&CF$2&$A41))","v":""},{"$f":"IF(INDIRECT($B$2&CG$2&$A41)=\"\",\"\",INDIRECT($B$2&CG$2&$A41))","v":""},{"$f":"IF(INDIRECT($B$2&CH$2&$A41)=\"\",\"\",INDIRECT($B$2&CH$2&$A41))","v":""},{"$f":"IF(INDIRECT($B$2&CI$2&$A41)=\"\",\"\",INDIRECT($B$2&CI$2&$A41))","v":""},{"$f":"IF(INDIRECT($B$2&CJ$2&$A41)=\"\",\"\",INDIRECT($B$2&CJ$2&$A41))","v":""},{"$f":"IF(INDIRECT($B$2&CK$2&$A41)=\"\",\"\",INDIRECT($B$2&CK$2&$A41))","v":""},{"$f":"IF(INDIRECT($B$2&CL$2&$A41)=\"\",\"\",INDIRECT($B$2&CL$2&$A41))","v":""},{"$f":"IF(INDIRECT($B$2&CM$2&$A41)=\"\",\"\",INDIRECT($B$2&CM$2&$A41))","v":""},{"$f":"IF(INDIRECT($B$2&CN$2&$A41)=\"\",\"\",INDIRECT($B$2&CN$2&$A41))","v":""},{"$f":"IF(INDIRECT($B$2&CO$2&$A41)=\"\",\"\",INDIRECT($B$2&CO$2&$A41))","v":""},null,{"$f":"IF(INDIRECT($B$2&CQ$2&$A41)=\"\",\"\",INDIRECT($B$2&CQ$2&$A41))","v":""},{"$f":"IF(INDIRECT($B$2&CR$2&$A41)=\"\",\"\",INDIRECT($B$2&CR$2&$A41))","v":""},{"$f":"IF(INDIRECT($B$2&CS$2&$A41)=\"\",\"\",INDIRECT($B$2&CS$2&$A41))","v":""}]
[69,null,null,null,null,null,null,null,null,null,null,null,null,null,null,32,{"$f":"IF(INDIRECT($B$2&$Q$2&$A42)=\"\",\"\",INDIRECT($B$2&$Q$2&$A42))","v":""},null,{"$f":"IF(INDIRECT($B$2&$S$2&$A42)=\"\",\"\",INDIRECT($B$2&$S$2&$A42))","v":0},{"$f":"IF(INDIRECT($B$2&$T$2&$A42)=\"\",\"\",INDIRECT($B$2&$T$2&$A42))","v":0},{"$f":"IF(INDIRECT($B$2&$U$2&$A42)=\"\",\"\",INDIRECT($B$2&$U$2&$A42))","v":0},{"$f":"IF(INDIRECT($B$2&$V$2&$A42)=\"\",\"\",INDIRECT($B$2&$V$2&$A42))","v":""},{"$f":"IF(INDIRECT($B$2&$W$2&$A42)=\"\",\"\",INDIRECT($B$2&$W$2&$A42))","v":""},{"$f":"IF(INDIRECT($B$2&$X$2&$A42)=\"\",\"\",INDIRECT($B$2&$X$2&$A42))","v":""},{"$f":"IF(INDIRECT($B$2&$Y$2&$A42)=\"\",\"\",INDIRECT($B$2&$Y$2&$A42))","v":""},{"$f":"IF(INDIRECT($B$2&$Z$2&$A42)=\"\",\"\",INDIRECT($B$2&$Z$2&$A42))","v":""},null,{"$f":"IF(INDIRECT($B$2&$AB$2&$A42)=\"\",\"\",INDIRECT($B$2&$AB$2&$A42))","v":""},{"$f":"IF(INDIRECT($B$2&$AC$2&$A42)=\"\",\"\",INDIRECT($B$2&$AC$2&$A42))","v":""},{"$f":"IF(INDIRECT($B$2&$AD$2&$A42)=\"\",\"\",INDIRECT($B$2&$AD$2&$A42))","v":""},{"$f":"IF(INDIRECT($B$2&$AE$2&$A42)=\"\",\"\",INDIRECT($B$2&$AE$2&$A42))","v":""},{"$f":"IF(INDIRECT($B$2&$AF$2&$A42)=\"\",\"\",INDIRECT($B$2&$AF$2&$A42))","v":""},null,null,null,null,null,null,null,null,null,null,null,null,null,null,null,{"$f":"IF(INDIRECT($B$2&AV$2&$A42)=\"\",\"\",INDIRECT($B$2&AV$2&$A42))","v":""},{"$f":"IF(INDIRECT($B$2&AW$2&$A42)=\"\",\"\",INDIRECT($B$2&AW$2&$A42))","v":""},{"$f":"IF(INDIRECT($B$2&AX$2&$A42)=\"\",\"\",INDIRECT($B$2&AX$2&$A42))","v":""},{"$f":"IF(INDIRECT($B$2&AY$2&$A42)=\"\",\"\",INDIRECT($B$2&AY$2&$A42))","v":""},{"$f":"IF(INDIRECT($B$2&AZ$2&$A42)=\"\",\"\",INDIRECT($B$2&AZ$2&$A42))","v":""},{"$f":"IF(INDIRECT($B$2&BA$2&$A42)=\"\",\"\",INDIRECT($B$2&BA$2&$A42))","v":""},{"$f":"IF(INDIRECT($B$2&BB$2&$A42)=\"\",\"\",INDIRECT($B$2&BB$2&$A42))","v":""},{"$f":"IF(INDIRECT($B$2&BC$2&$A42)=\"\",\"\",INDIRECT($B$2&BC$2&$A42))","v":""},{"$f":"IF(INDIRECT($B$2&BD$2&$A42)=\"\",\"\",INDIRECT($B$2&BD$2&$A42))","v":""},{"$f":"IF(INDIRECT($B$2&BE$2&$A42)=\"\",\"\",INDIRECT($B$2&BE$2&$A42))","v":""},{"$f":"IF(INDIRECT($B$2&BF$2&$A42)=\"\",\"\",INDIRECT($B$2&BF$2&$A42))","v":""},{"$f":"IF(INDIRECT($B$2&BG$2&$A42)=\"\",\"\",INDIRECT($B$2&BG$2&$A42))","v":""},{"$f":"IF(INDIRECT($B$2&BH$2&$A42)=\"\",\"\",INDIRECT($B$2&BH$2&$A42))","v":""},{"$f":"IF(INDIRECT($B$2&BI$2&$A42)=\"\",\"\",INDIRECT($B$2&BI$2&$A42))","v":""},{"$f":"IF(INDIRECT($B$2&BJ$2&$A42)=\"\",\"\",INDIRECT($B$2&BJ$2&$A42))","v":""},{"$f":"IF(INDIRECT($B$2&BK$2&$A42)=\"\",\"\",INDIRECT($B$2&BK$2&$A42))","v":0},{"$f":"IF(INDIRECT($B$2&BL$2&$A42)=\"\",\"\",INDIRECT($B$2&BL$2&$A42))","v":""},{"$f":"IF(INDIRECT($B$2&BM$2&$A42)=\"\",\"\",INDIRECT($B$2&BM$2&$A42))","v":""},{"$f":"IF(INDIRECT($B$2&BN$2&$A42)=\"\",\"\",INDIRECT($B$2&BN$2&$A42))","v":""},{"$f":"IF(INDIRECT($B$2&BO$2&$A42)=\"\",\"\",INDIRECT($B$2&BO$2&$A42))","v":""},{"$f":"IF(INDIRECT($B$2&BP$2&$A42)=\"\",\"\",INDIRECT($B$2&BP$2&$A42))","v":""},{"$f":"IF(INDIRECT($B$2&BQ$2&$A42)=\"\",\"\",INDIRECT($B$2&BQ$2&$A42))","v":""},{"$f":"IF(INDIRECT($B$2&BR$2&$A42)=\"\",\"\",INDIRECT($B$2&BR$2&$A42))","v":""},{"$f":"IF(INDIRECT($B$2&BS$2&$A42)=\"\",\"\",INDIRECT($B$2&BS$2&$A42))","v":""},{"$f":"IF(INDIRECT($B$2&BT$2&$A42)=\"\",\"\",INDIRECT($B$2&BT$2&$A42))","v":""},{"$f":"IF(INDIRECT($B$2&BU$2&$A42)=\"\",\"\",INDIRECT($B$2&BU$2&$A42))","v":""},{"$f":"IF(INDIRECT($B$2&BV$2&$A42)=\"\",\"\",INDIRECT($B$2&BV$2&$A42))","v":""},{"$f":"IF(INDIRECT($B$2&BW$2&$A42)=\"\",\"\",INDIRECT($B$2&BW$2&$A42))","v":""},{"$f":"IF(INDIRECT($B$2&BX$2&$A42)=\"\",\"\",INDIRECT($B$2&BX$2&$A42))","v":""},{"$f":"IF(INDIRECT($B$2&BY$2&$A42)=\"\",\"\",INDIRECT($B$2&BY$2&$A42))","v":""},{"$f":"IF(INDIRECT($B$2&BZ$2&$A42)=\"\",\"\",INDIRECT($B$2&BZ$2&$A42))","v":0},{"$f":"IF(INDIRECT($B$2&CA$2&$A42)=\"\",\"\",INDIRECT($B$2&CA$2&$A42))","v":""},{"$f":"IF(INDIRECT($B$2&CB$2&$A42)=\"\",\"\",INDIRECT($B$2&CB$2&$A42))","v":""},{"$f":"IF(INDIRECT($B$2&CC$2&$A42)=\"\",\"\",INDIRECT($B$2&CC$2&$A42))","v":""},{"$f":"IF(INDIRECT($B$2&CD$2&$A42)=\"\",\"\",INDIRECT($B$2&CD$2&$A42))","v":""},{"$f":"IF(INDIRECT($B$2&CE$2&$A42)=\"\",\"\",INDIRECT($B$2&CE$2&$A42))","v":""},{"$f":"IF(INDIRECT($B$2&CF$2&$A42)=\"\",\"\",INDIRECT($B$2&CF$2&$A42))","v":""},{"$f":"IF(INDIRECT($B$2&CG$2&$A42)=\"\",\"\",INDIRECT($B$2&CG$2&$A42))","v":""},{"$f":"IF(INDIRECT($B$2&CH$2&$A42)=\"\",\"\",INDIRECT($B$2&CH$2&$A42))","v":""},{"$f":"IF(INDIRECT($B$2&CI$2&$A42)=\"\",\"\",INDIRECT($B$2&CI$2&$A42))","v":""},{"$f":"IF(INDIRECT($B$2&CJ$2&$A42)=\"\",\"\",INDIRECT($B$2&CJ$2&$A42))","v":""},{"$f":"IF(INDIRECT($B$2&CK$2&$A42)=\"\",\"\",INDIRECT($B$2&CK$2&$A42))","v":""},{"$f":"IF(INDIRECT($B$2&CL$2&$A42)=\"\",\"\",INDIRECT($B$2&CL$2&$A42))","v":""},{"$f":"IF(INDIRECT($B$2&CM$2&$A42)=\"\",\"\",INDIRECT($B$2&CM$2&$A42))","v":""},{"$f":"IF(INDIRECT($B$2&CN$2&$A42)=\"\",\"\",INDIRECT($B$2&CN$2&$A42))","v":""},{"$f":"IF(INDIRECT($B$2&CO$2&$A42)=\"\",\"\",INDIRECT($B$2&CO$2&$A42))","v":""},null,{"$f":"IF(INDIRECT($B$2&CQ$2&$A42)=\"\",\"\",INDIRECT($B$2&CQ$2&$A42))","v":""},{"$f":"IF(INDIRECT($B$2&CR$2&$A42)=\"\",\"\",INDIRECT($B$2&CR$2&$A42))","v":""},{"$f":"IF(INDIRECT($B$2&CS$2&$A42)=\"\",\"\",INDIRECT($B$2&CS$2&$A42))","v":""}]
[70,null,null,null,null,null,null,null,null,null,null,null,null,null,null,33,{"$f":"IF(INDIRECT($B$2&$Q$2&$A43)=\"\",\"\",INDIRECT($B$2&$Q$2&$A43))","v":""},null,{"$f":"IF(INDIRECT($B$2&$S$2&$A43)=\"\",\"\",INDIRECT($B$2&$S$2&$A43))","v":0},{"$f":"IF(INDIRECT($B$2&$T$2&$A43)=\"\",\"\",INDIRECT($B$2&$T$2&$A43))","v":0},{"$f":"IF(INDIRECT($B$2&$U$2&$A43)=\"\",\"\",INDIRECT($B$2&$U$2&$A43))","v":0},{"$f":"IF(INDIRECT($B$2&$V$2&$A43)=\"\",\"\",INDIRECT($B$2&$V$2&$A43))","v":""},{"$f":"IF(INDIRECT($B$2&$W$2&$A43)=\"\",\"\",INDIRECT($B$2&$W$2&$A43))","v":""},{"$f":"IF(INDIRECT($B$2&$X$2&$A43)=\"\",\"\",INDIRECT($B$2&$X$2&$A43))","v":""},{"$f":"IF(INDIRECT($B$2&$Y$2&$A43)=\"\",\"\",INDIRECT($B$2&$Y$2&$A43))","v":""},{"$f":"IF(INDIRECT($B$2&$Z$2&$A43)=\"\",\"\",INDIRECT($B$2&$Z$2&$A43))","v":""},null,{"$f":"IF(INDIRECT($B$2&$AB$2&$A43)=\"\",\"\",INDIRECT($B$2&$AB$2&$A43))","v":""},{"$f":"IF(INDIRECT($B$2&$AC$2&$A43)=\"\",\"\",INDIRECT($B$2&$AC$2&$A43))","v":""},{"$f":"IF(INDIRECT($B$2&$AD$2&$A43)=\"\",\"\",INDIRECT($B$2&$AD$2&$A43))","v":""},{"$f":"IF(INDIRECT($B$2&$AE$2&$A43)=\"\",\"\",INDIRECT($B$2&$AE$2&$A43))","v":""},{"$f":"IF(INDIRECT($B$2&$AF$2&$A43)=\"\",\"\",INDIRECT($B$2&$AF$2&$A43))","v":""},null,null,null,null,null,null,null,null,null,null,null,null,null,null,null,{"$f":"IF(INDIRECT($B$2&AV$2&$A43)=\"\",\"\",INDIRECT($B$2&AV$2&$A43))","v":""},{"$f":"IF(INDIRECT($B$2&AW$2&$A43)=\"\",\"\",INDIRECT($B$2&AW$2&$A43))","v":""},{"$f":"IF(INDIRECT($B$2&AX$2&$A43)=\"\",\"\",INDIRECT($B$2&AX$2&$A43))","v":""},{"$f":"IF(INDIRECT($B$2&AY$2&$A43)=\"\",\"\",INDIRECT($B$2&AY$2&$A43))","v":""},{"$f":"IF(INDIRECT($B$2&AZ$2&$A43)=\"\",\"\",INDIRECT($B$2&AZ$2&$A43))","v":""},{"$f":"IF(INDIRECT($B$2&BA$2&$A43)=\"\",\"\",INDIRECT($B$2&BA$2&$A43))","v":""},{"$f":"IF(INDIRECT($B$2&BB$2&$A43)=\"\",\"\",INDIRECT($B$2&BB$2&$A43))","v":""},{"$f":"IF(INDIRECT($B$2&BC$2&$A43)=\"\",\"\",INDIRECT($B$2&BC$2&$A43))","v":""},{"$f":"IF(INDIRECT($B$2&BD$2&$A43)=\"\",\"\",INDIRECT($B$2&BD$2&$A43))","v":""},{"$f":"IF(INDIRECT($B$2&BE$2&$A43)=\"\",\"\",INDIRECT($B$2&BE$2&$A43))","v":""},{"$f":"IF(INDIRECT($B$2&BF$2&$A43)=\"\",\"\",INDIRECT($B$2&BF$2&$A43))","v":""},{"$f":"IF(INDIRECT($B$2&BG$2&$A43)=\"\",\"\",INDIRECT($B$2&BG$2&$A43))","v":""},{"$f":"IF(INDIRECT($B$2&BH$2&$A43)=\"\",\"\",INDIRECT($B$2&BH$2&$A43))","v":""},{"$f":"IF(INDIRECT($B$2&BI$2&$A43)=\"\",\"\",INDIRECT($B$2&BI$2&$A43))","v":""},{"$f":"IF(INDIRECT($B$2&BJ$2&$A43)=\"\",\"\",INDIRECT($B$2&BJ$2&$A43))","v":""},{"$f":"IF(INDIRECT($B$2&BK$2&$A43)=\"\",\"\",INDIRECT($B$2&BK$2&$A43))","v":0},{"$f":"IF(INDIRECT($B$2&BL$2&$A43)=\"\",\"\",INDIRECT($B$2&BL$2&$A43))","v":""},{"$f":"IF(INDIRECT($B$2&BM$2&$A43)=\"\",\"\",INDIRECT($B$2&BM$2&$A43))","v":""},{"$f":"IF(INDIRECT($B$2&BN$2&$A43)=\"\",\"\",INDIRECT($B$2&BN$2&$A43))","v":""},{"$f":"IF(INDIRECT($B$2&BO$2&$A43)=\"\",\"\",INDIRECT($B$2&BO$2&$A43))","v":""},{"$f":"IF(INDIRECT($B$2&BP$2&$A43)=\"\",\"\",INDIRECT($B$2&BP$2&$A43))","v":""},{"$f":"IF(INDIRECT($B$2&BQ$2&$A43)=\"\",\"\",INDIRECT($B$2&BQ$2&$A43))","v":""},{"$f":"IF(INDIRECT($B$2&BR$2&$A43)=\"\",\"\",INDIRECT($B$2&BR$2&$A43))","v":""},{"$f":"IF(INDIRECT($B$2&BS$2&$A43)=\"\",\"\",INDIRECT($B$2&BS$2&$A43))","v":""},{"$f":"IF(INDIRECT($B$2&BT$2&$A43)=\"\",\"\",INDIRECT($B$2&BT$2&$A43))","v":""},{"$f":"IF(INDIRECT($B$2&BU$2&$A43)=\"\",\"\",INDIRECT($B$2&BU$2&$A43))","v":""},{"$f":"IF(INDIRECT($B$2&BV$2&$A43)=\"\",\"\",INDIRECT($B$2&BV$2&$A43))","v":""},{"$f":"IF(INDIRECT($B$2&BW$2&$A43)=\"\",\"\",INDIRECT($B$2&BW$2&$A43))","v":""},{"$f":"IF(INDIRECT($B$2&BX$2&$A43)=\"\",\"\",INDIRECT($B$2&BX$2&$A43))","v":""},{"$f":"IF(INDIRECT($B$2&BY$2&$A43)=\"\",\"\",INDIRECT($B$2&BY$2&$A43))","v":""},{"$f":"IF(INDIRECT($B$2&BZ$2&$A43)=\"\",\"\",INDIRECT($B$2&BZ$2&$A43))","v":0},{"$f":"IF(INDIRECT($B$2&CA$2&$A43)=\"\",\"\",INDIRECT($B$2&CA$2&$A43))","v":""},{"$f":"IF(INDIRECT($B$2&CB$2&$A43)=\"\",\"\",INDIRECT($B$2&CB$2&$A43))","v":""},{"$f":"IF(INDIRECT($B$2&CC$2&$A43)=\"\",\"\",INDIRECT($B$2&CC$2&$A43))","v":""},{"$f":"IF(INDIRECT($B$2&CD$2&$A43)=\"\",\"\",INDIRECT($B$2&CD$2&$A43))","v":""},{"$f":"IF(INDIRECT($B$2&CE$2&$A43)=\"\",\"\",INDIRECT($B$2&CE$2&$A43))","v":""},{"$f":"IF(INDIRECT($B$2&CF$2&$A43)=\"\",\"\",INDIRECT($B$2&CF$2&$A43))","v":""},{"$f":"IF(INDIRECT($B$2&CG$2&$A43)=\"\",\"\",INDIRECT($B$2&CG$2&$A43))","v":""},{"$f":"IF(INDIRECT($B$2&CH$2&$A43)=\"\",\"\",INDIRECT($B$2&CH$2&$A43))","v":""},{"$f":"IF(INDIRECT($B$2&CI$2&$A43)=\"\",\"\",INDIRECT($B$2&CI$2&$A43))","v":""},{"$f":"IF(INDIRECT($B$2&CJ$2&$A43)=\"\",\"\",INDIRECT($B$2&CJ$2&$A43))","v":""},{"$f":"IF(INDIRECT($B$2&CK$2&$A43)=\"\",\"\",INDIRECT($B$2&CK$2&$A43))","v":""},{"$f":"IF(INDIRECT($B$2&CL$2&$A43)=\"\",\"\",INDIRECT($B$2&CL$2&$A43))","v":""},{"$f":"IF(INDIRECT($B$2&CM$2&$A43)=\"\",\"\",INDIRECT($B$2&CM$2&$A43))","v":""},{"$f":"IF(INDIRECT($B$2&CN$2&$A43)=\"\",\"\",INDIRECT($B$2&CN$2&$A43))","v":""},{"$f":"IF(INDIRECT($B$2&CO$2&$A43)=\"\",\"\",INDIRECT($B$2&CO$2&$A43))","v":""},null,{"$f":"IF(INDIRECT($B$2&CQ$2&$A43)=\"\",\"\",INDIRECT($B$2&CQ$2&$A43))","v":""},{"$f":"IF(INDIRECT($B$2&CR$2&$A43)=\"\",\"\",INDIRECT($B$2&CR$2&$A43))","v":""},{"$f":"IF(INDIRECT($B$2&CS$2&$A43)=\"\",\"\",INDIRECT($B$2&CS$2&$A43))","v":""}]
[71,null,null,null,null,null,null,null,null,null,null,null,null,null,null,34,{"$f":"IF(INDIRECT($B$2&$Q$2&$A44)=\"\",\"\",INDIRECT($B$2&$Q$2&$A44))","v":""},null,{"$f":"IF(INDIRECT($B$2&$S$2&$A44)=\"\",\"\",INDIRECT($B$2&$S$2&$A44))","v":0},{"$f":"IF(INDIRECT($B$2&$T$2&$A44)=\"\",\"\",INDIRECT($B$2&$T$2&$A44))","v":0},{"$f":"IF(INDIRECT($B$2&$U$2&$A44)=\"\",\"\",INDIRECT($B$2&$U$2&$A44))","v":0},{"$f":"IF(INDIRECT($B$2&$V$2&$A44)=\"\",\"\",INDIRECT($B$2&$V$2&$A44))","v":""},{"$f":"IF(INDIRECT($B$2&$W$2&$A44)=\"\",\"\",INDIRECT($B$2&$W$2&$A44))","v":""},{"$f":"IF(INDIRECT($B$2&$X$2&$A44)=\"\",\"\",INDIRECT($B$2&$X$2&$A44))","v":""},{"$f":"IF(INDIRECT($B$2&$Y$2&$A44)=\"\",\"\",INDIRECT($B$2&$Y$2&$A44))","v":""},{"$f":"IF(INDIRECT($B$2&$Z$2&$A44)=\"\",\"\",INDIRECT($B$2&$Z$2&$A44))","v":""},null,{"$f":"IF(INDIRECT($B$2&$AB$2&$A44)=\"\",\"\",INDIRECT($B$2&$AB$2&$A44))","v":""},{"$f":"IF(INDIRECT($B$2&$AC$2&$A44)=\"\",\"\",INDIRECT($B$2&$AC$2&$A44))","v":""},{"$f":"IF(INDIRECT($B$2&$AD$2&$A44)=\"\",\"\",INDIRECT($B$2&$AD$2&$A44))","v":""},{"$f":"IF(INDIRECT($B$2&$AE$2&$A44)=\"\",\"\",INDIRECT($B$2&$AE$2&$A44))","v":""},{"$f":"IF(INDIRECT($B$2&$AF$2&$A44)=\"\",\"\",INDIRECT($B$2&$AF$2&$A44))","v":""},null,null,null,null,null,null,null,null,null,null,null,null,null,null,null,{"$f":"IF(INDIRECT($B$2&AV$2&$A44)=\"\",\"\",INDIRECT($B$2&AV$2&$A44))","v":""},{"$f":"IF(INDIRECT($B$2&AW$2&$A44)=\"\",\"\",INDIRECT($B$2&AW$2&$A44))","v":""},{"$f":"IF(INDIRECT($B$2&AX$2&$A44)=\"\",\"\",INDIRECT($B$2&AX$2&$A44))","v":""},{"$f":"IF(INDIRECT($B$2&AY$2&$A44)=\"\",\"\",INDIRECT($B$2&AY$2&$A44))","v":""},{"$f":"IF(INDIRECT($B$2&AZ$2&$A44)=\"\",\"\",INDIRECT($B$2&AZ$2&$A44))","v":""},{"$f":"IF(INDIRECT($B$2&BA$2&$A44)=\"\",\"\",INDIRECT($B$2&BA$2&$A44))","v":""},{"$f":"IF(INDIRECT($B$2&BB$2&$A44)=\"\",\"\",INDIRECT($B$2&BB$2&$A44))","v":""},{"$f":"IF(INDIRECT($B$2&BC$2&$A44)=\"\",\"\",INDIRECT($B$2&BC$2&$A44))","v":""},{"$f":"IF(INDIRECT($B$2&BD$2&$A44)=\"\",\"\",INDIRECT($B$2&BD$2&$A44))","v":""},{"$f":"IF(INDIRECT($B$2&BE$2&$A44)=\"\",\"\",INDIRECT($B$2&BE$2&$A44))","v":""},{"$f":"IF(INDIRECT($B$2&BF$2&$A44)=\"\",\"\",INDIRECT($B$2&BF$2&$A44))","v":""},{"$f":"IF(INDIRECT($B$2&BG$2&$A44)=\"\",\"\",INDIRECT($B$2&BG$2&$A44))","v":""},{"$f":"IF(INDIRECT($B$2&BH$2&$A44)=\"\",\"\",INDIRECT($B$2&BH$2&$A44))","v":""},{"$f":"IF(INDIRECT($B$2&BI$2&$A44)=\"\",\"\",INDIRECT($B$2&BI$2&$A44))","v":""},{"$f":"IF(INDIRECT($B$2&BJ$2&$A44)=\"\",\"\",INDIRECT($B$2&BJ$2&$A44))","v":""},{"$f":"IF(INDIRECT($B$2&BK$2&$A44)=\"\",\"\",INDIRECT($B$2&BK$2&$A44))","v":0},{"$f":"IF(INDIRECT($B$2&BL$2&$A44)=\"\",\"\",INDIRECT($B$2&BL$2&$A44))","v":""},{"$f":"IF(INDIRECT($B$2&BM$2&$A44)=\"\",\"\",INDIRECT($B$2&BM$2&$A44))","v":""},{"$f":"IF(INDIRECT($B$2&BN$2&$A44)=\"\",\"\",INDIRECT($B$2&BN$2&$A44))","v":""},{"$f":"IF(INDIRECT($B$2&BO$2&$A44)=\"\",\"\",INDIRECT($B$2&BO$2&$A44))","v":""},{"$f":"IF(INDIRECT($B$2&BP$2&$A44)=\"\",\"\",INDIRECT($B$2&BP$2&$A44))","v":""},{"$f":"IF(INDIRECT($B$2&BQ$2&$A44)=\"\",\"\",INDIRECT($B$2&BQ$2&$A44))","v":""},{"$f":"IF(INDIRECT($B$2&BR$2&$A44)=\"\",\"\",INDIRECT($B$2&BR$2&$A44))","v":""},{"$f":"IF(INDIRECT($B$2&BS$2&$A44)=\"\",\"\",INDIRECT($B$2&BS$2&$A44))","v":""},{"$f":"IF(INDIRECT($B$2&BT$2&$A44)=\"\",\"\",INDIRECT($B$2&BT$2&$A44))","v":""},{"$f":"IF(INDIRECT($B$2&BU$2&$A44)=\"\",\"\",INDIRECT($B$2&BU$2&$A44))","v":""},{"$f":"IF(INDIRECT($B$2&BV$2&$A44)=\"\",\"\",INDIRECT($B$2&BV$2&$A44))","v":""},{"$f":"IF(INDIRECT($B$2&BW$2&$A44)=\"\",\"\",INDIRECT($B$2&BW$2&$A44))","v":""},{"$f":"IF(INDIRECT($B$2&BX$2&$A44)=\"\",\"\",INDIRECT($B$2&BX$2&$A44))","v":""},{"$f":"IF(INDIRECT($B$2&BY$2&$A44)=\"\",\"\",INDIRECT($B$2&BY$2&$A44))","v":""},{"$f":"IF(INDIRECT($B$2&BZ$2&$A44)=\"\",\"\",INDIRECT($B$2&BZ$2&$A44))","v":0},{"$f":"IF(INDIRECT($B$2&CA$2&$A44)=\"\",\"\",INDIRECT($B$2&CA$2&$A44))","v":""},{"$f":"IF(INDIRECT($B$2&CB$2&$A44)=\"\",\"\",INDIRECT($B$2&CB$2&$A44))","v":""},{"$f":"IF(INDIRECT($B$2&CC$2&$A44)=\"\",\"\",INDIRECT($B$2&CC$2&$A44))","v":""},{"$f":"IF(INDIRECT($B$2&CD$2&$A44)=\"\",\"\",INDIRECT($B$2&CD$2&$A44))","v":""},{"$f":"IF(INDIRECT($B$2&CE$2&$A44)=\"\",\"\",INDIRECT($B$2&CE$2&$A44))","v":""},{"$f":"IF(INDIRECT($B$2&CF$2&$A44)=\"\",\"\",INDIRECT($B$2&CF$2&$A44))","v":""},{"$f":"IF(INDIRECT($B$2&CG$2&$A44)=\"\",\"\",INDIRECT($B$2&CG$2&$A44))","v":""},{"$f":"IF(INDIRECT($B$2&CH$2&$A44)=\"\",\"\",INDIRECT($B$2&CH$2&$A44))","v":""},{"$f":"IF(INDIRECT($B$2&CI$2&$A44)=\"\",\"\",INDIRECT($B$2&CI$2&$A44))","v":""},{"$f":"IF(INDIRECT($B$2&CJ$2&$A44)=\"\",\"\",INDIRECT($B$2&CJ$2&$A44))","v":""},{"$f":"IF(INDIRECT($B$2&CK$2&$A44)=\"\",\"\",INDIRECT($B$2&CK$2&$A44))","v":""},{"$f":"IF(INDIRECT($B$2&CL$2&$A44)=\"\",\"\",INDIRECT($B$2&CL$2&$A44))","v":""},{"$f":"IF(INDIRECT($B$2&CM$2&$A44)=\"\",\"\",INDIRECT($B$2&CM$2&$A44))","v":""},{"$f":"IF(INDIRECT($B$2&CN$2&$A44)=\"\",\"\",INDIRECT($B$2&CN$2&$A44))","v":""},{"$f":"IF(INDIRECT($B$2&CO$2&$A44)=\"\",\"\",INDIRECT($B$2&CO$2&$A44))","v":""},null,{"$f":"IF(INDIRECT($B$2&CQ$2&$A44)=\"\",\"\",INDIRECT($B$2&CQ$2&$A44))","v":""},{"$f":"IF(INDIRECT($B$2&CR$2&$A44)=\"\",\"\",INDIRECT($B$2&CR$2&$A44))","v":""},{"$f":"IF(INDIRECT($B$2&CS$2&$A44)=\"\",\"\",INDIRECT($B$2&CS$2&$A44))","v":""}]
[72,null,null,null,null,null,null,null,null,null,null,null,null,null,null,35,{"$f":"IF(INDIRECT($B$2&$Q$2&$A45)=\"\",\"\",INDIRECT($B$2&$Q$2&$A45))","v":""},null,{"$f":"IF(INDIRECT($B$2&$S$2&$A45)=\"\",\"\",INDIRECT($B$2&$S$2&$A45))","v":0},{"$f":"IF(INDIRECT($B$2&$T$2&$A45)=\"\",\"\",INDIRECT($B$2&$T$2&$A45))","v":0},{"$f":"IF(INDIRECT($B$2&$U$2&$A45)=\"\",\"\",INDIRECT($B$2&$U$2&$A45))","v":0},{"$f":"IF(INDIRECT($B$2&$V$2&$A45)=\"\",\"\",INDIRECT($B$2&$V$2&$A45))","v":""},{"$f":"IF(INDIRECT($B$2&$W$2&$A45)=\"\",\"\",INDIRECT($B$2&$W$2&$A45))","v":""},{"$f":"IF(INDIRECT($B$2&$X$2&$A45)=\"\",\"\",INDIRECT($B$2&$X$2&$A45))","v":""},{"$f":"IF(INDIRECT($B$2&$Y$2&$A45)=\"\",\"\",INDIRECT($B$2&$Y$2&$A45))","v":""},{"$f":"IF(INDIRECT($B$2&$Z$2&$A45)=\"\",\"\",INDIRECT($B$2&$Z$2&$A45))","v":""},null,{"$f":"IF(INDIRECT($B$2&$AB$2&$A45)=\"\",\"\",INDIRECT($B$2&$AB$2&$A45))","v":""},{"$f":"IF(INDIRECT($B$2&$AC$2&$A45)=\"\",\"\",INDIRECT($B$2&$AC$2&$A45))","v":""},{"$f":"IF(INDIRECT($B$2&$AD$2&$A45)=\"\",\"\",INDIRECT($B$2&$AD$2&$A45))","v":""},{"$f":"IF(INDIRECT($B$2&$AE$2&$A45)=\"\",\"\",INDIRECT($B$2&$AE$2&$A45))","v":""},{"$f":"IF(INDIRECT($B$2&$AF$2&$A45)=\"\",\"\",INDIRECT($B$2&$AF$2&$A45))","v":""},null,null,null,null,null,null,null,null,null,null,null,null,null,null,null,{"$f":"IF(INDIRECT($B$2&AV$2&$A45)=\"\",\"\",INDIRECT($B$2&AV$2&$A45))","v":""},{"$f":"IF(INDIRECT($B$2&AW$2&$A45)=\"\",\"\",INDIRECT($B$2&AW$2&$A45))","v":""},{"$f":"IF(INDIRECT($B$2&AX$2&$A45)=\"\",\"\",INDIRECT($B$2&AX$2&$A45))","v":""},{"$f":"IF(INDIRECT($B$2&AY$2&$A45)=\"\",\"\",INDIRECT($B$2&AY$2&$A45))","v":""},{"$f":"IF(INDIRECT($B$2&AZ$2&$A45)=\"\",\"\",INDIRECT($B$2&AZ$2&$A45))","v":""},{"$f":"IF(INDIRECT($B$2&BA$2&$A45)=\"\",\"\",INDIRECT($B$2&BA$2&$A45))","v":""},{"$f":"IF(INDIRECT($B$2&BB$2&$A45)=\"\",\"\",INDIRECT($B$2&BB$2&$A45))","v":""},{"$f":"IF(INDIRECT($B$2&BC$2&$A45)=\"\",\"\",INDIRECT($B$2&BC$2&$A45))","v":""},{"$f":"IF(INDIRECT($B$2&BD$2&$A45)=\"\",\"\",INDIRECT($B$2&BD$2&$A45))","v":""},{"$f":"IF(INDIRECT($B$2&BE$2&$A45)=\"\",\"\",INDIRECT($B$2&BE$2&$A45))","v":""},{"$f":"IF(INDIRECT($B$2&BF$2&$A45)=\"\",\"\",INDIRECT($B$2&BF$2&$A45))","v":""},{"$f":"IF(INDIRECT($B$2&BG$2&$A45)=\"\",\"\",INDIRECT($B$2&BG$2&$A45))","v":""},{"$f":"IF(INDIRECT($B$2&BH$2&$A45)=\"\",\"\",INDIRECT($B$2&BH$2&$A45))","v":""},{"$f":"IF(INDIRECT($B$2&BI$2&$A45)=\"\",\"\",INDIRECT($B$2&BI$2&$A45))","v":""},{"$f":"IF(INDIRECT($B$2&BJ$2&$A45)=\"\",\"\",INDIRECT($B$2&BJ$2&$A45))","v":""},{"$f":"IF(INDIRECT($B$2&BK$2&$A45)=\"\",\"\",INDIRECT($B$2&BK$2&$A45))","v":0},{"$f":"IF(INDIRECT($B$2&BL$2&$A45)=\"\",\"\",INDIRECT($B$2&BL$2&$A45))","v":""},{"$f":"IF(INDIRECT($B$2&BM$2&$A45)=\"\",\"\",INDIRECT($B$2&BM$2&$A45))","v":""},{"$f":"IF(INDIRECT($B$2&BN$2&$A45)=\"\",\"\",INDIRECT($B$2&BN$2&$A45))","v":""},{"$f":"IF(INDIRECT($B$2&BO$2&$A45)=\"\",\"\",INDIRECT($B$2&BO$2&$A45))","v":""},{"$f":"IF(INDIRECT($B$2&BP$2&$A45)=\"\",\"\",INDIRECT($B$2&BP$2&$A45))","v":""},{"$f":"IF(INDIRECT($B$2&BQ$2&$A45)=\"\",\"\",INDIRECT($B$2&BQ$2&$A45))","v":""},{"$f":"IF(INDIRECT($B$2&BR$2&$A45)=\"\",\"\",INDIRECT($B$2&BR$2&$A45))","v":""},{"$f":"IF(INDIRECT($B$2&BS$2&$A45)=\"\",\"\",INDIRECT($B$2&BS$2&$A45))","v":""},{"$f":"IF(INDIRECT($B$2&BT$2&$A45)=\"\",\"\",INDIRECT($B$2&BT$2&$A45))","v":""},{"$f":"IF(INDIRECT($B$2&BU$2&$A45)=\"\",\"\",INDIRECT($B$2&BU$2&$A45))","v":""},{"$f":"IF(INDIRECT($B$2&BV$2&$A45)=\"\",\"\",INDIRECT($B$2&BV$2&$A45))","v":""},{"$f":"IF(INDIRECT($B$2&BW$2&$A45)=\"\",\"\",INDIRECT($B$2&BW$2&$A45))","v":""},{"$f":"IF(INDIRECT($B$2&BX$2&$A45)=\"\",\"\",INDIRECT($B$2&BX$2&$A45))","v":""},{"$f":"IF(INDIRECT($B$2&BY$2&$A45)=\"\",\"\",INDIRECT($B$2&BY$2&$A45))","v":""},{"$f":"IF(INDIRECT($B$2&BZ$2&$A45)=\"\",\"\",INDIRECT($B$2&BZ$2&$A45))","v":0},{"$f":"IF(INDIRECT($B$2&CA$2&$A45)=\"\",\"\",INDIRECT($B$2&CA$2&$A45))","v":""},{"$f":"IF(INDIRECT($B$2&CB$2&$A45)=\"\",\"\",INDIRECT($B$2&CB$2&$A45))","v":""},{"$f":"IF(INDIRECT($B$2&CC$2&$A45)=\"\",\"\",INDIRECT($B$2&CC$2&$A45))","v":""},{"$f":"IF(INDIRECT($B$2&CD$2&$A45)=\"\",\"\",INDIRECT($B$2&CD$2&$A45))","v":""},{"$f":"IF(INDIRECT($B$2&CE$2&$A45)=\"\",\"\",INDIRECT($B$2&CE$2&$A45))","v":""},{"$f":"IF(INDIRECT($B$2&CF$2&$A45)=\"\",\"\",INDIRECT($B$2&CF$2&$A45))","v":""},{"$f":"IF(INDIRECT($B$2&CG$2&$A45)=\"\",\"\",INDIRECT($B$2&CG$2&$A45))","v":""},{"$f":"IF(INDIRECT($B$2&CH$2&$A45)=\"\",\"\",INDIRECT($B$2&CH$2&$A45))","v":""},{"$f":"IF(INDIRECT($B$2&CI$2&$A45)=\"\",\"\",INDIRECT($B$2&CI$2&$A45))","v":""},{"$f":"IF(INDIRECT($B$2&CJ$2&$A45)=\"\",\"\",INDIRECT($B$2&CJ$2&$A45))","v":""},{"$f":"IF(INDIRECT($B$2&CK$2&$A45)=\"\",\"\",INDIRECT($B$2&CK$2&$A45))","v":""},{"$f":"IF(INDIRECT($B$2&CL$2&$A45)=\"\",\"\",INDIRECT($B$2&CL$2&$A45))","v":""},{"$f":"IF(INDIRECT($B$2&CM$2&$A45)=\"\",\"\",INDIRECT($B$2&CM$2&$A45))","v":""},{"$f":"IF(INDIRECT($B$2&CN$2&$A45)=\"\",\"\",INDIRECT($B$2&CN$2&$A45))","v":""},{"$f":"IF(INDIRECT($B$2&CO$2&$A45)=\"\",\"\",INDIRECT($B$2&CO$2&$A45))","v":""},null,{"$f":"IF(INDIRECT($B$2&CQ$2&$A45)=\"\",\"\",INDIRECT($B$2&CQ$2&$A45))","v":""},{"$f":"IF(INDIRECT($B$2&CR$2&$A45)=\"\",\"\",INDIRECT($B$2&CR$2&$A45))","v":""},{"$f":"IF(INDIRECT($B$2&CS$2&$A45)=\"\",\"\",INDIRECT($B$2&CS$2&$A45))","v":""}]
[73,null,null,null,null,null,null,null,null,null,null,null,null,null,null,36,{"$f":"IF(INDIRECT($B$2&$Q$2&$A46)=\"\",\"\",INDIRECT($B$2&$Q$2&$A46))","v":""},null,{"$f":"IF(INDIRECT($B$2&$S$2&$A46)=\"\",\"\",INDIRECT($B$2&$S$2&$A46))","v":0},{"$f":"IF(INDIRECT($B$2&$T$2&$A46)=\"\",\"\",INDIRECT($B$2&$T$2&$A46))","v":0},{"$f":"IF(INDIRECT($B$2&$U$2&$A46)=\"\",\"\",INDIRECT($B$2&$U$2&$A46))","v":0},{"$f":"IF(INDIRECT($B$2&$V$2&$A46)=\"\",\"\",INDIRECT($B$2&$V$2&$A46))","v":""},{"$f":"IF(INDIRECT($B$2&$W$2&$A46)=\"\",\"\",INDIRECT($B$2&$W$2&$A46))","v":""},{"$f":"IF(INDIRECT($B$2&$X$2&$A46)=\"\",\"\",INDIRECT($B$2&$X$2&$A46))","v":""},{"$f":"IF(INDIRECT($B$2&$Y$2&$A46)=\"\",\"\",INDIRECT($B$2&$Y$2&$A46))","v":""},{"$f":"IF(INDIRECT($B$2&$Z$2&$A46)=\"\",\"\",INDIRECT($B$2&$Z$2&$A46))","v":""},null,{"$f":"IF(INDIRECT($B$2&$AB$2&$A46)=\"\",\"\",INDIRECT($B$2&$AB$2&$A46))","v":""},{"$f":"IF(INDIRECT($B$2&$AC$2&$A46)=\"\",\"\",INDIRECT($B$2&$AC$2&$A46))","v":""},{"$f":"IF(INDIRECT($B$2&$AD$2&$A46)=\"\",\"\",INDIRECT($B$2&$AD$2&$A46))","v":""},{"$f":"IF(INDIRECT($B$2&$AE$2&$A46)=\"\",\"\",INDIRECT($B$2&$AE$2&$A46))","v":""},{"$f":"IF(INDIRECT($B$2&$AF$2&$A46)=\"\",\"\",INDIRECT($B$2&$AF$2&$A46))","v":""},null,null,null,null,null,null,null,null,null,null,null,null,null,null,null,{"$f":"IF(INDIRECT($B$2&AV$2&$A46)=\"\",\"\",INDIRECT($B$2&AV$2&$A46))","v":""},{"$f":"IF(INDIRECT($B$2&AW$2&$A46)=\"\",\"\",INDIRECT($B$2&AW$2&$A46))","v":""},{"$f":"IF(INDIRECT($B$2&AX$2&$A46)=\"\",\"\",INDIRECT($B$2&AX$2&$A46))","v":""},{"$f":"IF(INDIRECT($B$2&AY$2&$A46)=\"\",\"\",INDIRECT($B$2&AY$2&$A46))","v":""},{"$f":"IF(INDIRECT($B$2&AZ$2&$A46)=\"\",\"\",INDIRECT($B$2&AZ$2&$A46))","v":""},{"$f":"IF(INDIRECT($B$2&BA$2&$A46)=\"\",\"\",INDIRECT($B$2&BA$2&$A46))","v":""},{"$f":"IF(INDIRECT($B$2&BB$2&$A46)=\"\",\"\",INDIRECT($B$2&BB$2&$A46))","v":""},{"$f":"IF(INDIRECT($B$2&BC$2&$A46)=\"\",\"\",INDIRECT($B$2&BC$2&$A46))","v":""},{"$f":"IF(INDIRECT($B$2&BD$2&$A46)=\"\",\"\",INDIRECT($B$2&BD$2&$A46))","v":""},{"$f":"IF(INDIRECT($B$2&BE$2&$A46)=\"\",\"\",INDIRECT($B$2&BE$2&$A46))","v":""},{"$f":"IF(INDIRECT($B$2&BF$2&$A46)=\"\",\"\",INDIRECT($B$2&BF$2&$A46))","v":""},{"$f":"IF(INDIRECT($B$2&BG$2&$A46)=\"\",\"\",INDIRECT($B$2&BG$2&$A46))","v":""},{"$f":"IF(INDIRECT($B$2&BH$2&$A46)=\"\",\"\",INDIRECT($B$2&BH$2&$A46))","v":""},{"$f":"IF(INDIRECT($B$2&BI$2&$A46)=\"\",\"\",INDIRECT($B$2&BI$2&$A46))","v":""},{"$f":"IF(INDIRECT($B$2&BJ$2&$A46)=\"\",\"\",INDIRECT($B$2&BJ$2&$A46))","v":""},{"$f":"IF(INDIRECT($B$2&BK$2&$A46)=\"\",\"\",INDIRECT($B$2&BK$2&$A46))","v":0},{"$f":"IF(INDIRECT($B$2&BL$2&$A46)=\"\",\"\",INDIRECT($B$2&BL$2&$A46))","v":""},{"$f":"IF(INDIRECT($B$2&BM$2&$A46)=\"\",\"\",INDIRECT($B$2&BM$2&$A46))","v":""},{"$f":"IF(INDIRECT($B$2&BN$2&$A46)=\"\",\"\",INDIRECT($B$2&BN$2&$A46))","v":""},{"$f":"IF(INDIRECT($B$2&BO$2&$A46)=\"\",\"\",INDIRECT($B$2&BO$2&$A46))","v":""},{"$f":"IF(INDIRECT($B$2&BP$2&$A46)=\"\",\"\",INDIRECT($B$2&BP$2&$A46))","v":""},{"$f":"IF(INDIRECT($B$2&BQ$2&$A46)=\"\",\"\",INDIRECT($B$2&BQ$2&$A46))","v":""},{"$f":"IF(INDIRECT($B$2&BR$2&$A46)=\"\",\"\",INDIRECT($B$2&BR$2&$A46))","v":""},{"$f":"IF(INDIRECT($B$2&BS$2&$A46)=\"\",\"\",INDIRECT($B$2&BS$2&$A46))","v":""},{"$f":"IF(INDIRECT($B$2&BT$2&$A46)=\"\",\"\",INDIRECT($B$2&BT$2&$A46))","v":""},{"$f":"IF(INDIRECT($B$2&BU$2&$A46)=\"\",\"\",INDIRECT($B$2&BU$2&$A46))","v":""},{"$f":"IF(INDIRECT($B$2&BV$2&$A46)=\"\",\"\",INDIRECT($B$2&BV$2&$A46))","v":""},{"$f":"IF(INDIRECT($B$2&BW$2&$A46)=\"\",\"\",INDIRECT($B$2&BW$2&$A46))","v":""},{"$f":"IF(INDIRECT($B$2&BX$2&$A46)=\"\",\"\",INDIRECT($B$2&BX$2&$A46))","v":""},{"$f":"IF(INDIRECT($B$2&BY$2&$A46)=\"\",\"\",INDIRECT($B$2&BY$2&$A46))","v":""},{"$f":"IF(INDIRECT($B$2&BZ$2&$A46)=\"\",\"\",INDIRECT($B$2&BZ$2&$A46))","v":0},{"$f":"IF(INDIRECT($B$2&CA$2&$A46)=\"\",\"\",INDIRECT($B$2&CA$2&$A46))","v":""},{"$f":"IF(INDIRECT($B$2&CB$2&$A46)=\"\",\"\",INDIRECT($B$2&CB$2&$A46))","v":""},{"$f":"IF(INDIRECT($B$2&CC$2&$A46)=\"\",\"\",INDIRECT($B$2&CC$2&$A46))","v":""},{"$f":"IF(INDIRECT($B$2&CD$2&$A46)=\"\",\"\",INDIRECT($B$2&CD$2&$A46))","v":""},{"$f":"IF(INDIRECT($B$2&CE$2&$A46)=\"\",\"\",INDIRECT($B$2&CE$2&$A46))","v":""},{"$f":"IF(INDIRECT($B$2&CF$2&$A46)=\"\",\"\",INDIRECT($B$2&CF$2&$A46))","v":""},{"$f":"IF(INDIRECT($B$2&CG$2&$A46)=\"\",\"\",INDIRECT($B$2&CG$2&$A46))","v":""},{"$f":"IF(INDIRECT($B$2&CH$2&$A46)=\"\",\"\",INDIRECT($B$2&CH$2&$A46))","v":""},{"$f":"IF(INDIRECT($B$2&CI$2&$A46)=\"\",\"\",INDIRECT($B$2&CI$2&$A46))","v":""},{"$f":"IF(INDIRECT($B$2&CJ$2&$A46)=\"\",\"\",INDIRECT($B$2&CJ$2&$A46))","v":""},{"$f":"IF(INDIRECT($B$2&CK$2&$A46)=\"\",\"\",INDIRECT($B$2&CK$2&$A46))","v":""},{"$f":"IF(INDIRECT($B$2&CL$2&$A46)=\"\",\"\",INDIRECT($B$2&CL$2&$A46))","v":""},{"$f":"IF(INDIRECT($B$2&CM$2&$A46)=\"\",\"\",INDIRECT($B$2&CM$2&$A46))","v":""},{"$f":"IF(INDIRECT($B$2&CN$2&$A46)=\"\",\"\",INDIRECT($B$2&CN$2&$A46))","v":""},{"$f":"IF(INDIRECT($B$2&CO$2&$A46)=\"\",\"\",INDIRECT($B$2&CO$2&$A46))","v":""},null,{"$f":"IF(INDIRECT($B$2&CQ$2&$A46)=\"\",\"\",INDIRECT($B$2&CQ$2&$A46))","v":""},{"$f":"IF(INDIRECT($B$2&CR$2&$A46)=\"\",\"\",INDIRECT($B$2&CR$2&$A46))","v":""},{"$f":"IF(INDIRECT($B$2&CS$2&$A46)=\"\",\"\",INDIRECT($B$2&CS$2&$A46))","v":""}]
[74,null,null,null,null,null,null,null,null,null,null,null,null,null,null,37,{"$f":"IF(INDIRECT($B$2&$Q$2&$A47)=\"\",\"\",INDIRECT($B$2&$Q$2&$A47))","v":""},null,{"$f":"IF(INDIRECT($B$2&$S$2&$A47)=\"\",\"\",INDIRECT($B$2&$S$2&$A47))","v":0},{"$f":"IF(INDIRECT($B$2&$T$2&$A47)=\"\",\"\",INDIRECT($B$2&$T$2&$A47))","v":0},{"$f":"IF(INDIRECT($B$2&$U$2&$A47)=\"\",\"\",INDIRECT($B$2&$U$2&$A47))","v":0},{"$f":"IF(INDIRECT($B$2&$V$2&$A47)=\"\",\"\",INDIRECT($B$2&$V$2&$A47))","v":""},{"$f":"IF(INDIRECT($B$2&$W$2&$A47)=\"\",\"\",INDIRECT($B$2&$W$2&$A47))","v":""},{"$f":"IF(INDIRECT($B$2&$X$2&$A47)=\"\",\"\",INDIRECT($B$2&$X$2&$A47))","v":""},{"$f":"IF(INDIRECT($B$2&$Y$2&$A47)=\"\",\"\",INDIRECT($B$2&$Y$2&$A47))","v":""},{"$f":"IF(INDIRECT($B$2&$Z$2&$A47)=\"\",\"\",INDIRECT($B$2&$Z$2&$A47))","v":""},null,{"$f":"IF(INDIRECT($B$2&$AB$2&$A47)=\"\",\"\",INDIRECT($B$2&$AB$2&$A47))","v":""},{"$f":"IF(INDIRECT($B$2&$AC$2&$A47)=\"\",\"\",INDIRECT($B$2&$AC$2&$A47))","v":""},{"$f":"IF(INDIRECT($B$2&$AD$2&$A47)=\"\",\"\",INDIRECT($B$2&$AD$2&$A47))","v":""},{"$f":"IF(INDIRECT($B$2&$AE$2&$A47)=\"\",\"\",INDIRECT($B$2&$AE$2&$A47))","v":""},{"$f":"IF(INDIRECT($B$2&$AF$2&$A47)=\"\",\"\",INDIRECT($B$2&$AF$2&$A47))","v":""},null,null,null,null,null,null,null,null,null,null,null,null,null,null,null,{"$f":"IF(INDIRECT($B$2&AV$2&$A47)=\"\",\"\",INDIRECT($B$2&AV$2&$A47))","v":""},{"$f":"IF(INDIRECT($B$2&AW$2&$A47)=\"\",\"\",INDIRECT($B$2&AW$2&$A47))","v":""},{"$f":"IF(INDIRECT($B$2&AX$2&$A47)=\"\",\"\",INDIRECT($B$2&AX$2&$A47))","v":""},{"$f":"IF(INDIRECT($B$2&AY$2&$A47)=\"\",\"\",INDIRECT($B$2&AY$2&$A47))","v":""},{"$f":"IF(INDIRECT($B$2&AZ$2&$A47)=\"\",\"\",INDIRECT($B$2&AZ$2&$A47))","v":""},{"$f":"IF(INDIRECT($B$2&BA$2&$A47)=\"\",\"\",INDIRECT($B$2&BA$2&$A47))","v":""},{"$f":"IF(INDIRECT($B$2&BB$2&$A47)=\"\",\"\",INDIRECT($B$2&BB$2&$A47))","v":""},{"$f":"IF(INDIRECT($B$2&BC$2&$A47)=\"\",\"\",INDIRECT($B$2&BC$2&$A47))","v":""},{"$f":"IF(INDIRECT($B$2&BD$2&$A47)=\"\",\"\",INDIRECT($B$2&BD$2&$A47))","v":""},{"$f":"IF(INDIRECT($B$2&BE$2&$A47)=\"\",\"\",INDIRECT($B$2&BE$2&$A47))","v":""},{"$f":"IF(INDIRECT($B$2&BF$2&$A47)=\"\",\"\",INDIRECT($B$2&BF$2&$A47))","v":""},{"$f":"IF(INDIRECT($B$2&BG$2&$A47)=\"\",\"\",INDIRECT($B$2&BG$2&$A47))","v":""},{"$f":"IF(INDIRECT($B$2&BH$2&$A47)=\"\",\"\",INDIRECT($B$2&BH$2&$A47))","v":""},{"$f":"IF(INDIRECT($B$2&BI$2&$A47)=\"\",\"\",INDIRECT($B$2&BI$2&$A47))","v":""},{"$f":"IF(INDIRECT($B$2&BJ$2&$A47)=\"\",\"\",INDIRECT($B$2&BJ$2&$A47))","v":""},{"$f":"IF(INDIRECT($B$2&BK$2&$A47)=\"\",\"\",INDIRECT($B$2&BK$2&$A47))","v":0},{"$f":"IF(INDIRECT($B$2&BL$2&$A47)=\"\",\"\",INDIRECT($B$2&BL$2&$A47))","v":""},{"$f":"IF(INDIRECT($B$2&BM$2&$A47)=\"\",\"\",INDIRECT($B$2&BM$2&$A47))","v":""},{"$f":"IF(INDIRECT($B$2&BN$2&$A47)=\"\",\"\",INDIRECT($B$2&BN$2&$A47))","v":""},{"$f":"IF(INDIRECT($B$2&BO$2&$A47)=\"\",\"\",INDIRECT($B$2&BO$2&$A47))","v":""},{"$f":"IF(INDIRECT($B$2&BP$2&$A47)=\"\",\"\",INDIRECT($B$2&BP$2&$A47))","v":""},{"$f":"IF(INDIRECT($B$2&BQ$2&$A47)=\"\",\"\",INDIRECT($B$2&BQ$2&$A47))","v":""},{"$f":"IF(INDIRECT($B$2&BR$2&$A47)=\"\",\"\",INDIRECT($B$2&BR$2&$A47))","v":""},{"$f":"IF(INDIRECT($B$2&BS$2&$A47)=\"\",\"\",INDIRECT($B$2&BS$2&$A47))","v":""},{"$f":"IF(INDIRECT($B$2&BT$2&$A47)=\"\",\"\",INDIRECT($B$2&BT$2&$A47))","v":""},{"$f":"IF(INDIRECT($B$2&BU$2&$A47)=\"\",\"\",INDIRECT($B$2&BU$2&$A47))","v":""},{"$f":"IF(INDIRECT($B$2&BV$2&$A47)=\"\",\"\",INDIRECT($B$2&BV$2&$A47))","v":""},{"$f":"IF(INDIRECT($B$2&BW$2&$A47)=\"\",\"\",INDIRECT($B$2&BW$2&$A47))","v":""},{"$f":"IF(INDIRECT($B$2&BX$2&$A47)=\"\",\"\",INDIRECT($B$2&BX$2&$A47))","v":""},{"$f":"IF(INDIRECT($B$2&BY$2&$A47)=\"\",\"\",INDIRECT($B$2&BY$2&$A47))","v":""},{"$f":"IF(INDIRECT($B$2&BZ$2&$A47)=\"\",\"\",INDIRECT($B$2&BZ$2&$A47))","v":0},{"$f":"IF(INDIRECT($B$2&CA$2&$A47)=\"\",\"\",INDIRECT($B$2&CA$2&$A47))","v":""},{"$f":"IF(INDIRECT($B$2&CB$2&$A47)=\"\",\"\",INDIRECT($B$2&CB$2&$A47))","v":""},{"$f":"IF(INDIRECT($B$2&CC$2&$A47)=\"\",\"\",INDIRECT($B$2&CC$2&$A47))","v":""},{"$f":"IF(INDIRECT($B$2&CD$2&$A47)=\"\",\"\",INDIRECT($B$2&CD$2&$A47))","v":""},{"$f":"IF(INDIRECT($B$2&CE$2&$A47)=\"\",\"\",INDIRECT($B$2&CE$2&$A47))","v":""},{"$f":"IF(INDIRECT($B$2&CF$2&$A47)=\"\",\"\",INDIRECT($B$2&CF$2&$A47))","v":""},{"$f":"IF(INDIRECT($B$2&CG$2&$A47)=\"\",\"\",INDIRECT($B$2&CG$2&$A47))","v":""},{"$f":"IF(INDIRECT($B$2&CH$2&$A47)=\"\",\"\",INDIRECT($B$2&CH$2&$A47))","v":""},{"$f":"IF(INDIRECT($B$2&CI$2&$A47)=\"\",\"\",INDIRECT($B$2&CI$2&$A47))","v":""},{"$f":"IF(INDIRECT($B$2&CJ$2&$A47)=\"\",\"\",INDIRECT($B$2&CJ$2&$A47))","v":""},{"$f":"IF(INDIRECT($B$2&CK$2&$A47)=\"\",\"\",INDIRECT($B$2&CK$2&$A47))","v":""},{"$f":"IF(INDIRECT($B$2&CL$2&$A47)=\"\",\"\",INDIRECT($B$2&CL$2&$A47))","v":""},{"$f":"IF(INDIRECT($B$2&CM$2&$A47)=\"\",\"\",INDIRECT($B$2&CM$2&$A47))","v":""},{"$f":"IF(INDIRECT($B$2&CN$2&$A47)=\"\",\"\",INDIRECT($B$2&CN$2&$A47))","v":""},{"$f":"IF(INDIRECT($B$2&CO$2&$A47)=\"\",\"\",INDIRECT($B$2&CO$2&$A47))","v":""},null,{"$f":"IF(INDIRECT($B$2&CQ$2&$A47)=\"\",\"\",INDIRECT($B$2&CQ$2&$A47))","v":""},{"$f":"IF(INDIRECT($B$2&CR$2&$A47)=\"\",\"\",INDIRECT($B$2&CR$2&$A47))","v":""},{"$f":"IF(INDIRECT($B$2&CS$2&$A47)=\"\",\"\",INDIRECT($B$2&CS$2&$A47))","v":""}]
[75,null,null,null,null,null,null,null,null,null,null,null,null,null,null,38,{"$f":"IF(INDIRECT($B$2&$Q$2&$A48)=\"\",\"\",INDIRECT($B$2&$Q$2&$A48))","v":""},null,{"$f":"IF(INDIRECT($B$2&$S$2&$A48)=\"\",\"\",INDIRECT($B$2&$S$2&$A48))","v":0},{"$f":"IF(INDIRECT($B$2&$T$2&$A48)=\"\",\"\",INDIRECT($B$2&$T$2&$A48))","v":0},{"$f":"IF(INDIRECT($B$2&$U$2&$A48)=\"\",\"\",INDIRECT($B$2&$U$2&$A48))","v":0},{"$f":"IF(INDIRECT($B$2&$V$2&$A48)=\"\",\"\",INDIRECT($B$2&$V$2&$A48))","v":""},{"$f":"IF(INDIRECT($B$2&$W$2&$A48)=\"\",\"\",INDIRECT($B$2&$W$2&$A48))","v":""},{"$f":"IF(INDIRECT($B$2&$X$2&$A48)=\"\",\"\",INDIRECT($B$2&$X$2&$A48))","v":""},{"$f":"IF(INDIRECT($B$2&$Y$2&$A48)=\"\",\"\",INDIRECT($B$2&$Y$2&$A48))","v":""},{"$f":"IF(INDIRECT($B$2&$Z$2&$A48)=\"\",\"\",INDIRECT($B$2&$Z$2&$A48))","v":""},null,{"$f":"IF(INDIRECT($B$2&$AB$2&$A48)=\"\",\"\",INDIRECT($B$2&$AB$2&$A48))","v":""},{"$f":"IF(INDIRECT($B$2&$AC$2&$A48)=\"\",\"\",INDIRECT($B$2&$AC$2&$A48))","v":""},{"$f":"IF(INDIRECT($B$2&$AD$2&$A48)=\"\",\"\",INDIRECT($B$2&$AD$2&$A48))","v":""},{"$f":"IF(INDIRECT($B$2&$AE$2&$A48)=\"\",\"\",INDIRECT($B$2&$AE$2&$A48))","v":""},{"$f":"IF(INDIRECT($B$2&$AF$2&$A48)=\"\",\"\",INDIRECT($B$2&$AF$2&$A48))","v":""},null,null,null,null,null,null,null,null,null,null,null,null,null,null,null,{"$f":"IF(INDIRECT($B$2&AV$2&$A48)=\"\",\"\",INDIRECT($B$2&AV$2&$A48))","v":""},{"$f":"IF(INDIRECT($B$2&AW$2&$A48)=\"\",\"\",INDIRECT($B$2&AW$2&$A48))","v":""},{"$f":"IF(INDIRECT($B$2&AX$2&$A48)=\"\",\"\",INDIRECT($B$2&AX$2&$A48))","v":""},{"$f":"IF(INDIRECT($B$2&AY$2&$A48)=\"\",\"\",INDIRECT($B$2&AY$2&$A48))","v":""},{"$f":"IF(INDIRECT($B$2&AZ$2&$A48)=\"\",\"\",INDIRECT($B$2&AZ$2&$A48))","v":""},{"$f":"IF(INDIRECT($B$2&BA$2&$A48)=\"\",\"\",INDIRECT($B$2&BA$2&$A48))","v":""},{"$f":"IF(INDIRECT($B$2&BB$2&$A48)=\"\",\"\",INDIRECT($B$2&BB$2&$A48))","v":""},{"$f":"IF(INDIRECT($B$2&BC$2&$A48)=\"\",\"\",INDIRECT($B$2&BC$2&$A48))","v":""},{"$f":"IF(INDIRECT($B$2&BD$2&$A48)=\"\",\"\",INDIRECT($B$2&BD$2&$A48))","v":""},{"$f":"IF(INDIRECT($B$2&BE$2&$A48)=\"\",\"\",INDIRECT($B$2&BE$2&$A48))","v":""},{"$f":"IF(INDIRECT($B$2&BF$2&$A48)=\"\",\"\",INDIRECT($B$2&BF$2&$A48))","v":""},{"$f":"IF(INDIRECT($B$2&BG$2&$A48)=\"\",\"\",INDIRECT($B$2&BG$2&$A48))","v":""},{"$f":"IF(INDIRECT($B$2&BH$2&$A48)=\"\",\"\",INDIRECT($B$2&BH$2&$A48))","v":""},{"$f":"IF(INDIRECT($B$2&BI$2&$A48)=\"\",\"\",INDIRECT($B$2&BI$2&$A48))","v":""},{"$f":"IF(INDIRECT($B$2&BJ$2&$A48)=\"\",\"\",INDIRECT($B$2&BJ$2&$A48))","v":""},{"$f":"IF(INDIRECT($B$2&BK$2&$A48)=\"\",\"\",INDIRECT($B$2&BK$2&$A48))","v":0},{"$f":"IF(INDIRECT($B$2&BL$2&$A48)=\"\",\"\",INDIRECT($B$2&BL$2&$A48))","v":""},{"$f":"IF(INDIRECT($B$2&BM$2&$A48)=\"\",\"\",INDIRECT($B$2&BM$2&$A48))","v":""},{"$f":"IF(INDIRECT($B$2&BN$2&$A48)=\"\",\"\",INDIRECT($B$2&BN$2&$A48))","v":""},{"$f":"IF(INDIRECT($B$2&BO$2&$A48)=\"\",\"\",INDIRECT($B$2&BO$2&$A48))","v":""},{"$f":"IF(INDIRECT($B$2&BP$2&$A48)=\"\",\"\",INDIRECT($B$2&BP$2&$A48))","v":""},{"$f":"IF(INDIRECT($B$2&BQ$2&$A48)=\"\",\"\",INDIRECT($B$2&BQ$2&$A48))","v":""},{"$f":"IF(INDIRECT($B$2&BR$2&$A48)=\"\",\"\",INDIRECT($B$2&BR$2&$A48))","v":""},{"$f":"IF(INDIRECT($B$2&BS$2&$A48)=\"\",\"\",INDIRECT($B$2&BS$2&$A48))","v":""},{"$f":"IF(INDIRECT($B$2&BT$2&$A48)=\"\",\"\",INDIRECT($B$2&BT$2&$A48))","v":""},{"$f":"IF(INDIRECT($B$2&BU$2&$A48)=\"\",\"\",INDIRECT($B$2&BU$2&$A48))","v":""},{"$f":"IF(INDIRECT($B$2&BV$2&$A48)=\"\",\"\",INDIRECT($B$2&BV$2&$A48))","v":""},{"$f":"IF(INDIRECT($B$2&BW$2&$A48)=\"\",\"\",INDIRECT($B$2&BW$2&$A48))","v":""},{"$f":"IF(INDIRECT($B$2&BX$2&$A48)=\"\",\"\",INDIRECT($B$2&BX$2&$A48))","v":""},{"$f":"IF(INDIRECT($B$2&BY$2&$A48)=\"\",\"\",INDIRECT($B$2&BY$2&$A48))","v":""},{"$f":"IF(INDIRECT($B$2&BZ$2&$A48)=\"\",\"\",INDIRECT($B$2&BZ$2&$A48))","v":0},{"$f":"IF(INDIRECT($B$2&CA$2&$A48)=\"\",\"\",INDIRECT($B$2&CA$2&$A48))","v":""},{"$f":"IF(INDIRECT($B$2&CB$2&$A48)=\"\",\"\",INDIRECT($B$2&CB$2&$A48))","v":""},{"$f":"IF(INDIRECT($B$2&CC$2&$A48)=\"\",\"\",INDIRECT($B$2&CC$2&$A48))","v":""},{"$f":"IF(INDIRECT($B$2&CD$2&$A48)=\"\",\"\",INDIRECT($B$2&CD$2&$A48))","v":""},{"$f":"IF(INDIRECT($B$2&CE$2&$A48)=\"\",\"\",INDIRECT($B$2&CE$2&$A48))","v":""},{"$f":"IF(INDIRECT($B$2&CF$2&$A48)=\"\",\"\",INDIRECT($B$2&CF$2&$A48))","v":""},{"$f":"IF(INDIRECT($B$2&CG$2&$A48)=\"\",\"\",INDIRECT($B$2&CG$2&$A48))","v":""},{"$f":"IF(INDIRECT($B$2&CH$2&$A48)=\"\",\"\",INDIRECT($B$2&CH$2&$A48))","v":""},{"$f":"IF(INDIRECT($B$2&CI$2&$A48)=\"\",\"\",INDIRECT($B$2&CI$2&$A48))","v":""},{"$f":"IF(INDIRECT($B$2&CJ$2&$A48)=\"\",\"\",INDIRECT($B$2&CJ$2&$A48))","v":""},{"$f":"IF(INDIRECT($B$2&CK$2&$A48)=\"\",\"\",INDIRECT($B$2&CK$2&$A48))","v":""},{"$f":"IF(INDIRECT($B$2&CL$2&$A48)=\"\",\"\",INDIRECT($B$2&CL$2&$A48))","v":""},{"$f":"IF(INDIRECT($B$2&CM$2&$A48)=\"\",\"\",INDIRECT($B$2&CM$2&$A48))","v":""},{"$f":"IF(INDIRECT($B$2&CN$2&$A48)=\"\",\"\",INDIRECT($B$2&CN$2&$A48))","v":""},{"$f":"IF(INDIRECT($B$2&CO$2&$A48)=\"\",\"\",INDIRECT($B$2&CO$2&$A48))","v":""},null,{"$f":"IF(INDIRECT($B$2&CQ$2&$A48)=\"\",\"\",INDIRECT($B$2&CQ$2&$A48))","v":""},{"$f":"IF(INDIRECT($B$2&CR$2&$A48)=\"\",\"\",INDIRECT($B$2&CR$2&$A48))","v":""},{"$f":"IF(INDIRECT($B$2&CS$2&$A48)=\"\",\"\",INDIRECT($B$2&CS$2&$A48))","v":""}]
[76,null,null,null,null,null,null,null,null,null,null,null,null,null,null,39,{"$f":"IF(INDIRECT($B$2&$Q$2&$A49)=\"\",\"\",INDIRECT($B$2&$Q$2&$A49))","v":""},null,{"$f":"IF(INDIRECT($B$2&$S$2&$A49)=\"\",\"\",INDIRECT($B$2&$S$2&$A49))","v":0},{"$f":"IF(INDIRECT($B$2&$T$2&$A49)=\"\",\"\",INDIRECT($B$2&$T$2&$A49))","v":0},{"$f":"IF(INDIRECT($B$2&$U$2&$A49)=\"\",\"\",INDIRECT($B$2&$U$2&$A49))","v":0},{"$f":"IF(INDIRECT($B$2&$V$2&$A49)=\"\",\"\",INDIRECT($B$2&$V$2&$A49))","v":""},{"$f":"IF(INDIRECT($B$2&$W$2&$A49)=\"\",\"\",INDIRECT($B$2&$W$2&$A49))","v":""},{"$f":"IF(INDIRECT($B$2&$X$2&$A49)=\"\",\"\",INDIRECT($B$2&$X$2&$A49))","v":""},{"$f":"IF(INDIRECT($B$2&$Y$2&$A49)=\"\",\"\",INDIRECT($B$2&$Y$2&$A49))","v":""},{"$f":"IF(INDIRECT($B$2&$Z$2&$A49)=\"\",\"\",INDIRECT($B$2&$Z$2&$A49))","v":""},null,{"$f":"IF(INDIRECT($B$2&$AB$2&$A49)=\"\",\"\",INDIRECT($B$2&$AB$2&$A49))","v":""},{"$f":"IF(INDIRECT($B$2&$AC$2&$A49)=\"\",\"\",INDIRECT($B$2&$AC$2&$A49))","v":""},{"$f":"IF(INDIRECT($B$2&$AD$2&$A49)=\"\",\"\",INDIRECT($B$2&$AD$2&$A49))","v":""},{"$f":"IF(INDIRECT($B$2&$AE$2&$A49)=\"\",\"\",INDIRECT($B$2&$AE$2&$A49))","v":""},{"$f":"IF(INDIRECT($B$2&$AF$2&$A49)=\"\",\"\",INDIRECT($B$2&$AF$2&$A49))","v":""},null,null,null,null,null,null,null,null,null,null,null,null,null,null,null,{"$f":"IF(INDIRECT($B$2&AV$2&$A49)=\"\",\"\",INDIRECT($B$2&AV$2&$A49))","v":""},{"$f":"IF(INDIRECT($B$2&AW$2&$A49)=\"\",\"\",INDIRECT($B$2&AW$2&$A49))","v":""},{"$f":"IF(INDIRECT($B$2&AX$2&$A49)=\"\",\"\",INDIRECT($B$2&AX$2&$A49))","v":""},{"$f":"IF(INDIRECT($B$2&AY$2&$A49)=\"\",\"\",INDIRECT($B$2&AY$2&$A49))","v":""},{"$f":"IF(INDIRECT($B$2&AZ$2&$A49)=\"\",\"\",INDIRECT($B$2&AZ$2&$A49))","v":""},{"$f":"IF(INDIRECT($B$2&BA$2&$A49)=\"\",\"\",INDIRECT($B$2&BA$2&$A49))","v":""},{"$f":"IF(INDIRECT($B$2&BB$2&$A49)=\"\",\"\",INDIRECT($B$2&BB$2&$A49))","v":""},{"$f":"IF(INDIRECT($B$2&BC$2&$A49)=\"\",\"\",INDIRECT($B$2&BC$2&$A49))","v":""},{"$f":"IF(INDIRECT($B$2&BD$2&$A49)=\"\",\"\",INDIRECT($B$2&BD$2&$A49))","v":""},{"$f":"IF(INDIRECT($B$2&BE$2&$A49)=\"\",\"\",INDIRECT($B$2&BE$2&$A49))","v":""},{"$f":"IF(INDIRECT($B$2&BF$2&$A49)=\"\",\"\",INDIRECT($B$2&BF$2&$A49))","v":""},{"$f":"IF(INDIRECT($B$2&BG$2&$A49)=\"\",\"\",INDIRECT($B$2&BG$2&$A49))","v":""},{"$f":"IF(INDIRECT($B$2&BH$2&$A49)=\"\",\"\",INDIRECT($B$2&BH$2&$A49))","v":""},{"$f":"IF(INDIRECT($B$2&BI$2&$A49)=\"\",\"\",INDIRECT($B$2&BI$2&$A49))","v":""},{"$f":"IF(INDIRECT($B$2&BJ$2&$A49)=\"\",\"\",INDIRECT($B$2&BJ$2&$A49))","v":""},{"$f":"IF(INDIRECT($B$2&BK$2&$A49)=\"\",\"\",INDIRECT($B$2&BK$2&$A49))","v":0},{"$f":"IF(INDIRECT($B$2&BL$2&$A49)=\"\",\"\",INDIRECT($B$2&BL$2&$A49))","v":""},{"$f":"IF(INDIRECT($B$2&BM$2&$A49)=\"\",\"\",INDIRECT($B$2&BM$2&$A49))","v":""},{"$f":"IF(INDIRECT($B$2&BN$2&$A49)=\"\",\"\",INDIRECT($B$2&BN$2&$A49))","v":""},{"$f":"IF(INDIRECT($B$2&BO$2&$A49)=\"\",\"\",INDIRECT($B$2&BO$2&$A49))","v":""},{"$f":"IF(INDIRECT($B$2&BP$2&$A49)=\"\",\"\",INDIRECT($B$2&BP$2&$A49))","v":""},{"$f":"IF(INDIRECT($B$2&BQ$2&$A49)=\"\",\"\",INDIRECT($B$2&BQ$2&$A49))","v":""},{"$f":"IF(INDIRECT($B$2&BR$2&$A49)=\"\",\"\",INDIRECT($B$2&BR$2&$A49))","v":""},{"$f":"IF(INDIRECT($B$2&BS$2&$A49)=\"\",\"\",INDIRECT($B$2&BS$2&$A49))","v":""},{"$f":"IF(INDIRECT($B$2&BT$2&$A49)=\"\",\"\",INDIRECT($B$2&BT$2&$A49))","v":""},{"$f":"IF(INDIRECT($B$2&BU$2&$A49)=\"\",\"\",INDIRECT($B$2&BU$2&$A49))","v":""},{"$f":"IF(INDIRECT($B$2&BV$2&$A49)=\"\",\"\",INDIRECT($B$2&BV$2&$A49))","v":""},{"$f":"IF(INDIRECT($B$2&BW$2&$A49)=\"\",\"\",INDIRECT($B$2&BW$2&$A49))","v":""},{"$f":"IF(INDIRECT($B$2&BX$2&$A49)=\"\",\"\",INDIRECT($B$2&BX$2&$A49))","v":""},{"$f":"IF(INDIRECT($B$2&BY$2&$A49)=\"\",\"\",INDIRECT($B$2&BY$2&$A49))","v":""},{"$f":"IF(INDIRECT($B$2&BZ$2&$A49)=\"\",\"\",INDIRECT($B$2&BZ$2&$A49))","v":0},{"$f":"IF(INDIRECT($B$2&CA$2&$A49)=\"\",\"\",INDIRECT($B$2&CA$2&$A49))","v":""},{"$f":"IF(INDIRECT($B$2&CB$2&$A49)=\"\",\"\",INDIRECT($B$2&CB$2&$A49))","v":""},{"$f":"IF(INDIRECT($B$2&CC$2&$A49)=\"\",\"\",INDIRECT($B$2&CC$2&$A49))","v":""},{"$f":"IF(INDIRECT($B$2&CD$2&$A49)=\"\",\"\",INDIRECT($B$2&CD$2&$A49))","v":""},{"$f":"IF(INDIRECT($B$2&CE$2&$A49)=\"\",\"\",INDIRECT($B$2&CE$2&$A49))","v":""},{"$f":"IF(INDIRECT($B$2&CF$2&$A49)=\"\",\"\",INDIRECT($B$2&CF$2&$A49))","v":""},{"$f":"IF(INDIRECT($B$2&CG$2&$A49)=\"\",\"\",INDIRECT($B$2&CG$2&$A49))","v":""},{"$f":"IF(INDIRECT($B$2&CH$2&$A49)=\"\",\"\",INDIRECT($B$2&CH$2&$A49))","v":""},{"$f":"IF(INDIRECT($B$2&CI$2&$A49)=\"\",\"\",INDIRECT($B$2&CI$2&$A49))","v":""},{"$f":"IF(INDIRECT($B$2&CJ$2&$A49)=\"\",\"\",INDIRECT($B$2&CJ$2&$A49))","v":""},{"$f":"IF(INDIRECT($B$2&CK$2&$A49)=\"\",\"\",INDIRECT($B$2&CK$2&$A49))","v":""},{"$f":"IF(INDIRECT($B$2&CL$2&$A49)=\"\",\"\",INDIRECT($B$2&CL$2&$A49))","v":""},{"$f":"IF(INDIRECT($B$2&CM$2&$A49)=\"\",\"\",INDIRECT($B$2&CM$2&$A49))","v":""},{"$f":"IF(INDIRECT($B$2&CN$2&$A49)=\"\",\"\",INDIRECT($B$2&CN$2&$A49))","v":""},{"$f":"IF(INDIRECT($B$2&CO$2&$A49)=\"\",\"\",INDIRECT($B$2&CO$2&$A49))","v":""},null,{"$f":"IF(INDIRECT($B$2&CQ$2&$A49)=\"\",\"\",INDIRECT($B$2&CQ$2&$A49))","v":""},{"$f":"IF(INDIRECT($B$2&CR$2&$A49)=\"\",\"\",INDIRECT($B$2&CR$2&$A49))","v":""},{"$f":"IF(INDIRECT($B$2&CS$2&$A49)=\"\",\"\",INDIRECT($B$2&CS$2&$A49))","v":""}]
[77,null,null,null,null,null,null,null,null,null,null,null,null,null,null,40,{"$f":"IF(INDIRECT($B$2&$Q$2&$A50)=\"\",\"\",INDIRECT($B$2&$Q$2&$A50))","v":""},null,{"$f":"IF(INDIRECT($B$2&$S$2&$A50)=\"\",\"\",INDIRECT($B$2&$S$2&$A50))","v":0},{"$f":"IF(INDIRECT($B$2&$T$2&$A50)=\"\",\"\",INDIRECT($B$2&$T$2&$A50))","v":0},{"$f":"IF(INDIRECT($B$2&$U$2&$A50)=\"\",\"\",INDIRECT($B$2&$U$2&$A50))","v":0},{"$f":"IF(INDIRECT($B$2&$V$2&$A50)=\"\",\"\",INDIRECT($B$2&$V$2&$A50))","v":""},{"$f":"IF(INDIRECT($B$2&$W$2&$A50)=\"\",\"\",INDIRECT($B$2&$W$2&$A50))","v":""},{"$f":"IF(INDIRECT($B$2&$X$2&$A50)=\"\",\"\",INDIRECT($B$2&$X$2&$A50))","v":""},{"$f":"IF(INDIRECT($B$2&$Y$2&$A50)=\"\",\"\",INDIRECT($B$2&$Y$2&$A50))","v":""},{"$f":"IF(INDIRECT($B$2&$Z$2&$A50)=\"\",\"\",INDIRECT($B$2&$Z$2&$A50))","v":""},null,{"$f":"IF(INDIRECT($B$2&$AB$2&$A50)=\"\",\"\",INDIRECT($B$2&$AB$2&$A50))","v":""},{"$f":"IF(INDIRECT($B$2&$AC$2&$A50)=\"\",\"\",INDIRECT($B$2&$AC$2&$A50))","v":""},{"$f":"IF(INDIRECT($B$2&$AD$2&$A50)=\"\",\"\",INDIRECT($B$2&$AD$2&$A50))","v":""},{"$f":"IF(INDIRECT($B$2&$AE$2&$A50)=\"\",\"\",INDIRECT($B$2&$AE$2&$A50))","v":""},{"$f":"IF(INDIRECT($B$2&$AF$2&$A50)=\"\",\"\",INDIRECT($B$2&$AF$2&$A50))","v":""},null,null,null,null,null,null,null,null,null,null,null,null,null,null,null,{"$f":"IF(INDIRECT($B$2&AV$2&$A50)=\"\",\"\",INDIRECT($B$2&AV$2&$A50))","v":""},{"$f":"IF(INDIRECT($B$2&AW$2&$A50)=\"\",\"\",INDIRECT($B$2&AW$2&$A50))","v":""},{"$f":"IF(INDIRECT($B$2&AX$2&$A50)=\"\",\"\",INDIRECT($B$2&AX$2&$A50))","v":""},{"$f":"IF(INDIRECT($B$2&AY$2&$A50)=\"\",\"\",INDIRECT($B$2&AY$2&$A50))","v":""},{"$f":"IF(INDIRECT($B$2&AZ$2&$A50)=\"\",\"\",INDIRECT($B$2&AZ$2&$A50))","v":""},{"$f":"IF(INDIRECT($B$2&BA$2&$A50)=\"\",\"\",INDIRECT($B$2&BA$2&$A50))","v":""},{"$f":"IF(INDIRECT($B$2&BB$2&$A50)=\"\",\"\",INDIRECT($B$2&BB$2&$A50))","v":""},{"$f":"IF(INDIRECT($B$2&BC$2&$A50)=\"\",\"\",INDIRECT($B$2&BC$2&$A50))","v":""},{"$f":"IF(INDIRECT($B$2&BD$2&$A50)=\"\",\"\",INDIRECT($B$2&BD$2&$A50))","v":""},{"$f":"IF(INDIRECT($B$2&BE$2&$A50)=\"\",\"\",INDIRECT($B$2&BE$2&$A50))","v":""},{"$f":"IF(INDIRECT($B$2&BF$2&$A50)=\"\",\"\",INDIRECT($B$2&BF$2&$A50))","v":""},{"$f":"IF(INDIRECT($B$2&BG$2&$A50)=\"\",\"\",INDIRECT($B$2&BG$2&$A50))","v":""},{"$f":"IF(INDIRECT($B$2&BH$2&$A50)=\"\",\"\",INDIRECT($B$2&BH$2&$A50))","v":""},{"$f":"IF(INDIRECT($B$2&BI$2&$A50)=\"\",\"\",INDIRECT($B$2&BI$2&$A50))","v":""},{"$f":"IF(INDIRECT($B$2&BJ$2&$A50)=\"\",\"\",INDIRECT($B$2&BJ$2&$A50))","v":""},{"$f":"IF(INDIRECT($B$2&BK$2&$A50)=\"\",\"\",INDIRECT($B$2&BK$2&$A50))","v":0},{"$f":"IF(INDIRECT($B$2&BL$2&$A50)=\"\",\"\",INDIRECT($B$2&BL$2&$A50))","v":""},{"$f":"IF(INDIRECT($B$2&BM$2&$A50)=\"\",\"\",INDIRECT($B$2&BM$2&$A50))","v":""},{"$f":"IF(INDIRECT($B$2&BN$2&$A50)=\"\",\"\",INDIRECT($B$2&BN$2&$A50))","v":""},{"$f":"IF(INDIRECT($B$2&BO$2&$A50)=\"\",\"\",INDIRECT($B$2&BO$2&$A50))","v":""},{"$f":"IF(INDIRECT($B$2&BP$2&$A50)=\"\",\"\",INDIRECT($B$2&BP$2&$A50))","v":""},{"$f":"IF(INDIRECT($B$2&BQ$2&$A50)=\"\",\"\",INDIRECT($B$2&BQ$2&$A50))","v":""},{"$f":"IF(INDIRECT($B$2&BR$2&$A50)=\"\",\"\",INDIRECT($B$2&BR$2&$A50))","v":""},{"$f":"IF(INDIRECT($B$2&BS$2&$A50)=\"\",\"\",INDIRECT($B$2&BS$2&$A50))","v":""},{"$f":"IF(INDIRECT($B$2&BT$2&$A50)=\"\",\"\",INDIRECT($B$2&BT$2&$A50))","v":""},{"$f":"IF(INDIRECT($B$2&BU$2&$A50)=\"\",\"\",INDIRECT($B$2&BU$2&$A50))","v":""},{"$f":"IF(INDIRECT($B$2&BV$2&$A50)=\"\",\"\",INDIRECT($B$2&BV$2&$A50))","v":""},{"$f":"IF(INDIRECT($B$2&BW$2&$A50)=\"\",\"\",INDIRECT($B$2&BW$2&$A50))","v":""},{"$f":"IF(INDIRECT($B$2&BX$2&$A50)=\"\",\"\",INDIRECT($B$2&BX$2&$A50))","v":""},{"$f":"IF(INDIRECT($B$2&BY$2&$A50)=\"\",\"\",INDIRECT($B$2&BY$2&$A50))","v":""},{"$f":"IF(INDIRECT($B$2&BZ$2&$A50)=\"\",\"\",INDIRECT($B$2&BZ$2&$A50))","v":0},{"$f":"IF(INDIRECT($B$2&CA$2&$A50)=\"\",\"\",INDIRECT($B$2&CA$2&$A50))","v":""},{"$f":"IF(INDIRECT($B$2&CB$2&$A50)=\"\",\"\",INDIRECT($B$2&CB$2&$A50))","v":""},{"$f":"IF(INDIRECT($B$2&CC$2&$A50)=\"\",\"\",INDIRECT($B$2&CC$2&$A50))","v":""},{"$f":"IF(INDIRECT($B$2&CD$2&$A50)=\"\",\"\",INDIRECT($B$2&CD$2&$A50))","v":""},{"$f":"IF(INDIRECT($B$2&CE$2&$A50)=\"\",\"\",INDIRECT($B$2&CE$2&$A50))","v":""},{"$f":"IF(INDIRECT($B$2&CF$2&$A50)=\"\",\"\",INDIRECT($B$2&CF$2&$A50))","v":""},{"$f":"IF(INDIRECT($B$2&CG$2&$A50)=\"\",\"\",INDIRECT($B$2&CG$2&$A50))","v":""},{"$f":"IF(INDIRECT($B$2&CH$2&$A50)=\"\",\"\",INDIRECT($B$2&CH$2&$A50))","v":""},{"$f":"IF(INDIRECT($B$2&CI$2&$A50)=\"\",\"\",INDIRECT($B$2&CI$2&$A50))","v":""},{"$f":"IF(INDIRECT($B$2&CJ$2&$A50)=\"\",\"\",INDIRECT($B$2&CJ$2&$A50))","v":""},{"$f":"IF(INDIRECT($B$2&CK$2&$A50)=\"\",\"\",INDIRECT($B$2&CK$2&$A50))","v":""},{"$f":"IF(INDIRECT($B$2&CL$2&$A50)=\"\",\"\",INDIRECT($B$2&CL$2&$A50))","v":""},{"$f":"IF(INDIRECT($B$2&CM$2&$A50)=\"\",\"\",INDIRECT($B$2&CM$2&$A50))","v":""},{"$f":"IF(INDIRECT($B$2&CN$2&$A50)=\"\",\"\",INDIRECT($B$2&CN$2&$A50))","v":""},{"$f":"IF(INDIRECT($B$2&CO$2&$A50)=\"\",\"\",INDIRECT($B$2&CO$2&$A50))","v":""},null,{"$f":"IF(INDIRECT($B$2&CQ$2&$A50)=\"\",\"\",INDIRECT($B$2&CQ$2&$A50))","v":""},{"$f":"IF(INDIRECT($B$2&CR$2&$A50)=\"\",\"\",INDIRECT($B$2&CR$2&$A50))","v":""},{"$f":"IF(INDIRECT($B$2&CS$2&$A50)=\"\",\"\",INDIRECT($B$2&CS$2&$A50))","v":""}]
[78,null,null,null,null,null,null,null,null,null,null,null,null,null,null,41,{"$f":"IF(INDIRECT($B$2&$Q$2&$A51)=\"\",\"\",INDIRECT($B$2&$Q$2&$A51))","v":""},null,{"$f":"IF(INDIRECT($B$2&$S$2&$A51)=\"\",\"\",INDIRECT($B$2&$S$2&$A51))","v":0},{"$f":"IF(INDIRECT($B$2&$T$2&$A51)=\"\",\"\",INDIRECT($B$2&$T$2&$A51))","v":0},{"$f":"IF(INDIRECT($B$2&$U$2&$A51)=\"\",\"\",INDIRECT($B$2&$U$2&$A51))","v":0},{"$f":"IF(INDIRECT($B$2&$V$2&$A51)=\"\",\"\",INDIRECT($B$2&$V$2&$A51))","v":""},{"$f":"IF(INDIRECT($B$2&$W$2&$A51)=\"\",\"\",INDIRECT($B$2&$W$2&$A51))","v":""},{"$f":"IF(INDIRECT($B$2&$X$2&$A51)=\"\",\"\",INDIRECT($B$2&$X$2&$A51))","v":""},{"$f":"IF(INDIRECT($B$2&$Y$2&$A51)=\"\",\"\",INDIRECT($B$2&$Y$2&$A51))","v":""},{"$f":"IF(INDIRECT($B$2&$Z$2&$A51)=\"\",\"\",INDIRECT($B$2&$Z$2&$A51))","v":""},null,{"$f":"IF(INDIRECT($B$2&$AB$2&$A51)=\"\",\"\",INDIRECT($B$2&$AB$2&$A51))","v":""},{"$f":"IF(INDIRECT($B$2&$AC$2&$A51)=\"\",\"\",INDIRECT($B$2&$AC$2&$A51))","v":""},{"$f":"IF(INDIRECT($B$2&$AD$2&$A51)=\"\",\"\",INDIRECT($B$2&$AD$2&$A51))","v":""},{"$f":"IF(INDIRECT($B$2&$AE$2&$A51)=\"\",\"\",INDIRECT($B$2&$AE$2&$A51))","v":""},{"$f":"IF(INDIRECT($B$2&$AF$2&$A51)=\"\",\"\",INDIRECT($B$2&$AF$2&$A51))","v":""},null,null,null,null,null,null,null,null,null,null,null,null,null,null,null,{"$f":"IF(INDIRECT($B$2&AV$2&$A51)=\"\",\"\",INDIRECT($B$2&AV$2&$A51))","v":""},{"$f":"IF(INDIRECT($B$2&AW$2&$A51)=\"\",\"\",INDIRECT($B$2&AW$2&$A51))","v":""},{"$f":"IF(INDIRECT($B$2&AX$2&$A51)=\"\",\"\",INDIRECT($B$2&AX$2&$A51))","v":""},{"$f":"IF(INDIRECT($B$2&AY$2&$A51)=\"\",\"\",INDIRECT($B$2&AY$2&$A51))","v":""},{"$f":"IF(INDIRECT($B$2&AZ$2&$A51)=\"\",\"\",INDIRECT($B$2&AZ$2&$A51))","v":""},{"$f":"IF(INDIRECT($B$2&BA$2&$A51)=\"\",\"\",INDIRECT($B$2&BA$2&$A51))","v":""},{"$f":"IF(INDIRECT($B$2&BB$2&$A51)=\"\",\"\",INDIRECT($B$2&BB$2&$A51))","v":""},{"$f":"IF(INDIRECT($B$2&BC$2&$A51)=\"\",\"\",INDIRECT($B$2&BC$2&$A51))","v":""},{"$f":"IF(INDIRECT($B$2&BD$2&$A51)=\"\",\"\",INDIRECT($B$2&BD$2&$A51))","v":""},{"$f":"IF(INDIRECT($B$2&BE$2&$A51)=\"\",\"\",INDIRECT($B$2&BE$2&$A51))","v":""},{"$f":"IF(INDIRECT($B$2&BF$2&$A51)=\"\",\"\",INDIRECT($B$2&BF$2&$A51))","v":""},{"$f":"IF(INDIRECT($B$2&BG$2&$A51)=\"\",\"\",INDIRECT($B$2&BG$2&$A51))","v":""},{"$f":"IF(INDIRECT($B$2&BH$2&$A51)=\"\",\"\",INDIRECT($B$2&BH$2&$A51))","v":""},{"$f":"IF(INDIRECT($B$2&BI$2&$A51)=\"\",\"\",INDIRECT($B$2&BI$2&$A51))","v":""},{"$f":"IF(INDIRECT($B$2&BJ$2&$A51)=\"\",\"\",INDIRECT($B$2&BJ$2&$A51))","v":""},{"$f":"IF(INDIRECT($B$2&BK$2&$A51)=\"\",\"\",INDIRECT($B$2&BK$2&$A51))","v":0},{"$f":"IF(INDIRECT($B$2&BL$2&$A51)=\"\",\"\",INDIRECT($B$2&BL$2&$A51))","v":""},{"$f":"IF(INDIRECT($B$2&BM$2&$A51)=\"\",\"\",INDIRECT($B$2&BM$2&$A51))","v":""},{"$f":"IF(INDIRECT($B$2&BN$2&$A51)=\"\",\"\",INDIRECT($B$2&BN$2&$A51))","v":""},{"$f":"IF(INDIRECT($B$2&BO$2&$A51)=\"\",\"\",INDIRECT($B$2&BO$2&$A51))","v":""},{"$f":"IF(INDIRECT($B$2&BP$2&$A51)=\"\",\"\",INDIRECT($B$2&BP$2&$A51))","v":""},{"$f":"IF(INDIRECT($B$2&BQ$2&$A51)=\"\",\"\",INDIRECT($B$2&BQ$2&$A51))","v":""},{"$f":"IF(INDIRECT($B$2&BR$2&$A51)=\"\",\"\",INDIRECT($B$2&BR$2&$A51))","v":""},{"$f":"IF(INDIRECT($B$2&BS$2&$A51)=\"\",\"\",INDIRECT($B$2&BS$2&$A51))","v":""},{"$f":"IF(INDIRECT($B$2&BT$2&$A51)=\"\",\"\",INDIRECT($B$2&BT$2&$A51))","v":""},{"$f":"IF(INDIRECT($B$2&BU$2&$A51)=\"\",\"\",INDIRECT($B$2&BU$2&$A51))","v":""},{"$f":"IF(INDIRECT($B$2&BV$2&$A51)=\"\",\"\",INDIRECT($B$2&BV$2&$A51))","v":""},{"$f":"IF(INDIRECT($B$2&BW$2&$A51)=\"\",\"\",INDIRECT($B$2&BW$2&$A51))","v":""},{"$f":"IF(INDIRECT($B$2&BX$2&$A51)=\"\",\"\",INDIRECT($B$2&BX$2&$A51))","v":""},{"$f":"IF(INDIRECT($B$2&BY$2&$A51)=\"\",\"\",INDIRECT($B$2&BY$2&$A51))","v":""},{"$f":"IF(INDIRECT($B$2&BZ$2&$A51)=\"\",\"\",INDIRECT($B$2&BZ$2&$A51))","v":0},{"$f":"IF(INDIRECT($B$2&CA$2&$A51)=\"\",\"\",INDIRECT($B$2&CA$2&$A51))","v":""},{"$f":"IF(INDIRECT($B$2&CB$2&$A51)=\"\",\"\",INDIRECT($B$2&CB$2&$A51))","v":""},{"$f":"IF(INDIRECT($B$2&CC$2&$A51)=\"\",\"\",INDIRECT($B$2&CC$2&$A51))","v":""},{"$f":"IF(INDIRECT($B$2&CD$2&$A51)=\"\",\"\",INDIRECT($B$2&CD$2&$A51))","v":""},{"$f":"IF(INDIRECT($B$2&CE$2&$A51)=\"\",\"\",INDIRECT($B$2&CE$2&$A51))","v":""},{"$f":"IF(INDIRECT($B$2&CF$2&$A51)=\"\",\"\",INDIRECT($B$2&CF$2&$A51))","v":""},{"$f":"IF(INDIRECT($B$2&CG$2&$A51)=\"\",\"\",INDIRECT($B$2&CG$2&$A51))","v":""},{"$f":"IF(INDIRECT($B$2&CH$2&$A51)=\"\",\"\",INDIRECT($B$2&CH$2&$A51))","v":""},{"$f":"IF(INDIRECT($B$2&CI$2&$A51)=\"\",\"\",INDIRECT($B$2&CI$2&$A51))","v":""},{"$f":"IF(INDIRECT($B$2&CJ$2&$A51)=\"\",\"\",INDIRECT($B$2&CJ$2&$A51))","v":""},{"$f":"IF(INDIRECT($B$2&CK$2&$A51)=\"\",\"\",INDIRECT($B$2&CK$2&$A51))","v":""},{"$f":"IF(INDIRECT($B$2&CL$2&$A51)=\"\",\"\",INDIRECT($B$2&CL$2&$A51))","v":""},{"$f":"IF(INDIRECT($B$2&CM$2&$A51)=\"\",\"\",INDIRECT($B$2&CM$2&$A51))","v":""},{"$f":"IF(INDIRECT($B$2&CN$2&$A51)=\"\",\"\",INDIRECT($B$2&CN$2&$A51))","v":""},{"$f":"IF(INDIRECT($B$2&CO$2&$A51)=\"\",\"\",INDIRECT($B$2&CO$2&$A51))","v":""},null,{"$f":"IF(INDIRECT($B$2&CQ$2&$A51)=\"\",\"\",INDIRECT($B$2&CQ$2&$A51))","v":""},{"$f":"IF(INDIRECT($B$2&CR$2&$A51)=\"\",\"\",INDIRECT($B$2&CR$2&$A51))","v":""},{"$f":"IF(INDIRECT($B$2&CS$2&$A51)=\"\",\"\",INDIRECT($B$2&CS$2&$A51))","v":""}]
[79,null,null,null,null,null,null,null,null,null,null,null,null,null,null,42,{"$f":"IF(INDIRECT($B$2&$Q$2&$A52)=\"\",\"\",INDIRECT($B$2&$Q$2&$A52))","v":""},null,{"$f":"IF(INDIRECT($B$2&$S$2&$A52)=\"\",\"\",INDIRECT($B$2&$S$2&$A52))","v":0},{"$f":"IF(INDIRECT($B$2&$T$2&$A52)=\"\",\"\",INDIRECT($B$2&$T$2&$A52))","v":0},{"$f":"IF(INDIRECT($B$2&$U$2&$A52)=\"\",\"\",INDIRECT($B$2&$U$2&$A52))","v":0},{"$f":"IF(INDIRECT($B$2&$V$2&$A52)=\"\",\"\",INDIRECT($B$2&$V$2&$A52))","v":""},{"$f":"IF(INDIRECT($B$2&$W$2&$A52)=\"\",\"\",INDIRECT($B$2&$W$2&$A52))","v":""},{"$f":"IF(INDIRECT($B$2&$X$2&$A52)=\"\",\"\",INDIRECT($B$2&$X$2&$A52))","v":""},{"$f":"IF(INDIRECT($B$2&$Y$2&$A52)=\"\",\"\",INDIRECT($B$2&$Y$2&$A52))","v":""},{"$f":"IF(INDIRECT($B$2&$Z$2&$A52)=\"\",\"\",INDIRECT($B$2&$Z$2&$A52))","v":""},null,{"$f":"IF(INDIRECT($B$2&$AB$2&$A52)=\"\",\"\",INDIRECT($B$2&$AB$2&$A52))","v":""},{"$f":"IF(INDIRECT($B$2&$AC$2&$A52)=\"\",\"\",INDIRECT($B$2&$AC$2&$A52))","v":""},{"$f":"IF(INDIRECT($B$2&$AD$2&$A52)=\"\",\"\",INDIRECT($B$2&$AD$2&$A52))","v":""},{"$f":"IF(INDIRECT($B$2&$AE$2&$A52)=\"\",\"\",INDIRECT($B$2&$AE$2&$A52))","v":""},{"$f":"IF(INDIRECT($B$2&$AF$2&$A52)=\"\",\"\",INDIRECT($B$2&$AF$2&$A52))","v":""},null,null,null,null,null,null,null,null,null,null,null,null,null,null,null,{"$f":"IF(INDIRECT($B$2&AV$2&$A52)=\"\",\"\",INDIRECT($B$2&AV$2&$A52))","v":""},{"$f":"IF(INDIRECT($B$2&AW$2&$A52)=\"\",\"\",INDIRECT($B$2&AW$2&$A52))","v":""},{"$f":"IF(INDIRECT($B$2&AX$2&$A52)=\"\",\"\",INDIRECT($B$2&AX$2&$A52))","v":""},{"$f":"IF(INDIRECT($B$2&AY$2&$A52)=\"\",\"\",INDIRECT($B$2&AY$2&$A52))","v":""},{"$f":"IF(INDIRECT($B$2&AZ$2&$A52)=\"\",\"\",INDIRECT($B$2&AZ$2&$A52))","v":""},{"$f":"IF(INDIRECT($B$2&BA$2&$A52)=\"\",\"\",INDIRECT($B$2&BA$2&$A52))","v":""},{"$f":"IF(INDIRECT($B$2&BB$2&$A52)=\"\",\"\",INDIRECT($B$2&BB$2&$A52))","v":""},{"$f":"IF(INDIRECT($B$2&BC$2&$A52)=\"\",\"\",INDIRECT($B$2&BC$2&$A52))","v":""},{"$f":"IF(INDIRECT($B$2&BD$2&$A52)=\"\",\"\",INDIRECT($B$2&BD$2&$A52))","v":""},{"$f":"IF(INDIRECT($B$2&BE$2&$A52)=\"\",\"\",INDIRECT($B$2&BE$2&$A52))","v":""},{"$f":"IF(INDIRECT($B$2&BF$2&$A52)=\"\",\"\",INDIRECT($B$2&BF$2&$A52))","v":""},{"$f":"IF(INDIRECT($B$2&BG$2&$A52)=\"\",\"\",INDIRECT($B$2&BG$2&$A52))","v":""},{"$f":"IF(INDIRECT($B$2&BH$2&$A52)=\"\",\"\",INDIRECT($B$2&BH$2&$A52))","v":""},{"$f":"IF(INDIRECT($B$2&BI$2&$A52)=\"\",\"\",INDIRECT($B$2&BI$2&$A52))","v":""},{"$f":"IF(INDIRECT($B$2&BJ$2&$A52)=\"\",\"\",INDIRECT($B$2&BJ$2&$A52))","v":""},{"$f":"IF(INDIRECT($B$2&BK$2&$A52)=\"\",\"\",INDIRECT($B$2&BK$2&$A52))","v":0},{"$f":"IF(INDIRECT($B$2&BL$2&$A52)=\"\",\"\",INDIRECT($B$2&BL$2&$A52))","v":""},{"$f":"IF(INDIRECT($B$2&BM$2&$A52)=\"\",\"\",INDIRECT($B$2&BM$2&$A52))","v":""},{"$f":"IF(INDIRECT($B$2&BN$2&$A52)=\"\",\"\",INDIRECT($B$2&BN$2&$A52))","v":""},{"$f":"IF(INDIRECT($B$2&BO$2&$A52)=\"\",\"\",INDIRECT($B$2&BO$2&$A52))","v":""},{"$f":"IF(INDIRECT($B$2&BP$2&$A52)=\"\",\"\",INDIRECT($B$2&BP$2&$A52))","v":""},{"$f":"IF(INDIRECT($B$2&BQ$2&$A52)=\"\",\"\",INDIRECT($B$2&BQ$2&$A52))","v":""},{"$f":"IF(INDIRECT($B$2&BR$2&$A52)=\"\",\"\",INDIRECT($B$2&BR$2&$A52))","v":""},{"$f":"IF(INDIRECT($B$2&BS$2&$A52)=\"\",\"\",INDIRECT($B$2&BS$2&$A52))","v":""},{"$f":"IF(INDIRECT($B$2&BT$2&$A52)=\"\",\"\",INDIRECT($B$2&BT$2&$A52))","v":""},{"$f":"IF(INDIRECT($B$2&BU$2&$A52)=\"\",\"\",INDIRECT($B$2&BU$2&$A52))","v":""},{"$f":"IF(INDIRECT($B$2&BV$2&$A52)=\"\",\"\",INDIRECT($B$2&BV$2&$A52))","v":""},{"$f":"IF(INDIRECT($B$2&BW$2&$A52)=\"\",\"\",INDIRECT($B$2&BW$2&$A52))","v":""},{"$f":"IF(INDIRECT($B$2&BX$2&$A52)=\"\",\"\",INDIRECT($B$2&BX$2&$A52))","v":""},{"$f":"IF(INDIRECT($B$2&BY$2&$A52)=\"\",\"\",INDIRECT($B$2&BY$2&$A52))","v":""},{"$f":"IF(INDIRECT($B$2&BZ$2&$A52)=\"\",\"\",INDIRECT($B$2&BZ$2&$A52))","v":0},{"$f":"IF(INDIRECT($B$2&CA$2&$A52)=\"\",\"\",INDIRECT($B$2&CA$2&$A52))","v":""},{"$f":"IF(INDIRECT($B$2&CB$2&$A52)=\"\",\"\",INDIRECT($B$2&CB$2&$A52))","v":""},{"$f":"IF(INDIRECT($B$2&CC$2&$A52)=\"\",\"\",INDIRECT($B$2&CC$2&$A52))","v":""},{"$f":"IF(INDIRECT($B$2&CD$2&$A52)=\"\",\"\",INDIRECT($B$2&CD$2&$A52))","v":""},{"$f":"IF(INDIRECT($B$2&CE$2&$A52)=\"\",\"\",INDIRECT($B$2&CE$2&$A52))","v":""},{"$f":"IF(INDIRECT($B$2&CF$2&$A52)=\"\",\"\",INDIRECT($B$2&CF$2&$A52))","v":""},{"$f":"IF(INDIRECT($B$2&CG$2&$A52)=\"\",\"\",INDIRECT($B$2&CG$2&$A52))","v":""},{"$f":"IF(INDIRECT($B$2&CH$2&$A52)=\"\",\"\",INDIRECT($B$2&CH$2&$A52))","v":""},{"$f":"IF(INDIRECT($B$2&CI$2&$A52)=\"\",\"\",INDIRECT($B$2&CI$2&$A52))","v":""},{"$f":"IF(INDIRECT($B$2&CJ$2&$A52)=\"\",\"\",INDIRECT($B$2&CJ$2&$A52))","v":""},{"$f":"IF(INDIRECT($B$2&CK$2&$A52)=\"\",\"\",INDIRECT($B$2&CK$2&$A52))","v":""},{"$f":"IF(INDIRECT($B$2&CL$2&$A52)=\"\",\"\",INDIRECT($B$2&CL$2&$A52))","v":""},{"$f":"IF(INDIRECT($B$2&CM$2&$A52)=\"\",\"\",INDIRECT($B$2&CM$2&$A52))","v":""},{"$f":"IF(INDIRECT($B$2&CN$2&$A52)=\"\",\"\",INDIRECT($B$2&CN$2&$A52))","v":""},{"$f":"IF(INDIRECT($B$2&CO$2&$A52)=\"\",\"\",INDIRECT($B$2&CO$2&$A52))","v":""},null,{"$f":"IF(INDIRECT($B$2&CQ$2&$A52)=\"\",\"\",INDIRECT($B$2&CQ$2&$A52))","v":""},{"$f":"IF(INDIRECT($B$2&CR$2&$A52)=\"\",\"\",INDIRECT($B$2&CR$2&$A52))","v":""},{"$f":"IF(INDIRECT($B$2&CS$2&$A52)=\"\",\"\",INDIRECT($B$2&CS$2&$A52))","v":""}]
[80,null,null,null,null,null,null,null,null,null,null,null,null,null,null,43,{"$f":"IF(INDIRECT($B$2&$Q$2&$A53)=\"\",\"\",INDIRECT($B$2&$Q$2&$A53))","v":""},null,{"$f":"IF(INDIRECT($B$2&$S$2&$A53)=\"\",\"\",INDIRECT($B$2&$S$2&$A53))","v":0},{"$f":"IF(INDIRECT($B$2&$T$2&$A53)=\"\",\"\",INDIRECT($B$2&$T$2&$A53))","v":0},{"$f":"IF(INDIRECT($B$2&$U$2&$A53)=\"\",\"\",INDIRECT($B$2&$U$2&$A53))","v":0},{"$f":"IF(INDIRECT($B$2&$V$2&$A53)=\"\",\"\",INDIRECT($B$2&$V$2&$A53))","v":""},{"$f":"IF(INDIRECT($B$2&$W$2&$A53)=\"\",\"\",INDIRECT($B$2&$W$2&$A53))","v":""},{"$f":"IF(INDIRECT($B$2&$X$2&$A53)=\"\",\"\",INDIRECT($B$2&$X$2&$A53))","v":""},{"$f":"IF(INDIRECT($B$2&$Y$2&$A53)=\"\",\"\",INDIRECT($B$2&$Y$2&$A53))","v":""},{"$f":"IF(INDIRECT($B$2&$Z$2&$A53)=\"\",\"\",INDIRECT($B$2&$Z$2&$A53))","v":""},null,{"$f":"IF(INDIRECT($B$2&$AB$2&$A53)=\"\",\"\",INDIRECT($B$2&$AB$2&$A53))","v":""},{"$f":"IF(INDIRECT($B$2&$AC$2&$A53)=\"\",\"\",INDIRECT($B$2&$AC$2&$A53))","v":""},{"$f":"IF(INDIRECT($B$2&$AD$2&$A53)=\"\",\"\",INDIRECT($B$2&$AD$2&$A53))","v":""},{"$f":"IF(INDIRECT($B$2&$AE$2&$A53)=\"\",\"\",INDIRECT($B$2&$AE$2&$A53))","v":""},{"$f":"IF(INDIRECT($B$2&$AF$2&$A53)=\"\",\"\",INDIRECT($B$2&$AF$2&$A53))","v":""},null,null,null,null,null,null,null,null,null,null,null,null,null,null,null,{"$f":"IF(INDIRECT($B$2&AV$2&$A53)=\"\",\"\",INDIRECT($B$2&AV$2&$A53))","v":""},{"$f":"IF(INDIRECT($B$2&AW$2&$A53)=\"\",\"\",INDIRECT($B$2&AW$2&$A53))","v":""},{"$f":"IF(INDIRECT($B$2&AX$2&$A53)=\"\",\"\",INDIRECT($B$2&AX$2&$A53))","v":""},{"$f":"IF(INDIRECT($B$2&AY$2&$A53)=\"\",\"\",INDIRECT($B$2&AY$2&$A53))","v":""},{"$f":"IF(INDIRECT($B$2&AZ$2&$A53)=\"\",\"\",INDIRECT($B$2&AZ$2&$A53))","v":""},{"$f":"IF(INDIRECT($B$2&BA$2&$A53)=\"\",\"\",INDIRECT($B$2&BA$2&$A53))","v":""},{"$f":"IF(INDIRECT($B$2&BB$2&$A53)=\"\",\"\",INDIRECT($B$2&BB$2&$A53))","v":""},{"$f":"IF(INDIRECT($B$2&BC$2&$A53)=\"\",\"\",INDIRECT($B$2&BC$2&$A53))","v":""},{"$f":"IF(INDIRECT($B$2&BD$2&$A53)=\"\",\"\",INDIRECT($B$2&BD$2&$A53))","v":""},{"$f":"IF(INDIRECT($B$2&BE$2&$A53)=\"\",\"\",INDIRECT($B$2&BE$2&$A53))","v":""},{"$f":"IF(INDIRECT($B$2&BF$2&$A53)=\"\",\"\",INDIRECT($B$2&BF$2&$A53))","v":""},{"$f":"IF(INDIRECT($B$2&BG$2&$A53)=\"\",\"\",INDIRECT($B$2&BG$2&$A53))","v":""},{"$f":"IF(INDIRECT($B$2&BH$2&$A53)=\"\",\"\",INDIRECT($B$2&BH$2&$A53))","v":""},{"$f":"IF(INDIRECT($B$2&BI$2&$A53)=\"\",\"\",INDIRECT($B$2&BI$2&$A53))","v":""},{"$f":"IF(INDIRECT($B$2&BJ$2&$A53)=\"\",\"\",INDIRECT($B$2&BJ$2&$A53))","v":""},{"$f":"IF(INDIRECT($B$2&BK$2&$A53)=\"\",\"\",INDIRECT($B$2&BK$2&$A53))","v":0},{"$f":"IF(INDIRECT($B$2&BL$2&$A53)=\"\",\"\",INDIRECT($B$2&BL$2&$A53))","v":""},{"$f":"IF(INDIRECT($B$2&BM$2&$A53)=\"\",\"\",INDIRECT($B$2&BM$2&$A53))","v":""},{"$f":"IF(INDIRECT($B$2&BN$2&$A53)=\"\",\"\",INDIRECT($B$2&BN$2&$A53))","v":""},{"$f":"IF(INDIRECT($B$2&BO$2&$A53)=\"\",\"\",INDIRECT($B$2&BO$2&$A53))","v":""},{"$f":"IF(INDIRECT($B$2&BP$2&$A53)=\"\",\"\",INDIRECT($B$2&BP$2&$A53))","v":""},{"$f":"IF(INDIRECT($B$2&BQ$2&$A53)=\"\",\"\",INDIRECT($B$2&BQ$2&$A53))","v":""},{"$f":"IF(INDIRECT($B$2&BR$2&$A53)=\"\",\"\",INDIRECT($B$2&BR$2&$A53))","v":""},{"$f":"IF(INDIRECT($B$2&BS$2&$A53)=\"\",\"\",INDIRECT($B$2&BS$2&$A53))","v":""},{"$f":"IF(INDIRECT($B$2&BT$2&$A53)=\"\",\"\",INDIRECT($B$2&BT$2&$A53))","v":""},{"$f":"IF(INDIRECT($B$2&BU$2&$A53)=\"\",\"\",INDIRECT($B$2&BU$2&$A53))","v":""},{"$f":"IF(INDIRECT($B$2&BV$2&$A53)=\"\",\"\",INDIRECT($B$2&BV$2&$A53))","v":""},{"$f":"IF(INDIRECT($B$2&BW$2&$A53)=\"\",\"\",INDIRECT($B$2&BW$2&$A53))","v":""},{"$f":"IF(INDIRECT($B$2&BX$2&$A53)=\"\",\"\",INDIRECT($B$2&BX$2&$A53))","v":""},{"$f":"IF(INDIRECT($B$2&BY$2&$A53)=\"\",\"\",INDIRECT($B$2&BY$2&$A53))","v":""},{"$f":"IF(INDIRECT($B$2&BZ$2&$A53)=\"\",\"\",INDIRECT($B$2&BZ$2&$A53))","v":0},{"$f":"IF(INDIRECT($B$2&CA$2&$A53)=\"\",\"\",INDIRECT($B$2&CA$2&$A53))","v":""},{"$f":"IF(INDIRECT($B$2&CB$2&$A53)=\"\",\"\",INDIRECT($B$2&CB$2&$A53))","v":""},{"$f":"IF(INDIRECT($B$2&CC$2&$A53)=\"\",\"\",INDIRECT($B$2&CC$2&$A53))","v":""},{"$f":"IF(INDIRECT($B$2&CD$2&$A53)=\"\",\"\",INDIRECT($B$2&CD$2&$A53))","v":""},{"$f":"IF(INDIRECT($B$2&CE$2&$A53)=\"\",\"\",INDIRECT($B$2&CE$2&$A53))","v":""},{"$f":"IF(INDIRECT($B$2&CF$2&$A53)=\"\",\"\",INDIRECT($B$2&CF$2&$A53))","v":""},{"$f":"IF(INDIRECT($B$2&CG$2&$A53)=\"\",\"\",INDIRECT($B$2&CG$2&$A53))","v":""},{"$f":"IF(INDIRECT($B$2&CH$2&$A53)=\"\",\"\",INDIRECT($B$2&CH$2&$A53))","v":""},{"$f":"IF(INDIRECT($B$2&CI$2&$A53)=\"\",\"\",INDIRECT($B$2&CI$2&$A53))","v":""},{"$f":"IF(INDIRECT($B$2&CJ$2&$A53)=\"\",\"\",INDIRECT($B$2&CJ$2&$A53))","v":""},{"$f":"IF(INDIRECT($B$2&CK$2&$A53)=\"\",\"\",INDIRECT($B$2&CK$2&$A53))","v":""},{"$f":"IF(INDIRECT($B$2&CL$2&$A53)=\"\",\"\",INDIRECT($B$2&CL$2&$A53))","v":""},{"$f":"IF(INDIRECT($B$2&CM$2&$A53)=\"\",\"\",INDIRECT($B$2&CM$2&$A53))","v":""},{"$f":"IF(INDIRECT($B$2&CN$2&$A53)=\"\",\"\",INDIRECT($B$2&CN$2&$A53))","v":""},{"$f":"IF(INDIRECT($B$2&CO$2&$A53)=\"\",\"\",INDIRECT($B$2&CO$2&$A53))","v":""},null,{"$f":"IF(INDIRECT($B$2&CQ$2&$A53)=\"\",\"\",INDIRECT($B$2&CQ$2&$A53))","v":""},{"$f":"IF(INDIRECT($B$2&CR$2&$A53)=\"\",\"\",INDIRECT($B$2&CR$2&$A53))","v":""},{"$f":"IF(INDIRECT($B$2&CS$2&$A53)=\"\",\"\",INDIRECT($B$2&CS$2&$A53))","v":""}]
[81,null,null,null,null,null,null,null,null,null,null,null,null,null,null,44,{"$f":"IF(INDIRECT($B$2&$Q$2&$A54)=\"\",\"\",INDIRECT($B$2&$Q$2&$A54))","v":""},null,{"$f":"IF(INDIRECT($B$2&$S$2&$A54)=\"\",\"\",INDIRECT($B$2&$S$2&$A54))","v":0},{"$f":"IF(INDIRECT($B$2&$T$2&$A54)=\"\",\"\",INDIRECT($B$2&$T$2&$A54))","v":0},{"$f":"IF(INDIRECT($B$2&$U$2&$A54)=\"\",\"\",INDIRECT($B$2&$U$2&$A54))","v":0},{"$f":"IF(INDIRECT($B$2&$V$2&$A54)=\"\",\"\",INDIRECT($B$2&$V$2&$A54))","v":""},{"$f":"IF(INDIRECT($B$2&$W$2&$A54)=\"\",\"\",INDIRECT($B$2&$W$2&$A54))","v":""},{"$f":"IF(INDIRECT($B$2&$X$2&$A54)=\"\",\"\",INDIRECT($B$2&$X$2&$A54))","v":""},{"$f":"IF(INDIRECT($B$2&$Y$2&$A54)=\"\",\"\",INDIRECT($B$2&$Y$2&$A54))","v":""},{"$f":"IF(INDIRECT($B$2&$Z$2&$A54)=\"\",\"\",INDIRECT($B$2&$Z$2&$A54))","v":""},null,{"$f":"IF(INDIRECT($B$2&$AB$2&$A54)=\"\",\"\",INDIRECT($B$2&$AB$2&$A54))","v":""},{"$f":"IF(INDIRECT($B$2&$AC$2&$A54)=\"\",\"\",INDIRECT($B$2&$AC$2&$A54))","v":""},{"$f":"IF(INDIRECT($B$2&$AD$2&$A54)=\"\",\"\",INDIRECT($B$2&$AD$2&$A54))","v":""},{"$f":"IF(INDIRECT($B$2&$AE$2&$A54)=\"\",\"\",INDIRECT($B$2&$AE$2&$A54))","v":""},{"$f":"IF(INDIRECT($B$2&$AF$2&$A54)=\"\",\"\",INDIRECT($B$2&$AF$2&$A54))","v":""},null,null,null,null,null,null,null,null,null,null,null,null,null,null,null,{"$f":"IF(INDIRECT($B$2&AV$2&$A54)=\"\",\"\",INDIRECT($B$2&AV$2&$A54))","v":""},{"$f":"IF(INDIRECT($B$2&AW$2&$A54)=\"\",\"\",INDIRECT($B$2&AW$2&$A54))","v":""},{"$f":"IF(INDIRECT($B$2&AX$2&$A54)=\"\",\"\",INDIRECT($B$2&AX$2&$A54))","v":""},{"$f":"IF(INDIRECT($B$2&AY$2&$A54)=\"\",\"\",INDIRECT($B$2&AY$2&$A54))","v":""},{"$f":"IF(INDIRECT($B$2&AZ$2&$A54)=\"\",\"\",INDIRECT($B$2&AZ$2&$A54))","v":""},{"$f":"IF(INDIRECT($B$2&BA$2&$A54)=\"\",\"\",INDIRECT($B$2&BA$2&$A54))","v":""},{"$f":"IF(INDIRECT($B$2&BB$2&$A54)=\"\",\"\",INDIRECT($B$2&BB$2&$A54))","v":""},{"$f":"IF(INDIRECT($B$2&BC$2&$A54)=\"\",\"\",INDIRECT($B$2&BC$2&$A54))","v":""},{"$f":"IF(INDIRECT($B$2&BD$2&$A54)=\"\",\"\",INDIRECT($B$2&BD$2&$A54))","v":""},{"$f":"IF(INDIRECT($B$2&BE$2&$A54)=\"\",\"\",INDIRECT($B$2&BE$2&$A54))","v":""},{"$f":"IF(INDIRECT($B$2&BF$2&$A54)=\"\",\"\",INDIRECT($B$2&BF$2&$A54))","v":""},{"$f":"IF(INDIRECT($B$2&BG$2&$A54)=\"\",\"\",INDIRECT($B$2&BG$2&$A54))","v":""},{"$f":"IF(INDIRECT($B$2&BH$2&$A54)=\"\",\"\",INDIRECT($B$2&BH$2&$A54))","v":""},{"$f":"IF(INDIRECT($B$2&BI$2&$A54)=\"\",\"\",INDIRECT($B$2&BI$2&$A54))","v":""},{"$f":"IF(INDIRECT($B$2&BJ$2&$A54)=\"\",\"\",INDIRECT($B$2&BJ$2&$A54))","v":""},{"$f":"IF(INDIRECT($B$2&BK$2&$A54)=\"\",\"\",INDIRECT($B$2&BK$2&$A54))","v":0},{"$f":"IF(INDIRECT($B$2&BL$2&$A54)=\"\",\"\",INDIRECT($B$2&BL$2&$A54))","v":""},{"$f":"IF(INDIRECT($B$2&BM$2&$A54)=\"\",\"\",INDIRECT($B$2&BM$2&$A54))","v":""},{"$f":"IF(INDIRECT($B$2&BN$2&$A54)=\"\",\"\",INDIRECT($B$2&BN$2&$A54))","v":""},{"$f":"IF(INDIRECT($B$2&BO$2&$A54)=\"\",\"\",INDIRECT($B$2&BO$2&$A54))","v":""},{"$f":"IF(INDIRECT($B$2&BP$2&$A54)=\"\",\"\",INDIRECT($B$2&BP$2&$A54))","v":""},{"$f":"IF(INDIRECT($B$2&BQ$2&$A54)=\"\",\"\",INDIRECT($B$2&BQ$2&$A54))","v":""},{"$f":"IF(INDIRECT($B$2&BR$2&$A54)=\"\",\"\",INDIRECT($B$2&BR$2&$A54))","v":""},{"$f":"IF(INDIRECT($B$2&BS$2&$A54)=\"\",\"\",INDIRECT($B$2&BS$2&$A54))","v":""},{"$f":"IF(INDIRECT($B$2&BT$2&$A54)=\"\",\"\",INDIRECT($B$2&BT$2&$A54))","v":""},{"$f":"IF(INDIRECT($B$2&BU$2&$A54)=\"\",\"\",INDIRECT($B$2&BU$2&$A54))","v":""},{"$f":"IF(INDIRECT($B$2&BV$2&$A54)=\"\",\"\",INDIRECT($B$2&BV$2&$A54))","v":""},{"$f":"IF(INDIRECT($B$2&BW$2&$A54)=\"\",\"\",INDIRECT($B$2&BW$2&$A54))","v":""},{"$f":"IF(INDIRECT($B$2&BX$2&$A54)=\"\",\"\",INDIRECT($B$2&BX$2&$A54))","v":""},{"$f":"IF(INDIRECT($B$2&BY$2&$A54)=\"\",\"\",INDIRECT($B$2&BY$2&$A54))","v":""},{"$f":"IF(INDIRECT($B$2&BZ$2&$A54)=\"\",\"\",INDIRECT($B$2&BZ$2&$A54))","v":0},{"$f":"IF(INDIRECT($B$2&CA$2&$A54)=\"\",\"\",INDIRECT($B$2&CA$2&$A54))","v":""},{"$f":"IF(INDIRECT($B$2&CB$2&$A54)=\"\",\"\",INDIRECT($B$2&CB$2&$A54))","v":""},{"$f":"IF(INDIRECT($B$2&CC$2&$A54)=\"\",\"\",INDIRECT($B$2&CC$2&$A54))","v":""},{"$f":"IF(INDIRECT($B$2&CD$2&$A54)=\"\",\"\",INDIRECT($B$2&CD$2&$A54))","v":""},{"$f":"IF(INDIRECT($B$2&CE$2&$A54)=\"\",\"\",INDIRECT($B$2&CE$2&$A54))","v":""},{"$f":"IF(INDIRECT($B$2&CF$2&$A54)=\"\",\"\",INDIRECT($B$2&CF$2&$A54))","v":""},{"$f":"IF(INDIRECT($B$2&CG$2&$A54)=\"\",\"\",INDIRECT($B$2&CG$2&$A54))","v":""},{"$f":"IF(INDIRECT($B$2&CH$2&$A54)=\"\",\"\",INDIRECT($B$2&CH$2&$A54))","v":""},{"$f":"IF(INDIRECT($B$2&CI$2&$A54)=\"\",\"\",INDIRECT($B$2&CI$2&$A54))","v":""},{"$f":"IF(INDIRECT($B$2&CJ$2&$A54)=\"\",\"\",INDIRECT($B$2&CJ$2&$A54))","v":""},{"$f":"IF(INDIRECT($B$2&CK$2&$A54)=\"\",\"\",INDIRECT($B$2&CK$2&$A54))","v":""},{"$f":"IF(INDIRECT($B$2&CL$2&$A54)=\"\",\"\",INDIRECT($B$2&CL$2&$A54))","v":""},{"$f":"IF(INDIRECT($B$2&CM$2&$A54)=\"\",\"\",INDIRECT($B$2&CM$2&$A54))","v":""},{"$f":"IF(INDIRECT($B$2&CN$2&$A54)=\"\",\"\",INDIRECT($B$2&CN$2&$A54))","v":""},{"$f":"IF(INDIRECT($B$2&CO$2&$A54)=\"\",\"\",INDIRECT($B$2&CO$2&$A54))","v":""},null,{"$f":"IF(INDIRECT($B$2&CQ$2&$A54)=\"\",\"\",INDIRECT($B$2&CQ$2&$A54))","v":""},{"$f":"IF(INDIRECT($B$2&CR$2&$A54)=\"\",\"\",INDIRECT($B$2&CR$2&$A54))","v":""},{"$f":"IF(INDIRECT($B$2&CS$2&$A54)=\"\",\"\",INDIRECT($B$2&CS$2&$A54))","v":""}]
[82,null,null,null,null,null,null,null,null,null,null,null,null,null,null,45,{"$f":"IF(INDIRECT($B$2&$Q$2&$A55)=\"\",\"\",INDIRECT($B$2&$Q$2&$A55))","v":""},null,{"$f":"IF(INDIRECT($B$2&$S$2&$A55)=\"\",\"\",INDIRECT($B$2&$S$2&$A55))","v":0},{"$f":"IF(INDIRECT($B$2&$T$2&$A55)=\"\",\"\",INDIRECT($B$2&$T$2&$A55))","v":0},{"$f":"IF(INDIRECT($B$2&$U$2&$A55)=\"\",\"\",INDIRECT($B$2&$U$2&$A55))","v":0},{"$f":"IF(INDIRECT($B$2&$V$2&$A55)=\"\",\"\",INDIRECT($B$2&$V$2&$A55))","v":""},{"$f":"IF(INDIRECT($B$2&$W$2&$A55)=\"\",\"\",INDIRECT($B$2&$W$2&$A55))","v":""},{"$f":"IF(INDIRECT($B$2&$X$2&$A55)=\"\",\"\",INDIRECT($B$2&$X$2&$A55))","v":""},{"$f":"IF(INDIRECT($B$2&$Y$2&$A55)=\"\",\"\",INDIRECT($B$2&$Y$2&$A55))","v":""},{"$f":"IF(INDIRECT($B$2&$Z$2&$A55)=\"\",\"\",INDIRECT($B$2&$Z$2&$A55))","v":""},null,{"$f":"IF(INDIRECT($B$2&$AB$2&$A55)=\"\",\"\",INDIRECT($B$2&$AB$2&$A55))","v":""},{"$f":"IF(INDIRECT($B$2&$AC$2&$A55)=\"\",\"\",INDIRECT($B$2&$AC$2&$A55))","v":""},{"$f":"IF(INDIRECT($B$2&$AD$2&$A55)=\"\",\"\",INDIRECT($B$2&$AD$2&$A55))","v":""},{"$f":"IF(INDIRECT($B$2&$AE$2&$A55)=\"\",\"\",INDIRECT($B$2&$AE$2&$A55))","v":""},{"$f":"IF(INDIRECT($B$2&$AF$2&$A55)=\"\",\"\",INDIRECT($B$2&$AF$2&$A55))","v":""},null,null,null,null,null,null,null,null,null,null,null,null,null,null,null,{"$f":"IF(INDIRECT($B$2&AV$2&$A55)=\"\",\"\",INDIRECT($B$2&AV$2&$A55))","v":""},{"$f":"IF(INDIRECT($B$2&AW$2&$A55)=\"\",\"\",INDIRECT($B$2&AW$2&$A55))","v":""},{"$f":"IF(INDIRECT($B$2&AX$2&$A55)=\"\",\"\",INDIRECT($B$2&AX$2&$A55))","v":""},{"$f":"IF(INDIRECT($B$2&AY$2&$A55)=\"\",\"\",INDIRECT($B$2&AY$2&$A55))","v":""},{"$f":"IF(INDIRECT($B$2&AZ$2&$A55)=\"\",\"\",INDIRECT($B$2&AZ$2&$A55))","v":""},{"$f":"IF(INDIRECT($B$2&BA$2&$A55)=\"\",\"\",INDIRECT($B$2&BA$2&$A55))","v":""},{"$f":"IF(INDIRECT($B$2&BB$2&$A55)=\"\",\"\",INDIRECT($B$2&BB$2&$A55))","v":""},{"$f":"IF(INDIRECT($B$2&BC$2&$A55)=\"\",\"\",INDIRECT($B$2&BC$2&$A55))","v":""},{"$f":"IF(INDIRECT($B$2&BD$2&$A55)=\"\",\"\",INDIRECT($B$2&BD$2&$A55))","v":""},{"$f":"IF(INDIRECT($B$2&BE$2&$A55)=\"\",\"\",INDIRECT($B$2&BE$2&$A55))","v":""},{"$f":"IF(INDIRECT($B$2&BF$2&$A55)=\"\",\"\",INDIRECT($B$2&BF$2&$A55))","v":""},{"$f":"IF(INDIRECT($B$2&BG$2&$A55)=\"\",\"\",INDIRECT($B$2&BG$2&$A55))","v":""},{"$f":"IF(INDIRECT($B$2&BH$2&$A55)=\"\",\"\",INDIRECT($B$2&BH$2&$A55))","v":""},{"$f":"IF(INDIRECT($B$2&BI$2&$A55)=\"\",\"\",INDIRECT($B$2&BI$2&$A55))","v":""},{"$f":"IF(INDIRECT($B$2&BJ$2&$A55)=\"\",\"\",INDIRECT($B$2&BJ$2&$A55))","v":""},{"$f":"IF(INDIRECT($B$2&BK$2&$A55)=\"\",\"\",INDIRECT($B$2&BK$2&$A55))","v":0},{"$f":"IF(INDIRECT($B$2&BL$2&$A55)=\"\",\"\",INDIRECT($B$2&BL$2&$A55))","v":""},{"$f":"IF(INDIRECT($B$2&BM$2&$A55)=\"\",\"\",INDIRECT($B$2&BM$2&$A55))","v":""},{"$f":"IF(INDIRECT($B$2&BN$2&$A55)=\"\",\"\",INDIRECT($B$2&BN$2&$A55))","v":""},{"$f":"IF(INDIRECT($B$2&BO$2&$A55)=\"\",\"\",INDIRECT($B$2&BO$2&$A55))","v":""},{"$f":"IF(INDIRECT($B$2&BP$2&$A55)=\"\",\"\",INDIRECT($B$2&BP$2&$A55))","v":""},{"$f":"IF(INDIRECT($B$2&BQ$2&$A55)=\"\",\"\",INDIRECT($B$2&BQ$2&$A55))","v":""},{"$f":"IF(INDIRECT($B$2&BR$2&$A55)=\"\",\"\",INDIRECT($B$2&BR$2&$A55))","v":""},{"$f":"IF(INDIRECT($B$2&BS$2&$A55)=\"\",\"\",INDIRECT($B$2&BS$2&$A55))","v":""},{"$f":"IF(INDIRECT($B$2&BT$2&$A55)=\"\",\"\",INDIRECT($B$2&BT$2&$A55))","v":""},{"$f":"IF(INDIRECT($B$2&BU$2&$A55)=\"\",\"\",INDIRECT($B$2&BU$2&$A55))","v":""},{"$f":"IF(INDIRECT($B$2&BV$2&$A55)=\"\",\"\",INDIRECT($B$2&BV$2&$A55))","v":""},{"$f":"IF(INDIRECT($B$2&BW$2&$A55)=\"\",\"\",INDIRECT($B$2&BW$2&$A55))","v":""},{"$f":"IF(INDIRECT($B$2&BX$2&$A55)=\"\",\"\",INDIRECT($B$2&BX$2&$A55))","v":""},{"$f":"IF(INDIRECT($B$2&BY$2&$A55)=\"\",\"\",INDIRECT($B$2&BY$2&$A55))","v":""},{"$f":"IF(INDIRECT($B$2&BZ$2&$A55)=\"\",\"\",INDIRECT($B$2&BZ$2&$A55))","v":0},{"$f":"IF(INDIRECT($B$2&CA$2&$A55)=\"\",\"\",INDIRECT($B$2&CA$2&$A55))","v":""},{"$f":"IF(INDIRECT($B$2&CB$2&$A55)=\"\",\"\",INDIRECT($B$2&CB$2&$A55))","v":""},{"$f":"IF(INDIRECT($B$2&CC$2&$A55)=\"\",\"\",INDIRECT($B$2&CC$2&$A55))","v":""},{"$f":"IF(INDIRECT($B$2&CD$2&$A55)=\"\",\"\",INDIRECT($B$2&CD$2&$A55))","v":""},{"$f":"IF(INDIRECT($B$2&CE$2&$A55)=\"\",\"\",INDIRECT($B$2&CE$2&$A55))","v":""},{"$f":"IF(INDIRECT($B$2&CF$2&$A55)=\"\",\"\",INDIRECT($B$2&CF$2&$A55))","v":""},{"$f":"IF(INDIRECT($B$2&CG$2&$A55)=\"\",\"\",INDIRECT($B$2&CG$2&$A55))","v":""},{"$f":"IF(INDIRECT($B$2&CH$2&$A55)=\"\",\"\",INDIRECT($B$2&CH$2&$A55))","v":""},{"$f":"IF(INDIRECT($B$2&CI$2&$A55)=\"\",\"\",INDIRECT($B$2&CI$2&$A55))","v":""},{"$f":"IF(INDIRECT($B$2&CJ$2&$A55)=\"\",\"\",INDIRECT($B$2&CJ$2&$A55))","v":""},{"$f":"IF(INDIRECT($B$2&CK$2&$A55)=\"\",\"\",INDIRECT($B$2&CK$2&$A55))","v":""},{"$f":"IF(INDIRECT($B$2&CL$2&$A55)=\"\",\"\",INDIRECT($B$2&CL$2&$A55))","v":""},{"$f":"IF(INDIRECT($B$2&CM$2&$A55)=\"\",\"\",INDIRECT($B$2&CM$2&$A55))","v":""},{"$f":"IF(INDIRECT($B$2&CN$2&$A55)=\"\",\"\",INDIRECT($B$2&CN$2&$A55))","v":""},{"$f":"IF(INDIRECT($B$2&CO$2&$A55)=\"\",\"\",INDIRECT($B$2&CO$2&$A55))","v":""},null,{"$f":"IF(INDIRECT($B$2&CQ$2&$A55)=\"\",\"\",INDIRECT($B$2&CQ$2&$A55))","v":""},{"$f":"IF(INDIRECT($B$2&CR$2&$A55)=\"\",\"\",INDIRECT($B$2&CR$2&$A55))","v":""},{"$f":"IF(INDIRECT($B$2&CS$2&$A55)=\"\",\"\",INDIRECT($B$2&CS$2&$A55))","v":""}]
[83,null,null,null,null,null,null,null,null,null,null,null,null,null,null,46,{"$f":"IF(INDIRECT($B$2&$Q$2&$A56)=\"\",\"\",INDIRECT($B$2&$Q$2&$A56))","v":""},null,{"$f":"IF(INDIRECT($B$2&$S$2&$A56)=\"\",\"\",INDIRECT($B$2&$S$2&$A56))","v":0},{"$f":"IF(INDIRECT($B$2&$T$2&$A56)=\"\",\"\",INDIRECT($B$2&$T$2&$A56))","v":0},{"$f":"IF(INDIRECT($B$2&$U$2&$A56)=\"\",\"\",INDIRECT($B$2&$U$2&$A56))","v":0},{"$f":"IF(INDIRECT($B$2&$V$2&$A56)=\"\",\"\",INDIRECT($B$2&$V$2&$A56))","v":""},{"$f":"IF(INDIRECT($B$2&$W$2&$A56)=\"\",\"\",INDIRECT($B$2&$W$2&$A56))","v":""},{"$f":"IF(INDIRECT($B$2&$X$2&$A56)=\"\",\"\",INDIRECT($B$2&$X$2&$A56))","v":""},{"$f":"IF(INDIRECT($B$2&$Y$2&$A56)=\"\",\"\",INDIRECT($B$2&$Y$2&$A56))","v":""},{"$f":"IF(INDIRECT($B$2&$Z$2&$A56)=\"\",\"\",INDIRECT($B$2&$Z$2&$A56))","v":""},null,{"$f":"IF(INDIRECT($B$2&$AB$2&$A56)=\"\",\"\",INDIRECT($B$2&$AB$2&$A56))","v":""},{"$f":"IF(INDIRECT($B$2&$AC$2&$A56)=\"\",\"\",INDIRECT($B$2&$AC$2&$A56))","v":""},{"$f":"IF(INDIRECT($B$2&$AD$2&$A56)=\"\",\"\",INDIRECT($B$2&$AD$2&$A56))","v":""},{"$f":"IF(INDIRECT($B$2&$AE$2&$A56)=\"\",\"\",INDIRECT($B$2&$AE$2&$A56))","v":""},{"$f":"IF(INDIRECT($B$2&$AF$2&$A56)=\"\",\"\",INDIRECT($B$2&$AF$2&$A56))","v":""},null,null,null,null,null,null,null,null,null,null,null,null,null,null,null,{"$f":"IF(INDIRECT($B$2&AV$2&$A56)=\"\",\"\",INDIRECT($B$2&AV$2&$A56))","v":""},{"$f":"IF(INDIRECT($B$2&AW$2&$A56)=\"\",\"\",INDIRECT($B$2&AW$2&$A56))","v":""},{"$f":"IF(INDIRECT($B$2&AX$2&$A56)=\"\",\"\",INDIRECT($B$2&AX$2&$A56))","v":""},{"$f":"IF(INDIRECT($B$2&AY$2&$A56)=\"\",\"\",INDIRECT($B$2&AY$2&$A56))","v":""},{"$f":"IF(INDIRECT($B$2&AZ$2&$A56)=\"\",\"\",INDIRECT($B$2&AZ$2&$A56))","v":""},{"$f":"IF(INDIRECT($B$2&BA$2&$A56)=\"\",\"\",INDIRECT($B$2&BA$2&$A56))","v":""},{"$f":"IF(INDIRECT($B$2&BB$2&$A56)=\"\",\"\",INDIRECT($B$2&BB$2&$A56))","v":""},{"$f":"IF(INDIRECT($B$2&BC$2&$A56)=\"\",\"\",INDIRECT($B$2&BC$2&$A56))","v":""},{"$f":"IF(INDIRECT($B$2&BD$2&$A56)=\"\",\"\",INDIRECT($B$2&BD$2&$A56))","v":""},{"$f":"IF(INDIRECT($B$2&BE$2&$A56)=\"\",\"\",INDIRECT($B$2&BE$2&$A56))","v":""},{"$f":"IF(INDIRECT($B$2&BF$2&$A56)=\"\",\"\",INDIRECT($B$2&BF$2&$A56))","v":""},{"$f":"IF(INDIRECT($B$2&BG$2&$A56)=\"\",\"\",INDIRECT($B$2&BG$2&$A56))","v":""},{"$f":"IF(INDIRECT($B$2&BH$2&$A56)=\"\",\"\",INDIRECT($B$2&BH$2&$A56))","v":""},{"$f":"IF(INDIRECT($B$2&BI$2&$A56)=\"\",\"\",INDIRECT($B$2&BI$2&$A56))","v":""},{"$f":"IF(INDIRECT($B$2&BJ$2&$A56)=\"\",\"\",INDIRECT($B$2&BJ$2&$A56))","v":""},{"$f":"IF(INDIRECT($B$2&BK$2&$A56)=\"\",\"\",INDIRECT($B$2&BK$2&$A56))","v":0},{"$f":"IF(INDIRECT($B$2&BL$2&$A56)=\"\",\"\",INDIRECT($B$2&BL$2&$A56))","v":""},{"$f":"IF(INDIRECT($B$2&BM$2&$A56)=\"\",\"\",INDIRECT($B$2&BM$2&$A56))","v":""},{"$f":"IF(INDIRECT($B$2&BN$2&$A56)=\"\",\"\",INDIRECT($B$2&BN$2&$A56))","v":""},{"$f":"IF(INDIRECT($B$2&BO$2&$A56)=\"\",\"\",INDIRECT($B$2&BO$2&$A56))","v":""},{"$f":"IF(INDIRECT($B$2&BP$2&$A56)=\"\",\"\",INDIRECT($B$2&BP$2&$A56))","v":""},{"$f":"IF(INDIRECT($B$2&BQ$2&$A56)=\"\",\"\",INDIRECT($B$2&BQ$2&$A56))","v":""},{"$f":"IF(INDIRECT($B$2&BR$2&$A56)=\"\",\"\",INDIRECT($B$2&BR$2&$A56))","v":""},{"$f":"IF(INDIRECT($B$2&BS$2&$A56)=\"\",\"\",INDIRECT($B$2&BS$2&$A56))","v":""},{"$f":"IF(INDIRECT($B$2&BT$2&$A56)=\"\",\"\",INDIRECT($B$2&BT$2&$A56))","v":""},{"$f":"IF(INDIRECT($B$2&BU$2&$A56)=\"\",\"\",INDIRECT($B$2&BU$2&$A56))","v":""},{"$f":"IF(INDIRECT($B$2&BV$2&$A56)=\"\",\"\",INDIRECT($B$2&BV$2&$A56))","v":""},{"$f":"IF(INDIRECT($B$2&BW$2&$A56)=\"\",\"\",INDIRECT($B$2&BW$2&$A56))","v":""},{"$f":"IF(INDIRECT($B$2&BX$2&$A56)=\"\",\"\",INDIRECT($B$2&BX$2&$A56))","v":""},{"$f":"IF(INDIRECT($B$2&BY$2&$A56)=\"\",\"\",INDIRECT($B$2&BY$2&$A56))","v":""},{"$f":"IF(INDIRECT($B$2&BZ$2&$A56)=\"\",\"\",INDIRECT($B$2&BZ$2&$A56))","v":0},{"$f":"IF(INDIRECT($B$2&CA$2&$A56)=\"\",\"\",INDIRECT($B$2&CA$2&$A56))","v":""},{"$f":"IF(INDIRECT($B$2&CB$2&$A56)=\"\",\"\",INDIRECT($B$2&CB$2&$A56))","v":""},{"$f":"IF(INDIRECT($B$2&CC$2&$A56)=\"\",\"\",INDIRECT($B$2&CC$2&$A56))","v":""},{"$f":"IF(INDIRECT($B$2&CD$2&$A56)=\"\",\"\",INDIRECT($B$2&CD$2&$A56))","v":""},{"$f":"IF(INDIRECT($B$2&CE$2&$A56)=\"\",\"\",INDIRECT($B$2&CE$2&$A56))","v":""},{"$f":"IF(INDIRECT($B$2&CF$2&$A56)=\"\",\"\",INDIRECT($B$2&CF$2&$A56))","v":""},{"$f":"IF(INDIRECT($B$2&CG$2&$A56)=\"\",\"\",INDIRECT($B$2&CG$2&$A56))","v":""},{"$f":"IF(INDIRECT($B$2&CH$2&$A56)=\"\",\"\",INDIRECT($B$2&CH$2&$A56))","v":""},{"$f":"IF(INDIRECT($B$2&CI$2&$A56)=\"\",\"\",INDIRECT($B$2&CI$2&$A56))","v":""},{"$f":"IF(INDIRECT($B$2&CJ$2&$A56)=\"\",\"\",INDIRECT($B$2&CJ$2&$A56))","v":""},{"$f":"IF(INDIRECT($B$2&CK$2&$A56)=\"\",\"\",INDIRECT($B$2&CK$2&$A56))","v":""},{"$f":"IF(INDIRECT($B$2&CL$2&$A56)=\"\",\"\",INDIRECT($B$2&CL$2&$A56))","v":""},{"$f":"IF(INDIRECT($B$2&CM$2&$A56)=\"\",\"\",INDIRECT($B$2&CM$2&$A56))","v":""},{"$f":"IF(INDIRECT($B$2&CN$2&$A56)=\"\",\"\",INDIRECT($B$2&CN$2&$A56))","v":""},{"$f":"IF(INDIRECT($B$2&CO$2&$A56)=\"\",\"\",INDIRECT($B$2&CO$2&$A56))","v":""},null,{"$f":"IF(INDIRECT($B$2&CQ$2&$A56)=\"\",\"\",INDIRECT($B$2&CQ$2&$A56))","v":""},{"$f":"IF(INDIRECT($B$2&CR$2&$A56)=\"\",\"\",INDIRECT($B$2&CR$2&$A56))","v":""},{"$f":"IF(INDIRECT($B$2&CS$2&$A56)=\"\",\"\",INDIRECT($B$2&CS$2&$A56))","v":""}]
[84,null,null,null,null,null,null,null,null,null,null,null,null,null,null,47,{"$f":"IF(INDIRECT($B$2&$Q$2&$A57)=\"\",\"\",INDIRECT($B$2&$Q$2&$A57))","v":""},null,{"$f":"IF(INDIRECT($B$2&$S$2&$A57)=\"\",\"\",INDIRECT($B$2&$S$2&$A57))","v":0},{"$f":"IF(INDIRECT($B$2&$T$2&$A57)=\"\",\"\",INDIRECT($B$2&$T$2&$A57))","v":0},{"$f":"IF(INDIRECT($B$2&$U$2&$A57)=\"\",\"\",INDIRECT($B$2&$U$2&$A57))","v":0},{"$f":"IF(INDIRECT($B$2&$V$2&$A57)=\"\",\"\",INDIRECT($B$2&$V$2&$A57))","v":""},{"$f":"IF(INDIRECT($B$2&$W$2&$A57)=\"\",\"\",INDIRECT($B$2&$W$2&$A57))","v":""},{"$f":"IF(INDIRECT($B$2&$X$2&$A57)=\"\",\"\",INDIRECT($B$2&$X$2&$A57))","v":""},{"$f":"IF(INDIRECT($B$2&$Y$2&$A57)=\"\",\"\",INDIRECT($B$2&$Y$2&$A57))","v":""},{"$f":"IF(INDIRECT($B$2&$Z$2&$A57)=\"\",\"\",INDIRECT($B$2&$Z$2&$A57))","v":""},null,{"$f":"IF(INDIRECT($B$2&$AB$2&$A57)=\"\",\"\",INDIRECT($B$2&$AB$2&$A57))","v":""},{"$f":"IF(INDIRECT($B$2&$AC$2&$A57)=\"\",\"\",INDIRECT($B$2&$AC$2&$A57))","v":""},{"$f":"IF(INDIRECT($B$2&$AD$2&$A57)=\"\",\"\",INDIRECT($B$2&$AD$2&$A57))","v":""},{"$f":"IF(INDIRECT($B$2&$AE$2&$A57)=\"\",\"\",INDIRECT($B$2&$AE$2&$A57))","v":""},{"$f":"IF(INDIRECT($B$2&$AF$2&$A57)=\"\",\"\",INDIRECT($B$2&$AF$2&$A57))","v":""},null,null,null,null,null,null,null,null,null,null,null,null,null,null,null,{"$f":"IF(INDIRECT($B$2&AV$2&$A57)=\"\",\"\",INDIRECT($B$2&AV$2&$A57))","v":""},{"$f":"IF(INDIRECT($B$2&AW$2&$A57)=\"\",\"\",INDIRECT($B$2&AW$2&$A57))","v":""},{"$f":"IF(INDIRECT($B$2&AX$2&$A57)=\"\",\"\",INDIRECT($B$2&AX$2&$A57))","v":""},{"$f":"IF(INDIRECT($B$2&AY$2&$A57)=\"\",\"\",INDIRECT($B$2&AY$2&$A57))","v":""},{"$f":"IF(INDIRECT($B$2&AZ$2&$A57)=\"\",\"\",INDIRECT($B$2&AZ$2&$A57))","v":""},{"$f":"IF(INDIRECT($B$2&BA$2&$A57)=\"\",\"\",INDIRECT($B$2&BA$2&$A57))","v":""},{"$f":"IF(INDIRECT($B$2&BB$2&$A57)=\"\",\"\",INDIRECT($B$2&BB$2&$A57))","v":""},{"$f":"IF(INDIRECT($B$2&BC$2&$A57)=\"\",\"\",INDIRECT($B$2&BC$2&$A57))","v":""},{"$f":"IF(INDIRECT($B$2&BD$2&$A57)=\"\",\"\",INDIRECT($B$2&BD$2&$A57))","v":""},{"$f":"IF(INDIRECT($B$2&BE$2&$A57)=\"\",\"\",INDIRECT($B$2&BE$2&$A57))","v":""},{"$f":"IF(INDIRECT($B$2&BF$2&$A57)=\"\",\"\",INDIRECT($B$2&BF$2&$A57))","v":""},{"$f":"IF(INDIRECT($B$2&BG$2&$A57)=\"\",\"\",INDIRECT($B$2&BG$2&$A57))","v":""},{"$f":"IF(INDIRECT($B$2&BH$2&$A57)=\"\",\"\",INDIRECT($B$2&BH$2&$A57))","v":""},{"$f":"IF(INDIRECT($B$2&BI$2&$A57)=\"\",\"\",INDIRECT($B$2&BI$2&$A57))","v":""},{"$f":"IF(INDIRECT($B$2&BJ$2&$A57)=\"\",\"\",INDIRECT($B$2&BJ$2&$A57))","v":""},{"$f":"IF(INDIRECT($B$2&BK$2&$A57)=\"\",\"\",INDIRECT($B$2&BK$2&$A57))","v":0},{"$f":"IF(INDIRECT($B$2&BL$2&$A57)=\"\",\"\",INDIRECT($B$2&BL$2&$A57))","v":""},{"$f":"IF(INDIRECT($B$2&BM$2&$A57)=\"\",\"\",INDIRECT($B$2&BM$2&$A57))","v":""},{"$f":"IF(INDIRECT($B$2&BN$2&$A57)=\"\",\"\",INDIRECT($B$2&BN$2&$A57))","v":""},{"$f":"IF(INDIRECT($B$2&BO$2&$A57)=\"\",\"\",INDIRECT($B$2&BO$2&$A57))","v":""},{"$f":"IF(INDIRECT($B$2&BP$2&$A57)=\"\",\"\",INDIRECT($B$2&BP$2&$A57))","v":""},{"$f":"IF(INDIRECT($B$2&BQ$2&$A57)=\"\",\"\",INDIRECT($B$2&BQ$2&$A57))","v":""},{"$f":"IF(INDIRECT($B$2&BR$2&$A57)=\"\",\"\",INDIRECT($B$2&BR$2&$A57))","v":""},{"$f":"IF(INDIRECT($B$2&BS$2&$A57)=\"\",\"\",INDIRECT($B$2&BS$2&$A57))","v":""},{"$f":"IF(INDIRECT($B$2&BT$2&$A57)=\"\",\"\",INDIRECT($B$2&BT$2&$A57))","v":""},{"$f":"IF(INDIRECT($B$2&BU$2&$A57)=\"\",\"\",INDIRECT($B$2&BU$2&$A57))","v":""},{"$f":"IF(INDIRECT($B$2&BV$2&$A57)=\"\",\"\",INDIRECT($B$2&BV$2&$A57))","v":""},{"$f":"IF(INDIRECT($B$2&BW$2&$A57)=\"\",\"\",INDIRECT($B$2&BW$2&$A57))","v":""},{"$f":"IF(INDIRECT($B$2&BX$2&$A57)=\"\",\"\",INDIRECT($B$2&BX$2&$A57))","v":""},{"$f":"IF(INDIRECT($B$2&BY$2&$A57)=\"\",\"\",INDIRECT($B$2&BY$2&$A57))","v":""},{"$f":"IF(INDIRECT($B$2&BZ$2&$A57)=\"\",\"\",INDIRECT($B$2&BZ$2&$A57))","v":0},{"$f":"IF(INDIRECT($B$2&CA$2&$A57)=\"\",\"\",INDIRECT($B$2&CA$2&$A57))","v":""},{"$f":"IF(INDIRECT($B$2&CB$2&$A57)=\"\",\"\",INDIRECT($B$2&CB$2&$A57))","v":""},{"$f":"IF(INDIRECT($B$2&CC$2&$A57)=\"\",\"\",INDIRECT($B$2&CC$2&$A57))","v":""},{"$f":"IF(INDIRECT($B$2&CD$2&$A57)=\"\",\"\",INDIRECT($B$2&CD$2&$A57))","v":""},{"$f":"IF(INDIRECT($B$2&CE$2&$A57)=\"\",\"\",INDIRECT($B$2&CE$2&$A57))","v":""},{"$f":"IF(INDIRECT($B$2&CF$2&$A57)=\"\",\"\",INDIRECT($B$2&CF$2&$A57))","v":""},{"$f":"IF(INDIRECT($B$2&CG$2&$A57)=\"\",\"\",INDIRECT($B$2&CG$2&$A57))","v":""},{"$f":"IF(INDIRECT($B$2&CH$2&$A57)=\"\",\"\",INDIRECT($B$2&CH$2&$A57))","v":""},{"$f":"IF(INDIRECT($B$2&CI$2&$A57)=\"\",\"\",INDIRECT($B$2&CI$2&$A57))","v":""},{"$f":"IF(INDIRECT($B$2&CJ$2&$A57)=\"\",\"\",INDIRECT($B$2&CJ$2&$A57))","v":""},{"$f":"IF(INDIRECT($B$2&CK$2&$A57)=\"\",\"\",INDIRECT($B$2&CK$2&$A57))","v":""},{"$f":"IF(INDIRECT($B$2&CL$2&$A57)=\"\",\"\",INDIRECT($B$2&CL$2&$A57))","v":""},{"$f":"IF(INDIRECT($B$2&CM$2&$A57)=\"\",\"\",INDIRECT($B$2&CM$2&$A57))","v":""},{"$f":"IF(INDIRECT($B$2&CN$2&$A57)=\"\",\"\",INDIRECT($B$2&CN$2&$A57))","v":""},{"$f":"IF(INDIRECT($B$2&CO$2&$A57)=\"\",\"\",INDIRECT($B$2&CO$2&$A57))","v":""},null,{"$f":"IF(INDIRECT($B$2&CQ$2&$A57)=\"\",\"\",INDIRECT($B$2&CQ$2&$A57))","v":""},{"$f":"IF(INDIRECT($B$2&CR$2&$A57)=\"\",\"\",INDIRECT($B$2&CR$2&$A57))","v":""},{"$f":"IF(INDIRECT($B$2&CS$2&$A57)=\"\",\"\",INDIRECT($B$2&CS$2&$A57))","v":""}]
[85,null,null,null,null,null,null,null,null,null,null,null,null,null,null,48,{"$f":"IF(INDIRECT($B$2&$Q$2&$A58)=\"\",\"\",INDIRECT($B$2&$Q$2&$A58))","v":""},null,{"$f":"IF(INDIRECT($B$2&$S$2&$A58)=\"\",\"\",INDIRECT($B$2&$S$2&$A58))","v":0},{"$f":"IF(INDIRECT($B$2&$T$2&$A58)=\"\",\"\",INDIRECT($B$2&$T$2&$A58))","v":0},{"$f":"IF(INDIRECT($B$2&$U$2&$A58)=\"\",\"\",INDIRECT($B$2&$U$2&$A58))","v":0},{"$f":"IF(INDIRECT($B$2&$V$2&$A58)=\"\",\"\",INDIRECT($B$2&$V$2&$A58))","v":""},{"$f":"IF(INDIRECT($B$2&$W$2&$A58)=\"\",\"\",INDIRECT($B$2&$W$2&$A58))","v":""},{"$f":"IF(INDIRECT($B$2&$X$2&$A58)=\"\",\"\",INDIRECT($B$2&$X$2&$A58))","v":""},{"$f":"IF(INDIRECT($B$2&$Y$2&$A58)=\"\",\"\",INDIRECT($B$2&$Y$2&$A58))","v":""},{"$f":"IF(INDIRECT($B$2&$Z$2&$A58)=\"\",\"\",INDIRECT($B$2&$Z$2&$A58))","v":""},null,{"$f":"IF(INDIRECT($B$2&$AB$2&$A58)=\"\",\"\",INDIRECT($B$2&$AB$2&$A58))","v":""},{"$f":"IF(INDIRECT($B$2&$AC$2&$A58)=\"\",\"\",INDIRECT($B$2&$AC$2&$A58))","v":""},{"$f":"IF(INDIRECT($B$2&$AD$2&$A58)=\"\",\"\",INDIRECT($B$2&$AD$2&$A58))","v":""},{"$f":"IF(INDIRECT($B$2&$AE$2&$A58)=\"\",\"\",INDIRECT($B$2&$AE$2&$A58))","v":""},{"$f":"IF(INDIRECT($B$2&$AF$2&$A58)=\"\",\"\",INDIRECT($B$2&$AF$2&$A58))","v":""},null,null,null,null,null,null,null,null,null,null,null,null,null,null,null,{"$f":"IF(INDIRECT($B$2&AV$2&$A58)=\"\",\"\",INDIRECT($B$2&AV$2&$A58))","v":""},{"$f":"IF(INDIRECT($B$2&AW$2&$A58)=\"\",\"\",INDIRECT($B$2&AW$2&$A58))","v":""},{"$f":"IF(INDIRECT($B$2&AX$2&$A58)=\"\",\"\",INDIRECT($B$2&AX$2&$A58))","v":""},{"$f":"IF(INDIRECT($B$2&AY$2&$A58)=\"\",\"\",INDIRECT($B$2&AY$2&$A58))","v":""},{"$f":"IF(INDIRECT($B$2&AZ$2&$A58)=\"\",\"\",INDIRECT($B$2&AZ$2&$A58))","v":""},{"$f":"IF(INDIRECT($B$2&BA$2&$A58)=\"\",\"\",INDIRECT($B$2&BA$2&$A58))","v":""},{"$f":"IF(INDIRECT($B$2&BB$2&$A58)=\"\",\"\",INDIRECT($B$2&BB$2&$A58))","v":""},{"$f":"IF(INDIRECT($B$2&BC$2&$A58)=\"\",\"\",INDIRECT($B$2&BC$2&$A58))","v":""},{"$f":"IF(INDIRECT($B$2&BD$2&$A58)=\"\",\"\",INDIRECT($B$2&BD$2&$A58))","v":""},{"$f":"IF(INDIRECT($B$2&BE$2&$A58)=\"\",\"\",INDIRECT($B$2&BE$2&$A58))","v":""},{"$f":"IF(INDIRECT($B$2&BF$2&$A58)=\"\",\"\",INDIRECT($B$2&BF$2&$A58))","v":""},{"$f":"IF(INDIRECT($B$2&BG$2&$A58)=\"\",\"\",INDIRECT($B$2&BG$2&$A58))","v":""},{"$f":"IF(INDIRECT($B$2&BH$2&$A58)=\"\",\"\",INDIRECT($B$2&BH$2&$A58))","v":""},{"$f":"IF(INDIRECT($B$2&BI$2&$A58)=\"\",\"\",INDIRECT($B$2&BI$2&$A58))","v":""},{"$f":"IF(INDIRECT($B$2&BJ$2&$A58)=\"\",\"\",INDIRECT($B$2&BJ$2&$A58))","v":""},{"$f":"IF(INDIRECT($B$2&BK$2&$A58)=\"\",\"\",INDIRECT($B$2&BK$2&$A58))","v":0},{"$f":"IF(INDIRECT($B$2&BL$2&$A58)=\"\",\"\",INDIRECT($B$2&BL$2&$A58))","v":""},{"$f":"IF(INDIRECT($B$2&BM$2&$A58)=\"\",\"\",INDIRECT($B$2&BM$2&$A58))","v":""},{"$f":"IF(INDIRECT($B$2&BN$2&$A58)=\"\",\"\",INDIRECT($B$2&BN$2&$A58))","v":""},{"$f":"IF(INDIRECT($B$2&BO$2&$A58)=\"\",\"\",INDIRECT($B$2&BO$2&$A58))","v":""},{"$f":"IF(INDIRECT($B$2&BP$2&$A58)=\"\",\"\",INDIRECT($B$2&BP$2&$A58))","v":""},{"$f":"IF(INDIRECT($B$2&BQ$2&$A58)=\"\",\"\",INDIRECT($B$2&BQ$2&$A58))","v":""},{"$f":"IF(INDIRECT($B$2&BR$2&$A58)=\"\",\"\",INDIRECT($B$2&BR$2&$A58))","v":""},{"$f":"IF(INDIRECT($B$2&BS$2&$A58)=\"\",\"\",INDIRECT($B$2&BS$2&$A58))","v":""},{"$f":"IF(INDIRECT($B$2&BT$2&$A58)=\"\",\"\",INDIRECT($B$2&BT$2&$A58))","v":""},{"$f":"IF(INDIRECT($B$2&BU$2&$A58)=\"\",\"\",INDIRECT($B$2&BU$2&$A58))","v":""},{"$f":"IF(INDIRECT($B$2&BV$2&$A58)=\"\",\"\",INDIRECT($B$2&BV$2&$A58))","v":""},{"$f":"IF(INDIRECT($B$2&BW$2&$A58)=\"\",\"\",INDIRECT($B$2&BW$2&$A58))","v":""},{"$f":"IF(INDIRECT($B$2&BX$2&$A58)=\"\",\"\",INDIRECT($B$2&BX$2&$A58))","v":""},{"$f":"IF(INDIRECT($B$2&BY$2&$A58)=\"\",\"\",INDIRECT($B$2&BY$2&$A58))","v":""},{"$f":"IF(INDIRECT($B$2&BZ$2&$A58)=\"\",\"\",INDIRECT($B$2&BZ$2&$A58))","v":0},{"$f":"IF(INDIRECT($B$2&CA$2&$A58)=\"\",\"\",INDIRECT($B$2&CA$2&$A58))","v":""},{"$f":"IF(INDIRECT($B$2&CB$2&$A58)=\"\",\"\",INDIRECT($B$2&CB$2&$A58))","v":""},{"$f":"IF(INDIRECT($B$2&CC$2&$A58)=\"\",\"\",INDIRECT($B$2&CC$2&$A58))","v":""},{"$f":"IF(INDIRECT($B$2&CD$2&$A58)=\"\",\"\",INDIRECT($B$2&CD$2&$A58))","v":""},{"$f":"IF(INDIRECT($B$2&CE$2&$A58)=\"\",\"\",INDIRECT($B$2&CE$2&$A58))","v":""},{"$f":"IF(INDIRECT($B$2&CF$2&$A58)=\"\",\"\",INDIRECT($B$2&CF$2&$A58))","v":""},{"$f":"IF(INDIRECT($B$2&CG$2&$A58)=\"\",\"\",INDIRECT($B$2&CG$2&$A58))","v":""},{"$f":"IF(INDIRECT($B$2&CH$2&$A58)=\"\",\"\",INDIRECT($B$2&CH$2&$A58))","v":""},{"$f":"IF(INDIRECT($B$2&CI$2&$A58)=\"\",\"\",INDIRECT($B$2&CI$2&$A58))","v":""},{"$f":"IF(INDIRECT($B$2&CJ$2&$A58)=\"\",\"\",INDIRECT($B$2&CJ$2&$A58))","v":""},{"$f":"IF(INDIRECT($B$2&CK$2&$A58)=\"\",\"\",INDIRECT($B$2&CK$2&$A58))","v":""},{"$f":"IF(INDIRECT($B$2&CL$2&$A58)=\"\",\"\",INDIRECT($B$2&CL$2&$A58))","v":""},{"$f":"IF(INDIRECT($B$2&CM$2&$A58)=\"\",\"\",INDIRECT($B$2&CM$2&$A58))","v":""},{"$f":"IF(INDIRECT($B$2&CN$2&$A58)=\"\",\"\",INDIRECT($B$2&CN$2&$A58))","v":""},{"$f":"IF(INDIRECT($B$2&CO$2&$A58)=\"\",\"\",INDIRECT($B$2&CO$2&$A58))","v":""},null,{"$f":"IF(INDIRECT($B$2&CQ$2&$A58)=\"\",\"\",INDIRECT($B$2&CQ$2&$A58))","v":""},{"$f":"IF(INDIRECT($B$2&CR$2&$A58)=\"\",\"\",INDIRECT($B$2&CR$2&$A58))","v":""},{"$f":"IF(INDIRECT($B$2&CS$2&$A58)=\"\",\"\",INDIRECT($B$2&CS$2&$A58))","v":""}]
[86,null,null,null,null,null,null,null,null,null,null,null,null,null,null,49,{"$f":"IF(INDIRECT($B$2&$Q$2&$A59)=\"\",\"\",INDIRECT($B$2&$Q$2&$A59))","v":""},null,{"$f":"IF(INDIRECT($B$2&$S$2&$A59)=\"\",\"\",INDIRECT($B$2&$S$2&$A59))","v":0},{"$f":"IF(INDIRECT($B$2&$T$2&$A59)=\"\",\"\",INDIRECT($B$2&$T$2&$A59))","v":0},{"$f":"IF(INDIRECT($B$2&$U$2&$A59)=\"\",\"\",INDIRECT($B$2&$U$2&$A59))","v":0},{"$f":"IF(INDIRECT($B$2&$V$2&$A59)=\"\",\"\",INDIRECT($B$2&$V$2&$A59))","v":""},{"$f":"IF(INDIRECT($B$2&$W$2&$A59)=\"\",\"\",INDIRECT($B$2&$W$2&$A59))","v":""},{"$f":"IF(INDIRECT($B$2&$X$2&$A59)=\"\",\"\",INDIRECT($B$2&$X$2&$A59))","v":""},{"$f":"IF(INDIRECT($B$2&$Y$2&$A59)=\"\",\"\",INDIRECT($B$2&$Y$2&$A59))","v":""},{"$f":"IF(INDIRECT($B$2&$Z$2&$A59)=\"\",\"\",INDIRECT($B$2&$Z$2&$A59))","v":""},null,{"$f":"IF(INDIRECT($B$2&$AB$2&$A59)=\"\",\"\",INDIRECT($B$2&$AB$2&$A59))","v":""},{"$f":"IF(INDIRECT($B$2&$AC$2&$A59)=\"\",\"\",INDIRECT($B$2&$AC$2&$A59))","v":""},{"$f":"IF(INDIRECT($B$2&$AD$2&$A59)=\"\",\"\",INDIRECT($B$2&$AD$2&$A59))","v":""},{"$f":"IF(INDIRECT($B$2&$AE$2&$A59)=\"\",\"\",INDIRECT($B$2&$AE$2&$A59))","v":""},{"$f":"IF(INDIRECT($B$2&$AF$2&$A59)=\"\",\"\",INDIRECT($B$2&$AF$2&$A59))","v":""},null,null,null,null,null,null,null,null,null,null,null,null,null,null,null,{"$f":"IF(INDIRECT($B$2&AV$2&$A59)=\"\",\"\",INDIRECT($B$2&AV$2&$A59))","v":""},{"$f":"IF(INDIRECT($B$2&AW$2&$A59)=\"\",\"\",INDIRECT($B$2&AW$2&$A59))","v":""},{"$f":"IF(INDIRECT($B$2&AX$2&$A59)=\"\",\"\",INDIRECT($B$2&AX$2&$A59))","v":""},{"$f":"IF(INDIRECT($B$2&AY$2&$A59)=\"\",\"\",INDIRECT($B$2&AY$2&$A59))","v":""},{"$f":"IF(INDIRECT($B$2&AZ$2&$A59)=\"\",\"\",INDIRECT($B$2&AZ$2&$A59))","v":""},{"$f":"IF(INDIRECT($B$2&BA$2&$A59)=\"\",\"\",INDIRECT($B$2&BA$2&$A59))","v":""},{"$f":"IF(INDIRECT($B$2&BB$2&$A59)=\"\",\"\",INDIRECT($B$2&BB$2&$A59))","v":""},{"$f":"IF(INDIRECT($B$2&BC$2&$A59)=\"\",\"\",INDIRECT($B$2&BC$2&$A59))","v":""},{"$f":"IF(INDIRECT($B$2&BD$2&$A59)=\"\",\"\",INDIRECT($B$2&BD$2&$A59))","v":""},{"$f":"IF(INDIRECT($B$2&BE$2&$A59)=\"\",\"\",INDIRECT($B$2&BE$2&$A59))","v":""},{"$f":"IF(INDIRECT($B$2&BF$2&$A59)=\"\",\"\",INDIRECT($B$2&BF$2&$A59))","v":""},{"$f":"IF(INDIRECT($B$2&BG$2&$A59)=\"\",\"\",INDIRECT($B$2&BG$2&$A59))","v":""},{"$f":"IF(INDIRECT($B$2&BH$2&$A59)=\"\",\"\",INDIRECT($B$2&BH$2&$A59))","v":""},{"$f":"IF(INDIRECT($B$2&BI$2&$A59)=\"\",\"\",INDIRECT($B$2&BI$2&$A59))","v":""},{"$f":"IF(INDIRECT($B$2&BJ$2&$A59)=\"\",\"\",INDIRECT($B$2&BJ$2&$A59))","v":""},{"$f":"IF(INDIRECT($B$2&BK$2&$A59)=\"\",\"\",INDIRECT($B$2&BK$2&$A59))","v":0},{"$f":"IF(INDIRECT($B$2&BL$2&$A59)=\"\",\"\",INDIRECT($B$2&BL$2&$A59))","v":""},{"$f":"IF(INDIRECT($B$2&BM$2&$A59)=\"\",\"\",INDIRECT($B$2&BM$2&$A59))","v":""},{"$f":"IF(INDIRECT($B$2&BN$2&$A59)=\"\",\"\",INDIRECT($B$2&BN$2&$A59))","v":""},{"$f":"IF(INDIRECT($B$2&BO$2&$A59)=\"\",\"\",INDIRECT($B$2&BO$2&$A59))","v":""},{"$f":"IF(INDIRECT($B$2&BP$2&$A59)=\"\",\"\",INDIRECT($B$2&BP$2&$A59))","v":""},{"$f":"IF(INDIRECT($B$2&BQ$2&$A59)=\"\",\"\",INDIRECT($B$2&BQ$2&$A59))","v":""},{"$f":"IF(INDIRECT($B$2&BR$2&$A59)=\"\",\"\",INDIRECT($B$2&BR$2&$A59))","v":""},{"$f":"IF(INDIRECT($B$2&BS$2&$A59)=\"\",\"\",INDIRECT($B$2&BS$2&$A59))","v":""},{"$f":"IF(INDIRECT($B$2&BT$2&$A59)=\"\",\"\",INDIRECT($B$2&BT$2&$A59))","v":""},{"$f":"IF(INDIRECT($B$2&BU$2&$A59)=\"\",\"\",INDIRECT($B$2&BU$2&$A59))","v":""},{"$f":"IF(INDIRECT($B$2&BV$2&$A59)=\"\",\"\",INDIRECT($B$2&BV$2&$A59))","v":""},{"$f":"IF(INDIRECT($B$2&BW$2&$A59)=\"\",\"\",INDIRECT($B$2&BW$2&$A59))","v":""},{"$f":"IF(INDIRECT($B$2&BX$2&$A59)=\"\",\"\",INDIRECT($B$2&BX$2&$A59))","v":""},{"$f":"IF(INDIRECT($B$2&BY$2&$A59)=\"\",\"\",INDIRECT($B$2&BY$2&$A59))","v":""},{"$f":"IF(INDIRECT($B$2&BZ$2&$A59)=\"\",\"\",INDIRECT($B$2&BZ$2&$A59))","v":0},{"$f":"IF(INDIRECT($B$2&CA$2&$A59)=\"\",\"\",INDIRECT($B$2&CA$2&$A59))","v":""},{"$f":"IF(INDIRECT($B$2&CB$2&$A59)=\"\",\"\",INDIRECT($B$2&CB$2&$A59))","v":""},{"$f":"IF(INDIRECT($B$2&CC$2&$A59)=\"\",\"\",INDIRECT($B$2&CC$2&$A59))","v":""},{"$f":"IF(INDIRECT($B$2&CD$2&$A59)=\"\",\"\",INDIRECT($B$2&CD$2&$A59))","v":""},{"$f":"IF(INDIRECT($B$2&CE$2&$A59)=\"\",\"\",INDIRECT($B$2&CE$2&$A59))","v":""},{"$f":"IF(INDIRECT($B$2&CF$2&$A59)=\"\",\"\",INDIRECT($B$2&CF$2&$A59))","v":""},{"$f":"IF(INDIRECT($B$2&CG$2&$A59)=\"\",\"\",INDIRECT($B$2&CG$2&$A59))","v":""},{"$f":"IF(INDIRECT($B$2&CH$2&$A59)=\"\",\"\",INDIRECT($B$2&CH$2&$A59))","v":""},{"$f":"IF(INDIRECT($B$2&CI$2&$A59)=\"\",\"\",INDIRECT($B$2&CI$2&$A59))","v":""},{"$f":"IF(INDIRECT($B$2&CJ$2&$A59)=\"\",\"\",INDIRECT($B$2&CJ$2&$A59))","v":""},{"$f":"IF(INDIRECT($B$2&CK$2&$A59)=\"\",\"\",INDIRECT($B$2&CK$2&$A59))","v":""},{"$f":"IF(INDIRECT($B$2&CL$2&$A59)=\"\",\"\",INDIRECT($B$2&CL$2&$A59))","v":""},{"$f":"IF(INDIRECT($B$2&CM$2&$A59)=\"\",\"\",INDIRECT($B$2&CM$2&$A59))","v":""},{"$f":"IF(INDIRECT($B$2&CN$2&$A59)=\"\",\"\",INDIRECT($B$2&CN$2&$A59))","v":""},{"$f":"IF(INDIRECT($B$2&CO$2&$A59)=\"\",\"\",INDIRECT($B$2&CO$2&$A59))","v":""},null,{"$f":"IF(INDIRECT($B$2&CQ$2&$A59)=\"\",\"\",INDIRECT($B$2&CQ$2&$A59))","v":""},{"$f":"IF(INDIRECT($B$2&CR$2&$A59)=\"\",\"\",INDIRECT($B$2&CR$2&$A59))","v":""},{"$f":"IF(INDIRECT($B$2&CS$2&$A59)=\"\",\"\",INDIRECT($B$2&CS$2&$A59))","v":""}]
[87,null,null,null,null,null,null,null,null,null,null,null,null,null,null,50,{"$f":"IF(INDIRECT($B$2&$Q$2&$A60)=\"\",\"\",INDIRECT($B$2&$Q$2&$A60))","v":""},null,{"$f":"IF(INDIRECT($B$2&$S$2&$A60)=\"\",\"\",INDIRECT($B$2&$S$2&$A60))","v":0},{"$f":"IF(INDIRECT($B$2&$T$2&$A60)=\"\",\"\",INDIRECT($B$2&$T$2&$A60))","v":0},{"$f":"IF(INDIRECT($B$2&$U$2&$A60)=\"\",\"\",INDIRECT($B$2&$U$2&$A60))","v":0},{"$f":"IF(INDIRECT($B$2&$V$2&$A60)=\"\",\"\",INDIRECT($B$2&$V$2&$A60))","v":""},{"$f":"IF(INDIRECT($B$2&$W$2&$A60)=\"\",\"\",INDIRECT($B$2&$W$2&$A60))","v":""},{"$f":"IF(INDIRECT($B$2&$X$2&$A60)=\"\",\"\",INDIRECT($B$2&$X$2&$A60))","v":""},{"$f":"IF(INDIRECT($B$2&$Y$2&$A60)=\"\",\"\",INDIRECT($B$2&$Y$2&$A60))","v":""},{"$f":"IF(INDIRECT($B$2&$Z$2&$A60)=\"\",\"\",INDIRECT($B$2&$Z$2&$A60))","v":""},null,{"$f":"IF(INDIRECT($B$2&$AB$2&$A60)=\"\",\"\",INDIRECT($B$2&$AB$2&$A60))","v":""},{"$f":"IF(INDIRECT($B$2&$AC$2&$A60)=\"\",\"\",INDIRECT($B$2&$AC$2&$A60))","v":""},{"$f":"IF(INDIRECT($B$2&$AD$2&$A60)=\"\",\"\",INDIRECT($B$2&$AD$2&$A60))","v":""},{"$f":"IF(INDIRECT($B$2&$AE$2&$A60)=\"\",\"\",INDIRECT($B$2&$AE$2&$A60))","v":""},{"$f":"IF(INDIRECT($B$2&$AF$2&$A60)=\"\",\"\",INDIRECT($B$2&$AF$2&$A60))","v":""},null,null,null,null,null,null,null,null,null,null,null,null,null,null,null,{"$f":"IF(INDIRECT($B$2&AV$2&$A60)=\"\",\"\",INDIRECT($B$2&AV$2&$A60))","v":""},{"$f":"IF(INDIRECT($B$2&AW$2&$A60)=\"\",\"\",INDIRECT($B$2&AW$2&$A60))","v":""},{"$f":"IF(INDIRECT($B$2&AX$2&$A60)=\"\",\"\",INDIRECT($B$2&AX$2&$A60))","v":""},{"$f":"IF(INDIRECT($B$2&AY$2&$A60)=\"\",\"\",INDIRECT($B$2&AY$2&$A60))","v":""},{"$f":"IF(INDIRECT($B$2&AZ$2&$A60)=\"\",\"\",INDIRECT($B$2&AZ$2&$A60))","v":""},{"$f":"IF(INDIRECT($B$2&BA$2&$A60)=\"\",\"\",INDIRECT($B$2&BA$2&$A60))","v":""},{"$f":"IF(INDIRECT($B$2&BB$2&$A60)=\"\",\"\",INDIRECT($B$2&BB$2&$A60))","v":""},{"$f":"IF(INDIRECT($B$2&BC$2&$A60)=\"\",\"\",INDIRECT($B$2&BC$2&$A60))","v":""},{"$f":"IF(INDIRECT($B$2&BD$2&$A60)=\"\",\"\",INDIRECT($B$2&BD$2&$A60))","v":""},{"$f":"IF(INDIRECT($B$2&BE$2&$A60)=\"\",\"\",INDIRECT($B$2&BE$2&$A60))","v":""},{"$f":"IF(INDIRECT($B$2&BF$2&$A60)=\"\",\"\",INDIRECT($B$2&BF$2&$A60))","v":""},{"$f":"IF(INDIRECT($B$2&BG$2&$A60)=\"\",\"\",INDIRECT($B$2&BG$2&$A60))","v":""},{"$f":"IF(INDIRECT($B$2&BH$2&$A60)=\"\",\"\",INDIRECT($B$2&BH$2&$A60))","v":""},{"$f":"IF(INDIRECT($B$2&BI$2&$A60)=\"\",\"\",INDIRECT($B$2&BI$2&$A60))","v":""},{"$f":"IF(INDIRECT($B$2&BJ$2&$A60)=\"\",\"\",INDIRECT($B$2&BJ$2&$A60))","v":""},{"$f":"IF(INDIRECT($B$2&BK$2&$A60)=\"\",\"\",INDIRECT($B$2&BK$2&$A60))","v":0},{"$f":"IF(INDIRECT($B$2&BL$2&$A60)=\"\",\"\",INDIRECT($B$2&BL$2&$A60))","v":""},{"$f":"IF(INDIRECT($B$2&BM$2&$A60)=\"\",\"\",INDIRECT($B$2&BM$2&$A60))","v":""},{"$f":"IF(INDIRECT($B$2&BN$2&$A60)=\"\",\"\",INDIRECT($B$2&BN$2&$A60))","v":""},{"$f":"IF(INDIRECT($B$2&BO$2&$A60)=\"\",\"\",INDIRECT($B$2&BO$2&$A60))","v":""},{"$f":"IF(INDIRECT($B$2&BP$2&$A60)=\"\",\"\",INDIRECT($B$2&BP$2&$A60))","v":""},{"$f":"IF(INDIRECT($B$2&BQ$2&$A60)=\"\",\"\",INDIRECT($B$2&BQ$2&$A60))","v":""},{"$f":"IF(INDIRECT($B$2&BR$2&$A60)=\"\",\"\",INDIRECT($B$2&BR$2&$A60))","v":""},{"$f":"IF(INDIRECT($B$2&BS$2&$A60)=\"\",\"\",INDIRECT($B$2&BS$2&$A60))","v":""},{"$f":"IF(INDIRECT($B$2&BT$2&$A60)=\"\",\"\",INDIRECT($B$2&BT$2&$A60))","v":""},{"$f":"IF(INDIRECT($B$2&BU$2&$A60)=\"\",\"\",INDIRECT($B$2&BU$2&$A60))","v":""},{"$f":"IF(INDIRECT($B$2&BV$2&$A60)=\"\",\"\",INDIRECT($B$2&BV$2&$A60))","v":""},{"$f":"IF(INDIRECT($B$2&BW$2&$A60)=\"\",\"\",INDIRECT($B$2&BW$2&$A60))","v":""},{"$f":"IF(INDIRECT($B$2&BX$2&$A60)=\"\",\"\",INDIRECT($B$2&BX$2&$A60))","v":""},{"$f":"IF(INDIRECT($B$2&BY$2&$A60)=\"\",\"\",INDIRECT($B$2&BY$2&$A60))","v":""},{"$f":"IF(INDIRECT($B$2&BZ$2&$A60)=\"\",\"\",INDIRECT($B$2&BZ$2&$A60))","v":0},{"$f":"IF(INDIRECT($B$2&CA$2&$A60)=\"\",\"\",INDIRECT($B$2&CA$2&$A60))","v":""},{"$f":"IF(INDIRECT($B$2&CB$2&$A60)=\"\",\"\",INDIRECT($B$2&CB$2&$A60))","v":""},{"$f":"IF(INDIRECT($B$2&CC$2&$A60)=\"\",\"\",INDIRECT($B$2&CC$2&$A60))","v":""},{"$f":"IF(INDIRECT($B$2&CD$2&$A60)=\"\",\"\",INDIRECT($B$2&CD$2&$A60))","v":""},{"$f":"IF(INDIRECT($B$2&CE$2&$A60)=\"\",\"\",INDIRECT($B$2&CE$2&$A60))","v":""},{"$f":"IF(INDIRECT($B$2&CF$2&$A60)=\"\",\"\",INDIRECT($B$2&CF$2&$A60))","v":""},{"$f":"IF(INDIRECT($B$2&CG$2&$A60)=\"\",\"\",INDIRECT($B$2&CG$2&$A60))","v":""},{"$f":"IF(INDIRECT($B$2&CH$2&$A60)=\"\",\"\",INDIRECT($B$2&CH$2&$A60))","v":""},{"$f":"IF(INDIRECT($B$2&CI$2&$A60)=\"\",\"\",INDIRECT($B$2&CI$2&$A60))","v":""},{"$f":"IF(INDIRECT($B$2&CJ$2&$A60)=\"\",\"\",INDIRECT($B$2&CJ$2&$A60))","v":""},{"$f":"IF(INDIRECT($B$2&CK$2&$A60)=\"\",\"\",INDIRECT($B$2&CK$2&$A60))","v":""},{"$f":"IF(INDIRECT($B$2&CL$2&$A60)=\"\",\"\",INDIRECT($B$2&CL$2&$A60))","v":""},{"$f":"IF(INDIRECT($B$2&CM$2&$A60)=\"\",\"\",INDIRECT($B$2&CM$2&$A60))","v":""},{"$f":"IF(INDIRECT($B$2&CN$2&$A60)=\"\",\"\",INDIRECT($B$2&CN$2&$A60))","v":""},{"$f":"IF(INDIRECT($B$2&CO$2&$A60)=\"\",\"\",INDIRECT($B$2&CO$2&$A60))","v":""},null,{"$f":"IF(INDIRECT($B$2&CQ$2&$A60)=\"\",\"\",INDIRECT($B$2&CQ$2&$A60))","v":""},{"$f":"IF(INDIRECT($B$2&CR$2&$A60)=\"\",\"\",INDIRECT($B$2&CR$2&$A60))","v":""},{"$f":"IF(INDIRECT($B$2&CS$2&$A60)=\"\",\"\",INDIRECT($B$2&CS$2&$A60))","v":""}]
[88,null,null,null,null,null,null,null,null,null,null,null,null,null,null,51,{"$f":"IF(INDIRECT($B$2&$Q$2&$A61)=\"\",\"\",INDIRECT($B$2&$Q$2&$A61))","v":""},null,{"$f":"IF(INDIRECT($B$2&$S$2&$A61)=\"\",\"\",INDIRECT($B$2&$S$2&$A61))","v":0},{"$f":"IF(INDIRECT($B$2&$T$2&$A61)=\"\",\"\",INDIRECT($B$2&$T$2&$A61))","v":0},{"$f":"IF(INDIRECT($B$2&$U$2&$A61)=\"\",\"\",INDIRECT($B$2&$U$2&$A61))","v":0},{"$f":"IF(INDIRECT($B$2&$V$2&$A61)=\"\",\"\",INDIRECT($B$2&$V$2&$A61))","v":""},{"$f":"IF(INDIRECT($B$2&$W$2&$A61)=\"\",\"\",INDIRECT($B$2&$W$2&$A61))","v":""},{"$f":"IF(INDIRECT($B$2&$X$2&$A61)=\"\",\"\",INDIRECT($B$2&$X$2&$A61))","v":""},{"$f":"IF(INDIRECT($B$2&$Y$2&$A61)=\"\",\"\",INDIRECT($B$2&$Y$2&$A61))","v":""},{"$f":"IF(INDIRECT($B$2&$Z$2&$A61)=\"\",\"\",INDIRECT($B$2&$Z$2&$A61))","v":""},null,{"$f":"IF(INDIRECT($B$2&$AB$2&$A61)=\"\",\"\",INDIRECT($B$2&$AB$2&$A61))","v":""},{"$f":"IF(INDIRECT($B$2&$AC$2&$A61)=\"\",\"\",INDIRECT($B$2&$AC$2&$A61))","v":""},{"$f":"IF(INDIRECT($B$2&$AD$2&$A61)=\"\",\"\",INDIRECT($B$2&$AD$2&$A61))","v":""},{"$f":"IF(INDIRECT($B$2&$AE$2&$A61)=\"\",\"\",INDIRECT($B$2&$AE$2&$A61))","v":""},{"$f":"IF(INDIRECT($B$2&$AF$2&$A61)=\"\",\"\",INDIRECT($B$2&$AF$2&$A61))","v":""},null,null,null,null,null,null,null,null,null,null,null,null,null,null,null,{"$f":"IF(INDIRECT($B$2&AV$2&$A61)=\"\",\"\",INDIRECT($B$2&AV$2&$A61))","v":""},{"$f":"IF(INDIRECT($B$2&AW$2&$A61)=\"\",\"\",INDIRECT($B$2&AW$2&$A61))","v":""},{"$f":"IF(INDIRECT($B$2&AX$2&$A61)=\"\",\"\",INDIRECT($B$2&AX$2&$A61))","v":""},{"$f":"IF(INDIRECT($B$2&AY$2&$A61)=\"\",\"\",INDIRECT($B$2&AY$2&$A61))","v":""},{"$f":"IF(INDIRECT($B$2&AZ$2&$A61)=\"\",\"\",INDIRECT($B$2&AZ$2&$A61))","v":""},{"$f":"IF(INDIRECT($B$2&BA$2&$A61)=\"\",\"\",INDIRECT($B$2&BA$2&$A61))","v":""},{"$f":"IF(INDIRECT($B$2&BB$2&$A61)=\"\",\"\",INDIRECT($B$2&BB$2&$A61))","v":""},{"$f":"IF(INDIRECT($B$2&BC$2&$A61)=\"\",\"\",INDIRECT($B$2&BC$2&$A61))","v":""},{"$f":"IF(INDIRECT($B$2&BD$2&$A61)=\"\",\"\",INDIRECT($B$2&BD$2&$A61))","v":""},{"$f":"IF(INDIRECT($B$2&BE$2&$A61)=\"\",\"\",INDIRECT($B$2&BE$2&$A61))","v":""},{"$f":"IF(INDIRECT($B$2&BF$2&$A61)=\"\",\"\",INDIRECT($B$2&BF$2&$A61))","v":""},{"$f":"IF(INDIRECT($B$2&BG$2&$A61)=\"\",\"\",INDIRECT($B$2&BG$2&$A61))","v":""},{"$f":"IF(INDIRECT($B$2&BH$2&$A61)=\"\",\"\",INDIRECT($B$2&BH$2&$A61))","v":""},{"$f":"IF(INDIRECT($B$2&BI$2&$A61)=\"\",\"\",INDIRECT($B$2&BI$2&$A61))","v":""},{"$f":"IF(INDIRECT($B$2&BJ$2&$A61)=\"\",\"\",INDIRECT($B$2&BJ$2&$A61))","v":""},{"$f":"IF(INDIRECT($B$2&BK$2&$A61)=\"\",\"\",INDIRECT($B$2&BK$2&$A61))","v":0},{"$f":"IF(INDIRECT($B$2&BL$2&$A61)=\"\",\"\",INDIRECT($B$2&BL$2&$A61))","v":""},{"$f":"IF(INDIRECT($B$2&BM$2&$A61)=\"\",\"\",INDIRECT($B$2&BM$2&$A61))","v":""},{"$f":"IF(INDIRECT($B$2&BN$2&$A61)=\"\",\"\",INDIRECT($B$2&BN$2&$A61))","v":""},{"$f":"IF(INDIRECT($B$2&BO$2&$A61)=\"\",\"\",INDIRECT($B$2&BO$2&$A61))","v":""},{"$f":"IF(INDIRECT($B$2&BP$2&$A61)=\"\",\"\",INDIRECT($B$2&BP$2&$A61))","v":""},{"$f":"IF(INDIRECT($B$2&BQ$2&$A61)=\"\",\"\",INDIRECT($B$2&BQ$2&$A61))","v":""},{"$f":"IF(INDIRECT($B$2&BR$2&$A61)=\"\",\"\",INDIRECT($B$2&BR$2&$A61))","v":""},{"$f":"IF(INDIRECT($B$2&BS$2&$A61)=\"\",\"\",INDIRECT($B$2&BS$2&$A61))","v":""},{"$f":"IF(INDIRECT($B$2&BT$2&$A61)=\"\",\"\",INDIRECT($B$2&BT$2&$A61))","v":""},{"$f":"IF(INDIRECT($B$2&BU$2&$A61)=\"\",\"\",INDIRECT($B$2&BU$2&$A61))","v":""},{"$f":"IF(INDIRECT($B$2&BV$2&$A61)=\"\",\"\",INDIRECT($B$2&BV$2&$A61))","v":""},{"$f":"IF(INDIRECT($B$2&BW$2&$A61)=\"\",\"\",INDIRECT($B$2&BW$2&$A61))","v":""},{"$f":"IF(INDIRECT($B$2&BX$2&$A61)=\"\",\"\",INDIRECT($B$2&BX$2&$A61))","v":""},{"$f":"IF(INDIRECT($B$2&BY$2&$A61)=\"\",\"\",INDIRECT($B$2&BY$2&$A61))","v":""},{"$f":"IF(INDIRECT($B$2&BZ$2&$A61)=\"\",\"\",INDIRECT($B$2&BZ$2&$A61))","v":0},{"$f":"IF(INDIRECT($B$2&CA$2&$A61)=\"\",\"\",INDIRECT($B$2&CA$2&$A61))","v":""},{"$f":"IF(INDIRECT($B$2&CB$2&$A61)=\"\",\"\",INDIRECT($B$2&CB$2&$A61))","v":""},{"$f":"IF(INDIRECT($B$2&CC$2&$A61)=\"\",\"\",INDIRECT($B$2&CC$2&$A61))","v":""},{"$f":"IF(INDIRECT($B$2&CD$2&$A61)=\"\",\"\",INDIRECT($B$2&CD$2&$A61))","v":""},{"$f":"IF(INDIRECT($B$2&CE$2&$A61)=\"\",\"\",INDIRECT($B$2&CE$2&$A61))","v":""},{"$f":"IF(INDIRECT($B$2&CF$2&$A61)=\"\",\"\",INDIRECT($B$2&CF$2&$A61))","v":""},{"$f":"IF(INDIRECT($B$2&CG$2&$A61)=\"\",\"\",INDIRECT($B$2&CG$2&$A61))","v":""},{"$f":"IF(INDIRECT($B$2&CH$2&$A61)=\"\",\"\",INDIRECT($B$2&CH$2&$A61))","v":""},{"$f":"IF(INDIRECT($B$2&CI$2&$A61)=\"\",\"\",INDIRECT($B$2&CI$2&$A61))","v":""},{"$f":"IF(INDIRECT($B$2&CJ$2&$A61)=\"\",\"\",INDIRECT($B$2&CJ$2&$A61))","v":""},{"$f":"IF(INDIRECT($B$2&CK$2&$A61)=\"\",\"\",INDIRECT($B$2&CK$2&$A61))","v":""},{"$f":"IF(INDIRECT($B$2&CL$2&$A61)=\"\",\"\",INDIRECT($B$2&CL$2&$A61))","v":""},{"$f":"IF(INDIRECT($B$2&CM$2&$A61)=\"\",\"\",INDIRECT($B$2&CM$2&$A61))","v":""},{"$f":"IF(INDIRECT($B$2&CN$2&$A61)=\"\",\"\",INDIRECT($B$2&CN$2&$A61))","v":""},{"$f":"IF(INDIRECT($B$2&CO$2&$A61)=\"\",\"\",INDIRECT($B$2&CO$2&$A61))","v":""},null,{"$f":"IF(INDIRECT($B$2&CQ$2&$A61)=\"\",\"\",INDIRECT($B$2&CQ$2&$A61))","v":""},{"$f":"IF(INDIRECT($B$2&CR$2&$A61)=\"\",\"\",INDIRECT($B$2&CR$2&$A61))","v":""},{"$f":"IF(INDIRECT($B$2&CS$2&$A61)=\"\",\"\",INDIRECT($B$2&CS$2&$A61))","v":""}]
[89,null,null,null,null,null,null,null,null,null,null,null,null,null,null,52,{"$f":"IF(INDIRECT($B$2&$Q$2&$A62)=\"\",\"\",INDIRECT($B$2&$Q$2&$A62))","v":""},null,{"$f":"IF(INDIRECT($B$2&$S$2&$A62)=\"\",\"\",INDIRECT($B$2&$S$2&$A62))","v":0},{"$f":"IF(INDIRECT($B$2&$T$2&$A62)=\"\",\"\",INDIRECT($B$2&$T$2&$A62))","v":0},{"$f":"IF(INDIRECT($B$2&$U$2&$A62)=\"\",\"\",INDIRECT($B$2&$U$2&$A62))","v":0},{"$f":"IF(INDIRECT($B$2&$V$2&$A62)=\"\",\"\",INDIRECT($B$2&$V$2&$A62))","v":""},{"$f":"IF(INDIRECT($B$2&$W$2&$A62)=\"\",\"\",INDIRECT($B$2&$W$2&$A62))","v":""},{"$f":"IF(INDIRECT($B$2&$X$2&$A62)=\"\",\"\",INDIRECT($B$2&$X$2&$A62))","v":""},{"$f":"IF(INDIRECT($B$2&$Y$2&$A62)=\"\",\"\",INDIRECT($B$2&$Y$2&$A62))","v":""},{"$f":"IF(INDIRECT($B$2&$Z$2&$A62)=\"\",\"\",INDIRECT($B$2&$Z$2&$A62))","v":""},null,{"$f":"IF(INDIRECT($B$2&$AB$2&$A62)=\"\",\"\",INDIRECT($B$2&$AB$2&$A62))","v":""},{"$f":"IF(INDIRECT($B$2&$AC$2&$A62)=\"\",\"\",INDIRECT($B$2&$AC$2&$A62))","v":""},{"$f":"IF(INDIRECT($B$2&$AD$2&$A62)=\"\",\"\",INDIRECT($B$2&$AD$2&$A62))","v":""},{"$f":"IF(INDIRECT($B$2&$AE$2&$A62)=\"\",\"\",INDIRECT($B$2&$AE$2&$A62))","v":""},{"$f":"IF(INDIRECT($B$2&$AF$2&$A62)=\"\",\"\",INDIRECT($B$2&$AF$2&$A62))","v":""},null,null,null,null,null,null,null,null,null,null,null,null,null,null,null,{"$f":"IF(INDIRECT($B$2&AV$2&$A62)=\"\",\"\",INDIRECT($B$2&AV$2&$A62))","v":""},{"$f":"IF(INDIRECT($B$2&AW$2&$A62)=\"\",\"\",INDIRECT($B$2&AW$2&$A62))","v":""},{"$f":"IF(INDIRECT($B$2&AX$2&$A62)=\"\",\"\",INDIRECT($B$2&AX$2&$A62))","v":""},{"$f":"IF(INDIRECT($B$2&AY$2&$A62)=\"\",\"\",INDIRECT($B$2&AY$2&$A62))","v":""},{"$f":"IF(INDIRECT($B$2&AZ$2&$A62)=\"\",\"\",INDIRECT($B$2&AZ$2&$A62))","v":""},{"$f":"IF(INDIRECT($B$2&BA$2&$A62)=\"\",\"\",INDIRECT($B$2&BA$2&$A62))","v":""},{"$f":"IF(INDIRECT($B$2&BB$2&$A62)=\"\",\"\",INDIRECT($B$2&BB$2&$A62))","v":""},{"$f":"IF(INDIRECT($B$2&BC$2&$A62)=\"\",\"\",INDIRECT($B$2&BC$2&$A62))","v":""},{"$f":"IF(INDIRECT($B$2&BD$2&$A62)=\"\",\"\",INDIRECT($B$2&BD$2&$A62))","v":""},{"$f":"IF(INDIRECT($B$2&BE$2&$A62)=\"\",\"\",INDIRECT($B$2&BE$2&$A62))","v":""},{"$f":"IF(INDIRECT($B$2&BF$2&$A62)=\"\",\"\",INDIRECT($B$2&BF$2&$A62))","v":""},{"$f":"IF(INDIRECT($B$2&BG$2&$A62)=\"\",\"\",INDIRECT($B$2&BG$2&$A62))","v":""},{"$f":"IF(INDIRECT($B$2&BH$2&$A62)=\"\",\"\",INDIRECT($B$2&BH$2&$A62))","v":""},{"$f":"IF(INDIRECT($B$2&BI$2&$A62)=\"\",\"\",INDIRECT($B$2&BI$2&$A62))","v":""},{"$f":"IF(INDIRECT($B$2&BJ$2&$A62)=\"\",\"\",INDIRECT($B$2&BJ$2&$A62))","v":""},{"$f":"IF(INDIRECT($B$2&BK$2&$A62)=\"\",\"\",INDIRECT($B$2&BK$2&$A62))","v":0},{"$f":"IF(INDIRECT($B$2&BL$2&$A62)=\"\",\"\",INDIRECT($B$2&BL$2&$A62))","v":""},{"$f":"IF(INDIRECT($B$2&BM$2&$A62)=\"\",\"\",INDIRECT($B$2&BM$2&$A62))","v":""},{"$f":"IF(INDIRECT($B$2&BN$2&$A62)=\"\",\"\",INDIRECT($B$2&BN$2&$A62))","v":""},{"$f":"IF(INDIRECT($B$2&BO$2&$A62)=\"\",\"\",INDIRECT($B$2&BO$2&$A62))","v":""},{"$f":"IF(INDIRECT($B$2&BP$2&$A62)=\"\",\"\",INDIRECT($B$2&BP$2&$A62))","v":""},{"$f":"IF(INDIRECT($B$2&BQ$2&$A62)=\"\",\"\",INDIRECT($B$2&BQ$2&$A62))","v":""},{"$f":"IF(INDIRECT($B$2&BR$2&$A62)=\"\",\"\",INDIRECT($B$2&BR$2&$A62))","v":""},{"$f":"IF(INDIRECT($B$2&BS$2&$A62)=\"\",\"\",INDIRECT($B$2&BS$2&$A62))","v":""},{"$f":"IF(INDIRECT($B$2&BT$2&$A62)=\"\",\"\",INDIRECT($B$2&BT$2&$A62))","v":""},{"$f":"IF(INDIRECT($B$2&BU$2&$A62)=\"\",\"\",INDIRECT($B$2&BU$2&$A62))","v":""},{"$f":"IF(INDIRECT($B$2&BV$2&$A62)=\"\",\"\",INDIRECT($B$2&BV$2&$A62))","v":""},{"$f":"IF(INDIRECT($B$2&BW$2&$A62)=\"\",\"\",INDIRECT($B$2&BW$2&$A62))","v":""},{"$f":"IF(INDIRECT($B$2&BX$2&$A62)=\"\",\"\",INDIRECT($B$2&BX$2&$A62))","v":""},{"$f":"IF(INDIRECT($B$2&BY$2&$A62)=\"\",\"\",INDIRECT($B$2&BY$2&$A62))","v":""},{"$f":"IF(INDIRECT($B$2&BZ$2&$A62)=\"\",\"\",INDIRECT($B$2&BZ$2&$A62))","v":0},{"$f":"IF(INDIRECT($B$2&CA$2&$A62)=\"\",\"\",INDIRECT($B$2&CA$2&$A62))","v":""},{"$f":"IF(INDIRECT($B$2&CB$2&$A62)=\"\",\"\",INDIRECT($B$2&CB$2&$A62))","v":""},{"$f":"IF(INDIRECT($B$2&CC$2&$A62)=\"\",\"\",INDIRECT($B$2&CC$2&$A62))","v":""},{"$f":"IF(INDIRECT($B$2&CD$2&$A62)=\"\",\"\",INDIRECT($B$2&CD$2&$A62))","v":""},{"$f":"IF(INDIRECT($B$2&CE$2&$A62)=\"\",\"\",INDIRECT($B$2&CE$2&$A62))","v":""},{"$f":"IF(INDIRECT($B$2&CF$2&$A62)=\"\",\"\",INDIRECT($B$2&CF$2&$A62))","v":""},{"$f":"IF(INDIRECT($B$2&CG$2&$A62)=\"\",\"\",INDIRECT($B$2&CG$2&$A62))","v":""},{"$f":"IF(INDIRECT($B$2&CH$2&$A62)=\"\",\"\",INDIRECT($B$2&CH$2&$A62))","v":""},{"$f":"IF(INDIRECT($B$2&CI$2&$A62)=\"\",\"\",INDIRECT($B$2&CI$2&$A62))","v":""},{"$f":"IF(INDIRECT($B$2&CJ$2&$A62)=\"\",\"\",INDIRECT($B$2&CJ$2&$A62))","v":""},{"$f":"IF(INDIRECT($B$2&CK$2&$A62)=\"\",\"\",INDIRECT($B$2&CK$2&$A62))","v":""},{"$f":"IF(INDIRECT($B$2&CL$2&$A62)=\"\",\"\",INDIRECT($B$2&CL$2&$A62))","v":""},{"$f":"IF(INDIRECT($B$2&CM$2&$A62)=\"\",\"\",INDIRECT($B$2&CM$2&$A62))","v":""},{"$f":"IF(INDIRECT($B$2&CN$2&$A62)=\"\",\"\",INDIRECT($B$2&CN$2&$A62))","v":""},{"$f":"IF(INDIRECT($B$2&CO$2&$A62)=\"\",\"\",INDIRECT($B$2&CO$2&$A62))","v":""},null,{"$f":"IF(INDIRECT($B$2&CQ$2&$A62)=\"\",\"\",INDIRECT($B$2&CQ$2&$A62))","v":""},{"$f":"IF(INDIRECT($B$2&CR$2&$A62)=\"\",\"\",INDIRECT($B$2&CR$2&$A62))","v":""},{"$f":"IF(INDIRECT($B$2&CS$2&$A62)=\"\",\"\",INDIRECT($B$2&CS$2&$A62))","v":""}]
[90,null,null,null,null,null,null,null,null,null,null,null,null,null,null,53,{"$f":"IF(INDIRECT($B$2&$Q$2&$A63)=\"\",\"\",INDIRECT($B$2&$Q$2&$A63))","v":""},null,{"$f":"IF(INDIRECT($B$2&$S$2&$A63)=\"\",\"\",INDIRECT($B$2&$S$2&$A63))","v":0},{"$f":"IF(INDIRECT($B$2&$T$2&$A63)=\"\",\"\",INDIRECT($B$2&$T$2&$A63))","v":0},{"$f":"IF(INDIRECT($B$2&$U$2&$A63)=\"\",\"\",INDIRECT($B$2&$U$2&$A63))","v":0},{"$f":"IF(INDIRECT($B$2&$V$2&$A63)=\"\",\"\",INDIRECT($B$2&$V$2&$A63))","v":""},{"$f":"IF(INDIRECT($B$2&$W$2&$A63)=\"\",\"\",INDIRECT($B$2&$W$2&$A63))","v":""},{"$f":"IF(INDIRECT($B$2&$X$2&$A63)=\"\",\"\",INDIRECT($B$2&$X$2&$A63))","v":""},{"$f":"IF(INDIRECT($B$2&$Y$2&$A63)=\"\",\"\",INDIRECT($B$2&$Y$2&$A63))","v":""},{"$f":"IF(INDIRECT($B$2&$Z$2&$A63)=\"\",\"\",INDIRECT($B$2&$Z$2&$A63))","v":""},null,{"$f":"IF(INDIRECT($B$2&$AB$2&$A63)=\"\",\"\",INDIRECT($B$2&$AB$2&$A63))","v":""},{"$f":"IF(INDIRECT($B$2&$AC$2&$A63)=\"\",\"\",INDIRECT($B$2&$AC$2&$A63))","v":""},{"$f":"IF(INDIRECT($B$2&$AD$2&$A63)=\"\",\"\",INDIRECT($B$2&$AD$2&$A63))","v":""},{"$f":"IF(INDIRECT($B$2&$AE$2&$A63)=\"\",\"\",INDIRECT($B$2&$AE$2&$A63))","v":""},{"$f":"IF(INDIRECT($B$2&$AF$2&$A63)=\"\",\"\",INDIRECT($B$2&$AF$2&$A63))","v":""},null,null,null,null,null,null,null,null,null,null,null,null,null,null,null,{"$f":"IF(INDIRECT($B$2&AV$2&$A63)=\"\",\"\",INDIRECT($B$2&AV$2&$A63))","v":""},{"$f":"IF(INDIRECT($B$2&AW$2&$A63)=\"\",\"\",INDIRECT($B$2&AW$2&$A63))","v":""},{"$f":"IF(INDIRECT($B$2&AX$2&$A63)=\"\",\"\",INDIRECT($B$2&AX$2&$A63))","v":""},{"$f":"IF(INDIRECT($B$2&AY$2&$A63)=\"\",\"\",INDIRECT($B$2&AY$2&$A63))","v":""},{"$f":"IF(INDIRECT($B$2&AZ$2&$A63)=\"\",\"\",INDIRECT($B$2&AZ$2&$A63))","v":""},{"$f":"IF(INDIRECT($B$2&BA$2&$A63)=\"\",\"\",INDIRECT($B$2&BA$2&$A63))","v":""},{"$f":"IF(INDIRECT($B$2&BB$2&$A63)=\"\",\"\",INDIRECT($B$2&BB$2&$A63))","v":""},{"$f":"IF(INDIRECT($B$2&BC$2&$A63)=\"\",\"\",INDIRECT($B$2&BC$2&$A63))","v":""},{"$f":"IF(INDIRECT($B$2&BD$2&$A63)=\"\",\"\",INDIRECT($B$2&BD$2&$A63))","v":""},{"$f":"IF(INDIRECT($B$2&BE$2&$A63)=\"\",\"\",INDIRECT($B$2&BE$2&$A63))","v":""},{"$f":"IF(INDIRECT($B$2&BF$2&$A63)=\"\",\"\",INDIRECT($B$2&BF$2&$A63))","v":""},{"$f":"IF(INDIRECT($B$2&BG$2&$A63)=\"\",\"\",INDIRECT($B$2&BG$2&$A63))","v":""},{"$f":"IF(INDIRECT($B$2&BH$2&$A63)=\"\",\"\",INDIRECT($B$2&BH$2&$A63))","v":""},{"$f":"IF(INDIRECT($B$2&BI$2&$A63)=\"\",\"\",INDIRECT($B$2&BI$2&$A63))","v":""},{"$f":"IF(INDIRECT($B$2&BJ$2&$A63)=\"\",\"\",INDIRECT($B$2&BJ$2&$A63))","v":""},{"$f":"IF(INDIRECT($B$2&BK$2&$A63)=\"\",\"\",INDIRECT($B$2&BK$2&$A63))","v":0},{"$f":"IF(INDIRECT($B$2&BL$2&$A63)=\"\",\"\",INDIRECT($B$2&BL$2&$A63))","v":""},{"$f":"IF(INDIRECT($B$2&BM$2&$A63)=\"\",\"\",INDIRECT($B$2&BM$2&$A63))","v":""},{"$f":"IF(INDIRECT($B$2&BN$2&$A63)=\"\",\"\",INDIRECT($B$2&BN$2&$A63))","v":""},{"$f":"IF(INDIRECT($B$2&BO$2&$A63)=\"\",\"\",INDIRECT($B$2&BO$2&$A63))","v":""},{"$f":"IF(INDIRECT($B$2&BP$2&$A63)=\"\",\"\",INDIRECT($B$2&BP$2&$A63))","v":""},{"$f":"IF(INDIRECT($B$2&BQ$2&$A63)=\"\",\"\",INDIRECT($B$2&BQ$2&$A63))","v":""},{"$f":"IF(INDIRECT($B$2&BR$2&$A63)=\"\",\"\",INDIRECT($B$2&BR$2&$A63))","v":""},{"$f":"IF(INDIRECT($B$2&BS$2&$A63)=\"\",\"\",INDIRECT($B$2&BS$2&$A63))","v":""},{"$f":"IF(INDIRECT($B$2&BT$2&$A63)=\"\",\"\",INDIRECT($B$2&BT$2&$A63))","v":""},{"$f":"IF(INDIRECT($B$2&BU$2&$A63)=\"\",\"\",INDIRECT($B$2&BU$2&$A63))","v":""},{"$f":"IF(INDIRECT($B$2&BV$2&$A63)=\"\",\"\",INDIRECT($B$2&BV$2&$A63))","v":""},{"$f":"IF(INDIRECT($B$2&BW$2&$A63)=\"\",\"\",INDIRECT($B$2&BW$2&$A63))","v":""},{"$f":"IF(INDIRECT($B$2&BX$2&$A63)=\"\",\"\",INDIRECT($B$2&BX$2&$A63))","v":""},{"$f":"IF(INDIRECT($B$2&BY$2&$A63)=\"\",\"\",INDIRECT($B$2&BY$2&$A63))","v":""},{"$f":"IF(INDIRECT($B$2&BZ$2&$A63)=\"\",\"\",INDIRECT($B$2&BZ$2&$A63))","v":0},{"$f":"IF(INDIRECT($B$2&CA$2&$A63)=\"\",\"\",INDIRECT($B$2&CA$2&$A63))","v":""},{"$f":"IF(INDIRECT($B$2&CB$2&$A63)=\"\",\"\",INDIRECT($B$2&CB$2&$A63))","v":""},{"$f":"IF(INDIRECT($B$2&CC$2&$A63)=\"\",\"\",INDIRECT($B$2&CC$2&$A63))","v":""},{"$f":"IF(INDIRECT($B$2&CD$2&$A63)=\"\",\"\",INDIRECT($B$2&CD$2&$A63))","v":""},{"$f":"IF(INDIRECT($B$2&CE$2&$A63)=\"\",\"\",INDIRECT($B$2&CE$2&$A63))","v":""},{"$f":"IF(INDIRECT($B$2&CF$2&$A63)=\"\",\"\",INDIRECT($B$2&CF$2&$A63))","v":""},{"$f":"IF(INDIRECT($B$2&CG$2&$A63)=\"\",\"\",INDIRECT($B$2&CG$2&$A63))","v":""},{"$f":"IF(INDIRECT($B$2&CH$2&$A63)=\"\",\"\",INDIRECT($B$2&CH$2&$A63))","v":""},{"$f":"IF(INDIRECT($B$2&CI$2&$A63)=\"\",\"\",INDIRECT($B$2&CI$2&$A63))","v":""},{"$f":"IF(INDIRECT($B$2&CJ$2&$A63)=\"\",\"\",INDIRECT($B$2&CJ$2&$A63))","v":""},{"$f":"IF(INDIRECT($B$2&CK$2&$A63)=\"\",\"\",INDIRECT($B$2&CK$2&$A63))","v":""},{"$f":"IF(INDIRECT($B$2&CL$2&$A63)=\"\",\"\",INDIRECT($B$2&CL$2&$A63))","v":""},{"$f":"IF(INDIRECT($B$2&CM$2&$A63)=\"\",\"\",INDIRECT($B$2&CM$2&$A63))","v":""},{"$f":"IF(INDIRECT($B$2&CN$2&$A63)=\"\",\"\",INDIRECT($B$2&CN$2&$A63))","v":""},{"$f":"IF(INDIRECT($B$2&CO$2&$A63)=\"\",\"\",INDIRECT($B$2&CO$2&$A63))","v":""},null,{"$f":"IF(INDIRECT($B$2&CQ$2&$A63)=\"\",\"\",INDIRECT($B$2&CQ$2&$A63))","v":""},{"$f":"IF(INDIRECT($B$2&CR$2&$A63)=\"\",\"\",INDIRECT($B$2&CR$2&$A63))","v":""},{"$f":"IF(INDIRECT($B$2&CS$2&$A63)=\"\",\"\",INDIRECT($B$2&CS$2&$A63))","v":""}]
[91,null,null,null,null,null,null,null,null,null,null,null,null,null,null,54,{"$f":"IF(INDIRECT($B$2&$Q$2&$A64)=\"\",\"\",INDIRECT($B$2&$Q$2&$A64))","v":""},null,{"$f":"IF(INDIRECT($B$2&$S$2&$A64)=\"\",\"\",INDIRECT($B$2&$S$2&$A64))","v":0},{"$f":"IF(INDIRECT($B$2&$T$2&$A64)=\"\",\"\",INDIRECT($B$2&$T$2&$A64))","v":0},{"$f":"IF(INDIRECT($B$2&$U$2&$A64)=\"\",\"\",INDIRECT($B$2&$U$2&$A64))","v":0},{"$f":"IF(INDIRECT($B$2&$V$2&$A64)=\"\",\"\",INDIRECT($B$2&$V$2&$A64))","v":""},{"$f":"IF(INDIRECT($B$2&$W$2&$A64)=\"\",\"\",INDIRECT($B$2&$W$2&$A64))","v":""},{"$f":"IF(INDIRECT($B$2&$X$2&$A64)=\"\",\"\",INDIRECT($B$2&$X$2&$A64))","v":""},{"$f":"IF(INDIRECT($B$2&$Y$2&$A64)=\"\",\"\",INDIRECT($B$2&$Y$2&$A64))","v":""},{"$f":"IF(INDIRECT($B$2&$Z$2&$A64)=\"\",\"\",INDIRECT($B$2&$Z$2&$A64))","v":""},null,{"$f":"IF(INDIRECT($B$2&$AB$2&$A64)=\"\",\"\",INDIRECT($B$2&$AB$2&$A64))","v":""},{"$f":"IF(INDIRECT($B$2&$AC$2&$A64)=\"\",\"\",INDIRECT($B$2&$AC$2&$A64))","v":""},{"$f":"IF(INDIRECT($B$2&$AD$2&$A64)=\"\",\"\",INDIRECT($B$2&$AD$2&$A64))","v":""},{"$f":"IF(INDIRECT($B$2&$AE$2&$A64)=\"\",\"\",INDIRECT($B$2&$AE$2&$A64))","v":""},{"$f":"IF(INDIRECT($B$2&$AF$2&$A64)=\"\",\"\",INDIRECT($B$2&$AF$2&$A64))","v":""},null,null,null,null,null,null,null,null,null,null,null,null,null,null,null,{"$f":"IF(INDIRECT($B$2&AV$2&$A64)=\"\",\"\",INDIRECT($B$2&AV$2&$A64))","v":""},{"$f":"IF(INDIRECT($B$2&AW$2&$A64)=\"\",\"\",INDIRECT($B$2&AW$2&$A64))","v":""},{"$f":"IF(INDIRECT($B$2&AX$2&$A64)=\"\",\"\",INDIRECT($B$2&AX$2&$A64))","v":""},{"$f":"IF(INDIRECT($B$2&AY$2&$A64)=\"\",\"\",INDIRECT($B$2&AY$2&$A64))","v":""},{"$f":"IF(INDIRECT($B$2&AZ$2&$A64)=\"\",\"\",INDIRECT($B$2&AZ$2&$A64))","v":""},{"$f":"IF(INDIRECT($B$2&BA$2&$A64)=\"\",\"\",INDIRECT($B$2&BA$2&$A64))","v":""},{"$f":"IF(INDIRECT($B$2&BB$2&$A64)=\"\",\"\",INDIRECT($B$2&BB$2&$A64))","v":""},{"$f":"IF(INDIRECT($B$2&BC$2&$A64)=\"\",\"\",INDIRECT($B$2&BC$2&$A64))","v":""},{"$f":"IF(INDIRECT($B$2&BD$2&$A64)=\"\",\"\",INDIRECT($B$2&BD$2&$A64))","v":""},{"$f":"IF(INDIRECT($B$2&BE$2&$A64)=\"\",\"\",INDIRECT($B$2&BE$2&$A64))","v":""},{"$f":"IF(INDIRECT($B$2&BF$2&$A64)=\"\",\"\",INDIRECT($B$2&BF$2&$A64))","v":""},{"$f":"IF(INDIRECT($B$2&BG$2&$A64)=\"\",\"\",INDIRECT($B$2&BG$2&$A64))","v":""},{"$f":"IF(INDIRECT($B$2&BH$2&$A64)=\"\",\"\",INDIRECT($B$2&BH$2&$A64))","v":""},{"$f":"IF(INDIRECT($B$2&BI$2&$A64)=\"\",\"\",INDIRECT($B$2&BI$2&$A64))","v":""},{"$f":"IF(INDIRECT($B$2&BJ$2&$A64)=\"\",\"\",INDIRECT($B$2&BJ$2&$A64))","v":""},{"$f":"IF(INDIRECT($B$2&BK$2&$A64)=\"\",\"\",INDIRECT($B$2&BK$2&$A64))","v":0},{"$f":"IF(INDIRECT($B$2&BL$2&$A64)=\"\",\"\",INDIRECT($B$2&BL$2&$A64))","v":""},{"$f":"IF(INDIRECT($B$2&BM$2&$A64)=\"\",\"\",INDIRECT($B$2&BM$2&$A64))","v":""},{"$f":"IF(INDIRECT($B$2&BN$2&$A64)=\"\",\"\",INDIRECT($B$2&BN$2&$A64))","v":""},{"$f":"IF(INDIRECT($B$2&BO$2&$A64)=\"\",\"\",INDIRECT($B$2&BO$2&$A64))","v":""},{"$f":"IF(INDIRECT($B$2&BP$2&$A64)=\"\",\"\",INDIRECT($B$2&BP$2&$A64))","v":""},{"$f":"IF(INDIRECT($B$2&BQ$2&$A64)=\"\",\"\",INDIRECT($B$2&BQ$2&$A64))","v":""},{"$f":"IF(INDIRECT($B$2&BR$2&$A64)=\"\",\"\",INDIRECT($B$2&BR$2&$A64))","v":""},{"$f":"IF(INDIRECT($B$2&BS$2&$A64)=\"\",\"\",INDIRECT($B$2&BS$2&$A64))","v":""},{"$f":"IF(INDIRECT($B$2&BT$2&$A64)=\"\",\"\",INDIRECT($B$2&BT$2&$A64))","v":""},{"$f":"IF(INDIRECT($B$2&BU$2&$A64)=\"\",\"\",INDIRECT($B$2&BU$2&$A64))","v":""},{"$f":"IF(INDIRECT($B$2&BV$2&$A64)=\"\",\"\",INDIRECT($B$2&BV$2&$A64))","v":""},{"$f":"IF(INDIRECT($B$2&BW$2&$A64)=\"\",\"\",INDIRECT($B$2&BW$2&$A64))","v":""},{"$f":"IF(INDIRECT($B$2&BX$2&$A64)=\"\",\"\",INDIRECT($B$2&BX$2&$A64))","v":""},{"$f":"IF(INDIRECT($B$2&BY$2&$A64)=\"\",\"\",INDIRECT($B$2&BY$2&$A64))","v":""},{"$f":"IF(INDIRECT($B$2&BZ$2&$A64)=\"\",\"\",INDIRECT($B$2&BZ$2&$A64))","v":0},{"$f":"IF(INDIRECT($B$2&CA$2&$A64)=\"\",\"\",INDIRECT($B$2&CA$2&$A64))","v":""},{"$f":"IF(INDIRECT($B$2&CB$2&$A64)=\"\",\"\",INDIRECT($B$2&CB$2&$A64))","v":""},{"$f":"IF(INDIRECT($B$2&CC$2&$A64)=\"\",\"\",INDIRECT($B$2&CC$2&$A64))","v":""},{"$f":"IF(INDIRECT($B$2&CD$2&$A64)=\"\",\"\",INDIRECT($B$2&CD$2&$A64))","v":""},{"$f":"IF(INDIRECT($B$2&CE$2&$A64)=\"\",\"\",INDIRECT($B$2&CE$2&$A64))","v":""},{"$f":"IF(INDIRECT($B$2&CF$2&$A64)=\"\",\"\",INDIRECT($B$2&CF$2&$A64))","v":""},{"$f":"IF(INDIRECT($B$2&CG$2&$A64)=\"\",\"\",INDIRECT($B$2&CG$2&$A64))","v":""},{"$f":"IF(INDIRECT($B$2&CH$2&$A64)=\"\",\"\",INDIRECT($B$2&CH$2&$A64))","v":""},{"$f":"IF(INDIRECT($B$2&CI$2&$A64)=\"\",\"\",INDIRECT($B$2&CI$2&$A64))","v":""},{"$f":"IF(INDIRECT($B$2&CJ$2&$A64)=\"\",\"\",INDIRECT($B$2&CJ$2&$A64))","v":""},{"$f":"IF(INDIRECT($B$2&CK$2&$A64)=\"\",\"\",INDIRECT($B$2&CK$2&$A64))","v":""},{"$f":"IF(INDIRECT($B$2&CL$2&$A64)=\"\",\"\",INDIRECT($B$2&CL$2&$A64))","v":""},{"$f":"IF(INDIRECT($B$2&CM$2&$A64)=\"\",\"\",INDIRECT($B$2&CM$2&$A64))","v":""},{"$f":"IF(INDIRECT($B$2&CN$2&$A64)=\"\",\"\",INDIRECT($B$2&CN$2&$A64))","v":""},{"$f":"IF(INDIRECT($B$2&CO$2&$A64)=\"\",\"\",INDIRECT($B$2&CO$2&$A64))","v":""},null,{"$f":"IF(INDIRECT($B$2&CQ$2&$A64)=\"\",\"\",INDIRECT($B$2&CQ$2&$A64))","v":""},{"$f":"IF(INDIRECT($B$2&CR$2&$A64)=\"\",\"\",INDIRECT($B$2&CR$2&$A64))","v":""},{"$f":"IF(INDIRECT($B$2&CS$2&$A64)=\"\",\"\",INDIRECT($B$2&CS$2&$A64))","v":""}]
[92,null,null,null,null,null,null,null,null,null,null,null,null,null,null,55,{"$f":"IF(INDIRECT($B$2&$Q$2&$A65)=\"\",\"\",INDIRECT($B$2&$Q$2&$A65))","v":""},null,{"$f":"IF(INDIRECT($B$2&$S$2&$A65)=\"\",\"\",INDIRECT($B$2&$S$2&$A65))","v":0},{"$f":"IF(INDIRECT($B$2&$T$2&$A65)=\"\",\"\",INDIRECT($B$2&$T$2&$A65))","v":0},{"$f":"IF(INDIRECT($B$2&$U$2&$A65)=\"\",\"\",INDIRECT($B$2&$U$2&$A65))","v":0},{"$f":"IF(INDIRECT($B$2&$V$2&$A65)=\"\",\"\",INDIRECT($B$2&$V$2&$A65))","v":""},{"$f":"IF(INDIRECT($B$2&$W$2&$A65)=\"\",\"\",INDIRECT($B$2&$W$2&$A65))","v":""},{"$f":"IF(INDIRECT($B$2&$X$2&$A65)=\"\",\"\",INDIRECT($B$2&$X$2&$A65))","v":""},{"$f":"IF(INDIRECT($B$2&$Y$2&$A65)=\"\",\"\",INDIRECT($B$2&$Y$2&$A65))","v":""},{"$f":"IF(INDIRECT($B$2&$Z$2&$A65)=\"\",\"\",INDIRECT($B$2&$Z$2&$A65))","v":""},null,{"$f":"IF(INDIRECT($B$2&$AB$2&$A65)=\"\",\"\",INDIRECT($B$2&$AB$2&$A65))","v":""},{"$f":"IF(INDIRECT($B$2&$AC$2&$A65)=\"\",\"\",INDIRECT($B$2&$AC$2&$A65))","v":""},{"$f":"IF(INDIRECT($B$2&$AD$2&$A65)=\"\",\"\",INDIRECT($B$2&$AD$2&$A65))","v":""},{"$f":"IF(INDIRECT($B$2&$AE$2&$A65)=\"\",\"\",INDIRECT($B$2&$AE$2&$A65))","v":""},{"$f":"IF(INDIRECT($B$2&$AF$2&$A65)=\"\",\"\",INDIRECT($B$2&$AF$2&$A65))","v":""},null,null,null,null,null,null,null,null,null,null,null,null,null,null,null,{"$f":"IF(INDIRECT($B$2&AV$2&$A65)=\"\",\"\",INDIRECT($B$2&AV$2&$A65))","v":""},{"$f":"IF(INDIRECT($B$2&AW$2&$A65)=\"\",\"\",INDIRECT($B$2&AW$2&$A65))","v":""},{"$f":"IF(INDIRECT($B$2&AX$2&$A65)=\"\",\"\",INDIRECT($B$2&AX$2&$A65))","v":""},{"$f":"IF(INDIRECT($B$2&AY$2&$A65)=\"\",\"\",INDIRECT($B$2&AY$2&$A65))","v":""},{"$f":"IF(INDIRECT($B$2&AZ$2&$A65)=\"\",\"\",INDIRECT($B$2&AZ$2&$A65))","v":""},{"$f":"IF(INDIRECT($B$2&BA$2&$A65)=\"\",\"\",INDIRECT($B$2&BA$2&$A65))","v":""},{"$f":"IF(INDIRECT($B$2&BB$2&$A65)=\"\",\"\",INDIRECT($B$2&BB$2&$A65))","v":""},{"$f":"IF(INDIRECT($B$2&BC$2&$A65)=\"\",\"\",INDIRECT($B$2&BC$2&$A65))","v":""},{"$f":"IF(INDIRECT($B$2&BD$2&$A65)=\"\",\"\",INDIRECT($B$2&BD$2&$A65))","v":""},{"$f":"IF(INDIRECT($B$2&BE$2&$A65)=\"\",\"\",INDIRECT($B$2&BE$2&$A65))","v":""},{"$f":"IF(INDIRECT($B$2&BF$2&$A65)=\"\",\"\",INDIRECT($B$2&BF$2&$A65))","v":""},{"$f":"IF(INDIRECT($B$2&BG$2&$A65)=\"\",\"\",INDIRECT($B$2&BG$2&$A65))","v":""},{"$f":"IF(INDIRECT($B$2&BH$2&$A65)=\"\",\"\",INDIRECT($B$2&BH$2&$A65))","v":""},{"$f":"IF(INDIRECT($B$2&BI$2&$A65)=\"\",\"\",INDIRECT($B$2&BI$2&$A65))","v":""},{"$f":"IF(INDIRECT($B$2&BJ$2&$A65)=\"\",\"\",INDIRECT($B$2&BJ$2&$A65))","v":""},{"$f":"IF(INDIRECT($B$2&BK$2&$A65)=\"\",\"\",INDIRECT($B$2&BK$2&$A65))","v":0},{"$f":"IF(INDIRECT($B$2&BL$2&$A65)=\"\",\"\",INDIRECT($B$2&BL$2&$A65))","v":""},{"$f":"IF(INDIRECT($B$2&BM$2&$A65)=\"\",\"\",INDIRECT($B$2&BM$2&$A65))","v":""},{"$f":"IF(INDIRECT($B$2&BN$2&$A65)=\"\",\"\",INDIRECT($B$2&BN$2&$A65))","v":""},{"$f":"IF(INDIRECT($B$2&BO$2&$A65)=\"\",\"\",INDIRECT($B$2&BO$2&$A65))","v":""},{"$f":"IF(INDIRECT($B$2&BP$2&$A65)=\"\",\"\",INDIRECT($B$2&BP$2&$A65))","v":""},{"$f":"IF(INDIRECT($B$2&BQ$2&$A65)=\"\",\"\",INDIRECT($B$2&BQ$2&$A65))","v":""},{"$f":"IF(INDIRECT($B$2&BR$2&$A65)=\"\",\"\",INDIRECT($B$2&BR$2&$A65))","v":""},{"$f":"IF(INDIRECT($B$2&BS$2&$A65)=\"\",\"\",INDIRECT($B$2&BS$2&$A65))","v":""},{"$f":"IF(INDIRECT($B$2&BT$2&$A65)=\"\",\"\",INDIRECT($B$2&BT$2&$A65))","v":""},{"$f":"IF(INDIRECT($B$2&BU$2&$A65)=\"\",\"\",INDIRECT($B$2&BU$2&$A65))","v":""},{"$f":"IF(INDIRECT($B$2&BV$2&$A65)=\"\",\"\",INDIRECT($B$2&BV$2&$A65))","v":""},{"$f":"IF(INDIRECT($B$2&BW$2&$A65)=\"\",\"\",INDIRECT($B$2&BW$2&$A65))","v":""},{"$f":"IF(INDIRECT($B$2&BX$2&$A65)=\"\",\"\",INDIRECT($B$2&BX$2&$A65))","v":""},{"$f":"IF(INDIRECT($B$2&BY$2&$A65)=\"\",\"\",INDIRECT($B$2&BY$2&$A65))","v":""},{"$f":"IF(INDIRECT($B$2&BZ$2&$A65)=\"\",\"\",INDIRECT($B$2&BZ$2&$A65))","v":0},{"$f":"IF(INDIRECT($B$2&CA$2&$A65)=\"\",\"\",INDIRECT($B$2&CA$2&$A65))","v":""},{"$f":"IF(INDIRECT($B$2&CB$2&$A65)=\"\",\"\",INDIRECT($B$2&CB$2&$A65))","v":""},{"$f":"IF(INDIRECT($B$2&CC$2&$A65)=\"\",\"\",INDIRECT($B$2&CC$2&$A65))","v":""},{"$f":"IF(INDIRECT($B$2&CD$2&$A65)=\"\",\"\",INDIRECT($B$2&CD$2&$A65))","v":""},{"$f":"IF(INDIRECT($B$2&CE$2&$A65)=\"\",\"\",INDIRECT($B$2&CE$2&$A65))","v":""},{"$f":"IF(INDIRECT($B$2&CF$2&$A65)=\"\",\"\",INDIRECT($B$2&CF$2&$A65))","v":""},{"$f":"IF(INDIRECT($B$2&CG$2&$A65)=\"\",\"\",INDIRECT($B$2&CG$2&$A65))","v":""},{"$f":"IF(INDIRECT($B$2&CH$2&$A65)=\"\",\"\",INDIRECT($B$2&CH$2&$A65))","v":""},{"$f":"IF(INDIRECT($B$2&CI$2&$A65)=\"\",\"\",INDIRECT($B$2&CI$2&$A65))","v":""},{"$f":"IF(INDIRECT($B$2&CJ$2&$A65)=\"\",\"\",INDIRECT($B$2&CJ$2&$A65))","v":""},{"$f":"IF(INDIRECT($B$2&CK$2&$A65)=\"\",\"\",INDIRECT($B$2&CK$2&$A65))","v":""},{"$f":"IF(INDIRECT($B$2&CL$2&$A65)=\"\",\"\",INDIRECT($B$2&CL$2&$A65))","v":""},{"$f":"IF(INDIRECT($B$2&CM$2&$A65)=\"\",\"\",INDIRECT($B$2&CM$2&$A65))","v":""},{"$f":"IF(INDIRECT($B$2&CN$2&$A65)=\"\",\"\",INDIRECT($B$2&CN$2&$A65))","v":""},{"$f":"IF(INDIRECT($B$2&CO$2&$A65)=\"\",\"\",INDIRECT($B$2&CO$2&$A65))","v":""},null,{"$f":"IF(INDIRECT($B$2&CQ$2&$A65)=\"\",\"\",INDIRECT($B$2&CQ$2&$A65))","v":""},{"$f":"IF(INDIRECT($B$2&CR$2&$A65)=\"\",\"\",INDIRECT($B$2&CR$2&$A65))","v":""},{"$f":"IF(INDIRECT($B$2&CS$2&$A65)=\"\",\"\",INDIRECT($B$2&CS$2&$A65))","v":""}]
[93,null,null,null,null,null,null,null,null,null,null,null,null,null,null,56,{"$f":"IF(INDIRECT($B$2&$Q$2&$A66)=\"\",\"\",INDIRECT($B$2&$Q$2&$A66))","v":""},null,{"$f":"IF(INDIRECT($B$2&$S$2&$A66)=\"\",\"\",INDIRECT($B$2&$S$2&$A66))","v":0},{"$f":"IF(INDIRECT($B$2&$T$2&$A66)=\"\",\"\",INDIRECT($B$2&$T$2&$A66))","v":0},{"$f":"IF(INDIRECT($B$2&$U$2&$A66)=\"\",\"\",INDIRECT($B$2&$U$2&$A66))","v":0},{"$f":"IF(INDIRECT($B$2&$V$2&$A66)=\"\",\"\",INDIRECT($B$2&$V$2&$A66))","v":""},{"$f":"IF(INDIRECT($B$2&$W$2&$A66)=\"\",\"\",INDIRECT($B$2&$W$2&$A66))","v":""},{"$f":"IF(INDIRECT($B$2&$X$2&$A66)=\"\",\"\",INDIRECT($B$2&$X$2&$A66))","v":""},{"$f":"IF(INDIRECT($B$2&$Y$2&$A66)=\"\",\"\",INDIRECT($B$2&$Y$2&$A66))","v":""},{"$f":"IF(INDIRECT($B$2&$Z$2&$A66)=\"\",\"\",INDIRECT($B$2&$Z$2&$A66))","v":""},null,{"$f":"IF(INDIRECT($B$2&$AB$2&$A66)=\"\",\"\",INDIRECT($B$2&$AB$2&$A66))","v":""},{"$f":"IF(INDIRECT($B$2&$AC$2&$A66)=\"\",\"\",INDIRECT($B$2&$AC$2&$A66))","v":""},{"$f":"IF(INDIRECT($B$2&$AD$2&$A66)=\"\",\"\",INDIRECT($B$2&$AD$2&$A66))","v":""},{"$f":"IF(INDIRECT($B$2&$AE$2&$A66)=\"\",\"\",INDIRECT($B$2&$AE$2&$A66))","v":""},{"$f":"IF(INDIRECT($B$2&$AF$2&$A66)=\"\",\"\",INDIRECT($B$2&$AF$2&$A66))","v":""},null,null,null,null,null,null,null,null,null,null,null,null,null,null,null,{"$f":"IF(INDIRECT($B$2&AV$2&$A66)=\"\",\"\",INDIRECT($B$2&AV$2&$A66))","v":""},{"$f":"IF(INDIRECT($B$2&AW$2&$A66)=\"\",\"\",INDIRECT($B$2&AW$2&$A66))","v":""},{"$f":"IF(INDIRECT($B$2&AX$2&$A66)=\"\",\"\",INDIRECT($B$2&AX$2&$A66))","v":""},{"$f":"IF(INDIRECT($B$2&AY$2&$A66)=\"\",\"\",INDIRECT($B$2&AY$2&$A66))","v":""},{"$f":"IF(INDIRECT($B$2&AZ$2&$A66)=\"\",\"\",INDIRECT($B$2&AZ$2&$A66))","v":""},{"$f":"IF(INDIRECT($B$2&BA$2&$A66)=\"\",\"\",INDIRECT($B$2&BA$2&$A66))","v":""},{"$f":"IF(INDIRECT($B$2&BB$2&$A66)=\"\",\"\",INDIRECT($B$2&BB$2&$A66))","v":""},{"$f":"IF(INDIRECT($B$2&BC$2&$A66)=\"\",\"\",INDIRECT($B$2&BC$2&$A66))","v":""},{"$f":"IF(INDIRECT($B$2&BD$2&$A66)=\"\",\"\",INDIRECT($B$2&BD$2&$A66))","v":""},{"$f":"IF(INDIRECT($B$2&BE$2&$A66)=\"\",\"\",INDIRECT($B$2&BE$2&$A66))","v":""},{"$f":"IF(INDIRECT($B$2&BF$2&$A66)=\"\",\"\",INDIRECT($B$2&BF$2&$A66))","v":""},{"$f":"IF(INDIRECT($B$2&BG$2&$A66)=\"\",\"\",INDIRECT($B$2&BG$2&$A66))","v":""},{"$f":"IF(INDIRECT($B$2&BH$2&$A66)=\"\",\"\",INDIRECT($B$2&BH$2&$A66))","v":""},{"$f":"IF(INDIRECT($B$2&BI$2&$A66)=\"\",\"\",INDIRECT($B$2&BI$2&$A66))","v":""},{"$f":"IF(INDIRECT($B$2&BJ$2&$A66)=\"\",\"\",INDIRECT($B$2&BJ$2&$A66))","v":""},{"$f":"IF(INDIRECT($B$2&BK$2&$A66)=\"\",\"\",INDIRECT($B$2&BK$2&$A66))","v":0},{"$f":"IF(INDIRECT($B$2&BL$2&$A66)=\"\",\"\",INDIRECT($B$2&BL$2&$A66))","v":""},{"$f":"IF(INDIRECT($B$2&BM$2&$A66)=\"\",\"\",INDIRECT($B$2&BM$2&$A66))","v":""},{"$f":"IF(INDIRECT($B$2&BN$2&$A66)=\"\",\"\",INDIRECT($B$2&BN$2&$A66))","v":""},{"$f":"IF(INDIRECT($B$2&BO$2&$A66)=\"\",\"\",INDIRECT($B$2&BO$2&$A66))","v":""},{"$f":"IF(INDIRECT($B$2&BP$2&$A66)=\"\",\"\",INDIRECT($B$2&BP$2&$A66))","v":""},{"$f":"IF(INDIRECT($B$2&BQ$2&$A66)=\"\",\"\",INDIRECT($B$2&BQ$2&$A66))","v":""},{"$f":"IF(INDIRECT($B$2&BR$2&$A66)=\"\",\"\",INDIRECT($B$2&BR$2&$A66))","v":""},{"$f":"IF(INDIRECT($B$2&BS$2&$A66)=\"\",\"\",INDIRECT($B$2&BS$2&$A66))","v":""},{"$f":"IF(INDIRECT($B$2&BT$2&$A66)=\"\",\"\",INDIRECT($B$2&BT$2&$A66))","v":""},{"$f":"IF(INDIRECT($B$2&BU$2&$A66)=\"\",\"\",INDIRECT($B$2&BU$2&$A66))","v":""},{"$f":"IF(INDIRECT($B$2&BV$2&$A66)=\"\",\"\",INDIRECT($B$2&BV$2&$A66))","v":""},{"$f":"IF(INDIRECT($B$2&BW$2&$A66)=\"\",\"\",INDIRECT($B$2&BW$2&$A66))","v":""},{"$f":"IF(INDIRECT($B$2&BX$2&$A66)=\"\",\"\",INDIRECT($B$2&BX$2&$A66))","v":""},{"$f":"IF(INDIRECT($B$2&BY$2&$A66)=\"\",\"\",INDIRECT($B$2&BY$2&$A66))","v":""},{"$f":"IF(INDIRECT($B$2&BZ$2&$A66)=\"\",\"\",INDIRECT($B$2&BZ$2&$A66))","v":0},{"$f":"IF(INDIRECT($B$2&CA$2&$A66)=\"\",\"\",INDIRECT($B$2&CA$2&$A66))","v":""},{"$f":"IF(INDIRECT($B$2&CB$2&$A66)=\"\",\"\",INDIRECT($B$2&CB$2&$A66))","v":""},{"$f":"IF(INDIRECT($B$2&CC$2&$A66)=\"\",\"\",INDIRECT($B$2&CC$2&$A66))","v":""},{"$f":"IF(INDIRECT($B$2&CD$2&$A66)=\"\",\"\",INDIRECT($B$2&CD$2&$A66))","v":""},{"$f":"IF(INDIRECT($B$2&CE$2&$A66)=\"\",\"\",INDIRECT($B$2&CE$2&$A66))","v":""},{"$f":"IF(INDIRECT($B$2&CF$2&$A66)=\"\",\"\",INDIRECT($B$2&CF$2&$A66))","v":""},{"$f":"IF(INDIRECT($B$2&CG$2&$A66)=\"\",\"\",INDIRECT($B$2&CG$2&$A66))","v":""},{"$f":"IF(INDIRECT($B$2&CH$2&$A66)=\"\",\"\",INDIRECT($B$2&CH$2&$A66))","v":""},{"$f":"IF(INDIRECT($B$2&CI$2&$A66)=\"\",\"\",INDIRECT($B$2&CI$2&$A66))","v":""},{"$f":"IF(INDIRECT($B$2&CJ$2&$A66)=\"\",\"\",INDIRECT($B$2&CJ$2&$A66))","v":""},{"$f":"IF(INDIRECT($B$2&CK$2&$A66)=\"\",\"\",INDIRECT($B$2&CK$2&$A66))","v":""},{"$f":"IF(INDIRECT($B$2&CL$2&$A66)=\"\",\"\",INDIRECT($B$2&CL$2&$A66))","v":""},{"$f":"IF(INDIRECT($B$2&CM$2&$A66)=\"\",\"\",INDIRECT($B$2&CM$2&$A66))","v":""},{"$f":"IF(INDIRECT($B$2&CN$2&$A66)=\"\",\"\",INDIRECT($B$2&CN$2&$A66))","v":""},{"$f":"IF(INDIRECT($B$2&CO$2&$A66)=\"\",\"\",INDIRECT($B$2&CO$2&$A66))","v":""},null,{"$f":"IF(INDIRECT($B$2&CQ$2&$A66)=\"\",\"\",INDIRECT($B$2&CQ$2&$A66))","v":""},{"$f":"IF(INDIRECT($B$2&CR$2&$A66)=\"\",\"\",INDIRECT($B$2&CR$2&$A66))","v":""},{"$f":"IF(INDIRECT($B$2&CS$2&$A66)=\"\",\"\",INDIRECT($B$2&CS$2&$A66))","v":""}]
[94,null,null,null,null,null,null,null,null,null,null,null,null,null,null,57,{"$f":"IF(INDIRECT($B$2&$Q$2&$A67)=\"\",\"\",INDIRECT($B$2&$Q$2&$A67))","v":""},null,{"$f":"IF(INDIRECT($B$2&$S$2&$A67)=\"\",\"\",INDIRECT($B$2&$S$2&$A67))","v":0},{"$f":"IF(INDIRECT($B$2&$T$2&$A67)=\"\",\"\",INDIRECT($B$2&$T$2&$A67))","v":0},{"$f":"IF(INDIRECT($B$2&$U$2&$A67)=\"\",\"\",INDIRECT($B$2&$U$2&$A67))","v":0},{"$f":"IF(INDIRECT($B$2&$V$2&$A67)=\"\",\"\",INDIRECT($B$2&$V$2&$A67))","v":""},{"$f":"IF(INDIRECT($B$2&$W$2&$A67)=\"\",\"\",INDIRECT($B$2&$W$2&$A67))","v":""},{"$f":"IF(INDIRECT($B$2&$X$2&$A67)=\"\",\"\",INDIRECT($B$2&$X$2&$A67))","v":""},{"$f":"IF(INDIRECT($B$2&$Y$2&$A67)=\"\",\"\",INDIRECT($B$2&$Y$2&$A67))","v":""},{"$f":"IF(INDIRECT($B$2&$Z$2&$A67)=\"\",\"\",INDIRECT($B$2&$Z$2&$A67))","v":""},null,{"$f":"IF(INDIRECT($B$2&$AB$2&$A67)=\"\",\"\",INDIRECT($B$2&$AB$2&$A67))","v":""},{"$f":"IF(INDIRECT($B$2&$AC$2&$A67)=\"\",\"\",INDIRECT($B$2&$AC$2&$A67))","v":""},{"$f":"IF(INDIRECT($B$2&$AD$2&$A67)=\"\",\"\",INDIRECT($B$2&$AD$2&$A67))","v":""},{"$f":"IF(INDIRECT($B$2&$AE$2&$A67)=\"\",\"\",INDIRECT($B$2&$AE$2&$A67))","v":""},{"$f":"IF(INDIRECT($B$2&$AF$2&$A67)=\"\",\"\",INDIRECT($B$2&$AF$2&$A67))","v":""},null,null,null,null,null,null,null,null,null,null,null,null,null,null,null,{"$f":"IF(INDIRECT($B$2&AV$2&$A67)=\"\",\"\",INDIRECT($B$2&AV$2&$A67))","v":""},{"$f":"IF(INDIRECT($B$2&AW$2&$A67)=\"\",\"\",INDIRECT($B$2&AW$2&$A67))","v":""},{"$f":"IF(INDIRECT($B$2&AX$2&$A67)=\"\",\"\",INDIRECT($B$2&AX$2&$A67))","v":""},{"$f":"IF(INDIRECT($B$2&AY$2&$A67)=\"\",\"\",INDIRECT($B$2&AY$2&$A67))","v":""},{"$f":"IF(INDIRECT($B$2&AZ$2&$A67)=\"\",\"\",INDIRECT($B$2&AZ$2&$A67))","v":""},{"$f":"IF(INDIRECT($B$2&BA$2&$A67)=\"\",\"\",INDIRECT($B$2&BA$2&$A67))","v":""},{"$f":"IF(INDIRECT($B$2&BB$2&$A67)=\"\",\"\",INDIRECT($B$2&BB$2&$A67))","v":""},{"$f":"IF(INDIRECT($B$2&BC$2&$A67)=\"\",\"\",INDIRECT($B$2&BC$2&$A67))","v":""},{"$f":"IF(INDIRECT($B$2&BD$2&$A67)=\"\",\"\",INDIRECT($B$2&BD$2&$A67))","v":""},{"$f":"IF(INDIRECT($B$2&BE$2&$A67)=\"\",\"\",INDIRECT($B$2&BE$2&$A67))","v":""},{"$f":"IF(INDIRECT($B$2&BF$2&$A67)=\"\",\"\",INDIRECT($B$2&BF$2&$A67))","v":""},{"$f":"IF(INDIRECT($B$2&BG$2&$A67)=\"\",\"\",INDIRECT($B$2&BG$2&$A67))","v":""},{"$f":"IF(INDIRECT($B$2&BH$2&$A67)=\"\",\"\",INDIRECT($B$2&BH$2&$A67))","v":""},{"$f":"IF(INDIRECT($B$2&BI$2&$A67)=\"\",\"\",INDIRECT($B$2&BI$2&$A67))","v":""},{"$f":"IF(INDIRECT($B$2&BJ$2&$A67)=\"\",\"\",INDIRECT($B$2&BJ$2&$A67))","v":""},{"$f":"IF(INDIRECT($B$2&BK$2&$A67)=\"\",\"\",INDIRECT($B$2&BK$2&$A67))","v":0},{"$f":"IF(INDIRECT($B$2&BL$2&$A67)=\"\",\"\",INDIRECT($B$2&BL$2&$A67))","v":""},{"$f":"IF(INDIRECT($B$2&BM$2&$A67)=\"\",\"\",INDIRECT($B$2&BM$2&$A67))","v":""},{"$f":"IF(INDIRECT($B$2&BN$2&$A67)=\"\",\"\",INDIRECT($B$2&BN$2&$A67))","v":""},{"$f":"IF(INDIRECT($B$2&BO$2&$A67)=\"\",\"\",INDIRECT($B$2&BO$2&$A67))","v":""},{"$f":"IF(INDIRECT($B$2&BP$2&$A67)=\"\",\"\",INDIRECT($B$2&BP$2&$A67))","v":""},{"$f":"IF(INDIRECT($B$2&BQ$2&$A67)=\"\",\"\",INDIRECT($B$2&BQ$2&$A67))","v":""},{"$f":"IF(INDIRECT($B$2&BR$2&$A67)=\"\",\"\",INDIRECT($B$2&BR$2&$A67))","v":""},{"$f":"IF(INDIRECT($B$2&BS$2&$A67)=\"\",\"\",INDIRECT($B$2&BS$2&$A67))","v":""},{"$f":"IF(INDIRECT($B$2&BT$2&$A67)=\"\",\"\",INDIRECT($B$2&BT$2&$A67))","v":""},{"$f":"IF(INDIRECT($B$2&BU$2&$A67)=\"\",\"\",INDIRECT($B$2&BU$2&$A67))","v":""},{"$f":"IF(INDIRECT($B$2&BV$2&$A67)=\"\",\"\",INDIRECT($B$2&BV$2&$A67))","v":""},{"$f":"IF(INDIRECT($B$2&BW$2&$A67)=\"\",\"\",INDIRECT($B$2&BW$2&$A67))","v":""},{"$f":"IF(INDIRECT($B$2&BX$2&$A67)=\"\",\"\",INDIRECT($B$2&BX$2&$A67))","v":""},{"$f":"IF(INDIRECT($B$2&BY$2&$A67)=\"\",\"\",INDIRECT($B$2&BY$2&$A67))","v":""},{"$f":"IF(INDIRECT($B$2&BZ$2&$A67)=\"\",\"\",INDIRECT($B$2&BZ$2&$A67))","v":0},{"$f":"IF(INDIRECT($B$2&CA$2&$A67)=\"\",\"\",INDIRECT($B$2&CA$2&$A67))","v":""},{"$f":"IF(INDIRECT($B$2&CB$2&$A67)=\"\",\"\",INDIRECT($B$2&CB$2&$A67))","v":""},{"$f":"IF(INDIRECT($B$2&CC$2&$A67)=\"\",\"\",INDIRECT($B$2&CC$2&$A67))","v":""},{"$f":"IF(INDIRECT($B$2&CD$2&$A67)=\"\",\"\",INDIRECT($B$2&CD$2&$A67))","v":""},{"$f":"IF(INDIRECT($B$2&CE$2&$A67)=\"\",\"\",INDIRECT($B$2&CE$2&$A67))","v":""},{"$f":"IF(INDIRECT($B$2&CF$2&$A67)=\"\",\"\",INDIRECT($B$2&CF$2&$A67))","v":""},{"$f":"IF(INDIRECT($B$2&CG$2&$A67)=\"\",\"\",INDIRECT($B$2&CG$2&$A67))","v":""},{"$f":"IF(INDIRECT($B$2&CH$2&$A67)=\"\",\"\",INDIRECT($B$2&CH$2&$A67))","v":""},{"$f":"IF(INDIRECT($B$2&CI$2&$A67)=\"\",\"\",INDIRECT($B$2&CI$2&$A67))","v":""},{"$f":"IF(INDIRECT($B$2&CJ$2&$A67)=\"\",\"\",INDIRECT($B$2&CJ$2&$A67))","v":""},{"$f":"IF(INDIRECT($B$2&CK$2&$A67)=\"\",\"\",INDIRECT($B$2&CK$2&$A67))","v":""},{"$f":"IF(INDIRECT($B$2&CL$2&$A67)=\"\",\"\",INDIRECT($B$2&CL$2&$A67))","v":""},{"$f":"IF(INDIRECT($B$2&CM$2&$A67)=\"\",\"\",INDIRECT($B$2&CM$2&$A67))","v":""},{"$f":"IF(INDIRECT($B$2&CN$2&$A67)=\"\",\"\",INDIRECT($B$2&CN$2&$A67))","v":""},{"$f":"IF(INDIRECT($B$2&CO$2&$A67)=\"\",\"\",INDIRECT($B$2&CO$2&$A67))","v":""},null,{"$f":"IF(INDIRECT($B$2&CQ$2&$A67)=\"\",\"\",INDIRECT($B$2&CQ$2&$A67))","v":""},{"$f":"IF(INDIRECT($B$2&CR$2&$A67)=\"\",\"\",INDIRECT($B$2&CR$2&$A67))","v":""},{"$f":"IF(INDIRECT($B$2&CS$2&$A67)=\"\",\"\",INDIRECT($B$2&CS$2&$A67))","v":""}]
[95,null,null,null,null,null,null,null,null,null,null,null,null,null,null,58,{"$f":"IF(INDIRECT($B$2&$Q$2&$A68)=\"\",\"\",INDIRECT($B$2&$Q$2&$A68))","v":""},null,{"$f":"IF(INDIRECT($B$2&$S$2&$A68)=\"\",\"\",INDIRECT($B$2&$S$2&$A68))","v":0},{"$f":"IF(INDIRECT($B$2&$T$2&$A68)=\"\",\"\",INDIRECT($B$2&$T$2&$A68))","v":0},{"$f":"IF(INDIRECT($B$2&$U$2&$A68)=\"\",\"\",INDIRECT($B$2&$U$2&$A68))","v":0},{"$f":"IF(INDIRECT($B$2&$V$2&$A68)=\"\",\"\",INDIRECT($B$2&$V$2&$A68))","v":""},{"$f":"IF(INDIRECT($B$2&$W$2&$A68)=\"\",\"\",INDIRECT($B$2&$W$2&$A68))","v":""},{"$f":"IF(INDIRECT($B$2&$X$2&$A68)=\"\",\"\",INDIRECT($B$2&$X$2&$A68))","v":""},{"$f":"IF(INDIRECT($B$2&$Y$2&$A68)=\"\",\"\",INDIRECT($B$2&$Y$2&$A68))","v":""},{"$f":"IF(INDIRECT($B$2&$Z$2&$A68)=\"\",\"\",INDIRECT($B$2&$Z$2&$A68))","v":""},null,{"$f":"IF(INDIRECT($B$2&$AB$2&$A68)=\"\",\"\",INDIRECT($B$2&$AB$2&$A68))","v":""},{"$f":"IF(INDIRECT($B$2&$AC$2&$A68)=\"\",\"\",INDIRECT($B$2&$AC$2&$A68))","v":""},{"$f":"IF(INDIRECT($B$2&$AD$2&$A68)=\"\",\"\",INDIRECT($B$2&$AD$2&$A68))","v":""},{"$f":"IF(INDIRECT($B$2&$AE$2&$A68)=\"\",\"\",INDIRECT($B$2&$AE$2&$A68))","v":""},{"$f":"IF(INDIRECT($B$2&$AF$2&$A68)=\"\",\"\",INDIRECT($B$2&$AF$2&$A68))","v":""},null,null,null,null,null,null,null,null,null,null,null,null,null,null,null,{"$f":"IF(INDIRECT($B$2&AV$2&$A68)=\"\",\"\",INDIRECT($B$2&AV$2&$A68))","v":""},{"$f":"IF(INDIRECT($B$2&AW$2&$A68)=\"\",\"\",INDIRECT($B$2&AW$2&$A68))","v":""},{"$f":"IF(INDIRECT($B$2&AX$2&$A68)=\"\",\"\",INDIRECT($B$2&AX$2&$A68))","v":""},{"$f":"IF(INDIRECT($B$2&AY$2&$A68)=\"\",\"\",INDIRECT($B$2&AY$2&$A68))","v":""},{"$f":"IF(INDIRECT($B$2&AZ$2&$A68)=\"\",\"\",INDIRECT($B$2&AZ$2&$A68))","v":""},{"$f":"IF(INDIRECT($B$2&BA$2&$A68)=\"\",\"\",INDIRECT($B$2&BA$2&$A68))","v":""},{"$f":"IF(INDIRECT($B$2&BB$2&$A68)=\"\",\"\",INDIRECT($B$2&BB$2&$A68))","v":""},{"$f":"IF(INDIRECT($B$2&BC$2&$A68)=\"\",\"\",INDIRECT($B$2&BC$2&$A68))","v":""},{"$f":"IF(INDIRECT($B$2&BD$2&$A68)=\"\",\"\",INDIRECT($B$2&BD$2&$A68))","v":""},{"$f":"IF(INDIRECT($B$2&BE$2&$A68)=\"\",\"\",INDIRECT($B$2&BE$2&$A68))","v":""},{"$f":"IF(INDIRECT($B$2&BF$2&$A68)=\"\",\"\",INDIRECT($B$2&BF$2&$A68))","v":""},{"$f":"IF(INDIRECT($B$2&BG$2&$A68)=\"\",\"\",INDIRECT($B$2&BG$2&$A68))","v":""},{"$f":"IF(INDIRECT($B$2&BH$2&$A68)=\"\",\"\",INDIRECT($B$2&BH$2&$A68))","v":""},{"$f":"IF(INDIRECT($B$2&BI$2&$A68)=\"\",\"\",INDIRECT($B$2&BI$2&$A68))","v":""},{"$f":"IF(INDIRECT($B$2&BJ$2&$A68)=\"\",\"\",INDIRECT($B$2&BJ$2&$A68))","v":""},{"$f":"IF(INDIRECT($B$2&BK$2&$A68)=\"\",\"\",INDIRECT($B$2&BK$2&$A68))","v":0},{"$f":"IF(INDIRECT($B$2&BL$2&$A68)=\"\",\"\",INDIRECT($B$2&BL$2&$A68))","v":""},{"$f":"IF(INDIRECT($B$2&BM$2&$A68)=\"\",\"\",INDIRECT($B$2&BM$2&$A68))","v":""},{"$f":"IF(INDIRECT($B$2&BN$2&$A68)=\"\",\"\",INDIRECT($B$2&BN$2&$A68))","v":""},{"$f":"IF(INDIRECT($B$2&BO$2&$A68)=\"\",\"\",INDIRECT($B$2&BO$2&$A68))","v":""},{"$f":"IF(INDIRECT($B$2&BP$2&$A68)=\"\",\"\",INDIRECT($B$2&BP$2&$A68))","v":""},{"$f":"IF(INDIRECT($B$2&BQ$2&$A68)=\"\",\"\",INDIRECT($B$2&BQ$2&$A68))","v":""},{"$f":"IF(INDIRECT($B$2&BR$2&$A68)=\"\",\"\",INDIRECT($B$2&BR$2&$A68))","v":""},{"$f":"IF(INDIRECT($B$2&BS$2&$A68)=\"\",\"\",INDIRECT($B$2&BS$2&$A68))","v":""},{"$f":"IF(INDIRECT($B$2&BT$2&$A68)=\"\",\"\",INDIRECT($B$2&BT$2&$A68))","v":""},{"$f":"IF(INDIRECT($B$2&BU$2&$A68)=\"\",\"\",INDIRECT($B$2&BU$2&$A68))","v":""},{"$f":"IF(INDIRECT($B$2&BV$2&$A68)=\"\",\"\",INDIRECT($B$2&BV$2&$A68))","v":""},{"$f":"IF(INDIRECT($B$2&BW$2&$A68)=\"\",\"\",INDIRECT($B$2&BW$2&$A68))","v":""},{"$f":"IF(INDIRECT($B$2&BX$2&$A68)=\"\",\"\",INDIRECT($B$2&BX$2&$A68))","v":""},{"$f":"IF(INDIRECT($B$2&BY$2&$A68)=\"\",\"\",INDIRECT($B$2&BY$2&$A68))","v":""},{"$f":"IF(INDIRECT($B$2&BZ$2&$A68)=\"\",\"\",INDIRECT($B$2&BZ$2&$A68))","v":0},{"$f":"IF(INDIRECT($B$2&CA$2&$A68)=\"\",\"\",INDIRECT($B$2&CA$2&$A68))","v":""},{"$f":"IF(INDIRECT($B$2&CB$2&$A68)=\"\",\"\",INDIRECT($B$2&CB$2&$A68))","v":""},{"$f":"IF(INDIRECT($B$2&CC$2&$A68)=\"\",\"\",INDIRECT($B$2&CC$2&$A68))","v":""},{"$f":"IF(INDIRECT($B$2&CD$2&$A68)=\"\",\"\",INDIRECT($B$2&CD$2&$A68))","v":""},{"$f":"IF(INDIRECT($B$2&CE$2&$A68)=\"\",\"\",INDIRECT($B$2&CE$2&$A68))","v":""},{"$f":"IF(INDIRECT($B$2&CF$2&$A68)=\"\",\"\",INDIRECT($B$2&CF$2&$A68))","v":""},{"$f":"IF(INDIRECT($B$2&CG$2&$A68)=\"\",\"\",INDIRECT($B$2&CG$2&$A68))","v":""},{"$f":"IF(INDIRECT($B$2&CH$2&$A68)=\"\",\"\",INDIRECT($B$2&CH$2&$A68))","v":""},{"$f":"IF(INDIRECT($B$2&CI$2&$A68)=\"\",\"\",INDIRECT($B$2&CI$2&$A68))","v":""},{"$f":"IF(INDIRECT($B$2&CJ$2&$A68)=\"\",\"\",INDIRECT($B$2&CJ$2&$A68))","v":""},{"$f":"IF(INDIRECT($B$2&CK$2&$A68)=\"\",\"\",INDIRECT($B$2&CK$2&$A68))","v":""},{"$f":"IF(INDIRECT($B$2&CL$2&$A68)=\"\",\"\",INDIRECT($B$2&CL$2&$A68))","v":""},{"$f":"IF(INDIRECT($B$2&CM$2&$A68)=\"\",\"\",INDIRECT($B$2&CM$2&$A68))","v":""},{"$f":"IF(INDIRECT($B$2&CN$2&$A68)=\"\",\"\",INDIRECT($B$2&CN$2&$A68))","v":""},{"$f":"IF(INDIRECT($B$2&CO$2&$A68)=\"\",\"\",INDIRECT($B$2&CO$2&$A68))","v":""},null,{"$f":"IF(INDIRECT($B$2&CQ$2&$A68)=\"\",\"\",INDIRECT($B$2&CQ$2&$A68))","v":""},{"$f":"IF(INDIRECT($B$2&CR$2&$A68)=\"\",\"\",INDIRECT($B$2&CR$2&$A68))","v":""},{"$f":"IF(INDIRECT($B$2&CS$2&$A68)=\"\",\"\",INDIRECT($B$2&CS$2&$A68))","v":""}]
[96,null,null,null,null,null,null,null,null,null,null,null,null,null,null,59,{"$f":"IF(INDIRECT($B$2&$Q$2&$A69)=\"\",\"\",INDIRECT($B$2&$Q$2&$A69))","v":""},null,{"$f":"IF(INDIRECT($B$2&$S$2&$A69)=\"\",\"\",INDIRECT($B$2&$S$2&$A69))","v":0},{"$f":"IF(INDIRECT($B$2&$T$2&$A69)=\"\",\"\",INDIRECT($B$2&$T$2&$A69))","v":0},{"$f":"IF(INDIRECT($B$2&$U$2&$A69)=\"\",\"\",INDIRECT($B$2&$U$2&$A69))","v":0},{"$f":"IF(INDIRECT($B$2&$V$2&$A69)=\"\",\"\",INDIRECT($B$2&$V$2&$A69))","v":""},{"$f":"IF(INDIRECT($B$2&$W$2&$A69)=\"\",\"\",INDIRECT($B$2&$W$2&$A69))","v":""},{"$f":"IF(INDIRECT($B$2&$X$2&$A69)=\"\",\"\",INDIRECT($B$2&$X$2&$A69))","v":""},{"$f":"IF(INDIRECT($B$2&$Y$2&$A69)=\"\",\"\",INDIRECT($B$2&$Y$2&$A69))","v":""},{"$f":"IF(INDIRECT($B$2&$Z$2&$A69)=\"\",\"\",INDIRECT($B$2&$Z$2&$A69))","v":""},null,{"$f":"IF(INDIRECT($B$2&$AB$2&$A69)=\"\",\"\",INDIRECT($B$2&$AB$2&$A69))","v":""},{"$f":"IF(INDIRECT($B$2&$AC$2&$A69)=\"\",\"\",INDIRECT($B$2&$AC$2&$A69))","v":""},{"$f":"IF(INDIRECT($B$2&$AD$2&$A69)=\"\",\"\",INDIRECT($B$2&$AD$2&$A69))","v":""},{"$f":"IF(INDIRECT($B$2&$AE$2&$A69)=\"\",\"\",INDIRECT($B$2&$AE$2&$A69))","v":""},{"$f":"IF(INDIRECT($B$2&$AF$2&$A69)=\"\",\"\",INDIRECT($B$2&$AF$2&$A69))","v":""},null,null,null,null,null,null,null,null,null,null,null,null,null,null,null,{"$f":"IF(INDIRECT($B$2&AV$2&$A69)=\"\",\"\",INDIRECT($B$2&AV$2&$A69))","v":""},{"$f":"IF(INDIRECT($B$2&AW$2&$A69)=\"\",\"\",INDIRECT($B$2&AW$2&$A69))","v":""},{"$f":"IF(INDIRECT($B$2&AX$2&$A69)=\"\",\"\",INDIRECT($B$2&AX$2&$A69))","v":""},{"$f":"IF(INDIRECT($B$2&AY$2&$A69)=\"\",\"\",INDIRECT($B$2&AY$2&$A69))","v":""},{"$f":"IF(INDIRECT($B$2&AZ$2&$A69)=\"\",\"\",INDIRECT($B$2&AZ$2&$A69))","v":""},{"$f":"IF(INDIRECT($B$2&BA$2&$A69)=\"\",\"\",INDIRECT($B$2&BA$2&$A69))","v":""},{"$f":"IF(INDIRECT($B$2&BB$2&$A69)=\"\",\"\",INDIRECT($B$2&BB$2&$A69))","v":""},{"$f":"IF(INDIRECT($B$2&BC$2&$A69)=\"\",\"\",INDIRECT($B$2&BC$2&$A69))","v":""},{"$f":"IF(INDIRECT($B$2&BD$2&$A69)=\"\",\"\",INDIRECT($B$2&BD$2&$A69))","v":""},{"$f":"IF(INDIRECT($B$2&BE$2&$A69)=\"\",\"\",INDIRECT($B$2&BE$2&$A69))","v":""},{"$f":"IF(INDIRECT($B$2&BF$2&$A69)=\"\",\"\",INDIRECT($B$2&BF$2&$A69))","v":""},{"$f":"IF(INDIRECT($B$2&BG$2&$A69)=\"\",\"\",INDIRECT($B$2&BG$2&$A69))","v":""},{"$f":"IF(INDIRECT($B$2&BH$2&$A69)=\"\",\"\",INDIRECT($B$2&BH$2&$A69))","v":""},{"$f":"IF(INDIRECT($B$2&BI$2&$A69)=\"\",\"\",INDIRECT($B$2&BI$2&$A69))","v":""},{"$f":"IF(INDIRECT($B$2&BJ$2&$A69)=\"\",\"\",INDIRECT($B$2&BJ$2&$A69))","v":""},{"$f":"IF(INDIRECT($B$2&BK$2&$A69)=\"\",\"\",INDIRECT($B$2&BK$2&$A69))","v":0},{"$f":"IF(INDIRECT($B$2&BL$2&$A69)=\"\",\"\",INDIRECT($B$2&BL$2&$A69))","v":""},{"$f":"IF(INDIRECT($B$2&BM$2&$A69)=\"\",\"\",INDIRECT($B$2&BM$2&$A69))","v":""},{"$f":"IF(INDIRECT($B$2&BN$2&$A69)=\"\",\"\",INDIRECT($B$2&BN$2&$A69))","v":""},{"$f":"IF(INDIRECT($B$2&BO$2&$A69)=\"\",\"\",INDIRECT($B$2&BO$2&$A69))","v":""},{"$f":"IF(INDIRECT($B$2&BP$2&$A69)=\"\",\"\",INDIRECT($B$2&BP$2&$A69))","v":""},{"$f":"IF(INDIRECT($B$2&BQ$2&$A69)=\"\",\"\",INDIRECT($B$2&BQ$2&$A69))","v":""},{"$f":"IF(INDIRECT($B$2&BR$2&$A69)=\"\",\"\",INDIRECT($B$2&BR$2&$A69))","v":""},{"$f":"IF(INDIRECT($B$2&BS$2&$A69)=\"\",\"\",INDIRECT($B$2&BS$2&$A69))","v":""},{"$f":"IF(INDIRECT($B$2&BT$2&$A69)=\"\",\"\",INDIRECT($B$2&BT$2&$A69))","v":""},{"$f":"IF(INDIRECT($B$2&BU$2&$A69)=\"\",\"\",INDIRECT($B$2&BU$2&$A69))","v":""},{"$f":"IF(INDIRECT($B$2&BV$2&$A69)=\"\",\"\",INDIRECT($B$2&BV$2&$A69))","v":""},{"$f":"IF(INDIRECT($B$2&BW$2&$A69)=\"\",\"\",INDIRECT($B$2&BW$2&$A69))","v":""},{"$f":"IF(INDIRECT($B$2&BX$2&$A69)=\"\",\"\",INDIRECT($B$2&BX$2&$A69))","v":""},{"$f":"IF(INDIRECT($B$2&BY$2&$A69)=\"\",\"\",INDIRECT($B$2&BY$2&$A69))","v":""},{"$f":"IF(INDIRECT($B$2&BZ$2&$A69)=\"\",\"\",INDIRECT($B$2&BZ$2&$A69))","v":0},{"$f":"IF(INDIRECT($B$2&CA$2&$A69)=\"\",\"\",INDIRECT($B$2&CA$2&$A69))","v":""},{"$f":"IF(INDIRECT($B$2&CB$2&$A69)=\"\",\"\",INDIRECT($B$2&CB$2&$A69))","v":""},{"$f":"IF(INDIRECT($B$2&CC$2&$A69)=\"\",\"\",INDIRECT($B$2&CC$2&$A69))","v":""},{"$f":"IF(INDIRECT($B$2&CD$2&$A69)=\"\",\"\",INDIRECT($B$2&CD$2&$A69))","v":""},{"$f":"IF(INDIRECT($B$2&CE$2&$A69)=\"\",\"\",INDIRECT($B$2&CE$2&$A69))","v":""},{"$f":"IF(INDIRECT($B$2&CF$2&$A69)=\"\",\"\",INDIRECT($B$2&CF$2&$A69))","v":""},{"$f":"IF(INDIRECT($B$2&CG$2&$A69)=\"\",\"\",INDIRECT($B$2&CG$2&$A69))","v":""},{"$f":"IF(INDIRECT($B$2&CH$2&$A69)=\"\",\"\",INDIRECT($B$2&CH$2&$A69))","v":""},{"$f":"IF(INDIRECT($B$2&CI$2&$A69)=\"\",\"\",INDIRECT($B$2&CI$2&$A69))","v":""},{"$f":"IF(INDIRECT($B$2&CJ$2&$A69)=\"\",\"\",INDIRECT($B$2&CJ$2&$A69))","v":""},{"$f":"IF(INDIRECT($B$2&CK$2&$A69)=\"\",\"\",INDIRECT($B$2&CK$2&$A69))","v":""},{"$f":"IF(INDIRECT($B$2&CL$2&$A69)=\"\",\"\",INDIRECT($B$2&CL$2&$A69))","v":""},{"$f":"IF(INDIRECT($B$2&CM$2&$A69)=\"\",\"\",INDIRECT($B$2&CM$2&$A69))","v":""},{"$f":"IF(INDIRECT($B$2&CN$2&$A69)=\"\",\"\",INDIRECT($B$2&CN$2&$A69))","v":""},{"$f":"IF(INDIRECT($B$2&CO$2&$A69)=\"\",\"\",INDIRECT($B$2&CO$2&$A69))","v":""},null,{"$f":"IF(INDIRECT($B$2&CQ$2&$A69)=\"\",\"\",INDIRECT($B$2&CQ$2&$A69))","v":""},{"$f":"IF(INDIRECT($B$2&CR$2&$A69)=\"\",\"\",INDIRECT($B$2&CR$2&$A69))","v":""},{"$f":"IF(INDIRECT($B$2&CS$2&$A69)=\"\",\"\",INDIRECT($B$2&CS$2&$A69))","v":""}]
[97,null,null,null,null,null,null,null,null,null,null,null,null,null,null,60,{"$f":"IF(INDIRECT($B$2&$Q$2&$A70)=\"\",\"\",INDIRECT($B$2&$Q$2&$A70))","v":""},null,{"$f":"IF(INDIRECT($B$2&$S$2&$A70)=\"\",\"\",INDIRECT($B$2&$S$2&$A70))","v":0},{"$f":"IF(INDIRECT($B$2&$T$2&$A70)=\"\",\"\",INDIRECT($B$2&$T$2&$A70))","v":0},{"$f":"IF(INDIRECT($B$2&$U$2&$A70)=\"\",\"\",INDIRECT($B$2&$U$2&$A70))","v":0},{"$f":"IF(INDIRECT($B$2&$V$2&$A70)=\"\",\"\",INDIRECT($B$2&$V$2&$A70))","v":""},{"$f":"IF(INDIRECT($B$2&$W$2&$A70)=\"\",\"\",INDIRECT($B$2&$W$2&$A70))","v":""},{"$f":"IF(INDIRECT($B$2&$X$2&$A70)=\"\",\"\",INDIRECT($B$2&$X$2&$A70))","v":""},{"$f":"IF(INDIRECT($B$2&$Y$2&$A70)=\"\",\"\",INDIRECT($B$2&$Y$2&$A70))","v":""},{"$f":"IF(INDIRECT($B$2&$Z$2&$A70)=\"\",\"\",INDIRECT($B$2&$Z$2&$A70))","v":""},null,{"$f":"IF(INDIRECT($B$2&$AB$2&$A70)=\"\",\"\",INDIRECT($B$2&$AB$2&$A70))","v":""},{"$f":"IF(INDIRECT($B$2&$AC$2&$A70)=\"\",\"\",INDIRECT($B$2&$AC$2&$A70))","v":""},{"$f":"IF(INDIRECT($B$2&$AD$2&$A70)=\"\",\"\",INDIRECT($B$2&$AD$2&$A70))","v":""},{"$f":"IF(INDIRECT($B$2&$AE$2&$A70)=\"\",\"\",INDIRECT($B$2&$AE$2&$A70))","v":""},{"$f":"IF(INDIRECT($B$2&$AF$2&$A70)=\"\",\"\",INDIRECT($B$2&$AF$2&$A70))","v":""},null,null,null,null,null,null,null,null,null,null,null,null,null,null,null,{"$f":"IF(INDIRECT($B$2&AV$2&$A70)=\"\",\"\",INDIRECT($B$2&AV$2&$A70))","v":""},{"$f":"IF(INDIRECT($B$2&AW$2&$A70)=\"\",\"\",INDIRECT($B$2&AW$2&$A70))","v":""},{"$f":"IF(INDIRECT($B$2&AX$2&$A70)=\"\",\"\",INDIRECT($B$2&AX$2&$A70))","v":""},{"$f":"IF(INDIRECT($B$2&AY$2&$A70)=\"\",\"\",INDIRECT($B$2&AY$2&$A70))","v":""},{"$f":"IF(INDIRECT($B$2&AZ$2&$A70)=\"\",\"\",INDIRECT($B$2&AZ$2&$A70))","v":""},{"$f":"IF(INDIRECT($B$2&BA$2&$A70)=\"\",\"\",INDIRECT($B$2&BA$2&$A70))","v":""},{"$f":"IF(INDIRECT($B$2&BB$2&$A70)=\"\",\"\",INDIRECT($B$2&BB$2&$A70))","v":""},{"$f":"IF(INDIRECT($B$2&BC$2&$A70)=\"\",\"\",INDIRECT($B$2&BC$2&$A70))","v":""},{"$f":"IF(INDIRECT($B$2&BD$2&$A70)=\"\",\"\",INDIRECT($B$2&BD$2&$A70))","v":""},{"$f":"IF(INDIRECT($B$2&BE$2&$A70)=\"\",\"\",INDIRECT($B$2&BE$2&$A70))","v":""},{"$f":"IF(INDIRECT($B$2&BF$2&$A70)=\"\",\"\",INDIRECT($B$2&BF$2&$A70))","v":""},{"$f":"IF(INDIRECT($B$2&BG$2&$A70)=\"\",\"\",INDIRECT($B$2&BG$2&$A70))","v":""},{"$f":"IF(INDIRECT($B$2&BH$2&$A70)=\"\",\"\",INDIRECT($B$2&BH$2&$A70))","v":""},{"$f":"IF(INDIRECT($B$2&BI$2&$A70)=\"\",\"\",INDIRECT($B$2&BI$2&$A70))","v":""},{"$f":"IF(INDIRECT($B$2&BJ$2&$A70)=\"\",\"\",INDIRECT($B$2&BJ$2&$A70))","v":""},{"$f":"IF(INDIRECT($B$2&BK$2&$A70)=\"\",\"\",INDIRECT($B$2&BK$2&$A70))","v":0},{"$f":"IF(INDIRECT($B$2&BL$2&$A70)=\"\",\"\",INDIRECT($B$2&BL$2&$A70))","v":""},{"$f":"IF(INDIRECT($B$2&BM$2&$A70)=\"\",\"\",INDIRECT($B$2&BM$2&$A70))","v":""},{"$f":"IF(INDIRECT($B$2&BN$2&$A70)=\"\",\"\",INDIRECT($B$2&BN$2&$A70))","v":""},{"$f":"IF(INDIRECT($B$2&BO$2&$A70)=\"\",\"\",INDIRECT($B$2&BO$2&$A70))","v":""},{"$f":"IF(INDIRECT($B$2&BP$2&$A70)=\"\",\"\",INDIRECT($B$2&BP$2&$A70))","v":""},{"$f":"IF(INDIRECT($B$2&BQ$2&$A70)=\"\",\"\",INDIRECT($B$2&BQ$2&$A70))","v":""},{"$f":"IF(INDIRECT($B$2&BR$2&$A70)=\"\",\"\",INDIRECT($B$2&BR$2&$A70))","v":""},{"$f":"IF(INDIRECT($B$2&BS$2&$A70)=\"\",\"\",INDIRECT($B$2&BS$2&$A70))","v":""},{"$f":"IF(INDIRECT($B$2&BT$2&$A70)=\"\",\"\",INDIRECT($B$2&BT$2&$A70))","v":""},{"$f":"IF(INDIRECT($B$2&BU$2&$A70)=\"\",\"\",INDIRECT($B$2&BU$2&$A70))","v":""},{"$f":"IF(INDIRECT($B$2&BV$2&$A70)=\"\",\"\",INDIRECT($B$2&BV$2&$A70))","v":""},{"$f":"IF(INDIRECT($B$2&BW$2&$A70)=\"\",\"\",INDIRECT($B$2&BW$2&$A70))","v":""},{"$f":"IF(INDIRECT($B$2&BX$2&$A70)=\"\",\"\",INDIRECT($B$2&BX$2&$A70))","v":""},{"$f":"IF(INDIRECT($B$2&BY$2&$A70)=\"\",\"\",INDIRECT($B$2&BY$2&$A70))","v":""},{"$f":"IF(INDIRECT($B$2&BZ$2&$A70)=\"\",\"\",INDIRECT($B$2&BZ$2&$A70))","v":0},{"$f":"IF(INDIRECT($B$2&CA$2&$A70)=\"\",\"\",INDIRECT($B$2&CA$2&$A70))","v":""},{"$f":"IF(INDIRECT($B$2&CB$2&$A70)=\"\",\"\",INDIRECT($B$2&CB$2&$A70))","v":""},{"$f":"IF(INDIRECT($B$2&CC$2&$A70)=\"\",\"\",INDIRECT($B$2&CC$2&$A70))","v":""},{"$f":"IF(INDIRECT($B$2&CD$2&$A70)=\"\",\"\",INDIRECT($B$2&CD$2&$A70))","v":""},{"$f":"IF(INDIRECT($B$2&CE$2&$A70)=\"\",\"\",INDIRECT($B$2&CE$2&$A70))","v":""},{"$f":"IF(INDIRECT($B$2&CF$2&$A70)=\"\",\"\",INDIRECT($B$2&CF$2&$A70))","v":""},{"$f":"IF(INDIRECT($B$2&CG$2&$A70)=\"\",\"\",INDIRECT($B$2&CG$2&$A70))","v":""},{"$f":"IF(INDIRECT($B$2&CH$2&$A70)=\"\",\"\",INDIRECT($B$2&CH$2&$A70))","v":""},{"$f":"IF(INDIRECT($B$2&CI$2&$A70)=\"\",\"\",INDIRECT($B$2&CI$2&$A70))","v":""},{"$f":"IF(INDIRECT($B$2&CJ$2&$A70)=\"\",\"\",INDIRECT($B$2&CJ$2&$A70))","v":""},{"$f":"IF(INDIRECT($B$2&CK$2&$A70)=\"\",\"\",INDIRECT($B$2&CK$2&$A70))","v":""},{"$f":"IF(INDIRECT($B$2&CL$2&$A70)=\"\",\"\",INDIRECT($B$2&CL$2&$A70))","v":""},{"$f":"IF(INDIRECT($B$2&CM$2&$A70)=\"\",\"\",INDIRECT($B$2&CM$2&$A70))","v":""},{"$f":"IF(INDIRECT($B$2&CN$2&$A70)=\"\",\"\",INDIRECT($B$2&CN$2&$A70))","v":""},{"$f":"IF(INDIRECT($B$2&CO$2&$A70)=\"\",\"\",INDIRECT($B$2&CO$2&$A70))","v":""},null,{"$f":"IF(INDIRECT($B$2&CQ$2&$A70)=\"\",\"\",INDIRECT($B$2&CQ$2&$A70))","v":""},{"$f":"IF(INDIRECT($B$2&CR$2&$A70)=\"\",\"\",INDIRECT($B$2&CR$2&$A70))","v":""},{"$f":"IF(INDIRECT($B$2&CS$2&$A70)=\"\",\"\",INDIRECT($B$2&CS$2&$A70))","v":""}]
[98,null,null,null,null,null,null,null,null,null,null,null,null,null,null,61,{"$f":"IF(INDIRECT($B$2&$Q$2&$A71)=\"\",\"\",INDIRECT($B$2&$Q$2&$A71))","v":""},null,{"$f":"IF(INDIRECT($B$2&$S$2&$A71)=\"\",\"\",INDIRECT($B$2&$S$2&$A71))","v":0},{"$f":"IF(INDIRECT($B$2&$T$2&$A71)=\"\",\"\",INDIRECT($B$2&$T$2&$A71))","v":0},{"$f":"IF(INDIRECT($B$2&$U$2&$A71)=\"\",\"\",INDIRECT($B$2&$U$2&$A71))","v":0},{"$f":"IF(INDIRECT($B$2&$V$2&$A71)=\"\",\"\",INDIRECT($B$2&$V$2&$A71))","v":""},{"$f":"IF(INDIRECT($B$2&$W$2&$A71)=\"\",\"\",INDIRECT($B$2&$W$2&$A71))","v":""},{"$f":"IF(INDIRECT($B$2&$X$2&$A71)=\"\",\"\",INDIRECT($B$2&$X$2&$A71))","v":""},{"$f":"IF(INDIRECT($B$2&$Y$2&$A71)=\"\",\"\",INDIRECT($B$2&$Y$2&$A71))","v":""},{"$f":"IF(INDIRECT($B$2&$Z$2&$A71)=\"\",\"\",INDIRECT($B$2&$Z$2&$A71))","v":""},null,{"$f":"IF(INDIRECT($B$2&$AB$2&$A71)=\"\",\"\",INDIRECT($B$2&$AB$2&$A71))","v":""},{"$f":"IF(INDIRECT($B$2&$AC$2&$A71)=\"\",\"\",INDIRECT($B$2&$AC$2&$A71))","v":""},{"$f":"IF(INDIRECT($B$2&$AD$2&$A71)=\"\",\"\",INDIRECT($B$2&$AD$2&$A71))","v":""},{"$f":"IF(INDIRECT($B$2&$AE$2&$A71)=\"\",\"\",INDIRECT($B$2&$AE$2&$A71))","v":""},{"$f":"IF(INDIRECT($B$2&$AF$2&$A71)=\"\",\"\",INDIRECT($B$2&$AF$2&$A71))","v":""},null,null,null,null,null,null,null,null,null,null,null,null,null,null,null,{"$f":"IF(INDIRECT($B$2&AV$2&$A71)=\"\",\"\",INDIRECT($B$2&AV$2&$A71))","v":""},{"$f":"IF(INDIRECT($B$2&AW$2&$A71)=\"\",\"\",INDIRECT($B$2&AW$2&$A71))","v":""},{"$f":"IF(INDIRECT($B$2&AX$2&$A71)=\"\",\"\",INDIRECT($B$2&AX$2&$A71))","v":""},{"$f":"IF(INDIRECT($B$2&AY$2&$A71)=\"\",\"\",INDIRECT($B$2&AY$2&$A71))","v":""},{"$f":"IF(INDIRECT($B$2&AZ$2&$A71)=\"\",\"\",INDIRECT($B$2&AZ$2&$A71))","v":""},{"$f":"IF(INDIRECT($B$2&BA$2&$A71)=\"\",\"\",INDIRECT($B$2&BA$2&$A71))","v":""},{"$f":"IF(INDIRECT($B$2&BB$2&$A71)=\"\",\"\",INDIRECT($B$2&BB$2&$A71))","v":""},{"$f":"IF(INDIRECT($B$2&BC$2&$A71)=\"\",\"\",INDIRECT($B$2&BC$2&$A71))","v":""},{"$f":"IF(INDIRECT($B$2&BD$2&$A71)=\"\",\"\",INDIRECT($B$2&BD$2&$A71))","v":""},{"$f":"IF(INDIRECT($B$2&BE$2&$A71)=\"\",\"\",INDIRECT($B$2&BE$2&$A71))","v":""},{"$f":"IF(INDIRECT($B$2&BF$2&$A71)=\"\",\"\",INDIRECT($B$2&BF$2&$A71))","v":""},{"$f":"IF(INDIRECT($B$2&BG$2&$A71)=\"\",\"\",INDIRECT($B$2&BG$2&$A71))","v":""},{"$f":"IF(INDIRECT($B$2&BH$2&$A71)=\"\",\"\",INDIRECT($B$2&BH$2&$A71))","v":""},{"$f":"IF(INDIRECT($B$2&BI$2&$A71)=\"\",\"\",INDIRECT($B$2&BI$2&$A71))","v":""},{"$f":"IF(INDIRECT($B$2&BJ$2&$A71)=\"\",\"\",INDIRECT($B$2&BJ$2&$A71))","v":""},{"$f":"IF(INDIRECT($B$2&BK$2&$A71)=\"\",\"\",INDIRECT($B$2&BK$2&$A71))","v":0},{"$f":"IF(INDIRECT($B$2&BL$2&$A71)=\"\",\"\",INDIRECT($B$2&BL$2&$A71))","v":""},{"$f":"IF(INDIRECT($B$2&BM$2&$A71)=\"\",\"\",INDIRECT($B$2&BM$2&$A71))","v":""},{"$f":"IF(INDIRECT($B$2&BN$2&$A71)=\"\",\"\",INDIRECT($B$2&BN$2&$A71))","v":""},{"$f":"IF(INDIRECT($B$2&BO$2&$A71)=\"\",\"\",INDIRECT($B$2&BO$2&$A71))","v":""},{"$f":"IF(INDIRECT($B$2&BP$2&$A71)=\"\",\"\",INDIRECT($B$2&BP$2&$A71))","v":""},{"$f":"IF(INDIRECT($B$2&BQ$2&$A71)=\"\",\"\",INDIRECT($B$2&BQ$2&$A71))","v":""},{"$f":"IF(INDIRECT($B$2&BR$2&$A71)=\"\",\"\",INDIRECT($B$2&BR$2&$A71))","v":""},{"$f":"IF(INDIRECT($B$2&BS$2&$A71)=\"\",\"\",INDIRECT($B$2&BS$2&$A71))","v":""},{"$f":"IF(INDIRECT($B$2&BT$2&$A71)=\"\",\"\",INDIRECT($B$2&BT$2&$A71))","v":""},{"$f":"IF(INDIRECT($B$2&BU$2&$A71)=\"\",\"\",INDIRECT($B$2&BU$2&$A71))","v":""},{"$f":"IF(INDIRECT($B$2&BV$2&$A71)=\"\",\"\",INDIRECT($B$2&BV$2&$A71))","v":""},{"$f":"IF(INDIRECT($B$2&BW$2&$A71)=\"\",\"\",INDIRECT($B$2&BW$2&$A71))","v":""},{"$f":"IF(INDIRECT($B$2&BX$2&$A71)=\"\",\"\",INDIRECT($B$2&BX$2&$A71))","v":""},{"$f":"IF(INDIRECT($B$2&BY$2&$A71)=\"\",\"\",INDIRECT($B$2&BY$2&$A71))","v":""},{"$f":"IF(INDIRECT($B$2&BZ$2&$A71)=\"\",\"\",INDIRECT($B$2&BZ$2&$A71))","v":0},{"$f":"IF(INDIRECT($B$2&CA$2&$A71)=\"\",\"\",INDIRECT($B$2&CA$2&$A71))","v":""},{"$f":"IF(INDIRECT($B$2&CB$2&$A71)=\"\",\"\",INDIRECT($B$2&CB$2&$A71))","v":""},{"$f":"IF(INDIRECT($B$2&CC$2&$A71)=\"\",\"\",INDIRECT($B$2&CC$2&$A71))","v":""},{"$f":"IF(INDIRECT($B$2&CD$2&$A71)=\"\",\"\",INDIRECT($B$2&CD$2&$A71))","v":""},{"$f":"IF(INDIRECT($B$2&CE$2&$A71)=\"\",\"\",INDIRECT($B$2&CE$2&$A71))","v":""},{"$f":"IF(INDIRECT($B$2&CF$2&$A71)=\"\",\"\",INDIRECT($B$2&CF$2&$A71))","v":""},{"$f":"IF(INDIRECT($B$2&CG$2&$A71)=\"\",\"\",INDIRECT($B$2&CG$2&$A71))","v":""},{"$f":"IF(INDIRECT($B$2&CH$2&$A71)=\"\",\"\",INDIRECT($B$2&CH$2&$A71))","v":""},{"$f":"IF(INDIRECT($B$2&CI$2&$A71)=\"\",\"\",INDIRECT($B$2&CI$2&$A71))","v":""},{"$f":"IF(INDIRECT($B$2&CJ$2&$A71)=\"\",\"\",INDIRECT($B$2&CJ$2&$A71))","v":""},{"$f":"IF(INDIRECT($B$2&CK$2&$A71)=\"\",\"\",INDIRECT($B$2&CK$2&$A71))","v":""},{"$f":"IF(INDIRECT($B$2&CL$2&$A71)=\"\",\"\",INDIRECT($B$2&CL$2&$A71))","v":""},{"$f":"IF(INDIRECT($B$2&CM$2&$A71)=\"\",\"\",INDIRECT($B$2&CM$2&$A71))","v":""},{"$f":"IF(INDIRECT($B$2&CN$2&$A71)=\"\",\"\",INDIRECT($B$2&CN$2&$A71))","v":""},{"$f":"IF(INDIRECT($B$2&CO$2&$A71)=\"\",\"\",INDIRECT($B$2&CO$2&$A71))","v":""},null,{"$f":"IF(INDIRECT($B$2&CQ$2&$A71)=\"\",\"\",INDIRECT($B$2&CQ$2&$A71))","v":""},{"$f":"IF(INDIRECT($B$2&CR$2&$A71)=\"\",\"\",INDIRECT($B$2&CR$2&$A71))","v":""},{"$f":"IF(INDIRECT($B$2&CS$2&$A71)=\"\",\"\",INDIRECT($B$2&CS$2&$A71))","v":""}]
[99,null,null,null,null,null,null,null,null,null,null,null,null,null,null,62,{"$f":"IF(INDIRECT($B$2&$Q$2&$A72)=\"\",\"\",INDIRECT($B$2&$Q$2&$A72))","v":""},null,{"$f":"IF(INDIRECT($B$2&$S$2&$A72)=\"\",\"\",INDIRECT($B$2&$S$2&$A72))","v":0},{"$f":"IF(INDIRECT($B$2&$T$2&$A72)=\"\",\"\",INDIRECT($B$2&$T$2&$A72))","v":0},{"$f":"IF(INDIRECT($B$2&$U$2&$A72)=\"\",\"\",INDIRECT($B$2&$U$2&$A72))","v":0},{"$f":"IF(INDIRECT($B$2&$V$2&$A72)=\"\",\"\",INDIRECT($B$2&$V$2&$A72))","v":""},{"$f":"IF(INDIRECT($B$2&$W$2&$A72)=\"\",\"\",INDIRECT($B$2&$W$2&$A72))","v":""},{"$f":"IF(INDIRECT($B$2&$X$2&$A72)=\"\",\"\",INDIRECT($B$2&$X$2&$A72))","v":""},{"$f":"IF(INDIRECT($B$2&$Y$2&$A72)=\"\",\"\",INDIRECT($B$2&$Y$2&$A72))","v":""},{"$f":"IF(INDIRECT($B$2&$Z$2&$A72)=\"\",\"\",INDIRECT($B$2&$Z$2&$A72))","v":""},null,{"$f":"IF(INDIRECT($B$2&$AB$2&$A72)=\"\",\"\",INDIRECT($B$2&$AB$2&$A72))","v":""},{"$f":"IF(INDIRECT($B$2&$AC$2&$A72)=\"\",\"\",INDIRECT($B$2&$AC$2&$A72))","v":""},{"$f":"IF(INDIRECT($B$2&$AD$2&$A72)=\"\",\"\",INDIRECT($B$2&$AD$2&$A72))","v":""},{"$f":"IF(INDIRECT($B$2&$AE$2&$A72)=\"\",\"\",INDIRECT($B$2&$AE$2&$A72))","v":""},{"$f":"IF(INDIRECT($B$2&$AF$2&$A72)=\"\",\"\",INDIRECT($B$2&$AF$2&$A72))","v":""},null,null,null,null,null,null,null,null,null,null,null,null,null,null,null,{"$f":"IF(INDIRECT($B$2&AV$2&$A72)=\"\",\"\",INDIRECT($B$2&AV$2&$A72))","v":""},{"$f":"IF(INDIRECT($B$2&AW$2&$A72)=\"\",\"\",INDIRECT($B$2&AW$2&$A72))","v":""},{"$f":"IF(INDIRECT($B$2&AX$2&$A72)=\"\",\"\",INDIRECT($B$2&AX$2&$A72))","v":""},{"$f":"IF(INDIRECT($B$2&AY$2&$A72)=\"\",\"\",INDIRECT($B$2&AY$2&$A72))","v":""},{"$f":"IF(INDIRECT($B$2&AZ$2&$A72)=\"\",\"\",INDIRECT($B$2&AZ$2&$A72))","v":""},{"$f":"IF(INDIRECT($B$2&BA$2&$A72)=\"\",\"\",INDIRECT($B$2&BA$2&$A72))","v":""},{"$f":"IF(INDIRECT($B$2&BB$2&$A72)=\"\",\"\",INDIRECT($B$2&BB$2&$A72))","v":""},{"$f":"IF(INDIRECT($B$2&BC$2&$A72)=\"\",\"\",INDIRECT($B$2&BC$2&$A72))","v":""},{"$f":"IF(INDIRECT($B$2&BD$2&$A72)=\"\",\"\",INDIRECT($B$2&BD$2&$A72))","v":""},{"$f":"IF(INDIRECT($B$2&BE$2&$A72)=\"\",\"\",INDIRECT($B$2&BE$2&$A72))","v":""},{"$f":"IF(INDIRECT($B$2&BF$2&$A72)=\"\",\"\",INDIRECT($B$2&BF$2&$A72))","v":""},{"$f":"IF(INDIRECT($B$2&BG$2&$A72)=\"\",\"\",INDIRECT($B$2&BG$2&$A72))","v":""},{"$f":"IF(INDIRECT($B$2&BH$2&$A72)=\"\",\"\",INDIRECT($B$2&BH$2&$A72))","v":""},{"$f":"IF(INDIRECT($B$2&BI$2&$A72)=\"\",\"\",INDIRECT($B$2&BI$2&$A72))","v":""},{"$f":"IF(INDIRECT($B$2&BJ$2&$A72)=\"\",\"\",INDIRECT($B$2&BJ$2&$A72))","v":""},{"$f":"IF(INDIRECT($B$2&BK$2&$A72)=\"\",\"\",INDIRECT($B$2&BK$2&$A72))","v":0},{"$f":"IF(INDIRECT($B$2&BL$2&$A72)=\"\",\"\",INDIRECT($B$2&BL$2&$A72))","v":""},{"$f":"IF(INDIRECT($B$2&BM$2&$A72)=\"\",\"\",INDIRECT($B$2&BM$2&$A72))","v":""},{"$f":"IF(INDIRECT($B$2&BN$2&$A72)=\"\",\"\",INDIRECT($B$2&BN$2&$A72))","v":""},{"$f":"IF(INDIRECT($B$2&BO$2&$A72)=\"\",\"\",INDIRECT($B$2&BO$2&$A72))","v":""},{"$f":"IF(INDIRECT($B$2&BP$2&$A72)=\"\",\"\",INDIRECT($B$2&BP$2&$A72))","v":""},{"$f":"IF(INDIRECT($B$2&BQ$2&$A72)=\"\",\"\",INDIRECT($B$2&BQ$2&$A72))","v":""},{"$f":"IF(INDIRECT($B$2&BR$2&$A72)=\"\",\"\",INDIRECT($B$2&BR$2&$A72))","v":""},{"$f":"IF(INDIRECT($B$2&BS$2&$A72)=\"\",\"\",INDIRECT($B$2&BS$2&$A72))","v":""},{"$f":"IF(INDIRECT($B$2&BT$2&$A72)=\"\",\"\",INDIRECT($B$2&BT$2&$A72))","v":""},{"$f":"IF(INDIRECT($B$2&BU$2&$A72)=\"\",\"\",INDIRECT($B$2&BU$2&$A72))","v":""},{"$f":"IF(INDIRECT($B$2&BV$2&$A72)=\"\",\"\",INDIRECT($B$2&BV$2&$A72))","v":""},{"$f":"IF(INDIRECT($B$2&BW$2&$A72)=\"\",\"\",INDIRECT($B$2&BW$2&$A72))","v":""},{"$f":"IF(INDIRECT($B$2&BX$2&$A72)=\"\",\"\",INDIRECT($B$2&BX$2&$A72))","v":""},{"$f":"IF(INDIRECT($B$2&BY$2&$A72)=\"\",\"\",INDIRECT($B$2&BY$2&$A72))","v":""},{"$f":"IF(INDIRECT($B$2&BZ$2&$A72)=\"\",\"\",INDIRECT($B$2&BZ$2&$A72))","v":0},{"$f":"IF(INDIRECT($B$2&CA$2&$A72)=\"\",\"\",INDIRECT($B$2&CA$2&$A72))","v":""},{"$f":"IF(INDIRECT($B$2&CB$2&$A72)=\"\",\"\",INDIRECT($B$2&CB$2&$A72))","v":""},{"$f":"IF(INDIRECT($B$2&CC$2&$A72)=\"\",\"\",INDIRECT($B$2&CC$2&$A72))","v":""},{"$f":"IF(INDIRECT($B$2&CD$2&$A72)=\"\",\"\",INDIRECT($B$2&CD$2&$A72))","v":""},{"$f":"IF(INDIRECT($B$2&CE$2&$A72)=\"\",\"\",INDIRECT($B$2&CE$2&$A72))","v":""},{"$f":"IF(INDIRECT($B$2&CF$2&$A72)=\"\",\"\",INDIRECT($B$2&CF$2&$A72))","v":""},{"$f":"IF(INDIRECT($B$2&CG$2&$A72)=\"\",\"\",INDIRECT($B$2&CG$2&$A72))","v":""},{"$f":"IF(INDIRECT($B$2&CH$2&$A72)=\"\",\"\",INDIRECT($B$2&CH$2&$A72))","v":""},{"$f":"IF(INDIRECT($B$2&CI$2&$A72)=\"\",\"\",INDIRECT($B$2&CI$2&$A72))","v":""},{"$f":"IF(INDIRECT($B$2&CJ$2&$A72)=\"\",\"\",INDIRECT($B$2&CJ$2&$A72))","v":""},{"$f":"IF(INDIRECT($B$2&CK$2&$A72)=\"\",\"\",INDIRECT($B$2&CK$2&$A72))","v":""},{"$f":"IF(INDIRECT($B$2&CL$2&$A72)=\"\",\"\",INDIRECT($B$2&CL$2&$A72))","v":""},{"$f":"IF(INDIRECT($B$2&CM$2&$A72)=\"\",\"\",INDIRECT($B$2&CM$2&$A72))","v":""},{"$f":"IF(INDIRECT($B$2&CN$2&$A72)=\"\",\"\",INDIRECT($B$2&CN$2&$A72))","v":""},{"$f":"IF(INDIRECT($B$2&CO$2&$A72)=\"\",\"\",INDIRECT($B$2&CO$2&$A72))","v":""},null,{"$f":"IF(INDIRECT($B$2&CQ$2&$A72)=\"\",\"\",INDIRECT($B$2&CQ$2&$A72))","v":""},{"$f":"IF(INDIRECT($B$2&CR$2&$A72)=\"\",\"\",INDIRECT($B$2&CR$2&$A72))","v":""},{"$f":"IF(INDIRECT($B$2&CS$2&$A72)=\"\",\"\",INDIRECT($B$2&CS$2&$A72))","v":""}]
[100,null,null,null,null,null,null,null,null,null,null,null,null,null,null,63,{"$f":"IF(INDIRECT($B$2&$Q$2&$A73)=\"\",\"\",INDIRECT($B$2&$Q$2&$A73))","v":""},null,{"$f":"IF(INDIRECT($B$2&$S$2&$A73)=\"\",\"\",INDIRECT($B$2&$S$2&$A73))","v":0},{"$f":"IF(INDIRECT($B$2&$T$2&$A73)=\"\",\"\",INDIRECT($B$2&$T$2&$A73))","v":0},{"$f":"IF(INDIRECT($B$2&$U$2&$A73)=\"\",\"\",INDIRECT($B$2&$U$2&$A73))","v":0},{"$f":"IF(INDIRECT($B$2&$V$2&$A73)=\"\",\"\",INDIRECT($B$2&$V$2&$A73))","v":""},{"$f":"IF(INDIRECT($B$2&$W$2&$A73)=\"\",\"\",INDIRECT($B$2&$W$2&$A73))","v":""},{"$f":"IF(INDIRECT($B$2&$X$2&$A73)=\"\",\"\",INDIRECT($B$2&$X$2&$A73))","v":""},{"$f":"IF(INDIRECT($B$2&$Y$2&$A73)=\"\",\"\",INDIRECT($B$2&$Y$2&$A73))","v":""},{"$f":"IF(INDIRECT($B$2&$Z$2&$A73)=\"\",\"\",INDIRECT($B$2&$Z$2&$A73))","v":""},null,{"$f":"IF(INDIRECT($B$2&$AB$2&$A73)=\"\",\"\",INDIRECT($B$2&$AB$2&$A73))","v":""},{"$f":"IF(INDIRECT($B$2&$AC$2&$A73)=\"\",\"\",INDIRECT($B$2&$AC$2&$A73))","v":""},{"$f":"IF(INDIRECT($B$2&$AD$2&$A73)=\"\",\"\",INDIRECT($B$2&$AD$2&$A73))","v":""},{"$f":"IF(INDIRECT($B$2&$AE$2&$A73)=\"\",\"\",INDIRECT($B$2&$AE$2&$A73))","v":""},{"$f":"IF(INDIRECT($B$2&$AF$2&$A73)=\"\",\"\",INDIRECT($B$2&$AF$2&$A73))","v":""},null,null,null,null,null,null,null,null,null,null,null,null,null,null,null,{"$f":"IF(INDIRECT($B$2&AV$2&$A73)=\"\",\"\",INDIRECT($B$2&AV$2&$A73))","v":""},{"$f":"IF(INDIRECT($B$2&AW$2&$A73)=\"\",\"\",INDIRECT($B$2&AW$2&$A73))","v":""},{"$f":"IF(INDIRECT($B$2&AX$2&$A73)=\"\",\"\",INDIRECT($B$2&AX$2&$A73))","v":""},{"$f":"IF(INDIRECT($B$2&AY$2&$A73)=\"\",\"\",INDIRECT($B$2&AY$2&$A73))","v":""},{"$f":"IF(INDIRECT($B$2&AZ$2&$A73)=\"\",\"\",INDIRECT($B$2&AZ$2&$A73))","v":""},{"$f":"IF(INDIRECT($B$2&BA$2&$A73)=\"\",\"\",INDIRECT($B$2&BA$2&$A73))","v":""},{"$f":"IF(INDIRECT($B$2&BB$2&$A73)=\"\",\"\",INDIRECT($B$2&BB$2&$A73))","v":""},{"$f":"IF(INDIRECT($B$2&BC$2&$A73)=\"\",\"\",INDIRECT($B$2&BC$2&$A73))","v":""},{"$f":"IF(INDIRECT($B$2&BD$2&$A73)=\"\",\"\",INDIRECT($B$2&BD$2&$A73))","v":""},{"$f":"IF(INDIRECT($B$2&BE$2&$A73)=\"\",\"\",INDIRECT($B$2&BE$2&$A73))","v":""},{"$f":"IF(INDIRECT($B$2&BF$2&$A73)=\"\",\"\",INDIRECT($B$2&BF$2&$A73))","v":""},{"$f":"IF(INDIRECT($B$2&BG$2&$A73)=\"\",\"\",INDIRECT($B$2&BG$2&$A73))","v":""},{"$f":"IF(INDIRECT($B$2&BH$2&$A73)=\"\",\"\",INDIRECT($B$2&BH$2&$A73))","v":""},{"$f":"IF(INDIRECT($B$2&BI$2&$A73)=\"\",\"\",INDIRECT($B$2&BI$2&$A73))","v":""},{"$f":"IF(INDIRECT($B$2&BJ$2&$A73)=\"\",\"\",INDIRECT($B$2&BJ$2&$A73))","v":""},{"$f":"IF(INDIRECT($B$2&BK$2&$A73)=\"\",\"\",INDIRECT($B$2&BK$2&$A73))","v":0},{"$f":"IF(INDIRECT($B$2&BL$2&$A73)=\"\",\"\",INDIRECT($B$2&BL$2&$A73))","v":""},{"$f":"IF(INDIRECT($B$2&BM$2&$A73)=\"\",\"\",INDIRECT($B$2&BM$2&$A73))","v":""},{"$f":"IF(INDIRECT($B$2&BN$2&$A73)=\"\",\"\",INDIRECT($B$2&BN$2&$A73))","v":""},{"$f":"IF(INDIRECT($B$2&BO$2&$A73)=\"\",\"\",INDIRECT($B$2&BO$2&$A73))","v":""},{"$f":"IF(INDIRECT($B$2&BP$2&$A73)=\"\",\"\",INDIRECT($B$2&BP$2&$A73))","v":""},{"$f":"IF(INDIRECT($B$2&BQ$2&$A73)=\"\",\"\",INDIRECT($B$2&BQ$2&$A73))","v":""},{"$f":"IF(INDIRECT($B$2&BR$2&$A73)=\"\",\"\",INDIRECT($B$2&BR$2&$A73))","v":""},{"$f":"IF(INDIRECT($B$2&BS$2&$A73)=\"\",\"\",INDIRECT($B$2&BS$2&$A73))","v":""},{"$f":"IF(INDIRECT($B$2&BT$2&$A73)=\"\",\"\",INDIRECT($B$2&BT$2&$A73))","v":""},{"$f":"IF(INDIRECT($B$2&BU$2&$A73)=\"\",\"\",INDIRECT($B$2&BU$2&$A73))","v":""},{"$f":"IF(INDIRECT($B$2&BV$2&$A73)=\"\",\"\",INDIRECT($B$2&BV$2&$A73))","v":""},{"$f":"IF(INDIRECT($B$2&BW$2&$A73)=\"\",\"\",INDIRECT($B$2&BW$2&$A73))","v":""},{"$f":"IF(INDIRECT($B$2&BX$2&$A73)=\"\",\"\",INDIRECT($B$2&BX$2&$A73))","v":""},{"$f":"IF(INDIRECT($B$2&BY$2&$A73)=\"\",\"\",INDIRECT($B$2&BY$2&$A73))","v":""},{"$f":"IF(INDIRECT($B$2&BZ$2&$A73)=\"\",\"\",INDIRECT($B$2&BZ$2&$A73))","v":0},{"$f":"IF(INDIRECT($B$2&CA$2&$A73)=\"\",\"\",INDIRECT($B$2&CA$2&$A73))","v":""},{"$f":"IF(INDIRECT($B$2&CB$2&$A73)=\"\",\"\",INDIRECT($B$2&CB$2&$A73))","v":""},{"$f":"IF(INDIRECT($B$2&CC$2&$A73)=\"\",\"\",INDIRECT($B$2&CC$2&$A73))","v":""},{"$f":"IF(INDIRECT($B$2&CD$2&$A73)=\"\",\"\",INDIRECT($B$2&CD$2&$A73))","v":""},{"$f":"IF(INDIRECT($B$2&CE$2&$A73)=\"\",\"\",INDIRECT($B$2&CE$2&$A73))","v":""},{"$f":"IF(INDIRECT($B$2&CF$2&$A73)=\"\",\"\",INDIRECT($B$2&CF$2&$A73))","v":""},{"$f":"IF(INDIRECT($B$2&CG$2&$A73)=\"\",\"\",INDIRECT($B$2&CG$2&$A73))","v":""},{"$f":"IF(INDIRECT($B$2&CH$2&$A73)=\"\",\"\",INDIRECT($B$2&CH$2&$A73))","v":""},{"$f":"IF(INDIRECT($B$2&CI$2&$A73)=\"\",\"\",INDIRECT($B$2&CI$2&$A73))","v":""},{"$f":"IF(INDIRECT($B$2&CJ$2&$A73)=\"\",\"\",INDIRECT($B$2&CJ$2&$A73))","v":""},{"$f":"IF(INDIRECT($B$2&CK$2&$A73)=\"\",\"\",INDIRECT($B$2&CK$2&$A73))","v":""},{"$f":"IF(INDIRECT($B$2&CL$2&$A73)=\"\",\"\",INDIRECT($B$2&CL$2&$A73))","v":""},{"$f":"IF(INDIRECT($B$2&CM$2&$A73)=\"\",\"\",INDIRECT($B$2&CM$2&$A73))","v":""},{"$f":"IF(INDIRECT($B$2&CN$2&$A73)=\"\",\"\",INDIRECT($B$2&CN$2&$A73))","v":""},{"$f":"IF(INDIRECT($B$2&CO$2&$A73)=\"\",\"\",INDIRECT($B$2&CO$2&$A73))","v":""},null,{"$f":"IF(INDIRECT($B$2&CQ$2&$A73)=\"\",\"\",INDIRECT($B$2&CQ$2&$A73))","v":""},{"$f":"IF(INDIRECT($B$2&CR$2&$A73)=\"\",\"\",INDIRECT($B$2&CR$2&$A73))","v":""},{"$f":"IF(INDIRECT($B$2&CS$2&$A73)=\"\",\"\",INDIRECT($B$2&CS$2&$A73))","v":""}]
[101,null,null,null,null,null,null,null,null,null,null,null,null,null,null,64,{"$f":"IF(INDIRECT($B$2&$Q$2&$A74)=\"\",\"\",INDIRECT($B$2&$Q$2&$A74))","v":""},null,{"$f":"IF(INDIRECT($B$2&$S$2&$A74)=\"\",\"\",INDIRECT($B$2&$S$2&$A74))","v":0},{"$f":"IF(INDIRECT($B$2&$T$2&$A74)=\"\",\"\",INDIRECT($B$2&$T$2&$A74))","v":0},{"$f":"IF(INDIRECT($B$2&$U$2&$A74)=\"\",\"\",INDIRECT($B$2&$U$2&$A74))","v":0},{"$f":"IF(INDIRECT($B$2&$V$2&$A74)=\"\",\"\",INDIRECT($B$2&$V$2&$A74))","v":""},{"$f":"IF(INDIRECT($B$2&$W$2&$A74)=\"\",\"\",INDIRECT($B$2&$W$2&$A74))","v":""},{"$f":"IF(INDIRECT($B$2&$X$2&$A74)=\"\",\"\",INDIRECT($B$2&$X$2&$A74))","v":""},{"$f":"IF(INDIRECT($B$2&$Y$2&$A74)=\"\",\"\",INDIRECT($B$2&$Y$2&$A74))","v":""},{"$f":"IF(INDIRECT($B$2&$Z$2&$A74)=\"\",\"\",INDIRECT($B$2&$Z$2&$A74))","v":""},null,{"$f":"IF(INDIRECT($B$2&$AB$2&$A74)=\"\",\"\",INDIRECT($B$2&$AB$2&$A74))","v":""},{"$f":"IF(INDIRECT($B$2&$AC$2&$A74)=\"\",\"\",INDIRECT($B$2&$AC$2&$A74))","v":""},{"$f":"IF(INDIRECT($B$2&$AD$2&$A74)=\"\",\"\",INDIRECT($B$2&$AD$2&$A74))","v":""},{"$f":"IF(INDIRECT($B$2&$AE$2&$A74)=\"\",\"\",INDIRECT($B$2&$AE$2&$A74))","v":""},{"$f":"IF(INDIRECT($B$2&$AF$2&$A74)=\"\",\"\",INDIRECT($B$2&$AF$2&$A74))","v":""},null,null,null,null,null,null,null,null,null,null,null,null,null,null,null,{"$f":"IF(INDIRECT($B$2&AV$2&$A74)=\"\",\"\",INDIRECT($B$2&AV$2&$A74))","v":""},{"$f":"IF(INDIRECT($B$2&AW$2&$A74)=\"\",\"\",INDIRECT($B$2&AW$2&$A74))","v":""},{"$f":"IF(INDIRECT($B$2&AX$2&$A74)=\"\",\"\",INDIRECT($B$2&AX$2&$A74))","v":""},{"$f":"IF(INDIRECT($B$2&AY$2&$A74)=\"\",\"\",INDIRECT($B$2&AY$2&$A74))","v":""},{"$f":"IF(INDIRECT($B$2&AZ$2&$A74)=\"\",\"\",INDIRECT($B$2&AZ$2&$A74))","v":""},{"$f":"IF(INDIRECT($B$2&BA$2&$A74)=\"\",\"\",INDIRECT($B$2&BA$2&$A74))","v":""},{"$f":"IF(INDIRECT($B$2&BB$2&$A74)=\"\",\"\",INDIRECT($B$2&BB$2&$A74))","v":""},{"$f":"IF(INDIRECT($B$2&BC$2&$A74)=\"\",\"\",INDIRECT($B$2&BC$2&$A74))","v":""},{"$f":"IF(INDIRECT($B$2&BD$2&$A74)=\"\",\"\",INDIRECT($B$2&BD$2&$A74))","v":""},{"$f":"IF(INDIRECT($B$2&BE$2&$A74)=\"\",\"\",INDIRECT($B$2&BE$2&$A74))","v":""},{"$f":"IF(INDIRECT($B$2&BF$2&$A74)=\"\",\"\",INDIRECT($B$2&BF$2&$A74))","v":""},{"$f":"IF(INDIRECT($B$2&BG$2&$A74)=\"\",\"\",INDIRECT($B$2&BG$2&$A74))","v":""},{"$f":"IF(INDIRECT($B$2&BH$2&$A74)=\"\",\"\",INDIRECT($B$2&BH$2&$A74))","v":""},{"$f":"IF(INDIRECT($B$2&BI$2&$A74)=\"\",\"\",INDIRECT($B$2&BI$2&$A74))","v":""},{"$f":"IF(INDIRECT($B$2&BJ$2&$A74)=\"\",\"\",INDIRECT($B$2&BJ$2&$A74))","v":""},{"$f":"IF(INDIRECT($B$2&BK$2&$A74)=\"\",\"\",INDIRECT($B$2&BK$2&$A74))","v":0},{"$f":"IF(INDIRECT($B$2&BL$2&$A74)=\"\",\"\",INDIRECT($B$2&BL$2&$A74))","v":""},{"$f":"IF(INDIRECT($B$2&BM$2&$A74)=\"\",\"\",INDIRECT($B$2&BM$2&$A74))","v":""},{"$f":"IF(INDIRECT($B$2&BN$2&$A74)=\"\",\"\",INDIRECT($B$2&BN$2&$A74))","v":""},{"$f":"IF(INDIRECT($B$2&BO$2&$A74)=\"\",\"\",INDIRECT($B$2&BO$2&$A74))","v":""},{"$f":"IF(INDIRECT($B$2&BP$2&$A74)=\"\",\"\",INDIRECT($B$2&BP$2&$A74))","v":""},{"$f":"IF(INDIRECT($B$2&BQ$2&$A74)=\"\",\"\",INDIRECT($B$2&BQ$2&$A74))","v":""},{"$f":"IF(INDIRECT($B$2&BR$2&$A74)=\"\",\"\",INDIRECT($B$2&BR$2&$A74))","v":""},{"$f":"IF(INDIRECT($B$2&BS$2&$A74)=\"\",\"\",INDIRECT($B$2&BS$2&$A74))","v":""},{"$f":"IF(INDIRECT($B$2&BT$2&$A74)=\"\",\"\",INDIRECT($B$2&BT$2&$A74))","v":""},{"$f":"IF(INDIRECT($B$2&BU$2&$A74)=\"\",\"\",INDIRECT($B$2&BU$2&$A74))","v":""},{"$f":"IF(INDIRECT($B$2&BV$2&$A74)=\"\",\"\",INDIRECT($B$2&BV$2&$A74))","v":""},{"$f":"IF(INDIRECT($B$2&BW$2&$A74)=\"\",\"\",INDIRECT($B$2&BW$2&$A74))","v":""},{"$f":"IF(INDIRECT($B$2&BX$2&$A74)=\"\",\"\",INDIRECT($B$2&BX$2&$A74))","v":""},{"$f":"IF(INDIRECT($B$2&BY$2&$A74)=\"\",\"\",INDIRECT($B$2&BY$2&$A74))","v":""},{"$f":"IF(INDIRECT($B$2&BZ$2&$A74)=\"\",\"\",INDIRECT($B$2&BZ$2&$A74))","v":0},{"$f":"IF(INDIRECT($B$2&CA$2&$A74)=\"\",\"\",INDIRECT($B$2&CA$2&$A74))","v":""},{"$f":"IF(INDIRECT($B$2&CB$2&$A74)=\"\",\"\",INDIRECT($B$2&CB$2&$A74))","v":""},{"$f":"IF(INDIRECT($B$2&CC$2&$A74)=\"\",\"\",INDIRECT($B$2&CC$2&$A74))","v":""},{"$f":"IF(INDIRECT($B$2&CD$2&$A74)=\"\",\"\",INDIRECT($B$2&CD$2&$A74))","v":""},{"$f":"IF(INDIRECT($B$2&CE$2&$A74)=\"\",\"\",INDIRECT($B$2&CE$2&$A74))","v":""},{"$f":"IF(INDIRECT($B$2&CF$2&$A74)=\"\",\"\",INDIRECT($B$2&CF$2&$A74))","v":""},{"$f":"IF(INDIRECT($B$2&CG$2&$A74)=\"\",\"\",INDIRECT($B$2&CG$2&$A74))","v":""},{"$f":"IF(INDIRECT($B$2&CH$2&$A74)=\"\",\"\",INDIRECT($B$2&CH$2&$A74))","v":""},{"$f":"IF(INDIRECT($B$2&CI$2&$A74)=\"\",\"\",INDIRECT($B$2&CI$2&$A74))","v":""},{"$f":"IF(INDIRECT($B$2&CJ$2&$A74)=\"\",\"\",INDIRECT($B$2&CJ$2&$A74))","v":""},{"$f":"IF(INDIRECT($B$2&CK$2&$A74)=\"\",\"\",INDIRECT($B$2&CK$2&$A74))","v":""},{"$f":"IF(INDIRECT($B$2&CL$2&$A74)=\"\",\"\",INDIRECT($B$2&CL$2&$A74))","v":""},{"$f":"IF(INDIRECT($B$2&CM$2&$A74)=\"\",\"\",INDIRECT($B$2&CM$2&$A74))","v":""},{"$f":"IF(INDIRECT($B$2&CN$2&$A74)=\"\",\"\",INDIRECT($B$2&CN$2&$A74))","v":""},{"$f":"IF(INDIRECT($B$2&CO$2&$A74)=\"\",\"\",INDIRECT($B$2&CO$2&$A74))","v":""},null,{"$f":"IF(INDIRECT($B$2&CQ$2&$A74)=\"\",\"\",INDIRECT($B$2&CQ$2&$A74))","v":""},{"$f":"IF(INDIRECT($B$2&CR$2&$A74)=\"\",\"\",INDIRECT($B$2&CR$2&$A74))","v":""},{"$f":"IF(INDIRECT($B$2&CS$2&$A74)=\"\",\"\",INDIRECT($B$2&CS$2&$A74))","v":""}]
[102,null,null,null,null,null,null,null,null,null,null,null,null,null,null,65,{"$f":"IF(INDIRECT($B$2&$Q$2&$A75)=\"\",\"\",INDIRECT($B$2&$Q$2&$A75))","v":""},null,{"$f":"IF(INDIRECT($B$2&$S$2&$A75)=\"\",\"\",INDIRECT($B$2&$S$2&$A75))","v":0},{"$f":"IF(INDIRECT($B$2&$T$2&$A75)=\"\",\"\",INDIRECT($B$2&$T$2&$A75))","v":0},{"$f":"IF(INDIRECT($B$2&$U$2&$A75)=\"\",\"\",INDIRECT($B$2&$U$2&$A75))","v":0},{"$f":"IF(INDIRECT($B$2&$V$2&$A75)=\"\",\"\",INDIRECT($B$2&$V$2&$A75))","v":""},{"$f":"IF(INDIRECT($B$2&$W$2&$A75)=\"\",\"\",INDIRECT($B$2&$W$2&$A75))","v":""},{"$f":"IF(INDIRECT($B$2&$X$2&$A75)=\"\",\"\",INDIRECT($B$2&$X$2&$A75))","v":""},{"$f":"IF(INDIRECT($B$2&$Y$2&$A75)=\"\",\"\",INDIRECT($B$2&$Y$2&$A75))","v":""},{"$f":"IF(INDIRECT($B$2&$Z$2&$A75)=\"\",\"\",INDIRECT($B$2&$Z$2&$A75))","v":""},null,{"$f":"IF(INDIRECT($B$2&$AB$2&$A75)=\"\",\"\",INDIRECT($B$2&$AB$2&$A75))","v":""},{"$f":"IF(INDIRECT($B$2&$AC$2&$A75)=\"\",\"\",INDIRECT($B$2&$AC$2&$A75))","v":""},{"$f":"IF(INDIRECT($B$2&$AD$2&$A75)=\"\",\"\",INDIRECT($B$2&$AD$2&$A75))","v":""},{"$f":"IF(INDIRECT($B$2&$AE$2&$A75)=\"\",\"\",INDIRECT($B$2&$AE$2&$A75))","v":""},{"$f":"IF(INDIRECT($B$2&$AF$2&$A75)=\"\",\"\",INDIRECT($B$2&$AF$2&$A75))","v":""},null,null,null,null,null,null,null,null,null,null,null,null,null,null,null,{"$f":"IF(INDIRECT($B$2&AV$2&$A75)=\"\",\"\",INDIRECT($B$2&AV$2&$A75))","v":""},{"$f":"IF(INDIRECT($B$2&AW$2&$A75)=\"\",\"\",INDIRECT($B$2&AW$2&$A75))","v":""},{"$f":"IF(INDIRECT($B$2&AX$2&$A75)=\"\",\"\",INDIRECT($B$2&AX$2&$A75))","v":""},{"$f":"IF(INDIRECT($B$2&AY$2&$A75)=\"\",\"\",INDIRECT($B$2&AY$2&$A75))","v":""},{"$f":"IF(INDIRECT($B$2&AZ$2&$A75)=\"\",\"\",INDIRECT($B$2&AZ$2&$A75))","v":""},{"$f":"IF(INDIRECT($B$2&BA$2&$A75)=\"\",\"\",INDIRECT($B$2&BA$2&$A75))","v":""},{"$f":"IF(INDIRECT($B$2&BB$2&$A75)=\"\",\"\",INDIRECT($B$2&BB$2&$A75))","v":""},{"$f":"IF(INDIRECT($B$2&BC$2&$A75)=\"\",\"\",INDIRECT($B$2&BC$2&$A75))","v":""},{"$f":"IF(INDIRECT($B$2&BD$2&$A75)=\"\",\"\",INDIRECT($B$2&BD$2&$A75))","v":""},{"$f":"IF(INDIRECT($B$2&BE$2&$A75)=\"\",\"\",INDIRECT($B$2&BE$2&$A75))","v":""},{"$f":"IF(INDIRECT($B$2&BF$2&$A75)=\"\",\"\",INDIRECT($B$2&BF$2&$A75))","v":""},{"$f":"IF(INDIRECT($B$2&BG$2&$A75)=\"\",\"\",INDIRECT($B$2&BG$2&$A75))","v":""},{"$f":"IF(INDIRECT($B$2&BH$2&$A75)=\"\",\"\",INDIRECT($B$2&BH$2&$A75))","v":""},{"$f":"IF(INDIRECT($B$2&BI$2&$A75)=\"\",\"\",INDIRECT($B$2&BI$2&$A75))","v":""},{"$f":"IF(INDIRECT($B$2&BJ$2&$A75)=\"\",\"\",INDIRECT($B$2&BJ$2&$A75))","v":""},{"$f":"IF(INDIRECT($B$2&BK$2&$A75)=\"\",\"\",INDIRECT($B$2&BK$2&$A75))","v":0},{"$f":"IF(INDIRECT($B$2&BL$2&$A75)=\"\",\"\",INDIRECT($B$2&BL$2&$A75))","v":""},{"$f":"IF(INDIRECT($B$2&BM$2&$A75)=\"\",\"\",INDIRECT($B$2&BM$2&$A75))","v":""},{"$f":"IF(INDIRECT($B$2&BN$2&$A75)=\"\",\"\",INDIRECT($B$2&BN$2&$A75))","v":""},{"$f":"IF(INDIRECT($B$2&BO$2&$A75)=\"\",\"\",INDIRECT($B$2&BO$2&$A75))","v":""},{"$f":"IF(INDIRECT($B$2&BP$2&$A75)=\"\",\"\",INDIRECT($B$2&BP$2&$A75))","v":""},{"$f":"IF(INDIRECT($B$2&BQ$2&$A75)=\"\",\"\",INDIRECT($B$2&BQ$2&$A75))","v":""},{"$f":"IF(INDIRECT($B$2&BR$2&$A75)=\"\",\"\",INDIRECT($B$2&BR$2&$A75))","v":""},{"$f":"IF(INDIRECT($B$2&BS$2&$A75)=\"\",\"\",INDIRECT($B$2&BS$2&$A75))","v":""},{"$f":"IF(INDIRECT($B$2&BT$2&$A75)=\"\",\"\",INDIRECT($B$2&BT$2&$A75))","v":""},{"$f":"IF(INDIRECT($B$2&BU$2&$A75)=\"\",\"\",INDIRECT($B$2&BU$2&$A75))","v":""},{"$f":"IF(INDIRECT($B$2&BV$2&$A75)=\"\",\"\",INDIRECT($B$2&BV$2&$A75))","v":""},{"$f":"IF(INDIRECT($B$2&BW$2&$A75)=\"\",\"\",INDIRECT($B$2&BW$2&$A75))","v":""},{"$f":"IF(INDIRECT($B$2&BX$2&$A75)=\"\",\"\",INDIRECT($B$2&BX$2&$A75))","v":""},{"$f":"IF(INDIRECT($B$2&BY$2&$A75)=\"\",\"\",INDIRECT($B$2&BY$2&$A75))","v":""},{"$f":"IF(INDIRECT($B$2&BZ$2&$A75)=\"\",\"\",INDIRECT($B$2&BZ$2&$A75))","v":0},{"$f":"IF(INDIRECT($B$2&CA$2&$A75)=\"\",\"\",INDIRECT($B$2&CA$2&$A75))","v":""},{"$f":"IF(INDIRECT($B$2&CB$2&$A75)=\"\",\"\",INDIRECT($B$2&CB$2&$A75))","v":""},{"$f":"IF(INDIRECT($B$2&CC$2&$A75)=\"\",\"\",INDIRECT($B$2&CC$2&$A75))","v":""},{"$f":"IF(INDIRECT($B$2&CD$2&$A75)=\"\",\"\",INDIRECT($B$2&CD$2&$A75))","v":""},{"$f":"IF(INDIRECT($B$2&CE$2&$A75)=\"\",\"\",INDIRECT($B$2&CE$2&$A75))","v":""},{"$f":"IF(INDIRECT($B$2&CF$2&$A75)=\"\",\"\",INDIRECT($B$2&CF$2&$A75))","v":""},{"$f":"IF(INDIRECT($B$2&CG$2&$A75)=\"\",\"\",INDIRECT($B$2&CG$2&$A75))","v":""},{"$f":"IF(INDIRECT($B$2&CH$2&$A75)=\"\",\"\",INDIRECT($B$2&CH$2&$A75))","v":""},{"$f":"IF(INDIRECT($B$2&CI$2&$A75)=\"\",\"\",INDIRECT($B$2&CI$2&$A75))","v":""},{"$f":"IF(INDIRECT($B$2&CJ$2&$A75)=\"\",\"\",INDIRECT($B$2&CJ$2&$A75))","v":""},{"$f":"IF(INDIRECT($B$2&CK$2&$A75)=\"\",\"\",INDIRECT($B$2&CK$2&$A75))","v":""},{"$f":"IF(INDIRECT($B$2&CL$2&$A75)=\"\",\"\",INDIRECT($B$2&CL$2&$A75))","v":""},{"$f":"IF(INDIRECT($B$2&CM$2&$A75)=\"\",\"\",INDIRECT($B$2&CM$2&$A75))","v":""},{"$f":"IF(INDIRECT($B$2&CN$2&$A75)=\"\",\"\",INDIRECT($B$2&CN$2&$A75))","v":""},{"$f":"IF(INDIRECT($B$2&CO$2&$A75)=\"\",\"\",INDIRECT($B$2&CO$2&$A75))","v":""},null,{"$f":"IF(INDIRECT($B$2&CQ$2&$A75)=\"\",\"\",INDIRECT($B$2&CQ$2&$A75))","v":""},{"$f":"IF(INDIRECT($B$2&CR$2&$A75)=\"\",\"\",INDIRECT($B$2&CR$2&$A75))","v":""},{"$f":"IF(INDIRECT($B$2&CS$2&$A75)=\"\",\"\",INDIRECT($B$2&CS$2&$A75))","v":""}]
[103,null,null,null,null,null,null,null,null,null,null,null,null,null,null,66,{"$f":"IF(INDIRECT($B$2&$Q$2&$A76)=\"\",\"\",INDIRECT($B$2&$Q$2&$A76))","v":""},null,{"$f":"IF(INDIRECT($B$2&$S$2&$A76)=\"\",\"\",INDIRECT($B$2&$S$2&$A76))","v":0},{"$f":"IF(INDIRECT($B$2&$T$2&$A76)=\"\",\"\",INDIRECT($B$2&$T$2&$A76))","v":0},{"$f":"IF(INDIRECT($B$2&$U$2&$A76)=\"\",\"\",INDIRECT($B$2&$U$2&$A76))","v":0},{"$f":"IF(INDIRECT($B$2&$V$2&$A76)=\"\",\"\",INDIRECT($B$2&$V$2&$A76))","v":""},{"$f":"IF(INDIRECT($B$2&$W$2&$A76)=\"\",\"\",INDIRECT($B$2&$W$2&$A76))","v":""},{"$f":"IF(INDIRECT($B$2&$X$2&$A76)=\"\",\"\",INDIRECT($B$2&$X$2&$A76))","v":""},{"$f":"IF(INDIRECT($B$2&$Y$2&$A76)=\"\",\"\",INDIRECT($B$2&$Y$2&$A76))","v":""},{"$f":"IF(INDIRECT($B$2&$Z$2&$A76)=\"\",\"\",INDIRECT($B$2&$Z$2&$A76))","v":""},null,{"$f":"IF(INDIRECT($B$2&$AB$2&$A76)=\"\",\"\",INDIRECT($B$2&$AB$2&$A76))","v":""},{"$f":"IF(INDIRECT($B$2&$AC$2&$A76)=\"\",\"\",INDIRECT($B$2&$AC$2&$A76))","v":""},{"$f":"IF(INDIRECT($B$2&$AD$2&$A76)=\"\",\"\",INDIRECT($B$2&$AD$2&$A76))","v":""},{"$f":"IF(INDIRECT($B$2&$AE$2&$A76)=\"\",\"\",INDIRECT($B$2&$AE$2&$A76))","v":""},{"$f":"IF(INDIRECT($B$2&$AF$2&$A76)=\"\",\"\",INDIRECT($B$2&$AF$2&$A76))","v":""},null,null,null,null,null,null,null,null,null,null,null,null,null,null,null,{"$f":"IF(INDIRECT($B$2&AV$2&$A76)=\"\",\"\",INDIRECT($B$2&AV$2&$A76))","v":""},{"$f":"IF(INDIRECT($B$2&AW$2&$A76)=\"\",\"\",INDIRECT($B$2&AW$2&$A76))","v":""},{"$f":"IF(INDIRECT($B$2&AX$2&$A76)=\"\",\"\",INDIRECT($B$2&AX$2&$A76))","v":""},{"$f":"IF(INDIRECT($B$2&AY$2&$A76)=\"\",\"\",INDIRECT($B$2&AY$2&$A76))","v":""},{"$f":"IF(INDIRECT($B$2&AZ$2&$A76)=\"\",\"\",INDIRECT($B$2&AZ$2&$A76))","v":""},{"$f":"IF(INDIRECT($B$2&BA$2&$A76)=\"\",\"\",INDIRECT($B$2&BA$2&$A76))","v":""},{"$f":"IF(INDIRECT($B$2&BB$2&$A76)=\"\",\"\",INDIRECT($B$2&BB$2&$A76))","v":""},{"$f":"IF(INDIRECT($B$2&BC$2&$A76)=\"\",\"\",INDIRECT($B$2&BC$2&$A76))","v":""},{"$f":"IF(INDIRECT($B$2&BD$2&$A76)=\"\",\"\",INDIRECT($B$2&BD$2&$A76))","v":""},{"$f":"IF(INDIRECT($B$2&BE$2&$A76)=\"\",\"\",INDIRECT($B$2&BE$2&$A76))","v":""},{"$f":"IF(INDIRECT($B$2&BF$2&$A76)=\"\",\"\",INDIRECT($B$2&BF$2&$A76))","v":""},{"$f":"IF(INDIRECT($B$2&BG$2&$A76)=\"\",\"\",INDIRECT($B$2&BG$2&$A76))","v":""},{"$f":"IF(INDIRECT($B$2&BH$2&$A76)=\"\",\"\",INDIRECT($B$2&BH$2&$A76))","v":""},{"$f":"IF(INDIRECT($B$2&BI$2&$A76)=\"\",\"\",INDIRECT($B$2&BI$2&$A76))","v":""},{"$f":"IF(INDIRECT($B$2&BJ$2&$A76)=\"\",\"\",INDIRECT($B$2&BJ$2&$A76))","v":""},{"$f":"IF(INDIRECT($B$2&BK$2&$A76)=\"\",\"\",INDIRECT($B$2&BK$2&$A76))","v":0},{"$f":"IF(INDIRECT($B$2&BL$2&$A76)=\"\",\"\",INDIRECT($B$2&BL$2&$A76))","v":""},{"$f":"IF(INDIRECT($B$2&BM$2&$A76)=\"\",\"\",INDIRECT($B$2&BM$2&$A76))","v":""},{"$f":"IF(INDIRECT($B$2&BN$2&$A76)=\"\",\"\",INDIRECT($B$2&BN$2&$A76))","v":""},{"$f":"IF(INDIRECT($B$2&BO$2&$A76)=\"\",\"\",INDIRECT($B$2&BO$2&$A76))","v":""},{"$f":"IF(INDIRECT($B$2&BP$2&$A76)=\"\",\"\",INDIRECT($B$2&BP$2&$A76))","v":""},{"$f":"IF(INDIRECT($B$2&BQ$2&$A76)=\"\",\"\",INDIRECT($B$2&BQ$2&$A76))","v":""},{"$f":"IF(INDIRECT($B$2&BR$2&$A76)=\"\",\"\",INDIRECT($B$2&BR$2&$A76))","v":""},{"$f":"IF(INDIRECT($B$2&BS$2&$A76)=\"\",\"\",INDIRECT($B$2&BS$2&$A76))","v":""},{"$f":"IF(INDIRECT($B$2&BT$2&$A76)=\"\",\"\",INDIRECT($B$2&BT$2&$A76))","v":""},{"$f":"IF(INDIRECT($B$2&BU$2&$A76)=\"\",\"\",INDIRECT($B$2&BU$2&$A76))","v":""},{"$f":"IF(INDIRECT($B$2&BV$2&$A76)=\"\",\"\",INDIRECT($B$2&BV$2&$A76))","v":""},{"$f":"IF(INDIRECT($B$2&BW$2&$A76)=\"\",\"\",INDIRECT($B$2&BW$2&$A76))","v":""},{"$f":"IF(INDIRECT($B$2&BX$2&$A76)=\"\",\"\",INDIRECT($B$2&BX$2&$A76))","v":""},{"$f":"IF(INDIRECT($B$2&BY$2&$A76)=\"\",\"\",INDIRECT($B$2&BY$2&$A76))","v":""},{"$f":"IF(INDIRECT($B$2&BZ$2&$A76)=\"\",\"\",INDIRECT($B$2&BZ$2&$A76))","v":0},{"$f":"IF(INDIRECT($B$2&CA$2&$A76)=\"\",\"\",INDIRECT($B$2&CA$2&$A76))","v":""},{"$f":"IF(INDIRECT($B$2&CB$2&$A76)=\"\",\"\",INDIRECT($B$2&CB$2&$A76))","v":""},{"$f":"IF(INDIRECT($B$2&CC$2&$A76)=\"\",\"\",INDIRECT($B$2&CC$2&$A76))","v":""},{"$f":"IF(INDIRECT($B$2&CD$2&$A76)=\"\",\"\",INDIRECT($B$2&CD$2&$A76))","v":""},{"$f":"IF(INDIRECT($B$2&CE$2&$A76)=\"\",\"\",INDIRECT($B$2&CE$2&$A76))","v":""},{"$f":"IF(INDIRECT($B$2&CF$2&$A76)=\"\",\"\",INDIRECT($B$2&CF$2&$A76))","v":""},{"$f":"IF(INDIRECT($B$2&CG$2&$A76)=\"\",\"\",INDIRECT($B$2&CG$2&$A76))","v":""},{"$f":"IF(INDIRECT($B$2&CH$2&$A76)=\"\",\"\",INDIRECT($B$2&CH$2&$A76))","v":""},{"$f":"IF(INDIRECT($B$2&CI$2&$A76)=\"\",\"\",INDIRECT($B$2&CI$2&$A76))","v":""},{"$f":"IF(INDIRECT($B$2&CJ$2&$A76)=\"\",\"\",INDIRECT($B$2&CJ$2&$A76))","v":""},{"$f":"IF(INDIRECT($B$2&CK$2&$A76)=\"\",\"\",INDIRECT($B$2&CK$2&$A76))","v":""},{"$f":"IF(INDIRECT($B$2&CL$2&$A76)=\"\",\"\",INDIRECT($B$2&CL$2&$A76))","v":""},{"$f":"IF(INDIRECT($B$2&CM$2&$A76)=\"\",\"\",INDIRECT($B$2&CM$2&$A76))","v":""},{"$f":"IF(INDIRECT($B$2&CN$2&$A76)=\"\",\"\",INDIRECT($B$2&CN$2&$A76))","v":""},{"$f":"IF(INDIRECT($B$2&CO$2&$A76)=\"\",\"\",INDIRECT($B$2&CO$2&$A76))","v":""},null,{"$f":"IF(INDIRECT($B$2&CQ$2&$A76)=\"\",\"\",INDIRECT($B$2&CQ$2&$A76))","v":""},{"$f":"IF(INDIRECT($B$2&CR$2&$A76)=\"\",\"\",INDIRECT($B$2&CR$2&$A76))","v":""},{"$f":"IF(INDIRECT($B$2&CS$2&$A76)=\"\",\"\",INDIRECT($B$2&CS$2&$A76))","v":""}]
[104,null,null,null,null,null,null,null,null,null,null,null,null,null,null,67,{"$f":"IF(INDIRECT($B$2&$Q$2&$A77)=\"\",\"\",INDIRECT($B$2&$Q$2&$A77))","v":""},null,{"$f":"IF(INDIRECT($B$2&$S$2&$A77)=\"\",\"\",INDIRECT($B$2&$S$2&$A77))","v":0},{"$f":"IF(INDIRECT($B$2&$T$2&$A77)=\"\",\"\",INDIRECT($B$2&$T$2&$A77))","v":0},{"$f":"IF(INDIRECT($B$2&$U$2&$A77)=\"\",\"\",INDIRECT($B$2&$U$2&$A77))","v":0},{"$f":"IF(INDIRECT($B$2&$V$2&$A77)=\"\",\"\",INDIRECT($B$2&$V$2&$A77))","v":""},{"$f":"IF(INDIRECT($B$2&$W$2&$A77)=\"\",\"\",INDIRECT($B$2&$W$2&$A77))","v":""},{"$f":"IF(INDIRECT($B$2&$X$2&$A77)=\"\",\"\",INDIRECT($B$2&$X$2&$A77))","v":""},{"$f":"IF(INDIRECT($B$2&$Y$2&$A77)=\"\",\"\",INDIRECT($B$2&$Y$2&$A77))","v":""},{"$f":"IF(INDIRECT($B$2&$Z$2&$A77)=\"\",\"\",INDIRECT($B$2&$Z$2&$A77))","v":""},null,{"$f":"IF(INDIRECT($B$2&$AB$2&$A77)=\"\",\"\",INDIRECT($B$2&$AB$2&$A77))","v":""},{"$f":"IF(INDIRECT($B$2&$AC$2&$A77)=\"\",\"\",INDIRECT($B$2&$AC$2&$A77))","v":""},{"$f":"IF(INDIRECT($B$2&$AD$2&$A77)=\"\",\"\",INDIRECT($B$2&$AD$2&$A77))","v":""},{"$f":"IF(INDIRECT($B$2&$AE$2&$A77)=\"\",\"\",INDIRECT($B$2&$AE$2&$A77))","v":""},{"$f":"IF(INDIRECT($B$2&$AF$2&$A77)=\"\",\"\",INDIRECT($B$2&$AF$2&$A77))","v":""},null,null,null,null,null,null,null,null,null,null,null,null,null,null,null,{"$f":"IF(INDIRECT($B$2&AV$2&$A77)=\"\",\"\",INDIRECT($B$2&AV$2&$A77))","v":""},{"$f":"IF(INDIRECT($B$2&AW$2&$A77)=\"\",\"\",INDIRECT($B$2&AW$2&$A77))","v":""},{"$f":"IF(INDIRECT($B$2&AX$2&$A77)=\"\",\"\",INDIRECT($B$2&AX$2&$A77))","v":""},{"$f":"IF(INDIRECT($B$2&AY$2&$A77)=\"\",\"\",INDIRECT($B$2&AY$2&$A77))","v":""},{"$f":"IF(INDIRECT($B$2&AZ$2&$A77)=\"\",\"\",INDIRECT($B$2&AZ$2&$A77))","v":""},{"$f":"IF(INDIRECT($B$2&BA$2&$A77)=\"\",\"\",INDIRECT($B$2&BA$2&$A77))","v":""},{"$f":"IF(INDIRECT($B$2&BB$2&$A77)=\"\",\"\",INDIRECT($B$2&BB$2&$A77))","v":""},{"$f":"IF(INDIRECT($B$2&BC$2&$A77)=\"\",\"\",INDIRECT($B$2&BC$2&$A77))","v":""},{"$f":"IF(INDIRECT($B$2&BD$2&$A77)=\"\",\"\",INDIRECT($B$2&BD$2&$A77))","v":""},{"$f":"IF(INDIRECT($B$2&BE$2&$A77)=\"\",\"\",INDIRECT($B$2&BE$2&$A77))","v":""},{"$f":"IF(INDIRECT($B$2&BF$2&$A77)=\"\",\"\",INDIRECT($B$2&BF$2&$A77))","v":""},{"$f":"IF(INDIRECT($B$2&BG$2&$A77)=\"\",\"\",INDIRECT($B$2&BG$2&$A77))","v":""},{"$f":"IF(INDIRECT($B$2&BH$2&$A77)=\"\",\"\",INDIRECT($B$2&BH$2&$A77))","v":""},{"$f":"IF(INDIRECT($B$2&BI$2&$A77)=\"\",\"\",INDIRECT($B$2&BI$2&$A77))","v":""},{"$f":"IF(INDIRECT($B$2&BJ$2&$A77)=\"\",\"\",INDIRECT($B$2&BJ$2&$A77))","v":""},{"$f":"IF(INDIRECT($B$2&BK$2&$A77)=\"\",\"\",INDIRECT($B$2&BK$2&$A77))","v":0},{"$f":"IF(INDIRECT($B$2&BL$2&$A77)=\"\",\"\",INDIRECT($B$2&BL$2&$A77))","v":""},{"$f":"IF(INDIRECT($B$2&BM$2&$A77)=\"\",\"\",INDIRECT($B$2&BM$2&$A77))","v":""},{"$f":"IF(INDIRECT($B$2&BN$2&$A77)=\"\",\"\",INDIRECT($B$2&BN$2&$A77))","v":""},{"$f":"IF(INDIRECT($B$2&BO$2&$A77)=\"\",\"\",INDIRECT($B$2&BO$2&$A77))","v":""},{"$f":"IF(INDIRECT($B$2&BP$2&$A77)=\"\",\"\",INDIRECT($B$2&BP$2&$A77))","v":""},{"$f":"IF(INDIRECT($B$2&BQ$2&$A77)=\"\",\"\",INDIRECT($B$2&BQ$2&$A77))","v":""},{"$f":"IF(INDIRECT($B$2&BR$2&$A77)=\"\",\"\",INDIRECT($B$2&BR$2&$A77))","v":""},{"$f":"IF(INDIRECT($B$2&BS$2&$A77)=\"\",\"\",INDIRECT($B$2&BS$2&$A77))","v":""},{"$f":"IF(INDIRECT($B$2&BT$2&$A77)=\"\",\"\",INDIRECT($B$2&BT$2&$A77))","v":""},{"$f":"IF(INDIRECT($B$2&BU$2&$A77)=\"\",\"\",INDIRECT($B$2&BU$2&$A77))","v":""},{"$f":"IF(INDIRECT($B$2&BV$2&$A77)=\"\",\"\",INDIRECT($B$2&BV$2&$A77))","v":""},{"$f":"IF(INDIRECT($B$2&BW$2&$A77)=\"\",\"\",INDIRECT($B$2&BW$2&$A77))","v":""},{"$f":"IF(INDIRECT($B$2&BX$2&$A77)=\"\",\"\",INDIRECT($B$2&BX$2&$A77))","v":""},{"$f":"IF(INDIRECT($B$2&BY$2&$A77)=\"\",\"\",INDIRECT($B$2&BY$2&$A77))","v":""},{"$f":"IF(INDIRECT($B$2&BZ$2&$A77)=\"\",\"\",INDIRECT($B$2&BZ$2&$A77))","v":0},{"$f":"IF(INDIRECT($B$2&CA$2&$A77)=\"\",\"\",INDIRECT($B$2&CA$2&$A77))","v":""},{"$f":"IF(INDIRECT($B$2&CB$2&$A77)=\"\",\"\",INDIRECT($B$2&CB$2&$A77))","v":""},{"$f":"IF(INDIRECT($B$2&CC$2&$A77)=\"\",\"\",INDIRECT($B$2&CC$2&$A77))","v":""},{"$f":"IF(INDIRECT($B$2&CD$2&$A77)=\"\",\"\",INDIRECT($B$2&CD$2&$A77))","v":""},{"$f":"IF(INDIRECT($B$2&CE$2&$A77)=\"\",\"\",INDIRECT($B$2&CE$2&$A77))","v":""},{"$f":"IF(INDIRECT($B$2&CF$2&$A77)=\"\",\"\",INDIRECT($B$2&CF$2&$A77))","v":""},{"$f":"IF(INDIRECT($B$2&CG$2&$A77)=\"\",\"\",INDIRECT($B$2&CG$2&$A77))","v":""},{"$f":"IF(INDIRECT($B$2&CH$2&$A77)=\"\",\"\",INDIRECT($B$2&CH$2&$A77))","v":""},{"$f":"IF(INDIRECT($B$2&CI$2&$A77)=\"\",\"\",INDIRECT($B$2&CI$2&$A77))","v":""},{"$f":"IF(INDIRECT($B$2&CJ$2&$A77)=\"\",\"\",INDIRECT($B$2&CJ$2&$A77))","v":""},{"$f":"IF(INDIRECT($B$2&CK$2&$A77)=\"\",\"\",INDIRECT($B$2&CK$2&$A77))","v":""},{"$f":"IF(INDIRECT($B$2&CL$2&$A77)=\"\",\"\",INDIRECT($B$2&CL$2&$A77))","v":""},{"$f":"IF(INDIRECT($B$2&CM$2&$A77)=\"\",\"\",INDIRECT($B$2&CM$2&$A77))","v":""},{"$f":"IF(INDIRECT($B$2&CN$2&$A77)=\"\",\"\",INDIRECT($B$2&CN$2&$A77))","v":""},{"$f":"IF(INDIRECT($B$2&CO$2&$A77)=\"\",\"\",INDIRECT($B$2&CO$2&$A77))","v":""},null,{"$f":"IF(INDIRECT($B$2&CQ$2&$A77)=\"\",\"\",INDIRECT($B$2&CQ$2&$A77))","v":""},{"$f":"IF(INDIRECT($B$2&CR$2&$A77)=\"\",\"\",INDIRECT($B$2&CR$2&$A77))","v":""},{"$f":"IF(INDIRECT($B$2&CS$2&$A77)=\"\",\"\",INDIRECT($B$2&CS$2&$A77))","v":""}]
[105,null,null,null,null,null,null,null,null,null,null,null,null,null,null,68,{"$f":"IF(INDIRECT($B$2&$Q$2&$A78)=\"\",\"\",INDIRECT($B$2&$Q$2&$A78))","v":""},null,{"$f":"IF(INDIRECT($B$2&$S$2&$A78)=\"\",\"\",INDIRECT($B$2&$S$2&$A78))","v":0},{"$f":"IF(INDIRECT($B$2&$T$2&$A78)=\"\",\"\",INDIRECT($B$2&$T$2&$A78))","v":0},{"$f":"IF(INDIRECT($B$2&$U$2&$A78)=\"\",\"\",INDIRECT($B$2&$U$2&$A78))","v":0},{"$f":"IF(INDIRECT($B$2&$V$2&$A78)=\"\",\"\",INDIRECT($B$2&$V$2&$A78))","v":""},{"$f":"IF(INDIRECT($B$2&$W$2&$A78)=\"\",\"\",INDIRECT($B$2&$W$2&$A78))","v":""},{"$f":"IF(INDIRECT($B$2&$X$2&$A78)=\"\",\"\",INDIRECT($B$2&$X$2&$A78))","v":""},{"$f":"IF(INDIRECT($B$2&$Y$2&$A78)=\"\",\"\",INDIRECT($B$2&$Y$2&$A78))","v":""},{"$f":"IF(INDIRECT($B$2&$Z$2&$A78)=\"\",\"\",INDIRECT($B$2&$Z$2&$A78))","v":""},null,{"$f":"IF(INDIRECT($B$2&$AB$2&$A78)=\"\",\"\",INDIRECT($B$2&$AB$2&$A78))","v":""},{"$f":"IF(INDIRECT($B$2&$AC$2&$A78)=\"\",\"\",INDIRECT($B$2&$AC$2&$A78))","v":""},{"$f":"IF(INDIRECT($B$2&$AD$2&$A78)=\"\",\"\",INDIRECT($B$2&$AD$2&$A78))","v":""},{"$f":"IF(INDIRECT($B$2&$AE$2&$A78)=\"\",\"\",INDIRECT($B$2&$AE$2&$A78))","v":""},{"$f":"IF(INDIRECT($B$2&$AF$2&$A78)=\"\",\"\",INDIRECT($B$2&$AF$2&$A78))","v":""},null,null,null,null,null,null,null,null,null,null,null,null,null,null,null,{"$f":"IF(INDIRECT($B$2&AV$2&$A78)=\"\",\"\",INDIRECT($B$2&AV$2&$A78))","v":""},{"$f":"IF(INDIRECT($B$2&AW$2&$A78)=\"\",\"\",INDIRECT($B$2&AW$2&$A78))","v":""},{"$f":"IF(INDIRECT($B$2&AX$2&$A78)=\"\",\"\",INDIRECT($B$2&AX$2&$A78))","v":""},{"$f":"IF(INDIRECT($B$2&AY$2&$A78)=\"\",\"\",INDIRECT($B$2&AY$2&$A78))","v":""},{"$f":"IF(INDIRECT($B$2&AZ$2&$A78)=\"\",\"\",INDIRECT($B$2&AZ$2&$A78))","v":""},{"$f":"IF(INDIRECT($B$2&BA$2&$A78)=\"\",\"\",INDIRECT($B$2&BA$2&$A78))","v":""},{"$f":"IF(INDIRECT($B$2&BB$2&$A78)=\"\",\"\",INDIRECT($B$2&BB$2&$A78))","v":""},{"$f":"IF(INDIRECT($B$2&BC$2&$A78)=\"\",\"\",INDIRECT($B$2&BC$2&$A78))","v":""},{"$f":"IF(INDIRECT($B$2&BD$2&$A78)=\"\",\"\",INDIRECT($B$2&BD$2&$A78))","v":""},{"$f":"IF(INDIRECT($B$2&BE$2&$A78)=\"\",\"\",INDIRECT($B$2&BE$2&$A78))","v":""},{"$f":"IF(INDIRECT($B$2&BF$2&$A78)=\"\",\"\",INDIRECT($B$2&BF$2&$A78))","v":""},{"$f":"IF(INDIRECT($B$2&BG$2&$A78)=\"\",\"\",INDIRECT($B$2&BG$2&$A78))","v":""},{"$f":"IF(INDIRECT($B$2&BH$2&$A78)=\"\",\"\",INDIRECT($B$2&BH$2&$A78))","v":""},{"$f":"IF(INDIRECT($B$2&BI$2&$A78)=\"\",\"\",INDIRECT($B$2&BI$2&$A78))","v":""},{"$f":"IF(INDIRECT($B$2&BJ$2&$A78)=\"\",\"\",INDIRECT($B$2&BJ$2&$A78))","v":""},{"$f":"IF(INDIRECT($B$2&BK$2&$A78)=\"\",\"\",INDIRECT($B$2&BK$2&$A78))","v":0},{"$f":"IF(INDIRECT($B$2&BL$2&$A78)=\"\",\"\",INDIRECT($B$2&BL$2&$A78))","v":""},{"$f":"IF(INDIRECT($B$2&BM$2&$A78)=\"\",\"\",INDIRECT($B$2&BM$2&$A78))","v":""},{"$f":"IF(INDIRECT($B$2&BN$2&$A78)=\"\",\"\",INDIRECT($B$2&BN$2&$A78))","v":""},{"$f":"IF(INDIRECT($B$2&BO$2&$A78)=\"\",\"\",INDIRECT($B$2&BO$2&$A78))","v":""},{"$f":"IF(INDIRECT($B$2&BP$2&$A78)=\"\",\"\",INDIRECT($B$2&BP$2&$A78))","v":""},{"$f":"IF(INDIRECT($B$2&BQ$2&$A78)=\"\",\"\",INDIRECT($B$2&BQ$2&$A78))","v":""},{"$f":"IF(INDIRECT($B$2&BR$2&$A78)=\"\",\"\",INDIRECT($B$2&BR$2&$A78))","v":""},{"$f":"IF(INDIRECT($B$2&BS$2&$A78)=\"\",\"\",INDIRECT($B$2&BS$2&$A78))","v":""},{"$f":"IF(INDIRECT($B$2&BT$2&$A78)=\"\",\"\",INDIRECT($B$2&BT$2&$A78))","v":""},{"$f":"IF(INDIRECT($B$2&BU$2&$A78)=\"\",\"\",INDIRECT($B$2&BU$2&$A78))","v":""},{"$f":"IF(INDIRECT($B$2&BV$2&$A78)=\"\",\"\",INDIRECT($B$2&BV$2&$A78))","v":""},{"$f":"IF(INDIRECT($B$2&BW$2&$A78)=\"\",\"\",INDIRECT($B$2&BW$2&$A78))","v":""},{"$f":"IF(INDIRECT($B$2&BX$2&$A78)=\"\",\"\",INDIRECT($B$2&BX$2&$A78))","v":""},{"$f":"IF(INDIRECT($B$2&BY$2&$A78)=\"\",\"\",INDIRECT($B$2&BY$2&$A78))","v":""},{"$f":"IF(INDIRECT($B$2&BZ$2&$A78)=\"\",\"\",INDIRECT($B$2&BZ$2&$A78))","v":0},{"$f":"IF(INDIRECT($B$2&CA$2&$A78)=\"\",\"\",INDIRECT($B$2&CA$2&$A78))","v":""},{"$f":"IF(INDIRECT($B$2&CB$2&$A78)=\"\",\"\",INDIRECT($B$2&CB$2&$A78))","v":""},{"$f":"IF(INDIRECT($B$2&CC$2&$A78)=\"\",\"\",INDIRECT($B$2&CC$2&$A78))","v":""},{"$f":"IF(INDIRECT($B$2&CD$2&$A78)=\"\",\"\",INDIRECT($B$2&CD$2&$A78))","v":""},{"$f":"IF(INDIRECT($B$2&CE$2&$A78)=\"\",\"\",INDIRECT($B$2&CE$2&$A78))","v":""},{"$f":"IF(INDIRECT($B$2&CF$2&$A78)=\"\",\"\",INDIRECT($B$2&CF$2&$A78))","v":""},{"$f":"IF(INDIRECT($B$2&CG$2&$A78)=\"\",\"\",INDIRECT($B$2&CG$2&$A78))","v":""},{"$f":"IF(INDIRECT($B$2&CH$2&$A78)=\"\",\"\",INDIRECT($B$2&CH$2&$A78))","v":""},{"$f":"IF(INDIRECT($B$2&CI$2&$A78)=\"\",\"\",INDIRECT($B$2&CI$2&$A78))","v":""},{"$f":"IF(INDIRECT($B$2&CJ$2&$A78)=\"\",\"\",INDIRECT($B$2&CJ$2&$A78))","v":""},{"$f":"IF(INDIRECT($B$2&CK$2&$A78)=\"\",\"\",INDIRECT($B$2&CK$2&$A78))","v":""},{"$f":"IF(INDIRECT($B$2&CL$2&$A78)=\"\",\"\",INDIRECT($B$2&CL$2&$A78))","v":""},{"$f":"IF(INDIRECT($B$2&CM$2&$A78)=\"\",\"\",INDIRECT($B$2&CM$2&$A78))","v":""},{"$f":"IF(INDIRECT($B$2&CN$2&$A78)=\"\",\"\",INDIRECT($B$2&CN$2&$A78))","v":""},{"$f":"IF(INDIRECT($B$2&CO$2&$A78)=\"\",\"\",INDIRECT($B$2&CO$2&$A78))","v":""},null,{"$f":"IF(INDIRECT($B$2&CQ$2&$A78)=\"\",\"\",INDIRECT($B$2&CQ$2&$A78))","v":""},{"$f":"IF(INDIRECT($B$2&CR$2&$A78)=\"\",\"\",INDIRECT($B$2&CR$2&$A78))","v":""},{"$f":"IF(INDIRECT($B$2&CS$2&$A78)=\"\",\"\",INDIRECT($B$2&CS$2&$A78))","v":""}]
[106,null,null,null,null,null,null,null,null,null,null,null,null,null,null,69,{"$f":"IF(INDIRECT($B$2&$Q$2&$A79)=\"\",\"\",INDIRECT($B$2&$Q$2&$A79))","v":""},null,{"$f":"IF(INDIRECT($B$2&$S$2&$A79)=\"\",\"\",INDIRECT($B$2&$S$2&$A79))","v":0},{"$f":"IF(INDIRECT($B$2&$T$2&$A79)=\"\",\"\",INDIRECT($B$2&$T$2&$A79))","v":0},{"$f":"IF(INDIRECT($B$2&$U$2&$A79)=\"\",\"\",INDIRECT($B$2&$U$2&$A79))","v":0},{"$f":"IF(INDIRECT($B$2&$V$2&$A79)=\"\",\"\",INDIRECT($B$2&$V$2&$A79))","v":""},{"$f":"IF(INDIRECT($B$2&$W$2&$A79)=\"\",\"\",INDIRECT($B$2&$W$2&$A79))","v":""},{"$f":"IF(INDIRECT($B$2&$X$2&$A79)=\"\",\"\",INDIRECT($B$2&$X$2&$A79))","v":""},{"$f":"IF(INDIRECT($B$2&$Y$2&$A79)=\"\",\"\",INDIRECT($B$2&$Y$2&$A79))","v":""},{"$f":"IF(INDIRECT($B$2&$Z$2&$A79)=\"\",\"\",INDIRECT($B$2&$Z$2&$A79))","v":""},null,{"$f":"IF(INDIRECT($B$2&$AB$2&$A79)=\"\",\"\",INDIRECT($B$2&$AB$2&$A79))","v":""},{"$f":"IF(INDIRECT($B$2&$AC$2&$A79)=\"\",\"\",INDIRECT($B$2&$AC$2&$A79))","v":""},{"$f":"IF(INDIRECT($B$2&$AD$2&$A79)=\"\",\"\",INDIRECT($B$2&$AD$2&$A79))","v":""},{"$f":"IF(INDIRECT($B$2&$AE$2&$A79)=\"\",\"\",INDIRECT($B$2&$AE$2&$A79))","v":""},{"$f":"IF(INDIRECT($B$2&$AF$2&$A79)=\"\",\"\",INDIRECT($B$2&$AF$2&$A79))","v":""},null,null,null,null,null,null,null,null,null,null,null,null,null,null,null,{"$f":"IF(INDIRECT($B$2&AV$2&$A79)=\"\",\"\",INDIRECT($B$2&AV$2&$A79))","v":""},{"$f":"IF(INDIRECT($B$2&AW$2&$A79)=\"\",\"\",INDIRECT($B$2&AW$2&$A79))","v":""},{"$f":"IF(INDIRECT($B$2&AX$2&$A79)=\"\",\"\",INDIRECT($B$2&AX$2&$A79))","v":""},{"$f":"IF(INDIRECT($B$2&AY$2&$A79)=\"\",\"\",INDIRECT($B$2&AY$2&$A79))","v":""},{"$f":"IF(INDIRECT($B$2&AZ$2&$A79)=\"\",\"\",INDIRECT($B$2&AZ$2&$A79))","v":""},{"$f":"IF(INDIRECT($B$2&BA$2&$A79)=\"\",\"\",INDIRECT($B$2&BA$2&$A79))","v":""},{"$f":"IF(INDIRECT($B$2&BB$2&$A79)=\"\",\"\",INDIRECT($B$2&BB$2&$A79))","v":""},{"$f":"IF(INDIRECT($B$2&BC$2&$A79)=\"\",\"\",INDIRECT($B$2&BC$2&$A79))","v":""},{"$f":"IF(INDIRECT($B$2&BD$2&$A79)=\"\",\"\",INDIRECT($B$2&BD$2&$A79))","v":""},{"$f":"IF(INDIRECT($B$2&BE$2&$A79)=\"\",\"\",INDIRECT($B$2&BE$2&$A79))","v":""},{"$f":"IF(INDIRECT($B$2&BF$2&$A79)=\"\",\"\",INDIRECT($B$2&BF$2&$A79))","v":""},{"$f":"IF(INDIRECT($B$2&BG$2&$A79)=\"\",\"\",INDIRECT($B$2&BG$2&$A79))","v":""},{"$f":"IF(INDIRECT($B$2&BH$2&$A79)=\"\",\"\",INDIRECT($B$2&BH$2&$A79))","v":""},{"$f":"IF(INDIRECT($B$2&BI$2&$A79)=\"\",\"\",INDIRECT($B$2&BI$2&$A79))","v":""},{"$f":"IF(INDIRECT($B$2&BJ$2&$A79)=\"\",\"\",INDIRECT($B$2&BJ$2&$A79))","v":""},{"$f":"IF(INDIRECT($B$2&BK$2&$A79)=\"\",\"\",INDIRECT($B$2&BK$2&$A79))","v":0},{"$f":"IF(INDIRECT($B$2&BL$2&$A79)=\"\",\"\",INDIRECT($B$2&BL$2&$A79))","v":""},{"$f":"IF(INDIRECT($B$2&BM$2&$A79)=\"\",\"\",INDIRECT($B$2&BM$2&$A79))","v":""},{"$f":"IF(INDIRECT($B$2&BN$2&$A79)=\"\",\"\",INDIRECT($B$2&BN$2&$A79))","v":""},{"$f":"IF(INDIRECT($B$2&BO$2&$A79)=\"\",\"\",INDIRECT($B$2&BO$2&$A79))","v":""},{"$f":"IF(INDIRECT($B$2&BP$2&$A79)=\"\",\"\",INDIRECT($B$2&BP$2&$A79))","v":""},{"$f":"IF(INDIRECT($B$2&BQ$2&$A79)=\"\",\"\",INDIRECT($B$2&BQ$2&$A79))","v":""},{"$f":"IF(INDIRECT($B$2&BR$2&$A79)=\"\",\"\",INDIRECT($B$2&BR$2&$A79))","v":""},{"$f":"IF(INDIRECT($B$2&BS$2&$A79)=\"\",\"\",INDIRECT($B$2&BS$2&$A79))","v":""},{"$f":"IF(INDIRECT($B$2&BT$2&$A79)=\"\",\"\",INDIRECT($B$2&BT$2&$A79))","v":""},{"$f":"IF(INDIRECT($B$2&BU$2&$A79)=\"\",\"\",INDIRECT($B$2&BU$2&$A79))","v":""},{"$f":"IF(INDIRECT($B$2&BV$2&$A79)=\"\",\"\",INDIRECT($B$2&BV$2&$A79))","v":""},{"$f":"IF(INDIRECT($B$2&BW$2&$A79)=\"\",\"\",INDIRECT($B$2&BW$2&$A79))","v":""},{"$f":"IF(INDIRECT($B$2&BX$2&$A79)=\"\",\"\",INDIRECT($B$2&BX$2&$A79))","v":""},{"$f":"IF(INDIRECT($B$2&BY$2&$A79)=\"\",\"\",INDIRECT($B$2&BY$2&$A79))","v":""},{"$f":"IF(INDIRECT($B$2&BZ$2&$A79)=\"\",\"\",INDIRECT($B$2&BZ$2&$A79))","v":0},{"$f":"IF(INDIRECT($B$2&CA$2&$A79)=\"\",\"\",INDIRECT($B$2&CA$2&$A79))","v":""},{"$f":"IF(INDIRECT($B$2&CB$2&$A79)=\"\",\"\",INDIRECT($B$2&CB$2&$A79))","v":""},{"$f":"IF(INDIRECT($B$2&CC$2&$A79)=\"\",\"\",INDIRECT($B$2&CC$2&$A79))","v":""},{"$f":"IF(INDIRECT($B$2&CD$2&$A79)=\"\",\"\",INDIRECT($B$2&CD$2&$A79))","v":""},{"$f":"IF(INDIRECT($B$2&CE$2&$A79)=\"\",\"\",INDIRECT($B$2&CE$2&$A79))","v":""},{"$f":"IF(INDIRECT($B$2&CF$2&$A79)=\"\",\"\",INDIRECT($B$2&CF$2&$A79))","v":""},{"$f":"IF(INDIRECT($B$2&CG$2&$A79)=\"\",\"\",INDIRECT($B$2&CG$2&$A79))","v":""},{"$f":"IF(INDIRECT($B$2&CH$2&$A79)=\"\",\"\",INDIRECT($B$2&CH$2&$A79))","v":""},{"$f":"IF(INDIRECT($B$2&CI$2&$A79)=\"\",\"\",INDIRECT($B$2&CI$2&$A79))","v":""},{"$f":"IF(INDIRECT($B$2&CJ$2&$A79)=\"\",\"\",INDIRECT($B$2&CJ$2&$A79))","v":""},{"$f":"IF(INDIRECT($B$2&CK$2&$A79)=\"\",\"\",INDIRECT($B$2&CK$2&$A79))","v":""},{"$f":"IF(INDIRECT($B$2&CL$2&$A79)=\"\",\"\",INDIRECT($B$2&CL$2&$A79))","v":""},{"$f":"IF(INDIRECT($B$2&CM$2&$A79)=\"\",\"\",INDIRECT($B$2&CM$2&$A79))","v":""},{"$f":"IF(INDIRECT($B$2&CN$2&$A79)=\"\",\"\",INDIRECT($B$2&CN$2&$A79))","v":""},{"$f":"IF(INDIRECT($B$2&CO$2&$A79)=\"\",\"\",INDIRECT($B$2&CO$2&$A79))","v":""},null,{"$f":"IF(INDIRECT($B$2&CQ$2&$A79)=\"\",\"\",INDIRECT($B$2&CQ$2&$A79))","v":""},{"$f":"IF(INDIRECT($B$2&CR$2&$A79)=\"\",\"\",INDIRECT($B$2&CR$2&$A79))","v":""},{"$f":"IF(INDIRECT($B$2&CS$2&$A79)=\"\",\"\",INDIRECT($B$2&CS$2&$A79))","v":""}]
[107,null,null,null,null,null,null,null,null,null,null,null,null,null,null,70,{"$f":"IF(INDIRECT($B$2&$Q$2&$A80)=\"\",\"\",INDIRECT($B$2&$Q$2&$A80))","v":""},null,{"$f":"IF(INDIRECT($B$2&$S$2&$A80)=\"\",\"\",INDIRECT($B$2&$S$2&$A80))","v":0},{"$f":"IF(INDIRECT($B$2&$T$2&$A80)=\"\",\"\",INDIRECT($B$2&$T$2&$A80))","v":0},{"$f":"IF(INDIRECT($B$2&$U$2&$A80)=\"\",\"\",INDIRECT($B$2&$U$2&$A80))","v":0},{"$f":"IF(INDIRECT($B$2&$V$2&$A80)=\"\",\"\",INDIRECT($B$2&$V$2&$A80))","v":""},{"$f":"IF(INDIRECT($B$2&$W$2&$A80)=\"\",\"\",INDIRECT($B$2&$W$2&$A80))","v":""},{"$f":"IF(INDIRECT($B$2&$X$2&$A80)=\"\",\"\",INDIRECT($B$2&$X$2&$A80))","v":""},{"$f":"IF(INDIRECT($B$2&$Y$2&$A80)=\"\",\"\",INDIRECT($B$2&$Y$2&$A80))","v":""},{"$f":"IF(INDIRECT($B$2&$Z$2&$A80)=\"\",\"\",INDIRECT($B$2&$Z$2&$A80))","v":""},null,{"$f":"IF(INDIRECT($B$2&$AB$2&$A80)=\"\",\"\",INDIRECT($B$2&$AB$2&$A80))","v":""},{"$f":"IF(INDIRECT($B$2&$AC$2&$A80)=\"\",\"\",INDIRECT($B$2&$AC$2&$A80))","v":""},{"$f":"IF(INDIRECT($B$2&$AD$2&$A80)=\"\",\"\",INDIRECT($B$2&$AD$2&$A80))","v":""},{"$f":"IF(INDIRECT($B$2&$AE$2&$A80)=\"\",\"\",INDIRECT($B$2&$AE$2&$A80))","v":""},{"$f":"IF(INDIRECT($B$2&$AF$2&$A80)=\"\",\"\",INDIRECT($B$2&$AF$2&$A80))","v":""},null,null,null,null,null,null,null,null,null,null,null,null,null,null,null,{"$f":"IF(INDIRECT($B$2&AV$2&$A80)=\"\",\"\",INDIRECT($B$2&AV$2&$A80))","v":""},{"$f":"IF(INDIRECT($B$2&AW$2&$A80)=\"\",\"\",INDIRECT($B$2&AW$2&$A80))","v":""},{"$f":"IF(INDIRECT($B$2&AX$2&$A80)=\"\",\"\",INDIRECT($B$2&AX$2&$A80))","v":""},{"$f":"IF(INDIRECT($B$2&AY$2&$A80)=\"\",\"\",INDIRECT($B$2&AY$2&$A80))","v":""},{"$f":"IF(INDIRECT($B$2&AZ$2&$A80)=\"\",\"\",INDIRECT($B$2&AZ$2&$A80))","v":""},{"$f":"IF(INDIRECT($B$2&BA$2&$A80)=\"\",\"\",INDIRECT($B$2&BA$2&$A80))","v":""},{"$f":"IF(INDIRECT($B$2&BB$2&$A80)=\"\",\"\",INDIRECT($B$2&BB$2&$A80))","v":""},{"$f":"IF(INDIRECT($B$2&BC$2&$A80)=\"\",\"\",INDIRECT($B$2&BC$2&$A80))","v":""},{"$f":"IF(INDIRECT($B$2&BD$2&$A80)=\"\",\"\",INDIRECT($B$2&BD$2&$A80))","v":""},{"$f":"IF(INDIRECT($B$2&BE$2&$A80)=\"\",\"\",INDIRECT($B$2&BE$2&$A80))","v":""},{"$f":"IF(INDIRECT($B$2&BF$2&$A80)=\"\",\"\",INDIRECT($B$2&BF$2&$A80))","v":""},{"$f":"IF(INDIRECT($B$2&BG$2&$A80)=\"\",\"\",INDIRECT($B$2&BG$2&$A80))","v":""},{"$f":"IF(INDIRECT($B$2&BH$2&$A80)=\"\",\"\",INDIRECT($B$2&BH$2&$A80))","v":""},{"$f":"IF(INDIRECT($B$2&BI$2&$A80)=\"\",\"\",INDIRECT($B$2&BI$2&$A80))","v":""},{"$f":"IF(INDIRECT($B$2&BJ$2&$A80)=\"\",\"\",INDIRECT($B$2&BJ$2&$A80))","v":""},{"$f":"IF(INDIRECT($B$2&BK$2&$A80)=\"\",\"\",INDIRECT($B$2&BK$2&$A80))","v":0},{"$f":"IF(INDIRECT($B$2&BL$2&$A80)=\"\",\"\",INDIRECT($B$2&BL$2&$A80))","v":""},{"$f":"IF(INDIRECT($B$2&BM$2&$A80)=\"\",\"\",INDIRECT($B$2&BM$2&$A80))","v":""},{"$f":"IF(INDIRECT($B$2&BN$2&$A80)=\"\",\"\",INDIRECT($B$2&BN$2&$A80))","v":""},{"$f":"IF(INDIRECT($B$2&BO$2&$A80)=\"\",\"\",INDIRECT($B$2&BO$2&$A80))","v":""},{"$f":"IF(INDIRECT($B$2&BP$2&$A80)=\"\",\"\",INDIRECT($B$2&BP$2&$A80))","v":""},{"$f":"IF(INDIRECT($B$2&BQ$2&$A80)=\"\",\"\",INDIRECT($B$2&BQ$2&$A80))","v":""},{"$f":"IF(INDIRECT($B$2&BR$2&$A80)=\"\",\"\",INDIRECT($B$2&BR$2&$A80))","v":""},{"$f":"IF(INDIRECT($B$2&BS$2&$A80)=\"\",\"\",INDIRECT($B$2&BS$2&$A80))","v":""},{"$f":"IF(INDIRECT($B$2&BT$2&$A80)=\"\",\"\",INDIRECT($B$2&BT$2&$A80))","v":""},{"$f":"IF(INDIRECT($B$2&BU$2&$A80)=\"\",\"\",INDIRECT($B$2&BU$2&$A80))","v":""},{"$f":"IF(INDIRECT($B$2&BV$2&$A80)=\"\",\"\",INDIRECT($B$2&BV$2&$A80))","v":""},{"$f":"IF(INDIRECT($B$2&BW$2&$A80)=\"\",\"\",INDIRECT($B$2&BW$2&$A80))","v":""},{"$f":"IF(INDIRECT($B$2&BX$2&$A80)=\"\",\"\",INDIRECT($B$2&BX$2&$A80))","v":""},{"$f":"IF(INDIRECT($B$2&BY$2&$A80)=\"\",\"\",INDIRECT($B$2&BY$2&$A80))","v":""},{"$f":"IF(INDIRECT($B$2&BZ$2&$A80)=\"\",\"\",INDIRECT($B$2&BZ$2&$A80))","v":0},{"$f":"IF(INDIRECT($B$2&CA$2&$A80)=\"\",\"\",INDIRECT($B$2&CA$2&$A80))","v":""},{"$f":"IF(INDIRECT($B$2&CB$2&$A80)=\"\",\"\",INDIRECT($B$2&CB$2&$A80))","v":""},{"$f":"IF(INDIRECT($B$2&CC$2&$A80)=\"\",\"\",INDIRECT($B$2&CC$2&$A80))","v":""},{"$f":"IF(INDIRECT($B$2&CD$2&$A80)=\"\",\"\",INDIRECT($B$2&CD$2&$A80))","v":""},{"$f":"IF(INDIRECT($B$2&CE$2&$A80)=\"\",\"\",INDIRECT($B$2&CE$2&$A80))","v":""},{"$f":"IF(INDIRECT($B$2&CF$2&$A80)=\"\",\"\",INDIRECT($B$2&CF$2&$A80))","v":""},{"$f":"IF(INDIRECT($B$2&CG$2&$A80)=\"\",\"\",INDIRECT($B$2&CG$2&$A80))","v":""},{"$f":"IF(INDIRECT($B$2&CH$2&$A80)=\"\",\"\",INDIRECT($B$2&CH$2&$A80))","v":""},{"$f":"IF(INDIRECT($B$2&CI$2&$A80)=\"\",\"\",INDIRECT($B$2&CI$2&$A80))","v":""},{"$f":"IF(INDIRECT($B$2&CJ$2&$A80)=\"\",\"\",INDIRECT($B$2&CJ$2&$A80))","v":""},{"$f":"IF(INDIRECT($B$2&CK$2&$A80)=\"\",\"\",INDIRECT($B$2&CK$2&$A80))","v":""},{"$f":"IF(INDIRECT($B$2&CL$2&$A80)=\"\",\"\",INDIRECT($B$2&CL$2&$A80))","v":""},{"$f":"IF(INDIRECT($B$2&CM$2&$A80)=\"\",\"\",INDIRECT($B$2&CM$2&$A80))","v":""},{"$f":"IF(INDIRECT($B$2&CN$2&$A80)=\"\",\"\",INDIRECT($B$2&CN$2&$A80))","v":""},{"$f":"IF(INDIRECT($B$2&CO$2&$A80)=\"\",\"\",INDIRECT($B$2&CO$2&$A80))","v":""},null,{"$f":"IF(INDIRECT($B$2&CQ$2&$A80)=\"\",\"\",INDIRECT($B$2&CQ$2&$A80))","v":""},{"$f":"IF(INDIRECT($B$2&CR$2&$A80)=\"\",\"\",INDIRECT($B$2&CR$2&$A80))","v":""},{"$f":"IF(INDIRECT($B$2&CS$2&$A80)=\"\",\"\",INDIRECT($B$2&CS$2&$A80))","v":""}]
[108,null,null,null,null,null,null,null,null,null,null,null,null,null,null,71,{"$f":"IF(INDIRECT($B$2&$Q$2&$A81)=\"\",\"\",INDIRECT($B$2&$Q$2&$A81))","v":""},null,{"$f":"IF(INDIRECT($B$2&$S$2&$A81)=\"\",\"\",INDIRECT($B$2&$S$2&$A81))","v":0},{"$f":"IF(INDIRECT($B$2&$T$2&$A81)=\"\",\"\",INDIRECT($B$2&$T$2&$A81))","v":0},{"$f":"IF(INDIRECT($B$2&$U$2&$A81)=\"\",\"\",INDIRECT($B$2&$U$2&$A81))","v":0},{"$f":"IF(INDIRECT($B$2&$V$2&$A81)=\"\",\"\",INDIRECT($B$2&$V$2&$A81))","v":""},{"$f":"IF(INDIRECT($B$2&$W$2&$A81)=\"\",\"\",INDIRECT($B$2&$W$2&$A81))","v":""},{"$f":"IF(INDIRECT($B$2&$X$2&$A81)=\"\",\"\",INDIRECT($B$2&$X$2&$A81))","v":""},{"$f":"IF(INDIRECT($B$2&$Y$2&$A81)=\"\",\"\",INDIRECT($B$2&$Y$2&$A81))","v":""},{"$f":"IF(INDIRECT($B$2&$Z$2&$A81)=\"\",\"\",INDIRECT($B$2&$Z$2&$A81))","v":""},null,{"$f":"IF(INDIRECT($B$2&$AB$2&$A81)=\"\",\"\",INDIRECT($B$2&$AB$2&$A81))","v":""},{"$f":"IF(INDIRECT($B$2&$AC$2&$A81)=\"\",\"\",INDIRECT($B$2&$AC$2&$A81))","v":""},{"$f":"IF(INDIRECT($B$2&$AD$2&$A81)=\"\",\"\",INDIRECT($B$2&$AD$2&$A81))","v":""},{"$f":"IF(INDIRECT($B$2&$AE$2&$A81)=\"\",\"\",INDIRECT($B$2&$AE$2&$A81))","v":""},{"$f":"IF(INDIRECT($B$2&$AF$2&$A81)=\"\",\"\",INDIRECT($B$2&$AF$2&$A81))","v":""},null,null,null,null,null,null,null,null,null,null,null,null,null,null,null,{"$f":"IF(INDIRECT($B$2&AV$2&$A81)=\"\",\"\",INDIRECT($B$2&AV$2&$A81))","v":""},{"$f":"IF(INDIRECT($B$2&AW$2&$A81)=\"\",\"\",INDIRECT($B$2&AW$2&$A81))","v":""},{"$f":"IF(INDIRECT($B$2&AX$2&$A81)=\"\",\"\",INDIRECT($B$2&AX$2&$A81))","v":""},{"$f":"IF(INDIRECT($B$2&AY$2&$A81)=\"\",\"\",INDIRECT($B$2&AY$2&$A81))","v":""},{"$f":"IF(INDIRECT($B$2&AZ$2&$A81)=\"\",\"\",INDIRECT($B$2&AZ$2&$A81))","v":""},{"$f":"IF(INDIRECT($B$2&BA$2&$A81)=\"\",\"\",INDIRECT($B$2&BA$2&$A81))","v":""},{"$f":"IF(INDIRECT($B$2&BB$2&$A81)=\"\",\"\",INDIRECT($B$2&BB$2&$A81))","v":""},{"$f":"IF(INDIRECT($B$2&BC$2&$A81)=\"\",\"\",INDIRECT($B$2&BC$2&$A81))","v":""},{"$f":"IF(INDIRECT($B$2&BD$2&$A81)=\"\",\"\",INDIRECT($B$2&BD$2&$A81))","v":""},{"$f":"IF(INDIRECT($B$2&BE$2&$A81)=\"\",\"\",INDIRECT($B$2&BE$2&$A81))","v":""},{"$f":"IF(INDIRECT($B$2&BF$2&$A81)=\"\",\"\",INDIRECT($B$2&BF$2&$A81))","v":""},{"$f":"IF(INDIRECT($B$2&BG$2&$A81)=\"\",\"\",INDIRECT($B$2&BG$2&$A81))","v":""},{"$f":"IF(INDIRECT($B$2&BH$2&$A81)=\"\",\"\",INDIRECT($B$2&BH$2&$A81))","v":""},{"$f":"IF(INDIRECT($B$2&BI$2&$A81)=\"\",\"\",INDIRECT($B$2&BI$2&$A81))","v":""},{"$f":"IF(INDIRECT($B$2&BJ$2&$A81)=\"\",\"\",INDIRECT($B$2&BJ$2&$A81))","v":""},{"$f":"IF(INDIRECT($B$2&BK$2&$A81)=\"\",\"\",INDIRECT($B$2&BK$2&$A81))","v":0},{"$f":"IF(INDIRECT($B$2&BL$2&$A81)=\"\",\"\",INDIRECT($B$2&BL$2&$A81))","v":""},{"$f":"IF(INDIRECT($B$2&BM$2&$A81)=\"\",\"\",INDIRECT($B$2&BM$2&$A81))","v":""},{"$f":"IF(INDIRECT($B$2&BN$2&$A81)=\"\",\"\",INDIRECT($B$2&BN$2&$A81))","v":""},{"$f":"IF(INDIRECT($B$2&BO$2&$A81)=\"\",\"\",INDIRECT($B$2&BO$2&$A81))","v":""},{"$f":"IF(INDIRECT($B$2&BP$2&$A81)=\"\",\"\",INDIRECT($B$2&BP$2&$A81))","v":""},{"$f":"IF(INDIRECT($B$2&BQ$2&$A81)=\"\",\"\",INDIRECT($B$2&BQ$2&$A81))","v":""},{"$f":"IF(INDIRECT($B$2&BR$2&$A81)=\"\",\"\",INDIRECT($B$2&BR$2&$A81))","v":""},{"$f":"IF(INDIRECT($B$2&BS$2&$A81)=\"\",\"\",INDIRECT($B$2&BS$2&$A81))","v":""},{"$f":"IF(INDIRECT($B$2&BT$2&$A81)=\"\",\"\",INDIRECT($B$2&BT$2&$A81))","v":""},{"$f":"IF(INDIRECT($B$2&BU$2&$A81)=\"\",\"\",INDIRECT($B$2&BU$2&$A81))","v":""},{"$f":"IF(INDIRECT($B$2&BV$2&$A81)=\"\",\"\",INDIRECT($B$2&BV$2&$A81))","v":""},{"$f":"IF(INDIRECT($B$2&BW$2&$A81)=\"\",\"\",INDIRECT($B$2&BW$2&$A81))","v":""},{"$f":"IF(INDIRECT($B$2&BX$2&$A81)=\"\",\"\",INDIRECT($B$2&BX$2&$A81))","v":""},{"$f":"IF(INDIRECT($B$2&BY$2&$A81)=\"\",\"\",INDIRECT($B$2&BY$2&$A81))","v":""},{"$f":"IF(INDIRECT($B$2&BZ$2&$A81)=\"\",\"\",INDIRECT($B$2&BZ$2&$A81))","v":0},{"$f":"IF(INDIRECT($B$2&CA$2&$A81)=\"\",\"\",INDIRECT($B$2&CA$2&$A81))","v":""},{"$f":"IF(INDIRECT($B$2&CB$2&$A81)=\"\",\"\",INDIRECT($B$2&CB$2&$A81))","v":""},{"$f":"IF(INDIRECT($B$2&CC$2&$A81)=\"\",\"\",INDIRECT($B$2&CC$2&$A81))","v":""},{"$f":"IF(INDIRECT($B$2&CD$2&$A81)=\"\",\"\",INDIRECT($B$2&CD$2&$A81))","v":""},{"$f":"IF(INDIRECT($B$2&CE$2&$A81)=\"\",\"\",INDIRECT($B$2&CE$2&$A81))","v":""},{"$f":"IF(INDIRECT($B$2&CF$2&$A81)=\"\",\"\",INDIRECT($B$2&CF$2&$A81))","v":""},{"$f":"IF(INDIRECT($B$2&CG$2&$A81)=\"\",\"\",INDIRECT($B$2&CG$2&$A81))","v":""},{"$f":"IF(INDIRECT($B$2&CH$2&$A81)=\"\",\"\",INDIRECT($B$2&CH$2&$A81))","v":""},{"$f":"IF(INDIRECT($B$2&CI$2&$A81)=\"\",\"\",INDIRECT($B$2&CI$2&$A81))","v":""},{"$f":"IF(INDIRECT($B$2&CJ$2&$A81)=\"\",\"\",INDIRECT($B$2&CJ$2&$A81))","v":""},{"$f":"IF(INDIRECT($B$2&CK$2&$A81)=\"\",\"\",INDIRECT($B$2&CK$2&$A81))","v":""},{"$f":"IF(INDIRECT($B$2&CL$2&$A81)=\"\",\"\",INDIRECT($B$2&CL$2&$A81))","v":""},{"$f":"IF(INDIRECT($B$2&CM$2&$A81)=\"\",\"\",INDIRECT($B$2&CM$2&$A81))","v":""},{"$f":"IF(INDIRECT($B$2&CN$2&$A81)=\"\",\"\",INDIRECT($B$2&CN$2&$A81))","v":""},{"$f":"IF(INDIRECT($B$2&CO$2&$A81)=\"\",\"\",INDIRECT($B$2&CO$2&$A81))","v":""},null,{"$f":"IF(INDIRECT($B$2&CQ$2&$A81)=\"\",\"\",INDIRECT($B$2&CQ$2&$A81))","v":""},{"$f":"IF(INDIRECT($B$2&CR$2&$A81)=\"\",\"\",INDIRECT($B$2&CR$2&$A81))","v":""},{"$f":"IF(INDIRECT($B$2&CS$2&$A81)=\"\",\"\",INDIRECT($B$2&CS$2&$A81))","v":""}]
[109,null,null,null,null,null,null,null,null,null,null,null,null,null,null,72,{"$f":"IF(INDIRECT($B$2&$Q$2&$A82)=\"\",\"\",INDIRECT($B$2&$Q$2&$A82))","v":""},null,{"$f":"IF(INDIRECT($B$2&$S$2&$A82)=\"\",\"\",INDIRECT($B$2&$S$2&$A82))","v":0},{"$f":"IF(INDIRECT($B$2&$T$2&$A82)=\"\",\"\",INDIRECT($B$2&$T$2&$A82))","v":0},{"$f":"IF(INDIRECT($B$2&$U$2&$A82)=\"\",\"\",INDIRECT($B$2&$U$2&$A82))","v":0},{"$f":"IF(INDIRECT($B$2&$V$2&$A82)=\"\",\"\",INDIRECT($B$2&$V$2&$A82))","v":""},{"$f":"IF(INDIRECT($B$2&$W$2&$A82)=\"\",\"\",INDIRECT($B$2&$W$2&$A82))","v":""},{"$f":"IF(INDIRECT($B$2&$X$2&$A82)=\"\",\"\",INDIRECT($B$2&$X$2&$A82))","v":""},{"$f":"IF(INDIRECT($B$2&$Y$2&$A82)=\"\",\"\",INDIRECT($B$2&$Y$2&$A82))","v":""},{"$f":"IF(INDIRECT($B$2&$Z$2&$A82)=\"\",\"\",INDIRECT($B$2&$Z$2&$A82))","v":""},null,{"$f":"IF(INDIRECT($B$2&$AB$2&$A82)=\"\",\"\",INDIRECT($B$2&$AB$2&$A82))","v":""},{"$f":"IF(INDIRECT($B$2&$AC$2&$A82)=\"\",\"\",INDIRECT($B$2&$AC$2&$A82))","v":""},{"$f":"IF(INDIRECT($B$2&$AD$2&$A82)=\"\",\"\",INDIRECT($B$2&$AD$2&$A82))","v":""},{"$f":"IF(INDIRECT($B$2&$AE$2&$A82)=\"\",\"\",INDIRECT($B$2&$AE$2&$A82))","v":""},{"$f":"IF(INDIRECT($B$2&$AF$2&$A82)=\"\",\"\",INDIRECT($B$2&$AF$2&$A82))","v":""},null,null,null,null,null,null,null,null,null,null,null,null,null,null,null,{"$f":"IF(INDIRECT($B$2&AV$2&$A82)=\"\",\"\",INDIRECT($B$2&AV$2&$A82))","v":""},{"$f":"IF(INDIRECT($B$2&AW$2&$A82)=\"\",\"\",INDIRECT($B$2&AW$2&$A82))","v":""},{"$f":"IF(INDIRECT($B$2&AX$2&$A82)=\"\",\"\",INDIRECT($B$2&AX$2&$A82))","v":""},{"$f":"IF(INDIRECT($B$2&AY$2&$A82)=\"\",\"\",INDIRECT($B$2&AY$2&$A82))","v":""},{"$f":"IF(INDIRECT($B$2&AZ$2&$A82)=\"\",\"\",INDIRECT($B$2&AZ$2&$A82))","v":""},{"$f":"IF(INDIRECT($B$2&BA$2&$A82)=\"\",\"\",INDIRECT($B$2&BA$2&$A82))","v":""},{"$f":"IF(INDIRECT($B$2&BB$2&$A82)=\"\",\"\",INDIRECT($B$2&BB$2&$A82))","v":""},{"$f":"IF(INDIRECT($B$2&BC$2&$A82)=\"\",\"\",INDIRECT($B$2&BC$2&$A82))","v":""},{"$f":"IF(INDIRECT($B$2&BD$2&$A82)=\"\",\"\",INDIRECT($B$2&BD$2&$A82))","v":""},{"$f":"IF(INDIRECT($B$2&BE$2&$A82)=\"\",\"\",INDIRECT($B$2&BE$2&$A82))","v":""},{"$f":"IF(INDIRECT($B$2&BF$2&$A82)=\"\",\"\",INDIRECT($B$2&BF$2&$A82))","v":""},{"$f":"IF(INDIRECT($B$2&BG$2&$A82)=\"\",\"\",INDIRECT($B$2&BG$2&$A82))","v":""},{"$f":"IF(INDIRECT($B$2&BH$2&$A82)=\"\",\"\",INDIRECT($B$2&BH$2&$A82))","v":""},{"$f":"IF(INDIRECT($B$2&BI$2&$A82)=\"\",\"\",INDIRECT($B$2&BI$2&$A82))","v":""},{"$f":"IF(INDIRECT($B$2&BJ$2&$A82)=\"\",\"\",INDIRECT($B$2&BJ$2&$A82))","v":""},{"$f":"IF(INDIRECT($B$2&BK$2&$A82)=\"\",\"\",INDIRECT($B$2&BK$2&$A82))","v":0},{"$f":"IF(INDIRECT($B$2&BL$2&$A82)=\"\",\"\",INDIRECT($B$2&BL$2&$A82))","v":""},{"$f":"IF(INDIRECT($B$2&BM$2&$A82)=\"\",\"\",INDIRECT($B$2&BM$2&$A82))","v":""},{"$f":"IF(INDIRECT($B$2&BN$2&$A82)=\"\",\"\",INDIRECT($B$2&BN$2&$A82))","v":""},{"$f":"IF(INDIRECT($B$2&BO$2&$A82)=\"\",\"\",INDIRECT($B$2&BO$2&$A82))","v":""},{"$f":"IF(INDIRECT($B$2&BP$2&$A82)=\"\",\"\",INDIRECT($B$2&BP$2&$A82))","v":""},{"$f":"IF(INDIRECT($B$2&BQ$2&$A82)=\"\",\"\",INDIRECT($B$2&BQ$2&$A82))","v":""},{"$f":"IF(INDIRECT($B$2&BR$2&$A82)=\"\",\"\",INDIRECT($B$2&BR$2&$A82))","v":""},{"$f":"IF(INDIRECT($B$2&BS$2&$A82)=\"\",\"\",INDIRECT($B$2&BS$2&$A82))","v":""},{"$f":"IF(INDIRECT($B$2&BT$2&$A82)=\"\",\"\",INDIRECT($B$2&BT$2&$A82))","v":""},{"$f":"IF(INDIRECT($B$2&BU$2&$A82)=\"\",\"\",INDIRECT($B$2&BU$2&$A82))","v":""},{"$f":"IF(INDIRECT($B$2&BV$2&$A82)=\"\",\"\",INDIRECT($B$2&BV$2&$A82))","v":""},{"$f":"IF(INDIRECT($B$2&BW$2&$A82)=\"\",\"\",INDIRECT($B$2&BW$2&$A82))","v":""},{"$f":"IF(INDIRECT($B$2&BX$2&$A82)=\"\",\"\",INDIRECT($B$2&BX$2&$A82))","v":""},{"$f":"IF(INDIRECT($B$2&BY$2&$A82)=\"\",\"\",INDIRECT($B$2&BY$2&$A82))","v":""},{"$f":"IF(INDIRECT($B$2&BZ$2&$A82)=\"\",\"\",INDIRECT($B$2&BZ$2&$A82))","v":0},{"$f":"IF(INDIRECT($B$2&CA$2&$A82)=\"\",\"\",INDIRECT($B$2&CA$2&$A82))","v":""},{"$f":"IF(INDIRECT($B$2&CB$2&$A82)=\"\",\"\",INDIRECT($B$2&CB$2&$A82))","v":""},{"$f":"IF(INDIRECT($B$2&CC$2&$A82)=\"\",\"\",INDIRECT($B$2&CC$2&$A82))","v":""},{"$f":"IF(INDIRECT($B$2&CD$2&$A82)=\"\",\"\",INDIRECT($B$2&CD$2&$A82))","v":""},{"$f":"IF(INDIRECT($B$2&CE$2&$A82)=\"\",\"\",INDIRECT($B$2&CE$2&$A82))","v":""},{"$f":"IF(INDIRECT($B$2&CF$2&$A82)=\"\",\"\",INDIRECT($B$2&CF$2&$A82))","v":""},{"$f":"IF(INDIRECT($B$2&CG$2&$A82)=\"\",\"\",INDIRECT($B$2&CG$2&$A82))","v":""},{"$f":"IF(INDIRECT($B$2&CH$2&$A82)=\"\",\"\",INDIRECT($B$2&CH$2&$A82))","v":""},{"$f":"IF(INDIRECT($B$2&CI$2&$A82)=\"\",\"\",INDIRECT($B$2&CI$2&$A82))","v":""},{"$f":"IF(INDIRECT($B$2&CJ$2&$A82)=\"\",\"\",INDIRECT($B$2&CJ$2&$A82))","v":""},{"$f":"IF(INDIRECT($B$2&CK$2&$A82)=\"\",\"\",INDIRECT($B$2&CK$2&$A82))","v":""},{"$f":"IF(INDIRECT($B$2&CL$2&$A82)=\"\",\"\",INDIRECT($B$2&CL$2&$A82))","v":""},{"$f":"IF(INDIRECT($B$2&CM$2&$A82)=\"\",\"\",INDIRECT($B$2&CM$2&$A82))","v":""},{"$f":"IF(INDIRECT($B$2&CN$2&$A82)=\"\",\"\",INDIRECT($B$2&CN$2&$A82))","v":""},{"$f":"IF(INDIRECT($B$2&CO$2&$A82)=\"\",\"\",INDIRECT($B$2&CO$2&$A82))","v":""},null,{"$f":"IF(INDIRECT($B$2&CQ$2&$A82)=\"\",\"\",INDIRECT($B$2&CQ$2&$A82))","v":""},{"$f":"IF(INDIRECT($B$2&CR$2&$A82)=\"\",\"\",INDIRECT($B$2&CR$2&$A82))","v":""},{"$f":"IF(INDIRECT($B$2&CS$2&$A82)=\"\",\"\",INDIRECT($B$2&CS$2&$A82))","v":""}]
[110,null,null,null,null,null,null,null,null,null,null,null,null,null,null,73,{"$f":"IF(INDIRECT($B$2&$Q$2&$A83)=\"\",\"\",INDIRECT($B$2&$Q$2&$A83))","v":""},null,{"$f":"IF(INDIRECT($B$2&$S$2&$A83)=\"\",\"\",INDIRECT($B$2&$S$2&$A83))","v":0},{"$f":"IF(INDIRECT($B$2&$T$2&$A83)=\"\",\"\",INDIRECT($B$2&$T$2&$A83))","v":0},{"$f":"IF(INDIRECT($B$2&$U$2&$A83)=\"\",\"\",INDIRECT($B$2&$U$2&$A83))","v":0},{"$f":"IF(INDIRECT($B$2&$V$2&$A83)=\"\",\"\",INDIRECT($B$2&$V$2&$A83))","v":""},{"$f":"IF(INDIRECT($B$2&$W$2&$A83)=\"\",\"\",INDIRECT($B$2&$W$2&$A83))","v":""},{"$f":"IF(INDIRECT($B$2&$X$2&$A83)=\"\",\"\",INDIRECT($B$2&$X$2&$A83))","v":""},{"$f":"IF(INDIRECT($B$2&$Y$2&$A83)=\"\",\"\",INDIRECT($B$2&$Y$2&$A83))","v":""},{"$f":"IF(INDIRECT($B$2&$Z$2&$A83)=\"\",\"\",INDIRECT($B$2&$Z$2&$A83))","v":""},null,{"$f":"IF(INDIRECT($B$2&$AB$2&$A83)=\"\",\"\",INDIRECT($B$2&$AB$2&$A83))","v":""},{"$f":"IF(INDIRECT($B$2&$AC$2&$A83)=\"\",\"\",INDIRECT($B$2&$AC$2&$A83))","v":""},{"$f":"IF(INDIRECT($B$2&$AD$2&$A83)=\"\",\"\",INDIRECT($B$2&$AD$2&$A83))","v":""},{"$f":"IF(INDIRECT($B$2&$AE$2&$A83)=\"\",\"\",INDIRECT($B$2&$AE$2&$A83))","v":""},{"$f":"IF(INDIRECT($B$2&$AF$2&$A83)=\"\",\"\",INDIRECT($B$2&$AF$2&$A83))","v":""},null,null,null,null,null,null,null,null,null,null,null,null,null,null,null,{"$f":"IF(INDIRECT($B$2&AV$2&$A83)=\"\",\"\",INDIRECT($B$2&AV$2&$A83))","v":""},{"$f":"IF(INDIRECT($B$2&AW$2&$A83)=\"\",\"\",INDIRECT($B$2&AW$2&$A83))","v":""},{"$f":"IF(INDIRECT($B$2&AX$2&$A83)=\"\",\"\",INDIRECT($B$2&AX$2&$A83))","v":""},{"$f":"IF(INDIRECT($B$2&AY$2&$A83)=\"\",\"\",INDIRECT($B$2&AY$2&$A83))","v":""},{"$f":"IF(INDIRECT($B$2&AZ$2&$A83)=\"\",\"\",INDIRECT($B$2&AZ$2&$A83))","v":""},{"$f":"IF(INDIRECT($B$2&BA$2&$A83)=\"\",\"\",INDIRECT($B$2&BA$2&$A83))","v":""},{"$f":"IF(INDIRECT($B$2&BB$2&$A83)=\"\",\"\",INDIRECT($B$2&BB$2&$A83))","v":""},{"$f":"IF(INDIRECT($B$2&BC$2&$A83)=\"\",\"\",INDIRECT($B$2&BC$2&$A83))","v":""},{"$f":"IF(INDIRECT($B$2&BD$2&$A83)=\"\",\"\",INDIRECT($B$2&BD$2&$A83))","v":""},{"$f":"IF(INDIRECT($B$2&BE$2&$A83)=\"\",\"\",INDIRECT($B$2&BE$2&$A83))","v":""},{"$f":"IF(INDIRECT($B$2&BF$2&$A83)=\"\",\"\",INDIRECT($B$2&BF$2&$A83))","v":""},{"$f":"IF(INDIRECT($B$2&BG$2&$A83)=\"\",\"\",INDIRECT($B$2&BG$2&$A83))","v":""},{"$f":"IF(INDIRECT($B$2&BH$2&$A83)=\"\",\"\",INDIRECT($B$2&BH$2&$A83))","v":""},{"$f":"IF(INDIRECT($B$2&BI$2&$A83)=\"\",\"\",INDIRECT($B$2&BI$2&$A83))","v":""},{"$f":"IF(INDIRECT($B$2&BJ$2&$A83)=\"\",\"\",INDIRECT($B$2&BJ$2&$A83))","v":""},{"$f":"IF(INDIRECT($B$2&BK$2&$A83)=\"\",\"\",INDIRECT($B$2&BK$2&$A83))","v":0},{"$f":"IF(INDIRECT($B$2&BL$2&$A83)=\"\",\"\",INDIRECT($B$2&BL$2&$A83))","v":""},{"$f":"IF(INDIRECT($B$2&BM$2&$A83)=\"\",\"\",INDIRECT($B$2&BM$2&$A83))","v":""},{"$f":"IF(INDIRECT($B$2&BN$2&$A83)=\"\",\"\",INDIRECT($B$2&BN$2&$A83))","v":""},{"$f":"IF(INDIRECT($B$2&BO$2&$A83)=\"\",\"\",INDIRECT($B$2&BO$2&$A83))","v":""},{"$f":"IF(INDIRECT($B$2&BP$2&$A83)=\"\",\"\",INDIRECT($B$2&BP$2&$A83))","v":""},{"$f":"IF(INDIRECT($B$2&BQ$2&$A83)=\"\",\"\",INDIRECT($B$2&BQ$2&$A83))","v":""},{"$f":"IF(INDIRECT($B$2&BR$2&$A83)=\"\",\"\",INDIRECT($B$2&BR$2&$A83))","v":""},{"$f":"IF(INDIRECT($B$2&BS$2&$A83)=\"\",\"\",INDIRECT($B$2&BS$2&$A83))","v":""},{"$f":"IF(INDIRECT($B$2&BT$2&$A83)=\"\",\"\",INDIRECT($B$2&BT$2&$A83))","v":""},{"$f":"IF(INDIRECT($B$2&BU$2&$A83)=\"\",\"\",INDIRECT($B$2&BU$2&$A83))","v":""},{"$f":"IF(INDIRECT($B$2&BV$2&$A83)=\"\",\"\",INDIRECT($B$2&BV$2&$A83))","v":""},{"$f":"IF(INDIRECT($B$2&BW$2&$A83)=\"\",\"\",INDIRECT($B$2&BW$2&$A83))","v":""},{"$f":"IF(INDIRECT($B$2&BX$2&$A83)=\"\",\"\",INDIRECT($B$2&BX$2&$A83))","v":""},{"$f":"IF(INDIRECT($B$2&BY$2&$A83)=\"\",\"\",INDIRECT($B$2&BY$2&$A83))","v":""},{"$f":"IF(INDIRECT($B$2&BZ$2&$A83)=\"\",\"\",INDIRECT($B$2&BZ$2&$A83))","v":0},{"$f":"IF(INDIRECT($B$2&CA$2&$A83)=\"\",\"\",INDIRECT($B$2&CA$2&$A83))","v":""},{"$f":"IF(INDIRECT($B$2&CB$2&$A83)=\"\",\"\",INDIRECT($B$2&CB$2&$A83))","v":""},{"$f":"IF(INDIRECT($B$2&CC$2&$A83)=\"\",\"\",INDIRECT($B$2&CC$2&$A83))","v":""},{"$f":"IF(INDIRECT($B$2&CD$2&$A83)=\"\",\"\",INDIRECT($B$2&CD$2&$A83))","v":""},{"$f":"IF(INDIRECT($B$2&CE$2&$A83)=\"\",\"\",INDIRECT($B$2&CE$2&$A83))","v":""},{"$f":"IF(INDIRECT($B$2&CF$2&$A83)=\"\",\"\",INDIRECT($B$2&CF$2&$A83))","v":""},{"$f":"IF(INDIRECT($B$2&CG$2&$A83)=\"\",\"\",INDIRECT($B$2&CG$2&$A83))","v":""},{"$f":"IF(INDIRECT($B$2&CH$2&$A83)=\"\",\"\",INDIRECT($B$2&CH$2&$A83))","v":""},{"$f":"IF(INDIRECT($B$2&CI$2&$A83)=\"\",\"\",INDIRECT($B$2&CI$2&$A83))","v":""},{"$f":"IF(INDIRECT($B$2&CJ$2&$A83)=\"\",\"\",INDIRECT($B$2&CJ$2&$A83))","v":""},{"$f":"IF(INDIRECT($B$2&CK$2&$A83)=\"\",\"\",INDIRECT($B$2&CK$2&$A83))","v":""},{"$f":"IF(INDIRECT($B$2&CL$2&$A83)=\"\",\"\",INDIRECT($B$2&CL$2&$A83))","v":""},{"$f":"IF(INDIRECT($B$2&CM$2&$A83)=\"\",\"\",INDIRECT($B$2&CM$2&$A83))","v":""},{"$f":"IF(INDIRECT($B$2&CN$2&$A83)=\"\",\"\",INDIRECT($B$2&CN$2&$A83))","v":""},{"$f":"IF(INDIRECT($B$2&CO$2&$A83)=\"\",\"\",INDIRECT($B$2&CO$2&$A83))","v":""},null,{"$f":"IF(INDIRECT($B$2&CQ$2&$A83)=\"\",\"\",INDIRECT($B$2&CQ$2&$A83))","v":""},{"$f":"IF(INDIRECT($B$2&CR$2&$A83)=\"\",\"\",INDIRECT($B$2&CR$2&$A83))","v":""},{"$f":"IF(INDIRECT($B$2&CS$2&$A83)=\"\",\"\",INDIRECT($B$2&CS$2&$A83))","v":""}]

{"sheet":"集計用_別紙2","index":8,"n_rows":37,"n_cols":66,"rows_kept":37,"cut":false,"hidden":true,"merged":[[7,1,7,65],[8,6,8,20],[9,29,9,33],[9,3,9,5],[9,1,9,2],[9,15,9,19],[8,21,8,35],[8,36,8,50],[9,44,9,48],[8,51,8,65],[9,59,9,63]]}
[]
[null,{"$f":"\"'\"&MID(CELL(\"filename\",別紙2_計画進捗!A1),FIND(\"]\",CELL(\"filename\",別紙2_計画進捗!A1))+1,LEN(CELL(\"filename\",別紙2_計画進捗!A1)))&\"'!\"","v":"'別紙2_計画進捗'!"}]
[]
[null,{"$f":"MID(CELL(\"address\",別紙2_計画進捗!J8),FIND(\"!\",CELL(\"address\",別紙2_計画進捗!J8))+2,1)","v":"J"},null,{"$f":"MID(CELL(\"address\",別紙2_計画進捗!B8),FIND(\"!\",CELL(\"address\",別紙2_計画進捗!B8))+2,1)","v":"B"},null,null,null,{"$f":"MID(CELL(\"address\",別紙2_計画進捗!DK8),FIND(\"!\",CELL(\"address\",別紙2_計画進捗!DK8))+2,2)","v":"DK"},{"$f":"MID(CELL(\"address\",別紙2_計画進捗!C8),FIND(\"!\",CELL(\"address\",別紙2_計画進捗!C8))+2,1)","v":"C"},{"$f":"MID(CELL(\"address\",別紙2_計画進捗!E8),FIND(\"!\",CELL(\"address\",別紙2_計画進捗!E8))+2,1)","v":"E"},{"$f":"MID(CELL(\"address\",別紙2_計画進捗!I8),FIND(\"!\",CELL(\"address\",別紙2_計画進捗!I8))+2,1)","v":"I"},{"$f":"MID(CELL(\"address\",別紙2_計画進捗!AC8),FIND(\"!\",CELL(\"address\",別紙2_計画進捗!AC8))+2,2)","v":"AC"},{"$f":"MID(CELL(\"address\",別紙2_計画進捗!AE8),FIND(\"!\",CELL(\"address\",別紙2_計画進捗!AE8))+2,2)","v":"AE"},{"$f":"MID(CELL(\"address\",別紙2_計画進捗!AJ8),FIND(\"!\",CELL(\"address\",別紙2_計画進捗!AJ8))+2,2)","v":"AJ"},{"$f":"MID(CELL(\"address\",別紙2_計画進捗!AN8),FIND(\"!\",CELL(\"address\",別紙2_計画進捗!AN8))+2,2)","v":"AN"},{"$f":"MID(CELL(\"address\",別紙2_計画進捗!AQ8),FIND(\"!\",CELL(\"address\",別紙2_計画進捗!AQ8))+2,2)","v":"AQ"},{"$f":"MID(CELL(\"address\",別紙2_計画進捗!AT8),FIND(\"!\",CELL(\"address\",別紙2_計画進捗!AT8))+2,2)","v":"AT"},{"$f":"MID(CELL(\"address\",別紙2_計画進捗!AW8),FIND(\"!\",CELL(\"address\",別紙2_計画進捗!AW8))+2,2)","v":"AW"},{"$f":"MID(CELL(\"address\",別紙2_計画進捗!AZ8),FIND(\"!\",CELL(\"address\",別紙2_計画進捗!AZ8))+2,2)","v":"AZ"},{"$f":"MID(CELL(\"address\",別紙2_計画進捗!BC8),FIND(\"!\",CELL(\"address\",別紙2_計画進捗!BC8))+2,2)","v":"BC"},{"$f":"MID(CELL(\"address\",別紙2_計画進捗!BF8),FIND(\"!\",CELL(\"address\",別紙2_計画進捗!BF8))+2,2)","v":"BF"},null,{"$f":"MID(CELL(\"address\",別紙2_計画進捗!BO8),FIND(\"!\",CELL(\"address\",別紙2_計画進捗!BO8))+2,2)","v":"BO"},{"$f":"MID(CELL(\"address\",別紙2_計画進捗!BP8),FIND(\"!\",CELL(\"address\",別紙2_計画進捗!BP8))+2,2)","v":"BP"},{"$f":"MID(CELL(\"address\",別紙2_計画進捗!BQ8),FIND(\"!\",CELL(\"address\",別紙2_計画進捗!BQ8))+2,2)","v":"BQ"},{"$f":"MID(CELL(\"address\",別紙2_計画進捗!BR8),FIND(\"!\",CELL(\"address\",別紙2_計画進捗!BR8))+2,2)","v":"BR"},{"$f":"MID(CELL(\"address\",別紙2_計画進捗!BS8),FIND(\"!\",CELL(\"address\",別紙2_計画進捗!BS8))+2,2)","v":"BS"},{"$f":"MID(CELL(\"address\",別紙2_計画進捗!BT8),FIND(\"!\",CELL(\"address\",別紙2_計画進捗!BT8))+2,2)","v":"BT"},{"$f":"MID(CELL(\"address\",別紙2_計画進捗!BU8),FIND(\"!\",CELL(\"address\",別紙2_計画進捗!BU8))+2,2)","v":"BU"},{"$f":"MID(CELL(\"address\",別紙2_計画進捗!BV8),FIND(\"!\",CELL(\"address\",別紙2_計画進捗!BV8))+2,2)","v":"BV"},{"$f":"MID(CELL(\"address\",別紙2_計画進捗!BW8),FIND(\"!\",CELL(\"address\",別紙2_計画進捗!BW8))+2,2)","v":"BW"},{"$f":"MID(CELL(\"address\",別紙2_計画進捗!BX8),FIND(\"!\",CELL(\"address\",別紙2_計画進捗!BX8))+2,2)","v":"BX"},{"$f":"MID(CELL(\"address\",別紙2_計画進捗!BY8),FIND(\"!\",CELL(\"address\",別紙2_計画進捗!BY8))+2,2)","v":"BY"},{"$f":"MID(CELL(\"address\",別紙2_計画進捗!BZ8),FIND(\"!\",CELL(\"address\",別紙2_計画進捗!BZ8))+2,2)","v":"BZ"},{"$f":"MID(CELL(\"address\",別紙2_計画進捗!CA8),FIND(\"!\",CELL(\"address\",別紙2_計画進捗!CA8))+2,2)","v":"CA"},{"$f":"MID(CELL(\"address\",別紙2_計画進捗!CB8),FIND(\"!\",CELL(\"address\",別紙2_計画進捗!CB8))+2,2)","v":"CB"},null,{"$f":"MID(CELL(\"address\",別紙2_計画進捗!CD8),FIND(\"!\",CELL(\"address\",別紙2_計画進捗!CD8))+2,2)","v":"CD"},{"$f":"MID(CELL(\"address\",別紙2_計画進捗!CE8),FIND(\"!\",CELL(\"address\",別紙2_計画進捗!CE8))+2,2)","v":"CE"},{"$f":"MID(CELL(\"address\",別紙2_計画進捗!CF8),FIND(\"!\",CELL(\"address\",別紙2_計画進捗!CF8))+2,2)","v":"CF"},{"$f":"MID(CELL(\"address\",別紙2_計画進捗!CG8),FIND(\"!\",CELL(\"address\",別紙2_計画進捗!CG8))+2,2)","v":"CG"},{"$f":"MID(CELL(\"address\",別紙2_計画進捗!CH8),FIND(\"!\",CELL(\"address\",別紙2_計画進捗!CH8))+2,2)","v":"CH"},{"$f":"MID(CELL(\"address\",別紙2_計画進捗!CI8),FIND(\"!\",CELL(\"address\",別紙2_計画進捗!CI8))+2,2)","v":"CI"},{"$f":"MID(CELL(\"address\",別紙2_計画進捗!CJ8),FIND(\"!\",CELL(\"address\",別紙2_計画進捗!CJ8))+2,2)","v":"CJ"},{"$f":"MID(CELL(\"address\",別紙2_計画進捗!CK8),FIND(\"!\",CELL(\"address\",別紙2_計画進捗!CK8))+2,2)","v":"CK"},{"$f":"MID(CELL(\"address\",別紙2_計画進捗!CL8),FIND(\"!\",CELL(\"address\",別紙2_計画進捗!CL8))+2,2)","v":"CL"},{"$f":"MID(CELL(\"address\",別紙2_計画進捗!CM8),FIND(\"!\",CELL(\"address\",別紙2_計画進捗!CM8))+2,2)","v":"CM"},{"$f":"MID(CELL(\"address\",別紙2_計画進捗!CN8),FIND(\"!\",CELL(\"address\",別紙2_計画進捗!CN8))+2,2)","v":"CN"},{"$f":"MID(CELL(\"address\",別紙2_計画進捗!CO8),FIND(\"!\",CELL(\"address\",別紙2_計画進捗!CO8))+2,2)","v":"CO"},{"$f":"MID(CELL(\"address\",別紙2_計画進捗!CP8),FIND(\"!\",CELL(\"address\",別紙2_計画進捗!CP8))+2,2)","v":"CP"},{"$f":"MID(CELL(\"address\",別紙2_計画進捗!CQ8),FIND(\"!\",CELL(\"address\",別紙2_計画進捗!CQ8))+2,2)","v":"CQ"},null,{"$f":"MID(CELL(\"address\",別紙2_計画進捗!CS8),FIND(\"!\",CELL(\"address\",別紙2_計画進捗!CS8))+2,2)","v":"CS"},{"$f":"MID(CELL(\"address\",別紙2_計画進捗!CT8),FIND(\"!\",CELL(\"address\",別紙2_計画進捗!CT8))+2,2)","v":"CT"},{"$f":"MID(CELL(\"address\",別紙2_計画進捗!CU8),FIND(\"!\",CELL(\"address\",別紙2_計画進捗!CU8))+2,2)","v":"CU"},{"$f":"MID(CELL(\"address\",別紙2_計画進捗!CV8),FIND(\"!\",CELL(\"address\",別紙2_計画進捗!CV8))+2,2)","v":"CV"},{"$f":"MID(CELL(\"address\",別紙2_計画進捗!CW8),FIND(\"!\",CELL(\"address\",別紙2_計画進捗!CW8))+2,2)","v":"CW"},{"$f":"MID(CELL(\"address\",別紙2_計画進捗!CX8),FIND(\"!\",CELL(\"address\",別紙2_計画進捗!CX8))+2,2)","v":"CX"},{"$f":"MID(CELL(\"address\",別紙2_計画進捗!CY8),FIND(\"!\",CELL(\"address\",別紙2_計画進捗!CY8))+2,2)","v":"CY"},{"$f":"MID(CELL(\"address\",別紙2_計画進捗!CZ8),FIND(\"!\",CELL(\"address\",別紙2_計画進捗!CZ8))+2,2)","v":"CZ"},{"$f":"MID(CELL(\"address\",別紙2_計画進捗!DA8),FIND(\"!\",CELL(\"address\",別紙2_計画進捗!DA8))+2,2)","v":"DA"},{"$f":"MID(CELL(\"address\",別紙2_計画進捗!DB8),FIND(\"!\",CELL(\"address\",別紙2_計画進捗!DB8))+2,2)","v":"DB"},{"$f":"MID(CELL(\"address\",別紙2_計画進捗!DC8),FIND(\"!\",CELL(\"address\",別紙2_計画進捗!DC8))+2,2)","v":"DC"},{"$f":"MID(CELL(\"address\",別紙2_計画進捗!DD8),FIND(\"!\",CELL(\"address\",別紙2_計画進捗!DD8))+2,2)","v":"DD"},{"$f":"MID(CELL(\"address\",別紙2_計画進捗!DE8),FIND(\"!\",CELL(\"address\",別紙2_計画進捗!DE8))+2,2)","v":"DE"},{"$f":"MID(CELL(\"address\",別紙2_計画進捗!DF8),FIND(\"!\",CELL(\"address\",別紙2_計画進捗!DF8))+2,2)","v":"DF"}]
[]
[null,"別紙3_計画進捗"]
[]
[null,"脱炭素化計画"]
[null,null,null,null,null,null,"設備更新補助採択時点",null,null,null,null,null,null,null,null,null,null,null,null,null,null,"事業報告年度1",null,null,null,null,null,null,null,null,null,null,null,null,null,null,"事業報告年度2",null,null,null,null,null,null,null,null,null,null,null,null,null,null,"事業報告年度3"]
[null,"事業者情報",null,"事業報告年度",null,null,null,null,null,null,null,null,null,null,null,"計画年度・CO2削減量",null,null,null,null,null,null,null,null,null,null,null,null,null,"計画年度・CO2削減量",null,null,null,null,null,null,null,null,null,null,null,null,null,null,"計画年度・CO2削減量",null,null,null,null,null,null,null,null,null,null,null,null,null,null,"計画年度・CO2削減量"]
[null,"事業者名（法人名）","工場・事業場名","事業報告年度1","事業報告年度2","事業報告年度3",null,"対策メニュー番号","対策個票番号","対策の種類","対策名称","主要システム系統","申請予定\n補助金","対策着手\n時期","年間CO2\n削減量","計画年度1","計画年度2","計画年度3","計画年度4","計画年度5","以降の活動予定",null,"対策個票番号","対策の種類","対策名称","主要システム系統","申請予定\n補助金","対策着手\n時期","年間CO2\n削減量","計画年度1","計画年度2","計画年度3","計画年度4","計画年度5","以降の活動予定","変更理由・備考",null,"対策個票番号","対策の種類","対策名称","主要システム系統","申請予定\n補助金","対策着手\n時期","年間CO2\n削減量","計画年度1","計画年度2","計画年度3","計画年度4","計画年度5","以降の活動予定","変更理由・備考",null,"対策個票番号","対策の種類","対策名称","主要システム系統","申請予定\n補助金","対策着手\n時期","年間CO2\n削減量","計画年度1","計画年度2","計画年度3","計画年度4","計画年度5","以降の活動予定","変更理由・備考"]
[22,{"$f":"IF(INDIRECT($B$2&$B$4&\"8\")=\"\",\"\",INDIRECT($B$2&$B$4&\"8\"))","v":""},{"$f":"IF(INDIRECT($B$2&$B$4&\"9\")=\"\",\"\",INDIRECT($B$2&$B$4&\"9\"))","v":""},{"$f":"IF(INDIRECT($B$2&$D$4&\"15\")=\"\",\"\",INDIRECT($B$2&$D$4&\"15\"))","v":"事業報告年度:未選択"},{"$f":"IF(INDIRECT($B$2&$D$4&\"16\")=\"\",\"\",INDIRECT($B$2&$D$4&\"16\"))","v":"事業報告年度:未選択"},{"$f":"IF(INDIRECT($B$2&$D$4&\"17\")=\"\",\"\",INDIRECT($B$2&$D$4&\"17\"))","v":"事業報告年度:未選択"},"目標年度",null,null,null,null,null,null,null,null,{"$f":"IF(INDIRECT($B$2&P$4&$A12)=\"\",\"\",INDIRECT($B$2&P$4&$A12))","v":""},{"$f":"IF(INDIRECT($B$2&Q$4&$A12)=\"\",\"\",INDIRECT($B$2&Q$4&$A12))","v":""},{"$f":"IF(INDIRECT($B$2&R$4&$A12)=\"\",\"\",INDIRECT($B$2&R$4&$A12))","v":""},{"$f":"IF(INDIRECT($B$2&S$4&$A12)=\"\",\"\",INDIRECT($B$2&S$4&$A12))","v":""},{"$f":"IF(INDIRECT($B$2&T$4&$A12)=\"\",\"\",INDIRECT($B$2&T$4&$A12))","v":""},null,"目標年度",null,null,null,null,null,null,null,{"$f":"IF(INDIRECT($B$2&AD$4&$A12)=\"\",\"\",INDIRECT($B$2&AD$4&$A12))","v":""},{"$f":"IF(INDIRECT($B$2&AE$4&$A12)=\"\",\"\",INDIRECT($B$2&AE$4&$A12))","v":""},{"$f":"IF(INDIRECT($B$2&AF$4&$A12)=\"\",\"\",INDIRECT($B$2&AF$4&$A12))","v":""},{"$f":"IF(INDIRECT($B$2&AG$4&$A12)=\"\",\"\",INDIRECT($B$2&AG$4&$A12))","v":""},{"$f":"IF(INDIRECT($B$2&AH$4&$A12)=\"\",\"\",INDIRECT($B$2&AH$4&$A12))","v":""},null,null,"目標年度",null,null,null,null,null,null,null,{"$f":"IF(INDIRECT($B$2&AS$4&$A12)=\"\",\"\",INDIRECT($B$2&AS$4&$A12))","v":""},{"$f":"IF(INDIRECT($B$2&AT$4&$A12)=\"\",\"\",INDIRECT($B$2&AT$4&$A12))","v":""},{"$f":"IF(INDIRECT($B$2&AU$4&$A12)=\"\",\"\",INDIRECT($B$2&AU$4&$A12))","v":""},{"$f":"IF(INDIRECT($B$2&AV$4&$A12)=\"\",\"\",INDIRECT($B$2&AV$4&$A12))","v":""},{"$f":"IF(INDIRECT($B$2&AW$4&$A12)=\"\",\"\",INDIRECT($B$2&AW$4&$A12))","v":""},null,null,"目標年度",null,null,null,null,null,null,null,{"$f":"IF(INDIRECT($B$2&BH$4&$A12)=\"\",\"\",INDIRECT($B$2&BH$4&$A12))","v":""},{"$f":"IF(INDIRECT($B$2&BI$4&$A12)=\"\",\"\",INDIRECT($B$2&BI$4&$A12))","v":""},{"$f":"IF(INDIRECT($B$2&BJ$4&$A12)=\"\",\"\",INDIRECT($B$2&BJ$4&$A12))","v":""},{"$f":"IF(INDIRECT($B$2&BK$4&$A12)=\"\",\"\",INDIRECT($B$2&BK$4&$A12))","v":""},{"$f":"IF(INDIRECT($B$2&BL$4&$A12)=\"\",\"\",INDIRECT($B$2&BL$4&$A12))","v":""}]
[23,null,null,null,null,null,"年度",null,null,null,null,null,null,null,null,{"$f":"IF(INDIRECT($B$2&P$4&$A13)=\"\",\"\",INDIRECT($B$2&P$4&$A13))","v":""},{"$f":"IF(INDIRECT($B$2&Q$4&$A13)=\"\",\"\",INDIRECT($B$2&Q$4&$A13))","v":""},{"$f":"IF(INDIRECT($B$2&R$4&$A13)=\"\",\"\",INDIRECT($B$2&R$4&$A13))","v":""},{"$f":"IF(INDIRECT($B$2&S$4&$A13)=\"\",\"\",INDIRECT($B$2&S$4&$A13))","v":""},{"$f":"IF(INDIRECT($B$2&T$4&$A13)=\"\",\"\",INDIRECT($B$2&T$4&$A13))","v":""},null,"年度",null,null,null,null,null,null,null,{"$f":"IF(INDIRECT($B$2&AD$4&$A13)=\"\",\"\",INDIRECT($B$2&AD$4&$A13))","v":""},{"$f":"IF(INDIRECT($B$2&AE$4&$A13)=\"\",\"\",INDIRECT($B$2&AE$4&$A13))","v":""},{"$f":"IF(INDIRECT($B$2&AF$4&$A13)=\"\",\"\",INDIRECT($B$2&AF$4&$A13))","v":""},{"$f":"IF(INDIRECT($B$2&AG$4&$A13)=\"\",\"\",INDIRECT($B$2&AG$4&$A13))","v":""},{"$f":"IF(INDIRECT($B$2&AH$4&$A13)=\"\",\"\",INDIRECT($B$2&AH$4&$A13))","v":""},null,null,"年度",null,null,null,null,null,null,null,{"$f":"IF(INDIRECT($B$2&AS$4&$A13)=\"\",\"\",INDIRECT($B$2&AS$4&$A13))","v":""},{"$f":"IF(INDIRECT($B$2&AT$4&$A13)=\"\",\"\",INDIRECT($B$2&AT$4&$A13))","v":""},{"$f":"IF(INDIRECT($B$2&AU$4&$A13)=\"\",\"\",INDIRECT($B$2&AU$4&$A13))","v":""},{"$f":"IF(INDIRECT($B$2&AV$4&$A13)=\"\",\"\",INDIRECT($B$2&AV$4&$A13))","v":""},{"$f":"IF(INDIRECT($B$2&AW$4&$A13)=\"\",\"\",INDIRECT($B$2&AW$4&$A13))","v":""},null,null,"年度",null,null,null,null,null,null,null,{"$f":"IF(INDIRECT($B$2&BH$4&$A13)=\"\",\"\",INDIRECT($B$2&BH$4&$A13))","v":""},{"$f":"IF(INDIRECT($B$2&BI$4&$A13)=\"\",\"\",INDIRECT($B$2&BI$4&$A13))","v":""},{"$f":"IF(INDIRECT($B$2&BJ$4&$A13)=\"\",\"\",INDIRECT($B$2&BJ$4&$A13))","v":""},{"$f":"IF(INDIRECT($B$2&BK$4&$A13)=\"\",\"\",INDIRECT($B$2&BK$4&$A13))","v":""},{"$f":"IF(INDIRECT($B$2&BL$4&$A13)=\"\",\"\",INDIRECT($B$2&BL$4&$A13))","v":""}]
[25,null,null,null,null,null,"省エネ1",{"$f":"IF(INDIRECT($B$2&H$4&$A14)=\"\",\"\",INDIRECT($B$2&H$4&$A14))","v":""},{"$f":"IF(INDIRECT($B$2&I$4&$A14)=\"\",\"\",INDIRECT($B$2&I$4&$A14))","v":""},{"$f":"IF(INDIRECT($B$2&J$4&$A14)=\"\",\"\",INDIRECT($B$2&J$4&$A14))","v":""},{"$f":"IF(INDIRECT($B$2&K$4&$A14)=\"\",\"\",INDIRECT($B$2&K$4&$A14))","v":""},{"$f":"IF(INDIRECT($B$2&L$4&$A14)=\"\",\"\",INDIRECT($B$2&L$4&$A14))","v":""},{"$f":"IF(INDIRECT($B$2&M$4&$A14)=\"\",\"\",INDIRECT($B$2&M$4&$A14))","v":""},{"$f":"IF(INDIRECT($B$2&N$4&$A14)=\"\",\"\",INDIRECT($B$2&N$4&$A14))","v":""},{"$f":"IF(INDIRECT($B$2&O$4&$A14)=\"\",\"\",INDIRECT($B$2&O$4&$A14))","v":""},{"$f":"IF(INDIRECT($B$2&P$4&$A14)=\"\",\"\",INDIRECT($B$2&P$4&$A14))","v":""},{"$f":"IF(INDIRECT($B$2&Q$4&$A14)=\"\",\"\",INDIRECT($B$2&Q$4&$A14))","v":""},{"$f":"IF(INDIRECT($B$2&R$4&$A14)=\"\",\"\",INDIRECT($B$2&R$4&$A14))","v":""},{"$f":"IF(INDIRECT($B$2&S$4&$A14)=\"\",\"\",INDIRECT($B$2&S$4&$A14))","v":""},{"$f":"IF(INDIRECT($B$2&T$4&$A14)=\"\",\"\",INDIRECT($B$2&T$4&$A14))","v":""},{"$f":"IF(INDIRECT($B$2&U$4&$A14)=\"\",\"\",INDIRECT($B$2&U$4&$A14))","v":""},"省エネ1",{"$f":"IF(INDIRECT($B$2&W$4&$A14)=\"\",\"\",INDIRECT($B$2&W$4&$A14))","v":""},{"$f":"IF(INDIRECT($B$2&X$4&$A14)=\"\",\"\",INDIRECT($B$2&X$4&$A14))","v":""},{"$f":"IF(INDIRECT($B$2&Y$4&$A14)=\"\",\"\",INDIRECT($B$2&Y$4&$A14))","v":""},{"$f":"IF(INDIRECT($B$2&Z$4&$A14)=\"\",\"\",INDIRECT($B$2&Z$4&$A14))","v":""},{"$f":"IF(INDIRECT($B$2&AA$4&$A14)=\"\",\"\",INDIRECT($B$2&AA$4&$A14))","v":""},{"$f":"IF(INDIRECT($B$2&AB$4&$A14)=\"\",\"\",INDIRECT($B$2&AB$4&$A14))","v":""},{"$f":"IF(INDIRECT($B$2&AC$4&$A14)=\"\",\"\",INDIRECT($B$2&AC$4&$A14))","v":""},{"$f":"IF(INDIRECT($B$2&AD$4&$A14)=\"\",\"\",INDIRECT($B$2&AD$4&$A14))","v":""},{"$f":"IF(INDIRECT($B$2&AE$4&$A14)=\"\",\"\",INDIRECT($B$2&AE$4&$A14))","v":""},{"$f":"IF(INDIRECT($B$2&AF$4&$A14)=\"\",\"\",INDIRECT($B$2&AF$4&$A14))","v":""},{"$f":"IF(INDIRECT($B$2&AG$4&$A14)=\"\",\"\",INDIRECT($B$2&AG$4&$A14))","v":""},{"$f":"IF(INDIRECT($B$2&AH$4&$A14)=\"\",\"\",INDIRECT($B$2&AH$4&$A14))","v":""},{"$f":"IF(INDIRECT($B$2&AI$4&$A14)=\"\",\"\",INDIRECT($B$2&AI$4&$A14))","v":""},{"$f":"IF(INDIRECT($B$2&AJ$4&$A14)=\"\",\"\",INDIRECT($B$2&AJ$4&$A14))","v":""},"省エネ1",{"$f":"IF(INDIRECT($B$2&AL$4&$A14)=\"\",\"\",INDIRECT($B$2&AL$4&$A14))","v":""},{"$f":"IF(INDIRECT($B$2&AM$4&$A14)=\"\",\"\",INDIRECT($B$2&AM$4&$A14))","v":""},{"$f":"IF(INDIRECT($B$2&AN$4&$A14)=\"\",\"\",INDIRECT($B$2&AN$4&$A14))","v":""},{"$f":"IF(INDIRECT($B$2&AO$4&$A14)=\"\",\"\",INDIRECT($B$2&AO$4&$A14))","v":""},{"$f":"IF(INDIRECT($B$2&AP$4&$A14)=\"\",\"\",INDIRECT($B$2&AP$4&$A14))","v":""},{"$f":"IF(INDIRECT($B$2&AQ$4&$A14)=\"\",\"\",INDIRECT($B$2&AQ$4&$A14))","v":""},{"$f":"IF(INDIRECT($B$2&AR$4&$A14)=\"\",\"\",INDIRECT($B$2&AR$4&$A14))","v":""},{"$f":"IF(INDIRECT($B$2&AS$4&$A14)=\"\",\"\",INDIRECT($B$2&AS$4&$A14))","v":""},{"$f":"IF(INDIRECT($B$2&AT$4&$A14)=\"\",\"\",INDIRECT($B$2&AT$4&$A14))","v":""},{"$f":"IF(INDIRECT($B$2&AU$4&$A14)=\"\",\"\",INDIRECT($B$2&AU$4&$A14))","v":""},{"$f":"IF(INDIRECT($B$2&AV$4&$A14)=\"\",\"\",INDIRECT($B$2&AV$4&$A14))","v":""},{"$f":"IF(INDIRECT($B$2&AW$4&$A14)=\"\",\"\",INDIRECT($B$2&AW$4&$A14))","v":""},{"$f":"IF(INDIRECT($B$2&AX$4&$A14)=\"\",\"\",INDIRECT($B$2&AX$4&$A14))","v":""},{"$f":"IF(INDIRECT($B$2&AY$4&$A14)=\"\",\"\",INDIRECT($B$2&AY$4&$A14))","v":""},"省エネ1",{"$f":"IF(INDIRECT($B$2&BA$4&$A14)=\"\",\"\",INDIRECT($B$2&BA$4&$A14))","v":""},{"$f":"IF(INDIRECT($B$2&BB$4&$A14)=\"\",\"\",INDIRECT($B$2&BB$4&$A14))","v":""},{"$f":"IF(INDIRECT($B$2&BC$4&$A14)=\"\",\"\",INDIRECT($B$2&BC$4&$A14))","v":""},{"$f":"IF(INDIRECT($B$2&BD$4&$A14)=\"\",\"\",INDIRECT($B$2&BD$4&$A14))","v":""},{"$f":"IF(INDIRECT($B$2&BE$4&$A14)=\"\",\"\",INDIRECT($B$2&BE$4&$A14))","v":""},{"$f":"IF(INDIRECT($B$2&BF$4&$A14)=\"\",\"\",INDIRECT($B$2&BF$4&$A14))","v":""},{"$f":"IF(INDIRECT($B$2&BG$4&$A14)=\"\",\"\",INDIRECT($B$2&BG$4&$A14))","v":""},{"$f":"IF(INDIRECT($B$2&BH$4&$A14)=\"\",\"\",INDIRECT($B$2&BH$4&$A14))","v":""},{"$f":"IF(INDIRECT($B$2&BI$4&$A14)=\"\",\"\",INDIRECT($B$2&BI$4&$A14))","v":""},{"$f":"IF(INDIRECT($B$2&BJ$4&$A14)=\"\",\"\",INDIRECT($B$2&BJ$4&$A14))","v":""},{"$f":"IF(INDIRECT($B$2&BK$4&$A14)=\"\",\"\",INDIRECT($B$2&BK$4&$A14))","v":""},{"$f":"IF(INDIRECT($B$2&BL$4&$A14)=\"\",\"\",INDIRECT($B$2&BL$4&$A14))","v":""},{"$f":"IF(INDIRECT($B$2&BM$4&$A14)=\"\",\"\",INDIRECT($B$2&BM$4&$A14))","v":""},{"$f":"IF(INDIRECT($B$2&BN$4&$A14)=\"\",\"\",INDIRECT($B$2&BN$4&$A14))","v":""}]
[26,null,null,null,null,null,"省エネ2",{"$f":"IF(INDIRECT($B$2&H$4&$A15)=\"\",\"\",INDIRECT($B$2&H$4&$A15))","v":""},{"$f":"IF(INDIRECT($B$2&I$4&$A15)=\"\",\"\",INDIRECT($B$2&I$4&$A15))","v":""},{"$f":"IF(INDIRECT($B$2&J$4&$A15)=\"\",\"\",INDIRECT($B$2&J$4&$A15))","v":""},{"$f":"IF(INDIRECT($B$2&K$4&$A15)=\"\",\"\",INDIRECT($B$2&K$4&$A15))","v":""},{"$f":"IF(INDIRECT($B$2&L$4&$A15)=\"\",\"\",INDIRECT($B$2&L$4&$A15))","v":""},{"$f":"IF(INDIRECT($B$2&M$4&$A15)=\"\",\"\",INDIRECT($B$2&M$4&$A15))","v":""},{"$f":"IF(INDIRECT($B$2&N$4&$A15)=\"\",\"\",INDIRECT($B$2&N$4&$A15))","v":""},{"$f":"IF(INDIRECT($B$2&O$4&$A15)=\"\",\"\",INDIRECT($B$2&O$4&$A15))","v":""},{"$f":"IF(INDIRECT($B$2&P$4&$A15)=\"\",\"\",INDIRECT($B$2&P$4&$A15))","v":""},{"$f":"IF(INDIRECT($B$2&Q$4&$A15)=\"\",\"\",INDIRECT($B$2&Q$4&$A15))","v":""},{"$f":"IF(INDIRECT($B$2&R$4&$A15)=\"\",\"\",INDIRECT($B$2&R$4&$A15))","v":""},{"$f":"IF(INDIRECT($B$2&S$4&$A15)=\"\",\"\",INDIRECT($B$2&S$4&$A15))","v":""},{"$f":"IF(INDIRECT($B$2&T$4&$A15)=\"\",\"\",INDIRECT($B$2&T$4&$A15))","v":""},{"$f":"IF(INDIRECT($B$2&U$4&$A15)=\"\",\"\",INDIRECT($B$2&U$4&$A15))","v":""},"省エネ2",{"$f":"IF(INDIRECT($B$2&W$4&$A15)=\"\",\"\",INDIRECT($B$2&W$4&$A15))","v":""},{"$f":"IF(INDIRECT($B$2&X$4&$A15)=\"\",\"\",INDIRECT($B$2&X$4&$A15))","v":""},{"$f":"IF(INDIRECT($B$2&Y$4&$A15)=\"\",\"\",INDIRECT($B$2&Y$4&$A15))","v":""},{"$f":"IF(INDIRECT($B$2&Z$4&$A15)=\"\",\"\",INDIRECT($B$2&Z$4&$A15))","v":""},{"$f":"IF(INDIRECT($B$2&AA$4&$A15)=\"\",\"\",INDIRECT($B$2&AA$4&$A15))","v":""},{"$f":"IF(INDIRECT($B$2&AB$4&$A15)=\"\",\"\",INDIRECT($B$2&AB$4&$A15))","v":""},{"$f":"IF(INDIRECT($B$2&AC$4&$A15)=\"\",\"\",INDIRECT($B$2&AC$4&$A15))","v":""},{"$f":"IF(INDIRECT($B$2&AD$4&$A15)=\"\",\"\",INDIRECT($B$2&AD$4&$A15))","v":""},{"$f":"IF(INDIRECT($B$2&AE$4&$A15)=\"\",\"\",INDIRECT($B$2&AE$4&$A15))","v":""},{"$f":"IF(INDIRECT($B$2&AF$4&$A15)=\"\",\"\",INDIRECT($B$2&AF$4&$A15))","v":""},{"$f":"IF(INDIRECT($B$2&AG$4&$A15)=\"\",\"\",INDIRECT($B$2&AG$4&$A15))","v":""},{"$f":"IF(INDIRECT($B$2&AH$4&$A15)=\"\",\"\",INDIRECT($B$2&AH$4&$A15))","v":""},{"$f":"IF(INDIRECT($B$2&AI$4&$A15)=\"\",\"\",INDIRECT($B$2&AI$4&$A15))","v":""},{"$f":"IF(INDIRECT($B$2&AJ$4&$A15)=\"\",\"\",INDIRECT($B$2&AJ$4&$A15))","v":""},"省エネ2",{"$f":"IF(INDIRECT($B$2&AL$4&$A15)=\"\",\"\",INDIRECT($B$2&AL$4&$A15))","v":""},{"$f":"IF(INDIRECT($B$2&AM$4&$A15)=\"\",\"\",INDIRECT($B$2&AM$4&$A15))","v":""},{"$f":"IF(INDIRECT($B$2&AN$4&$A15)=\"\",\"\",INDIRECT($B$2&AN$4&$A15))","v":""},{"$f":"IF(INDIRECT($B$2&AO$4&$A15)=\"\",\"\",INDIRECT($B$2&AO$4&$A15))","v":""},{"$f":"IF(INDIRECT($B$2&AP$4&$A15)=\"\",\"\",INDIRECT($B$2&AP$4&$A15))","v":""},{"$f":"IF(INDIRECT($B$2&AQ$4&$A15)=\"\",\"\",INDIRECT($B$2&AQ$4&$A15))","v":""},{"$f":"IF(INDIRECT($B$2&AR$4&$A15)=\"\",\"\",INDIRECT($B$2&AR$4&$A15))","v":""},{"$f":"IF(INDIRECT($B$2&AS$4&$A15)=\"\",\"\",INDIRECT($B$2&AS$4&$A15))","v":""},{"$f":"IF(INDIRECT($B$2&AT$4&$A15)=\"\",\"\",INDIRECT($B$2&AT$4&$A15))","v":""},{"$f":"IF(INDIRECT($B$2&AU$4&$A15)=\"\",\"\",INDIRECT($B$2&AU$4&$A15))","v":""},{"$f":"IF(INDIRECT($B$2&AV$4&$A15)=\"\",\"\",INDIRECT($B$2&AV$4&$A15))","v":""},{"$f":"IF(INDIRECT($B$2&AW$4&$A15)=\"\",\"\",INDIRECT($B$2&AW$4&$A15))","v":""},{"$f":"IF(INDIRECT($B$2&AX$4&$A15)=\"\",\"\",INDIRECT($B$2&AX$4&$A15))","v":""},{"$f":"IF(INDIRECT($B$2&AY$4&$A15)=\"\",\"\",INDIRECT($B$2&AY$4&$A15))","v":""},"省エネ2",{"$f":"IF(INDIRECT($B$2&BA$4&$A15)=\"\",\"\",INDIRECT($B$2&BA$4&$A15))","v":""},{"$f":"IF(INDIRECT($B$2&BB$4&$A15)=\"\",\"\",INDIRECT($B$2&BB$4&$A15))","v":""},{"$f":"IF(INDIRECT($B$2&BC$4&$A15)=\"\",\"\",INDIRECT($B$2&BC$4&$A15))","v":""},{"$f":"IF(INDIRECT($B$2&BD$4&$A15)=\"\",\"\",INDIRECT($B$2&BD$4&$A15))","v":""},{"$f":"IF(INDIRECT($B$2&BE$4&$A15)=\"\",\"\",INDIRECT($B$2&BE$4&$A15))","v":""},{"$f":"IF(INDIRECT($B$2&BF$4&$A15)=\"\",\"\",INDIRECT($B$2&BF$4&$A15))","v":""},{"$f":"IF(INDIRECT($B$2&BG$4&$A15)=\"\",\"\",INDIRECT($B$2&BG$4&$A15))","v":""},{"$f":"IF(INDIRECT($B$2&BH$4&$A15)=\"\",\"\",INDIRECT($B$2&BH$4&$A15))","v":""},{"$f":"IF(INDIRECT($B$2&BI$4&$A15)=\"\",\"\",INDIRECT($B$2&BI$4&$A15))","v":""},{"$f":"IF(INDIRECT($B$2&BJ$4&$A15)=\"\",\"\",INDIRECT($B$2&BJ$4&$A15))","v":""},{"$f":"IF(INDIRECT($B$2&BK$4&$A15)=\"\",\"\",INDIRECT($B$2&BK$4&$A15))","v":""},{"$f":"IF(INDIRECT($B$2&BL$4&$A15)=\"\",\"\",INDIRECT($B$2&BL$4&$A15))","v":""},{"$f":"IF(INDIRECT($B$2&BM$4&$A15)=\"\",\"\",INDIRECT($B$2&BM$4&$A15))","v":""},{"$f":"IF(INDIRECT($B$2&BN$4&$A15)=\"\",\"\",INDIRECT($B$2&BN$4&$A15))","v":""}]
[27,null,null,null,null,null,"省エネ3",{"$f":"IF(INDIRECT($B$2&H$4&$A16)=\"\",\"\",INDIRECT($B$2&H$4&$A16))","v":""},{"$f":"IF(INDIRECT($B$2&I$4&$A16)=\"\",\"\",INDIRECT($B$2&I$4&$A16))","v":""},{"$f":"IF(INDIRECT($B$2&J$4&$A16)=\"\",\"\",INDIRECT($B$2&J$4&$A16))","v":""},{"$f":"IF(INDIRECT($B$2&K$4&$A16)=\"\",\"\",INDIRECT($B$2&K$4&$A16))","v":""},{"$f":"IF(INDIRECT($B$2&L$4&$A16)=\"\",\"\",INDIRECT($B$2&L$4&$A16))","v":""},{"$f":"IF(INDIRECT($B$2&M$4&$A16)=\"\",\"\",INDIRECT($B$2&M$4&$A16))","v":""},{"$f":"IF(INDIRECT($B$2&N$4&$A16)=\"\",\"\",INDIRECT($B$2&N$4&$A16))","v":""},{"$f":"IF(INDIRECT($B$2&O$4&$A16)=\"\",\"\",INDIRECT($B$2&O$4&$A16))","v":""},{"$f":"IF(INDIRECT($B$2&P$4&$A16)=\"\",\"\",INDIRECT($B$2&P$4&$A16))","v":""},{"$f":"IF(INDIRECT($B$2&Q$4&$A16)=\"\",\"\",INDIRECT($B$2&Q$4&$A16))","v":""},{"$f":"IF(INDIRECT($B$2&R$4&$A16)=\"\",\"\",INDIRECT($B$2&R$4&$A16))","v":""},{"$f":"IF(INDIRECT($B$2&S$4&$A16)=\"\",\"\",INDIRECT($B$2&S$4&$A16))","v":""},{"$f":"IF(INDIRECT($B$2&T$4&$A16)=\"\",\"\",INDIRECT($B$2&T$4&$A16))","v":""},{"$f":"IF(INDIRECT($B$2&U$4&$A16)=\"\",\"\",INDIRECT($B$2&U$4&$A16))","v":""},"省エネ3",{"$f":"IF(INDIRECT($B$2&W$4&$A16)=\"\",\"\",INDIRECT($B$2&W$4&$A16))","v":""},{"$f":"IF(INDIRECT($B$2&X$4&$A16)=\"\",\"\",INDIRECT($B$2&X$4&$A16))","v":""},{"$f":"IF(INDIRECT($B$2&Y$4&$A16)=\"\",\"\",INDIRECT($B$2&Y$4&$A16))","v":""},{"$f":"IF(INDIRECT($B$2&Z$4&$A16)=\"\",\"\",INDIRECT($B$2&Z$4&$A16))","v":""},{"$f":"IF(INDIRECT($B$2&AA$4&$A16)=\"\",\"\",INDIRECT($B$2&AA$4&$A16))","v":""},{"$f":"IF(INDIRECT($B$2&AB$4&$A16)=\"\",\"\",INDIRECT($B$2&AB$4&$A16))","v":""},{"$f":"IF(INDIRECT($B$2&AC$4&$A16)=\"\",\"\",INDIRECT($B$2&AC$4&$A16))","v":""},{"$f":"IF(INDIRECT($B$2&AD$4&$A16)=\"\",\"\",INDIRECT($B$2&AD$4&$A16))","v":""},{"$f":"IF(INDIRECT($B$2&AE$4&$A16)=\"\",\"\",INDIRECT($B$2&AE$4&$A16))","v":""},{"$f":"IF(INDIRECT($B$2&AF$4&$A16)=\"\",\"\",INDIRECT($B$2&AF$4&$A16))","v":""},{"$f":"IF(INDIRECT($B$2&AG$4&$A16)=\"\",\"\",INDIRECT($B$2&AG$4&$A16))","v":""},{"$f":"IF(INDIRECT($B$2&AH$4&$A16)=\"\",\"\",INDIRECT($B$2&AH$4&$A16))","v":""},{"$f":"IF(INDIRECT($B$2&AI$4&$A16)=\"\",\"\",INDIRECT($B$2&AI$4&$A16))","v":""},{"$f":"IF(INDIRECT($B$2&AJ$4&$A16)=\"\",\"\",INDIRECT($B$2&AJ$4&$A16))","v":""},"省エネ3",{"$f":"IF(INDIRECT($B$2&AL$4&$A16)=\"\",\"\",INDIRECT($B$2&AL$4&$A16))","v":""},{"$f":"IF(INDIRECT($B$2&AM$4&$A16)=\"\",\"\",INDIRECT($B$2&AM$4&$A16))","v":""},{"$f":"IF(INDIRECT($B$2&AN$4&$A16)=\"\",\"\",INDIRECT($B$2&AN$4&$A16))","v":""},{"$f":"IF(INDIRECT($B$2&AO$4&$A16)=\"\",\"\",INDIRECT($B$2&AO$4&$A16))","v":""},{"$f":"IF(INDIRECT($B$2&AP$4&$A16)=\"\",\"\",INDIRECT($B$2&AP$4&$A16))","v":""},{"$f":"IF(INDIRECT($B$2&AQ$4&$A16)=\"\",\"\",INDIRECT($B$2&AQ$4&$A16))","v":""},{"$f":"IF(INDIRECT($B$2&AR$4&$A16)=\"\",\"\",INDIRECT($B$2&AR$4&$A16))","v":""},{"$f":"IF(INDIRECT($B$2&AS$4&$A16)=\"\",\"\",INDIRECT($B$2&AS$4&$A16))","v":""},{"$f":"IF(INDIRECT($B$2&AT$4&$A16)=\"\",\"\",INDIRECT($B$2&AT$4&$A16))","v":""},{"$f":"IF(INDIRECT($B$2&AU$4&$A16)=\"\",\"\",INDIRECT($B$2&AU$4&$A16))","v":""},{"$f":"IF(INDIRECT($B$2&AV$4&$A16)=\"\",\"\",INDIRECT($B$2&AV$4&$A16))","v":""},{"$f":"IF(INDIRECT($B$2&AW$4&$A16)=\"\",\"\",INDIRECT($B$2&AW$4&$A16))","v":""},{"$f":"IF(INDIRECT($B$2&AX$4&$A16)=\"\",\"\",INDIRECT($B$2&AX$4&$A16))","v":""},{"$f":"IF(INDIRECT($B$2&AY$4&$A16)=\"\",\"\",INDIRECT($B$2&AY$4&$A16))","v":""},"省エネ3",{"$f":"IF(INDIRECT($B$2&BA$4&$A16)=\"\",\"\",INDIRECT($B$2&BA$4&$A16))","v":""},{"$f":"IF(INDIRECT($B$2&BB$4&$A16)=\"\",\"\",INDIRECT($B$2&BB$4&$A16))","v":""},{"$f":"IF(INDIRECT($B$2&BC$4&$A16)=\"\",\"\",INDIRECT($B$2&BC$4&$A16))","v":""},{"$f":"IF(INDIRECT($B$2&BD$4&$A16)=\"\",\"\",INDIRECT($B$2&BD$4&$A16))","v":""},{"$f":"IF(INDIRECT($B$2&BE$4&$A16)=\"\",\"\",INDIRECT($B$2&BE$4&$A16))","v":""},{"$f":"IF(INDIRECT($B$2&BF$4&$A16)=\"\",\"\",INDIRECT($B$2&BF$4&$A16))","v":""},{"$f":"IF(INDIRECT($B$2&BG$4&$A16)=\"\",\"\",INDIRECT($B$2&BG$4&$A16))","v":""},{"$f":"IF(INDIRECT($B$2&BH$4&$A16)=\"\",\"\",INDIRECT($B$2&BH$4&$A16))","v":""},{"$f":"IF(INDIRECT($B$2&BI$4&$A16)=\"\",\"\",INDIRECT($B$2&BI$4&$A16))","v":""},{"$f":"IF(INDIRECT($B$2&BJ$4&$A16)=\"\",\"\",INDIRECT($B$2&BJ$4&$A16))","v":""},{"$f":"IF(INDIRECT($B$2&BK$4&$A16)=\"\",\"\",INDIRECT($B$2&BK$4&$A16))","v":""},{"$f":"IF(INDIRECT($B$2&BL$4&$A16)=\"\",\"\",INDIRECT($B$2&BL$4&$A16))","v":""},{"$f":"IF(INDIRECT($B$2&BM$4&$A16)=\"\",\"\",INDIRECT($B$2&BM$4&$A16))","v":""},{"$f":"IF(INDIRECT($B$2&BN$4&$A16)=\"\",\"\",INDIRECT($B$2&BN$4&$A16))","v":""}]
[28,null,null,null,null,null,"省エネ4",{"$f":"IF(INDIRECT($B$2&H$4&$A17)=\"\",\"\",INDIRECT($B$2&H$4&$A17))","v":""},{"$f":"IF(INDIRECT($B$2&I$4&$A17)=\"\",\"\",INDIRECT($B$2&I$4&$A17))","v":""},{"$f":"IF(INDIRECT($B$2&J$4&$A17)=\"\",\"\",INDIRECT($B$2&J$4&$A17))","v":""},{"$f":"IF(INDIRECT($B$2&K$4&$A17)=\"\",\"\",INDIRECT($B$2&K$4&$A17))","v":""},{"$f":"IF(INDIRECT($B$2&L$4&$A17)=\"\",\"\",INDIRECT($B$2&L$4&$A17))","v":""},{"$f":"IF(INDIRECT($B$2&M$4&$A17)=\"\",\"\",INDIRECT($B$2&M$4&$A17))","v":""},{"$f":"IF(INDIRECT($B$2&N$4&$A17)=\"\",\"\",INDIRECT($B$2&N$4&$A17))","v":""},{"$f":"IF(INDIRECT($B$2&O$4&$A17)=\"\",\"\",INDIRECT($B$2&O$4&$A17))","v":""},{"$f":"IF(INDIRECT($B$2&P$4&$A17)=\"\",\"\",INDIRECT($B$2&P$4&$A17))","v":""},{"$f":"IF(INDIRECT($B$2&Q$4&$A17)=\"\",\"\",INDIRECT($B$2&Q$4&$A17))","v":""},{"$f":"IF(INDIRECT($B$2&R$4&$A17)=\"\",\"\",INDIRECT($B$2&R$4&$A17))","v":""},{"$f":"IF(INDIRECT($B$2&S$4&$A17)=\"\",\"\",INDIRECT($B$2&S$4&$A17))","v":""},{"$f":"IF(INDIRECT($B$2&T$4&$A17)=\"\",\"\",INDIRECT($B$2&T$4&$A17))","v":""},{"$f":"IF(INDIRECT($B$2&U$4&$A17)=\"\",\"\",INDIRECT($B$2&U$4&$A17))","v":""},"省エネ4",{"$f":"IF(INDIRECT($B$2&W$4&$A17)=\"\",\"\",INDIRECT($B$2&W$4&$A17))","v":""},{"$f":"IF(INDIRECT($B$2&X$4&$A17)=\"\",\"\",INDIRECT($B$2&X$4&$A17))","v":""},{"$f":"IF(INDIRECT($B$2&Y$4&$A17)=\"\",\"\",INDIRECT($B$2&Y$4&$A17))","v":""},{"$f":"IF(INDIRECT($B$2&Z$4&$A17)=\"\",\"\",INDIRECT($B$2&Z$4&$A17))","v":""},{"$f":"IF(INDIRECT($B$2&AA$4&$A17)=\"\",\"\",INDIRECT($B$2&AA$4&$A17))","v":""},{"$f":"IF(INDIRECT($B$2&AB$4&$A17)=\"\",\"\",INDIRECT($B$2&AB$4&$A17))","v":""},{"$f":"IF(INDIRECT($B$2&AC$4&$A17)=\"\",\"\",INDIRECT($B$2&AC$4&$A17))","v":""},{"$f":"IF(INDIRECT($B$2&AD$4&$A17)=\"\",\"\",INDIRECT($B$2&AD$4&$A17))","v":""},{"$f":"IF(INDIRECT($B$2&AE$4&$A17)=\"\",\"\",INDIRECT($B$2&AE$4&$A17))","v":""},{"$f":"IF(INDIRECT($B$2&AF$4&$A17)=\"\",\"\",INDIRECT($B$2&AF$4&$A17))","v":""},{"$f":"IF(INDIRECT($B$2&AG$4&$A17)=\"\",\"\",INDIRECT($B$2&AG$4&$A17))","v":""},{"$f":"IF(INDIRECT($B$2&AH$4&$A17)=\"\",\"\",INDIRECT($B$2&AH$4&$A17))","v":""},{"$f":"IF(INDIRECT($B$2&AI$4&$A17)=\"\",\"\",INDIRECT($B$2&AI$4&$A17))","v":""},{"$f":"IF(INDIRECT($B$2&AJ$4&$A17)=\"\",\"\",INDIRECT($B$2&AJ$4&$A17))","v":""},"省エネ4",{"$f":"IF(INDIRECT($B$2&AL$4&$A17)=\"\",\"\",INDIRECT($B$2&AL$4&$A17))","v":""},{"$f":"IF(INDIRECT($B$2&AM$4&$A17)=\"\",\"\",INDIRECT($B$2&AM$4&$A17))","v":""},{"$f":"IF(INDIRECT($B$2&AN$4&$A17)=\"\",\"\",INDIRECT($B$2&AN$4&$A17))","v":""},{"$f":"IF(INDIRECT($B$2&AO$4&$A17)=\"\",\"\",INDIRECT($B$2&AO$4&$A17))","v":""},{"$f":"IF(INDIRECT($B$2&AP$4&$A17)=\"\",\"\",INDIRECT($B$2&AP$4&$A17))","v":""},{"$f":"IF(INDIRECT($B$2&AQ$4&$A17)=\"\",\"\",INDIRECT($B$2&AQ$4&$A17))","v":""},{"$f":"IF(INDIRECT($B$2&AR$4&$A17)=\"\",\"\",INDIRECT($B$2&AR$4&$A17))","v":""},{"$f":"IF(INDIRECT($B$2&AS$4&$A17)=\"\",\"\",INDIRECT($B$2&AS$4&$A17))","v":""},{"$f":"IF(INDIRECT($B$2&AT$4&$A17)=\"\",\"\",INDIRECT($B$2&AT$4&$A17))","v":""},{"$f":"IF(INDIRECT($B$2&AU$4&$A17)=\"\",\"\",INDIRECT($B$2&AU$4&$A17))","v":""},{"$f":"IF(INDIRECT($B$2&AV$4&$A17)=\"\",\"\",INDIRECT($B$2&AV$4&$A17))","v":""},{"$f":"IF(INDIRECT($B$2&AW$4&$A17)=\"\",\"\",INDIRECT($B$2&AW$4&$A17))","v":""},{"$f":"IF(INDIRECT($B$2&AX$4&$A17)=\"\",\"\",INDIRECT($B$2&AX$4&$A17))","v":""},{"$f":"IF(INDIRECT($B$2&AY$4&$A17)=\"\",\"\",INDIRECT($B$2&AY$4&$A17))","v":""},"省エネ4",{"$f":"IF(INDIRECT($B$2&BA$4&$A17)=\"\",\"\",INDIRECT($B$2&BA$4&$A17))","v":""},{"$f":"IF(INDIRECT($B$2&BB$4&$A17)=\"\",\"\",INDIRECT($B$2&BB$4&$A17))","v":""},{"$f":"IF(INDIRECT($B$2&BC$4&$A17)=\"\",\"\",INDIRECT($B$2&BC$4&$A17))","v":""},{"$f":"IF(INDIRECT($B$2&BD$4&$A17)=\"\",\"\",INDIRECT($B$2&BD$4&$A17))","v":""},{"$f":"IF(INDIRECT($B$2&BE$4&$A17)=\"\",\"\",INDIRECT($B$2&BE$4&$A17))","v":""},{"$f":"IF(INDIRECT($B$2&BF$4&$A17)=\"\",\"\",INDIRECT($B$2&BF$4&$A17))","v":""},{"$f":"IF(INDIRECT($B$2&BG$4&$A17)=\"\",\"\",INDIRECT($B$2&BG$4&$A17))","v":""},{"$f":"IF(INDIRECT($B$2&BH$4&$A17)=\"\",\"\",INDIRECT($B$2&BH$4&$A17))","v":""},{"$f":"IF(INDIRECT($B$2&BI$4&$A17)=\"\",\"\",INDIRECT($B$2&BI$4&$A17))","v":""},{"$f":"IF(INDIRECT($B$2&BJ$4&$A17)=\"\",\"\",INDIRECT($B$2&BJ$4&$A17))","v":""},{"$f":"IF(INDIRECT($B$2&BK$4&$A17)=\"\",\"\",INDIRECT($B$2&BK$4&$A17))","v":""},{"$f":"IF(INDIRECT($B$2&BL$4&$A17)=\"\",\"\",INDIRECT($B$2&BL$4&$A17))","v":""},{"$f":"IF(INDIRECT($B$2&BM$4&$A17)=\"\",\"\",INDIRECT($B$2&BM$4&$A17))","v":""},{"$f":"IF(INDIRECT($B$2&BN$4&$A17)=\"\",\"\",INDIRECT($B$2&BN$4&$A17))","v":""}]
[29,null,null,null,null,null,"省エネ5",{"$f":"IF(INDIRECT($B$2&H$4&$A18)=\"\",\"\",INDIRECT($B$2&H$4&$A18))","v":""},{"$f":"IF(INDIRECT($B$2&I$4&$A18)=\"\",\"\",INDIRECT($B$2&I$4&$A18))","v":""},{"$f":"IF(INDIRECT($B$2&J$4&$A18)=\"\",\"\",INDIRECT($B$2&J$4&$A18))","v":""},{"$f":"IF(INDIRECT($B$2&K$4&$A18)=\"\",\"\",INDIRECT($B$2&K$4&$A18))","v":""},{"$f":"IF(INDIRECT($B$2&L$4&$A18)=\"\",\"\",INDIRECT($B$2&L$4&$A18))","v":""},{"$f":"IF(INDIRECT($B$2&M$4&$A18)=\"\",\"\",INDIRECT($B$2&M$4&$A18))","v":""},{"$f":"IF(INDIRECT($B$2&N$4&$A18)=\"\",\"\",INDIRECT($B$2&N$4&$A18))","v":""},{"$f":"IF(INDIRECT($B$2&O$4&$A18)=\"\",\"\",INDIRECT($B$2&O$4&$A18))","v":""},{"$f":"IF(INDIRECT($B$2&P$4&$A18)=\"\",\"\",INDIRECT($B$2&P$4&$A18))","v":""},{"$f":"IF(INDIRECT($B$2&Q$4&$A18)=\"\",\"\",INDIRECT($B$2&Q$4&$A18))","v":""},{"$f":"IF(INDIRECT($B$2&R$4&$A18)=\"\",\"\",INDIRECT($B$2&R$4&$A18))","v":""},{"$f":"IF(INDIRECT($B$2&S$4&$A18)=\"\",\"\",INDIRECT($B$2&S$4&$A18))","v":""},{"$f":"IF(INDIRECT($B$2&T$4&$A18)=\"\",\"\",INDIRECT($B$2&T$4&$A18))","v":""},{"$f":"IF(INDIRECT($B$2&U$4&$A18)=\"\",\"\",INDIRECT($B$2&U$4&$A18))","v":""},"省エネ5",{"$f":"IF(INDIRECT($B$2&W$4&$A18)=\"\",\"\",INDIRECT($B$2&W$4&$A18))","v":""},{"$f":"IF(INDIRECT($B$2&X$4&$A18)=\"\",\"\",INDIRECT($B$2&X$4&$A18))","v":""},{"$f":"IF(INDIRECT($B$2&Y$4&$A18)=\"\",\"\",INDIRECT($B$2&Y$4&$A18))","v":""},{"$f":"IF(INDIRECT($B$2&Z$4&$A18)=\"\",\"\",INDIRECT($B$2&Z$4&$A18))","v":""},{"$f":"IF(INDIRECT($B$2&AA$4&$A18)=\"\",\"\",INDIRECT($B$2&AA$4&$A18))","v":""},{"$f":"IF(INDIRECT($B$2&AB$4&$A18)=\"\",\"\",INDIRECT($B$2&AB$4&$A18))","v":""},{"$f":"IF(INDIRECT($B$2&AC$4&$A18)=\"\",\"\",INDIRECT($B$2&AC$4&$A18))","v":""},{"$f":"IF(INDIRECT($B$2&AD$4&$A18)=\"\",\"\",INDIRECT($B$2&AD$4&$A18))","v":""},{"$f":"IF(INDIRECT($B$2&AE$4&$A18)=\"\",\"\",INDIRECT($B$2&AE$4&$A18))","v":""},{"$f":"IF(INDIRECT($B$2&AF$4&$A18)=\"\",\"\",INDIRECT($B$2&AF$4&$A18))","v":""},{"$f":"IF(INDIRECT($B$2&AG$4&$A18)=\"\",\"\",INDIRECT($B$2&AG$4&$A18))","v":""},{"$f":"IF(INDIRECT($B$2&AH$4&$A18)=\"\",\"\",INDIRECT($B$2&AH$4&$A18))","v":""},{"$f":"IF(INDIRECT($B$2&AI$4&$A18)=\"\",\"\",INDIRECT($B$2&AI$4&$A18))","v":""},{"$f":"IF(INDIRECT($B$2&AJ$4&$A18)=\"\",\"\",INDIRECT($B$2&AJ$4&$A18))","v":""},"省エネ5",{"$f":"IF(INDIRECT($B$2&AL$4&$A18)=\"\",\"\",INDIRECT($B$2&AL$4&$A18))","v":""},{"$f":"IF(INDIRECT($B$2&AM$4&$A18)=\"\",\"\",INDIRECT($B$2&AM$4&$A18))","v":""},{"$f":"IF(INDIRECT($B$2&AN$4&$A18)=\"\",\"\",INDIRECT($B$2&AN$4&$A18))","v":""},{"$f":"IF(INDIRECT($B$2&AO$4&$A18)=\"\",\"\",INDIRECT($B$2&AO$4&$A18))","v":""},{"$f":"IF(INDIRECT($B$2&AP$4&$A18)=\"\",\"\",INDIRECT($B$2&AP$4&$A18))","v":""},{"$f":"IF(INDIRECT($B$2&AQ$4&$A18)=\"\",\"\",INDIRECT($B$2&AQ$4&$A18))","v":""},{"$f":"IF(INDIRECT($B$2&AR$4&$A18)=\"\",\"\",INDIRECT($B$2&AR$4&$A18))","v":""},{"$f":"IF(INDIRECT($B$2&AS$4&$A18)=\"\",\"\",INDIRECT($B$2&AS$4&$A18))","v":""},{"$f":"IF(INDIRECT($B$2&AT$4&$A18)=\"\",\"\",INDIRECT($B$2&AT$4&$A18))","v":""},{"$f":"IF(INDIRECT($B$2&AU$4&$A18)=\"\",\"\",INDIRECT($B$2&AU$4&$A18))","v":""},{"$f":"IF(INDIRECT($B$2&AV$4&$A18)=\"\",\"\",INDIRECT($B$2&AV$4&$A18))","v":""},{"$f":"IF(INDIRECT($B$2&AW$4&$A18)=\"\",\"\",INDIRECT($B$2&AW$4&$A18))","v":""},{"$f":"IF(INDIRECT($B$2&AX$4&$A18)=\"\",\"\",INDIRECT($B$2&AX$4&$A18))","v":""},{"$f":"IF(INDIRECT($B$2&AY$4&$A18)=\"\",\"\",INDIRECT($B$2&AY$4&$A18))","v":""},"省エネ5",{"$f":"IF(INDIRECT($B$2&BA$4&$A18)=\"\",\"\",INDIRECT($B$2&BA$4&$A18))","v":""},{"$f":"IF(INDIRECT($B$2&BB$4&$A18)=\"\",\"\",INDIRECT($B$2&BB$4&$A18))","v":""},{"$f":"IF(INDIRECT($B$2&BC$4&$A18)=\"\",\"\",INDIRECT($B$2&BC$4&$A18))","v":""},{"$f":"IF(INDIRECT($B$2&BD$4&$A18)=\"\",\"\",INDIRECT($B$2&BD$4&$A18))","v":""},{"$f":"IF(INDIRECT($B$2&BE$4&$A18)=\"\",\"\",INDIRECT($B$2&BE$4&$A18))","v":""},{"$f":"IF(INDIRECT($B$2&BF$4&$A18)=\"\",\"\",INDIRECT($B$2&BF$4&$A18))","v":""},{"$f":"IF(INDIRECT($B$2&BG$4&$A18)=\"\",\"\",INDIRECT($B$2&BG$4&$A18))","v":""},{"$f":"IF(INDIRECT($B$2&BH$4&$A18)=\"\",\"\",INDIRECT($B$2&BH$4&$A18))","v":""},{"$f":"IF(INDIRECT($B$2&BI$4&$A18)=\"\",\"\",INDIRECT($B$2&BI$4&$A18))","v":""},{"$f":"IF(INDIRECT($B$2&BJ$4&$A18)=\"\",\"\",INDIRECT($B$2&BJ$4&$A18))","v":""},{"$f":"IF(INDIRECT($B$2&BK$4&$A18)=\"\",\"\",INDIRECT($B$2&BK$4&$A18))","v":""},{"$f":"IF(INDIRECT($B$2&BL$4&$A18)=\"\",\"\",INDIRECT($B$2&BL$4&$A18))","v":""},{"$f":"IF(INDIRECT($B$2&BM$4&$A18)=\"\",\"\",INDIRECT($B$2&BM$4&$A18))","v":""},{"$f":"IF(INDIRECT($B$2&BN$4&$A18)=\"\",\"\",INDIRECT($B$2&BN$4&$A18))","v":""}]
[30,null,null,null,null,null,"省エネ6",{"$f":"IF(INDIRECT($B$2&H$4&$A19)=\"\",\"\",INDIRECT($B$2&H$4&$A19))","v":""},{"$f":"IF(INDIRECT($B$2&I$4&$A19)=\"\",\"\",INDIRECT($B$2&I$4&$A19))","v":""},{"$f":"IF(INDIRECT($B$2&J$4&$A19)=\"\",\"\",INDIRECT($B$2&J$4&$A19))","v":""},{"$f":"IF(INDIRECT($B$2&K$4&$A19)=\"\",\"\",INDIRECT($B$2&K$4&$A19))","v":""},{"$f":"IF(INDIRECT($B$2&L$4&$A19)=\"\",\"\",INDIRECT($B$2&L$4&$A19))","v":""},{"$f":"IF(INDIRECT($B$2&M$4&$A19)=\"\",\"\",INDIRECT($B$2&M$4&$A19))","v":""},{"$f":"IF(INDIRECT($B$2&N$4&$A19)=\"\",\"\",INDIRECT($B$2&N$4&$A19))","v":""},{"$f":"IF(INDIRECT($B$2&O$4&$A19)=\"\",\"\",INDIRECT($B$2&O$4&$A19))","v":""},{"$f":"IF(INDIRECT($B$2&P$4&$A19)=\"\",\"\",INDIRECT($B$2&P$4&$A19))","v":""},{"$f":"IF(INDIRECT($B$2&Q$4&$A19)=\"\",\"\",INDIRECT($B$2&Q$4&$A19))","v":""},{"$f":"IF(INDIRECT($B$2&R$4&$A19)=\"\",\"\",INDIRECT($B$2&R$4&$A19))","v":""},{"$f":"IF(INDIRECT($B$2&S$4&$A19)=\"\",\"\",INDIRECT($B$2&S$4&$A19))","v":""},{"$f":"IF(INDIRECT($B$2&T$4&$A19)=\"\",\"\",INDIRECT($B$2&T$4&$A19))","v":""},{"$f":"IF(INDIRECT($B$2&U$4&$A19)=\"\",\"\",INDIRECT($B$2&U$4&$A19))","v":""},"省エネ6",{"$f":"IF(INDIRECT($B$2&W$4&$A19)=\"\",\"\",INDIRECT($B$2&W$4&$A19))","v":""},{"$f":"IF(INDIRECT($B$2&X$4&$A19)=\"\",\"\",INDIRECT($B$2&X$4&$A19))","v":""},{"$f":"IF(INDIRECT($B$2&Y$4&$A19)=\"\",\"\",INDIRECT($B$2&Y$4&$A19))","v":""},{"$f":"IF(INDIRECT($B$2&Z$4&$A19)=\"\",\"\",INDIRECT($B$2&Z$4&$A19))","v":""},{"$f":"IF(INDIRECT($B$2&AA$4&$A19)=\"\",\"\",INDIRECT($B$2&AA$4&$A19))","v":""},{"$f":"IF(INDIRECT($B$2&AB$4&$A19)=\"\",\"\",INDIRECT($B$2&AB$4&$A19))","v":""},{"$f":"IF(INDIRECT($B$2&AC$4&$A19)=\"\",\"\",INDIRECT($B$2&AC$4&$A19))","v":""},{"$f":"IF(INDIRECT($B$2&AD$4&$A19)=\"\",\"\",INDIRECT($B$2&AD$4&$A19))","v":""},{"$f":"IF(INDIRECT($B$2&AE$4&$A19)=\"\",\"\",INDIRECT($B$2&AE$4&$A19))","v":""},{"$f":"IF(INDIRECT($B$2&AF$4&$A19)=\"\",\"\",INDIRECT($B$2&AF$4&$A19))","v":""},{"$f":"IF(INDIRECT($B$2&AG$4&$A19)=\"\",\"\",INDIRECT($B$2&AG$4&$A19))","v":""},{"$f":"IF(INDIRECT($B$2&AH$4&$A19)=\"\",\"\",INDIRECT($B$2&AH$4&$A19))","v":""},{"$f":"IF(INDIRECT($B$2&AI$4&$A19)=\"\",\"\",INDIRECT($B$2&AI$4&$A19))","v":""},{"$f":"IF(INDIRECT($B$2&AJ$4&$A19)=\"\",\"\",INDIRECT($B$2&AJ$4&$A19))","v":""},"省エネ6",{"$f":"IF(INDIRECT($B$2&AL$4&$A19)=\"\",\"\",INDIRECT($B$2&AL$4&$A19))","v":""},{"$f":"IF(INDIRECT($B$2&AM$4&$A19)=\"\",\"\",INDIRECT($B$2&AM$4&$A19))","v":""},{"$f":"IF(INDIRECT($B$2&AN$4&$A19)=\"\",\"\",INDIRECT($B$2&AN$4&$A19))","v":""},{"$f":"IF(INDIRECT($B$2&AO$4&$A19)=\"\",\"\",INDIRECT($B$2&AO$4&$A19))","v":""},{"$f":"IF(INDIRECT($B$2&AP$4&$A19)=\"\",\"\",INDIRECT($B$2&AP$4&$A19))","v":""},{"$f":"IF(INDIRECT($B$2&AQ$4&$A19)=\"\",\"\",INDIRECT($B$2&AQ$4&$A19))","v":""},{"$f":"IF(INDIRECT($B$2&AR$4&$A19)=\"\",\"\",INDIRECT($B$2&AR$4&$A19))","v":""},{"$f":"IF(INDIRECT($B$2&AS$4&$A19)=\"\",\"\",INDIRECT($B$2&AS$4&$A19))","v":""},{"$f":"IF(INDIRECT($B$2&AT$4&$A19)=\"\",\"\",INDIRECT($B$2&AT$4&$A19))","v":""},{"$f":"IF(INDIRECT($B$2&AU$4&$A19)=\"\",\"\",INDIRECT($B$2&AU$4&$A19))","v":""},{"$f":"IF(INDIRECT($B$2&AV$4&$A19)=\"\",\"\",INDIRECT($B$2&AV$4&$A19))","v":""},{"$f":"IF(INDIRECT($B$2&AW$4&$A19)=\"\",\"\",INDIRECT($B$2&AW$4&$A19))","v":""},{"$f":"IF(INDIRECT($B$2&AX$4&$A19)=\"\",\"\",INDIRECT($B$2&AX$4&$A19))","v":""},{"$f":"IF(INDIRECT($B$2&AY$4&$A19)=\"\",\"\",INDIRECT($B$2&AY$4&$A19))","v":""},"省エネ6",{"$f":"IF(INDIRECT($B$2&BA$4&$A19)=\"\",\"\",INDIRECT($B$2&BA$4&$A19))","v":""},{"$f":"IF(INDIRECT($B$2&BB$4&$A19)=\"\",\"\",INDIRECT($B$2&BB$4&$A19))","v":""},{"$f":"IF(INDIRECT($B$2&BC$4&$A19)=\"\",\"\",INDIRECT($B$2&BC$4&$A19))","v":""},{"$f":"IF(INDIRECT($B$2&BD$4&$A19)=\"\",\"\",INDIRECT($B$2&BD$4&$A19))","v":""},{"$f":"IF(INDIRECT($B$2&BE$4&$A19)=\"\",\"\",INDIRECT($B$2&BE$4&$A19))","v":""},{"$f":"IF(INDIRECT($B$2&BF$4&$A19)=\"\",\"\",INDIRECT($B$2&BF$4&$A19))","v":""},{"$f":"IF(INDIRECT($B$2&BG$4&$A19)=\"\",\"\",INDIRECT($B$2&BG$4&$A19))","v":""},{"$f":"IF(INDIRECT($B$2&BH$4&$A19)=\"\",\"\",INDIRECT($B$2&BH$4&$A19))","v":""},{"$f":"IF(INDIRECT($B$2&BI$4&$A19)=\"\",\"\",INDIRECT($B$2&BI$4&$A19))","v":""},{"$f":"IF(INDIRECT($B$2&BJ$4&$A19)=\"\",\"\",INDIRECT($B$2&BJ$4&$A19))","v":""},{"$f":"IF(INDIRECT($B$2&BK$4&$A19)=\"\",\"\",INDIRECT($B$2&BK$4&$A19))","v":""},{"$f":"IF(INDIRECT($B$2&BL$4&$A19)=\"\",\"\",INDIRECT($B$2&BL$4&$A19))","v":""},{"$f":"IF(INDIRECT($B$2&BM$4&$A19)=\"\",\"\",INDIRECT($B$2&BM$4&$A19))","v":""},{"$f":"IF(INDIRECT($B$2&BN$4&$A19)=\"\",\"\",INDIRECT($B$2&BN$4&$A19))","v":""}]
[31,null,null,null,null,null,"省エネ7",{"$f":"IF(INDIRECT($B$2&H$4&$A20)=\"\",\"\",INDIRECT($B$2&H$4&$A20))","v":""},{"$f":"IF(INDIRECT($B$2&I$4&$A20)=\"\",\"\",INDIRECT($B$2&I$4&$A20))","v":""},{"$f":"IF(INDIRECT($B$2&J$4&$A20)=\"\",\"\",INDIRECT($B$2&J$4&$A20))","v":""},{"$f":"IF(INDIRECT($B$2&K$4&$A20)=\"\",\"\",INDIRECT($B$2&K$4&$A20))","v":""},{"$f":"IF(INDIRECT($B$2&L$4&$A20)=\"\",\"\",INDIRECT($B$2&L$4&$A20))","v":""},{"$f":"IF(INDIRECT($B$2&M$4&$A20)=\"\",\"\",INDIRECT($B$2&M$4&$A20))","v":""},{"$f":"IF(INDIRECT($B$2&N$4&$A20)=\"\",\"\",INDIRECT($B$2&N$4&$A20))","v":""},{"$f":"IF(INDIRECT($B$2&O$4&$A20)=\"\",\"\",INDIRECT($B$2&O$4&$A20))","v":""},{"$f":"IF(INDIRECT($B$2&P$4&$A20)=\"\",\"\",INDIRECT($B$2&P$4&$A20))","v":""},{"$f":"IF(INDIRECT($B$2&Q$4&$A20)=\"\",\"\",INDIRECT($B$2&Q$4&$A20))","v":""},{"$f":"IF(INDIRECT($B$2&R$4&$A20)=\"\",\"\",INDIRECT($B$2&R$4&$A20))","v":""},{"$f":"IF(INDIRECT($B$2&S$4&$A20)=\"\",\"\",INDIRECT($B$2&S$4&$A20))","v":""},{"$f":"IF(INDIRECT($B$2&T$4&$A20)=\"\",\"\",INDIRECT($B$2&T$4&$A20))","v":""},{"$f":"IF(INDIRECT($B$2&U$4&$A20)=\"\",\"\",INDIRECT($B$2&U$4&$A20))","v":""},"省エネ7",{"$f":"IF(INDIRECT($B$2&W$4&$A20)=\"\",\"\",INDIRECT($B$2&W$4&$A20))","v":""},{"$f":"IF(INDIRECT($B$2&X$4&$A20)=\"\",\"\",INDIRECT($B$2&X$4&$A20))","v":""},{"$f":"IF(INDIRECT($B$2&Y$4&$A20)=\"\",\"\",INDIRECT($B$2&Y$4&$A20))","v":""},{"$f":"IF(INDIRECT($B$2&Z$4&$A20)=\"\",\"\",INDIRECT($B$2&Z$4&$A20))","v":""},{"$f":"IF(INDIRECT($B$2&AA$4&$A20)=\"\",\"\",INDIRECT($B$2&AA$4&$A20))","v":""},{"$f":"IF(INDIRECT($B$2&AB$4&$A20)=\"\",\"\",INDIRECT($B$2&AB$4&$A20))","v":""},{"$f":"IF(INDIRECT($B$2&AC$4&$A20)=\"\",\"\",INDIRECT($B$2&AC$4&$A20))","v":""},{"$f":"IF(INDIRECT($B$2&AD$4&$A20)=\"\",\"\",INDIRECT($B$2&AD$4&$A20))","v":""},{"$f":"IF(INDIRECT($B$2&AE$4&$A20)=\"\",\"\",INDIRECT($B$2&AE$4&$A20))","v":""},{"$f":"IF(INDIRECT($B$2&AF$4&$A20)=\"\",\"\",INDIRECT($B$2&AF$4&$A20))","v":""},{"$f":"IF(INDIRECT($B$2&AG$4&$A20)=\"\",\"\",INDIRECT($B$2&AG$4&$A20))","v":""},{"$f":"IF(INDIRECT($B$2&AH$4&$A20)=\"\",\"\",INDIRECT($B$2&AH$4&$A20))","v":""},{"$f":"IF(INDIRECT($B$2&AI$4&$A20)=\"\",\"\",INDIRECT($B$2&AI$4&$A20))","v":""},{"$f":"IF(INDIRECT($B$2&AJ$4&$A20)=\"\",\"\",INDIRECT($B$2&AJ$4&$A20))","v":""},"省エネ7",{"$f":"IF(INDIRECT($B$2&AL$4&$A20)=\"\",\"\",INDIRECT($B$2&AL$4&$A20))","v":""},{"$f":"IF(INDIRECT($B$2&AM$4&$A20)=\"\",\"\",INDIRECT($B$2&AM$4&$A20))","v":""},{"$f":"IF(INDIRECT($B$2&AN$4&$A20)=\"\",\"\",INDIRECT($B$2&AN$4&$A20))","v":""},{"$f":"IF(INDIRECT($B$2&AO$4&$A20)=\"\",\"\",INDIRECT($B$2&AO$4&$A20))","v":""},{"$f":"IF(INDIRECT($B$2&AP$4&$A20)=\"\",\"\",INDIRECT($B$2&AP$4&$A20))","v":""},{"$f":"IF(INDIRECT($B$2&AQ$4&$A20)=\"\",\"\",INDIRECT($B$2&AQ$4&$A20))","v":""},{"$f":"IF(INDIRECT($B$2&AR$4&$A20)=\"\",\"\",INDIRECT($B$2&AR$4&$A20))","v":""},{"$f":"IF(INDIRECT($B$2&AS$4&$A20)=\"\",\"\",INDIRECT($B$2&AS$4&$A20))","v":""},{"$f":"IF(INDIRECT($B$2&AT$4&$A20)=\"\",\"\",INDIRECT($B$2&AT$4&$A20))","v":""},{"$f":"IF(INDIRECT($B$2&AU$4&$A20)=\"\",\"\",INDIRECT($B$2&AU$4&$A20))","v":""},{"$f":"IF(INDIRECT($B$2&AV$4&$A20)=\"\",\"\",INDIRECT($B$2&AV$4&$A20))","v":""},{"$f":"IF(INDIRECT($B$2&AW$4&$A20)=\"\",\"\",INDIRECT($B$2&AW$4&$A20))","v":""},{"$f":"IF(INDIRECT($B$2&AX$4&$A20)=\"\",\"\",INDIRECT($B$2&AX$4&$A20))","v":""},{"$f":"IF(INDIRECT($B$2&AY$4&$A20)=\"\",\"\",INDIRECT($B$2&AY$4&$A20))","v":""},"省エネ7",{"$f":"IF(INDIRECT($B$2&BA$4&$A20)=\"\",\"\",INDIRECT($B$2&BA$4&$A20))","v":""},{"$f":"IF(INDIRECT($B$2&BB$4&$A20)=\"\",\"\",INDIRECT($B$2&BB$4&$A20))","v":""},{"$f":"IF(INDIRECT($B$2&BC$4&$A20)=\"\",\"\",INDIRECT($B$2&BC$4&$A20))","v":""},{"$f":"IF(INDIRECT($B$2&BD$4&$A20)=\"\",\"\",INDIRECT($B$2&BD$4&$A20))","v":""},{"$f":"IF(INDIRECT($B$2&BE$4&$A20)=\"\",\"\",INDIRECT($B$2&BE$4&$A20))","v":""},{"$f":"IF(INDIRECT($B$2&BF$4&$A20)=\"\",\"\",INDIRECT($B$2&BF$4&$A20))","v":""},{"$f":"IF(INDIRECT($B$2&BG$4&$A20)=\"\",\"\",INDIRECT($B$2&BG$4&$A20))","v":""},{"$f":"IF(INDIRECT($B$2&BH$4&$A20)=\"\",\"\",INDIRECT($B$2&BH$4&$A20))","v":""},{"$f":"IF(INDIRECT($B$2&BI$4&$A20)=\"\",\"\",INDIRECT($B$2&BI$4&$A20))","v":""},{"$f":"IF(INDIRECT($B$2&BJ$4&$A20)=\"\",\"\",INDIRECT($B$2&BJ$4&$A20))","v":""},{"$f":"IF(INDIRECT($B$2&BK$4&$A20)=\"\",\"\",INDIRECT($B$2&BK$4&$A20))","v":""},{"$f":"IF(INDIRECT($B$2&BL$4&$A20)=\"\",\"\",INDIRECT($B$2&BL$4&$A20))","v":""},{"$f":"IF(INDIRECT($B$2&BM$4&$A20)=\"\",\"\",INDIRECT($B$2&BM$4&$A20))","v":""},{"$f":"IF(INDIRECT($B$2&BN$4&$A20)=\"\",\"\",INDIRECT($B$2&BN$4&$A20))","v":""}]
[33,null,null,null,null,null,"燃転等1",{"$f":"IF(INDIRECT($B$2&H$4&$A21)=\"\",\"\",INDIRECT($B$2&H$4&$A21))","v":""},{"$f":"IF(INDIRECT($B$2&I$4&$A21)=\"\",\"\",INDIRECT($B$2&I$4&$A21))","v":""},{"$f":"IF(INDIRECT($B$2&J$4&$A21)=\"\",\"\",INDIRECT($B$2&J$4&$A21))","v":""},{"$f":"IF(INDIRECT($B$2&K$4&$A21)=\"\",\"\",INDIRECT($B$2&K$4&$A21))","v":""},{"$f":"IF(INDIRECT($B$2&L$4&$A21)=\"\",\"\",INDIRECT($B$2&L$4&$A21))","v":""},{"$f":"IF(INDIRECT($B$2&M$4&$A21)=\"\",\"\",INDIRECT($B$2&M$4&$A21))","v":""},{"$f":"IF(INDIRECT($B$2&N$4&$A21)=\"\",\"\",INDIRECT($B$2&N$4&$A21))","v":""},{"$f":"IF(INDIRECT($B$2&O$4&$A21)=\"\",\"\",INDIRECT($B$2&O$4&$A21))","v":""},{"$f":"IF(INDIRECT($B$2&P$4&$A21)=\"\",\"\",INDIRECT($B$2&P$4&$A21))","v":""},{"$f":"IF(INDIRECT($B$2&Q$4&$A21)=\"\",\"\",INDIRECT($B$2&Q$4&$A21))","v":""},{"$f":"IF(INDIRECT($B$2&R$4&$A21)=\"\",\"\",INDIRECT($B$2&R$4&$A21))","v":""},{"$f":"IF(INDIRECT($B$2&S$4&$A21)=\"\",\"\",INDIRECT($B$2&S$4&$A21))","v":""},{"$f":"IF(INDIRECT($B$2&T$4&$A21)=\"\",\"\",INDIRECT($B$2&T$4&$A21))","v":""},{"$f":"IF(INDIRECT($B$2&U$4&$A21)=\"\",\"\",INDIRECT($B$2&U$4&$A21))","v":""},"燃転等1",{"$f":"IF(INDIRECT($B$2&W$4&$A21)=\"\",\"\",INDIRECT($B$2&W$4&$A21))","v":""},{"$f":"IF(INDIRECT($B$2&X$4&$A21)=\"\",\"\",INDIRECT($B$2&X$4&$A21))","v":""},{"$f":"IF(INDIRECT($B$2&Y$4&$A21)=\"\",\"\",INDIRECT($B$2&Y$4&$A21))","v":""},{"$f":"IF(INDIRECT($B$2&Z$4&$A21)=\"\",\"\",INDIRECT($B$2&Z$4&$A21))","v":""},{"$f":"IF(INDIRECT($B$2&AA$4&$A21)=\"\",\"\",INDIRECT($B$2&AA$4&$A21))","v":""},{"$f":"IF(INDIRECT($B$2&AB$4&$A21)=\"\",\"\",INDIRECT($B$2&AB$4&$A21))","v":""},{"$f":"IF(INDIRECT($B$2&AC$4&$A21)=\"\",\"\",INDIRECT($B$2&AC$4&$A21))","v":""},{"$f":"IF(INDIRECT($B$2&AD$4&$A21)=\"\",\"\",INDIRECT($B$2&AD$4&$A21))","v":""},{"$f":"IF(INDIRECT($B$2&AE$4&$A21)=\"\",\"\",INDIRECT($B$2&AE$4&$A21))","v":""},{"$f":"IF(INDIRECT($B$2&AF$4&$A21)=\"\",\"\",INDIRECT($B$2&AF$4&$A21))","v":""},{"$f":"IF(INDIRECT($B$2&AG$4&$A21)=\"\",\"\",INDIRECT($B$2&AG$4&$A21))","v":""},{"$f":"IF(INDIRECT($B$2&AH$4&$A21)=\"\",\"\",INDIRECT($B$2&AH$4&$A21))","v":""},{"$f":"IF(INDIRECT($B$2&AI$4&$A21)=\"\",\"\",INDIRECT($B$2&AI$4&$A21))","v":""},{"$f":"IF(INDIRECT($B$2&AJ$4&$A21)=\"\",\"\",INDIRECT($B$2&AJ$4&$A21))","v":""},"燃転等1",{"$f":"IF(INDIRECT($B$2&AL$4&$A21)=\"\",\"\",INDIRECT($B$2&AL$4&$A21))","v":""},{"$f":"IF(INDIRECT($B$2&AM$4&$A21)=\"\",\"\",INDIRECT($B$2&AM$4&$A21))","v":""},{"$f":"IF(INDIRECT($B$2&AN$4&$A21)=\"\",\"\",INDIRECT($B$2&AN$4&$A21))","v":""},{"$f":"IF(INDIRECT($B$2&AO$4&$A21)=\"\",\"\",INDIRECT($B$2&AO$4&$A21))","v":""},{"$f":"IF(INDIRECT($B$2&AP$4&$A21)=\"\",\"\",INDIRECT($B$2&AP$4&$A21))","v":""},{"$f":"IF(INDIRECT($B$2&AQ$4&$A21)=\"\",\"\",INDIRECT($B$2&AQ$4&$A21))","v":""},{"$f":"IF(INDIRECT($B$2&AR$4&$A21)=\"\",\"\",INDIRECT($B$2&AR$4&$A21))","v":""},{"$f":"IF(INDIRECT($B$2&AS$4&$A21)=\"\",\"\",INDIRECT($B$2&AS$4&$A21))","v":""},{"$f":"IF(INDIRECT($B$2&AT$4&$A21)=\"\",\"\",INDIRECT($B$2&AT$4&$A21))","v":""},{"$f":"IF(INDIRECT($B$2&AU$4&$A21)=\"\",\"\",INDIRECT($B$2&AU$4&$A21))","v":""},{"$f":"IF(INDIRECT($B$2&AV$4&$A21)=\"\",\"\",INDIRECT($B$2&AV$4&$A21))","v":""},{"$f":"IF(INDIRECT($B$2&AW$4&$A21)=\"\",\"\",INDIRECT($B$2&AW$4&$A21))","v":""},{"$f":"IF(INDIRECT($B$2&AX$4&$A21)=\"\",\"\",INDIRECT($B$2&AX$4&$A21))","v":""},{"$f":"IF(INDIRECT($B$2&AY$4&$A21)=\"\",\"\",INDIRECT($B$2&AY$4&$A21))","v":""},"燃転等1",{"$f":"IF(INDIRECT($B$2&BA$4&$A21)=\"\",\"\",INDIRECT($B$2&BA$4&$A21))","v":""},{"$f":"IF(INDIRECT($B$2&BB$4&$A21)=\"\",\"\",INDIRECT($B$2&BB$4&$A21))","v":""},{"$f":"IF(INDIRECT($B$2&BC$4&$A21)=\"\",\"\",INDIRECT($B$2&BC$4&$A21))","v":""},{"$f":"IF(INDIRECT($B$2&BD$4&$A21)=\"\",\"\",INDIRECT($B$2&BD$4&$A21))","v":""},{"$f":"IF(INDIRECT($B$2&BE$4&$A21)=\"\",\"\",INDIRECT($B$2&BE$4&$A21))","v":""},{"$f":"IF(INDIRECT($B$2&BF$4&$A21)=\"\",\"\",INDIRECT($B$2&BF$4&$A21))","v":""},{"$f":"IF(INDIRECT($B$2&BG$4&$A21)=\"\",\"\",INDIRECT($B$2&BG$4&$A21))","v":""},{"$f":"IF(INDIRECT($B$2&BH$4&$A21)=\"\",\"\",INDIRECT($B$2&BH$4&$A21))","v":""},{"$f":"IF(INDIRECT($B$2&BI$4&$A21)=\"\",\"\",INDIRECT($B$2&BI$4&$A21))","v":""},{"$f":"IF(INDIRECT($B$2&BJ$4&$A21)=\"\",\"\",INDIRECT($B$2&BJ$4&$A21))","v":""},{"$f":"IF(INDIRECT($B$2&BK$4&$A21)=\"\",\"\",INDIRECT($B$2&BK$4&$A21))","v":""},{"$f":"IF(INDIRECT($B$2&BL$4&$A21)=\"\",\"\",INDIRECT($B$2&BL$4&$A21))","v":""},{"$f":"IF(INDIRECT($B$2&BM$4&$A21)=\"\",\"\",INDIRECT($B$2&BM$4&$A21))","v":""},{"$f":"IF(INDIRECT($B$2&BN$4&$A21)=\"\",\"\",INDIRECT($B$2&BN$4&$A21))","v":""}]
[34,null,null,null,null,null,"燃転等2",{"$f":"IF(INDIRECT($B$2&H$4&$A22)=\"\",\"\",INDIRECT($B$2&H$4&$A22))","v":""},{"$f":"IF(INDIRECT($B$2&I$4&$A22)=\"\",\"\",INDIRECT($B$2&I$4&$A22))","v":""},{"$f":"IF(INDIRECT($B$2&J$4&$A22)=\"\",\"\",INDIRECT($B$2&J$4&$A22))","v":""},{"$f":"IF(INDIRECT($B$2&K$4&$A22)=\"\",\"\",INDIRECT($B$2&K$4&$A22))","v":""},{"$f":"IF(INDIRECT($B$2&L$4&$A22)=\"\",\"\",INDIRECT($B$2&L$4&$A22))","v":""},{"$f":"IF(INDIRECT($B$2&M$4&$A22)=\"\",\"\",INDIRECT($B$2&M$4&$A22))","v":""},{"$f":"IF(INDIRECT($B$2&N$4&$A22)=\"\",\"\",INDIRECT($B$2&N$4&$A22))","v":""},{"$f":"IF(INDIRECT($B$2&O$4&$A22)=\"\",\"\",INDIRECT($B$2&O$4&$A22))","v":""},{"$f":"IF(INDIRECT($B$2&P$4&$A22)=\"\",\"\",INDIRECT($B$2&P$4&$A22))","v":""},{"$f":"IF(INDIRECT($B$2&Q$4&$A22)=\"\",\"\",INDIRECT($B$2&Q$4&$A22))","v":""},{"$f":"IF(INDIRECT($B$2&R$4&$A22)=\"\",\"\",INDIRECT($B$2&R$4&$A22))","v":""},{"$f":"IF(INDIRECT($B$2&S$4&$A22)=\"\",\"\",INDIRECT($B$2&S$4&$A22))","v":""},{"$f":"IF(INDIRECT($B$2&T$4&$A22)=\"\",\"\",INDIRECT($B$2&T$4&$A22))","v":""},{"$f":"IF(INDIRECT($B$2&U$4&$A22)=\"\",\"\",INDIRECT($B$2&U$4&$A22))","v":""},"燃転等2",{"$f":"IF(INDIRECT($B$2&W$4&$A22)=\"\",\"\",INDIRECT($B$2&W$4&$A22))","v":""},{"$f":"IF(INDIRECT($B$2&X$4&$A22)=\"\",\"\",INDIRECT($B$2&X$4&$A22))","v":""},{"$f":"IF(INDIRECT($B$2&Y$4&$A22)=\"\",\"\",INDIRECT($B$2&Y$4&$A22))","v":""},{"$f":"IF(INDIRECT($B$2&Z$4&$A22)=\"\",\"\",INDIRECT($B$2&Z$4&$A22))","v":""},{"$f":"IF(INDIRECT($B$2&AA$4&$A22)=\"\",\"\",INDIRECT($B$2&AA$4&$A22))","v":""},{"$f":"IF(INDIRECT($B$2&AB$4&$A22)=\"\",\"\",INDIRECT($B$2&AB$4&$A22))","v":""},{"$f":"IF(INDIRECT($B$2&AC$4&$A22)=\"\",\"\",INDIRECT($B$2&AC$4&$A22))","v":""},{"$f":"IF(INDIRECT($B$2&AD$4&$A22)=\"\",\"\",INDIRECT($B$2&AD$4&$A22))","v":""},{"$f":"IF(INDIRECT($B$2&AE$4&$A22)=\"\",\"\",INDIRECT($B$2&AE$4&$A22))","v":""},{"$f":"IF(INDIRECT($B$2&AF$4&$A22)=\"\",\"\",INDIRECT($B$2&AF$4&$A22))","v":""},{"$f":"IF(INDIRECT($B$2&AG$4&$A22)=\"\",\"\",INDIRECT($B$2&AG$4&$A22))","v":""},{"$f":"IF(INDIRECT($B$2&AH$4&$A22)=\"\",\"\",INDIRECT($B$2&AH$4&$A22))","v":""},{"$f":"IF(INDIRECT($B$2&AI$4&$A22)=\"\",\"\",INDIRECT($B$2&AI$4&$A22))","v":""},{"$f":"IF(INDIRECT($B$2&AJ$4&$A22)=\"\",\"\",INDIRECT($B$2&AJ$4&$A22))","v":""},"燃転等2",{"$f":"IF(INDIRECT($B$2&AL$4&$A22)=\"\",\"\",INDIRECT($B$2&AL$4&$A22))","v":""},{"$f":"IF(INDIRECT($B$2&AM$4&$A22)=\"\",\"\",INDIRECT($B$2&AM$4&$A22))","v":""},{"$f":"IF(INDIRECT($B$2&AN$4&$A22)=\"\",\"\",INDIRECT($B$2&AN$4&$A22))","v":""},{"$f":"IF(INDIRECT($B$2&AO$4&$A22)=\"\",\"\",INDIRECT($B$2&AO$4&$A22))","v":""},{"$f":"IF(INDIRECT($B$2&AP$4&$A22)=\"\",\"\",INDIRECT($B$2&AP$4&$A22))","v":""},{"$f":"IF(INDIRECT($B$2&AQ$4&$A22)=\"\",\"\",INDIRECT($B$2&AQ$4&$A22))","v":""},{"$f":"IF(INDIRECT($B$2&AR$4&$A22)=\"\",\"\",INDIRECT($B$2&AR$4&$A22))","v":""},{"$f":"IF(INDIRECT($B$2&AS$4&$A22)=\"\",\"\",INDIRECT($B$2&AS$4&$A22))","v":""},{"$f":"IF(INDIRECT($B$2&AT$4&$A22)=\"\",\"\",INDIRECT($B$2&AT$4&$A22))","v":""},{"$f":"IF(INDIRECT($B$2&AU$4&$A22)=\"\",\"\",INDIRECT($B$2&AU$4&$A22))","v":""},{"$f":"IF(INDIRECT($B$2&AV$4&$A22)=\"\",\"\",INDIRECT($B$2&AV$4&$A22))","v":""},{"$f":"IF(INDIRECT($B$2&AW$4&$A22)=\"\",\"\",INDIRECT($B$2&AW$4&$A22))","v":""},{"$f":"IF(INDIRECT($B$2&AX$4&$A22)=\"\",\"\",INDIRECT($B$2&AX$4&$A22))","v":""},{"$f":"IF(INDIRECT($B$2&AY$4&$A22)=\"\",\"\",INDIRECT($B$2&AY$4&$A22))","v":""},"燃転等2",{"$f":"IF(INDIRECT($B$2&BA$4&$A22)=\"\",\"\",INDIRECT($B$2&BA$4&$A22))","v":""},{"$f":"IF(INDIRECT($B$2&BB$4&$A22)=\"\",\"\",INDIRECT($B$2&BB$4&$A22))","v":""},{"$f":"IF(INDIRECT($B$2&BC$4&$A22)=\"\",\"\",INDIRECT($B$2&BC$4&$A22))","v":""},{"$f":"IF(INDIRECT($B$2&BD$4&$A22)=\"\",\"\",INDIRECT($B$2&BD$4&$A22))","v":""},{"$f":"IF(INDIRECT($B$2&BE$4&$A22)=\"\",\"\",INDIRECT($B$2&BE$4&$A22))","v":""},{"$f":"IF(INDIRECT($B$2&BF$4&$A22)=\"\",\"\",INDIRECT($B$2&BF$4&$A22))","v":""},{"$f":"IF(INDIRECT($B$2&BG$4&$A22)=\"\",\"\",INDIRECT($B$2&BG$4&$A22))","v":""},{"$f":"IF(INDIRECT($B$2&BH$4&$A22)=\"\",\"\",INDIRECT($B$2&BH$4&$A22))","v":""},{"$f":"IF(INDIRECT($B$2&BI$4&$A22)=\"\",\"\",INDIRECT($B$2&BI$4&$A22))","v":""},{"$f":"IF(INDIRECT($B$2&BJ$4&$A22)=\"\",\"\",INDIRECT($B$2&BJ$4&$A22))","v":""},{"$f":"IF(INDIRECT($B$2&BK$4&$A22)=\"\",\"\",INDIRECT($B$2&BK$4&$A22))","v":""},{"$f":"IF(INDIRECT($B$2&BL$4&$A22)=\"\",\"\",INDIRECT($B$2&BL$4&$A22))","v":""},{"$f":"IF(INDIRECT($B$2&BM$4&$A22)=\"\",\"\",INDIRECT($B$2&BM$4&$A22))","v":""},{"$f":"IF(INDIRECT($B$2&BN$4&$A22)=\"\",\"\",INDIRECT($B$2&BN$4&$A22))","v":""}]
[35,null,null,null,null,null,"燃転等3",{"$f":"IF(INDIRECT($B$2&H$4&$A23)=\"\",\"\",INDIRECT($B$2&H$4&$A23))","v":""},{"$f":"IF(INDIRECT($B$2&I$4&$A23)=\"\",\"\",INDIRECT($B$2&I$4&$A23))","v":""},{"$f":"IF(INDIRECT($B$2&J$4&$A23)=\"\",\"\",INDIRECT($B$2&J$4&$A23))","v":""},{"$f":"IF(INDIRECT($B$2&K$4&$A23)=\"\",\"\",INDIRECT($B$2&K$4&$A23))","v":""},{"$f":"IF(INDIRECT($B$2&L$4&$A23)=\"\",\"\",INDIRECT($B$2&L$4&$A23))","v":""},{"$f":"IF(INDIRECT($B$2&M$4&$A23)=\"\",\"\",INDIRECT($B$2&M$4&$A23))","v":""},{"$f":"IF(INDIRECT($B$2&N$4&$A23)=\"\",\"\",INDIRECT($B$2&N$4&$A23))","v":""},{"$f":"IF(INDIRECT($B$2&O$4&$A23)=\"\",\"\",INDIRECT($B$2&O$4&$A23))","v":""},{"$f":"IF(INDIRECT($B$2&P$4&$A23)=\"\",\"\",INDIRECT($B$2&P$4&$A23))","v":""},{"$f":"IF(INDIRECT($B$2&Q$4&$A23)=\"\",\"\",INDIRECT($B$2&Q$4&$A23))","v":""},{"$f":"IF(INDIRECT($B$2&R$4&$A23)=\"\",\"\",INDIRECT($B$2&R$4&$A23))","v":""},{"$f":"IF(INDIRECT($B$2&S$4&$A23)=\"\",\"\",INDIRECT($B$2&S$4&$A23))","v":""},{"$f":"IF(INDIRECT($B$2&T$4&$A23)=\"\",\"\",INDIRECT($B$2&T$4&$A23))","v":""},{"$f":"IF(INDIRECT($B$2&U$4&$A23)=\"\",\"\",INDIRECT($B$2&U$4&$A23))","v":""},"燃転等3",{"$f":"IF(INDIRECT($B$2&W$4&$A23)=\"\",\"\",INDIRECT($B$2&W$4&$A23))","v":""},{"$f":"IF(INDIRECT($B$2&X$4&$A23)=\"\",\"\",INDIRECT($B$2&X$4&$A23))","v":""},{"$f":"IF(INDIRECT($B$2&Y$4&$A23)=\"\",\"\",INDIRECT($B$2&Y$4&$A23))","v":""},{"$f":"IF(INDIRECT($B$2&Z$4&$A23)=\"\",\"\",INDIRECT($B$2&Z$4&$A23))","v":""},{"$f":"IF(INDIRECT($B$2&AA$4&$A23)=\"\",\"\",INDIRECT($B$2&AA$4&$A23))","v":""},{"$f":"IF(INDIRECT($B$2&AB$4&$A23)=\"\",\"\",INDIRECT($B$2&AB$4&$A23))","v":""},{"$f":"IF(INDIRECT($B$2&AC$4&$A23)=\"\",\"\",INDIRECT($B$2&AC$4&$A23))","v":""},{"$f":"IF(INDIRECT($B$2&AD$4&$A23)=\"\",\"\",INDIRECT($B$2&AD$4&$A23))","v":""},{"$f":"IF(INDIRECT($B$2&AE$4&$A23)=\"\",\"\",INDIRECT($B$2&AE$4&$A23))","v":""},{"$f":"IF(INDIRECT($B$2&AF$4&$A23)=\"\",\"\",INDIRECT($B$2&AF$4&$A23))","v":""},{"$f":"IF(INDIRECT($B$2&AG$4&$A23)=\"\",\"\",INDIRECT($B$2&AG$4&$A23))","v":""},{"$f":"IF(INDIRECT($B$2&AH$4&$A23)=\"\",\"\",INDIRECT($B$2&AH$4&$A23))","v":""},{"$f":"IF(INDIRECT($B$2&AI$4&$A23)=\"\",\"\",INDIRECT($B$2&AI$4&$A23))","v":""},{"$f":"IF(INDIRECT($B$2&AJ$4&$A23)=\"\",\"\",INDIRECT($B$2&AJ$4&$A23))","v":""},"燃転等3",{"$f":"IF(INDIRECT($B$2&AL$4&$A23)=\"\",\"\",INDIRECT($B$2&AL$4&$A23))","v":""},{"$f":"IF(INDIRECT($B$2&AM$4&$A23)=\"\",\"\",INDIRECT($B$2&AM$4&$A23))","v":""},{"$f":"IF(INDIRECT($B$2&AN$4&$A23)=\"\",\"\",INDIRECT($B$2&AN$4&$A23))","v":""},{"$f":"IF(INDIRECT($B$2&AO$4&$A23)=\"\",\"\",INDIRECT($B$2&AO$4&$A23))","v":""},{"$f":"IF(INDIRECT($B$2&AP$4&$A23)=\"\",\"\",INDIRECT($B$2&AP$4&$A23))","v":""},{"$f":"IF(INDIRECT($B$2&AQ$4&$A23)=\"\",\"\",INDIRECT($B$2&AQ$4&$A23))","v":""},{"$f":"IF(INDIRECT($B$2&AR$4&$A23)=\"\",\"\",INDIRECT($B$2&AR$4&$A23))","v":""},{"$f":"IF(INDIRECT($B$2&AS$4&$A23)=\"\",\"\",INDIRECT($B$2&AS$4&$A23))","v":""},{"$f":"IF(INDIRECT($B$2&AT$4&$A23)=\"\",\"\",INDIRECT($B$2&AT$4&$A23))","v":""},{"$f":"IF(INDIRECT($B$2&AU$4&$A23)=\"\",\"\",INDIRECT($B$2&AU$4&$A23))","v":""},{"$f":"IF(INDIRECT($B$2&AV$4&$A23)=\"\",\"\",INDIRECT($B$2&AV$4&$A23))","v":""},{"$f":"IF(INDIRECT($B$2&AW$4&$A23)=\"\",\"\",INDIRECT($B$2&AW$4&$A23))","v":""},{"$f":"IF(INDIRECT($B$2&AX$4&$A23)=\"\",\"\",INDIRECT($B$2&AX$4&$A23))","v":""},{"$f":"IF(INDIRECT($B$2&AY$4&$A23)=\"\",\"\",INDIRECT($B$2&AY$4&$A23))","v":""},"燃転等3",{"$f":"IF(INDIRECT($B$2&BA$4&$A23)=\"\",\"\",INDIRECT($B$2&BA$4&$A23))","v":""},{"$f":"IF(INDIRECT($B$2&BB$4&$A23)=\"\",\"\",INDIRECT($B$2&BB$4&$A23))","v":""},{"$f":"IF(INDIRECT($B$2&BC$4&$A23)=\"\",\"\",INDIRECT($B$2&BC$4&$A23))","v":""},{"$f":"IF(INDIRECT($B$2&BD$4&$A23)=\"\",\"\",INDIRECT($B$2&BD$4&$A23))","v":""},{"$f":"IF(INDIRECT($B$2&BE$4&$A23)=\"\",\"\",INDIRECT($B$2&BE$4&$A23))","v":""},{"$f":"IF(INDIRECT($B$2&BF$4&$A23)=\"\",\"\",INDIRECT($B$2&BF$4&$A23))","v":""},{"$f":"IF(INDIRECT($B$2&BG$4&$A23)=\"\",\"\",INDIRECT($B$2&BG$4&$A23))","v":""},{"$f":"IF(INDIRECT($B$2&BH$4&$A23)=\"\",\"\",INDIRECT($B$2&BH$4&$A23))","v":""},{"$f":"IF(INDIRECT($B$2&BI$4&$A23)=\"\",\"\",INDIRECT($B$2&BI$4&$A23))","v":""},{"$f":"IF(INDIRECT($B$2&BJ$4&$A23)=\"\",\"\",INDIRECT($B$2&BJ$4&$A23))","v":""},{"$f":"IF(INDIRECT($B$2&BK$4&$A23)=\"\",\"\",INDIRECT($B$2&BK$4&$A23))","v":""},{"$f":"IF(INDIRECT($B$2&BL$4&$A23)=\"\",\"\",INDIRECT($B$2&BL$4&$A23))","v":""},{"$f":"IF(INDIRECT($B$2&BM$4&$A23)=\"\",\"\",INDIRECT($B$2&BM$4&$A23))","v":""},{"$f":"IF(INDIRECT($B$2&BN$4&$A23)=\"\",\"\",INDIRECT($B$2&BN$4&$A23))","v":""}]
[37,null,null,null,null,null,"電力切替1",{"$f":"IF(INDIRECT($B$2&H$4&$A24)=\"\",\"\",INDIRECT($B$2&H$4&$A24))","v":""},{"$f":"IF(INDIRECT($B$2&I$4&$A24)=\"\",\"\",INDIRECT($B$2&I$4&$A24))","v":""},{"$f":"IF(INDIRECT($B$2&J$4&$A24)=\"\",\"\",INDIRECT($B$2&J$4&$A24))","v":""},{"$f":"IF(INDIRECT($B$2&K$4&$A24)=\"\",\"\",INDIRECT($B$2&K$4&$A24))","v":""},{"$f":"IF(INDIRECT($B$2&L$4&$A24)=\"\",\"\",INDIRECT($B$2&L$4&$A24))","v":""},{"$f":"IF(INDIRECT($B$2&M$4&$A24)=\"\",\"\",INDIRECT($B$2&M$4&$A24))","v":""},{"$f":"IF(INDIRECT($B$2&N$4&$A24)=\"\",\"\",INDIRECT($B$2&N$4&$A24))","v":""},{"$f":"IF(INDIRECT($B$2&O$4&$A24)=\"\",\"\",INDIRECT($B$2&O$4&$A24))","v":""},{"$f":"IF(INDIRECT($B$2&P$4&$A24)=\"\",\"\",INDIRECT($B$2&P$4&$A24))","v":""},{"$f":"IF(INDIRECT($B$2&Q$4&$A24)=\"\",\"\",INDIRECT($B$2&Q$4&$A24))","v":""},{"$f":"IF(INDIRECT($B$2&R$4&$A24)=\"\",\"\",INDIRECT($B$2&R$4&$A24))","v":""},{"$f":"IF(INDIRECT($B$2&S$4&$A24)=\"\",\"\",INDIRECT($B$2&S$4&$A24))","v":""},{"$f":"IF(INDIRECT($B$2&T$4&$A24)=\"\",\"\",INDIRECT($B$2&T$4&$A24))","v":""},{"$f":"IF(INDIRECT($B$2&U$4&$A24)=\"\",\"\",INDIRECT($B$2&U$4&$A24))","v":""},"電力切替1",{"$f":"IF(INDIRECT($B$2&W$4&$A24)=\"\",\"\",INDIRECT($B$2&W$4&$A24))","v":""},{"$f":"IF(INDIRECT($B$2&X$4&$A24)=\"\",\"\",INDIRECT($B$2&X$4&$A24))","v":""},{"$f":"IF(INDIRECT($B$2&Y$4&$A24)=\"\",\"\",INDIRECT($B$2&Y$4&$A24))","v":""},{"$f":"IF(INDIRECT($B$2&Z$4&$A24)=\"\",\"\",INDIRECT($B$2&Z$4&$A24))","v":""},{"$f":"IF(INDIRECT($B$2&AA$4&$A24)=\"\",\"\",INDIRECT($B$2&AA$4&$A24))","v":""},{"$f":"IF(INDIRECT($B$2&AB$4&$A24)=\"\",\"\",INDIRECT($B$2&AB$4&$A24))","v":""},{"$f":"IF(INDIRECT($B$2&AC$4&$A24)=\"\",\"\",INDIRECT($B$2&AC$4&$A24))","v":""},{"$f":"IF(INDIRECT($B$2&AD$4&$A24)=\"\",\"\",INDIRECT($B$2&AD$4&$A24))","v":""},{"$f":"IF(INDIRECT($B$2&AE$4&$A24)=\"\",\"\",INDIRECT($B$2&AE$4&$A24))","v":""},{"$f":"IF(INDIRECT($B$2&AF$4&$A24)=\"\",\"\",INDIRECT($B$2&AF$4&$A24))","v":""},{"$f":"IF(INDIRECT($B$2&AG$4&$A24)=\"\",\"\",INDIRECT($B$2&AG$4&$A24))","v":""},{"$f":"IF(INDIRECT($B$2&AH$4&$A24)=\"\",\"\",INDIRECT($B$2&AH$4&$A24))","v":""},{"$f":"IF(INDIRECT($B$2&AI$4&$A24)=\"\",\"\",INDIRECT($B$2&AI$4&$A24))","v":""},{"$f":"IF(INDIRECT($B$2&AJ$4&$A24)=\"\",\"\",INDIRECT($B$2&AJ$4&$A24))","v":""},"電力切替1",{"$f":"IF(INDIRECT($B$2&AL$4&$A24)=\"\",\"\",INDIRECT($B$2&AL$4&$A24))","v":""},{"$f":"IF(INDIRECT($B$2&AM$4&$A24)=\"\",\"\",INDIRECT($B$2&AM$4&$A24))","v":""},{"$f":"IF(INDIRECT($B$2&AN$4&$A24)=\"\",\"\",INDIRECT($B$2&AN$4&$A24))","v":""},{"$f":"IF(INDIRECT($B$2&AO$4&$A24)=\"\",\"\",INDIRECT($B$2&AO$4&$A24))","v":""},{"$f":"IF(INDIRECT($B$2&AP$4&$A24)=\"\",\"\",INDIRECT($B$2&AP$4&$A24))","v":""},{"$f":"IF(INDIRECT($B$2&AQ$4&$A24)=\"\",\"\",INDIRECT($B$2&AQ$4&$A24))","v":""},{"$f":"IF(INDIRECT($B$2&AR$4&$A24)=\"\",\"\",INDIRECT($B$2&AR$4&$A24))","v":""},{"$f":"IF(INDIRECT($B$2&AS$4&$A24)=\"\",\"\",INDIRECT($B$2&AS$4&$A24))","v":""},{"$f":"IF(INDIRECT($B$2&AT$4&$A24)=\"\",\"\",INDIRECT($B$2&AT$4&$A24))","v":""},{"$f":"IF(INDIRECT($B$2&AU$4&$A24)=\"\",\"\",INDIRECT($B$2&AU$4&$A24))","v":""},{"$f":"IF(INDIRECT($B$2&AV$4&$A24)=\"\",\"\",INDIRECT($B$2&AV$4&$A24))","v":""},{"$f":"IF(INDIRECT($B$2&AW$4&$A24)=\"\",\"\",INDIRECT($B$2&AW$4&$A24))","v":""},{"$f":"IF(INDIRECT($B$2&AX$4&$A24)=\"\",\"\",INDIRECT($B$2&AX$4&$A24))","v":""},{"$f":"IF(INDIRECT($B$2&AY$4&$A24)=\"\",\"\",INDIRECT($B$2&AY$4&$A24))","v":""},"電力切替1",{"$f":"IF(INDIRECT($B$2&BA$4&$A24)=\"\",\"\",INDIRECT($B$2&BA$4&$A24))","v":""},{"$f":"IF(INDIRECT($B$2&BB$4&$A24)=\"\",\"\",INDIRECT($B$2&BB$4&$A24))","v":""},{"$f":"IF(INDIRECT($B$2&BC$4&$A24)=\"\",\"\",INDIRECT($B$2&BC$4&$A24))","v":""},{"$f":"IF(INDIRECT($B$2&BD$4&$A24)=\"\",\"\",INDIRECT($B$2&BD$4&$A24))","v":""},{"$f":"IF(INDIRECT($B$2&BE$4&$A24)=\"\",\"\",INDIRECT($B$2&BE$4&$A24))","v":""},{"$f":"IF(INDIRECT($B$2&BF$4&$A24)=\"\",\"\",INDIRECT($B$2&BF$4&$A24))","v":""},{"$f":"IF(INDIRECT($B$2&BG$4&$A24)=\"\",\"\",INDIRECT($B$2&BG$4&$A24))","v":""},{"$f":"IF(INDIRECT($B$2&BH$4&$A24)=\"\",\"\",INDIRECT($B$2&BH$4&$A24))","v":""},{"$f":"IF(INDIRECT($B$2&BI$4&$A24)=\"\",\"\",INDIRECT($B$2&BI$4&$A24))","v":""},{"$f":"IF(INDIRECT($B$2&BJ$4&$A24)=\"\",\"\",INDIRECT($B$2&BJ$4&$A24))","v":""},{"$f":"IF(INDIRECT($B$2&BK$4&$A24)=\"\",\"\",INDIRECT($B$2&BK$4&$A24))","v":""},{"$f":"IF(INDIRECT($B$2&BL$4&$A24)=\"\",\"\",INDIRECT($B$2&BL$4&$A24))","v":""},{"$f":"IF(INDIRECT($B$2&BM$4&$A24)=\"\",\"\",INDIRECT($B$2&BM$4&$A24))","v":""},{"$f":"IF(INDIRECT($B$2&BN$4&$A24)=\"\",\"\",INDIRECT($B$2&BN$4&$A24))","v":""}]
[38,null,null,null,null,null,"電力切替2",{"$f":"IF(INDIRECT($B$2&H$4&$A25)=\"\",\"\",INDIRECT($B$2&H$4&$A25))","v":""},{"$f":"IF(INDIRECT($B$2&I$4&$A25)=\"\",\"\",INDIRECT($B$2&I$4&$A25))","v":""},{"$f":"IF(INDIRECT($B$2&J$4&$A25)=\"\",\"\",INDIRECT($B$2&J$4&$A25))","v":""},{"$f":"IF(INDIRECT($B$2&K$4&$A25)=\"\",\"\",INDIRECT($B$2&K$4&$A25))","v":""},{"$f":"IF(INDIRECT($B$2&L$4&$A25)=\"\",\"\",INDIRECT($B$2&L$4&$A25))","v":""},{"$f":"IF(INDIRECT($B$2&M$4&$A25)=\"\",\"\",INDIRECT($B$2&M$4&$A25))","v":""},{"$f":"IF(INDIRECT($B$2&N$4&$A25)=\"\",\"\",INDIRECT($B$2&N$4&$A25))","v":""},{"$f":"IF(INDIRECT($B$2&O$4&$A25)=\"\",\"\",INDIRECT($B$2&O$4&$A25))","v":""},{"$f":"IF(INDIRECT($B$2&P$4&$A25)=\"\",\"\",INDIRECT($B$2&P$4&$A25))","v":""},{"$f":"IF(INDIRECT($B$2&Q$4&$A25)=\"\",\"\",INDIRECT($B$2&Q$4&$A25))","v":""},{"$f":"IF(INDIRECT($B$2&R$4&$A25)=\"\",\"\",INDIRECT($B$2&R$4&$A25))","v":""},{"$f":"IF(INDIRECT($B$2&S$4&$A25)=\"\",\"\",INDIRECT($B$2&S$4&$A25))","v":""},{"$f":"IF(INDIRECT($B$2&T$4&$A25)=\"\",\"\",INDIRECT($B$2&T$4&$A25))","v":""},{"$f":"IF(INDIRECT($B$2&U$4&$A25)=\"\",\"\",INDIRECT($B$2&U$4&$A25))","v":""},"電力切替2",{"$f":"IF(INDIRECT($B$2&W$4&$A25)=\"\",\"\",INDIRECT($B$2&W$4&$A25))","v":""},{"$f":"IF(INDIRECT($B$2&X$4&$A25)=\"\",\"\",INDIRECT($B$2&X$4&$A25))","v":""},{"$f":"IF(INDIRECT($B$2&Y$4&$A25)=\"\",\"\",INDIRECT($B$2&Y$4&$A25))","v":""},{"$f":"IF(INDIRECT($B$2&Z$4&$A25)=\"\",\"\",INDIRECT($B$2&Z$4&$A25))","v":""},{"$f":"IF(INDIRECT($B$2&AA$4&$A25)=\"\",\"\",INDIRECT($B$2&AA$4&$A25))","v":""},{"$f":"IF(INDIRECT($B$2&AB$4&$A25)=\"\",\"\",INDIRECT($B$2&AB$4&$A25))","v":""},{"$f":"IF(INDIRECT($B$2&AC$4&$A25)=\"\",\"\",INDIRECT($B$2&AC$4&$A25))","v":""},{"$f":"IF(INDIRECT($B$2&AD$4&$A25)=\"\",\"\",INDIRECT($B$2&AD$4&$A25))","v":""},{"$f":"IF(INDIRECT($B$2&AE$4&$A25)=\"\",\"\",INDIRECT($B$2&AE$4&$A25))","v":""},{"$f":"IF(INDIRECT($B$2&AF$4&$A25)=\"\",\"\",INDIRECT($B$2&AF$4&$A25))","v":""},{"$f":"IF(INDIRECT($B$2&AG$4&$A25)=\"\",\"\",INDIRECT($B$2&AG$4&$A25))","v":""},{"$f":"IF(INDIRECT($B$2&AH$4&$A25)=\"\",\"\",INDIRECT($B$2&AH$4&$A25))","v":""},{"$f":"IF(INDIRECT($B$2&AI$4&$A25)=\"\",\"\",INDIRECT($B$2&AI$4&$A25))","v":""},{"$f":"IF(INDIRECT($B$2&AJ$4&$A25)=\"\",\"\",INDIRECT($B$2&AJ$4&$A25))","v":""},"電力切替2",{"$f":"IF(INDIRECT($B$2&AL$4&$A25)=\"\",\"\",INDIRECT($B$2&AL$4&$A25))","v":""},{"$f":"IF(INDIRECT($B$2&AM$4&$A25)=\"\",\"\",INDIRECT($B$2&AM$4&$A25))","v":""},{"$f":"IF(INDIRECT($B$2&AN$4&$A25)=\"\",\"\",INDIRECT($B$2&AN$4&$A25))","v":""},{"$f":"IF(INDIRECT($B$2&AO$4&$A25)=\"\",\"\",INDIRECT($B$2&AO$4&$A25))","v":""},{"$f":"IF(INDIRECT($B$2&AP$4&$A25)=\"\",\"\",INDIRECT($B$2&AP$4&$A25))","v":""},{"$f":"IF(INDIRECT($B$2&AQ$4&$A25)=\"\",\"\",INDIRECT($B$2&AQ$4&$A25))","v":""},{"$f":"IF(INDIRECT($B$2&AR$4&$A25)=\"\",\"\",INDIRECT($B$2&AR$4&$A25))","v":""},{"$f":"IF(INDIRECT($B$2&AS$4&$A25)=\"\",\"\",INDIRECT($B$2&AS$4&$A25))","v":""},{"$f":"IF(INDIRECT($B$2&AT$4&$A25)=\"\",\"\",INDIRECT($B$2&AT$4&$A25))","v":""},{"$f":"IF(INDIRECT($B$2&AU$4&$A25)=\"\",\"\",INDIRECT($B$2&AU$4&$A25))","v":""},{"$f":"IF(INDIRECT($B$2&AV$4&$A25)=\"\",\"\",INDIRECT($B$2&AV$4&$A25))","v":""},{"$f":"IF(INDIRECT($B$2&AW$4&$A25)=\"\",\"\",INDIRECT($B$2&AW$4&$A25))","v":""},{"$f":"IF(INDIRECT($B$2&AX$4&$A25)=\"\",\"\",INDIRECT($B$2&AX$4&$A25))","v":""},{"$f":"IF(INDIRECT($B$2&AY$4&$A25)=\"\",\"\",INDIRECT($B$2&AY$4&$A25))","v":""},"電力切替2",{"$f":"IF(INDIRECT($B$2&BA$4&$A25)=\"\",\"\",INDIRECT($B$2&BA$4&$A25))","v":""},{"$f":"IF(INDIRECT($B$2&BB$4&$A25)=\"\",\"\",INDIRECT($B$2&BB$4&$A25))","v":""},{"$f":"IF(INDIRECT($B$2&BC$4&$A25)=\"\",\"\",INDIRECT($B$2&BC$4&$A25))","v":""},{"$f":"IF(INDIRECT($B$2&BD$4&$A25)=\"\",\"\",INDIRECT($B$2&BD$4&$A25))","v":""},{"$f":"IF(INDIRECT($B$2&BE$4&$A25)=\"\",\"\",INDIRECT($B$2&BE$4&$A25))","v":""},{"$f":"IF(INDIRECT($B$2&BF$4&$A25)=\"\",\"\",INDIRECT($B$2&BF$4&$A25))","v":""},{"$f":"IF(INDIRECT($B$2&BG$4&$A25)=\"\",\"\",INDIRECT($B$2&BG$4&$A25))","v":""},{"$f":"IF(INDIRECT($B$2&BH$4&$A25)=\"\",\"\",INDIRECT($B$2&BH$4&$A25))","v":""},{"$f":"IF(INDIRECT($B$2&BI$4&$A25)=\"\",\"\",INDIRECT($B$2&BI$4&$A25))","v":""},{"$f":"IF(INDIRECT($B$2&BJ$4&$A25)=\"\",\"\",INDIRECT($B$2&BJ$4&$A25))","v":""},{"$f":"IF(INDIRECT($B$2&BK$4&$A25)=\"\",\"\",INDIRECT($B$2&BK$4&$A25))","v":""},{"$f":"IF(INDIRECT($B$2&BL$4&$A25)=\"\",\"\",INDIRECT($B$2&BL$4&$A25))","v":""},{"$f":"IF(INDIRECT($B$2&BM$4&$A25)=\"\",\"\",INDIRECT($B$2&BM$4&$A25))","v":""},{"$f":"IF(INDIRECT($B$2&BN$4&$A25)=\"\",\"\",INDIRECT($B$2&BN$4&$A25))","v":""}]
[45,null,null,null,null,null,"省エネ8",{"$f":"IF(INDIRECT($B$2&H$4&$A26)=\"\",\"\",INDIRECT($B$2&H$4&$A26))","v":""},{"$f":"IF(INDIRECT($B$2&I$4&$A26)=\"\",\"\",INDIRECT($B$2&I$4&$A26))","v":""},{"$f":"IF(INDIRECT($B$2&J$4&$A26)=\"\",\"\",INDIRECT($B$2&J$4&$A26))","v":""},{"$f":"IF(INDIRECT($B$2&K$4&$A26)=\"\",\"\",INDIRECT($B$2&K$4&$A26))","v":""},{"$f":"IF(INDIRECT($B$2&L$4&$A26)=\"\",\"\",INDIRECT($B$2&L$4&$A26))","v":""},{"$f":"IF(INDIRECT($B$2&M$4&$A26)=\"\",\"\",INDIRECT($B$2&M$4&$A26))","v":""},{"$f":"IF(INDIRECT($B$2&N$4&$A26)=\"\",\"\",INDIRECT($B$2&N$4&$A26))","v":""},{"$f":"IF(INDIRECT($B$2&O$4&$A26)=\"\",\"\",INDIRECT($B$2&O$4&$A26))","v":""},{"$f":"IF(INDIRECT($B$2&P$4&$A26)=\"\",\"\",INDIRECT($B$2&P$4&$A26))","v":""},{"$f":"IF(INDIRECT($B$2&Q$4&$A26)=\"\",\"\",INDIRECT($B$2&Q$4&$A26))","v":""},{"$f":"IF(INDIRECT($B$2&R$4&$A26)=\"\",\"\",INDIRECT($B$2&R$4&$A26))","v":""},{"$f":"IF(INDIRECT($B$2&S$4&$A26)=\"\",\"\",INDIRECT($B$2&S$4&$A26))","v":""},{"$f":"IF(INDIRECT($B$2&T$4&$A26)=\"\",\"\",INDIRECT($B$2&T$4&$A26))","v":""},{"$f":"IF(INDIRECT($B$2&U$4&$A26)=\"\",\"\",INDIRECT($B$2&U$4&$A26))","v":""},"省エネ8",{"$f":"IF(INDIRECT($B$2&W$4&$A26)=\"\",\"\",INDIRECT($B$2&W$4&$A26))","v":""},{"$f":"IF(INDIRECT($B$2&X$4&$A26)=\"\",\"\",INDIRECT($B$2&X$4&$A26))","v":""},{"$f":"IF(INDIRECT($B$2&Y$4&$A26)=\"\",\"\",INDIRECT($B$2&Y$4&$A26))","v":""},{"$f":"IF(INDIRECT($B$2&Z$4&$A26)=\"\",\"\",INDIRECT($B$2&Z$4&$A26))","v":""},{"$f":"IF(INDIRECT($B$2&AA$4&$A26)=\"\",\"\",INDIRECT($B$2&AA$4&$A26))","v":""},{"$f":"IF(INDIRECT($B$2&AB$4&$A26)=\"\",\"\",INDIRECT($B$2&AB$4&$A26))","v":""},{"$f":"IF(INDIRECT($B$2&AC$4&$A26)=\"\",\"\",INDIRECT($B$2&AC$4&$A26))","v":""},{"$f":"IF(INDIRECT($B$2&AD$4&$A26)=\"\",\"\",INDIRECT($B$2&AD$4&$A26))","v":""},{"$f":"IF(INDIRECT($B$2&AE$4&$A26)=\"\",\"\",INDIRECT($B$2&AE$4&$A26))","v":""},{"$f":"IF(INDIRECT($B$2&AF$4&$A26)=\"\",\"\",INDIRECT($B$2&AF$4&$A26))","v":""},{"$f":"IF(INDIRECT($B$2&AG$4&$A26)=\"\",\"\",INDIRECT($B$2&AG$4&$A26))","v":""},{"$f":"IF(INDIRECT($B$2&AH$4&$A26)=\"\",\"\",INDIRECT($B$2&AH$4&$A26))","v":""},{"$f":"IF(INDIRECT($B$2&AI$4&$A26)=\"\",\"\",INDIRECT($B$2&AI$4&$A26))","v":""},{"$f":"IF(INDIRECT($B$2&AJ$4&$A26)=\"\",\"\",INDIRECT($B$2&AJ$4&$A26))","v":""},"省エネ8",{"$f":"IF(INDIRECT($B$2&AL$4&$A26)=\"\",\"\",INDIRECT($B$2&AL$4&$A26))","v":""},{"$f":"IF(INDIRECT($B$2&AM$4&$A26)=\"\",\"\",INDIRECT($B$2&AM$4&$A26))","v":""},{"$f":"IF(INDIRECT($B$2&AN$4&$A26)=\"\",\"\",INDIRECT($B$2&AN$4&$A26))","v":""},{"$f":"IF(INDIRECT($B$2&AO$4&$A26)=\"\",\"\",INDIRECT($B$2&AO$4&$A26))","v":""},{"$f":"IF(INDIRECT($B$2&AP$4&$A26)=\"\",\"\",INDIRECT($B$2&AP$4&$A26))","v":""},{"$f":"IF(INDIRECT($B$2&AQ$4&$A26)=\"\",\"\",INDIRECT($B$2&AQ$4&$A26))","v":""},{"$f":"IF(INDIRECT($B$2&AR$4&$A26)=\"\",\"\",INDIRECT($B$2&AR$4&$A26))","v":""},{"$f":"IF(INDIRECT($B$2&AS$4&$A26)=\"\",\"\",INDIRECT($B$2&AS$4&$A26))","v":""},{"$f":"IF(INDIRECT($B$2&AT$4&$A26)=\"\",\"\",INDIRECT($B$2&AT$4&$A26))","v":""},{"$f":"IF(INDIRECT($B$2&AU$4&$A26)=\"\",\"\",INDIRECT($B$2&AU$4&$A26))","v":""},{"$f":"IF(INDIRECT($B$2&AV$4&$A26)=\"\",\"\",INDIRECT($B$2&AV$4&$A26))","v":""},{"$f":"IF(INDIRECT($B$2&AW$4&$A26)=\"\",\"\",INDIRECT($B$2&AW$4&$A26))","v":""},{"$f":"IF(INDIRECT($B$2&AX$4&$A26)=\"\",\"\",INDIRECT($B$2&AX$4&$A26))","v":""},{"$f":"IF(INDIRECT($B$2&AY$4&$A26)=\"\",\"\",INDIRECT($B$2&AY$4&$A26))","v":""},"省エネ8",{"$f":"IF(INDIRECT($B$2&BA$4&$A26)=\"\",\"\",INDIRECT($B$2&BA$4&$A26))","v":""},{"$f":"IF(INDIRECT($B$2&BB$4&$A26)=\"\",\"\",INDIRECT($B$2&BB$4&$A26))","v":""},{"$f":"IF(INDIRECT($B$2&BC$4&$A26)=\"\",\"\",INDIRECT($B$2&BC$4&$A26))","v":""},{"$f":"IF(INDIRECT($B$2&BD$4&$A26)=\"\",\"\",INDIRECT($B$2&BD$4&$A26))","v":""},{"$f":"IF(INDIRECT($B$2&BE$4&$A26)=\"\",\"\",INDIRECT($B$2&BE$4&$A26))","v":""},{"$f":"IF(INDIRECT($B$2&BF$4&$A26)=\"\",\"\",INDIRECT($B$2&BF$4&$A26))","v":""},{"$f":"IF(INDIRECT($B$2&BG$4&$A26)=\"\",\"\",INDIRECT($B$2&BG$4&$A26))","v":""},{"$f":"IF(INDIRECT($B$2&BH$4&$A26)=\"\",\"\",INDIRECT($B$2&BH$4&$A26))","v":""},{"$f":"IF(INDIRECT($B$2&BI$4&$A26)=\"\",\"\",INDIRECT($B$2&BI$4&$A26))","v":""},{"$f":"IF(INDIRECT($B$2&BJ$4&$A26)=\"\",\"\",INDIRECT($B$2&BJ$4&$A26))","v":""},{"$f":"IF(INDIRECT($B$2&BK$4&$A26)=\"\",\"\",INDIRECT($B$2&BK$4&$A26))","v":""},{"$f":"IF(INDIRECT($B$2&BL$4&$A26)=\"\",\"\",INDIRECT($B$2&BL$4&$A26))","v":""},{"$f":"IF(INDIRECT($B$2&BM$4&$A26)=\"\",\"\",INDIRECT($B$2&BM$4&$A26))","v":""},{"$f":"IF(INDIRECT($B$2&BN$4&$A26)=\"\",\"\",INDIRECT($B$2&BN$4&$A26))","v":""}]
[46,null,null,null,null,null,"省エネ9",{"$f":"IF(INDIRECT($B$2&H$4&$A27)=\"\",\"\",INDIRECT($B$2&H$4&$A27))","v":""},{"$f":"IF(INDIRECT($B$2&I$4&$A27)=\"\",\"\",INDIRECT($B$2&I$4&$A27))","v":""},{"$f":"IF(INDIRECT($B$2&J$4&$A27)=\"\",\"\",INDIRECT($B$2&J$4&$A27))","v":""},{"$f":"IF(INDIRECT($B$2&K$4&$A27)=\"\",\"\",INDIRECT($B$2&K$4&$A27))","v":""},{"$f":"IF(INDIRECT($B$2&L$4&$A27)=\"\",\"\",INDIRECT($B$2&L$4&$A27))","v":""},{"$f":"IF(INDIRECT($B$2&M$4&$A27)=\"\",\"\",INDIRECT($B$2&M$4&$A27))","v":""},{"$f":"IF(INDIRECT($B$2&N$4&$A27)=\"\",\"\",INDIRECT($B$2&N$4&$A27))","v":""},{"$f":"IF(INDIRECT($B$2&O$4&$A27)=\"\",\"\",INDIRECT($B$2&O$4&$A27))","v":""},{"$f":"IF(INDIRECT($B$2&P$4&$A27)=\"\",\"\",INDIRECT($B$2&P$4&$A27))","v":""},{"$f":"IF(INDIRECT($B$2&Q$4&$A27)=\"\",\"\",INDIRECT($B$2&Q$4&$A27))","v":""},{"$f":"IF(INDIRECT($B$2&R$4&$A27)=\"\",\"\",INDIRECT($B$2&R$4&$A27))","v":""},{"$f":"IF(INDIRECT($B$2&S$4&$A27)=\"\",\"\",INDIRECT($B$2&S$4&$A27))","v":""},{"$f":"IF(INDIRECT($B$2&T$4&$A27)=\"\",\"\",INDIRECT($B$2&T$4&$A27))","v":""},{"$f":"IF(INDIRECT($B$2&U$4&$A27)=\"\",\"\",INDIRECT($B$2&U$4&$A27))","v":""},"省エネ9",{"$f":"IF(INDIRECT($B$2&W$4&$A27)=\"\",\"\",INDIRECT($B$2&W$4&$A27))","v":""},{"$f":"IF(INDIRECT($B$2&X$4&$A27)=\"\",\"\",INDIRECT($B$2&X$4&$A27))","v":""},{"$f":"IF(INDIRECT($B$2&Y$4&$A27)=\"\",\"\",INDIRECT($B$2&Y$4&$A27))","v":""},{"$f":"IF(INDIRECT($B$2&Z$4&$A27)=\"\",\"\",INDIRECT($B$2&Z$4&$A27))","v":""},{"$f":"IF(INDIRECT($B$2&AA$4&$A27)=\"\",\"\",INDIRECT($B$2&AA$4&$A27))","v":""},{"$f":"IF(INDIRECT($B$2&AB$4&$A27)=\"\",\"\",INDIRECT($B$2&AB$4&$A27))","v":""},{"$f":"IF(INDIRECT($B$2&AC$4&$A27)=\"\",\"\",INDIRECT($B$2&AC$4&$A27))","v":""},{"$f":"IF(INDIRECT($B$2&AD$4&$A27)=\"\",\"\",INDIRECT($B$2&AD$4&$A27))","v":""},{"$f":"IF(INDIRECT($B$2&AE$4&$A27)=\"\",\"\",INDIRECT($B$2&AE$4&$A27))","v":""},{"$f":"IF(INDIRECT($B$2&AF$4&$A27)=\"\",\"\",INDIRECT($B$2&AF$4&$A27))","v":""},{"$f":"IF(INDIRECT($B$2&AG$4&$A27)=\"\",\"\",INDIRECT($B$2&AG$4&$A27))","v":""},{"$f":"IF(INDIRECT($B$2&AH$4&$A27)=\"\",\"\",INDIRECT($B$2&AH$4&$A27))","v":""},{"$f":"IF(INDIRECT($B$2&AI$4&$A27)=\"\",\"\",INDIRECT($B$2&AI$4&$A27))","v":""},{"$f":"IF(INDIRECT($B$2&AJ$4&$A27)=\"\",\"\",INDIRECT($B$2&AJ$4&$A27))","v":""},"省エネ9",{"$f":"IF(INDIRECT($B$2&AL$4&$A27)=\"\",\"\",INDIRECT($B$2&AL$4&$A27))","v":""},{"$f":"IF(INDIRECT($B$2&AM$4&$A27)=\"\",\"\",INDIRECT($B$2&AM$4&$A27))","v":""},{"$f":"IF(INDIRECT($B$2&AN$4&$A27)=\"\",\"\",INDIRECT($B$2&AN$4&$A27))","v":""},{"$f":"IF(INDIRECT($B$2&AO$4&$A27)=\"\",\"\",INDIRECT($B$2&AO$4&$A27))","v":""},{"$f":"IF(INDIRECT($B$2&AP$4&$A27)=\"\",\"\",INDIRECT($B$2&AP$4&$A27))","v":""},{"$f":"IF(INDIRECT($B$2&AQ$4&$A27)=\"\",\"\",INDIRECT($B$2&AQ$4&$A27))","v":""},{"$f":"IF(INDIRECT($B$2&AR$4&$A27)=\"\",\"\",INDIRECT($B$2&AR$4&$A27))","v":""},{"$f":"IF(INDIRECT($B$2&AS$4&$A27)=\"\",\"\",INDIRECT($B$2&AS$4&$A27))","v":""},{"$f":"IF(INDIRECT($B$2&AT$4&$A27)=\"\",\"\",INDIRECT($B$2&AT$4&$A27))","v":""},{"$f":"IF(INDIRECT($B$2&AU$4&$A27)=\"\",\"\",INDIRECT($B$2&AU$4&$A27))","v":""},{"$f":"IF(INDIRECT($B$2&AV$4&$A27)=\"\",\"\",INDIRECT($B$2&AV$4&$A27))","v":""},{"$f":"IF(INDIRECT($B$2&AW$4&$A27)=\"\",\"\",INDIRECT($B$2&AW$4&$A27))","v":""},{"$f":"IF(INDIRECT($B$2&AX$4&$A27)=\"\",\"\",INDIRECT($B$2&AX$4&$A27))","v":""},{"$f":"IF(INDIRECT($B$2&AY$4&$A27)=\"\",\"\",INDIRECT($B$2&AY$4&$A27))","v":""},"省エネ9",{"$f":"IF(INDIRECT($B$2&BA$4&$A27)=\"\",\"\",INDIRECT($B$2&BA$4&$A27))","v":""},{"$f":"IF(INDIRECT($B$2&BB$4&$A27)=\"\",\"\",INDIRECT($B$2&BB$4&$A27))","v":""},{"$f":"IF(INDIRECT($B$2&BC$4&$A27)=\"\",\"\",INDIRECT($B$2&BC$4&$A27))","v":""},{"$f":"IF(INDIRECT($B$2&BD$4&$A27)=\"\",\"\",INDIRECT($B$2&BD$4&$A27))","v":""},{"$f":"IF(INDIRECT($B$2&BE$4&$A27)=\"\",\"\",INDIRECT($B$2&BE$4&$A27))","v":""},{"$f":"IF(INDIRECT($B$2&BF$4&$A27)=\"\",\"\",INDIRECT($B$2&BF$4&$A27))","v":""},{"$f":"IF(INDIRECT($B$2&BG$4&$A27)=\"\",\"\",INDIRECT($B$2&BG$4&$A27))","v":""},{"$f":"IF(INDIRECT($B$2&BH$4&$A27)=\"\",\"\",INDIRECT($B$2&BH$4&$A27))","v":""},{"$f":"IF(INDIRECT($B$2&BI$4&$A27)=\"\",\"\",INDIRECT($B$2&BI$4&$A27))","v":""},{"$f":"IF(INDIRECT($B$2&BJ$4&$A27)=\"\",\"\",INDIRECT($B$2&BJ$4&$A27))","v":""},{"$f":"IF(INDIRECT($B$2&BK$4&$A27)=\"\",\"\",INDIRECT($B$2&BK$4&$A27))","v":""},{"$f":"IF(INDIRECT($B$2&BL$4&$A27)=\"\",\"\",INDIRECT($B$2&BL$4&$A27))","v":""},{"$f":"IF(INDIRECT($B$2&BM$4&$A27)=\"\",\"\",INDIRECT($B$2&BM$4&$A27))","v":""},{"$f":"IF(INDIRECT($B$2&BN$4&$A27)=\"\",\"\",INDIRECT($B$2&BN$4&$A27))","v":""}]
[47,null,null,null,null,null,"省エネ10",{"$f":"IF(INDIRECT($B$2&H$4&$A28)=\"\",\"\",INDIRECT($B$2&H$4&$A28))","v":""},{"$f":"IF(INDIRECT($B$2&I$4&$A28)=\"\",\"\",INDIRECT($B$2&I$4&$A28))","v":""},{"$f":"IF(INDIRECT($B$2&J$4&$A28)=\"\",\"\",INDIRECT($B$2&J$4&$A28))","v":""},{"$f":"IF(INDIRECT($B$2&K$4&$A28)=\"\",\"\",INDIRECT($B$2&K$4&$A28))","v":""},{"$f":"IF(INDIRECT($B$2&L$4&$A28)=\"\",\"\",INDIRECT($B$2&L$4&$A28))","v":""},{"$f":"IF(INDIRECT($B$2&M$4&$A28)=\"\",\"\",INDIRECT($B$2&M$4&$A28))","v":""},{"$f":"IF(INDIRECT($B$2&N$4&$A28)=\"\",\"\",INDIRECT($B$2&N$4&$A28))","v":""},{"$f":"IF(INDIRECT($B$2&O$4&$A28)=\"\",\"\",INDIRECT($B$2&O$4&$A28))","v":""},{"$f":"IF(INDIRECT($B$2&P$4&$A28)=\"\",\"\",INDIRECT($B$2&P$4&$A28))","v":""},{"$f":"IF(INDIRECT($B$2&Q$4&$A28)=\"\",\"\",INDIRECT($B$2&Q$4&$A28))","v":""},{"$f":"IF(INDIRECT($B$2&R$4&$A28)=\"\",\"\",INDIRECT($B$2&R$4&$A28))","v":""},{"$f":"IF(INDIRECT($B$2&S$4&$A28)=\"\",\"\",INDIRECT($B$2&S$4&$A28))","v":""},{"$f":"IF(INDIRECT($B$2&T$4&$A28)=\"\",\"\",INDIRECT($B$2&T$4&$A28))","v":""},{"$f":"IF(INDIRECT($B$2&U$4&$A28)=\"\",\"\",INDIRECT($B$2&U$4&$A28))","v":""},"省エネ10",{"$f":"IF(INDIRECT($B$2&W$4&$A28)=\"\",\"\",INDIRECT($B$2&W$4&$A28))","v":""},{"$f":"IF(INDIRECT($B$2&X$4&$A28)=\"\",\"\",INDIRECT($B$2&X$4&$A28))","v":""},{"$f":"IF(INDIRECT($B$2&Y$4&$A28)=\"\",\"\",INDIRECT($B$2&Y$4&$A28))","v":""},{"$f":"IF(INDIRECT($B$2&Z$4&$A28)=\"\",\"\",INDIRECT($B$2&Z$4&$A28))","v":""},{"$f":"IF(INDIRECT($B$2&AA$4&$A28)=\"\",\"\",INDIRECT($B$2&AA$4&$A28))","v":""},{"$f":"IF(INDIRECT($B$2&AB$4&$A28)=\"\",\"\",INDIRECT($B$2&AB$4&$A28))","v":""},{"$f":"IF(INDIRECT($B$2&AC$4&$A28)=\"\",\"\",INDIRECT($B$2&AC$4&$A28))","v":""},{"$f":"IF(INDIRECT($B$2&AD$4&$A28)=\"\",\"\",INDIRECT($B$2&AD$4&$A28))","v":""},{"$f":"IF(INDIRECT($B$2&AE$4&$A28)=\"\",\"\",INDIRECT($B$2&AE$4&$A28))","v":""},{"$f":"IF(INDIRECT($B$2&AF$4&$A28)=\"\",\"\",INDIRECT($B$2&AF$4&$A28))","v":""},{"$f":"IF(INDIRECT($B$2&AG$4&$A28)=\"\",\"\",INDIRECT($B$2&AG$4&$A28))","v":""},{"$f":"IF(INDIRECT($B$2&AH$4&$A28)=\"\",\"\",INDIRECT($B$2&AH$4&$A28))","v":""},{"$f":"IF(INDIRECT($B$2&AI$4&$A28)=\"\",\"\",INDIRECT($B$2&AI$4&$A28))","v":""},{"$f":"IF(INDIRECT($B$2&AJ$4&$A28)=\"\",\"\",INDIRECT($B$2&AJ$4&$A28))","v":""},"省エネ10",{"$f":"IF(INDIRECT($B$2&AL$4&$A28)=\"\",\"\",INDIRECT($B$2&AL$4&$A28))","v":""},{"$f":"IF(INDIRECT($B$2&AM$4&$A28)=\"\",\"\",INDIRECT($B$2&AM$4&$A28))","v":""},{"$f":"IF(INDIRECT($B$2&AN$4&$A28)=\"\",\"\",INDIRECT($B$2&AN$4&$A28))","v":""},{"$f":"IF(INDIRECT($B$2&AO$4&$A28)=\"\",\"\",INDIRECT($B$2&AO$4&$A28))","v":""},{"$f":"IF(INDIRECT($B$2&AP$4&$A28)=\"\",\"\",INDIRECT($B$2&AP$4&$A28))","v":""},{"$f":"IF(INDIRECT($B$2&AQ$4&$A28)=\"\",\"\",INDIRECT($B$2&AQ$4&$A28))","v":""},{"$f":"IF(INDIRECT($B$2&AR$4&$A28)=\"\",\"\",INDIRECT($B$2&AR$4&$A28))","v":""},{"$f":"IF(INDIRECT($B$2&AS$4&$A28)=\"\",\"\",INDIRECT($B$2&AS$4&$A28))","v":""},{"$f":"IF(INDIRECT($B$2&AT$4&$A28)=\"\",\"\",INDIRECT($B$2&AT$4&$A28))","v":""},{"$f":"IF(INDIRECT($B$2&AU$4&$A28)=\"\",\"\",INDIRECT($B$2&AU$4&$A28))","v":""},{"$f":"IF(INDIRECT($B$2&AV$4&$A28)=\"\",\"\",INDIRECT($B$2&AV$4&$A28))","v":""},{"$f":"IF(INDIRECT($B$2&AW$4&$A28)=\"\",\"\",INDIRECT($B$2&AW$4&$A28))","v":""},{"$f":"IF(INDIRECT($B$2&AX$4&$A28)=\"\",\"\",INDIRECT($B$2&AX$4&$A28))","v":""},{"$f":"IF(INDIRECT($B$2&AY$4&$A28)=\"\",\"\",INDIRECT($B$2&AY$4&$A28))","v":""},"省エネ10",{"$f":"IF(INDIRECT($B$2&BA$4&$A28)=\"\",\"\",INDIRECT($B$2&BA$4&$A28))","v":""},{"$f":"IF(INDIRECT($B$2&BB$4&$A28)=\"\",\"\",INDIRECT($B$2&BB$4&$A28))","v":""},{"$f":"IF(INDIRECT($B$2&BC$4&$A28)=\"\",\"\",INDIRECT($B$2&BC$4&$A28))","v":""},{"$f":"IF(INDIRECT($B$2&BD$4&$A28)=\"\",\"\",INDIRECT($B$2&BD$4&$A28))","v":""},{"$f":"IF(INDIRECT($B$2&BE$4&$A28)=\"\",\"\",INDIRECT($B$2&BE$4&$A28))","v":""},{"$f":"IF(INDIRECT($B$2&BF$4&$A28)=\"\",\"\",INDIRECT($B$2&BF$4&$A28))","v":""},{"$f":"IF(INDIRECT($B$2&BG$4&$A28)=\"\",\"\",INDIRECT($B$2&BG$4&$A28))","v":""},{"$f":"IF(INDIRECT($B$2&BH$4&$A28)=\"\",\"\",INDIRECT($B$2&BH$4&$A28))","v":""},{"$f":"IF(INDIRECT($B$2&BI$4&$A28)=\"\",\"\",INDIRECT($B$2&BI$4&$A28))","v":""},{"$f":"IF(INDIRECT($B$2&BJ$4&$A28)=\"\",\"\",INDIRECT($B$2&BJ$4&$A28))","v":""},{"$f":"IF(INDIRECT($B$2&BK$4&$A28)=\"\",\"\",INDIRECT($B$2&BK$4&$A28))","v":""},{"$f":"IF(INDIRECT($B$2&BL$4&$A28)=\"\",\"\",INDIRECT($B$2&BL$4&$A28))","v":""},{"$f":"IF(INDIRECT($B$2&BM$4&$A28)=\"\",\"\",INDIRECT($B$2&BM$4&$A28))","v":""},{"$f":"IF(INDIRECT($B$2&BN$4&$A28)=\"\",\"\",INDIRECT($B$2&BN$4&$A28))","v":""}]
[48,null,null,null,null,null,"省エネ11",{"$f":"IF(INDIRECT($B$2&H$4&$A29)=\"\",\"\",INDIRECT($B$2&H$4&$A29))","v":""},{"$f":"IF(INDIRECT($B$2&I$4&$A29)=\"\",\"\",INDIRECT($B$2&I$4&$A29))","v":""},{"$f":"IF(INDIRECT($B$2&J$4&$A29)=\"\",\"\",INDIRECT($B$2&J$4&$A29))","v":""},{"$f":"IF(INDIRECT($B$2&K$4&$A29)=\"\",\"\",INDIRECT($B$2&K$4&$A29))","v":""},{"$f":"IF(INDIRECT($B$2&L$4&$A29)=\"\",\"\",INDIRECT($B$2&L$4&$A29))","v":""},{"$f":"IF(INDIRECT($B$2&M$4&$A29)=\"\",\"\",INDIRECT($B$2&M$4&$A29))","v":""},{"$f":"IF(INDIRECT($B$2&N$4&$A29)=\"\",\"\",INDIRECT($B$2&N$4&$A29))","v":""},{"$f":"IF(INDIRECT($B$2&O$4&$A29)=\"\",\"\",INDIRECT($B$2&O$4&$A29))","v":""},{"$f":"IF(INDIRECT($B$2&P$4&$A29)=\"\",\"\",INDIRECT($B$2&P$4&$A29))","v":""},{"$f":"IF(INDIRECT($B$2&Q$4&$A29)=\"\",\"\",INDIRECT($B$2&Q$4&$A29))","v":""},{"$f":"IF(INDIRECT($B$2&R$4&$A29)=\"\",\"\",INDIRECT($B$2&R$4&$A29))","v":""},{"$f":"IF(INDIRECT($B$2&S$4&$A29)=\"\",\"\",INDIRECT($B$2&S$4&$A29))","v":""},{"$f":"IF(INDIRECT($B$2&T$4&$A29)=\"\",\"\",INDIRECT($B$2&T$4&$A29))","v":""},{"$f":"IF(INDIRECT($B$2&U$4&$A29)=\"\",\"\",INDIRECT($B$2&U$4&$A29))","v":""},"省エネ11",{"$f":"IF(INDIRECT($B$2&W$4&$A29)=\"\",\"\",INDIRECT($B$2&W$4&$A29))","v":""},{"$f":"IF(INDIRECT($B$2&X$4&$A29)=\"\",\"\",INDIRECT($B$2&X$4&$A29))","v":""},{"$f":"IF(INDIRECT($B$2&Y$4&$A29)=\"\",\"\",INDIRECT($B$2&Y$4&$A29))","v":""},{"$f":"IF(INDIRECT($B$2&Z$4&$A29)=\"\",\"\",INDIRECT($B$2&Z$4&$A29))","v":""},{"$f":"IF(INDIRECT($B$2&AA$4&$A29)=\"\",\"\",INDIRECT($B$2&AA$4&$A29))","v":""},{"$f":"IF(INDIRECT($B$2&AB$4&$A29)=\"\",\"\",INDIRECT($B$2&AB$4&$A29))","v":""},{"$f":"IF(INDIRECT($B$2&AC$4&$A29)=\"\",\"\",INDIRECT($B$2&AC$4&$A29))","v":""},{"$f":"IF(INDIRECT($B$2&AD$4&$A29)=\"\",\"\",INDIRECT($B$2&AD$4&$A29))","v":""},{"$f":"IF(INDIRECT($B$2&AE$4&$A29)=\"\",\"\",INDIRECT($B$2&AE$4&$A29))","v":""},{"$f":"IF(INDIRECT($B$2&AF$4&$A29)=\"\",\"\",INDIRECT($B$2&AF$4&$A29))","v":""},{"$f":"IF(INDIRECT($B$2&AG$4&$A29)=\"\",\"\",INDIRECT($B$2&AG$4&$A29))","v":""},{"$f":"IF(INDIRECT($B$2&AH$4&$A29)=\"\",\"\",INDIRECT($B$2&AH$4&$A29))","v":""},{"$f":"IF(INDIRECT($B$2&AI$4&$A29)=\"\",\"\",INDIRECT($B$2&AI$4&$A29))","v":""},{"$f":"IF(INDIRECT($B$2&AJ$4&$A29)=\"\",\"\",INDIRECT($B$2&AJ$4&$A29))","v":""},"省エネ11",{"$f":"IF(INDIRECT($B$2&AL$4&$A29)=\"\",\"\",INDIRECT($B$2&AL$4&$A29))","v":""},{"$f":"IF(INDIRECT($B$2&AM$4&$A29)=\"\",\"\",INDIRECT($B$2&AM$4&$A29))","v":""},{"$f":"IF(INDIRECT($B$2&AN$4&$A29)=\"\",\"\",INDIRECT($B$2&AN$4&$A29))","v":""},{"$f":"IF(INDIRECT($B$2&AO$4&$A29)=\"\",\"\",INDIRECT($B$2&AO$4&$A29))","v":""},{"$f":"IF(INDIRECT($B$2&AP$4&$A29)=\"\",\"\",INDIRECT($B$2&AP$4&$A29))","v":""},{"$f":"IF(INDIRECT($B$2&AQ$4&$A29)=\"\",\"\",INDIRECT($B$2&AQ$4&$A29))","v":""},{"$f":"IF(INDIRECT($B$2&AR$4&$A29)=\"\",\"\",INDIRECT($B$2&AR$4&$A29))","v":""},{"$f":"IF(INDIRECT($B$2&AS$4&$A29)=\"\",\"\",INDIRECT($B$2&AS$4&$A29))","v":""},{"$f":"IF(INDIRECT($B$2&AT$4&$A29)=\"\",\"\",INDIRECT($B$2&AT$4&$A29))","v":""},{"$f":"IF(INDIRECT($B$2&AU$4&$A29)=\"\",\"\",INDIRECT($B$2&AU$4&$A29))","v":""},{"$f":"IF(INDIRECT($B$2&AV$4&$A29)=\"\",\"\",INDIRECT($B$2&AV$4&$A29))","v":""},{"$f":"IF(INDIRECT($B$2&AW$4&$A29)=\"\",\"\",INDIRECT($B$2&AW$4&$A29))","v":""},{"$f":"IF(INDIRECT($B$2&AX$4&$A29)=\"\",\"\",INDIRECT($B$2&AX$4&$A29))","v":""},{"$f":"IF(INDIRECT($B$2&AY$4&$A29)=\"\",\"\",INDIRECT($B$2&AY$4&$A29))","v":""},"省エネ11",{"$f":"IF(INDIRECT($B$2&BA$4&$A29)=\"\",\"\",INDIRECT($B$2&BA$4&$A29))","v":""},{"$f":"IF(INDIRECT($B$2&BB$4&$A29)=\"\",\"\",INDIRECT($B$2&BB$4&$A29))","v":""},{"$f":"IF(INDIRECT($B$2&BC$4&$A29)=\"\",\"\",INDIRECT($B$2&BC$4&$A29))","v":""},{"$f":"IF(INDIRECT($B$2&BD$4&$A29)=\"\",\"\",INDIRECT($B$2&BD$4&$A29))","v":""},{"$f":"IF(INDIRECT($B$2&BE$4&$A29)=\"\",\"\",INDIRECT($B$2&BE$4&$A29))","v":""},{"$f":"IF(INDIRECT($B$2&BF$4&$A29)=\"\",\"\",INDIRECT($B$2&BF$4&$A29))","v":""},{"$f":"IF(INDIRECT($B$2&BG$4&$A29)=\"\",\"\",INDIRECT($B$2&BG$4&$A29))","v":""},{"$f":"IF(INDIRECT($B$2&BH$4&$A29)=\"\",\"\",INDIRECT($B$2&BH$4&$A29))","v":""},{"$f":"IF(INDIRECT($B$2&BI$4&$A29)=\"\",\"\",INDIRECT($B$2&BI$4&$A29))","v":""},{"$f":"IF(INDIRECT($B$2&BJ$4&$A29)=\"\",\"\",INDIRECT($B$2&BJ$4&$A29))","v":""},{"$f":"IF(INDIRECT($B$2&BK$4&$A29)=\"\",\"\",INDIRECT($B$2&BK$4&$A29))","v":""},{"$f":"IF(INDIRECT($B$2&BL$4&$A29)=\"\",\"\",INDIRECT($B$2&BL$4&$A29))","v":""},{"$f":"IF(INDIRECT($B$2&BM$4&$A29)=\"\",\"\",INDIRECT($B$2&BM$4&$A29))","v":""},{"$f":"IF(INDIRECT($B$2&BN$4&$A29)=\"\",\"\",INDIRECT($B$2&BN$4&$A29))","v":""}]
[49,null,null,null,null,null,"省エネ12",{"$f":"IF(INDIRECT($B$2&H$4&$A30)=\"\",\"\",INDIRECT($B$2&H$4&$A30))","v":""},{"$f":"IF(INDIRECT($B$2&I$4&$A30)=\"\",\"\",INDIRECT($B$2&I$4&$A30))","v":""},{"$f":"IF(INDIRECT($B$2&J$4&$A30)=\"\",\"\",INDIRECT($B$2&J$4&$A30))","v":""},{"$f":"IF(INDIRECT($B$2&K$4&$A30)=\"\",\"\",INDIRECT($B$2&K$4&$A30))","v":""},{"$f":"IF(INDIRECT($B$2&L$4&$A30)=\"\",\"\",INDIRECT($B$2&L$4&$A30))","v":""},{"$f":"IF(INDIRECT($B$2&M$4&$A30)=\"\",\"\",INDIRECT($B$2&M$4&$A30))","v":""},{"$f":"IF(INDIRECT($B$2&N$4&$A30)=\"\",\"\",INDIRECT($B$2&N$4&$A30))","v":""},{"$f":"IF(INDIRECT($B$2&O$4&$A30)=\"\",\"\",INDIRECT($B$2&O$4&$A30))","v":""},{"$f":"IF(INDIRECT($B$2&P$4&$A30)=\"\",\"\",INDIRECT($B$2&P$4&$A30))","v":""},{"$f":"IF(INDIRECT($B$2&Q$4&$A30)=\"\",\"\",INDIRECT($B$2&Q$4&$A30))","v":""},{"$f":"IF(INDIRECT($B$2&R$4&$A30)=\"\",\"\",INDIRECT($B$2&R$4&$A30))","v":""},{"$f":"IF(INDIRECT($B$2&S$4&$A30)=\"\",\"\",INDIRECT($B$2&S$4&$A30))","v":""},{"$f":"IF(INDIRECT($B$2&T$4&$A30)=\"\",\"\",INDIRECT($B$2&T$4&$A30))","v":""},{"$f":"IF(INDIRECT($B$2&U$4&$A30)=\"\",\"\",INDIRECT($B$2&U$4&$A30))","v":""},"省エネ12",{"$f":"IF(INDIRECT($B$2&W$4&$A30)=\"\",\"\",INDIRECT($B$2&W$4&$A30))","v":""},{"$f":"IF(INDIRECT($B$2&X$4&$A30)=\"\",\"\",INDIRECT($B$2&X$4&$A30))","v":""},{"$f":"IF(INDIRECT($B$2&Y$4&$A30)=\"\",\"\",INDIRECT($B$2&Y$4&$A30))","v":""},{"$f":"IF(INDIRECT($B$2&Z$4&$A30)=\"\",\"\",INDIRECT($B$2&Z$4&$A30))","v":""},{"$f":"IF(INDIRECT($B$2&AA$4&$A30)=\"\",\"\",INDIRECT($B$2&AA$4&$A30))","v":""},{"$f":"IF(INDIRECT($B$2&AB$4&$A30)=\"\",\"\",INDIRECT($B$2&AB$4&$A30))","v":""},{"$f":"IF(INDIRECT($B$2&AC$4&$A30)=\"\",\"\",INDIRECT($B$2&AC$4&$A30))","v":""},{"$f":"IF(INDIRECT($B$2&AD$4&$A30)=\"\",\"\",INDIRECT($B$2&AD$4&$A30))","v":""},{"$f":"IF(INDIRECT($B$2&AE$4&$A30)=\"\",\"\",INDIRECT($B$2&AE$4&$A30))","v":""},{"$f":"IF(INDIRECT($B$2&AF$4&$A30)=\"\",\"\",INDIRECT($B$2&AF$4&$A30))","v":""},{"$f":"IF(INDIRECT($B$2&AG$4&$A30)=\"\",\"\",INDIRECT($B$2&AG$4&$A30))","v":""},{"$f":"IF(INDIRECT($B$2&AH$4&$A30)=\"\",\"\",INDIRECT($B$2&AH$4&$A30))","v":""},{"$f":"IF(INDIRECT($B$2&AI$4&$A30)=\"\",\"\",INDIRECT($B$2&AI$4&$A30))","v":""},{"$f":"IF(INDIRECT($B$2&AJ$4&$A30)=\"\",\"\",INDIRECT($B$2&AJ$4&$A30))","v":""},"省エネ12",{"$f":"IF(INDIRECT($B$2&AL$4&$A30)=\"\",\"\",INDIRECT($B$2&AL$4&$A30))","v":""},{"$f":"IF(INDIRECT($B$2&AM$4&$A30)=\"\",\"\",INDIRECT($B$2&AM$4&$A30))","v":""},{"$f":"IF(INDIRECT($B$2&AN$4&$A30)=\"\",\"\",INDIRECT($B$2&AN$4&$A30))","v":""},{"$f":"IF(INDIRECT($B$2&AO$4&$A30)=\"\",\"\",INDIRECT($B$2&AO$4&$A30))","v":""},{"$f":"IF(INDIRECT($B$2&AP$4&$A30)=\"\",\"\",INDIRECT($B$2&AP$4&$A30))","v":""},{"$f":"IF(INDIRECT($B$2&AQ$4&$A30)=\"\",\"\",INDIRECT($B$2&AQ$4&$A30))","v":""},{"$f":"IF(INDIRECT($B$2&AR$4&$A30)=\"\",\"\",INDIRECT($B$2&AR$4&$A30))","v":""},{"$f":"IF(INDIRECT($B$2&AS$4&$A30)=\"\",\"\",INDIRECT($B$2&AS$4&$A30))","v":""},{"$f":"IF(INDIRECT($B$2&AT$4&$A30)=\"\",\"\",INDIRECT($B$2&AT$4&$A30))","v":""},{"$f":"IF(INDIRECT($B$2&AU$4&$A30)=\"\",\"\",INDIRECT($B$2&AU$4&$A30))","v":""},{"$f":"IF(INDIRECT($B$2&AV$4&$A30)=\"\",\"\",INDIRECT($B$2&AV$4&$A30))","v":""},{"$f":"IF(INDIRECT($B$2&AW$4&$A30)=\"\",\"\",INDIRECT($B$2&AW$4&$A30))","v":""},{"$f":"IF(INDIRECT($B$2&AX$4&$A30)=\"\",\"\",INDIRECT($B$2&AX$4&$A30))","v":""},{"$f":"IF(INDIRECT($B$2&AY$4&$A30)=\"\",\"\",INDIRECT($B$2&AY$4&$A30))","v":""},"省エネ12",{"$f":"IF(INDIRECT($B$2&BA$4&$A30)=\"\",\"\",INDIRECT($B$2&BA$4&$A30))","v":""},{"$f":"IF(INDIRECT($B$2&BB$4&$A30)=\"\",\"\",INDIRECT($B$2&BB$4&$A30))","v":""},{"$f":"IF(INDIRECT($B$2&BC$4&$A30)=\"\",\"\",INDIRECT($B$2&BC$4&$A30))","v":""},{"$f":"IF(INDIRECT($B$2&BD$4&$A30)=\"\",\"\",INDIRECT($B$2&BD$4&$A30))","v":""},{"$f":"IF(INDIRECT($B$2&BE$4&$A30)=\"\",\"\",INDIRECT($B$2&BE$4&$A30))","v":""},{"$f":"IF(INDIRECT($B$2&BF$4&$A30)=\"\",\"\",INDIRECT($B$2&BF$4&$A30))","v":""},{"$f":"IF(INDIRECT($B$2&BG$4&$A30)=\"\",\"\",INDIRECT($B$2&BG$4&$A30))","v":""},{"$f":"IF(INDIRECT($B$2&BH$4&$A30)=\"\",\"\",INDIRECT($B$2&BH$4&$A30))","v":""},{"$f":"IF(INDIRECT($B$2&BI$4&$A30)=\"\",\"\",INDIRECT($B$2&BI$4&$A30))","v":""},{"$f":"IF(INDIRECT($B$2&BJ$4&$A30)=\"\",\"\",INDIRECT($B$2&BJ$4&$A30))","v":""},{"$f":"IF(INDIRECT($B$2&BK$4&$A30)=\"\",\"\",INDIRECT($B$2&BK$4&$A30))","v":""},{"$f":"IF(INDIRECT($B$2&BL$4&$A30)=\"\",\"\",INDIRECT($B$2&BL$4&$A30))","v":""},{"$f":"IF(INDIRECT($B$2&BM$4&$A30)=\"\",\"\",INDIRECT($B$2&BM$4&$A30))","v":""},{"$f":"IF(INDIRECT($B$2&BN$4&$A30)=\"\",\"\",INDIRECT($B$2&BN$4&$A30))","v":""}]
[50,null,null,null,null,null,"省エネ13",{"$f":"IF(INDIRECT($B$2&H$4&$A31)=\"\",\"\",INDIRECT($B$2&H$4&$A31))","v":""},{"$f":"IF(INDIRECT($B$2&I$4&$A31)=\"\",\"\",INDIRECT($B$2&I$4&$A31))","v":""},{"$f":"IF(INDIRECT($B$2&J$4&$A31)=\"\",\"\",INDIRECT($B$2&J$4&$A31))","v":""},{"$f":"IF(INDIRECT($B$2&K$4&$A31)=\"\",\"\",INDIRECT($B$2&K$4&$A31))","v":""},{"$f":"IF(INDIRECT($B$2&L$4&$A31)=\"\",\"\",INDIRECT($B$2&L$4&$A31))","v":""},{"$f":"IF(INDIRECT($B$2&M$4&$A31)=\"\",\"\",INDIRECT($B$2&M$4&$A31))","v":""},{"$f":"IF(INDIRECT($B$2&N$4&$A31)=\"\",\"\",INDIRECT($B$2&N$4&$A31))","v":""},{"$f":"IF(INDIRECT($B$2&O$4&$A31)=\"\",\"\",INDIRECT($B$2&O$4&$A31))","v":""},{"$f":"IF(INDIRECT($B$2&P$4&$A31)=\"\",\"\",INDIRECT($B$2&P$4&$A31))","v":""},{"$f":"IF(INDIRECT($B$2&Q$4&$A31)=\"\",\"\",INDIRECT($B$2&Q$4&$A31))","v":""},{"$f":"IF(INDIRECT($B$2&R$4&$A31)=\"\",\"\",INDIRECT($B$2&R$4&$A31))","v":""},{"$f":"IF(INDIRECT($B$2&S$4&$A31)=\"\",\"\",INDIRECT($B$2&S$4&$A31))","v":""},{"$f":"IF(INDIRECT($B$2&T$4&$A31)=\"\",\"\",INDIRECT($B$2&T$4&$A31))","v":""},{"$f":"IF(INDIRECT($B$2&U$4&$A31)=\"\",\"\",INDIRECT($B$2&U$4&$A31))","v":""},"省エネ13",{"$f":"IF(INDIRECT($B$2&W$4&$A31)=\"\",\"\",INDIRECT($B$2&W$4&$A31))","v":""},{"$f":"IF(INDIRECT($B$2&X$4&$A31)=\"\",\"\",INDIRECT($B$2&X$4&$A31))","v":""},{"$f":"IF(INDIRECT($B$2&Y$4&$A31)=\"\",\"\",INDIRECT($B$2&Y$4&$A31))","v":""},{"$f":"IF(INDIRECT($B$2&Z$4&$A31)=\"\",\"\",INDIRECT($B$2&Z$4&$A31))","v":""},{"$f":"IF(INDIRECT($B$2&AA$4&$A31)=\"\",\"\",INDIRECT($B$2&AA$4&$A31))","v":""},{"$f":"IF(INDIRECT($B$2&AB$4&$A31)=\"\",\"\",INDIRECT($B$2&AB$4&$A31))","v":""},{"$f":"IF(INDIRECT($B$2&AC$4&$A31)=\"\",\"\",INDIRECT($B$2&AC$4&$A31))","v":""},{"$f":"IF(INDIRECT($B$2&AD$4&$A31)=\"\",\"\",INDIRECT($B$2&AD$4&$A31))","v":""},{"$f":"IF(INDIRECT($B$2&AE$4&$A31)=\"\",\"\",INDIRECT($B$2&AE$4&$A31))","v":""},{"$f":"IF(INDIRECT($B$2&AF$4&$A31)=\"\",\"\",INDIRECT($B$2&AF$4&$A31))","v":""},{"$f":"IF(INDIRECT($B$2&AG$4&$A31)=\"\",\"\",INDIRECT($B$2&AG$4&$A31))","v":""},{"$f":"IF(INDIRECT($B$2&AH$4&$A31)=\"\",\"\",INDIRECT($B$2&AH$4&$A31))","v":""},{"$f":"IF(INDIRECT($B$2&AI$4&$A31)=\"\",\"\",INDIRECT($B$2&AI$4&$A31))","v":""},{"$f":"IF(INDIRECT($B$2&AJ$4&$A31)=\"\",\"\",INDIRECT($B$2&AJ$4&$A31))","v":""},"省エネ13",{"$f":"IF(INDIRECT($B$2&AL$4&$A31)=\"\",\"\",INDIRECT($B$2&AL$4&$A31))","v":""},{"$f":"IF(INDIRECT($B$2&AM$4&$A31)=\"\",\"\",INDIRECT($B$2&AM$4&$A31))","v":""},{"$f":"IF(INDIRECT($B$2&AN$4&$A31)=\"\",\"\",INDIRECT($B$2&AN$4&$A31))","v":""},{"$f":"IF(INDIRECT($B$2&AO$4&$A31)=\"\",\"\",INDIRECT($B$2&AO$4&$A31))","v":""},{"$f":"IF(INDIRECT($B$2&AP$4&$A31)=\"\",\"\",INDIRECT($B$2&AP$4&$A31))","v":""},{"$f":"IF(INDIRECT($B$2&AQ$4&$A31)=\"\",\"\",INDIRECT($B$2&AQ$4&$A31))","v":""},{"$f":"IF(INDIRECT($B$2&AR$4&$A31)=\"\",\"\",INDIRECT($B$2&AR$4&$A31))","v":""},{"$f":"IF(INDIRECT($B$2&AS$4&$A31)=\"\",\"\",INDIRECT($B$2&AS$4&$A31))","v":""},{"$f":"IF(INDIRECT($B$2&AT$4&$A31)=\"\",\"\",INDIRECT($B$2&AT$4&$A31))","v":""},{"$f":"IF(INDIRECT($B$2&AU$4&$A31)=\"\",\"\",INDIRECT($B$2&AU$4&$A31))","v":""},{"$f":"IF(INDIRECT($B$2&AV$4&$A31)=\"\",\"\",INDIRECT($B$2&AV$4&$A31))","v":""},{"$f":"IF(INDIRECT($B$2&AW$4&$A31)=\"\",\"\",INDIRECT($B$2&AW$4&$A31))","v":""},{"$f":"IF(INDIRECT($B$2&AX$4&$A31)=\"\",\"\",INDIRECT($B$2&AX$4&$A31))","v":""},{"$f":"IF(INDIRECT($B$2&AY$4&$A31)=\"\",\"\",INDIRECT($B$2&AY$4&$A31))","v":""},"省エネ13",{"$f":"IF(INDIRECT($B$2&BA$4&$A31)=\"\",\"\",INDIRECT($B$2&BA$4&$A31))","v":""},{"$f":"IF(INDIRECT($B$2&BB$4&$A31)=\"\",\"\",INDIRECT($B$2&BB$4&$A31))","v":""},{"$f":"IF(INDIRECT($B$2&BC$4&$A31)=\"\",\"\",INDIRECT($B$2&BC$4&$A31))","v":""},{"$f":"IF(INDIRECT($B$2&BD$4&$A31)=\"\",\"\",INDIRECT($B$2&BD$4&$A31))","v":""},{"$f":"IF(INDIRECT($B$2&BE$4&$A31)=\"\",\"\",INDIRECT($B$2&BE$4&$A31))","v":""},{"$f":"IF(INDIRECT($B$2&BF$4&$A31)=\"\",\"\",INDIRECT($B$2&BF$4&$A31))","v":""},{"$f":"IF(INDIRECT($B$2&BG$4&$A31)=\"\",\"\",INDIRECT($B$2&BG$4&$A31))","v":""},{"$f":"IF(INDIRECT($B$2&BH$4&$A31)=\"\",\"\",INDIRECT($B$2&BH$4&$A31))","v":""},{"$f":"IF(INDIRECT($B$2&BI$4&$A31)=\"\",\"\",INDIRECT($B$2&BI$4&$A31))","v":""},{"$f":"IF(INDIRECT($B$2&BJ$4&$A31)=\"\",\"\",INDIRECT($B$2&BJ$4&$A31))","v":""},{"$f":"IF(INDIRECT($B$2&BK$4&$A31)=\"\",\"\",INDIRECT($B$2&BK$4&$A31))","v":""},{"$f":"IF(INDIRECT($B$2&BL$4&$A31)=\"\",\"\",INDIRECT($B$2&BL$4&$A31))","v":""},{"$f":"IF(INDIRECT($B$2&BM$4&$A31)=\"\",\"\",INDIRECT($B$2&BM$4&$A31))","v":""},{"$f":"IF(INDIRECT($B$2&BN$4&$A31)=\"\",\"\",INDIRECT($B$2&BN$4&$A31))","v":""}]
[51,null,null,null,null,null,"省エネ14",{"$f":"IF(INDIRECT($B$2&H$4&$A32)=\"\",\"\",INDIRECT($B$2&H$4&$A32))","v":""},{"$f":"IF(INDIRECT($B$2&I$4&$A32)=\"\",\"\",INDIRECT($B$2&I$4&$A32))","v":""},{"$f":"IF(INDIRECT($B$2&J$4&$A32)=\"\",\"\",INDIRECT($B$2&J$4&$A32))","v":""},{"$f":"IF(INDIRECT($B$2&K$4&$A32)=\"\",\"\",INDIRECT($B$2&K$4&$A32))","v":""},{"$f":"IF(INDIRECT($B$2&L$4&$A32)=\"\",\"\",INDIRECT($B$2&L$4&$A32))","v":""},{"$f":"IF(INDIRECT($B$2&M$4&$A32)=\"\",\"\",INDIRECT($B$2&M$4&$A32))","v":""},{"$f":"IF(INDIRECT($B$2&N$4&$A32)=\"\",\"\",INDIRECT($B$2&N$4&$A32))","v":""},{"$f":"IF(INDIRECT($B$2&O$4&$A32)=\"\",\"\",INDIRECT($B$2&O$4&$A32))","v":""},{"$f":"IF(INDIRECT($B$2&P$4&$A32)=\"\",\"\",INDIRECT($B$2&P$4&$A32))","v":""},{"$f":"IF(INDIRECT($B$2&Q$4&$A32)=\"\",\"\",INDIRECT($B$2&Q$4&$A32))","v":""},{"$f":"IF(INDIRECT($B$2&R$4&$A32)=\"\",\"\",INDIRECT($B$2&R$4&$A32))","v":""},{"$f":"IF(INDIRECT($B$2&S$4&$A32)=\"\",\"\",INDIRECT($B$2&S$4&$A32))","v":""},{"$f":"IF(INDIRECT($B$2&T$4&$A32)=\"\",\"\",INDIRECT($B$2&T$4&$A32))","v":""},{"$f":"IF(INDIRECT($B$2&U$4&$A32)=\"\",\"\",INDIRECT($B$2&U$4&$A32))","v":""},"省エネ14",{"$f":"IF(INDIRECT($B$2&W$4&$A32)=\"\",\"\",INDIRECT($B$2&W$4&$A32))","v":""},{"$f":"IF(INDIRECT($B$2&X$4&$A32)=\"\",\"\",INDIRECT($B$2&X$4&$A32))","v":""},{"$f":"IF(INDIRECT($B$2&Y$4&$A32)=\"\",\"\",INDIRECT($B$2&Y$4&$A32))","v":""},{"$f":"IF(INDIRECT($B$2&Z$4&$A32)=\"\",\"\",INDIRECT($B$2&Z$4&$A32))","v":""},{"$f":"IF(INDIRECT($B$2&AA$4&$A32)=\"\",\"\",INDIRECT($B$2&AA$4&$A32))","v":""},{"$f":"IF(INDIRECT($B$2&AB$4&$A32)=\"\",\"\",INDIRECT($B$2&AB$4&$A32))","v":""},{"$f":"IF(INDIRECT($B$2&AC$4&$A32)=\"\",\"\",INDIRECT($B$2&AC$4&$A32))","v":""},{"$f":"IF(INDIRECT($B$2&AD$4&$A32)=\"\",\"\",INDIRECT($B$2&AD$4&$A32))","v":""},{"$f":"IF(INDIRECT($B$2&AE$4&$A32)=\"\",\"\",INDIRECT($B$2&AE$4&$A32))","v":""},{"$f":"IF(INDIRECT($B$2&AF$4&$A32)=\"\",\"\",INDIRECT($B$2&AF$4&$A32))","v":""},{"$f":"IF(INDIRECT($B$2&AG$4&$A32)=\"\",\"\",INDIRECT($B$2&AG$4&$A32))","v":""},{"$f":"IF(INDIRECT($B$2&AH$4&$A32)=\"\",\"\",INDIRECT($B$2&AH$4&$A32))","v":""},{"$f":"IF(INDIRECT($B$2&AI$4&$A32)=\"\",\"\",INDIRECT($B$2&AI$4&$A32))","v":""},{"$f":"IF(INDIRECT($B$2&AJ$4&$A32)=\"\",\"\",INDIRECT($B$2&AJ$4&$A32))","v":""},"省エネ14",{"$f":"IF(INDIRECT($B$2&AL$4&$A32)=\"\",\"\",INDIRECT($B$2&AL$4&$A32))","v":""},{"$f":"IF(INDIRECT($B$2&AM$4&$A32)=\"\",\"\",INDIRECT($B$2&AM$4&$A32))","v":""},{"$f":"IF(INDIRECT($B$2&AN$4&$A32)=\"\",\"\",INDIRECT($B$2&AN$4&$A32))","v":""},{"$f":"IF(INDIRECT($B$2&AO$4&$A32)=\"\",\"\",INDIRECT($B$2&AO$4&$A32))","v":""},{"$f":"IF(INDIRECT($B$2&AP$4&$A32)=\"\",\"\",INDIRECT($B$2&AP$4&$A32))","v":""},{"$f":"IF(INDIRECT($B$2&AQ$4&$A32)=\"\",\"\",INDIRECT($B$2&AQ$4&$A32))","v":""},{"$f":"IF(INDIRECT($B$2&AR$4&$A32)=\"\",\"\",INDIRECT($B$2&AR$4&$A32))","v":""},{"$f":"IF(INDIRECT($B$2&AS$4&$A32)=\"\",\"\",INDIRECT($B$2&AS$4&$A32))","v":""},{"$f":"IF(INDIRECT($B$2&AT$4&$A32)=\"\",\"\",INDIRECT($B$2&AT$4&$A32))","v":""},{"$f":"IF(INDIRECT($B$2&AU$4&$A32)=\"\",\"\",INDIRECT($B$2&AU$4&$A32))","v":""},{"$f":"IF(INDIRECT($B$2&AV$4&$A32)=\"\",\"\",INDIRECT($B$2&AV$4&$A32))","v":""},{"$f":"IF(INDIRECT($B$2&AW$4&$A32)=\"\",\"\",INDIRECT($B$2&AW$4&$A32))","v":""},{"$f":"IF(INDIRECT($B$2&AX$4&$A32)=\"\",\"\",INDIRECT($B$2&AX$4&$A32))","v":""},{"$f":"IF(INDIRECT($B$2&AY$4&$A32)=\"\",\"\",INDIRECT($B$2&AY$4&$A32))","v":""},"省エネ14",{"$f":"IF(INDIRECT($B$2&BA$4&$A32)=\"\",\"\",INDIRECT($B$2&BA$4&$A32))","v":""},{"$f":"IF(INDIRECT($B$2&BB$4&$A32)=\"\",\"\",INDIRECT($B$2&BB$4&$A32))","v":""},{"$f":"IF(INDIRECT($B$2&BC$4&$A32)=\"\",\"\",INDIRECT($B$2&BC$4&$A32))","v":""},{"$f":"IF(INDIRECT($B$2&BD$4&$A32)=\"\",\"\",INDIRECT($B$2&BD$4&$A32))","v":""},{"$f":"IF(INDIRECT($B$2&BE$4&$A32)=\"\",\"\",INDIRECT($B$2&BE$4&$A32))","v":""},{"$f":"IF(INDIRECT($B$2&BF$4&$A32)=\"\",\"\",INDIRECT($B$2&BF$4&$A32))","v":""},{"$f":"IF(INDIRECT($B$2&BG$4&$A32)=\"\",\"\",INDIRECT($B$2&BG$4&$A32))","v":""},{"$f":"IF(INDIRECT($B$2&BH$4&$A32)=\"\",\"\",INDIRECT($B$2&BH$4&$A32))","v":""},{"$f":"IF(INDIRECT($B$2&BI$4&$A32)=\"\",\"\",INDIRECT($B$2&BI$4&$A32))","v":""},{"$f":"IF(INDIRECT($B$2&BJ$4&$A32)=\"\",\"\",INDIRECT($B$2&BJ$4&$A32))","v":""},{"$f":"IF(INDIRECT($B$2&BK$4&$A32)=\"\",\"\",INDIRECT($B$2&BK$4&$A32))","v":""},{"$f":"IF(INDIRECT($B$2&BL$4&$A32)=\"\",\"\",INDIRECT($B$2&BL$4&$A32))","v":""},{"$f":"IF(INDIRECT($B$2&BM$4&$A32)=\"\",\"\",INDIRECT($B$2&BM$4&$A32))","v":""},{"$f":"IF(INDIRECT($B$2&BN$4&$A32)=\"\",\"\",INDIRECT($B$2&BN$4&$A32))","v":""}]
[53,null,null,null,null,null,"燃転等4",{"$f":"IF(INDIRECT($B$2&H$4&$A33)=\"\",\"\",INDIRECT($B$2&H$4&$A33))","v":""},{"$f":"IF(INDIRECT($B$2&I$4&$A33)=\"\",\"\",INDIRECT($B$2&I$4&$A33))","v":""},{"$f":"IF(INDIRECT($B$2&J$4&$A33)=\"\",\"\",INDIRECT($B$2&J$4&$A33))","v":""},{"$f":"IF(INDIRECT($B$2&K$4&$A33)=\"\",\"\",INDIRECT($B$2&K$4&$A33))","v":""},{"$f":"IF(INDIRECT($B$2&L$4&$A33)=\"\",\"\",INDIRECT($B$2&L$4&$A33))","v":""},{"$f":"IF(INDIRECT($B$2&M$4&$A33)=\"\",\"\",INDIRECT($B$2&M$4&$A33))","v":""},{"$f":"IF(INDIRECT($B$2&N$4&$A33)=\"\",\"\",INDIRECT($B$2&N$4&$A33))","v":""},{"$f":"IF(INDIRECT($B$2&O$4&$A33)=\"\",\"\",INDIRECT($B$2&O$4&$A33))","v":""},{"$f":"IF(INDIRECT($B$2&P$4&$A33)=\"\",\"\",INDIRECT($B$2&P$4&$A33))","v":""},{"$f":"IF(INDIRECT($B$2&Q$4&$A33)=\"\",\"\",INDIRECT($B$2&Q$4&$A33))","v":""},{"$f":"IF(INDIRECT($B$2&R$4&$A33)=\"\",\"\",INDIRECT($B$2&R$4&$A33))","v":""},{"$f":"IF(INDIRECT($B$2&S$4&$A33)=\"\",\"\",INDIRECT($B$2&S$4&$A33))","v":""},{"$f":"IF(INDIRECT($B$2&T$4&$A33)=\"\",\"\",INDIRECT($B$2&T$4&$A33))","v":""},{"$f":"IF(INDIRECT($B$2&U$4&$A33)=\"\",\"\",INDIRECT($B$2&U$4&$A33))","v":""},"燃転等4",{"$f":"IF(INDIRECT($B$2&W$4&$A33)=\"\",\"\",INDIRECT($B$2&W$4&$A33))","v":""},{"$f":"IF(INDIRECT($B$2&X$4&$A33)=\"\",\"\",INDIRECT($B$2&X$4&$A33))","v":""},{"$f":"IF(INDIRECT($B$2&Y$4&$A33)=\"\",\"\",INDIRECT($B$2&Y$4&$A33))","v":""},{"$f":"IF(INDIRECT($B$2&Z$4&$A33)=\"\",\"\",INDIRECT($B$2&Z$4&$A33))","v":""},{"$f":"IF(INDIRECT($B$2&AA$4&$A33)=\"\",\"\",INDIRECT($B$2&AA$4&$A33))","v":""},{"$f":"IF(INDIRECT($B$2&AB$4&$A33)=\"\",\"\",INDIRECT($B$2&AB$4&$A33))","v":""},{"$f":"IF(INDIRECT($B$2&AC$4&$A33)=\"\",\"\",INDIRECT($B$2&AC$4&$A33))","v":""},{"$f":"IF(INDIRECT($B$2&AD$4&$A33)=\"\",\"\",INDIRECT($B$2&AD$4&$A33))","v":""},{"$f":"IF(INDIRECT($B$2&AE$4&$A33)=\"\",\"\",INDIRECT($B$2&AE$4&$A33))","v":""},{"$f":"IF(INDIRECT($B$2&AF$4&$A33)=\"\",\"\",INDIRECT($B$2&AF$4&$A33))","v":""},{"$f":"IF(INDIRECT($B$2&AG$4&$A33)=\"\",\"\",INDIRECT($B$2&AG$4&$A33))","v":""},{"$f":"IF(INDIRECT($B$2&AH$4&$A33)=\"\",\"\",INDIRECT($B$2&AH$4&$A33))","v":""},{"$f":"IF(INDIRECT($B$2&AI$4&$A33)=\"\",\"\",INDIRECT($B$2&AI$4&$A33))","v":""},{"$f":"IF(INDIRECT($B$2&AJ$4&$A33)=\"\",\"\",INDIRECT($B$2&AJ$4&$A33))","v":""},"燃転等4",{"$f":"IF(INDIRECT($B$2&AL$4&$A33)=\"\",\"\",INDIRECT($B$2&AL$4&$A33))","v":""},{"$f":"IF(INDIRECT($B$2&AM$4&$A33)=\"\",\"\",INDIRECT($B$2&AM$4&$A33))","v":""},{"$f":"IF(INDIRECT($B$2&AN$4&$A33)=\"\",\"\",INDIRECT($B$2&AN$4&$A33))","v":""},{"$f":"IF(INDIRECT($B$2&AO$4&$A33)=\"\",\"\",INDIRECT($B$2&AO$4&$A33))","v":""},{"$f":"IF(INDIRECT($B$2&AP$4&$A33)=\"\",\"\",INDIRECT($B$2&AP$4&$A33))","v":""},{"$f":"IF(INDIRECT($B$2&AQ$4&$A33)=\"\",\"\",INDIRECT($B$2&AQ$4&$A33))","v":""},{"$f":"IF(INDIRECT($B$2&AR$4&$A33)=\"\",\"\",INDIRECT($B$2&AR$4&$A33))","v":""},{"$f":"IF(INDIRECT($B$2&AS$4&$A33)=\"\",\"\",INDIRECT($B$2&AS$4&$A33))","v":""},{"$f":"IF(INDIRECT($B$2&AT$4&$A33)=\"\",\"\",INDIRECT($B$2&AT$4&$A33))","v":""},{"$f":"IF(INDIRECT($B$2&AU$4&$A33)=\"\",\"\",INDIRECT($B$2&AU$4&$A33))","v":""},{"$f":"IF(INDIRECT($B$2&AV$4&$A33)=\"\",\"\",INDIRECT($B$2&AV$4&$A33))","v":""},{"$f":"IF(INDIRECT($B$2&AW$4&$A33)=\"\",\"\",INDIRECT($B$2&AW$4&$A33))","v":""},{"$f":"IF(INDIRECT($B$2&AX$4&$A33)=\"\",\"\",INDIRECT($B$2&AX$4&$A33))","v":""},{"$f":"IF(INDIRECT($B$2&AY$4&$A33)=\"\",\"\",INDIRECT($B$2&AY$4&$A33))","v":""},"燃転等4",{"$f":"IF(INDIRECT($B$2&BA$4&$A33)=\"\",\"\",INDIRECT($B$2&BA$4&$A33))","v":""},{"$f":"IF(INDIRECT($B$2&BB$4&$A33)=\"\",\"\",INDIRECT($B$2&BB$4&$A33))","v":""},{"$f":"IF(INDIRECT($B$2&BC$4&$A33)=\"\",\"\",INDIRECT($B$2&BC$4&$A33))","v":""},{"$f":"IF(INDIRECT($B$2&BD$4&$A33)=\"\",\"\",INDIRECT($B$2&BD$4&$A33))","v":""},{"$f":"IF(INDIRECT($B$2&BE$4&$A33)=\"\",\"\",INDIRECT($B$2&BE$4&$A33))","v":""},{"$f":"IF(INDIRECT($B$2&BF$4&$A33)=\"\",\"\",INDIRECT($B$2&BF$4&$A33))","v":""},{"$f":"IF(INDIRECT($B$2&BG$4&$A33)=\"\",\"\",INDIRECT($B$2&BG$4&$A33))","v":""},{"$f":"IF(INDIRECT($B$2&BH$4&$A33)=\"\",\"\",INDIRECT($B$2&BH$4&$A33))","v":""},{"$f":"IF(INDIRECT($B$2&BI$4&$A33)=\"\",\"\",INDIRECT($B$2&BI$4&$A33))","v":""},{"$f":"IF(INDIRECT($B$2&BJ$4&$A33)=\"\",\"\",INDIRECT($B$2&BJ$4&$A33))","v":""},{"$f":"IF(INDIRECT($B$2&BK$4&$A33)=\"\",\"\",INDIRECT($B$2&BK$4&$A33))","v":""},{"$f":"IF(INDIRECT($B$2&BL$4&$A33)=\"\",\"\",INDIRECT($B$2&BL$4&$A33))","v":""},{"$f":"IF(INDIRECT($B$2&BM$4&$A33)=\"\",\"\",INDIRECT($B$2&BM$4&$A33))","v":""},{"$f":"IF(INDIRECT($B$2&BN$4&$A33)=\"\",\"\",INDIRECT($B$2&BN$4&$A33))","v":""}]
[54,null,null,null,null,null,"燃転等5",{"$f":"IF(INDIRECT($B$2&H$4&$A34)=\"\",\"\",INDIRECT($B$2&H$4&$A34))","v":""},{"$f":"IF(INDIRECT($B$2&I$4&$A34)=\"\",\"\",INDIRECT($B$2&I$4&$A34))","v":""},{"$f":"IF(INDIRECT($B$2&J$4&$A34)=\"\",\"\",INDIRECT($B$2&J$4&$A34))","v":""},{"$f":"IF(INDIRECT($B$2&K$4&$A34)=\"\",\"\",INDIRECT($B$2&K$4&$A34))","v":""},{"$f":"IF(INDIRECT($B$2&L$4&$A34)=\"\",\"\",INDIRECT($B$2&L$4&$A34))","v":""},{"$f":"IF(INDIRECT($B$2&M$4&$A34)=\"\",\"\",INDIRECT($B$2&M$4&$A34))","v":""},{"$f":"IF(INDIRECT($B$2&N$4&$A34)=\"\",\"\",INDIRECT($B$2&N$4&$A34))","v":""},{"$f":"IF(INDIRECT($B$2&O$4&$A34)=\"\",\"\",INDIRECT($B$2&O$4&$A34))","v":""},{"$f":"IF(INDIRECT($B$2&P$4&$A34)=\"\",\"\",INDIRECT($B$2&P$4&$A34))","v":""},{"$f":"IF(INDIRECT($B$2&Q$4&$A34)=\"\",\"\",INDIRECT($B$2&Q$4&$A34))","v":""},{"$f":"IF(INDIRECT($B$2&R$4&$A34)=\"\",\"\",INDIRECT($B$2&R$4&$A34))","v":""},{"$f":"IF(INDIRECT($B$2&S$4&$A34)=\"\",\"\",INDIRECT($B$2&S$4&$A34))","v":""},{"$f":"IF(INDIRECT($B$2&T$4&$A34)=\"\",\"\",INDIRECT($B$2&T$4&$A34))","v":""},{"$f":"IF(INDIRECT($B$2&U$4&$A34)=\"\",\"\",INDIRECT($B$2&U$4&$A34))","v":""},"燃転等5",{"$f":"IF(INDIRECT($B$2&W$4&$A34)=\"\",\"\",INDIRECT($B$2&W$4&$A34))","v":""},{"$f":"IF(INDIRECT($B$2&X$4&$A34)=\"\",\"\",INDIRECT($B$2&X$4&$A34))","v":""},{"$f":"IF(INDIRECT($B$2&Y$4&$A34)=\"\",\"\",INDIRECT($B$2&Y$4&$A34))","v":""},{"$f":"IF(INDIRECT($B$2&Z$4&$A34)=\"\",\"\",INDIRECT($B$2&Z$4&$A34))","v":""},{"$f":"IF(INDIRECT($B$2&AA$4&$A34)=\"\",\"\",INDIRECT($B$2&AA$4&$A34))","v":""},{"$f":"IF(INDIRECT($B$2&AB$4&$A34)=\"\",\"\",INDIRECT($B$2&AB$4&$A34))","v":""},{"$f":"IF(INDIRECT($B$2&AC$4&$A34)=\"\",\"\",INDIRECT($B$2&AC$4&$A34))","v":""},{"$f":"IF(INDIRECT($B$2&AD$4&$A34)=\"\",\"\",INDIRECT($B$2&AD$4&$A34))","v":""},{"$f":"IF(INDIRECT($B$2&AE$4&$A34)=\"\",\"\",INDIRECT($B$2&AE$4&$A34))","v":""},{"$f":"IF(INDIRECT($B$2&AF$4&$A34)=\"\",\"\",INDIRECT($B$2&AF$4&$A34))","v":""},{"$f":"IF(INDIRECT($B$2&AG$4&$A34)=\"\",\"\",INDIRECT($B$2&AG$4&$A34))","v":""},{"$f":"IF(INDIRECT($B$2&AH$4&$A34)=\"\",\"\",INDIRECT($B$2&AH$4&$A34))","v":""},{"$f":"IF(INDIRECT($B$2&AI$4&$A34)=\"\",\"\",INDIRECT($B$2&AI$4&$A34))","v":""},{"$f":"IF(INDIRECT($B$2&AJ$4&$A34)=\"\",\"\",INDIRECT($B$2&AJ$4&$A34))","v":""},"燃転等5",{"$f":"IF(INDIRECT($B$2&AL$4&$A34)=\"\",\"\",INDIRECT($B$2&AL$4&$A34))","v":""},{"$f":"IF(INDIRECT($B$2&AM$4&$A34)=\"\",\"\",INDIRECT($B$2&AM$4&$A34))","v":""},{"$f":"IF(INDIRECT($B$2&AN$4&$A34)=\"\",\"\",INDIRECT($B$2&AN$4&$A34))","v":""},{"$f":"IF(INDIRECT($B$2&AO$4&$A34)=\"\",\"\",INDIRECT($B$2&AO$4&$A34))","v":""},{"$f":"IF(INDIRECT($B$2&AP$4&$A34)=\"\",\"\",INDIRECT($B$2&AP$4&$A34))","v":""},{"$f":"IF(INDIRECT($B$2&AQ$4&$A34)=\"\",\"\",INDIRECT($B$2&AQ$4&$A34))","v":""},{"$f":"IF(INDIRECT($B$2&AR$4&$A34)=\"\",\"\",INDIRECT($B$2&AR$4&$A34))","v":""},{"$f":"IF(INDIRECT($B$2&AS$4&$A34)=\"\",\"\",INDIRECT($B$2&AS$4&$A34))","v":""},{"$f":"IF(INDIRECT($B$2&AT$4&$A34)=\"\",\"\",INDIRECT($B$2&AT$4&$A34))","v":""},{"$f":"IF(INDIRECT($B$2&AU$4&$A34)=\"\",\"\",INDIRECT($B$2&AU$4&$A34))","v":""},{"$f":"IF(INDIRECT($B$2&AV$4&$A34)=\"\",\"\",INDIRECT($B$2&AV$4&$A34))","v":""},{"$f":"IF(INDIRECT($B$2&AW$4&$A34)=\"\",\"\",INDIRECT($B$2&AW$4&$A34))","v":""},{"$f":"IF(INDIRECT($B$2&AX$4&$A34)=\"\",\"\",INDIRECT($B$2&AX$4&$A34))","v":""},{"$f":"IF(INDIRECT($B$2&AY$4&$A34)=\"\",\"\",INDIRECT($B$2&AY$4&$A34))","v":""},"燃転等5",{"$f":"IF(INDIRECT($B$2&BA$4&$A34)=\"\",\"\",INDIRECT($B$2&BA$4&$A34))","v":""},{"$f":"IF(INDIRECT($B$2&BB$4&$A34)=\"\",\"\",INDIRECT($B$2&BB$4&$A34))","v":""},{"$f":"IF(INDIRECT($B$2&BC$4&$A34)=\"\",\"\",INDIRECT($B$2&BC$4&$A34))","v":""},{"$f":"IF(INDIRECT($B$2&BD$4&$A34)=\"\",\"\",INDIRECT($B$2&BD$4&$A34))","v":""},{"$f":"IF(INDIRECT($B$2&BE$4&$A34)=\"\",\"\",INDIRECT($B$2&BE$4&$A34))","v":""},{"$f":"IF(INDIRECT($B$2&BF$4&$A34)=\"\",\"\",INDIRECT($B$2&BF$4&$A34))","v":""},{"$f":"IF(INDIRECT($B$2&BG$4&$A34)=\"\",\"\",INDIRECT($B$2&BG$4&$A34))","v":""},{"$f":"IF(INDIRECT($B$2&BH$4&$A34)=\"\",\"\",INDIRECT($B$2&BH$4&$A34))","v":""},{"$f":"IF(INDIRECT($B$2&BI$4&$A34)=\"\",\"\",INDIRECT($B$2&BI$4&$A34))","v":""},{"$f":"IF(INDIRECT($B$2&BJ$4&$A34)=\"\",\"\",INDIRECT($B$2&BJ$4&$A34))","v":""},{"$f":"IF(INDIRECT($B$2&BK$4&$A34)=\"\",\"\",INDIRECT($B$2&BK$4&$A34))","v":""},{"$f":"IF(INDIRECT($B$2&BL$4&$A34)=\"\",\"\",INDIRECT($B$2&BL$4&$A34))","v":""},{"$f":"IF(INDIRECT($B$2&BM$4&$A34)=\"\",\"\",INDIRECT($B$2&BM$4&$A34))","v":""},{"$f":"IF(INDIRECT($B$2&BN$4&$A34)=\"\",\"\",INDIRECT($B$2&BN$4&$A34))","v":""}]
[55,null,null,null,null,null,"燃転等6",{"$f":"IF(INDIRECT($B$2&H$4&$A35)=\"\",\"\",INDIRECT($B$2&H$4&$A35))","v":""},{"$f":"IF(INDIRECT($B$2&I$4&$A35)=\"\",\"\",INDIRECT($B$2&I$4&$A35))","v":""},{"$f":"IF(INDIRECT($B$2&J$4&$A35)=\"\",\"\",INDIRECT($B$2&J$4&$A35))","v":""},{"$f":"IF(INDIRECT($B$2&K$4&$A35)=\"\",\"\",INDIRECT($B$2&K$4&$A35))","v":""},{"$f":"IF(INDIRECT($B$2&L$4&$A35)=\"\",\"\",INDIRECT($B$2&L$4&$A35))","v":""},{"$f":"IF(INDIRECT($B$2&M$4&$A35)=\"\",\"\",INDIRECT($B$2&M$4&$A35))","v":""},{"$f":"IF(INDIRECT($B$2&N$4&$A35)=\"\",\"\",INDIRECT($B$2&N$4&$A35))","v":""},{"$f":"IF(INDIRECT($B$2&O$4&$A35)=\"\",\"\",INDIRECT($B$2&O$4&$A35))","v":""},{"$f":"IF(INDIRECT($B$2&P$4&$A35)=\"\",\"\",INDIRECT($B$2&P$4&$A35))","v":""},{"$f":"IF(INDIRECT($B$2&Q$4&$A35)=\"\",\"\",INDIRECT($B$2&Q$4&$A35))","v":""},{"$f":"IF(INDIRECT($B$2&R$4&$A35)=\"\",\"\",INDIRECT($B$2&R$4&$A35))","v":""},{"$f":"IF(INDIRECT($B$2&S$4&$A35)=\"\",\"\",INDIRECT($B$2&S$4&$A35))","v":""},{"$f":"IF(INDIRECT($B$2&T$4&$A35)=\"\",\"\",INDIRECT($B$2&T$4&$A35))","v":""},{"$f":"IF(INDIRECT($B$2&U$4&$A35)=\"\",\"\",INDIRECT($B$2&U$4&$A35))","v":""},"燃転等6",{"$f":"IF(INDIRECT($B$2&W$4&$A35)=\"\",\"\",INDIRECT($B$2&W$4&$A35))","v":""},{"$f":"IF(INDIRECT($B$2&X$4&$A35)=\"\",\"\",INDIRECT($B$2&X$4&$A35))","v":""},{"$f":"IF(INDIRECT($B$2&Y$4&$A35)=\"\",\"\",INDIRECT($B$2&Y$4&$A35))","v":""},{"$f":"IF(INDIRECT($B$2&Z$4&$A35)=\"\",\"\",INDIRECT($B$2&Z$4&$A35))","v":""},{"$f":"IF(INDIRECT($B$2&AA$4&$A35)=\"\",\"\",INDIRECT($B$2&AA$4&$A35))","v":""},{"$f":"IF(INDIRECT($B$2&AB$4&$A35)=\"\",\"\",INDIRECT($B$2&AB$4&$A35))","v":""},{"$f":"IF(INDIRECT($B$2&AC$4&$A35)=\"\",\"\",INDIRECT($B$2&AC$4&$A35))","v":""},{"$f":"IF(INDIRECT($B$2&AD$4&$A35)=\"\",\"\",INDIRECT($B$2&AD$4&$A35))","v":""},{"$f":"IF(INDIRECT($B$2&AE$4&$A35)=\"\",\"\",INDIRECT($B$2&AE$4&$A35))","v":""},{"$f":"IF(INDIRECT($B$2&AF$4&$A35)=\"\",\"\",INDIRECT($B$2&AF$4&$A35))","v":""},{"$f":"IF(INDIRECT($B$2&AG$4&$A35)=\"\",\"\",INDIRECT($B$2&AG$4&$A35))","v":""},{"$f":"IF(INDIRECT($B$2&AH$4&$A35)=\"\",\"\",INDIRECT($B$2&AH$4&$A35))","v":""},{"$f":"IF(INDIRECT($B$2&AI$4&$A35)=\"\",\"\",INDIRECT($B$2&AI$4&$A35))","v":""},{"$f":"IF(INDIRECT($B$2&AJ$4&$A35)=\"\",\"\",INDIRECT($B$2&AJ$4&$A35))","v":""},"燃転等6",{"$f":"IF(INDIRECT($B$2&AL$4&$A35)=\"\",\"\",INDIRECT($B$2&AL$4&$A35))","v":""},{"$f":"IF(INDIRECT($B$2&AM$4&$A35)=\"\",\"\",INDIRECT($B$2&AM$4&$A35))","v":""},{"$f":"IF(INDIRECT($B$2&AN$4&$A35)=\"\",\"\",INDIRECT($B$2&AN$4&$A35))","v":""},{"$f":"IF(INDIRECT($B$2&AO$4&$A35)=\"\",\"\",INDIRECT($B$2&AO$4&$A35))","v":""},{"$f":"IF(INDIRECT($B$2&AP$4&$A35)=\"\",\"\",INDIRECT($B$2&AP$4&$A35))","v":""},{"$f":"IF(INDIRECT($B$2&AQ$4&$A35)=\"\",\"\",INDIRECT($B$2&AQ$4&$A35))","v":""},{"$f":"IF(INDIRECT($B$2&AR$4&$A35)=\"\",\"\",INDIRECT($B$2&AR$4&$A35))","v":""},{"$f":"IF(INDIRECT($B$2&AS$4&$A35)=\"\",\"\",INDIRECT($B$2&AS$4&$A35))","v":""},{"$f":"IF(INDIRECT($B$2&AT$4&$A35)=\"\",\"\",INDIRECT($B$2&AT$4&$A35))","v":""},{"$f":"IF(INDIRECT($B$2&AU$4&$A35)=\"\",\"\",INDIRECT($B$2&AU$4&$A35))","v":""},{"$f":"IF(INDIRECT($B$2&AV$4&$A35)=\"\",\"\",INDIRECT($B$2&AV$4&$A35))","v":""},{"$f":"IF(INDIRECT($B$2&AW$4&$A35)=\"\",\"\",INDIRECT($B$2&AW$4&$A35))","v":""},{"$f":"IF(INDIRECT($B$2&AX$4&$A35)=\"\",\"\",INDIRECT($B$2&AX$4&$A35))","v":""},{"$f":"IF(INDIRECT($B$2&AY$4&$A35)=\"\",\"\",INDIRECT($B$2&AY$4&$A35))","v":""},"燃転等6",{"$f":"IF(INDIRECT($B$2&BA$4&$A35)=\"\",\"\",INDIRECT($B$2&BA$4&$A35))","v":""},{"$f":"IF(INDIRECT($B$2&BB$4&$A35)=\"\",\"\",INDIRECT($B$2&BB$4&$A35))","v":""},{"$f":"IF(INDIRECT($B$2&BC$4&$A35)=\"\",\"\",INDIRECT($B$2&BC$4&$A35))","v":""},{"$f":"IF(INDIRECT($B$2&BD$4&$A35)=\"\",\"\",INDIRECT($B$2&BD$4&$A35))","v":""},{"$f":"IF(INDIRECT($B$2&BE$4&$A35)=\"\",\"\",INDIRECT($B$2&BE$4&$A35))","v":""},{"$f":"IF(INDIRECT($B$2&BF$4&$A35)=\"\",\"\",INDIRECT($B$2&BF$4&$A35))","v":""},{"$f":"IF(INDIRECT($B$2&BG$4&$A35)=\"\",\"\",INDIRECT($B$2&BG$4&$A35))","v":""},{"$f":"IF(INDIRECT($B$2&BH$4&$A35)=\"\",\"\",INDIRECT($B$2&BH$4&$A35))","v":""},{"$f":"IF(INDIRECT($B$2&BI$4&$A35)=\"\",\"\",INDIRECT($B$2&BI$4&$A35))","v":""},{"$f":"IF(INDIRECT($B$2&BJ$4&$A35)=\"\",\"\",INDIRECT($B$2&BJ$4&$A35))","v":""},{"$f":"IF(INDIRECT($B$2&BK$4&$A35)=\"\",\"\",INDIRECT($B$2&BK$4&$A35))","v":""},{"$f":"IF(INDIRECT($B$2&BL$4&$A35)=\"\",\"\",INDIRECT($B$2&BL$4&$A35))","v":""},{"$f":"IF(INDIRECT($B$2&BM$4&$A35)=\"\",\"\",INDIRECT($B$2&BM$4&$A35))","v":""},{"$f":"IF(INDIRECT($B$2&BN$4&$A35)=\"\",\"\",INDIRECT($B$2&BN$4&$A35))","v":""}]
[57,null,null,null,null,null,"電力切替3",{"$f":"IF(INDIRECT($B$2&H$4&$A36)=\"\",\"\",INDIRECT($B$2&H$4&$A36))","v":""},{"$f":"IF(INDIRECT($B$2&I$4&$A36)=\"\",\"\",INDIRECT($B$2&I$4&$A36))","v":""},{"$f":"IF(INDIRECT($B$2&J$4&$A36)=\"\",\"\",INDIRECT($B$2&J$4&$A36))","v":""},{"$f":"IF(INDIRECT($B$2&K$4&$A36)=\"\",\"\",INDIRECT($B$2&K$4&$A36))","v":""},{"$f":"IF(INDIRECT($B$2&L$4&$A36)=\"\",\"\",INDIRECT($B$2&L$4&$A36))","v":""},{"$f":"IF(INDIRECT($B$2&M$4&$A36)=\"\",\"\",INDIRECT($B$2&M$4&$A36))","v":""},{"$f":"IF(INDIRECT($B$2&N$4&$A36)=\"\",\"\",INDIRECT($B$2&N$4&$A36))","v":""},{"$f":"IF(INDIRECT($B$2&O$4&$A36)=\"\",\"\",INDIRECT($B$2&O$4&$A36))","v":""},{"$f":"IF(INDIRECT($B$2&P$4&$A36)=\"\",\"\",INDIRECT($B$2&P$4&$A36))","v":""},{"$f":"IF(INDIRECT($B$2&Q$4&$A36)=\"\",\"\",INDIRECT($B$2&Q$4&$A36))","v":""},{"$f":"IF(INDIRECT($B$2&R$4&$A36)=\"\",\"\",INDIRECT($B$2&R$4&$A36))","v":""},{"$f":"IF(INDIRECT($B$2&S$4&$A36)=\"\",\"\",INDIRECT($B$2&S$4&$A36))","v":""},{"$f":"IF(INDIRECT($B$2&T$4&$A36)=\"\",\"\",INDIRECT($B$2&T$4&$A36))","v":""},{"$f":"IF(INDIRECT($B$2&U$4&$A36)=\"\",\"\",INDIRECT($B$2&U$4&$A36))","v":""},"電力切替3",{"$f":"IF(INDIRECT($B$2&W$4&$A36)=\"\",\"\",INDIRECT($B$2&W$4&$A36))","v":""},{"$f":"IF(INDIRECT($B$2&X$4&$A36)=\"\",\"\",INDIRECT($B$2&X$4&$A36))","v":""},{"$f":"IF(INDIRECT($B$2&Y$4&$A36)=\"\",\"\",INDIRECT($B$2&Y$4&$A36))","v":""},{"$f":"IF(INDIRECT($B$2&Z$4&$A36)=\"\",\"\",INDIRECT($B$2&Z$4&$A36))","v":""},{"$f":"IF(INDIRECT($B$2&AA$4&$A36)=\"\",\"\",INDIRECT($B$2&AA$4&$A36))","v":""},{"$f":"IF(INDIRECT($B$2&AB$4&$A36)=\"\",\"\",INDIRECT($B$2&AB$4&$A36))","v":""},{"$f":"IF(INDIRECT($B$2&AC$4&$A36)=\"\",\"\",INDIRECT($B$2&AC$4&$A36))","v":""},{"$f":"IF(INDIRECT($B$2&AD$4&$A36)=\"\",\"\",INDIRECT($B$2&AD$4&$A36))","v":""},{"$f":"IF(INDIRECT($B$2&AE$4&$A36)=\"\",\"\",INDIRECT($B$2&AE$4&$A36))","v":""},{"$f":"IF(INDIRECT($B$2&AF$4&$A36)=\"\",\"\",INDIRECT($B$2&AF$4&$A36))","v":""},{"$f":"IF(INDIRECT($B$2&AG$4&$A36)=\"\",\"\",INDIRECT($B$2&AG$4&$A36))","v":""},{"$f":"IF(INDIRECT($B$2&AH$4&$A36)=\"\",\"\",INDIRECT($B$2&AH$4&$A36))","v":""},{"$f":"IF(INDIRECT($B$2&AI$4&$A36)=\"\",\"\",INDIRECT($B$2&AI$4&$A36))","v":""},{"$f":"IF(INDIRECT($B$2&AJ$4&$A36)=\"\",\"\",INDIRECT($B$2&AJ$4&$A36))","v":""},"電力切替3",{"$f":"IF(INDIRECT($B$2&AL$4&$A36)=\"\",\"\",INDIRECT($B$2&AL$4&$A36))","v":""},{"$f":"IF(INDIRECT($B$2&AM$4&$A36)=\"\",\"\",INDIRECT($B$2&AM$4&$A36))","v":""},{"$f":"IF(INDIRECT($B$2&AN$4&$A36)=\"\",\"\",INDIRECT($B$2&AN$4&$A36))","v":""},{"$f":"IF(INDIRECT($B$2&AO$4&$A36)=\"\",\"\",INDIRECT($B$2&AO$4&$A36))","v":""},{"$f":"IF(INDIRECT($B$2&AP$4&$A36)=\"\",\"\",INDIRECT($B$2&AP$4&$A36))","v":""},{"$f":"IF(INDIRECT($B$2&AQ$4&$A36)=\"\",\"\",INDIRECT($B$2&AQ$4&$A36))","v":""},{"$f":"IF(INDIRECT($B$2&AR$4&$A36)=\"\",\"\",INDIRECT($B$2&AR$4&$A36))","v":""},{"$f":"IF(INDIRECT($B$2&AS$4&$A36)=\"\",\"\",INDIRECT($B$2&AS$4&$A36))","v":""},{"$f":"IF(INDIRECT($B$2&AT$4&$A36)=\"\",\"\",INDIRECT($B$2&AT$4&$A36))","v":""},{"$f":"IF(INDIRECT($B$2&AU$4&$A36)=\"\",\"\",INDIRECT($B$2&AU$4&$A36))","v":""},{"$f":"IF(INDIRECT($B$2&AV$4&$A36)=\"\",\"\",INDIRECT($B$2&AV$4&$A36))","v":""},{"$f":"IF(INDIRECT($B$2&AW$4&$A36)=\"\",\"\",INDIRECT($B$2&AW$4&$A36))","v":""},{"$f":"IF(INDIRECT($B$2&AX$4&$A36)=\"\",\"\",INDIRECT($B$2&AX$4&$A36))","v":""},{"$f":"IF(INDIRECT($B$2&AY$4&$A36)=\"\",\"\",INDIRECT($B$2&AY$4&$A36))","v":""},"電力切替3",{"$f":"IF(INDIRECT($B$2&BA$4&$A36)=\"\",\"\",INDIRECT($B$2&BA$4&$A36))","v":""},{"$f":"IF(INDIRECT($B$2&BB$4&$A36)=\"\",\"\",INDIRECT($B$2&BB$4&$A36))","v":""},{"$f":"IF(INDIRECT($B$2&BC$4&$A36)=\"\",\"\",INDIRECT($B$2&BC$4&$A36))","v":""},{"$f":"IF(INDIRECT($B$2&BD$4&$A36)=\"\",\"\",INDIRECT($B$2&BD$4&$A36))","v":""},{"$f":"IF(INDIRECT($B$2&BE$4&$A36)=\"\",\"\",INDIRECT($B$2&BE$4&$A36))","v":""},{"$f":"IF(INDIRECT($B$2&BF$4&$A36)=\"\",\"\",INDIRECT($B$2&BF$4&$A36))","v":""},{"$f":"IF(INDIRECT($B$2&BG$4&$A36)=\"\",\"\",INDIRECT($B$2&BG$4&$A36))","v":""},{"$f":"IF(INDIRECT($B$2&BH$4&$A36)=\"\",\"\",INDIRECT($B$2&BH$4&$A36))","v":""},{"$f":"IF(INDIRECT($B$2&BI$4&$A36)=\"\",\"\",INDIRECT($B$2&BI$4&$A36))","v":""},{"$f":"IF(INDIRECT($B$2&BJ$4&$A36)=\"\",\"\",INDIRECT($B$2&BJ$4&$A36))","v":""},{"$f":"IF(INDIRECT($B$2&BK$4&$A36)=\"\",\"\",INDIRECT($B$2&BK$4&$A36))","v":""},{"$f":"IF(INDIRECT($B$2&BL$4&$A36)=\"\",\"\",INDIRECT($B$2&BL$4&$A36))","v":""},{"$f":"IF(INDIRECT($B$2&BM$4&$A36)=\"\",\"\",INDIRECT($B$2&BM$4&$A36))","v":""},{"$f":"IF(INDIRECT($B$2&BN$4&$A36)=\"\",\"\",INDIRECT($B$2&BN$4&$A36))","v":""}]
[58,null,null,null,null,null,"電力切替4",{"$f":"IF(INDIRECT($B$2&H$4&$A37)=\"\",\"\",INDIRECT($B$2&H$4&$A37))","v":""},{"$f":"IF(INDIRECT($B$2&I$4&$A37)=\"\",\"\",INDIRECT($B$2&I$4&$A37))","v":""},{"$f":"IF(INDIRECT($B$2&J$4&$A37)=\"\",\"\",INDIRECT($B$2&J$4&$A37))","v":""},{"$f":"IF(INDIRECT($B$2&K$4&$A37)=\"\",\"\",INDIRECT($B$2&K$4&$A37))","v":""},{"$f":"IF(INDIRECT($B$2&L$4&$A37)=\"\",\"\",INDIRECT($B$2&L$4&$A37))","v":""},{"$f":"IF(INDIRECT($B$2&M$4&$A37)=\"\",\"\",INDIRECT($B$2&M$4&$A37))","v":""},{"$f":"IF(INDIRECT($B$2&N$4&$A37)=\"\",\"\",INDIRECT($B$2&N$4&$A37))","v":""},{"$f":"IF(INDIRECT($B$2&O$4&$A37)=\"\",\"\",INDIRECT($B$2&O$4&$A37))","v":""},{"$f":"IF(INDIRECT($B$2&P$4&$A37)=\"\",\"\",INDIRECT($B$2&P$4&$A37))","v":""},{"$f":"IF(INDIRECT($B$2&Q$4&$A37)=\"\",\"\",INDIRECT($B$2&Q$4&$A37))","v":""},{"$f":"IF(INDIRECT($B$2&R$4&$A37)=\"\",\"\",INDIRECT($B$2&R$4&$A37))","v":""},{"$f":"IF(INDIRECT($B$2&S$4&$A37)=\"\",\"\",INDIRECT($B$2&S$4&$A37))","v":""},{"$f":"IF(INDIRECT($B$2&T$4&$A37)=\"\",\"\",INDIRECT($B$2&T$4&$A37))","v":""},{"$f":"IF(INDIRECT($B$2&U$4&$A37)=\"\",\"\",INDIRECT($B$2&U$4&$A37))","v":""},"電力切替4",{"$f":"IF(INDIRECT($B$2&W$4&$A37)=\"\",\"\",INDIRECT($B$2&W$4&$A37))","v":""},{"$f":"IF(INDIRECT($B$2&X$4&$A37)=\"\",\"\",INDIRECT($B$2&X$4&$A37))","v":""},{"$f":"IF(INDIRECT($B$2&Y$4&$A37)=\"\",\"\",INDIRECT($B$2&Y$4&$A37))","v":""},{"$f":"IF(INDIRECT($B$2&Z$4&$A37)=\"\",\"\",INDIRECT($B$2&Z$4&$A37))","v":""},{"$f":"IF(INDIRECT($B$2&AA$4&$A37)=\"\",\"\",INDIRECT($B$2&AA$4&$A37))","v":""},{"$f":"IF(INDIRECT($B$2&AB$4&$A37)=\"\",\"\",INDIRECT($B$2&AB$4&$A37))","v":""},{"$f":"IF(INDIRECT($B$2&AC$4&$A37)=\"\",\"\",INDIRECT($B$2&AC$4&$A37))","v":""},{"$f":"IF(INDIRECT($B$2&AD$4&$A37)=\"\",\"\",INDIRECT($B$2&AD$4&$A37))","v":""},{"$f":"IF(INDIRECT($B$2&AE$4&$A37)=\"\",\"\",INDIRECT($B$2&AE$4&$A37))","v":""},{"$f":"IF(INDIRECT($B$2&AF$4&$A37)=\"\",\"\",INDIRECT($B$2&AF$4&$A37))","v":""},{"$f":"IF(INDIRECT($B$2&AG$4&$A37)=\"\",\"\",INDIRECT($B$2&AG$4&$A37))","v":""},{"$f":"IF(INDIRECT($B$2&AH$4&$A37)=\"\",\"\",INDIRECT($B$2&AH$4&$A37))","v":""},{"$f":"IF(INDIRECT($B$2&AI$4&$A37)=\"\",\"\",INDIRECT($B$2&AI$4&$A37))","v":""},{"$f":"IF(INDIRECT($B$2&AJ$4&$A37)=\"\",\"\",INDIRECT($B$2&AJ$4&$A37))","v":""},"電力切替4",{"$f":"IF(INDIRECT($B$2&AL$4&$A37)=\"\",\"\",INDIRECT($B$2&AL$4&$A37))","v":""},{"$f":"IF(INDIRECT($B$2&AM$4&$A37)=\"\",\"\",INDIRECT($B$2&AM$4&$A37))","v":""},{"$f":"IF(INDIRECT($B$2&AN$4&$A37)=\"\",\"\",INDIRECT($B$2&AN$4&$A37))","v":""},{"$f":"IF(INDIRECT($B$2&AO$4&$A37)=\"\",\"\",INDIRECT($B$2&AO$4&$A37))","v":""},{"$f":"IF(INDIRECT($B$2&AP$4&$A37)=\"\",\"\",INDIRECT($B$2&AP$4&$A37))","v":""},{"$f":"IF(INDIRECT($B$2&AQ$4&$A37)=\"\",\"\",INDIRECT($B$2&AQ$4&$A37))","v":""},{"$f":"IF(INDIRECT($B$2&AR$4&$A37)=\"\",\"\",INDIRECT($B$2&AR$4&$A37))","v":""},{"$f":"IF(INDIRECT($B$2&AS$4&$A37)=\"\",\"\",INDIRECT($B$2&AS$4&$A37))","v":""},{"$f":"IF(INDIRECT($B$2&AT$4&$A37)=\"\",\"\",INDIRECT($B$2&AT$4&$A37))","v":""},{"$f":"IF(INDIRECT($B$2&AU$4&$A37)=\"\",\"\",INDIRECT($B$2&AU$4&$A37))","v":""},{"$f":"IF(INDIRECT($B$2&AV$4&$A37)=\"\",\"\",INDIRECT($B$2&AV$4&$A37))","v":""},{"$f":"IF(INDIRECT($B$2&AW$4&$A37)=\"\",\"\",INDIRECT($B$2&AW$4&$A37))","v":""},{"$f":"IF(INDIRECT($B$2&AX$4&$A37)=\"\",\"\",INDIRECT($B$2&AX$4&$A37))","v":""},{"$f":"IF(INDIRECT($B$2&AY$4&$A37)=\"\",\"\",INDIRECT($B$2&AY$4&$A37))","v":""},"電力切替4",{"$f":"IF(INDIRECT($B$2&BA$4&$A37)=\"\",\"\",INDIRECT($B$2&BA$4&$A37))","v":""},{"$f":"IF(INDIRECT($B$2&BB$4&$A37)=\"\",\"\",INDIRECT($B$2&BB$4&$A37))","v":""},{"$f":"IF(INDIRECT($B$2&BC$4&$A37)=\"\",\"\",INDIRECT($B$2&BC$4&$A37))","v":""},{"$f":"IF(INDIRECT($B$2&BD$4&$A37)=\"\",\"\",INDIRECT($B$2&BD$4&$A37))","v":""},{"$f":"IF(INDIRECT($B$2&BE$4&$A37)=\"\",\"\",INDIRECT($B$2&BE$4&$A37))","v":""},{"$f":"IF(INDIRECT($B$2&BF$4&$A37)=\"\",\"\",INDIRECT($B$2&BF$4&$A37))","v":""},{"$f":"IF(INDIRECT($B$2&BG$4&$A37)=\"\",\"\",INDIRECT($B$2&BG$4&$A37))","v":""},{"$f":"IF(INDIRECT($B$2&BH$4&$A37)=\"\",\"\",INDIRECT($B$2&BH$4&$A37))","v":""},{"$f":"IF(INDIRECT($B$2&BI$4&$A37)=\"\",\"\",INDIRECT($B$2&BI$4&$A37))","v":""},{"$f":"IF(INDIRECT($B$2&BJ$4&$A37)=\"\",\"\",INDIRECT($B$2&BJ$4&$A37))","v":""},{"$f":"IF(INDIRECT($B$2&BK$4&$A37)=\"\",\"\",INDIRECT($B$2&BK$4&$A37))","v":""},{"$f":"IF(INDIRECT($B$2&BL$4&$A37)=\"\",\"\",INDIRECT($B$2&BL$4&$A37))","v":""},{"$f":"IF(INDIRECT($B$2&BM$4&$A37)=\"\",\"\",INDIRECT($B$2&BM$4&$A37))","v":""},{"$f":"IF(INDIRECT($B$2&BN$4&$A37)=\"\",\"\",INDIRECT($B$2&BN$4&$A37))","v":""}]