{"text_format":"1","workbook":"xlsx","n_sheets":20,"sheets":["【手引き】","基本データ転記先シート","事業報告書まとめ_計画策定支援","様式16_令和6年度事業報告書","様式16_令和7年度事業報告書","様式16_令和8年度事業報告書","別紙1_CO2排出量_個票1","別紙1_CO2排出量_個票2","別紙1_CO2排出量_個票3","別紙1_CO2排出量_個票4","別紙1_CO2排出量_個票5","別紙1_CO2排出量_個票6","別紙2_CO2排出量_全体","集計用1_まとめ","集計用2_様式16","集計用3_別紙1","集計用4_別紙2","作業用_活動量と単位","作業用_年月等","作業用_活動種別と単位"],"not_rendered":{"charts":2,"images":4,"macros":1,"external_links":0,"defined_names":33,"comments":12,"pivot_tables":0},"unopened":[],"bounds":{"document_bytes":16777216,"sheet_cells":100000,"rows_first":2000,"rows_last":500,"rows_between":2000,"halvings":0,"cell_chars":16384,"cell_head_chars":4096},"cells_cut":0,"cells_raw":0,"read":"whole","date_system":"1900"}

{"sheet":"【手引き】","index":0,"n_rows":51,"n_cols":5,"rows_kept":51,"cut":false,"hidden":false,"merged":[[39,3,39,11],[41,3,41,11],[46,2,46,11],[47,2,47,11],[27,3,27,11],[28,3,28,11],[29,3,29,11],[30,3,30,11],[31,3,31,11],[38,3,38,11],[24,3,24,11],[11,2,11,3],[11,4,11,11],[12,2,12,3],[12,4,12,11],[16,2,16,12],[18,3,18,11],[19,3,19,11],[20,3,20,11],[21,3,21,11],[22,3,22,11],[23,3,23,11],[8,2,8,3],[8,4,8,11],[9,2,9,3],[9,4,9,11],[10,2,10,3],[10,4,10,11],[5,2,5,3],[5,4,5,11],[6,2,6,3],[6,4,6,11],[7,2,7,3],[7,4,7,11]]}
[]
[]
[]
[null,"■","各シートの説明"]
[]
[null,null,"シート名",null,"説明"]
[null,null,"基本データ転記先シート",null,"実施計画書から事業報告書作成に必要なデータを転記する際に使用するシート。本シートに転記されたデータは、事業報告書の該当箇所に表示されます。"]
[null,null,"事業報告書まとめ_計画策定支援",null,"事業報告期間3年度間のCO2排出量のまとめが示されます。"]
[null,null,"様式16_令和6年度事業報告書",null,"環境大臣宛ての事業報告書（様式16）です。"]
[null,null,"様式16_令和7年度事業報告書",null,"環境大臣宛ての事業報告書（様式16）です。"]
[null,null,"様式16_令和8年度事業報告書",null,"環境大臣宛ての事業報告書（様式16）です。"]
[null,null,"別紙1_CO2排出量_個票1～12",null,"対策個票ごとのエネルギー起源CO2排出削減効果を算出するためのシートです。年度ごとに入力欄が用意されています。\n初期状態では非表示ですが、事業報告書まとめシートで個票番号を選択すると、該当番号の個票シートが表示され、事業報告書まとめシートに数値が読み込まれます。"]
[null,null,"別紙2_CO2排出量_全体",null,"工場・事業場全体のエネルギー起源CO2排出量を把握するためのシートです。年度ごとに入力欄が用意されています。"]
[]
[]
[null,"■","作成手順"]
[]
[null,null,"＜A．基本データ転記先シートを使用する場合＞"]
[null,null,"A-①","実施計画書の基本データ転記元シートを開き、当該シートに記載されている手順に従いデータを取得する。"]
[null,null,"A-②","基本データ転記先シートの手順に従い、基本データ転記元シートからデータを貼り付ける（値の貼り付け）。"]
[null,null,"A-③\n","事業報告書まとめシートにて、未入力・未選択になっている項目を入力・選択をする。\n個票番号が未選択になっている場合は、必ず使用する個票番号を選択してください。"]
[null,null,"A-④","該当する事業報告年度の様式16シートにて、必要事項を入力する。"]
[null,null,"A-⑤\n\n","別紙1_CO2排出量_個票シートにて、対策概要、対策実施【前】及び対策実施【計画】の活動種別・活動量・係数に未入力・未選択の項目があれば入力・選択する。\n当該事業報告年度の対策実施状況を選択し、活動種別ごとの年間活動量とその算出根拠を入力する。"]
[null,null,"A-⑥\n","別紙2_CO2排出量_全体シートの「活動種別と活動量」の表にて、活動種別を選択して係数を入力し、当該事業報告年度の月別使用量等を入力する。"]
[null,null,"A-⑦\n","再度、該当する事業報告年度の様式16シートにて、A-④では未入力の項目（例：［実績］二酸化炭素排出量が［計画］二酸化炭素排出量を超過した原因）について、必要に応じて入力・選択をする。"]
[]
[null,null,"＜B．基本データ転記先シートを使用しない場合＞"]
[null,null,"B-①\n","事業報告書まとめシートにて、必要事項を入力・選択する。\nここで必ず使用する個票番号を選択してください。"]
[null,null,"B-②","該当する報告年度の様式16シートにて、必要事項を入力する。"]
[null,null,"B-③","別紙1_CO2排出量_個票シートにて、実施計画書の対策個票を参照して対策概要、対策実施【前】及び対策実施【計画】の活動種別・活動量・係数を入力する。\n当該事業報告年度の対策実施状況を選択し、活動種別ごとの年間活動量とその算出根拠を入力する。"]
[null,null,"B-④","別紙2_CO2排出量_全体シートの「工場・事業場全体のエネルギー起源CO2排出量等の推移」の表にて、基準年度排出量等を入力する。「活動種別と活動量」の表にて、活動種別を選択して係数を入力し、当該事業報告年度の月別使用量等を入力する。"]
[null,null,"B-⑤\n","再度、該当する事業報告年度の様式16シートにて、B-②では未入力の項目（例：［実績］二酸化炭素排出量が［計画］二酸化炭素排出量を超過した原因）について、必要に応じて入力・選択をする。"]
[]
[]
[null,"■","留意事項"]
[]
[null,null,"・","マクロが必要な動作があります。必ずマクロ有効形式（xlsm）で開き、保存してください。"]
[null,null,"・","「シート削除」や「シート名の変更」は行わないでください。"]
[null,null,"・","黄色のセルは直接入力可能なセルです。（黄色のセルでも、基本データ転記先シートからデータを読み込むための計算式が入っている場合があります。）"]
[null,null,"・","緑色のセルは選択をするセルです。（緑色のセルでも、基本データ転記先シートからデータを読み込むための計算式が入っている場合があります。）"]
[null,null,"・","事業報告3年度間にわたり同じファイルを使用します。紛失しないよう保存・保管してください。"]
[null,null,"・","DX型計画策定支援の場合は、事業報告書とともにDXシステム計測データも提出してください。DXシステム計測データは、DXシステム計測データ提出用の指定様式に入力してください。"]
[]
[]
[null,"■","事業報告書提出時期と回数"]
[]
[null,null,"計画策定支援に採択された事業者は、3年度間にわたり事業報告書の提出が求められます。報告期間中に必ず1つ以上の対策を実施する必要があります。"]
[null,null,"設備更新支援に応募し採択された場合は、計画策定支援に係る事業報告書の提出は不要となり、その代わりに、設備更新支援の事業報告書の提出が求められます。"]
[]
[null,null,"＜主な提出パターン例（緑色＝計画策定支援関係、青色＝設備更新支援関係）＞"]
[null,null,null,"設備更新支援C：中小企業事業"]

{"sheet":"基本データ転記先シート","index":1,"n_rows":310,"n_cols":18,"rows_kept":310,"cut":false,"hidden":false,"merged":[[189,2,189,4],[212,2,213,2],[212,3,212,9],[212,10,212,16],[213,4,213,5],[213,6,213,7],[213,8,213,9],[213,11,213,12],[213,13,213,14],[213,15,213,16],[188,2,188,4],[94,12,94,13],[94,14,94,15],[179,2,179,4],[180,2,180,4],[181,2,181,4],[182,2,182,4],[183,2,183,4],[184,2,184,4],[185,2,185,4],[186,2,186,4],[187,2,187,4],[93,2,93,8],[93,9,93,15],[94,2,95,2],[94,3,95,3],[94,4,95,4],[94,5,94,6],[94,7,94,8],[94,9,95,9],[94,10,95,10],[94,11,95,11],[64,28,64,29],[64,30,64,31],[64,32,64,33],[66,1,68,1],[69,1,70,1],[64,27,65,27],[59,1,65,1],[64,26,65,26],[74,2,75,2],[74,3,75,3],[74,4,74,5],[74,6,74,7],[74,8,74,9],[34,33,34,37],[36,2,40,2],[47,1,53,1],[54,1,56,1],[57,1,58,1],[44,9,44,13],[30,2,30,4],[30,26,30,28],[31,2,35,2],[24,2,24,4],[24,26,24,28],[25,2,25,4],[25,26,25,28],[26,2,26,4],[26,26,26,28],[27,2,27,4],[27,26,27,28],[28,2,28,4],[28,26,28,28],[29,2,29,4],[29,26,29,28],[23,2,23,4],[23,26,23,28],[16,2,16,4],[16,26,16,28],[17,2,17,4],[17,26,17,28],[18,2,18,4],[18,26,18,28],[19,2,19,4],[20,2,20,4],[21,2,21,4],[22,2,22,4],[22,26,22,28]]}
[]
[null,"環境省　令和４年度（第2次補正予算）・令和5年度二酸化炭素排出抑制対策事業費等補助金 （工場・事業場における先導的な脱炭素化取組推進事業（SHIFT事業））"]
[]
[null,"基本データ転記先シート"]
[]
[null,"以下の手順を実行すると、診断報告書/実施計画書からの転記が必要な情報を、事業報告書の当該箇所に一括で転記することができます。"]
[]
[null,"①","診断報告書/実施計画書（.xlsm）の「事業報告書用データ転記元シート」を開き、記載の手順にしたがい転記するデータを取得する。"]
[null,"②","「事業報告書用データ転記元シート」にある表１の色付きセル範囲（斜線のあるセルを含む）を選択し、コピーする。"]
[null,"③","下記の表１の色付きセル範囲を選択し、張り付ける。"]
[null,"④","表２～表７についても、②、③を行う。"]
[]
[null,"　※注記\n","実施計画書の完成後に変更があった項目については、実施計画書からのデータ転記後、各表の該当箇所に直接入力して修正してください。"]
[]
[]
[null,null,"表１：基本情報（実施計画書より）"]
[null,null,"事業番号",null,null,"xxxxxxx"]
[null,null,"事業者名（法人名）",null,null,"○○株式会社"]
[null,null,"工場・事業場名",null,null,"○○工場"]
[null,null,"工場・事業場No.1の業種（中分類・小分類）",null,null,"25 はん用機械器具製造業","253 一般産業用機械・装置製造業"]
[null,null,"工場・事業場No.2の業種（中分類・小分類）"]
[null,null,"工場・事業場No.3の業種（中分類・小分類）"]
[null,null,"工場・事業場No.4の業種（中分類・小分類）"]
[null,null,"工場・事業場No.5の業種（中分類・小分類）"]
[null,null,"工場・事業場全体の基準年度排出量（t-CO2/年）",null,null,500.26612]
[null,null,"工場・事業場全体の基準年度エネルギー使用量(GJ/年）",null,null,8218.1239999999998]
[null,null,"工場・事業場全体の脱炭素化指標",null,null,6.0873518092450299E-2]
[null,null,"主要システム系統の名称",null,null,"ボイラ室内設備"]
[null,null,"主要システムの基準年度排出量（t-CO2/年）",null,null,395.65881999999993]
[null,null,"主要システムの基準年度エネルギー使用量(GJ/年）",null,null,5876.4559999999992]
[null,null,"主要システムの脱炭素化指標",null,null,6.7329495873022782E-2]
[null,null,"工場・事業場の計画CO2排出量(対策後）","計画年度1","CO2排出量","令和5年度",500.26612]
[null,null,null,"計画年度2","CO2排出量","令和6年度",390.64574762000007]
[null,null,null,"計画年度3","CO2排出量","令和7年度",390.64574762000007]
[null,null,null,"計画年度4","CO2排出量","令和8年度",390.64574762000007]
[null,null,null,"計画年度5","CO2排出量","令和9年度",390.64574762000007]
[null,null,"主要システム系統の計画CO2排出量(対策後）","計画年度1","CO2排出量","令和5年度",395.65881999999993]
[null,null,null,"計画年度2","CO2排出量","令和6年度",286.03844762]
[null,null,null,"計画年度3","CO2排出量","令和7年度",286.03844762]
[null,null,null,"計画年度4","CO2排出量","令和8年度",286.03844762]
[null,null,null,"計画年度5","CO2排出量","令和9年度",286.03844762]
[]
[]
[null,null,"表２：脱炭素化計画（実施計画書より）"]
[null,null,"対策個票番号","対策の種類","対策の名称","主要システム系統","申請予定補助金","対策着手時期","年間CO2削減量(t-CO2)","計画年度・CO2削減量",null,null,null,null,"以降の活動予定","年間エネルギー削減量(GJ)","対策メニュー番号","DX計測に基づく対策"]
[null,null,"---","---","---","---","---","---","---",null,"目標年度",null,null,null,"---","---","---","---"]
[null,null,"---","---","---","---","---","---","---","令和5年度","令和6年度","令和7年度","令和8年度","令和9年度","---","---","---","---"]
[1,"省エネ",2,"運用改善","ボイラ室照明の不要時間帯の消灯","○","予定なし","令和5年9月",3.9131,null,3.9131,3.9131,3.9131,3.9131,null,87.596000000000004,21011,"―"]
[2]
[3]
[4]
[5]
[6]
[7]
[8,"脱炭素化\n(エネ転等)",1,"燃料低炭素化","A重油蒸気ボイラから都市ガス蒸気ボイラへの燃料転換","○","国(SHIFT)","令和5年9月",105.70727237999995,null,105.70727237999995,105.70727237999995,105.70727237999995,105.70727237999995,null,123.53259999999955,12142,"―"]
[9]
[10]
[11,"脱炭素化\n(系統電力変更)"]
[12]
[13,"省エネ"]
[14]
[15]
[16]
[17]
[18]
[19]
[20,"脱炭素化\n(エネ転等)"]
[21]
[22]
[23,"脱炭素化\n(系統電力変更)"]
[24]
[null,null,"","","","","","","","","","","","","","",""]
[]
[null,null,"表３：対策個票で使用した係数（実施計画書より）"]
[null,null,"活動種別","単位","単位発熱量",null,"CO2排出係数",null,"単価"]
[null,null,null,null,"係数","単位","係数","単位","単価","単位"]
[null,1,"系統電力①","kWh",null,"---",4.3600000000000003E-4,"t-CO2/kWh",null,"千円/kWh"]
[null,2,"A重油","kl",38.9,"GJ/kl",7.0800000000000002E-2,"t-CO2/GJ",null,"千円/kl"]
[null,3,"都市ガス","千Nm3",44.2,"GJ/千Nm3",5.1299999999999998E-2,"t-CO2/GJ",null,"千円/千Nm3"]
[null,4,"（未選択）"]
[null,5,"（未選択）"]
[null,6,"（未選択）"]
[null,7,"（未選択）"]
[null,8,"（未選択）"]
[null,9,"（未選択）"]
[null,10,"（未選択）"]
[null,11,"（未選択）"]
[null,12,"（未使用）"]
[null,13,"（未使用）"]
[null,14,"（未使用）"]
[]
[]
[null,null,"表４：算定年度③で使用した係数（算定報告書より）"]
[null,null,"工場・事業場全体",null,null,null,null,null,null,"主要システム系統"]
[null,null,"モニタリングポイントNo.","活動種別","単位","単位発熱量",null,"CO2排出係数",null,"モニタリングポイントNo.","活動種別","単位","単位発熱量",null,"CO2排出係数"]
[null,null,null,null,null,"係数","単位","係数","単位",null,null,null,"係数","単位","係数","単位"]
[null,1,1,"A重油","kl",38.9,"GJ/kl",7.0800000000000002E-2,"t-CO2/GJ",1,"A重油","kl",38.9,"GJ/kl",7.0800000000000002E-2,"t-CO2/GJ"]
[null,2,3,"系統電力","kWh",null,"---",4.3600000000000003E-4,"t-CO2/kWh",3,"系統電力","kWh",null,"---",4.3600000000000003E-4,"t-CO2/kWh"]
[null,3]
[null,4]
[null,5]
[null,6]
[null,7]
[null,8]
[null,9]
[null,10]
[null,11]
[null,12]
[null,13]
[null,14]
[null,15]
[null,16,null,"その他（要：備考欄への詳細記載）",null,null,null,null,null,null,"その他（要：備考欄への詳細記載）"]
[null,17,null,"その他（要：備考欄への詳細記載）",null,null,null,null,null,null,"その他（要：備考欄への詳細記載）"]
[null,18,null,"その他（要：備考欄への詳細記載）",null,null,null,null,null,null,"その他（要：備考欄への詳細記載）"]
[null,19,null,"その他（要：備考欄への詳細記載）",null,null,null,null,null,null,"その他（要：備考欄への詳細記載）"]
[null,20,null,"その他（要：備考欄への詳細記載）",null,null,null,null,null,null,"その他（要：備考欄への詳細記載）"]
[null,21,null,"その他（要：備考欄への詳細記載）",null,null,null,null,null,null,"その他（要：備考欄への詳細記載）"]
[null,22,null,"その他（要：備考欄への詳細記載）",null,null,null,null,null,null,"その他（要：備考欄への詳細記載）"]
[null,23,null,"その他（要：備考欄への詳細記載）",null,null,null,null,null,null,"その他（要：備考欄への詳細記載）"]
[null,24,null,"その他（要：備考欄への詳細記載）",null,null,null,null,null,null,"その他（要：備考欄への詳細記載）"]
[null,25,null,"その他（要：備考欄への詳細記載）",null,null,null,null,null,null,"その他（要：備考欄への詳細記載）"]
[null,26]
[null,27]
[null,28]
[null,29]
[null,30]
[null,31]
[null,32]
[null,33]
[null,34]
[null,35]
[null,36]
[null,37]
[null,38]
[null,39]
[null,40]
[null,41]
[null,42]
[null,43]
[null,44]
[null,45]
[null,46]
[null,47]
[null,48]
[null,49]
[null,50]
[null,51]
[null,52]
[null,53]
[null,54]
[null,55]
[null,56]
[null,57]
[null,58]
[null,59]
[null,60]
[null,61]
[null,62]
[null,63]
[null,64]
[null,65]
[null,66]
[null,67]
[null,68]
[null,69]
[null,70]
[null,71]
[null,72]
[null,73]
[null,74]
[null,75]
[null,76]
[null,77]
[null,78]
[null,79]
[null,80]
[]
[]
[null,null,"表５：基本情報（実施計画書Cより）"]
[null,null,"事業番号",null,null,"xxxxxxx"]
[null,null,"事業者名（法人名）",null,null,"○○株式会社"]
[null,null,"工場・事業場名",null,null,"○○工場"]
[null,null,"工場・事業場No.1の業種（中分類・小分類）",null,null,"25 はん用機械器具製造業","253 一般産業用機械・装置製造業"]
[null,null,"工場・事業場No.2の業種（中分類・小分類）"]
[null,null,"工場・事業場No.3の業種（中分類・小分類）"]
[null,null,"工場・事業場No.4の業種（中分類・小分類）"]
[null,null,"工場・事業場No.5の業種（中分類・小分類）"]
[null,null,"工場・事業場全体の基準年度排出量（t-CO2/年）(A)",null,null,500.26612]
[null,null,"工場・事業場全体の基準年度エネルギー使用量(GJ/年）",null,null,8218.1239999999998]
[null,null,"工場・事業場全体の脱炭素化指標",null,null,6.0873518092450299E-2]
[]
[]
[null,null,"表６：設備CO2削減計画（実施計画書Cより）",null,null,null,null,null,null,null,null,null,null,null,"(①-②)","(③/①*100)","(③/(A)*100)"]
[null,null,"個票番号","6類型","対策名称","対策メニュー番号","工程","システム/設備区分","対象/既存設備","導入設備","申請予定補助金","LED照明設備・再生エネ設備","①対策実施【前】\nCO2排出量","②対策実施【計画】CO2排出量","③設備CO2削減量","④設備CO2削減率","⑤工場・事業場CO2削減率","DX計測に基づく対策"]
[null,null,1,"燃料低炭素化","A重油蒸気ボイラから都市ガス蒸気ボイラへの燃料転換",12142,"原料加熱","蒸気システム（発生）","A重油焚きボイラ","都市ガス焚きボイラ","国(SHIFT)",null,360.78971999999999,255.08244762000004,105.70727237999995,29.298859285680301,21.130208134022737,"―"]
[null,null,2,"運用改善","ボイラ室照明の不要時間帯の消灯",21011,"照明","照明設備","照明設備",null,"予定なし",null,34.869100000000003,30.956000000000003,3.9131,11.22225695529853,0.78220367991340289,"―"]
[]
[]
[]
[]
[]
[]
[]
[]
[null,null,"小計①","申請予定補助金：国（SHIFT）","設備導入対策（LED照明設備・再エネ設備を除く）",null,null,null,null,null,null,null,360.78971999999999,255.08244762000004,105.70727237999995,29.298859285680301,21.130208134022737]
[null,null,"小計②","申請予定補助金：国（SHIFT）","LED照明設備・再生可能エネルギー設備導入対策",null,null,null,null,null,null,null,0,0,0,"---",0]
[null,null,"合計（①＋②）",null,null,null,null,null,null,null,null,null,360.78971999999999,255.08244762000004,105.70727237999995,29.298859285680301,21.130208134022737]
[null,null,"小計③","自主的対策","SHIFT設備更新支援の補助対象外の対策",null,null,null,null,null,null,null,34.869100000000003,30.956000000000003,3.9131,11.22225695529853,0.78220367991340289]
[null,null,"合計（①＋②＋③）",null,null,null,null,null,null,null,null,null,395.65881999999999,286.03844762000006,109.62037237999994,27.705782567920494,21.912411813936139]
[]
[]
[null,null,"表７：対策個票で選択した活動種別等"]
[null,null,"個票番号","対策実施【前】",null,null,null,null,null,null,"対策実施【計画】"]
[null,null,null,"活動種別","年間活動量",null,"単位発熱量",null,"CO2排出係数",null,"活動種別","年間活動量",null,"単位発熱量",null,"CO2排出係数"]
[null,null,1,"A重油",131,"kl",38.9,"GJ/kl",7.0800000000000002E-2,"t-CO2/GJ","都市ガス",112.497,"千Nm3",44.2,"GJ/千Nm3",5.1299999999999998E-2,"t-CO2/GJ"]
[null,null,"1-2"]
[null,null,"1-3"]
[null,null,"1-4"]
[null,null,2,"系統電力①",79975,"kWh",null,"---",4.3600000000000003E-4,"t-CO2/kWh","系統電力①",71000,"kWh",null,"---",4.3600000000000003E-4,"t-CO2/kWh"]
[null,null,"2-2"]
[null,null,"2-3"]
[null,null,"2-4"]
[null,null,3]
[null,null,"3-2"]
[null,null,"3-3"]
[null,null,"3-4"]
[null,null,4]
[null,null,"4-2"]
[null,null,"4-3"]
[null,null,"4-4"]
[null,null,5]
[null,null,"5-2"]
[null,null,"5-3"]
[null,null,"5-4"]
[null,null,6]
[null,null,"6-2"]
[null,null,"6-3"]
[null,null,"6-4"]
[null,null,7]
[null,null,"7-2"]
[null,null,"7-3"]
[null,null,"7-4"]
[null,null,8]
[null,null,"8-2"]
[null,null,"8-3"]
[null,null,"8-4"]
[null,null,9]
[null,null,"9-2"]
[null,null,"9-3"]
[null,null,"9-4"]
[null,null,10]
[null,null,"10-2"]
[null,null,"10-3"]
[null,null,"10-4"]
[null,null,11]
[null,null,"11-2"]
[null,null,"11-3"]
[null,null,"11-4"]
[null,null,12]
[null,null,"12-2"]
[null,null,"12-3"]
[null,null,"12-4"]
[null,null,13]
[null,null,"13-2"]
[null,null,"13-3"]
[null,null,"13-4"]
[null,null,14]
[null,null,"14-2"]
[null,null,"14-3"]
[null,null,"14-4"]
[null,null,15]
[null,null,"15-2"]
[null,null,"15-3"]
[null,null,"15-4"]
[null,null,16]
[null,null,"16-2"]
[null,null,"16-3"]
[null,null,"16-4"]
[null,null,17]
[null,null,"17-2"]
[null,null,"17-3"]
[null,null,"17-4"]
[null,null,18]
[null,null,"18-2"]
[null,null,"18-3"]
[null,null,"18-4"]
[null,null,19]
[null,null,"19-2"]
[null,null,"19-3"]
[null,null,"19-4"]
[null,null,20]
[null,null,"20-2"]
[null,null,"20-3"]
[null,null,"20-4"]
[null,null,21]
[null,null,"21-2"]
[null,null,"21-3"]
[null,null,"21-4"]
[null,null,22]
[null,null,"22-2"]
[null,null,"22-3"]
[null,null,"22-4"]
[null,null,23]
[null,null,"23-2"]
[null,null,"23-3"]
[null,null,"23-4"]
[null,null,24]
[null,null,"24-2"]
[null,null,"24-3"]
[null,null,"24-4"]

{"sheet":"事業報告書まとめ_計画策定支援","index":2,"n_rows":49,"n_cols":38,"rows_kept":49,"cut":false,"hidden":false,"merged":[[40,26,41,26],[40,28,40,30],[34,14,34,15],[34,16,36,16],[26,2,26,10],[27,2,27,10],[28,2,28,10],[29,2,29,10],[33,12,36,13],[36,1,36,10],[45,26,46,26],[45,28,45,30],[15,17,15,19],[34,19,36,19],[34,20,34,21],[34,22,36,22],[33,27,36,28],[33,29,33,34],[34,17,34,18],[34,29,34,30],[34,31,34,32],[34,33,34,34],[33,14,33,22],[18,14,18,22],[18,26,18,28],[18,29,18,34],[23,2,23,10],[24,2,24,10],[25,2,25,10],[17,1,17,10],[18,11,18,13],[19,2,19,10],[20,2,20,10],[21,2,21,10],[22,2,22,10],[11,1,11,22],[14,11,14,13],[14,14,14,22],[14,29,14,34],[15,14,15,16],[15,20,15,22],[15,29,15,30],[15,31,15,32],[15,33,15,34],[14,26,14,28],[6,1,6,6],[7,1,7,6],[8,1,8,6],[1,1,1,22],[2,1,2,22],[5,1,5,6],[5,7,5,13],[8,7,8,20],[7,7,7,22],[6,7,6,22]]}
[null,null,null,null,null,null,null,null,null,null,null,null,null,null,null,null,null,null,null,null,null,null,"Ver. 1.0",null,null,null,null,null,null,null,null,null,null,null,null,null,null,"セル色表示/非表示"]
[null,"環境省　令和４年度（第2次補正予算）・令和5年度二酸化炭素排出抑制対策事業費等補助金 ",null,null,null,null,null,null,null,null,null,null,null,null,null,null,null,null,null,null,null,null,null,null,null,null,null,null,null,null,null,null,null,null,null,null,null,false]
[null,"（工場・事業場における先導的な脱炭素化取組推進事業（SHIFT事業））"]
[]
[null,"【補助事業者情報】"]
[null,"GAJ事業番号",null,null,null,null,null,{"$f":"IF(基本データ転記先シート!$F$17=\"\",\"\",基本データ転記先シート!$F$17)","v":"xxxxxxx"}]
[null,"事業者名（法人名）",null,null,null,null,null,{"$f":"IF(基本データ転記先シート!$F$18=\"\",\"\",基本データ転記先シート!$F$18)","v":"○○株式会社"}]
[null,"工場・事業場名",null,null,null,null,null,{"$f":"IF(基本データ転記先シート!$F$19=\"\",\"\",基本データ転記先シート!$F$19)","v":"○○工場"}]
[null,"工場・事業場の業種",null,null,null,null,null,{"$f":"IF(基本データ転記先シート!$G$20=\"\",\"\",基本データ転記先シート!$G$20)","v":"253 一般産業用機械・装置製造業"},null,null,null,null,null,null,null,null,null,null,null,null,null,"区分",{"$f":"IF(H9=\"\",\"\",VLOOKUP(H9,部門,2,FALSE))","v":"産業"}]
[]
[null,"【二酸化炭素排出量の推移と計画削減量の達成状況】"]
[null,"エネルギー起源二酸化炭素排出量と削減量の計画値及び、事業報告年度における実績値のまとめ。"]
[null,"１．設備・機器"]
[]
[null,null,null,null,null,null,null,null,null,null,null,"計画",null,null,"実績",null,null,null,null,null,null,null,null,null,null,null,"計画",null,null,"実績"]
[null,null,null,null,null,null,null,null,null,null,null,"対策実施前","計画","目標","令和6年度",null,null,"令和7年度",null,null,"令和8年度",null,null,null,null,null,"対策実施前","計画",null,{"$f":"O16","v":"令和6年度"},null,{"$f":"R16","v":"令和7年度"},null,{"$f":"U16","v":"令和8年度"}]
[null,null,null,null,null,null,null,null,null,null,null,"排出量","排出量","削減量","排出量","削減量","削減未達量","排出量","削減量","削減未達量","排出量","削減量","削減未達量",null,null,null,"使用量","使用量","削減量","使用量","削減量","使用量","削減量","使用量","削減量"]
[null,"CO2排出量、CO2削減量等：合計(t-CO2/年)",null,null,null,null,null,null,null,null,null,{"$f":"IF(SUM($B$21:$B$30)=0,\"\",SUM(L$21:L$30))","v":395.65881999999999},{"$f":"IF(SUM($B$21:$B$30)=0,\"\",SUM(M$21:M$30))","v":286.03844762},{"$f":"IF(SUM($B$21:$B$30)=0,\"\",SUM(N$21:N$30))","v":109.62037237999998},{"$f":"IF(SUM($B$21:$B$30)=0,\"\",SUM(O$21:O$30))","v":286.55716000000007},{"$f":"IF(SUM($B$21:$B$30)=0,\"\",SUM(P$21:P$30))","v":109.10165999999995},{"$f":"IF(SUM($B$21:$B$30)=0,\"\",SUM(Q$21:Q$30))","v":0.51871238000002506},0,0,0,{"$f":"IF(SUM($B$21:$B$30)=0,\"\",SUM(U$21:U$30))","v":0},{"$f":"IF(SUM($B$21:$B$30)=0,\"\",SUM(V$21:V$30))","v":0},{"$f":"IF(SUM($B$21:$B$30)=0,\"\",SUM(W$21:W$30))","v":0},null,null,"エネルギー使用量・削減量：合計(GJ/年)",{"$f":"IF(SUM($B$21:$B$30)=0,\"\",SUM(AA$21:AA$30))","v":5876.4559999999992},{"$f":"IF(SUM($B$21:$B$30)=0,\"\",SUM(AB$21:AB$30))","v":5665.3274000000001},{"$f":"IF(SUM($B$21:$B$30)=0,\"\",SUM(AC$21:AC$30))","v":211.12859999999955},5686.7560000000003,189.69999999999891,{"$f":"IF(SUM($B$21:$B$30)=0,\"\",SUM(AF$21:AF$30))","v":0},{"$f":"IF(SUM($B$21:$B$30)=0,\"\",SUM(AG$21:AG$30))","v":0},{"$f":"IF(SUM($B$21:$B$30)=0,\"\",SUM(AH$21:AH$30))","v":0},{"$f":"IF(SUM($B$21:$B$30)=0,\"\",SUM(AI$21:AI$30))","v":0}]
[null,null,null,null,null,null,null,null,null,null,null,"計画",null,null,"実績",null,null,null,null,null,null,null,null,null,null,null,"計画",null,null,"実績"]
[null,"個票","対策名称",null,null,null,null,null,null,null,null,"排出量","排出量","削減量","排出量","削減量","削減未達量","排出量","削減量","削減未達量","排出量","削減量","削減未達量",null,null,null,"使用量","使用量","削減量","使用量","削減量","使用量","削減量","使用量","削減量"]
[null,{"$f":"IF(基本データ転記先シート!C195=\"\",\"\",基本データ転記先シート!C195)","v":1},{"$f":"IF($B21=\"\",\"\",IFERROR(INDIRECT(\"別紙1_CO2排出量_個票\"&$B21&\"!\"&\"D13\"),\"---\"))","v":"A重油蒸気ボイラから都市ガス蒸気ボイラへの燃料転換"},null,null,null,null,null,null,null,null,{"$f":"IF($B21=\"\",\"\",IFERROR(INDIRECT(\"別紙1_CO2排出量_個票\"&$B21&\"!\"&\"K25\"),\"---\"))","v":360.78971999999999},{"$f":"IF($B21=\"\",\"\",IFERROR(INDIRECT(\"別紙1_CO2排出量_個票\"&$B21&\"!\"&\"K29\"),\"---\"))","v":255.08244762000001},{"$f":"IF($B21=\"\",\"\",IFERROR(INDIRECT(\"別紙1_CO2排出量_個票\"&$B21&\"!\"&\"L29\"),\"---\"))","v":105.70727237999998},{"$f":"IF($B21=\"\",\"\",IFERROR(INDIRECT(\"別紙1_CO2排出量_個票\"&$B21&\"!\"&\"K38\"),\"---\"))","v":251.68806000000004},{"$f":"IF($B21=\"\",\"\",IFERROR(INDIRECT(\"別紙1_CO2排出量_個票\"&$B21&\"!\"&\"L38\"),\"---\"))","v":109.10165999999995},{"$f":"IF($B21=\"\",\"\",IFERROR($N21-$P21,\"---\"))","v":-3.394387619999975},{"$f":"IF($B21=\"\",\"\",IFERROR(INDIRECT(\"別紙1_CO2排出量_個票\"&$B21&\"!\"&\"K42\"),\"---\"))","v":""},{"$f":"IF($B21=\"\",\"\",IFERROR(INDIRECT(\"別紙1_CO2排出量_個票\"&$B21&\"!\"&\"L42\"),\"---\"))","v":"---"},{"$f":"IF($B21=\"\",\"\",IFERROR($N21-$S21,\"---\"))","v":"---"},{"$f":"IF($B21=\"\",\"\",IFERROR(INDIRECT(\"別紙1_CO2排出量_個票\"&$B21&\"!\"&\"K46\"),\"--\"))","v":""},{"$f":"IF($B21=\"\",\"\",IFERROR(INDIRECT(\"別紙1_CO2排出量_個票\"&$B21&\"!\"&\"L46\"),\"---\"))","v":"---"},{"$f":"IF($B21=\"\",\"\",IFERROR($N21-$V21,\"---\"))","v":"---"},null,null,null,{"$f":"IF($B21=\"\",\"\",IFERROR(INDIRECT(\"別紙1_CO2排出量_個票\"&$B21&\"!\"&\"S25\"),\"---\"))","v":5095.8999999999996},{"$f":"IF($B21=\"\",\"\",IFERROR(INDIRECT(\"別紙1_CO2排出量_個票\"&$B21&\"!\"&\"S29\"),\"---\"))","v":4972.3674000000001},{"$f":"IF($B21=\"\",\"\",IFERROR(INDIRECT(\"別紙1_CO2排出量_個票\"&$B21&\"!\"&\"T29\"),\"---\"))","v":123.53259999999955},{"$f":"IF($B21=\"\",\"\",IFERROR(INDIRECT(\"別紙1_CO2排出量_個票\"&$B21&\"!\"&\"S38\"),\"---\"))","v":4906.2000000000007},{"$f":"IF($B21=\"\",\"\",IFERROR(INDIRECT(\"別紙1_CO2排出量_個票\"&$B21&\"!\"&\"T38\"),\"---\"))","v":189.69999999999891},{"$f":"IF($B21=\"\",\"\",IFERROR(INDIRECT(\"別紙1_CO2排出量_個票\"&$B21&\"!\"&\"S42\"),\"---\"))","v":""},{"$f":"IF($B21=\"\",\"\",IFERROR(INDIRECT(\"別紙1_CO2排出量_個票\"&$B21&\"!\"&\"T42\"),\"---\"))","v":"---"},{"$f":"IF($B21=\"\",\"\",IFERROR(INDIRECT(\"別紙1_CO2排出量_個票\"&$B21&\"!\"&\"S46\"),\"---\"))","v":""},{"$f":"IF($B21=\"\",\"\",IFERROR(INDIRECT(\"別紙1_CO2排出量_個票\"&$B21&\"!\"&\"T46\"),\"---\"))","v":"---"}]
[null,{"$f":"IF(基本データ転記先シート!C196=\"\",\"\",基本データ転記先シート!C196)","v":2},{"$f":"IF($B22=\"\",\"\",IFERROR(INDIRECT(\"別紙1_CO2排出量_個票\"&$B22&\"!\"&\"D13\"),\"---\"))","v":"ボイラ室照明の不要時間帯の消灯"},null,null,null,null,null,null,null,null,{"$f":"IF($B22=\"\",\"\",IFERROR(INDIRECT(\"別紙1_CO2排出量_個票\"&$B22&\"!\"&\"K25\"),\"---\"))","v":34.869100000000003},{"$f":"IF($B22=\"\",\"\",IFERROR(INDIRECT(\"別紙1_CO2排出量_個票\"&$B22&\"!\"&\"K29\"),\"---\"))","v":30.956000000000003},{"$f":"IF($B22=\"\",\"\",IFERROR(INDIRECT(\"別紙1_CO2排出量_個票\"&$B22&\"!\"&\"L29\"),\"---\"))","v":3.9131},{"$f":"IF($B22=\"\",\"\",IFERROR(INDIRECT(\"別紙1_CO2排出量_個票\"&$B22&\"!\"&\"K38\"),\"---\"))","v":34.869100000000003},{"$f":"IF($B22=\"\",\"\",IFERROR(INDIRECT(\"別紙1_CO2排出量_個票\"&$B22&\"!\"&\"L38\"),\"---\"))","v":0},{"$f":"IF($B22=\"\",\"\",IFERROR($N22-$P22,\"---\"))","v":3.9131},{"$f":"IF($B22=\"\",\"\",IFERROR(INDIRECT(\"別紙1_CO2排出量_個票\"&$B22&\"!\"&\"K42\"),\"---\"))","v":""},{"$f":"IF($B22=\"\",\"\",IFERROR(INDIRECT(\"別紙1_CO2排出量_個票\"&$B22&\"!\"&\"L42\"),\"---\"))","v":"---"},{"$f":"IF($B22=\"\",\"\",IFERROR($N22-$S22,\"---\"))","v":"---"},{"$f":"IF($B22=\"\",\"\",IFERROR(INDIRECT(\"別紙1_CO2排出量_個票\"&$B22&\"!\"&\"K46\"),\"--\"))","v":""},{"$f":"IF($B22=\"\",\"\",IFERROR(INDIRECT(\"別紙1_CO2排出量_個票\"&$B22&\"!\"&\"L46\"),\"---\"))","v":"---"},{"$f":"IF($B22=\"\",\"\",IFERROR($N22-$V22,\"---\"))","v":"---"},null,null,null,{"$f":"IF($B22=\"\",\"\",IFERROR(INDIRECT(\"別紙1_CO2排出量_個票\"&$B22&\"!\"&\"S25\"),\"---\"))","v":780.55599999999993},{"$f":"IF($B22=\"\",\"\",IFERROR(INDIRECT(\"別紙1_CO2排出量_個票\"&$B22&\"!\"&\"S29\"),\"---\"))","v":692.95999999999992},{"$f":"IF($B22=\"\",\"\",IFERROR(INDIRECT(\"別紙1_CO2排出量_個票\"&$B22&\"!\"&\"T29\"),\"---\"))","v":87.596000000000004},{"$f":"IF($B22=\"\",\"\",IFERROR(INDIRECT(\"別紙1_CO2排出量_個票\"&$B22&\"!\"&\"S38\"),\"---\"))","v":780.55599999999993},{"$f":"IF($B22=\"\",\"\",IFERROR(INDIRECT(\"別紙1_CO2排出量_個票\"&$B22&\"!\"&\"T38\"),\"---\"))","v":0},{"$f":"IF($B22=\"\",\"\",IFERROR(INDIRECT(\"別紙1_CO2排出量_個票\"&$B22&\"!\"&\"S42\"),\"---\"))","v":""},{"$f":"IF($B22=\"\",\"\",IFERROR(INDIRECT(\"別紙1_CO2排出量_個票\"&$B22&\"!\"&\"T42\"),\"---\"))","v":"---"},{"$f":"IF($B22=\"\",\"\",IFERROR(INDIRECT(\"別紙1_CO2排出量_個票\"&$B22&\"!\"&\"S46\"),\"---\"))","v":""},{"$f":"IF($B22=\"\",\"\",IFERROR(INDIRECT(\"別紙1_CO2排出量_個票\"&$B22&\"!\"&\"T46\"),\"---\"))","v":"---"}]
[null,{"$f":"IF(基本データ転記先シート!C197=\"\",\"\",基本データ転記先シート!C197)","v":""},{"$f":"IF($B23=\"\",\"\",IFERROR(INDIRECT(\"別紙1_CO2排出量_個票\"&$B23&\"!\"&\"D13\"),\"---\"))","v":""},null,null,null,null,null,null,null,null,{"$f":"IF($B23=\"\",\"\",IFERROR(INDIRECT(\"別紙1_CO2排出量_個票\"&$B23&\"!\"&\"K25\"),\"---\"))","v":""},{"$f":"IF($B23=\"\",\"\",IFERROR(INDIRECT(\"別紙1_CO2排出量_個票\"&$B23&\"!\"&\"K29\"),\"---\"))","v":""},{"$f":"IF($B23=\"\",\"\",IFERROR(INDIRECT(\"別紙1_CO2排出量_個票\"&$B23&\"!\"&\"L29\"),\"---\"))","v":""},{"$f":"IF($B23=\"\",\"\",IFERROR(INDIRECT(\"別紙1_CO2排出量_個票\"&$B23&\"!\"&\"K38\"),\"---\"))","v":""},{"$f":"IF($B23=\"\",\"\",IFERROR(INDIRECT(\"別紙1_CO2排出量_個票\"&$B23&\"!\"&\"L38\"),\"---\"))","v":""},{"$f":"IF($B23=\"\",\"\",IFERROR($N23-$P23,\"---\"))","v":""},{"$f":"IF($B23=\"\",\"\",IFERROR(INDIRECT(\"別紙1_CO2排出量_個票\"&$B23&\"!\"&\"K42\"),\"---\"))","v":""},{"$f":"IF($B23=\"\",\"\",IFERROR(INDIRECT(\"別紙1_CO2排出量_個票\"&$B23&\"!\"&\"L42\"),\"---\"))","v":""},"",{"$f":"IF($B23=\"\",\"\",IFERROR(INDIRECT(\"別紙1_CO2排出量_個票\"&$B23&\"!\"&\"K46\"),\"--\"))","v":""},{"$f":"IF($B23=\"\",\"\",IFERROR(INDIRECT(\"別紙1_CO2排出量_個票\"&$B23&\"!\"&\"L46\"),\"---\"))","v":""},"",null,null,null,{"$f":"IF($B23=\"\",\"\",IFERROR(INDIRECT(\"別紙1_CO2排出量_個票\"&$B23&\"!\"&\"S25\"),\"---\"))","v":""},{"$f":"IF($B23=\"\",\"\",IFERROR(INDIRECT(\"別紙1_CO2排出量_個票\"&$B23&\"!\"&\"S29\"),\"---\"))","v":""},{"$f":"IF($B23=\"\",\"\",IFERROR(INDIRECT(\"別紙1_CO2排出量_個票\"&$B23&\"!\"&\"T29\"),\"---\"))","v":""},{"$f":"IF($B23=\"\",\"\",IFERROR(INDIRECT(\"別紙1_CO2排出量_個票\"&$B23&\"!\"&\"S38\"),\"---\"))","v":""},{"$f":"IF($B23=\"\",\"\",IFERROR(INDIRECT(\"別紙1_CO2排出量_個票\"&$B23&\"!\"&\"T38\"),\"---\"))","v":""},{"$f":"IF($B23=\"\",\"\",IFERROR(INDIRECT(\"別紙1_CO2排出量_個票\"&$B23&\"!\"&\"S42\"),\"---\"))","v":""},{"$f":"IF($B23=\"\",\"\",IFERROR(INDIRECT(\"別紙1_CO2排出量_個票\"&$B23&\"!\"&\"T42\"),\"---\"))","v":""},{"$f":"IF($B23=\"\",\"\",IFERROR(INDIRECT(\"別紙1_CO2排出量_個票\"&$B23&\"!\"&\"S46\"),\"---\"))","v":""},{"$f":"IF($B23=\"\",\"\",IFERROR(INDIRECT(\"別紙1_CO2排出量_個票\"&$B23&\"!\"&\"T46\"),\"---\"))","v":""}]
[null,{"$f":"IF(基本データ転記先シート!C198=\"\",\"\",基本データ転記先シート!C198)","v":""},{"$f":"IF($B24=\"\",\"\",IFERROR(INDIRECT(\"別紙1_CO2排出量_個票\"&$B24&\"!\"&\"D13\"),\"---\"))","v":""},null,null,null,null,null,null,null,null,{"$f":"IF($B24=\"\",\"\",IFERROR(INDIRECT(\"別紙1_CO2排出量_個票\"&$B24&\"!\"&\"K25\"),\"---\"))","v":""},{"$f":"IF($B24=\"\",\"\",IFERROR(INDIRECT(\"別紙1_CO2排出量_個票\"&$B24&\"!\"&\"K29\"),\"---\"))","v":""},{"$f":"IF($B24=\"\",\"\",IFERROR(INDIRECT(\"別紙1_CO2排出量_個票\"&$B24&\"!\"&\"L29\"),\"---\"))","v":""},{"$f":"IF($B24=\"\",\"\",IFERROR(INDIRECT(\"別紙1_CO2排出量_個票\"&$B24&\"!\"&\"K38\"),\"---\"))","v":""},{"$f":"IF($B24=\"\",\"\",IFERROR(INDIRECT(\"別紙1_CO2排出量_個票\"&$B24&\"!\"&\"L38\"),\"---\"))","v":""},"",{"$f":"IF($B24=\"\",\"\",IFERROR(INDIRECT(\"別紙1_CO2排出量_個票\"&$B24&\"!\"&\"K42\"),\"---\"))","v":""},{"$f":"IF($B24=\"\",\"\",IFERROR(INDIRECT(\"別紙1_CO2排出量_個票\"&$B24&\"!\"&\"L42\"),\"---\"))","v":""},"",{"$f":"IF($B24=\"\",\"\",IFERROR(INDIRECT(\"別紙1_CO2排出量_個票\"&$B24&\"!\"&\"K46\"),\"--\"))","v":""},{"$f":"IF($B24=\"\",\"\",IFERROR(INDIRECT(\"別紙1_CO2排出量_個票\"&$B24&\"!\"&\"L46\"),\"---\"))","v":""},"",null,null,null,{"$f":"IF($B24=\"\",\"\",IFERROR(INDIRECT(\"別紙1_CO2排出量_個票\"&$B24&\"!\"&\"S25\"),\"---\"))","v":""},{"$f":"IF($B24=\"\",\"\",IFERROR(INDIRECT(\"別紙1_CO2排出量_個票\"&$B24&\"!\"&\"S29\"),\"---\"))","v":""},{"$f":"IF($B24=\"\",\"\",IFERROR(INDIRECT(\"別紙1_CO2排出量_個票\"&$B24&\"!\"&\"T29\"),\"---\"))","v":""},{"$f":"IF($B24=\"\",\"\",IFERROR(INDIRECT(\"別紙1_CO2排出量_個票\"&$B24&\"!\"&\"S38\"),\"---\"))","v":""},{"$f":"IF($B24=\"\",\"\",IFERROR(INDIRECT(\"別紙1_CO2排出量_個票\"&$B24&\"!\"&\"T38\"),\"---\"))","v":""},{"$f":"IF($B24=\"\",\"\",IFERROR(INDIRECT(\"別紙1_CO2排出量_個票\"&$B24&\"!\"&\"S42\"),\"---\"))","v":""},{"$f":"IF($B24=\"\",\"\",IFERROR(INDIRECT(\"別紙1_CO2排出量_個票\"&$B24&\"!\"&\"T42\"),\"---\"))","v":""},{"$f":"IF($B24=\"\",\"\",IFERROR(INDIRECT(\"別紙1_CO2排出量_個票\"&$B24&\"!\"&\"S46\"),\"---\"))","v":""},{"$f":"IF($B24=\"\",\"\",IFERROR(INDIRECT(\"別紙1_CO2排出量_個票\"&$B24&\"!\"&\"T46\"),\"---\"))","v":""}]
[null,{"$f":"IF(基本データ転記先シート!C199=\"\",\"\",基本データ転記先シート!C199)","v":""},{"$f":"IF($B25=\"\",\"\",IFERROR(INDIRECT(\"別紙1_CO2排出量_個票\"&$B25&\"!\"&\"D13\"),\"---\"))","v":""},null,null,null,null,null,null,null,null,{"$f":"IF($B25=\"\",\"\",IFERROR(INDIRECT(\"別紙1_CO2排出量_個票\"&$B25&\"!\"&\"K25\"),\"---\"))","v":""},{"$f":"IF($B25=\"\",\"\",IFERROR(INDIRECT(\"別紙1_CO2排出量_個票\"&$B25&\"!\"&\"K29\"),\"---\"))","v":""},{"$f":"IF($B25=\"\",\"\",IFERROR(INDIRECT(\"別紙1_CO2排出量_個票\"&$B25&\"!\"&\"L29\"),\"---\"))","v":""},{"$f":"IF($B25=\"\",\"\",IFERROR(INDIRECT(\"別紙1_CO2排出量_個票\"&$B25&\"!\"&\"K38\"),\"---\"))","v":""},{"$f":"IF($B25=\"\",\"\",IFERROR(INDIRECT(\"別紙1_CO2排出量_個票\"&$B25&\"!\"&\"L38\"),\"---\"))","v":""},"",{"$f":"IF($B25=\"\",\"\",IFERROR(INDIRECT(\"別紙1_CO2排出量_個票\"&$B25&\"!\"&\"K42\"),\"---\"))","v":""},{"$f":"IF($B25=\"\",\"\",IFERROR(INDIRECT(\"別紙1_CO2排出量_個票\"&$B25&\"!\"&\"L42\"),\"---\"))","v":""},"",{"$f":"IF($B25=\"\",\"\",IFERROR(INDIRECT(\"別紙1_CO2排出量_個票\"&$B25&\"!\"&\"K46\"),\"--\"))","v":""},{"$f":"IF($B25=\"\",\"\",IFERROR(INDIRECT(\"別紙1_CO2排出量_個票\"&$B25&\"!\"&\"L46\"),\"---\"))","v":""},"",null,null,null,{"$f":"IF($B25=\"\",\"\",IFERROR(INDIRECT(\"別紙1_CO2排出量_個票\"&$B25&\"!\"&\"S25\"),\"---\"))","v":""},{"$f":"IF($B25=\"\",\"\",IFERROR(INDIRECT(\"別紙1_CO2排出量_個票\"&$B25&\"!\"&\"S29\"),\"---\"))","v":""},{"$f":"IF($B25=\"\",\"\",IFERROR(INDIRECT(\"別紙1_CO2排出量_個票\"&$B25&\"!\"&\"T29\"),\"---\"))","v":""},{"$f":"IF($B25=\"\",\"\",IFERROR(INDIRECT(\"別紙1_CO2排出量_個票\"&$B25&\"!\"&\"S38\"),\"---\"))","v":""},{"$f":"IF($B25=\"\",\"\",IFERROR(INDIRECT(\"別紙1_CO2排出量_個票\"&$B25&\"!\"&\"T38\"),\"---\"))","v":""},{"$f":"IF($B25=\"\",\"\",IFERROR(INDIRECT(\"別紙1_CO2排出量_個票\"&$B25&\"!\"&\"S42\"),\"---\"))","v":""},{"$f":"IF($B25=\"\",\"\",IFERROR(INDIRECT(\"別紙1_CO2排出量_個票\"&$B25&\"!\"&\"T42\"),\"---\"))","v":""},{"$f":"IF($B25=\"\",\"\",IFERROR(INDIRECT(\"別紙1_CO2排出量_個票\"&$B25&\"!\"&\"S46\"),\"---\"))","v":""},{"$f":"IF($B25=\"\",\"\",IFERROR(INDIRECT(\"別紙1_CO2排出量_個票\"&$B25&\"!\"&\"T46\"),\"---\"))","v":""}]
[null,{"$f":"IF(基本データ転記先シート!C200=\"\",\"\",基本データ転記先シート!C200)","v":""},{"$f":"IF($B26=\"\",\"\",IFERROR(INDIRECT(\"別紙1_CO2排出量_個票\"&$B26&\"!\"&\"D13\"),\"---\"))","v":""},null,null,null,null,null,null,null,null,{"$f":"IF($B26=\"\",\"\",IFERROR(INDIRECT(\"別紙1_CO2排出量_個票\"&$B26&\"!\"&\"K25\"),\"---\"))","v":""},{"$f":"IF($B26=\"\",\"\",IFERROR(INDIRECT(\"別紙1_CO2排出量_個票\"&$B26&\"!\"&\"K29\"),\"---\"))","v":""},{"$f":"IF($B26=\"\",\"\",IFERROR(INDIRECT(\"別紙1_CO2排出量_個票\"&$B26&\"!\"&\"L29\"),\"---\"))","v":""},{"$f":"IF($B26=\"\",\"\",IFERROR(INDIRECT(\"別紙1_CO2排出量_個票\"&$B26&\"!\"&\"K38\"),\"---\"))","v":""},{"$f":"IF($B26=\"\",\"\",IFERROR(INDIRECT(\"別紙1_CO2排出量_個票\"&$B26&\"!\"&\"L38\"),\"---\"))","v":""},"",{"$f":"IF($B26=\"\",\"\",IFERROR(INDIRECT(\"別紙1_CO2排出量_個票\"&$B26&\"!\"&\"K42\"),\"---\"))","v":""},{"$f":"IF($B26=\"\",\"\",IFERROR(INDIRECT(\"別紙1_CO2排出量_個票\"&$B26&\"!\"&\"L42\"),\"---\"))","v":""},"",{"$f":"IF($B26=\"\",\"\",IFERROR(INDIRECT(\"別紙1_CO2排出量_個票\"&$B26&\"!\"&\"K46\"),\"--\"))","v":""},{"$f":"IF($B26=\"\",\"\",IFERROR(INDIRECT(\"別紙1_CO2排出量_個票\"&$B26&\"!\"&\"L46\"),\"---\"))","v":""},"",null,null,null,{"$f":"IF($B26=\"\",\"\",IFERROR(INDIRECT(\"別紙1_CO2排出量_個票\"&$B26&\"!\"&\"S25\"),\"---\"))","v":""},{"$f":"IF($B26=\"\",\"\",IFERROR(INDIRECT(\"別紙1_CO2排出量_個票\"&$B26&\"!\"&\"S29\"),\"---\"))","v":""},{"$f":"IF($B26=\"\",\"\",IFERROR(INDIRECT(\"別紙1_CO2排出量_個票\"&$B26&\"!\"&\"T29\"),\"---\"))","v":""},{"$f":"IF($B26=\"\",\"\",IFERROR(INDIRECT(\"別紙1_CO2排出量_個票\"&$B26&\"!\"&\"S38\"),\"---\"))","v":""},{"$f":"IF($B26=\"\",\"\",IFERROR(INDIRECT(\"別紙1_CO2排出量_個票\"&$B26&\"!\"&\"T38\"),\"---\"))","v":""},{"$f":"IF($B26=\"\",\"\",IFERROR(INDIRECT(\"別紙1_CO2排出量_個票\"&$B26&\"!\"&\"S42\"),\"---\"))","v":""},{"$f":"IF($B26=\"\",\"\",IFERROR(INDIRECT(\"別紙1_CO2排出量_個票\"&$B26&\"!\"&\"T42\"),\"---\"))","v":""},{"$f":"IF($B26=\"\",\"\",IFERROR(INDIRECT(\"別紙1_CO2排出量_個票\"&$B26&\"!\"&\"S46\"),\"---\"))","v":""},{"$f":"IF($B26=\"\",\"\",IFERROR(INDIRECT(\"別紙1_CO2排出量_個票\"&$B26&\"!\"&\"T46\"),\"---\"))","v":""}]
[null,{"$f":"IF(基本データ転記先シート!C201=\"\",\"\",基本データ転記先シート!C201)","v":""},{"$f":"IF($B27=\"\",\"\",IFERROR(INDIRECT(\"別紙1_CO2排出量_個票\"&$B27&\"!\"&\"D13\"),\"---\"))","v":""},null,null,null,null,null,null,null,null,{"$f":"IF($B27=\"\",\"\",IFERROR(INDIRECT(\"別紙1_CO2排出量_個票\"&$B27&\"!\"&\"K25\"),\"---\"))","v":""},{"$f":"IF($B27=\"\",\"\",IFERROR(INDIRECT(\"別紙1_CO2排出量_個票\"&$B27&\"!\"&\"K29\"),\"---\"))","v":""},{"$f":"IF($B27=\"\",\"\",IFERROR(INDIRECT(\"別紙1_CO2排出量_個票\"&$B27&\"!\"&\"L29\"),\"---\"))","v":""},{"$f":"IF($B27=\"\",\"\",IFERROR(INDIRECT(\"別紙1_CO2排出量_個票\"&$B27&\"!\"&\"K38\"),\"---\"))","v":""},{"$f":"IF($B27=\"\",\"\",IFERROR(INDIRECT(\"別紙1_CO2排出量_個票\"&$B27&\"!\"&\"L38\"),\"---\"))","v":""},"",{"$f":"IF($B27=\"\",\"\",IFERROR(INDIRECT(\"別紙1_CO2排出量_個票\"&$B27&\"!\"&\"K42\"),\"---\"))","v":""},{"$f":"IF($B27=\"\",\"\",IFERROR(INDIRECT(\"別紙1_CO2排出量_個票\"&$B27&\"!\"&\"L42\"),\"---\"))","v":""},"",{"$f":"IF($B27=\"\",\"\",IFERROR(INDIRECT(\"別紙1_CO2排出量_個票\"&$B27&\"!\"&\"K46\"),\"--\"))","v":""},{"$f":"IF($B27=\"\",\"\",IFERROR(INDIRECT(\"別紙1_CO2排出量_個票\"&$B27&\"!\"&\"L46\"),\"---\"))","v":""},"",null,null,null,{"$f":"IF($B27=\"\",\"\",IFERROR(INDIRECT(\"別紙1_CO2排出量_個票\"&$B27&\"!\"&\"S25\"),\"---\"))","v":""},{"$f":"IF($B27=\"\",\"\",IFERROR(INDIRECT(\"別紙1_CO2排出量_個票\"&$B27&\"!\"&\"S29\"),\"---\"))","v":""},{"$f":"IF($B27=\"\",\"\",IFERROR(INDIRECT(\"別紙1_CO2排出量_個票\"&$B27&\"!\"&\"T29\"),\"---\"))","v":""},{"$f":"IF($B27=\"\",\"\",IFERROR(INDIRECT(\"別紙1_CO2排出量_個票\"&$B27&\"!\"&\"S38\"),\"---\"))","v":""},{"$f":"IF($B27=\"\",\"\",IFERROR(INDIRECT(\"別紙1_CO2排出量_個票\"&$B27&\"!\"&\"T38\"),\"---\"))","v":""},{"$f":"IF($B27=\"\",\"\",IFERROR(INDIRECT(\"別紙1_CO2排出量_個票\"&$B27&\"!\"&\"S42\"),\"---\"))","v":""},{"$f":"IF($B27=\"\",\"\",IFERROR(INDIRECT(\"別紙1_CO2排出量_個票\"&$B27&\"!\"&\"T42\"),\"---\"))","v":""},{"$f":"IF($B27=\"\",\"\",IFERROR(INDIRECT(\"別紙1_CO2排出量_個票\"&$B27&\"!\"&\"S46\"),\"---\"))","v":""},{"$f":"IF($B27=\"\",\"\",IFERROR(INDIRECT(\"別紙1_CO2排出量_個票\"&$B27&\"!\"&\"T46\"),\"---\"))","v":""}]
[null,{"$f":"IF(基本データ転記先シート!C202=\"\",\"\",基本データ転記先シート!C202)","v":""},{"$f":"IF($B28=\"\",\"\",IFERROR(INDIRECT(\"別紙1_CO2排出量_個票\"&$B28&\"!\"&\"D13\"),\"---\"))","v":""},null,null,null,null,null,null,null,null,{"$f":"IF($B28=\"\",\"\",IFERROR(INDIRECT(\"別紙1_CO2排出量_個票\"&$B28&\"!\"&\"K25\"),\"---\"))","v":""},{"$f":"IF($B28=\"\",\"\",IFERROR(INDIRECT(\"別紙1_CO2排出量_個票\"&$B28&\"!\"&\"K29\"),\"---\"))","v":""},{"$f":"IF($B28=\"\",\"\",IFERROR(INDIRECT(\"別紙1_CO2排出量_個票\"&$B28&\"!\"&\"L29\"),\"---\"))","v":""},{"$f":"IF($B28=\"\",\"\",IFERROR(INDIRECT(\"別紙1_CO2排出量_個票\"&$B28&\"!\"&\"K38\"),\"---\"))","v":""},{"$f":"IF($B28=\"\",\"\",IFERROR(INDIRECT(\"別紙1_CO2排出量_個票\"&$B28&\"!\"&\"L38\"),\"---\"))","v":""},"",{"$f":"IF($B28=\"\",\"\",IFERROR(INDIRECT(\"別紙1_CO2排出量_個票\"&$B28&\"!\"&\"K42\"),\"---\"))","v":""},{"$f":"IF($B28=\"\",\"\",IFERROR(INDIRECT(\"別紙1_CO2排出量_個票\"&$B28&\"!\"&\"L42\"),\"---\"))","v":""},"",{"$f":"IF($B28=\"\",\"\",IFERROR(INDIRECT(\"別紙1_CO2排出量_個票\"&$B28&\"!\"&\"K46\"),\"--\"))","v":""},{"$f":"IF($B28=\"\",\"\",IFERROR(INDIRECT(\"別紙1_CO2排出量_個票\"&$B28&\"!\"&\"L46\"),\"---\"))","v":""},"",null,null,null,{"$f":"IF($B28=\"\",\"\",IFERROR(INDIRECT(\"別紙1_CO2排出量_個票\"&$B28&\"!\"&\"S25\"),\"---\"))","v":""},{"$f":"IF($B28=\"\",\"\",IFERROR(INDIRECT(\"別紙1_CO2排出量_個票\"&$B28&\"!\"&\"S29\"),\"---\"))","v":""},{"$f":"IF($B28=\"\",\"\",IFERROR(INDIRECT(\"別紙1_CO2排出量_個票\"&$B28&\"!\"&\"T29\"),\"---\"))","v":""},{"$f":"IF($B28=\"\",\"\",IFERROR(INDIRECT(\"別紙1_CO2排出量_個票\"&$B28&\"!\"&\"S38\"),\"---\"))","v":""},{"$f":"IF($B28=\"\",\"\",IFERROR(INDIRECT(\"別紙1_CO2排出量_個票\"&$B28&\"!\"&\"T38\"),\"---\"))","v":""},{"$f":"IF($B28=\"\",\"\",IFERROR(INDIRECT(\"別紙1_CO2排出量_個票\"&$B28&\"!\"&\"S42\"),\"---\"))","v":""},{"$f":"IF($B28=\"\",\"\",IFERROR(INDIRECT(\"別紙1_CO2排出量_個票\"&$B28&\"!\"&\"T42\"),\"---\"))","v":""},{"$f":"IF($B28=\"\",\"\",IFERROR(INDIRECT(\"別紙1_CO2排出量_個票\"&$B28&\"!\"&\"S46\"),\"---\"))","v":""},{"$f":"IF($B28=\"\",\"\",IFERROR(INDIRECT(\"別紙1_CO2排出量_個票\"&$B28&\"!\"&\"T46\"),\"---\"))","v":""}]
[null,{"$f":"IF(基本データ転記先シート!C203=\"\",\"\",基本データ転記先シート!C203)","v":""},{"$f":"IF($B29=\"\",\"\",IFERROR(INDIRECT(\"別紙1_CO2排出量_個票\"&$B29&\"!\"&\"D13\"),\"---\"))","v":""},null,null,null,null,null,null,null,null,{"$f":"IF($B29=\"\",\"\",IFERROR(INDIRECT(\"別紙1_CO2排出量_個票\"&$B29&\"!\"&\"K25\"),\"---\"))","v":""},{"$f":"IF($B29=\"\",\"\",IFERROR(INDIRECT(\"別紙1_CO2排出量_個票\"&$B29&\"!\"&\"K29\"),\"---\"))","v":""},{"$f":"IF($B29=\"\",\"\",IFERROR(INDIRECT(\"別紙1_CO2排出量_個票\"&$B29&\"!\"&\"L29\"),\"---\"))","v":""},{"$f":"IF($B29=\"\",\"\",IFERROR(INDIRECT(\"別紙1_CO2排出量_個票\"&$B29&\"!\"&\"K38\"),\"---\"))","v":""},{"$f":"IF($B29=\"\",\"\",IFERROR(INDIRECT(\"別紙1_CO2排出量_個票\"&$B29&\"!\"&\"L38\"),\"---\"))","v":""},"",{"$f":"IF($B29=\"\",\"\",IFERROR(INDIRECT(\"別紙1_CO2排出量_個票\"&$B29&\"!\"&\"K42\"),\"---\"))","v":""},{"$f":"IF($B29=\"\",\"\",IFERROR(INDIRECT(\"別紙1_CO2排出量_個票\"&$B29&\"!\"&\"L42\"),\"---\"))","v":""},"",{"$f":"IF($B29=\"\",\"\",IFERROR(INDIRECT(\"別紙1_CO2排出量_個票\"&$B29&\"!\"&\"K46\"),\"--\"))","v":""},{"$f":"IF($B29=\"\",\"\",IFERROR(INDIRECT(\"別紙1_CO2排出量_個票\"&$B29&\"!\"&\"L46\"),\"---\"))","v":""},"",null,null,null,{"$f":"IF($B29=\"\",\"\",IFERROR(INDIRECT(\"別紙1_CO2排出量_個票\"&$B29&\"!\"&\"S25\"),\"---\"))","v":""},{"$f":"IF($B29=\"\",\"\",IFERROR(INDIRECT(\"別紙1_CO2排出量_個票\"&$B29&\"!\"&\"S29\"),\"---\"))","v":""},{"$f":"IF($B29=\"\",\"\",IFERROR(INDIRECT(\"別紙1_CO2排出量_個票\"&$B29&\"!\"&\"T29\"),\"---\"))","v":""},{"$f":"IF($B29=\"\",\"\",IFERROR(INDIRECT(\"別紙1_CO2排出量_個票\"&$B29&\"!\"&\"S38\"),\"---\"))","v":""},{"$f":"IF($B29=\"\",\"\",IFERROR(INDIRECT(\"別紙1_CO2排出量_個票\"&$B29&\"!\"&\"T38\"),\"---\"))","v":""},{"$f":"IF($B29=\"\",\"\",IFERROR(INDIRECT(\"別紙1_CO2排出量_個票\"&$B29&\"!\"&\"S42\"),\"---\"))","v":""},{"$f":"IF($B29=\"\",\"\",IFERROR(INDIRECT(\"別紙1_CO2排出量_個票\"&$B29&\"!\"&\"T42\"),\"---\"))","v":""},{"$f":"IF($B29=\"\",\"\",IFERROR(INDIRECT(\"別紙1_CO2排出量_個票\"&$B29&\"!\"&\"S46\"),\"---\"))","v":""},{"$f":"IF($B29=\"\",\"\",IFERROR(INDIRECT(\"別紙1_CO2排出量_個票\"&$B29&\"!\"&\"T46\"),\"---\"))","v":""}]
[null,{"$f":"IF(基本データ転記先シート!C204=\"\",\"\",基本データ転記先シート!C204)","v":""},{"$f":"IF($B30=\"\",\"\",IFERROR(INDIRECT(\"別紙1_CO2排出量_個票\"&$B30&\"!\"&\"D13\"),\"---\"))","v":""},null,null,null,null,null,null,null,null,{"$f":"IF($B30=\"\",\"\",IFERROR(INDIRECT(\"別紙1_CO2排出量_個票\"&$B30&\"!\"&\"K25\"),\"---\"))","v":""},{"$f":"IF($B30=\"\",\"\",IFERROR(INDIRECT(\"別紙1_CO2排出量_個票\"&$B30&\"!\"&\"K29\"),\"---\"))","v":""},{"$f":"IF($B30=\"\",\"\",IFERROR(INDIRECT(\"別紙1_CO2排出量_個票\"&$B30&\"!\"&\"L29\"),\"---\"))","v":""},{"$f":"IF($B30=\"\",\"\",IFERROR(INDIRECT(\"別紙1_CO2排出量_個票\"&$B30&\"!\"&\"K38\"),\"---\"))","v":""},{"$f":"IF($B30=\"\",\"\",IFERROR(INDIRECT(\"別紙1_CO2排出量_個票\"&$B30&\"!\"&\"L38\"),\"---\"))","v":""},"",{"$f":"IF($B30=\"\",\"\",IFERROR(INDIRECT(\"別紙1_CO2排出量_個票\"&$B30&\"!\"&\"K42\"),\"---\"))","v":""},{"$f":"IF($B30=\"\",\"\",IFERROR(INDIRECT(\"別紙1_CO2排出量_個票\"&$B30&\"!\"&\"L42\"),\"---\"))","v":""},"",{"$f":"IF($B30=\"\",\"\",IFERROR(INDIRECT(\"別紙1_CO2排出量_個票\"&$B30&\"!\"&\"K46\"),\"--\"))","v":""},{"$f":"IF($B30=\"\",\"\",IFERROR(INDIRECT(\"別紙1_CO2排出量_個票\"&$B30&\"!\"&\"L46\"),\"---\"))","v":""},"",null,null,null,{"$f":"IF($B30=\"\",\"\",IFERROR(INDIRECT(\"別紙1_CO2排出量_個票\"&$B30&\"!\"&\"S25\"),\"---\"))","v":""},{"$f":"IF($B30=\"\",\"\",IFERROR(INDIRECT(\"別紙1_CO2排出量_個票\"&$B30&\"!\"&\"S29\"),\"---\"))","v":""},{"$f":"IF($B30=\"\",\"\",IFERROR(INDIRECT(\"別紙1_CO2排出量_個票\"&$B30&\"!\"&\"T29\"),\"---\"))","v":""},{"$f":"IF($B30=\"\",\"\",IFERROR(INDIRECT(\"別紙1_CO2排出量_個票\"&$B30&\"!\"&\"S38\"),\"---\"))","v":""},{"$f":"IF($B30=\"\",\"\",IFERROR(INDIRECT(\"別紙1_CO2排出量_個票\"&$B30&\"!\"&\"T38\"),\"---\"))","v":""},{"$f":"IF($B30=\"\",\"\",IFERROR(INDIRECT(\"別紙1_CO2排出量_個票\"&$B30&\"!\"&\"S42\"),\"---\"))","v":""},{"$f":"IF($B30=\"\",\"\",IFERROR(INDIRECT(\"別紙1_CO2排出量_個票\"&$B30&\"!\"&\"T42\"),\"---\"))","v":""},{"$f":"IF($B30=\"\",\"\",IFERROR(INDIRECT(\"別紙1_CO2排出量_個票\"&$B30&\"!\"&\"S46\"),\"---\"))","v":""},{"$f":"IF($B30=\"\",\"\",IFERROR(INDIRECT(\"別紙1_CO2排出量_個票\"&$B30&\"!\"&\"T46\"),\"---\"))","v":""}]
[null,"※排出量及び削減量は、小数点以下を四捨五入した整数で表示されています（関数による端数処理なし）。"]
[]
[null,"２．工場・事業場全体"]
[null,null,null,null,null,null,null,null,null,null,null,"基準年度",null,null,"実績（対策実施後）",null,null,null,null,null,null,null,null,null,null,null,"基準年度",null,null,"実績"]
[null,null,null,null,null,null,null,null,null,null,null,null,null,null,{"$f":"O16","v":"令和6年度"},null,null,{"$f":"R16","v":"令和7年度"},null,null,{"$f":"U16","v":"令和8年度"},null,null,null,null,null,null,null,null,{"$f":"O16","v":"令和6年度"},null,{"$f":"R16","v":"令和7年度"},null,{"$f":"U16","v":"令和8年度"}]
[null,null,null,null,null,null,null,null,null,null,null,"排出量",null,null,"排出量","削減量",null,"排出量","削減量",null,"排出量","削減量",null,null,null,null,"使用量",null,null,"使用量","削減量","使用量","削減量","使用量","削減量"]
[null,"CO2排出量、CO2削減量（t-CO2/年）",null,null,null,null,null,null,null,null,null,{"$f":"IF(基本データ転記先シート!$F$25=\"\",\"\",基本データ転記先シート!$F$25)","v":500.26612},null,null,{"$f":"IF($L$37=\"\",\"\",別紙2_CO2排出量_全体!$E$15)","v":391.16444256000011},{"$f":"IF(OR($L$37=\"\",O37=\"\"),\"\",$L$37-O37)","v":109.10167743999989},null,{"$f":"IF($L$37=\"\",\"\",別紙2_CO2排出量_全体!$F$15)","v":0},{"$f":"IF(OR($L$37=\"\",R37=\"\"),\"\",$L$37-R37)","v":500.26612},null,{"$f":"IF($L$37=\"\",\"\",別紙2_CO2排出量_全体!$G$15)","v":0},{"$f":"IF(OR($L$37=\"\",U37=\"\"),\"\",$L$37-U37)","v":500.26612},null,null,null,"エネルギー使用量合計(GJ/年)",{"$f":"IF(基本データ転記先シート!$F$26=\"\",\"\",基本データ転記先シート!$F$26)","v":8218.1239999999998},null,null,{"$f":"IF($AA$37=\"\",\"\",別紙2_CO2排出量_全体!$E$16)","v":8028.4236096000022},{"$f":"IF(OR($AA$37=\"\",AD37=\"\"),\"\",$AA$37-AD37)","v":189.70039039999756},{"$f":"IF($AA$37=\"\",\"\",別紙2_CO2排出量_全体!$F$16)","v":0},{"$f":"IF(OR($AA$37=\"\",AF37=\"\"),\"\",$AA$37-AF37)","v":8218.1239999999998},{"$f":"IF($AA$37=\"\",\"\",別紙2_CO2排出量_全体!$G$16)","v":0},{"$f":"IF(OR($AA$37=\"\",AH37=\"\"),\"\",$AA$37-AH37)","v":8218.1239999999998}]
[null,"※排出量及び削減量は、小数点以下を四捨五入した整数で表示されています（関数による端数処理なし）。"]
[]
[]
[null,null,null,null,null,null,null,null,null,null,null,null,null,null,null,null,null,null,null,null,null,null,null,null,null,null,"設備・機器","計画","実績"]
[null,null,null,null,null,null,null,null,null,null,null,null,null,null,null,null,null,null,null,null,null,null,null,null,null,null,null,"対策実施後目標",{"$f":"O16","v":"令和6年度"},{"$f":"R16","v":"令和7年度"},{"$f":"U16","v":"令和8年度"}]
[null,null,null,null,null,null,null,null,null,null,null,null,null,null,null,null,null,null,null,null,null,null,null,null,null,null,"排出量",{"$f":"$M$18","v":286.03844762},{"$f":"$O$18","v":286.55716000000007},{"$f":"$R$18","v":0},{"$f":"$U$18","v":0}]
[null,null,null,null,null,null,null,null,null,null,null,null,null,null,null,null,null,null,null,null,null,null,null,null,null,null,"対基準年度_削減量",{"$f":"$N$18","v":109.62037237999998},{"$f":"IF($P$18<0,0,$P$18)","v":109.10165999999995},{"$f":"IF($S$18<0,0,$S$18)","v":0},{"$f":"IF($V$18<0,0,$V$18)","v":0}]
[]
[null,null,null,null,null,null,null,null,null,null,null,null,null,null,null,null,null,null,null,null,null,null,null,null,null,null,"工場・事業場","基準年度","実績"]
[null,null,null,null,null,null,null,null,null,null,null,null,null,null,null,null,null,null,null,null,null,null,null,null,null,null,null,null,{"$f":"O16","v":"令和6年度"},{"$f":"R16","v":"令和7年度"},{"$f":"U16","v":"令和8年度"}]
[null,null,null,null,null,null,null,null,null,null,null,null,null,null,null,null,null,null,null,null,null,null,null,null,null,null,"排出量",{"$f":"$L$37","v":500.26612},{"$f":"$O$37","v":391.16444256000011},{"$f":"$R$37","v":0},{"$f":"$U$37","v":0}]
[null,null,null,null,null,null,null,null,null,null,null,null,null,null,null,null,null,null,null,null,null,null,null,null,null,null,"対基準年度_削減量","---",{"$f":"IF($P$37<0,0,$P$37)","v":109.10167743999989},{"$f":"IF($S$37<0,0,$S$37)","v":500.26612},{"$f":"IF($V$37<0,0,$V$37)","v":500.26612}]

{"sheet":"様式16_令和6年度事業報告書","index":3,"n_rows":68,"n_cols":44,"rows_kept":68,"cut":false,"hidden":false,"merged":[[67,1,68,35],[64,1,64,11],[64,12,64,35],[65,1,66,3],[65,4,65,11],[65,12,65,35],[66,4,66,11],[66,12,66,35],[46,3,46,4],[46,5,46,6],[63,1,63,11],[63,12,63,35],[48,11,48,19],[49,11,49,19],[53,2,55,35],[58,1,58,11],[58,12,58,35],[59,1,59,11],[59,12,59,35],[60,1,61,3],[60,4,60,11],[60,12,60,35],[61,4,61,11],[61,12,61,35],[19,9,19,10],[19,11,19,13],[19,14,19,18],[40,3,40,4],[40,5,40,6],[32,3,32,4],[32,5,32,6],[36,5,38,35],[19,20,19,24],[19,25,19,35],[20,1,22,35],[24,1,24,35],[28,3,28,4],[28,5,28,6],[19,2,19,4],[19,6,19,7],[15,1,15,35],[16,1,16,35],[17,13,17,14],[17,15,17,16],[17,17,17,22],[8,14,8,17],[8,18,8,23],[8,24,9,35],[10,18,10,23],[10,24,11,35],[12,18,12,23],[12,24,13,35],[2,29,2,35],[3,29,3,35],[4,25,4,26],[4,27,4,28],[4,30,4,31],[4,33,4,34]]}
[]
[null,"様式第１６　(第１６条関係)",null,null,null,null,null,null,null,null,null,null,null,null,null,null,null,null,null,null,null,null,null,null,null,null,null,null,null,null,null,null,null,null,null,null,null,null,null,null,null,null,null,false]
[null,null,null,null,null,null,null,null,null,null,null,null,null,null,null,null,null,null,null,null,null,null,null,null,null,null,null,null,"プロジェクト番号："]
[null,null,null,null,null,null,null,null,null,null,null,null,null,null,null,null,null,null,null,null,null,null,null,null,null,null,null,null,"GAJ事業番号："]
[null,null,null,null,null,null,null,null,null,null,null,null,null,null,null,null,null,null,null,null,null,null,null,null,null,"令和",null,7,null,"年",4,null,"月",null,null,"日"]
[]
[null,"環　境　大　臣　　殿"]
[]
[null,null,null,null,null,null,null,null,null,null,null,null,null,null,"補助事業者",null,null,null,"住所:",null,null,null,null,null,"●●県●●市●●"]
[]
[null,null,null,null,null,null,null,null,null,null,null,null,null,null,null,null,null,null,"氏名又は名称:",null,null,null,null,null,"○○株式会社"]
[]
[null,null,null,null,null,null,null,null,null,null,null,null,null,null,null,null,null,null,"代表者の職・氏名:",null,null,null,null,null,"○○○○○○"]
[]
[]
[null,"令和４年度(第２次補正予算)・令和５年度二酸化炭素排出抑制対策事業費等補助金"]
[null,"（工場・事業場における先導的な脱炭素化取組推進事業）"]
[null,null,null,null,null,null,null,null,null,null,null,null,null,"令和",null,{"$f":"MID(CELL(\"filename\",$N$18),FIND(\"]\",CELL(\"filename\",$N$18))+8,1)","v":"6"},null,"年度 事業報告書"]
[]
[null,null,"令和5",null,null,"年",null,null,"月",null,null,"日付け",null,null,null,null,null,null,null,"第",null,null,null,null,null,"号で交付決定の通知を受けた"]
[null,"二酸化炭素排出抑制対策事業費等補助金（工場・事業場における先導的な脱炭素化取組推進事業）について、令和４年度(第２次補正予算)・令和５年度二酸化炭素排出抑制対策事業費等補助金（工場・事業場における先導的な脱炭素化取組推進事業）CO2削減計画策定支援・省CO2型設備更新支援 交付規程第１６条第１項の規定に基づき下記のとおり報告します。"]
[]
[]
[]
[null,"記"]
[]
[null,"１　CO2削減計画に記された取組の実施状況"]
[]
[null,"（１）",null,"令和",null,{"$f":"IF($P$18=\"\",\"\",$P$18)","v":"6"},null,"年度の省CO2型設備更新支援事業への申請状況",null,null,null,null,null,null,null,null,null,null,null,null,null,null,null,null,null,null,null,null,null,null,null,null,null,null,null,null,null,null,null,null,null,null,null,"設備更新補助への申請状況"]
[]
[null,null,null,null,"申請した",null,null,null,null,null,null,null,null,null,null,null,null,null,null,null,null,null,"申請していない",null,null,null,null,null,null,null,null,null,null,null,null,null,null,null,null,null,null,null,null,0]
[]
[null,"（２）",null,"令和",null,{"$f":"IF($P$18=\"\",\"\",$P$18)","v":"6"},null,"年度のその他の補助事業の利用状況",null,null,null,null,null,null,null,null,null,null,null,null,null,null,null,null,null,null,null,null,null,null,null,null,null,null,null,null,null,null,null,null,null,null,null,"その他の補助事業利用状況"]
[]
[null,null,null,null,"その他の補助事業を利用した",null,null,null,null,null,null,null,null,null,null,null,null,null,null,null,null,null,"その他の補助事業を利用していない",null,null,null,null,null,null,null,null,null,null,null,null,null,null,null,null,null,null,null,null,0]
[null,null,null,null,"→","その他補助事業の名称及び、実施した対策内容・対象設備等"]
[]
[]
[]
[]
[null,"（３）",null,"令和",null,{"$f":"IF($P$18=\"\",\"\",$P$18)","v":"6"},null,"年度の対策実施状況",null,null,null,null,null,null,null,null,null,null,null,null,null,null,null,null,null,null,null,null,null,null,null,null,null,null,null,null,null,null,null,null,null,null,null,"対策実施状況"]
[]
[null,null,null,null,"当初の計画どおりに対策を実施した",null,null,null,null,null,null,null,null,null,null,null,null,null,null,null,null,null,"当初の計画から変更があった",null,null,null,null,null,null,null,null,null,null,null,null,null,null,null,null,null,null,null,null,0]
[]
[null,"２　事業実施による二酸化炭素排出削減効果について（設備・機器）"]
[]
[null,"（１）",null,"令和",null,{"$f":"IF($P$18=\"\",\"\",$P$18)","v":"6"},null,"年度の[実績]二酸化炭素排出量"]
[]
[null,null,null,"[計画]二酸化炭素排出量",null,null,null,null,null,null,null,{"$f":"IF(事業報告書まとめ_計画策定支援!$M$18=\"\",\"\",事業報告書まとめ_計画策定支援!$M$18)","v":286.03844762},null,null,null,null,null,null,null,null,"t-CO2/年"]
[null,null,null,"[実績]二酸化炭素排出量",null,null,null,null,null,null,null,{"$f":"IF(事業報告書まとめ_計画策定支援!$O$18=\"\",\"\",事業報告書まとめ_計画策定支援!$O$18)","v":286.55716000000007},null,null,null,null,null,null,null,null,"t-CO2/年"]
[]
[null,"（２）",null,"[実績]二酸化炭素排出量が[計画]二酸化炭素排出量を超過した場合の原因"]
[]
[]
[]
[]
[]
[null,"【本件責任者及び担当者の氏名、連絡先等】"]
[null,"責任者の所属部署・職名・氏名",null,null,null,null,null,null,null,null,null,null,"○○株式会社　●●部　部長　△△△△△△"]
[null,"担当者の所属部署・職名・氏名",null,null,null,null,null,null,null,null,null,null,"○○株式会社　●●部　▲▲▲▲▲"]
[null,"連絡先",null,null,"電話番号",null,null,null,null,null,null,null,"123-456-789"]
[null,null,null,null,"メールアドレス",null,null,null,null,null,null,null,"▲▲▲@○○○"]
[]
[null,"責任者の所属部署・職名・氏名"]
[null,"担当者の所属部署・職名・氏名"]
[null,"連絡先",null,null,"電話番号"]
[null,null,null,null,"メールアドレス"]
[null,"注　交付規程第３条第３項の規定に基づき共同で交付申請した場合は、代表事業者が報告すること。2者が代表事業者で申請する場合は、連名で申請すること。"]

{"sheet":"様式16_令和7年度事業報告書","index":4,"n_rows":68,"n_cols":44,"rows_kept":68,"cut":false,"hidden":false,"merged":[[63,1,63,11],[63,12,63,35],[48,11,48,19],[49,11,49,19],[53,2,55,35],[58,1,58,11],[58,12,58,35],[60,1,61,3],[60,4,60,11],[60,12,60,35],[61,4,61,11],[61,12,61,35],[67,1,68,35],[64,1,64,11],[64,12,64,35],[65,1,66,3],[65,4,65,11],[65,12,65,35],[66,4,66,11],[66,12,66,35],[17,13,17,14],[19,14,19,18],[17,15,17,16],[17,17,17,22],[59,1,59,11],[59,12,59,35],[28,5,28,6],[46,3,46,4],[46,5,46,6],[19,20,19,24],[32,3,32,4],[32,5,32,6],[36,5,38,35],[40,3,40,4],[40,5,40,6],[19,25,19,35],[20,1,22,35],[24,1,24,35],[28,3,28,4],[19,2,19,4],[19,6,19,7],[19,9,19,10],[19,11,19,13],[2,29,2,35],[3,29,3,35],[4,25,4,26],[4,27,4,28],[4,30,4,31],[4,33,4,34],[15,1,15,35],[16,1,16,35],[8,14,8,17],[8,18,8,23],[8,24,9,35],[10,18,10,23],[10,24,11,35],[12,18,12,23],[12,24,13,35]]}
[]
[null,"様式第１６　(第１６条関係)",null,null,null,null,null,null,null,null,null,null,null,null,null,null,null,null,null,null,null,null,null,null,null,null,null,null,null,null,null,null,null,null,null,null,null,null,null,null,null,null,null,false]
[null,null,null,null,null,null,null,null,null,null,null,null,null,null,null,null,null,null,null,null,null,null,null,null,null,null,null,null,"プロジェクト番号：",{"$f":"IF(様式16_令和6年度事業報告書!$AD$3=\"\",\"\",様式16_令和6年度事業報告書!$AD$3)","v":""}]
[null,null,null,null,null,null,null,null,null,null,null,null,null,null,null,null,null,null,null,null,null,null,null,null,null,null,null,null,"GAJ事業番号：",{"$f":"IF(様式16_令和6年度事業報告書!$AD$4=\"\",\"\",様式16_令和6年度事業報告書!$AD$4)","v":""}]
[null,null,null,null,null,null,null,null,null,null,null,null,null,null,null,null,null,null,null,null,null,null,null,null,null,"令和",null,8,null,"年",4,null,"月",null,null,"日"]
[]
[null,"環　境　大　臣　　殿"]
[]
[null,null,null,null,null,null,null,null,null,null,null,null,null,null,"補助事業者",null,null,null,"住所:",null,null,null,null,null,{"$f":"IF(様式16_令和6年度事業報告書!$Y$9=\"\",\"\",様式16_令和6年度事業報告書!$Y$9)","v":"●●県●●市●●"}]
[]
[null,null,null,null,null,null,null,null,null,null,null,null,null,null,null,null,null,null,"氏名又は名称:",null,null,null,null,null,{"$f":"IF(様式16_令和6年度事業報告書!$Y$11=\"\",\"\",様式16_令和6年度事業報告書!$Y$11)","v":"○○株式会社"}]
[]
[null,null,null,null,null,null,null,null,null,null,null,null,null,null,null,null,null,null,"代表者の職・氏名:",null,null,null,null,null,{"$f":"IF(様式16_令和6年度事業報告書!$Y$13=\"\",\"\",様式16_令和6年度事業報告書!$Y$13)","v":"○○○○○○"}]
[]
[]
[null,"令和４年度(第２次補正予算)・令和５年度二酸化炭素排出抑制対策事業費等補助金"]
[null,"（工場・事業場における先導的な脱炭素化取組推進事業）"]
[null,null,null,null,null,null,null,null,null,null,null,null,null,"令和",null,{"$f":"MID(CELL(\"filename\",$N$18),FIND(\"]\",CELL(\"filename\",$N$18))+8,1)","v":"7"},null,"年度 事業報告書"]
[]
[null,null,{"$f":"IF(様式16_令和6年度事業報告書!$C$20=\"\",\"\",様式16_令和6年度事業報告書!$C$20)","v":"令和5"},null,null,"年",{"$f":"IF(様式16_令和6年度事業報告書!$G$20=\"\",\"\",様式16_令和6年度事業報告書!$G$20)","v":""},null,"月",{"$f":"IF(様式16_令和6年度事業報告書!$J$20=\"\",\"\",様式16_令和6年度事業報告書!$J$20)","v":""},null,"日付け",null,null,{"$f":"IF(様式16_令和6年度事業報告書!$O$20=\"\",\"\",様式16_令和6年度事業報告書!$O$20)","v":""},null,null,null,null,"第",{"$f":"IF(様式16_令和6年度事業報告書!$U$20=\"\",\"\",様式16_令和6年度事業報告書!$U$20)","v":""},null,null,null,null,"号で交付決定の通知を受けた"]
[null,"二酸化炭素排出抑制対策事業費等補助金（工場・事業場における先導的な脱炭素化取組推進事業）について、令和４年度(第２次補正予算)・令和５年度二酸化炭素排出抑制対策事業費等補助金（工場・事業場における先導的な脱炭素化取組推進事業）CO2削減計画策定支援・省CO2型設備更新支援 交付規程第１６条第１項の規定に基づき下記のとおり報告します。"]
[]
[]
[]
[null,"記"]
[]
[null,"１　CO2削減計画に記された取組の実施状況"]
[]
[null,"（１）",null,"令和",null,{"$f":"IF($P$18=\"\",\"\",$P$18)","v":"7"},null,"年度の省CO2型設備更新支援事業への申請状況",null,null,null,null,null,null,null,null,null,null,null,null,null,null,null,null,null,null,null,null,null,null,null,null,null,null,null,null,null,null,null,null,null,null,null,"設備更新補助への申請状況"]
[]
[null,null,null,null,"申請した",null,null,null,null,null,null,null,null,null,null,null,null,null,null,null,null,null,"申請していない",null,null,null,null,null,null,null,null,null,null,null,null,null,null,null,null,null,null,null,null,0]
[]
[null,"（２）",null,"令和",null,{"$f":"IF($P$18=\"\",\"\",$P$18)","v":"7"},null,"年度のその他の補助事業の利用状況",null,null,null,null,null,null,null,null,null,null,null,null,null,null,null,null,null,null,null,null,null,null,null,null,null,null,null,null,null,null,null,null,null,null,null,"その他の補助事業利用状況"]
[null,null,null,null,null,null,null,null,null,null,null,null,null,1]
[null,null,null,null,"その他の補助事業を利用した",null,null,null,null,null,null,null,null,null,null,null,null,null,null,null,null,null,"その他の補助事業を利用していない",null,null,null,null,null,null,null,null,null,null,null,null,null,null,null,null,null,null,null,null,0]
[null,null,null,null,"→","その他補助事業の名称及び、実施した対策内容・対象設備等"]
[]
[]
[]
[]
[null,"（３）",null,"令和",null,{"$f":"IF($P$18=\"\",\"\",$P$18)","v":"7"},null,"年度の対策実施状況",null,null,null,null,null,null,null,null,null,null,null,null,null,null,null,null,null,null,null,null,null,null,null,null,null,null,null,null,null,null,null,null,null,null,null,"対策実施状況"]
[]
[null,null,null,null,"当初の計画どおりに対策を実施した",null,null,null,null,null,null,null,null,null,null,null,null,null,null,null,null,null,"当初の計画から変更があった",null,null,null,null,null,null,null,null,null,null,null,null,null,null,null,null,null,null,null,null,0]
[]
[null,"２　事業実施による二酸化炭素排出削減効果について（設備・機器）"]
[]
[null,"（１）",null,"令和",null,{"$f":"IF($P$18=\"\",\"\",$P$18)","v":"7"},null,"年度の[実績]二酸化炭素排出量"]
[]
[null,null,null,"[計画]二酸化炭素排出量",null,null,null,null,null,null,null,{"$f":"IF(事業報告書まとめ_計画策定支援!$M$18=\"\",\"\",事業報告書まとめ_計画策定支援!$M$18)","v":286.03844762},null,null,null,null,null,null,null,null,"t-CO2/年"]
[null,null,null,"[実績]二酸化炭素排出量",null,null,null,null,null,null,null,{"$f":"IF(事業報告書まとめ_計画策定支援!$R$18=\"\",\"\",事業報告書まとめ_計画策定支援!$R$18)","v":0},null,null,null,null,null,null,null,null,"t-CO2/年"]
[]
[null,"（２）",null,"[実績]二酸化炭素排出量が[計画]二酸化炭素排出量を超過した場合の原因"]
[]
[]
[]
[]
[]
[null,"【本件責任者及び担当者の氏名、連絡先等】"]
[null,"責任者の所属部署・職名・氏名",null,null,null,null,null,null,null,null,null,null,{"$f":"IF(様式16_令和6年度事業報告書!$M$59=\"\",\"\",様式16_令和6年度事業報告書!$M$59)","v":"○○株式会社　●●部　部長　△△△△△△"}]
[null,"担当者の所属部署・職名・氏名",null,null,null,null,null,null,null,null,null,null,{"$f":"IF(様式16_令和6年度事業報告書!$M$60=\"\",\"\",様式16_令和6年度事業報告書!$M$60)","v":"○○株式会社　●●部　▲▲▲▲▲"}]
[null,"連絡先",null,null,"電話番号",null,null,null,null,null,null,null,{"$f":"IF(様式16_令和6年度事業報告書!$M$61=\"\",\"\",様式16_令和6年度事業報告書!$M$61)","v":"123-456-789"}]
[null,null,null,null,"メールアドレス",null,null,null,null,null,null,null,{"$f":"IF(様式16_令和6年度事業報告書!$M$62=\"\",\"\",様式16_令和6年度事業報告書!$M$62)","v":"▲▲▲@○○○"}]
[]
[null,"責任者の所属部署・職名・氏名",null,null,null,null,null,null,null,null,null,null,{"$f":"IF(様式16_令和6年度事業報告書!$M$64=\"\",\"\",様式16_令和6年度事業報告書!$M$64)","v":""}]
[null,"担当者の所属部署・職名・氏名",null,null,null,null,null,null,null,null,null,null,{"$f":"IF(様式16_令和6年度事業報告書!$M$65=\"\",\"\",様式16_令和6年度事業報告書!$M$65)","v":""}]
[null,"連絡先",null,null,"電話番号",null,null,null,null,null,null,null,{"$f":"IF(様式16_令和6年度事業報告書!$M$66=\"\",\"\",様式16_令和6年度事業報告書!$M$66)","v":""}]
[null,null,null,null,"メールアドレス",null,null,null,null,null,null,null,{"$f":"IF(様式16_令和6年度事業報告書!$M$67=\"\",\"\",様式16_令和6年度事業報告書!$M$67)","v":""}]
[null,"注　交付規程第３条第３項の規定に基づき共同で交付申請した場合は、代表事業者が報告すること。2者が代表事業者で申請する場合は、連名で申請すること。"]

{"sheet":"様式16_令和8年度事業報告書","index":5,"n_rows":68,"n_cols":44,"rows_kept":68,"cut":false,"hidden":false,"merged":[[63,1,63,11],[63,12,63,35],[48,11,48,19],[49,11,49,19],[53,2,55,35],[58,1,58,11],[58,12,58,35],[60,1,61,3],[60,4,60,11],[60,12,60,35],[61,4,61,11],[61,12,61,35],[67,1,68,35],[64,1,64,11],[64,12,64,35],[65,1,66,3],[65,4,65,11],[65,12,65,35],[66,4,66,11],[66,12,66,35],[17,13,17,14],[19,14,19,18],[17,15,17,16],[17,17,17,22],[59,1,59,11],[59,12,59,35],[28,5,28,6],[46,3,46,4],[46,5,46,6],[19,20,19,24],[32,3,32,4],[32,5,32,6],[36,5,38,35],[40,3,40,4],[40,5,40,6],[19,25,19,35],[20,1,22,35],[24,1,24,35],[28,3,28,4],[19,2,19,4],[19,6,19,7],[19,9,19,10],[19,11,19,13],[2,29,2,35],[3,29,3,35],[4,25,4,26],[4,27,4,28],[4,30,4,31],[4,33,4,34],[15,1,15,35],[16,1,16,35],[8,14,8,17],[8,18,8,23],[8,24,9,35],[10,18,10,23],[10,24,11,35],[12,18,12,23],[12,24,13,35]]}
[]
[null,"様式第１６　(第１６条関係)",null,null,null,null,null,null,null,null,null,null,null,null,null,null,null,null,null,null,null,null,null,null,null,null,null,null,null,null,null,null,null,null,null,null,null,null,null,null,null,null,null,false]
[null,null,null,null,null,null,null,null,null,null,null,null,null,null,null,null,null,null,null,null,null,null,null,null,null,null,null,null,"プロジェクト番号：",{"$f":"IF(様式16_令和7年度事業報告書!$AD$3=\"\",\"\",様式16_令和7年度事業報告書!$AD$3)","v":""}]
[null,null,null,null,null,null,null,null,null,null,null,null,null,null,null,null,null,null,null,null,null,null,null,null,null,null,null,null,"GAJ事業番号：",{"$f":"IF(様式16_令和7年度事業報告書!$AD$4=\"\",\"\",様式16_令和7年度事業報告書!$AD$4)","v":""}]
[null,null,null,null,null,null,null,null,null,null,null,null,null,null,null,null,null,null,null,null,null,null,null,null,null,"令和",null,9,null,"年",4,null,"月",null,null,"日"]
[]
[null,"環　境　大　臣　　殿"]
[]
[null,null,null,null,null,null,null,null,null,null,null,null,null,null,"補助事業者",null,null,null,"住所:",null,null,null,null,null,{"$f":"IF(様式16_令和7年度事業報告書!$Y$9=\"\",\"\",様式16_令和7年度事業報告書!$Y$9)","v":"●●県●●市●●"}]
[]
[null,null,null,null,null,null,null,null,null,null,null,null,null,null,null,null,null,null,"氏名又は名称:",null,null,null,null,null,{"$f":"IF(様式16_令和7年度事業報告書!$Y$11=\"\",\"\",様式16_令和7年度事業報告書!$Y$11)","v":"○○株式会社"}]
[]
[null,null,null,null,null,null,null,null,null,null,null,null,null,null,null,null,null,null,"代表者の職・氏名:",null,null,null,null,null,{"$f":"IF(様式16_令和7年度事業報告書!$Y$13=\"\",\"\",様式16_令和7年度事業報告書!$Y$13)","v":"○○○○○○"}]
[]
[]
[null,"令和４年度(第２次補正予算)・令和５年度二酸化炭素排出抑制対策事業費等補助金"]
[null,"（工場・事業場における先導的な脱炭素化取組推進事業）"]
[null,null,null,null,null,null,null,null,null,null,null,null,null,"令和",null,{"$f":"MID(CELL(\"filename\",$N$18),FIND(\"]\",CELL(\"filename\",$N$18))+8,1)","v":"8"},null,"年度 事業報告書"]
[]
[null,null,{"$f":"IF(様式16_令和6年度事業報告書!$C$20=\"\",\"\",様式16_令和6年度事業報告書!$C$20)","v":"令和5"},null,null,"年",{"$f":"IF(様式16_令和6年度事業報告書!$G$20=\"\",\"\",様式16_令和6年度事業報告書!$G$20)","v":""},null,"月",{"$f":"IF(様式16_令和6年度事業報告書!$J$20=\"\",\"\",様式16_令和6年度事業報告書!$J$20)","v":""},null,"日付け",null,null,{"$f":"IF(様式16_令和6年度事業報告書!$O$20=\"\",\"\",様式16_令和6年度事業報告書!$O$20)","v":""},null,null,null,null,"第",{"$f":"IF(様式16_令和6年度事業報告書!$U$20=\"\",\"\",様式16_令和6年度事業報告書!$U$20)","v":""},null,null,null,null,"号で交付決定の通知を受けた"]
[null,"二酸化炭素排出抑制対策事業費等補助金（工場・事業場における先導的な脱炭素化取組推進事業）について、令和４年度(第２次補正予算)・令和５年度二酸化炭素排出抑制対策事業費等補助金（工場・事業場における先導的な脱炭素化取組推進事業）CO2削減計画策定支援・省CO2型設備更新支援 交付規程第１６条第１項の規定に基づき下記のとおり報告します。"]
[]
[]
[]
[null,"記"]
[]
[null,"１　CO2削減計画に記された取組の実施状況"]
[]
[null,"（１）",null,"令和",null,{"$f":"IF($P$18=\"\",\"\",$P$18)","v":"8"},null,"年度の省CO2型設備更新支援事業への申請状況",null,null,null,null,null,null,null,null,null,null,null,null,null,null,null,null,null,null,null,null,null,null,null,null,null,null,null,null,null,null,null,null,null,null,null,"設備更新補助への申請状況"]
[]
[null,null,null,null,"申請した",null,null,null,null,null,null,null,null,null,null,null,null,null,null,null,null,null,"申請していない",null,null,null,null,null,null,null,null,null,null,null,null,null,null,null,null,null,null,null,null,0]
[]
[null,"（２）",null,"令和",null,{"$f":"IF($P$18=\"\",\"\",$P$18)","v":"8"},null,"年度のその他の補助事業の利用状況",null,null,null,null,null,null,null,null,null,null,null,null,null,null,null,null,null,null,null,null,null,null,null,null,null,null,null,null,null,null,null,null,null,null,null,"その他の補助事業利用状況"]
[]
[null,null,null,null,"その他の補助事業を利用した",null,null,null,null,null,null,null,null,null,null,null,null,null,null,null,null,null,"その他の補助事業を利用していない",null,null,null,null,null,null,null,null,null,null,null,null,null,null,null,null,null,null,null,null,0]
[null,null,null,null,"→","その他補助事業の名称及び、実施した対策内容・対象設備等"]
[]
[]
[]
[]
[null,"（３）",null,"令和",null,{"$f":"IF($P$18=\"\",\"\",$P$18)","v":"8"},null,"年度の対策実施状況",null,null,null,null,null,null,null,null,null,null,null,null,null,null,null,null,null,null,null,null,null,null,null,null,null,null,null,null,null,null,null,null,null,null,null,"対策実施状況"]
[]
[null,null,null,null,"当初の計画どおりに対策を実施した",null,null,null,null,null,null,null,null,null,null,null,null,null,null,null,null,null,"当初の計画から変更があった",null,null,null,null,null,null,null,null,null,null,null,null,null,null,null,null,null,null,null,null,0]
[]
[null,"２　事業実施による二酸化炭素排出削減効果について（設備・機器）"]
[]
[null,"（１）",null,"令和",null,{"$f":"IF($P$18=\"\",\"\",$P$18)","v":"8"},null,"年度の[実績]二酸化炭素排出量"]
[]
[null,null,null,"[計画]二酸化炭素排出量",null,null,null,null,null,null,null,{"$f":"IF(事業報告書まとめ_計画策定支援!$M$18=\"\",\"\",事業報告書まとめ_計画策定支援!$M$18)","v":286.03844762},null,null,null,null,null,null,null,null,"t-CO2/年"]
[null,null,null,"[実績]二酸化炭素排出量",null,null,null,null,null,null,null,{"$f":"IF(事業報告書まとめ_計画策定支援!$U$18=\"\",\"\",事業報告書まとめ_計画策定支援!$U$18)","v":0},null,null,null,null,null,null,null,null,"t-CO2/年"]
[]
[null,"（２）",null,"[実績]二酸化炭素排出量が[計画]二酸化炭素排出量を超過した場合の原因"]
[]
[]
[]
[]
[]
[null,"【本件責任者及び担当者の氏名、連絡先等】"]
[null,"責任者の所属部署・職名・氏名",null,null,null,null,null,null,null,null,null,null,{"$f":"IF(様式16_令和7年度事業報告書!$M$59=\"\",\"\",様式16_令和7年度事業報告書!$M$59)","v":"○○株式会社　●●部　部長　△△△△△△"}]
[null,"担当者の所属部署・職名・氏名",null,null,null,null,null,null,null,null,null,null,{"$f":"IF(様式16_令和7年度事業報告書!$M$60=\"\",\"\",様式16_令和7年度事業報告書!$M$60)","v":"○○株式会社　●●部　▲▲▲▲▲"}]
[null,"連絡先",null,null,"電話番号",null,null,null,null,null,null,null,{"$f":"IF(様式16_令和7年度事業報告書!$M$61=\"\",\"\",様式16_令和7年度事業報告書!$M$61)","v":"123-456-789"}]
[null,null,null,null,"メールアドレス",null,null,null,null,null,null,null,{"$f":"IF(様式16_令和7年度事業報告書!$M$62=\"\",\"\",様式16_令和7年度事業報告書!$M$62)","v":"▲▲▲@○○○"}]
[]
[null,"責任者の所属部署・職名・氏名",null,null,null,null,null,null,null,null,null,null,{"$f":"IF(様式16_令和7年度事業報告書!$M$64=\"\",\"\",様式16_令和7年度事業報告書!$M$64)","v":""}]
[null,"担当者の所属部署・職名・氏名",null,null,null,null,null,null,null,null,null,null,{"$f":"IF(様式16_令和7年度事業報告書!$M$65=\"\",\"\",様式16_令和7年度事業報告書!$M$65)","v":""}]
[null,"連絡先",null,null,"電話番号",null,null,null,null,null,null,null,{"$f":"IF(様式16_令和7年度事業報告書!$M$66=\"\",\"\",様式16_令和7年度事業報告書!$M$66)","v":""}]
[null,null,null,null,"メールアドレス",null,null,null,null,null,null,null,{"$f":"IF(様式16_令和7年度事業報告書!$M$67=\"\",\"\",様式16_令和7年度事業報告書!$M$67)","v":""}]
[null,"注　交付規程第３条第３項の規定に基づき共同で交付申請した場合は、代表事業者が報告すること。2者が代表事業者で申請する場合は、連名で申請すること。"]

{"sheet":"別紙1_CO2排出量_個票1","index":6,"n_rows":209,"n_cols":22,"rows_kept":209,"cut":false,"hidden":false,"merged":[[54,9,54,10],[109,9,109,10],[166,1,207,11],[208,1,208,11],[209,1,213,11],[111,1,152,11],[153,1,153,11],[154,1,158,11],[164,1,164,2],[164,3,164,8],[165,1,165,11],[164,9,164,10],[33,9,33,10],[34,9,34,10],[35,1,35,2],[35,3,35,8],[110,1,110,11],[37,1,40,1],[41,1,44,1],[45,1,48,1],[54,1,54,2],[54,3,54,8],[55,1,55,11],[56,1,97,11],[98,1,98,11],[99,1,103,11],[109,1,109,2],[109,3,109,8],[33,1,33,2],[33,3,33,8],[34,1,34,2],[34,3,34,8],[28,1,31,1],[16,3,16,11],[17,1,17,2],[17,3,17,11],[22,15,22,16],[24,1,27,1],[22,3,22,4],[22,5,22,6],[22,7,22,8],[35,9,35,10],[4,1,4,2],[4,3,4,11],[5,1,5,2],[5,3,5,11],[11,1,11,2],[11,7,11,9],[12,1,12,2],[12,3,12,11],[13,1,13,2],[13,3,13,11],[14,1,14,2],[14,3,14,11],[15,1,15,2],[15,3,15,11],[16,1,16,2]]}
[null,null,null,null,null,null,null,null,null,null,null,null,null,null,null,null,null,null,null,null,null,"セル色表示/非表示"]
[null,"環境省　令和４年度（第2次補正予算）・令和5年度二酸化炭素排出抑制対策事業費等補助金",null,null,null,null,null,null,null,null,null,null,null,null,null,null,null,null,null,null,null,false]
[null," （工場・事業場における先導的な脱炭素化取組推進事業（SHIFT事業））"]
[]
[null,"事業者名（法人名）",null,{"$f":"IF(事業報告書まとめ_計画策定支援!$H$7=\"\",\"\",事業報告書まとめ_計画策定支援!$H$7)","v":"○○株式会社"}]
[null,"工場・事業場名",null,{"$f":"IF(事業報告書まとめ_計画策定支援!$H$8=\"\",\"\",事業報告書まとめ_計画策定支援!$H$8)","v":"○○工場"}]
[]
[null,{"$f":"\"【様式第16 事業報告書】 別紙1_CO2排出量_個票\"&$D$12","v":"【様式第16 事業報告書】 別紙1_CO2排出量_個票1"}]
[]
[null,"１．対策概要"]
[]
[null,"個票番号",null,{"$f":"MID(CELL(\"filename\",$A$1),FIND(\"]\",CELL(\"filename\",$A$1))+14,LEN(CELL(\"filename\",$A$1)))","v":"1"},null,null,null,"統合した対策個票番号"]
[null,"対策名称",null,{"$f":"IF(VLOOKUP(VALUE($D$12),個票概要,3,FALSE)=\"\",\"\",VLOOKUP(VALUE($D$12),個票概要,3,FALSE))","v":"A重油蒸気ボイラから都市ガス蒸気ボイラへの燃料転換"}]
[null,"対策種類",null,{"$f":"IF(VLOOKUP(VALUE($D$12),個票概要,2,FALSE)=\"\",\"\",VLOOKUP(VALUE($D$12),個票概要,2,FALSE))","v":"燃料低炭素化"}]
[null,"対象システム／設備",null,{"$f":"IF(VLOOKUP(VALUE($D$12),個票概要,6,FALSE)=\"\",\"\",VLOOKUP(VALUE($D$12),個票概要,6,FALSE))","v":"蒸気システム（発生）"}]
[null,"工程",null,{"$f":"IF(VLOOKUP(VALUE($D$12),個票概要,5,FALSE)=\"\",\"\",VLOOKUP(VALUE($D$12),個票概要,5,FALSE))","v":"原料加熱"}]
[null,"既存設備名称",null,{"$f":"IF(VLOOKUP(VALUE($D$12),個票概要,7,FALSE)=\"\",\"\",VLOOKUP(VALUE($D$12),個票概要,7,FALSE))","v":"A重油焚きボイラ"}]
[null,"導入設備名称",null,{"$f":"IF(VLOOKUP(VALUE($D$12),個票概要,8,FALSE)=\"\",\"\",VLOOKUP(VALUE($D$12),個票概要,8,FALSE))","v":"都市ガス焚きボイラ"}]
[]
[]
[null,"２．CO2排出量"]
[]
[null,null,"活動種別","年間活動量",null,"単位発熱量",null,"CO2排出係数",null,"CO2排出量\n(t-CO2/年)","CO2排出量合計\n(t-CO2/年)","CO2削減量\n(t-CO2/年)",null,null,"活動種別","単位発熱量",null,"GJ換算量\n(GJ/年)","GJ換算量合計\n(GJ/年)","GJ削減量\n(GJ/年)"]
[null,"■計画",null,null,null,null,null,null,null,null,null,null,null,null,"■計画"]
[{"$f":"IF($C25=\"\",\"\",VLOOKUP($C25,活動の種別と単位_個票,2,FALSE))","v":0},"【前】\n対策実施",{"$f":"IF(VLOOKUP(VALUE($D$12),対策前後,2,FALSE)=\"\",\"\",VLOOKUP(VALUE($D$12),対策前後,2,FALSE))","v":"A重油"},{"$f":"IF(VLOOKUP(VALUE($D$12),対策前後,3,FALSE)=\"\",\"\",VLOOKUP(VALUE($D$12),対策前後,3,FALSE))","v":131},{"$f":"IF($C25=\"\",\"\",VLOOKUP($C25,活動の種別と単位_個票,4,FALSE))","v":"kl"},{"$f":"IF(VLOOKUP(VALUE($D$12),対策前後,5,FALSE)=\"\",\"\",VLOOKUP(VALUE($D$12),対策前後,5,FALSE))","v":38.9},{"$f":"IF($C25=\"\",\"\",VLOOKUP($C25,活動の種別と単位_個票,5,FALSE))","v":"GJ/kl"},{"$f":"IF(VLOOKUP(VALUE($D$12),対策前後,7,FALSE)=\"\",\"\",VLOOKUP(VALUE($D$12),対策前後,7,FALSE))","v":7.0800000000000002E-2},{"$f":"IF($C25=\"\",\"\",VLOOKUP($C25,活動の種別と単位_個票,6,FALSE))","v":"t-CO2/GJ"},{"$f":"IFERROR(IF($D25=\"\",\"\",IF($A25=0,$D25*$F25*$H25,$D25*$H25)),\"---\")","v":360.78971999999999},{"$f":"IF(SUM(LEN($J25),LEN($J26),LEN($J27),LEN($J28))=0,\"\",SUM($J25:$J28))","v":360.78971999999999},null,null,null,{"$f":"IF($C25=\"\",\"\",IF(COUNTIF($C25,\"*系統電力*\"),\"*系統電力*\",IF(COUNTIF($C25,\"*産業用蒸気*\"),\"*産業用蒸気*\",IF(COUNTIF($C25,\"*温水*\"),\"*温水*\",IF(COUNTIF($C25,\"*冷水*\"),\"*冷水*\",IF(COUNTIF($C25,\"*蒸気（産業用以外）*\"),\"*蒸気（産業用以外）*\",$C25))))))","v":"A重油"},{"$f":"IF($O25=\"\",\"\",IFERROR(VLOOKUP($O25,電力等のGJ換算係数_個票,2,FALSE),F25))","v":38.9},{"$f":"IF($O25=\"\",\"\",IFERROR(VLOOKUP($O25,電力等のGJ換算係数_個票,3,FALSE),VLOOKUP($O25,活動の種別と単位_個票,5,FALSE)))","v":"GJ/kl"},{"$f":"IF(OR($D25=\"\",$P25=\"\"),\"\",$D25*$P25)","v":5095.8999999999996},{"$f":"IF(SUM(LEN($R25),LEN($R26),LEN($R27),LEN($R28))=0,\"\",SUM($R25:$R28))","v":5095.8999999999996}]
["",null,{"$f":"IF(VLOOKUP(VALUE($D$12)&\"-2\",対策前後,2,FALSE)=\"\",\"\",VLOOKUP(VALUE($D$12)&\"-2\",対策前後,2,FALSE))","v":""},{"$f":"IF(VLOOKUP(VALUE($D$12)&\"-2\",対策前後,3,FALSE)=\"\",\"\",VLOOKUP(VALUE($D$12)&\"-2\",対策前後,3,FALSE))","v":""},{"$f":"IF($C26=\"\",\"\",VLOOKUP($C26,活動の種別と単位_個票,4,FALSE))","v":""},{"$f":"IF(VLOOKUP(VALUE($D$12)&\"-2\",対策前後,5,FALSE)=\"\",\"\",VLOOKUP(VALUE($D$12)&\"-2\",対策前後,5,FALSE))","v":""},"",{"$f":"IF(VLOOKUP(VALUE($D$12)&\"-2\",対策前後,7,FALSE)=\"\",\"\",VLOOKUP(VALUE($D$12)&\"-2\",対策前後,7,FALSE))","v":""},"","","(a)",null,null,null,{"$f":"IF($C26=\"\",\"\",IF(COUNTIF($C26,\"*系統電力*\"),\"*系統電力*\",IF(COUNTIF($C26,\"*産業用蒸気*\"),\"*産業用蒸気*\",IF(COUNTIF($C26,\"*温水*\"),\"*温水*\",IF(COUNTIF($C26,\"*冷水*\"),\"*冷水*\",IF(COUNTIF($C26,\"*蒸気（産業用以外）*\"),\"*蒸気（産業用以外）*\",$C26))))))","v":""},{"$f":"IF($O26=\"\",\"\",IFERROR(VLOOKUP($O26,電力等のGJ換算係数_個票,2,FALSE),F26))","v":""},{"$f":"IF($O26=\"\",\"\",IFERROR(VLOOKUP($O26,電力等のGJ換算係数_個票,3,FALSE),VLOOKUP($O26,活動の種別と単位_個票,5,FALSE)))","v":""},{"$f":"IF(OR($D26=\"\",$P26=\"\"),\"\",$D26*$P26)","v":""},"(A)"]
["",null,{"$f":"IF(VLOOKUP(VALUE($D$12)&\"-3\",対策前後,2,FALSE)=\"\",\"\",VLOOKUP(VALUE($D$12)&\"-3\",対策前後,2,FALSE))","v":""},{"$f":"IF(VLOOKUP(VALUE($D$12)&\"-3\",対策前後,3,FALSE)=\"\",\"\",VLOOKUP(VALUE($D$12)&\"-3\",対策前後,3,FALSE))","v":""},"",{"$f":"IF(VLOOKUP(VALUE($D$12)&\"-3\",対策前後,5,FALSE)=\"\",\"\",VLOOKUP(VALUE($D$12)&\"-3\",対策前後,5,FALSE))","v":""},"",{"$f":"IF(VLOOKUP(VALUE($D$12)&\"-3\",対策前後,7,FALSE)=\"\",\"\",VLOOKUP(VALUE($D$12)&\"-3\",対策前後,7,FALSE))","v":""},"","",null,null,null,null,"","",{"$f":"IF($O27=\"\",\"\",IFERROR(VLOOKUP($O27,電力等のGJ換算係数_個票,3,FALSE),VLOOKUP($O27,活動の種別と単位_個票,5,FALSE)))","v":""},""]
["",null,{"$f":"IF(VLOOKUP(VALUE($D$12)&\"-4\",対策前後,2,FALSE)=\"\",\"\",VLOOKUP(VALUE($D$12)&\"-4\",対策前後,2,FALSE))","v":""},{"$f":"IF(VLOOKUP(VALUE($D$12)&\"-4\",対策前後,3,FALSE)=\"\",\"\",VLOOKUP(VALUE($D$12)&\"-4\",対策前後,3,FALSE))","v":""},"",{"$f":"IF(VLOOKUP(VALUE($D$12)&\"-4\",対策前後,5,FALSE)=\"\",\"\",VLOOKUP(VALUE($D$12)&\"-4\",対策前後,5,FALSE))","v":""},"",{"$f":"IF(VLOOKUP(VALUE($D$12)&\"-4\",対策前後,7,FALSE)=\"\",\"\",VLOOKUP(VALUE($D$12)&\"-4\",対策前後,7,FALSE))","v":""},"","",null,null,null,null,"","","",""]
[0,"【計画】\n対策実施",{"$f":"IF(VLOOKUP(VALUE($D$12),対策前後,9,FALSE)=\"\",\"\",VLOOKUP(VALUE($D$12),対策前後,9,FALSE))","v":"都市ガス"},{"$f":"IF(VLOOKUP(VALUE($D$12),対策前後,10,FALSE)=\"\",\"\",VLOOKUP(VALUE($D$12),対策前後,10,FALSE))","v":112.497},"千Nm3",{"$f":"IF(VLOOKUP(VALUE($D$12),対策前後,12,FALSE)=\"\",\"\",VLOOKUP(VALUE($D$12),対策前後,12,FALSE))","v":44.2},"GJ/千Nm3",{"$f":"IF(VLOOKUP(VALUE($D$12),対策前後,14,FALSE)=\"\",\"\",VLOOKUP(VALUE($D$12),対策前後,14,FALSE))","v":5.1299999999999998E-2},"t-CO2/GJ",255.08244762000001,{"$f":"IF(SUM(LEN($J29),LEN($J30),LEN($J31),LEN($J32))=0,\"\",SUM($J29:$J32))","v":255.08244762000001},{"$f":"IFERROR($K$25-$K$29,\"---\")","v":105.70727237999998},null,null,"都市ガス",44.2,"GJ/千Nm3",4972.3674000000001,{"$f":"IF(SUM(LEN($R29),LEN($R30),LEN($R31),LEN($R32))=0,\"\",SUM($R29:$R32))","v":4972.3674000000001},{"$f":"IFERROR($S$25-$S$29,\"---\")","v":123.53259999999955}]
["",null,{"$f":"IF(VLOOKUP(VALUE($D$12)&\"-2\",対策前後,9,FALSE)=\"\",\"\",VLOOKUP(VALUE($D$12)&\"-2\",対策前後,9,FALSE))","v":""},{"$f":"IF(VLOOKUP(VALUE($D$12)&\"-2\",対策前後,10,FALSE)=\"\",\"\",VLOOKUP(VALUE($D$12)&\"-2\",対策前後,10,FALSE))","v":""},"",{"$f":"IF(VLOOKUP(VALUE($D$12)&\"-2\",対策前後,12,FALSE)=\"\",\"\",VLOOKUP(VALUE($D$12)&\"-2\",対策前後,12,FALSE))","v":""},"",{"$f":"IF(VLOOKUP(VALUE($D$12)&\"-2\",対策前後,14,FALSE)=\"\",\"\",VLOOKUP(VALUE($D$12)&\"-2\",対策前後,14,FALSE))","v":""},"","","(b)","(a-b)",null,null,"","","","","(B)","(A-B)"]
["",null,{"$f":"IF(VLOOKUP(VALUE($D$12)&\"-3\",対策前後,9,FALSE)=\"\",\"\",VLOOKUP(VALUE($D$12)&\"-3\",対策前後,9,FALSE))","v":""},{"$f":"IF(VLOOKUP(VALUE($D$12)&\"-3\",対策前後,10,FALSE)=\"\",\"\",VLOOKUP(VALUE($D$12)&\"-3\",対策前後,10,FALSE))","v":""},"",{"$f":"IF(VLOOKUP(VALUE($D$12)&\"-3\",対策前後,12,FALSE)=\"\",\"\",VLOOKUP(VALUE($D$12)&\"-3\",対策前後,12,FALSE))","v":""},"",{"$f":"IF(VLOOKUP(VALUE($D$12)&\"-3\",対策前後,14,FALSE)=\"\",\"\",VLOOKUP(VALUE($D$12)&\"-3\",対策前後,14,FALSE))","v":""},"","",null,null,null,null,"","","",""]
["",null,{"$f":"IF(VLOOKUP(VALUE($D$12)&\"-4\",対策前後,9,FALSE)=\"\",\"\",VLOOKUP(VALUE($D$12)&\"-4\",対策前後,9,FALSE))","v":""},{"$f":"IF(VLOOKUP(VALUE($D$12)&\"-4\",対策前後,10,FALSE)=\"\",\"\",VLOOKUP(VALUE($D$12)&\"-4\",対策前後,10,FALSE))","v":""},"",{"$f":"IF(VLOOKUP(VALUE($D$12)&\"-4\",対策前後,12,FALSE)=\"\",\"\",VLOOKUP(VALUE($D$12)&\"-4\",対策前後,12,FALSE))","v":""},"",{"$f":"IF(VLOOKUP(VALUE($D$12)&\"-4\",対策前後,14,FALSE)=\"\",\"\",VLOOKUP(VALUE($D$12)&\"-4\",対策前後,14,FALSE))","v":""},"","",null,null,null,null,"","","",""]
[null,"■対策実施状況",null,null,null,null,null,null,null,null,null,null,null,null,null,null,null,null,null,null,null,"計画変更状況"]
[null,"令和6年度",null,"実施済み（CO2削減効果算定）",null,null,null,null,null,"　当初計画から変更あり",null," ",null,null,null,null,null,null,null,null,null,false]
[null,"令和7年度",null,null,null,null,null,null,null,"　当初計画から変更あり",null,null,null,null,null,null,null,null,null,null,null,false]
[null,"令和8年度",null,null,null,null,null,null,null,"　当初計画から変更あり",null,null,null,null,null,null,null,null,null,null,null,false]
[null,"■実績",null,null,null,null,null,null,null,null,null,null,null,null,"■実績"]
[{"$f":"IF($C38=\"\",\"\",VLOOKUP($C38,活動の種別と単位_個票,2,FALSE))","v":0},{"$f":"B34","v":"令和6年度"},{"$f":"IF($D$34=\"\",\"\",IF(COUNTIF($D$34,\"*済*\"),$C$29,$C$25))","v":"都市ガス"},111,{"$f":"IF($C38=\"\",\"\",VLOOKUP($C38,活動の種別と単位_個票,4,FALSE))","v":"千Nm3"},{"$f":"IF($D$34=\"\",\"\",IF(COUNTIF($D$34,\"*済*\"),$F$29,$F$25))","v":44.2},{"$f":"IF($C38=\"\",\"\",VLOOKUP($C38,活動の種別と単位_個票,5,FALSE))","v":"GJ/千Nm3"},{"$f":"IF($D$34=\"\",\"\",IF(COUNTIF($D$34,\"*済*\"),$H$29,$H$25))","v":5.1299999999999998E-2},{"$f":"IF($C38=\"\",\"\",VLOOKUP($C38,活動の種別と単位_個票,6,FALSE))","v":"t-CO2/GJ"},{"$f":"IFERROR(IF($D38=\"\",\"\",IF($A38=0,$D38*$F38*$H38,$D38*$H38)),\"---\")","v":251.68806000000004},{"$f":"IF(SUM(LEN($J38),LEN($J39),LEN($J40),LEN($J41))=0,\"\",SUM($J38:$J41))","v":251.68806000000004},{"$f":"IFERROR($K$25-$K$38,\"---\")","v":109.10165999999995},null,null,{"$f":"IF($C38=\"\",\"\",IF(COUNTIF($C38,\"*系統電力*\"),\"*系統電力*\",IF(COUNTIF($C38,\"*産業用蒸気*\"),\"*産業用蒸気*\",IF(COUNTIF($C38,\"*温水*\"),\"*温水*\",IF(COUNTIF($C38,\"*冷水*\"),\"*冷水*\",IF(COUNTIF($C38,\"*蒸気（産業用以外）*\"),\"*蒸気（産業用以外）*\",$C38))))))","v":"都市ガス"},{"$f":"IF($O38=\"\",\"\",IFERROR(VLOOKUP($O38,電力等のGJ換算係数_個票,2,FALSE),F38))","v":44.2},{"$f":"IF($O38=\"\",\"\",IFERROR(VLOOKUP($O38,電力等のGJ換算係数_個票,3,FALSE),VLOOKUP($O38,活動の種別と単位_個票,5,FALSE)))","v":"GJ/千Nm3"},{"$f":"IF(OR($D38=\"\",$P38=\"\"),\"\",$D38*$P38)","v":4906.2000000000007},{"$f":"IF(SUM(LEN($R38),LEN($R39),LEN($R40),LEN($R41))=0,\"\",SUM($R38:$R41))","v":4906.2000000000007},{"$f":"IFERROR($S$25-$S$38,\"---\")","v":189.69999999999891}]
["",null,{"$f":"IF($D$34=\"\",\"\",IF(COUNTIF($D$34,\"*済*\"),$C$30,$C$26))","v":""},{"$f":"IF($D$34=\"\",\"\",IF(COUNTIF($D$34,\"*済*\"),\"\",$D$26))","v":""},"",{"$f":"IF($D$34=\"\",\"\",IF(COUNTIF($D$34,\"*済*\"),$F$30,$F$26))","v":""},"",{"$f":"IF($D$34=\"\",\"\",IF(COUNTIF($D$34,\"*済*\"),$H$30,$H$26))","v":""},"","","(c1)","(a-c1)",null,null,{"$f":"IF($C39=\"\",\"\",IF(COUNTIF($C39,\"*系統電力*\"),\"*系統電力*\",IF(COUNTIF($C39,\"*産業用蒸気*\"),\"*産業用蒸気*\",IF(COUNTIF($C39,\"*温水*\"),\"*温水*\",IF(COUNTIF($C39,\"*冷水*\"),\"*冷水*\",IF(COUNTIF($C39,\"*蒸気（産業用以外）*\"),\"*蒸気（産業用以外）*\",$C39))))))","v":""},"","","","(C1)","(A-C1)"]
["",null,{"$f":"IF($D$34=\"\",\"\",IF(COUNTIF($D$34,\"*済*\"),$C$31,$C$27))","v":""},{"$f":"IF($D$34=\"\",\"\",IF(COUNTIF($D$34,\"*済*\"),\"\",$D$27))","v":""},"",{"$f":"IF($D$34=\"\",\"\",IF(COUNTIF($D$34,\"*済*\"),$F$31,$F$27))","v":""},"",{"$f":"IF($D$34=\"\",\"\",IF(COUNTIF($D$34,\"*済*\"),$H$31,$H$27))","v":""},"","",null,null,null,null,"","","",""]
["",null,{"$f":"IF($D$34=\"\",\"\",IF(COUNTIF($D$34,\"*済*\"),$C$32,$C$28))","v":""},{"$f":"IF($D$34=\"\",\"\",IF(COUNTIF($D$34,\"*済*\"),\"\",$D$28))","v":""},"",{"$f":"IF($D$34=\"\",\"\",IF(COUNTIF($D$34,\"*済*\"),$F$32,$F$28))","v":""},"",{"$f":"IF($D$34=\"\",\"\",IF(COUNTIF($D$34,\"*済*\"),$H$32,$H$28))","v":""},"","",null,null,null,null,"","","",""]
["",{"$f":"B35","v":"令和7年度"},{"$f":"IF($D$35=\"\",\"\",IF(COUNTIF($D$35,\"*済*\"),$C$29,$C$25))","v":""},{"$f":"IF($D$35=\"\",\"\",IF(COUNTIF($D$35,\"*済*\"),\"\",$D$25))","v":""},"",{"$f":"IF($D$35=\"\",\"\",IF(COUNTIF($D$35,\"*済*\"),$F$29,$F$25))","v":""},"",{"$f":"IF($D$35=\"\",\"\",IF(COUNTIF($D$35,\"*済*\"),$H$29,$H$25))","v":""},"","",{"$f":"IF(SUM(LEN($J42),LEN($J43),LEN($J44),LEN($J45))=0,\"\",SUM($J42:$J45))","v":""},{"$f":"IFERROR($K$25-$K$42,\"---\")","v":"---"},null,null,"","","","",{"$f":"IF(SUM(LEN($R42),LEN($R43),LEN($R44),LEN($R45))=0,\"\",SUM($R42:$R45))","v":""},{"$f":"IFERROR($S$25-$S$42,\"---\")","v":"---"}]
["",null,{"$f":"IF($D$35=\"\",\"\",IF(COUNTIF($D$35,\"*済*\"),$C$30,$C$26))","v":""},{"$f":"IF($D$35=\"\",\"\",IF(COUNTIF($D$35,\"*済*\"),\"\",$D$26))","v":""},"",{"$f":"IF($D$35=\"\",\"\",IF(COUNTIF($D$35,\"*済*\"),$F$30,$F$26))","v":""},"",{"$f":"IF($D$35=\"\",\"\",IF(COUNTIF($D$35,\"*済*\"),$H$30,$H$26))","v":""},"","","(c2)","(a-c2)",null,null,"","","","","(C2)","(A-C2)"]
["",null,{"$f":"IF($D$35=\"\",\"\",IF(COUNTIF($D$35,\"*済*\"),$C$31,$C$27))","v":""},{"$f":"IF($D$35=\"\",\"\",IF(COUNTIF($D$35,\"*済*\"),\"\",$D$27))","v":""},"",{"$f":"IF($D$35=\"\",\"\",IF(COUNTIF($D$35,\"*済*\"),$F$31,$F$27))","v":""},"",{"$f":"IF($D$35=\"\",\"\",IF(COUNTIF($D$35,\"*済*\"),$H$31,$H$27))","v":""},"","",null,null,null,null,"","","",""]
["",null,{"$f":"IF($D$35=\"\",\"\",IF(COUNTIF($D$35,\"*済*\"),$C$32,$C$28))","v":""},{"$f":"IF($D$35=\"\",\"\",IF(COUNTIF($D$35,\"*済*\"),\"\",$D$28))","v":""},"",{"$f":"IF($D$35=\"\",\"\",IF(COUNTIF($D$35,\"*済*\"),$F$32,$F$28))","v":""},"",{"$f":"IF($D$35=\"\",\"\",IF(COUNTIF($D$35,\"*済*\"),$H$32,$H$28))","v":""},"","",null,null,null,null,"","","",""]
["",{"$f":"B36","v":"令和8年度"},{"$f":"IF($D$36=\"\",\"\",IF(COUNTIF($D$36,\"*済*\"),$C$29,$C$25))","v":""},{"$f":"IF($D$36=\"\",\"\",IF(COUNTIF($D$36,\"*済*\"),\"\",$D$25))","v":""},"",{"$f":"IF($D$36=\"\",\"\",IF(COUNTIF($D$36,\"*済*\"),$F$29,$F$25))","v":""},"",{"$f":"IF($D$36=\"\",\"\",IF(COUNTIF($D$36,\"*済*\"),$H$29,$H$25))","v":""},"","",{"$f":"IF(SUM(LEN($J46),LEN($J47),LEN($J48),LEN($J49))=0,\"\",SUM($J46:$J49))","v":""},{"$f":"IFERROR($K$25-$K$46,\"---\")","v":"---"},null,null,"","","","",{"$f":"IF(SUM(LEN($R46),LEN($R47),LEN($R48),LEN($R49))=0,\"\",SUM($R46:$R49))","v":""},{"$f":"IFERROR($S$25-$S$46,\"---\")","v":"---"}]
["",null,{"$f":"IF($D$36=\"\",\"\",IF(COUNTIF($D$36,\"*済*\"),$C$30,$C$26))","v":""},{"$f":"IF($D$36=\"\",\"\",IF(COUNTIF($D$36,\"*済*\"),\"\",$D$26))","v":""},"",{"$f":"IF($D$36=\"\",\"\",IF(COUNTIF($D$36,\"*済*\"),$F$30,$F$26))","v":""},"",{"$f":"IF($D$36=\"\",\"\",IF(COUNTIF($D$36,\"*済*\"),$H$30,$H$26))","v":""},"","","(c3)","(a-c3)",null,null,"","","","","(C3)","(A-C3)"]
["",null,{"$f":"IF($D$36=\"\",\"\",IF(COUNTIF($D$36,\"*済*\"),$C$31,$C$27))","v":""},{"$f":"IF($D$36=\"\",\"\",IF(COUNTIF($D$36,\"*済*\"),\"\",$D$27))","v":""},"",{"$f":"IF($D$36=\"\",\"\",IF(COUNTIF($D$36,\"*済*\"),$F$31,$F$27))","v":""},"",{"$f":"IF($D$36=\"\",\"\",IF(COUNTIF($D$36,\"*済*\"),$H$31,$H$27))","v":""},"","",null,null,null,null,"","","",""]
["",null,{"$f":"IF($D$36=\"\",\"\",IF(COUNTIF($D$36,\"*済*\"),$C$32,$C$28))","v":""},{"$f":"IF($D$36=\"\",\"\",IF(COUNTIF($D$36,\"*済*\"),\"\",$D$28))","v":""},"",{"$f":"IF($D$36=\"\",\"\",IF(COUNTIF($D$36,\"*済*\"),$F$32,$F$28))","v":""},"",{"$f":"IF($D$36=\"\",\"\",IF(COUNTIF($D$36,\"*済*\"),$H$32,$H$28))","v":""},"","",null,null,null,null,"","","",""]
[null,"※活動量、排出量及び削減量は、小数点以下を四捨五入した整数で表示されています（端数処理なし）。"]
[null,null,null,null,null,null,null,null,null,null,null,{"$f":"\"個票\"&$D$12","v":"個票1"}]
[]
[null,"３．CO2排出量の算出根拠"]
[]
[null,{"$f":"$B$38","v":"令和6年度"},null,{"$f":"IF($D$34=\"\",\"\",$D$34)","v":"実施済み（CO2削減効果算定）"},null,null,null,null,null,{"$f":"IF(D55=\"\",\"\",IF($V$34=FALSE,\"当初計画どおり\",\"当初計画から変更あり\"))","v":"当初計画どおり"}]
[null,"CO2排出量の計算式で使用する「活動種別ごとの年間活動量」の算出根拠\n※「対策実施済み」の場合は、実施計画書の対策個票「7.報告時のCO2排出量算定のための活動量把握方法」に基づき算出すること。"]
[]
[]
[]
[]
[]
[]
[]
[]
[]
[]
[]
[]
[]
[]
[]
[]
[]
[]
[]
[]
[]
[]
[]
[]
[]
[]
[]
[]
[]
[]
[]
[]
[]
[]
[]
[]
[]
[]
[]
[]
[]
[]
[null,"備考"]
[]
[]
[]
[]
[]
[]
[null,null,null,null,null,null,null,null,null,null,null,{"$f":"\"個票\"&$D$12","v":"個票1"}]
[]
[]
[]
[null,{"$f":"$B$42","v":"令和7年度"},null,{"$f":"IF($D$35=\"\",\"\",$D$35)","v":""},null,null,null,null,null,{"$f":"IF(D110=\"\",\"\",IF($V$35=FALSE,\"当初計画どおり\",\"当初計画から変更あり\"))","v":""}]
[null,"CO2排出量の計算式で使用する「活動種別ごとの年間活動量」の算出根拠\n※「対策実施済み」の場合は、実施計画書の対策個票「7.報告時のCO2排出量算定のための活動量把握方法」に基づき算出すること。"]
[]
[]
[]
[]
[]
[]
[]
[]
[]
[]
[]
[]
[]
[]
[]
[]
[]
[]
[]
[]
[]
[]
[]
[]
[]
[]
[]
[]
[]
[]
[]
[]
[]
[]
[]
[]
[]
[]
[]
[]
[]
[]
[null,"備考"]
[]
[]
[]
[]
[]
[]
[null,null,null,null,null,null,null,null,null,null,null,{"$f":"\"個票\"&$D$12","v":"個票1"}]
[]
[]
[]
[null,{"$f":"$B$46","v":"令和8年度"},null,{"$f":"IF($D$36=\"\",\"\",$D$36)","v":""},null,null,null,null,null,{"$f":"IF(D165=\"\",\"\",IF($V$36=FALSE,\"当初計画どおり\",\"当初計画から変更あり\"))","v":""}]
[null,"CO2排出量の計算式で使用する「活動種別ごとの年間活動量」の算出根拠\n※「対策実施済み」の場合は、実施計画書の対策個票「7.報告時のCO2排出量算定のための活動量把握方法」に基づき算出すること。"]
[]
[]
[]
[]
[]
[]
[]
[]
[]
[]
[]
[]
[]
[]
[]
[]
[]
[]
[]
[]
[]
[]
[]
[]
[]
[]
[]
[]
[]
[]
[]
[]
[]
[]
[]
[]
[]
[]
[]
[]
[]
[]
[null,"備考"]

{"sheet":"別紙1_CO2排出量_個票2","index":7,"n_rows":209,"n_cols":22,"rows_kept":209,"cut":false,"hidden":false,"merged":[[166,1,207,11],[208,1,208,11],[209,1,213,11],[153,1,153,11],[154,1,158,11],[164,1,164,2],[164,3,164,8],[164,9,164,10],[165,1,165,11],[111,1,152,11],[54,1,54,2],[54,3,54,8],[54,9,54,10],[55,1,55,11],[56,1,97,11],[98,1,98,11],[99,1,103,11],[109,1,109,2],[109,3,109,8],[109,9,109,10],[110,1,110,11],[22,15,22,16],[24,1,27,1],[45,1,48,1],[33,1,33,2],[33,3,33,8],[33,9,33,10],[34,1,34,2],[34,3,34,8],[34,9,34,10],[35,1,35,2],[35,3,35,8],[35,9,35,10],[37,1,40,1],[41,1,44,1],[28,1,31,1],[22,3,22,4],[22,5,22,6],[22,7,22,8],[12,1,12,2],[12,3,12,11],[13,1,13,2],[13,3,13,11],[14,1,14,2],[14,3,14,11],[15,1,15,2],[15,3,15,11],[16,1,16,2],[16,3,16,11],[17,1,17,2],[17,3,17,11],[4,1,4,2],[4,3,4,11],[5,1,5,2],[5,3,5,11],[11,1,11,2],[11,7,11,9]]}
[null,null,null,null,null,null,null,null,null,null,null,null,null,null,null,null,null,null,null,null,null,"セル色表示/非表示"]
[null,"環境省　令和４年度（第2次補正予算）・令和5年度二酸化炭素排出抑制対策事業費等補助金",null,null,null,null,null,null,null,null,null,null,null,null,null,null,null,null,null,null,null,false]
[null," （工場・事業場における先導的な脱炭素化取組推進事業（SHIFT事業））"]
[]
[null,"事業者名（法人名）",null,{"$f":"IF(事業報告書まとめ_計画策定支援!$H$7=\"\",\"\",事業報告書まとめ_計画策定支援!$H$7)","v":"○○株式会社"}]
[null,"工場・事業場名",null,{"$f":"IF(事業報告書まとめ_計画策定支援!$H$8=\"\",\"\",事業報告書まとめ_計画策定支援!$H$8)","v":"○○工場"}]
[]
[null,{"$f":"\"【様式第16 事業報告書】 別紙1_CO2排出量_個票\"&$D$12","v":"【様式第16 事業報告書】 別紙1_CO2排出量_個票2"}]
[]
[null,"１．対策概要"]
[]
[null,"個票番号",null,{"$f":"MID(CELL(\"filename\",$A$1),FIND(\"]\",CELL(\"filename\",$A$1))+14,LEN(CELL(\"filename\",$A$1)))","v":"2"},null,null,null,"統合した対策個票番号"]
[null,"対策名称",null,{"$f":"IF(VLOOKUP(VALUE($D$12),個票概要,3,FALSE)=\"\",\"\",VLOOKUP(VALUE($D$12),個票概要,3,FALSE))","v":"ボイラ室照明の不要時間帯の消灯"}]
[null,"対策種類",null,{"$f":"IF(VLOOKUP(VALUE($D$12),個票概要,2,FALSE)=\"\",\"\",VLOOKUP(VALUE($D$12),個票概要,2,FALSE))","v":"運用改善"}]
[null,"対象システム／設備",null,{"$f":"IF(VLOOKUP(VALUE($D$12),個票概要,6,FALSE)=\"\",\"\",VLOOKUP(VALUE($D$12),個票概要,6,FALSE))","v":"照明設備"}]
[null,"工程",null,{"$f":"IF(VLOOKUP(VALUE($D$12),個票概要,5,FALSE)=\"\",\"\",VLOOKUP(VALUE($D$12),個票概要,5,FALSE))","v":"照明"}]
[null,"既存設備名称",null,{"$f":"IF(VLOOKUP(VALUE($D$12),個票概要,7,FALSE)=\"\",\"\",VLOOKUP(VALUE($D$12),個票概要,7,FALSE))","v":"照明設備"}]
[null,"導入設備名称",null,{"$f":"IF(VLOOKUP(VALUE($D$12),個票概要,8,FALSE)=\"\",\"\",VLOOKUP(VALUE($D$12),個票概要,8,FALSE))","v":""}]
[]
[]
[null,"２．CO2排出量"]
[]
[null,null,"活動種別","年間活動量",null,"単位発熱量",null,"CO2排出係数",null,"CO2排出量\n(t-CO2/年)","CO2排出量合計\n(t-CO2/年)","CO2削減量\n(t-CO2/年)",null,null,"活動種別","単位発熱量",null,"GJ換算量\n(GJ/年)","GJ換算量合計\n(GJ/年)","GJ削減量\n(GJ/年)"]
[null,"■計画",null,null,null,null,null,null,null,null,null,null,null,null,"■計画"]
[{"$f":"IF($C25=\"\",\"\",VLOOKUP($C25,活動の種別と単位_個票,2,FALSE))","v":1},"【前】\n対策実施",{"$f":"IF(VLOOKUP(VALUE($D$12),対策前後,2,FALSE)=\"\",\"\",VLOOKUP(VALUE($D$12),対策前後,2,FALSE))","v":"系統電力①"},{"$f":"IF(VLOOKUP(VALUE($D$12),対策前後,3,FALSE)=\"\",\"\",VLOOKUP(VALUE($D$12),対策前後,3,FALSE))","v":79975},{"$f":"IF($C25=\"\",\"\",VLOOKUP($C25,活動の種別と単位_個票,4,FALSE))","v":"kWh"},{"$f":"IF(VLOOKUP(VALUE($D$12),対策前後,5,FALSE)=\"\",\"\",VLOOKUP(VALUE($D$12),対策前後,5,FALSE))","v":""},{"$f":"IF($C25=\"\",\"\",VLOOKUP($C25,活動の種別と単位_個票,5,FALSE))","v":"---"},{"$f":"IF(VLOOKUP(VALUE($D$12),対策前後,7,FALSE)=\"\",\"\",VLOOKUP(VALUE($D$12),対策前後,7,FALSE))","v":4.3600000000000003E-4},{"$f":"IF($C25=\"\",\"\",VLOOKUP($C25,活動の種別と単位_個票,6,FALSE))","v":"t-CO2/kWh"},{"$f":"IFERROR(IF($D25=\"\",\"\",IF($A25=0,$D25*$F25*$H25,$D25*$H25)),\"---\")","v":34.869100000000003},{"$f":"IF(SUM(LEN($J25),LEN($J26),LEN($J27),LEN($J28))=0,\"\",SUM($J25:$J28))","v":34.869100000000003},null,null,null,{"$f":"IF($C25=\"\",\"\",IF(COUNTIF($C25,\"*系統電力*\"),\"*系統電力*\",IF(COUNTIF($C25,\"*産業用蒸気*\"),\"*産業用蒸気*\",IF(COUNTIF($C25,\"*温水*\"),\"*温水*\",IF(COUNTIF($C25,\"*冷水*\"),\"*冷水*\",IF(COUNTIF($C25,\"*蒸気（産業用以外）*\"),\"*蒸気（産業用以外）*\",$C25))))))","v":"*系統電力*"},{"$f":"IF($O25=\"\",\"\",IFERROR(VLOOKUP($O25,電力等のGJ換算係数_個票,2,FALSE),F25))","v":9.7599999999999996E-3},{"$f":"IF($O25=\"\",\"\",IFERROR(VLOOKUP($O25,電力等のGJ換算係数_個票,3,FALSE),VLOOKUP($O25,活動の種別と単位_個票,5,FALSE)))","v":"GJ/kWh"},{"$f":"IF(OR($D25=\"\",$P25=\"\"),\"\",$D25*$P25)","v":780.55599999999993},{"$f":"IF(SUM(LEN($R25),LEN($R26),LEN($R27),LEN($R28))=0,\"\",SUM($R25:$R28))","v":780.55599999999993}]
["",null,{"$f":"IF(VLOOKUP(VALUE($D$12)&\"-2\",対策前後,2,FALSE)=\"\",\"\",VLOOKUP(VALUE($D$12)&\"-2\",対策前後,2,FALSE))","v":""},{"$f":"IF(VLOOKUP(VALUE($D$12)&\"-2\",対策前後,3,FALSE)=\"\",\"\",VLOOKUP(VALUE($D$12)&\"-2\",対策前後,3,FALSE))","v":""},{"$f":"IF($C26=\"\",\"\",VLOOKUP($C26,活動の種別と単位_個票,4,FALSE))","v":""},{"$f":"IF(VLOOKUP(VALUE($D$12)&\"-2\",対策前後,5,FALSE)=\"\",\"\",VLOOKUP(VALUE($D$12)&\"-2\",対策前後,5,FALSE))","v":""},"",{"$f":"IF(VLOOKUP(VALUE($D$12)&\"-2\",対策前後,7,FALSE)=\"\",\"\",VLOOKUP(VALUE($D$12)&\"-2\",対策前後,7,FALSE))","v":""},"","","(a)",null,null,null,{"$f":"IF($C26=\"\",\"\",IF(COUNTIF($C26,\"*系統電力*\"),\"*系統電力*\",IF(COUNTIF($C26,\"*産業用蒸気*\"),\"*産業用蒸気*\",IF(COUNTIF($C26,\"*温水*\"),\"*温水*\",IF(COUNTIF($C26,\"*冷水*\"),\"*冷水*\",IF(COUNTIF($C26,\"*蒸気（産業用以外）*\"),\"*蒸気（産業用以外）*\",$C26))))))","v":""},{"$f":"IF($O26=\"\",\"\",IFERROR(VLOOKUP($O26,電力等のGJ換算係数_個票,2,FALSE),F26))","v":""},{"$f":"IF($O26=\"\",\"\",IFERROR(VLOOKUP($O26,電力等のGJ換算係数_個票,3,FALSE),VLOOKUP($O26,活動の種別と単位_個票,5,FALSE)))","v":""},{"$f":"IF(OR($D26=\"\",$P26=\"\"),\"\",$D26*$P26)","v":""},"(A)"]
["",null,{"$f":"IF(VLOOKUP(VALUE($D$12)&\"-3\",対策前後,2,FALSE)=\"\",\"\",VLOOKUP(VALUE($D$12)&\"-3\",対策前後,2,FALSE))","v":""},{"$f":"IF(VLOOKUP(VALUE($D$12)&\"-3\",対策前後,3,FALSE)=\"\",\"\",VLOOKUP(VALUE($D$12)&\"-3\",対策前後,3,FALSE))","v":""},"",{"$f":"IF(VLOOKUP(VALUE($D$12)&\"-3\",対策前後,5,FALSE)=\"\",\"\",VLOOKUP(VALUE($D$12)&\"-3\",対策前後,5,FALSE))","v":""},"",{"$f":"IF(VLOOKUP(VALUE($D$12)&\"-3\",対策前後,7,FALSE)=\"\",\"\",VLOOKUP(VALUE($D$12)&\"-3\",対策前後,7,FALSE))","v":""},"","",null,null,null,null,"","",{"$f":"IF($O27=\"\",\"\",IFERROR(VLOOKUP($O27,電力等のGJ換算係数_個票,3,FALSE),VLOOKUP($O27,活動の種別と単位_個票,5,FALSE)))","v":""},""]
["",null,{"$f":"IF(VLOOKUP(VALUE($D$12)&\"-4\",対策前後,2,FALSE)=\"\",\"\",VLOOKUP(VALUE($D$12)&\"-4\",対策前後,2,FALSE))","v":""},{"$f":"IF(VLOOKUP(VALUE($D$12)&\"-4\",対策前後,3,FALSE)=\"\",\"\",VLOOKUP(VALUE($D$12)&\"-4\",対策前後,3,FALSE))","v":""},"",{"$f":"IF(VLOOKUP(VALUE($D$12)&\"-4\",対策前後,5,FALSE)=\"\",\"\",VLOOKUP(VALUE($D$12)&\"-4\",対策前後,5,FALSE))","v":""},"",{"$f":"IF(VLOOKUP(VALUE($D$12)&\"-4\",対策前後,7,FALSE)=\"\",\"\",VLOOKUP(VALUE($D$12)&\"-4\",対策前後,7,FALSE))","v":""},"","",null,null,null,null,"","","",""]
[1,"【計画】\n対策実施",{"$f":"IF(VLOOKUP(VALUE($D$12),対策前後,9,FALSE)=\"\",\"\",VLOOKUP(VALUE($D$12),対策前後,9,FALSE))","v":"系統電力①"},{"$f":"IF(VLOOKUP(VALUE($D$12),対策前後,10,FALSE)=\"\",\"\",VLOOKUP(VALUE($D$12),対策前後,10,FALSE))","v":71000},"kWh",{"$f":"IF(VLOOKUP(VALUE($D$12),対策前後,12,FALSE)=\"\",\"\",VLOOKUP(VALUE($D$12),対策前後,12,FALSE))","v":""},"---",{"$f":"IF(VLOOKUP(VALUE($D$12),対策前後,14,FALSE)=\"\",\"\",VLOOKUP(VALUE($D$12),対策前後,14,FALSE))","v":4.3600000000000003E-4},"t-CO2/kWh",30.956000000000003,{"$f":"IF(SUM(LEN($J29),LEN($J30),LEN($J31),LEN($J32))=0,\"\",SUM($J29:$J32))","v":30.956000000000003},{"$f":"IFERROR($K$25-$K$29,\"---\")","v":3.9131},null,null,"*系統電力*",9.7599999999999996E-3,"GJ/kWh",692.95999999999992,{"$f":"IF(SUM(LEN($R29),LEN($R30),LEN($R31),LEN($R32))=0,\"\",SUM($R29:$R32))","v":692.95999999999992},{"$f":"IFERROR($S$25-$S$29,\"---\")","v":87.596000000000004}]
["",null,{"$f":"IF(VLOOKUP(VALUE($D$12)&\"-2\",対策前後,9,FALSE)=\"\",\"\",VLOOKUP(VALUE($D$12)&\"-2\",対策前後,9,FALSE))","v":""},{"$f":"IF(VLOOKUP(VALUE($D$12)&\"-2\",対策前後,10,FALSE)=\"\",\"\",VLOOKUP(VALUE($D$12)&\"-2\",対策前後,10,FALSE))","v":""},"",{"$f":"IF(VLOOKUP(VALUE($D$12)&\"-2\",対策前後,12,FALSE)=\"\",\"\",VLOOKUP(VALUE($D$12)&\"-2\",対策前後,12,FALSE))","v":""},"",{"$f":"IF(VLOOKUP(VALUE($D$12)&\"-2\",対策前後,14,FALSE)=\"\",\"\",VLOOKUP(VALUE($D$12)&\"-2\",対策前後,14,FALSE))","v":""},"","","(b)","(a-b)",null,null,"","","","","(B)","(A-B)"]
["",null,{"$f":"IF(VLOOKUP(VALUE($D$12)&\"-3\",対策前後,9,FALSE)=\"\",\"\",VLOOKUP(VALUE($D$12)&\"-3\",対策前後,9,FALSE))","v":""},{"$f":"IF(VLOOKUP(VALUE($D$12)&\"-3\",対策前後,10,FALSE)=\"\",\"\",VLOOKUP(VALUE($D$12)&\"-3\",対策前後,10,FALSE))","v":""},"",{"$f":"IF(VLOOKUP(VALUE($D$12)&\"-3\",対策前後,12,FALSE)=\"\",\"\",VLOOKUP(VALUE($D$12)&\"-3\",対策前後,12,FALSE))","v":""},"",{"$f":"IF(VLOOKUP(VALUE($D$12)&\"-3\",対策前後,14,FALSE)=\"\",\"\",VLOOKUP(VALUE($D$12)&\"-3\",対策前後,14,FALSE))","v":""},"","",null,null,null,null,"","","",""]
["",null,{"$f":"IF(VLOOKUP(VALUE($D$12)&\"-4\",対策前後,9,FALSE)=\"\",\"\",VLOOKUP(VALUE($D$12)&\"-4\",対策前後,9,FALSE))","v":""},{"$f":"IF(VLOOKUP(VALUE($D$12)&\"-4\",対策前後,10,FALSE)=\"\",\"\",VLOOKUP(VALUE($D$12)&\"-4\",対策前後,10,FALSE))","v":""},"",{"$f":"IF(VLOOKUP(VALUE($D$12)&\"-4\",対策前後,12,FALSE)=\"\",\"\",VLOOKUP(VALUE($D$12)&\"-4\",対策前後,12,FALSE))","v":""},"",{"$f":"IF(VLOOKUP(VALUE($D$12)&\"-4\",対策前後,14,FALSE)=\"\",\"\",VLOOKUP(VALUE($D$12)&\"-4\",対策前後,14,FALSE))","v":""},"","",null,null,null,null,"","","",""]
[null,"■対策実施状況",null,null,null,null,null,null,null,null,null,null,null,null,null,null,null,null,null,null,null,"計画変更状況"]
[null,"令和6年度",null,"未実施",null,null,null,null,null,"　当初計画から変更あり",null," ",null,null,null,null,null,null,null,null,null,true]
[null,"令和7年度",null,null,null,null,null,null,null,"　当初計画から変更あり",null,null,null,null,null,null,null,null,null,null,null,false]
[null,"令和8年度",null,null,null,null,null,null,null,"　当初計画から変更あり",null,null,null,null,null,null,null,null,null,null,null,false]
[null,"■実績",null,null,null,null,null,null,null,null,null,null,null,null,"■実績"]
[{"$f":"IF($C38=\"\",\"\",VLOOKUP($C38,活動の種別と単位_個票,2,FALSE))","v":1},{"$f":"B34","v":"令和6年度"},{"$f":"IF($D$34=\"\",\"\",IF(COUNTIF($D$34,\"*済*\"),$C$29,$C$25))","v":"系統電力①"},{"$f":"IF($D$34=\"\",\"\",IF(COUNTIF($D$34,\"*済*\"),\"\",$D$25))","v":79975},{"$f":"IF($C38=\"\",\"\",VLOOKUP($C38,活動の種別と単位_個票,4,FALSE))","v":"kWh"},{"$f":"IF($D$34=\"\",\"\",IF(COUNTIF($D$34,\"*済*\"),$F$29,$F$25))","v":""},{"$f":"IF($C38=\"\",\"\",VLOOKUP($C38,活動の種別と単位_個票,5,FALSE))","v":"---"},{"$f":"IF($D$34=\"\",\"\",IF(COUNTIF($D$34,\"*済*\"),$H$29,$H$25))","v":4.3600000000000003E-4},{"$f":"IF($C38=\"\",\"\",VLOOKUP($C38,活動の種別と単位_個票,6,FALSE))","v":"t-CO2/kWh"},{"$f":"IFERROR(IF($D38=\"\",\"\",IF($A38=0,$D38*$F38*$H38,$D38*$H38)),\"---\")","v":34.869100000000003},{"$f":"IF(SUM(LEN($J38),LEN($J39),LEN($J40),LEN($J41))=0,\"\",SUM($J38:$J41))","v":34.869100000000003},{"$f":"IFERROR($K$25-$K$38,\"---\")","v":0},null,null,{"$f":"IF($C38=\"\",\"\",IF(COUNTIF($C38,\"*系統電力*\"),\"*系統電力*\",IF(COUNTIF($C38,\"*産業用蒸気*\"),\"*産業用蒸気*\",IF(COUNTIF($C38,\"*温水*\"),\"*温水*\",IF(COUNTIF($C38,\"*冷水*\"),\"*冷水*\",IF(COUNTIF($C38,\"*蒸気（産業用以外）*\"),\"*蒸気（産業用以外）*\",$C38))))))","v":"*系統電力*"},{"$f":"IF($O38=\"\",\"\",IFERROR(VLOOKUP($O38,電力等のGJ換算係数_個票,2,FALSE),F38))","v":9.7599999999999996E-3},{"$f":"IF($O38=\"\",\"\",IFERROR(VLOOKUP($O38,電力等のGJ換算係数_個票,3,FALSE),VLOOKUP($O38,活動の種別と単位_個票,5,FALSE)))","v":"GJ/kWh"},{"$f":"IF(OR($D38=\"\",$P38=\"\"),\"\",$D38*$P38)","v":780.55599999999993},{"$f":"IF(SUM(LEN($R38),LEN($R39),LEN($R40),LEN($R41))=0,\"\",SUM($R38:$R41))","v":780.55599999999993},{"$f":"IFERROR($S$25-$S$38,\"---\")","v":0}]
["",null,{"$f":"IF($D$34=\"\",\"\",IF(COUNTIF($D$34,\"*済*\"),$C$30,$C$26))","v":""},{"$f":"IF($D$34=\"\",\"\",IF(COUNTIF($D$34,\"*済*\"),\"\",$D$26))","v":""},"",{"$f":"IF($D$34=\"\",\"\",IF(COUNTIF($D$34,\"*済*\"),$F$30,$F$26))","v":""},"",{"$f":"IF($D$34=\"\",\"\",IF(COUNTIF($D$34,\"*済*\"),$H$30,$H$26))","v":""},"","","(c1)","(a-c1)",null,null,{"$f":"IF($C39=\"\",\"\",IF(COUNTIF($C39,\"*系統電力*\"),\"*系統電力*\",IF(COUNTIF($C39,\"*産業用蒸気*\"),\"*産業用蒸気*\",IF(COUNTIF($C39,\"*温水*\"),\"*温水*\",IF(COUNTIF($C39,\"*冷水*\"),\"*冷水*\",IF(COUNTIF($C39,\"*蒸気（産業用以外）*\"),\"*蒸気（産業用以外）*\",$C39))))))","v":""},"","","","(C1)","(A-C1)"]
["",null,{"$f":"IF($D$34=\"\",\"\",IF(COUNTIF($D$34,\"*済*\"),$C$31,$C$27))","v":""},{"$f":"IF($D$34=\"\",\"\",IF(COUNTIF($D$34,\"*済*\"),\"\",$D$27))","v":""},"",{"$f":"IF($D$34=\"\",\"\",IF(COUNTIF($D$34,\"*済*\"),$F$31,$F$27))","v":""},"",{"$f":"IF($D$34=\"\",\"\",IF(COUNTIF($D$34,\"*済*\"),$H$31,$H$27))","v":""},"","",null,null,null,null,"","","",""]
["",null,{"$f":"IF($D$34=\"\",\"\",IF(COUNTIF($D$34,\"*済*\"),$C$32,$C$28))","v":""},{"$f":"IF($D$34=\"\",\"\",IF(COUNTIF($D$34,\"*済*\"),\"\",$D$28))","v":""},"",{"$f":"IF($D$34=\"\",\"\",IF(COUNTIF($D$34,\"*済*\"),$F$32,$F$28))","v":""},"",{"$f":"IF($D$34=\"\",\"\",IF(COUNTIF($D$34,\"*済*\"),$H$32,$H$28))","v":""},"","",null,null,null,null,"","","",""]
["",{"$f":"B35","v":"令和7年度"},{"$f":"IF($D$35=\"\",\"\",IF(COUNTIF($D$35,\"*済*\"),$C$29,$C$25))","v":""},{"$f":"IF($D$35=\"\",\"\",IF(COUNTIF($D$35,\"*済*\"),\"\",$D$25))","v":""},"",{"$f":"IF($D$35=\"\",\"\",IF(COUNTIF($D$35,\"*済*\"),$F$29,$F$25))","v":""},"",{"$f":"IF($D$35=\"\",\"\",IF(COUNTIF($D$35,\"*済*\"),$H$29,$H$25))","v":""},"","",{"$f":"IF(SUM(LEN($J42),LEN($J43),LEN($J44),LEN($J45))=0,\"\",SUM($J42:$J45))","v":""},{"$f":"IFERROR($K$25-$K$42,\"---\")","v":"---"},null,null,"","","","",{"$f":"IF(SUM(LEN($R42),LEN($R43),LEN($R44),LEN($R45))=0,\"\",SUM($R42:$R45))","v":""},{"$f":"IFERROR($S$25-$S$42,\"---\")","v":"---"}]
["",null,{"$f":"IF($D$35=\"\",\"\",IF(COUNTIF($D$35,\"*済*\"),$C$30,$C$26))","v":""},{"$f":"IF($D$35=\"\",\"\",IF(COUNTIF($D$35,\"*済*\"),\"\",$D$26))","v":""},"",{"$f":"IF($D$35=\"\",\"\",IF(COUNTIF($D$35,\"*済*\"),$F$30,$F$26))","v":""},"",{"$f":"IF($D$35=\"\",\"\",IF(COUNTIF($D$35,\"*済*\"),$H$30,$H$26))","v":""},"","","(c2)","(a-c2)",null,null,"","","","","(C2)","(A-C2)"]
["",null,{"$f":"IF($D$35=\"\",\"\",IF(COUNTIF($D$35,\"*済*\"),$C$31,$C$27))","v":""},{"$f":"IF($D$35=\"\",\"\",IF(COUNTIF($D$35,\"*済*\"),\"\",$D$27))","v":""},"",{"$f":"IF($D$35=\"\",\"\",IF(COUNTIF($D$35,\"*済*\"),$F$31,$F$27))","v":""},"",{"$f":"IF($D$35=\"\",\"\",IF(COUNTIF($D$35,\"*済*\"),$H$31,$H$27))","v":""},"","",null,null,null,null,"","","",""]
["",null,{"$f":"IF($D$35=\"\",\"\",IF(COUNTIF($D$35,\"*済*\"),$C$32,$C$28))","v":""},{"$f":"IF($D$35=\"\",\"\",IF(COUNTIF($D$35,\"*済*\"),\"\",$D$28))","v":""},"",{"$f":"IF($D$35=\"\",\"\",IF(COUNTIF($D$35,\"*済*\"),$F$32,$F$28))","v":""},"",{"$f":"IF($D$35=\"\",\"\",IF(COUNTIF($D$35,\"*済*\"),$H$32,$H$28))","v":""},"","",null,null,null,null,"","","",""]
["",{"$f":"B36","v":"令和8年度"},{"$f":"IF($D$36=\"\",\"\",IF(COUNTIF($D$36,\"*済*\"),$C$29,$C$25))","v":""},{"$f":"IF($D$36=\"\",\"\",IF(COUNTIF($D$36,\"*済*\"),\"\",$D$25))","v":""},"",{"$f":"IF($D$36=\"\",\"\",IF(COUNTIF($D$36,\"*済*\"),$F$29,$F$25))","v":""},"",{"$f":"IF($D$36=\"\",\"\",IF(COUNTIF($D$36,\"*済*\"),$H$29,$H$25))","v":""},"","",{"$f":"IF(SUM(LEN($J46),LEN($J47),LEN($J48),LEN($J49))=0,\"\",SUM($J46:$J49))","v":""},{"$f":"IFERROR($K$25-$K$46,\"---\")","v":"---"},null,null,"","","","",{"$f":"IF(SUM(LEN($R46),LEN($R47),LEN($R48),LEN($R49))=0,\"\",SUM($R46:$R49))","v":""},{"$f":"IFERROR($S$25-$S$46,\"---\")","v":"---"}]
["",null,{"$f":"IF($D$36=\"\",\"\",IF(COUNTIF($D$36,\"*済*\"),$C$30,$C$26))","v":""},{"$f":"IF($D$36=\"\",\"\",IF(COUNTIF($D$36,\"*済*\"),\"\",$D$26))","v":""},"",{"$f":"IF($D$36=\"\",\"\",IF(COUNTIF($D$36,\"*済*\"),$F$30,$F$26))","v":""},"",{"$f":"IF($D$36=\"\",\"\",IF(COUNTIF($D$36,\"*済*\"),$H$30,$H$26))","v":""},"","","(c3)","(a-c3)",null,null,"","","","","(C3)","(A-C3)"]
["",null,{"$f":"IF($D$36=\"\",\"\",IF(COUNTIF($D$36,\"*済*\"),$C$31,$C$27))","v":""},{"$f":"IF($D$36=\"\",\"\",IF(COUNTIF($D$36,\"*済*\"),\"\",$D$27))","v":""},"",{"$f":"IF($D$36=\"\",\"\",IF(COUNTIF($D$36,\"*済*\"),$F$31,$F$27))","v":""},"",{"$f":"IF($D$36=\"\",\"\",IF(COUNTIF($D$36,\"*済*\"),$H$31,$H$27))","v":""},"","",null,null,null,null,"","","",""]
["",null,{"$f":"IF($D$36=\"\",\"\",IF(COUNTIF($D$36,\"*済*\"),$C$32,$C$28))","v":""},{"$f":"IF($D$36=\"\",\"\",IF(COUNTIF($D$36,\"*済*\"),\"\",$D$28))","v":""},"",{"$f":"IF($D$36=\"\",\"\",IF(COUNTIF($D$36,\"*済*\"),$F$32,$F$28))","v":""},"",{"$f":"IF($D$36=\"\",\"\",IF(COUNTIF($D$36,\"*済*\"),$H$32,$H$28))","v":""},"","",null,null,null,null,"","","",""]
[null,"※活動量、排出量及び削減量は、小数点以下を四捨五入した整数で表示されています（端数処理なし）。"]
[null,null,null,null,null,null,null,null,null,null,null,{"$f":"\"個票\"&$D$12","v":"個票2"}]
[]
[null,"３．CO2排出量の算出根拠"]
[]
[null,{"$f":"$B$38","v":"令和6年度"},null,{"$f":"IF($D$34=\"\",\"\",$D$34)","v":"未実施"},null,null,null,null,null,{"$f":"IF(D55=\"\",\"\",IF($V$34=FALSE,\"当初計画どおり\",\"当初計画から変更あり\"))","v":"当初計画から変更あり"}]
[null,"CO2排出量の計算式で使用する「活動種別ごとの年間活動量」の算出根拠\n※「対策実施済み」の場合は、実施計画書の対策個票「7.報告時のCO2排出量算定のための活動量把握方法」に基づき算出すること。"]
[]
[]
[]
[]
[]
[]
[]
[]
[]
[]
[]
[]
[]
[]
[]
[]
[]
[]
[]
[]
[]
[]
[]
[]
[]
[]
[]
[]
[]
[]
[]
[]
[]
[]
[]
[]
[]
[]
[]
[]
[]
[]
[null,"備考"]
[]
[]
[]
[]
[]
[]
[null,null,null,null,null,null,null,null,null,null,null,{"$f":"\"個票\"&$D$12","v":"個票2"}]
[]
[]
[]
[null,{"$f":"$B$42","v":"令和7年度"},null,{"$f":"IF($D$35=\"\",\"\",$D$35)","v":""},null,null,null,null,null,{"$f":"IF(D110=\"\",\"\",IF($V$35=FALSE,\"当初計画どおり\",\"当初計画から変更あり\"))","v":""}]
[null,"CO2排出量の計算式で使用する「活動種別ごとの年間活動量」の算出根拠\n※「対策実施済み」の場合は、実施計画書の対策個票「7.報告時のCO2排出量算定のための活動量把握方法」に基づき算出すること。"]
[]
[]
[]
[]
[]
[]
[]
[]
[]
[]
[]
[]
[]
[]
[]
[]
[]
[]
[]
[]
[]
[]
[]
[]
[]
[]
[]
[]
[]
[]
[]
[]
[]
[]
[]
[]
[]
[]
[]
[]
[]
[]
[null,"備考"]
[]
[]
[]
[]
[]
[]
[null,null,null,null,null,null,null,null,null,null,null,{"$f":"\"個票\"&$D$12","v":"個票2"}]
[]
[]
[]
[null,{"$f":"$B$46","v":"令和8年度"},null,{"$f":"IF($D$36=\"\",\"\",$D$36)","v":""},null,null,null,null,null,{"$f":"IF(D165=\"\",\"\",IF($V$36=FALSE,\"当初計画どおり\",\"当初計画から変更あり\"))","v":""}]
[null,"CO2排出量の計算式で使用する「活動種別ごとの年間活動量」の算出根拠\n※「対策実施済み」の場合は、実施計画書の対策個票「7.報告時のCO2排出量算定のための活動量把握方法」に基づき算出すること。"]
[]
[]
[]
[]
[]
[]
[]
[]
[]
[]
[]
[]
[]
[]
[]
[]
[]
[]
[]
[]
[]
[]
[]
[]
[]
[]
[]
[]
[]
[]
[]
[]
[]
[]
[]
[]
[]
[]
[]
[]
[]
[]
[null,"備考"]

{"sheet":"別紙1_CO2排出量_個票3","index":8,"n_rows":209,"n_cols":22,"rows_kept":209,"cut":false,"hidden":true,"merged":[[166,1,207,11],[208,1,208,11],[209,1,213,11],[153,1,153,11],[154,1,158,11],[164,1,164,2],[164,3,164,8],[164,9,164,10],[165,1,165,11],[111,1,152,11],[54,1,54,2],[54,3,54,8],[54,9,54,10],[55,1,55,11],[56,1,97,11],[98,1,98,11],[99,1,103,11],[109,1,109,2],[109,3,109,8],[109,9,109,10],[110,1,110,11],[22,15,22,16],[24,1,27,1],[45,1,48,1],[33,1,33,2],[33,3,33,8],[33,9,33,10],[34,1,34,2],[34,3,34,8],[34,9,34,10],[35,1,35,2],[35,3,35,8],[35,9,35,10],[37,1,40,1],[41,1,44,1],[28,1,31,1],[22,3,22,4],[22,5,22,6],[22,7,22,8],[12,1,12,2],[12,3,12,11],[13,1,13,2],[13,3,13,11],[14,1,14,2],[14,3,14,11],[15,1,15,2],[15,3,15,11],[16,1,16,2],[16,3,16,11],[17,1,17,2],[17,3,17,11],[4,1,4,2],[4,3,4,11],[5,1,5,2],[5,3,5,11],[11,1,11,2],[11,7,11,9]]}
[null,null,null,null,null,null,null,null,null,null,null,null,null,null,null,null,null,null,null,null,null,"セル色表示/非表示"]
[null,"環境省　令和４年度（第2次補正予算）・令和5年度二酸化炭素排出抑制対策事業費等補助金",null,null,null,null,null,null,null,null,null,null,null,null,null,null,null,null,null,null,null,false]
[null," （工場・事業場における先導的な脱炭素化取組推進事業（SHIFT事業））"]
[]
[null,"事業者名（法人名）",null,{"$f":"IF(事業報告書まとめ_計画策定支援!$H$7=\"\",\"\",事業報告書まとめ_計画策定支援!$H$7)","v":"○○株式会社"}]
[null,"工場・事業場名",null,{"$f":"IF(事業報告書まとめ_計画策定支援!$H$8=\"\",\"\",事業報告書まとめ_計画策定支援!$H$8)","v":"○○工場"}]
[]
[null,{"$f":"\"【様式第16 事業報告書】 別紙1_CO2排出量_個票\"&$D$12","v":"【様式第16 事業報告書】 別紙1_CO2排出量_個票3"}]
[]
[null,"１．対策概要"]
[]
[null,"個票番号",null,{"$f":"MID(CELL(\"filename\",$A$1),FIND(\"]\",CELL(\"filename\",$A$1))+14,LEN(CELL(\"filename\",$A$1)))","v":"3"},null,null,null,"統合した対策個票番号"]
[null,"対策名称",null,{"$f":"IF(VLOOKUP(VALUE($D$12),個票概要,3,FALSE)=\"\",\"\",VLOOKUP(VALUE($D$12),個票概要,3,FALSE))","v":{"$error":"#N/A"}}]
[null,"対策種類",null,{"$f":"IF(VLOOKUP(VALUE($D$12),個票概要,2,FALSE)=\"\",\"\",VLOOKUP(VALUE($D$12),個票概要,2,FALSE))","v":{"$error":"#N/A"}}]
[null,"対象システム／設備",null,{"$f":"IF(VLOOKUP(VALUE($D$12),個票概要,6,FALSE)=\"\",\"\",VLOOKUP(VALUE($D$12),個票概要,6,FALSE))","v":{"$error":"#N/A"}}]
[null,"工程",null,{"$f":"IF(VLOOKUP(VALUE($D$12),個票概要,5,FALSE)=\"\",\"\",VLOOKUP(VALUE($D$12),個票概要,5,FALSE))","v":{"$error":"#N/A"}}]
[null,"既存設備名称",null,{"$f":"IF(VLOOKUP(VALUE($D$12),個票概要,7,FALSE)=\"\",\"\",VLOOKUP(VALUE($D$12),個票概要,7,FALSE))","v":{"$error":"#N/A"}}]
[null,"導入設備名称",null,{"$f":"IF(VLOOKUP(VALUE($D$12),個票概要,8,FALSE)=\"\",\"\",VLOOKUP(VALUE($D$12),個票概要,8,FALSE))","v":{"$error":"#N/A"}}]
[]
[]
[null,"２．CO2排出量"]
[]
[null,null,"活動種別","年間活動量",null,"単位発熱量",null,"CO2排出係数",null,"CO2排出量\n(t-CO2/年)","CO2排出量合計\n(t-CO2/年)","CO2削減量\n(t-CO2/年)",null,null,"活動種別","単位発熱量",null,"GJ換算量\n(GJ/年)","GJ換算量合計\n(GJ/年)","GJ削減量\n(GJ/年)"]
[null,"■計画",null,null,null,null,null,null,null,null,null,null,null,null,"■計画"]
[{"$f":"IF($C25=\"\",\"\",VLOOKUP($C25,活動の種別と単位_個票,2,FALSE))","v":""},"【前】\n対策実施",{"$f":"IF(VLOOKUP(VALUE($D$12),対策前後,2,FALSE)=\"\",\"\",VLOOKUP(VALUE($D$12),対策前後,2,FALSE))","v":""},{"$f":"IF(VLOOKUP(VALUE($D$12),対策前後,3,FALSE)=\"\",\"\",VLOOKUP(VALUE($D$12),対策前後,3,FALSE))","v":""},{"$f":"IF($C25=\"\",\"\",VLOOKUP($C25,活動の種別と単位_個票,4,FALSE))","v":""},{"$f":"IF(VLOOKUP(VALUE($D$12),対策前後,5,FALSE)=\"\",\"\",VLOOKUP(VALUE($D$12),対策前後,5,FALSE))","v":""},{"$f":"IF($C25=\"\",\"\",VLOOKUP($C25,活動の種別と単位_個票,5,FALSE))","v":""},{"$f":"IF(VLOOKUP(VALUE($D$12),対策前後,7,FALSE)=\"\",\"\",VLOOKUP(VALUE($D$12),対策前後,7,FALSE))","v":""},{"$f":"IF($C25=\"\",\"\",VLOOKUP($C25,活動の種別と単位_個票,6,FALSE))","v":""},{"$f":"IFERROR(IF($D25=\"\",\"\",IF($A25=0,$D25*$F25*$H25,$D25*$H25)),\"---\")","v":""},{"$f":"IF(SUM(LEN($J25),LEN($J26),LEN($J27),LEN($J28))=0,\"\",SUM($J25:$J28))","v":""},null,null,null,{"$f":"IF($C25=\"\",\"\",IF(COUNTIF($C25,\"*系統電力*\"),\"*系統電力*\",IF(COUNTIF($C25,\"*産業用蒸気*\"),\"*産業用蒸気*\",IF(COUNTIF($C25,\"*温水*\"),\"*温水*\",IF(COUNTIF($C25,\"*冷水*\"),\"*冷水*\",IF(COUNTIF($C25,\"*蒸気（産業用以外）*\"),\"*蒸気（産業用以外）*\",$C25))))))","v":""},{"$f":"IF($O25=\"\",\"\",IFERROR(VLOOKUP($O25,電力等のGJ換算係数_個票,2,FALSE),F25))","v":""},{"$f":"IF($O25=\"\",\"\",IFERROR(VLOOKUP($O25,電力等のGJ換算係数_個票,3,FALSE),VLOOKUP($O25,活動の種別と単位_個票,5,FALSE)))","v":""},{"$f":"IF(OR($D25=\"\",$P25=\"\"),\"\",$D25*$P25)","v":""},{"$f":"IF(SUM(LEN($R25),LEN($R26),LEN($R27),LEN($R28))=0,\"\",SUM($R25:$R28))","v":""}]
["",null,{"$f":"IF(VLOOKUP(VALUE($D$12)&\"-2\",対策前後,2,FALSE)=\"\",\"\",VLOOKUP(VALUE($D$12)&\"-2\",対策前後,2,FALSE))","v":""},{"$f":"IF(VLOOKUP(VALUE($D$12)&\"-2\",対策前後,3,FALSE)=\"\",\"\",VLOOKUP(VALUE($D$12)&\"-2\",対策前後,3,FALSE))","v":""},{"$f":"IF($C26=\"\",\"\",VLOOKUP($C26,活動の種別と単位_個票,4,FALSE))","v":""},{"$f":"IF(VLOOKUP(VALUE($D$12)&\"-2\",対策前後,5,FALSE)=\"\",\"\",VLOOKUP(VALUE($D$12)&\"-2\",対策前後,5,FALSE))","v":""},"",{"$f":"IF(VLOOKUP(VALUE($D$12)&\"-2\",対策前後,7,FALSE)=\"\",\"\",VLOOKUP(VALUE($D$12)&\"-2\",対策前後,7,FALSE))","v":""},"","","(a)",null,null,null,{"$f":"IF($C26=\"\",\"\",IF(COUNTIF($C26,\"*系統電力*\"),\"*系統電力*\",IF(COUNTIF($C26,\"*産業用蒸気*\"),\"*産業用蒸気*\",IF(COUNTIF($C26,\"*温水*\"),\"*温水*\",IF(COUNTIF($C26,\"*冷水*\"),\"*冷水*\",IF(COUNTIF($C26,\"*蒸気（産業用以外）*\"),\"*蒸気（産業用以外）*\",$C26))))))","v":""},{"$f":"IF($O26=\"\",\"\",IFERROR(VLOOKUP($O26,電力等のGJ換算係数_個票,2,FALSE),F26))","v":""},{"$f":"IF($O26=\"\",\"\",IFERROR(VLOOKUP($O26,電力等のGJ換算係数_個票,3,FALSE),VLOOKUP($O26,活動の種別と単位_個票,5,FALSE)))","v":""},{"$f":"IF(OR($D26=\"\",$P26=\"\"),\"\",$D26*$P26)","v":""},"(A)"]
["",null,{"$f":"IF(VLOOKUP(VALUE($D$12)&\"-3\",対策前後,2,FALSE)=\"\",\"\",VLOOKUP(VALUE($D$12)&\"-3\",対策前後,2,FALSE))","v":""},{"$f":"IF(VLOOKUP(VALUE($D$12)&\"-3\",対策前後,3,FALSE)=\"\",\"\",VLOOKUP(VALUE($D$12)&\"-3\",対策前後,3,FALSE))","v":""},"",{"$f":"IF(VLOOKUP(VALUE($D$12)&\"-3\",対策前後,5,FALSE)=\"\",\"\",VLOOKUP(VALUE($D$12)&\"-3\",対策前後,5,FALSE))","v":""},"",{"$f":"IF(VLOOKUP(VALUE($D$12)&\"-3\",対策前後,7,FALSE)=\"\",\"\",VLOOKUP(VALUE($D$12)&\"-3\",対策前後,7,FALSE))","v":""},"","",null,null,null,null,"","",{"$f":"IF($O27=\"\",\"\",IFERROR(VLOOKUP($O27,電力等のGJ換算係数_個票,3,FALSE),VLOOKUP($O27,活動の種別と単位_個票,5,FALSE)))","v":""},""]
["",null,{"$f":"IF(VLOOKUP(VALUE($D$12)&\"-4\",対策前後,2,FALSE)=\"\",\"\",VLOOKUP(VALUE($D$12)&\"-4\",対策前後,2,FALSE))","v":""},{"$f":"IF(VLOOKUP(VALUE($D$12)&\"-4\",対策前後,3,FALSE)=\"\",\"\",VLOOKUP(VALUE($D$12)&\"-4\",対策前後,3,FALSE))","v":""},"",{"$f":"IF(VLOOKUP(VALUE($D$12)&\"-4\",対策前後,5,FALSE)=\"\",\"\",VLOOKUP(VALUE($D$12)&\"-4\",対策前後,5,FALSE))","v":""},"",{"$f":"IF(VLOOKUP(VALUE($D$12)&\"-4\",対策前後,7,FALSE)=\"\",\"\",VLOOKUP(VALUE($D$12)&\"-4\",対策前後,7,FALSE))","v":""},"","",null,null,null,null,"","","",""]
["","【計画】\n対策実施",{"$f":"IF(VLOOKUP(VALUE($D$12),対策前後,9,FALSE)=\"\",\"\",VLOOKUP(VALUE($D$12),対策前後,9,FALSE))","v":""},{"$f":"IF(VLOOKUP(VALUE($D$12),対策前後,10,FALSE)=\"\",\"\",VLOOKUP(VALUE($D$12),対策前後,10,FALSE))","v":""},"",{"$f":"IF(VLOOKUP(VALUE($D$12),対策前後,12,FALSE)=\"\",\"\",VLOOKUP(VALUE($D$12),対策前後,12,FALSE))","v":""},"",{"$f":"IF(VLOOKUP(VALUE($D$12),対策前後,14,FALSE)=\"\",\"\",VLOOKUP(VALUE($D$12),対策前後,14,FALSE))","v":""},"","",{"$f":"IF(SUM(LEN($J29),LEN($J30),LEN($J31),LEN($J32))=0,\"\",SUM($J29:$J32))","v":""},{"$f":"IFERROR($K$25-$K$29,\"---\")","v":"---"},null,null,"","","","",{"$f":"IF(SUM(LEN($R29),LEN($R30),LEN($R31),LEN($R32))=0,\"\",SUM($R29:$R32))","v":""},{"$f":"IFERROR($S$25-$S$29,\"---\")","v":"---"}]
["",null,{"$f":"IF(VLOOKUP(VALUE($D$12)&\"-2\",対策前後,9,FALSE)=\"\",\"\",VLOOKUP(VALUE($D$12)&\"-2\",対策前後,9,FALSE))","v":""},{"$f":"IF(VLOOKUP(VALUE($D$12)&\"-2\",対策前後,10,FALSE)=\"\",\"\",VLOOKUP(VALUE($D$12)&\"-2\",対策前後,10,FALSE))","v":""},"",{"$f":"IF(VLOOKUP(VALUE($D$12)&\"-2\",対策前後,12,FALSE)=\"\",\"\",VLOOKUP(VALUE($D$12)&\"-2\",対策前後,12,FALSE))","v":""},"",{"$f":"IF(VLOOKUP(VALUE($D$12)&\"-2\",対策前後,14,FALSE)=\"\",\"\",VLOOKUP(VALUE($D$12)&\"-2\",対策前後,14,FALSE))","v":""},"","","(b)","(a-b)",null,null,"","","","","(B)","(A-B)"]
["",null,{"$f":"IF(VLOOKUP(VALUE($D$12)&\"-3\",対策前後,9,FALSE)=\"\",\"\",VLOOKUP(VALUE($D$12)&\"-3\",対策前後,9,FALSE))","v":""},{"$f":"IF(VLOOKUP(VALUE($D$12)&\"-3\",対策前後,10,FALSE)=\"\",\"\",VLOOKUP(VALUE($D$12)&\"-3\",対策前後,10,FALSE))","v":""},"",{"$f":"IF(VLOOKUP(VALUE($D$12)&\"-3\",対策前後,12,FALSE)=\"\",\"\",VLOOKUP(VALUE($D$12)&\"-3\",対策前後,12,FALSE))","v":""},"",{"$f":"IF(VLOOKUP(VALUE($D$12)&\"-3\",対策前後,14,FALSE)=\"\",\"\",VLOOKUP(VALUE($D$12)&\"-3\",対策前後,14,FALSE))","v":""},"","",null,null,null,null,"","","",""]
["",null,{"$f":"IF(VLOOKUP(VALUE($D$12)&\"-4\",対策前後,9,FALSE)=\"\",\"\",VLOOKUP(VALUE($D$12)&\"-4\",対策前後,9,FALSE))","v":""},{"$f":"IF(VLOOKUP(VALUE($D$12)&\"-4\",対策前後,10,FALSE)=\"\",\"\",VLOOKUP(VALUE($D$12)&\"-4\",対策前後,10,FALSE))","v":""},"",{"$f":"IF(VLOOKUP(VALUE($D$12)&\"-4\",対策前後,12,FALSE)=\"\",\"\",VLOOKUP(VALUE($D$12)&\"-4\",対策前後,12,FALSE))","v":""},"",{"$f":"IF(VLOOKUP(VALUE($D$12)&\"-4\",対策前後,14,FALSE)=\"\",\"\",VLOOKUP(VALUE($D$12)&\"-4\",対策前後,14,FALSE))","v":""},"","",null,null,null,null,"","","",""]
[null,"■対策実施状況",null,null,null,null,null,null,null,null,null,null,null,null,null,null,null,null,null,null,null,"計画変更状況"]
[null,"令和6年度",null,null,null,null,null,null,null,"　当初計画から変更あり",null," ",null,null,null,null,null,null,null,null,null,false]
[null,"令和7年度",null,null,null,null,null,null,null,"　当初計画から変更あり",null,null,null,null,null,null,null,null,null,null,null,false]
[null,"令和8年度",null,null,null,null,null,null,null,"　当初計画から変更あり",null,null,null,null,null,null,null,null,null,null,null,false]
[null,"■実績",null,null,null,null,null,null,null,null,null,null,null,null,"■実績"]
[{"$f":"IF($C38=\"\",\"\",VLOOKUP($C38,活動の種別と単位_個票,2,FALSE))","v":""},{"$f":"B34","v":"令和6年度"},{"$f":"IF($D$34=\"\",\"\",IF(COUNTIF($D$34,\"*済*\"),$C$29,$C$25))","v":""},{"$f":"IF($D$34=\"\",\"\",IF(COUNTIF($D$34,\"*済*\"),\"\",$D$25))","v":""},{"$f":"IF($C38=\"\",\"\",VLOOKUP($C38,活動の種別と単位_個票,4,FALSE))","v":""},{"$f":"IF($D$34=\"\",\"\",IF(COUNTIF($D$34,\"*済*\"),$F$29,$F$25))","v":""},{"$f":"IF($C38=\"\",\"\",VLOOKUP($C38,活動の種別と単位_個票,5,FALSE))","v":""},{"$f":"IF($D$34=\"\",\"\",IF(COUNTIF($D$34,\"*済*\"),$H$29,$H$25))","v":""},{"$f":"IF($C38=\"\",\"\",VLOOKUP($C38,活動の種別と単位_個票,6,FALSE))","v":""},{"$f":"IFERROR(IF($D38=\"\",\"\",IF($A38=0,$D38*$F38*$H38,$D38*$H38)),\"---\")","v":""},{"$f":"IF(SUM(LEN($J38),LEN($J39),LEN($J40),LEN($J41))=0,\"\",SUM($J38:$J41))","v":""},{"$f":"IFERROR($K$25-$K$38,\"---\")","v":"---"},null,null,{"$f":"IF($C38=\"\",\"\",IF(COUNTIF($C38,\"*系統電力*\"),\"*系統電力*\",IF(COUNTIF($C38,\"*産業用蒸気*\"),\"*産業用蒸気*\",IF(COUNTIF($C38,\"*温水*\"),\"*温水*\",IF(COUNTIF($C38,\"*冷水*\"),\"*冷水*\",IF(COUNTIF($C38,\"*蒸気（産業用以外）*\"),\"*蒸気（産業用以外）*\",$C38))))))","v":""},{"$f":"IF($O38=\"\",\"\",IFERROR(VLOOKUP($O38,電力等のGJ換算係数_個票,2,FALSE),F38))","v":""},{"$f":"IF($O38=\"\",\"\",IFERROR(VLOOKUP($O38,電力等のGJ換算係数_個票,3,FALSE),VLOOKUP($O38,活動の種別と単位_個票,5,FALSE)))","v":""},{"$f":"IF(OR($D38=\"\",$P38=\"\"),\"\",$D38*$P38)","v":""},{"$f":"IF(SUM(LEN($R38),LEN($R39),LEN($R40),LEN($R41))=0,\"\",SUM($R38:$R41))","v":""},{"$f":"IFERROR($S$25-$S$38,\"---\")","v":"---"}]
["",null,{"$f":"IF($D$34=\"\",\"\",IF(COUNTIF($D$34,\"*済*\"),$C$30,$C$26))","v":""},{"$f":"IF($D$34=\"\",\"\",IF(COUNTIF($D$34,\"*済*\"),\"\",$D$26))","v":""},"",{"$f":"IF($D$34=\"\",\"\",IF(COUNTIF($D$34,\"*済*\"),$F$30,$F$26))","v":""},"",{"$f":"IF($D$34=\"\",\"\",IF(COUNTIF($D$34,\"*済*\"),$H$30,$H$26))","v":""},"","","(c1)","(a-c1)",null,null,{"$f":"IF($C39=\"\",\"\",IF(COUNTIF($C39,\"*系統電力*\"),\"*系統電力*\",IF(COUNTIF($C39,\"*産業用蒸気*\"),\"*産業用蒸気*\",IF(COUNTIF($C39,\"*温水*\"),\"*温水*\",IF(COUNTIF($C39,\"*冷水*\"),\"*冷水*\",IF(COUNTIF($C39,\"*蒸気（産業用以外）*\"),\"*蒸気（産業用以外）*\",$C39))))))","v":""},"","","","(C1)","(A-C1)"]
["",null,{"$f":"IF($D$34=\"\",\"\",IF(COUNTIF($D$34,\"*済*\"),$C$31,$C$27))","v":""},{"$f":"IF($D$34=\"\",\"\",IF(COUNTIF($D$34,\"*済*\"),\"\",$D$27))","v":""},"",{"$f":"IF($D$34=\"\",\"\",IF(COUNTIF($D$34,\"*済*\"),$F$31,$F$27))","v":""},"",{"$f":"IF($D$34=\"\",\"\",IF(COUNTIF($D$34,\"*済*\"),$H$31,$H$27))","v":""},"","",null,null,null,null,"","","",""]
["",null,{"$f":"IF($D$34=\"\",\"\",IF(COUNTIF($D$34,\"*済*\"),$C$32,$C$28))","v":""},{"$f":"IF($D$34=\"\",\"\",IF(COUNTIF($D$34,\"*済*\"),\"\",$D$28))","v":""},"",{"$f":"IF($D$34=\"\",\"\",IF(COUNTIF($D$34,\"*済*\"),$F$32,$F$28))","v":""},"",{"$f":"IF($D$34=\"\",\"\",IF(COUNTIF($D$34,\"*済*\"),$H$32,$H$28))","v":""},"","",null,null,null,null,"","","",""]
["",{"$f":"B35","v":"令和7年度"},{"$f":"IF($D$35=\"\",\"\",IF(COUNTIF($D$35,\"*済*\"),$C$29,$C$25))","v":""},{"$f":"IF($D$35=\"\",\"\",IF(COUNTIF($D$35,\"*済*\"),\"\",$D$25))","v":""},"",{"$f":"IF($D$35=\"\",\"\",IF(COUNTIF($D$35,\"*済*\"),$F$29,$F$25))","v":""},"",{"$f":"IF($D$35=\"\",\"\",IF(COUNTIF($D$35,\"*済*\"),$H$29,$H$25))","v":""},"","",{"$f":"IF(SUM(LEN($J42),LEN($J43),LEN($J44),LEN($J45))=0,\"\",SUM($J42:$J45))","v":""},{"$f":"IFERROR($K$25-$K$42,\"---\")","v":"---"},null,null,"","","","",{"$f":"IF(SUM(LEN($R42),LEN($R43),LEN($R44),LEN($R45))=0,\"\",SUM($R42:$R45))","v":""},{"$f":"IFERROR($S$25-$S$42,\"---\")","v":"---"}]
["",null,{"$f":"IF($D$35=\"\",\"\",IF(COUNTIF($D$35,\"*済*\"),$C$30,$C$26))","v":""},{"$f":"IF($D$35=\"\",\"\",IF(COUNTIF($D$35,\"*済*\"),\"\",$D$26))","v":""},"",{"$f":"IF($D$35=\"\",\"\",IF(COUNTIF($D$35,\"*済*\"),$F$30,$F$26))","v":""},"",{"$f":"IF($D$35=\"\",\"\",IF(COUNTIF($D$35,\"*済*\"),$H$30,$H$26))","v":""},"","","(c2)","(a-c2)",null,null,"","","","","(C2)","(A-C2)"]
["",null,{"$f":"IF($D$35=\"\",\"\",IF(COUNTIF($D$35,\"*済*\"),$C$31,$C$27))","v":""},{"$f":"IF($D$35=\"\",\"\",IF(COUNTIF($D$35,\"*済*\"),\"\",$D$27))","v":""},"",{"$f":"IF($D$35=\"\",\"\",IF(COUNTIF($D$35,\"*済*\"),$F$31,$F$27))","v":""},"",{"$f":"IF($D$35=\"\",\"\",IF(COUNTIF($D$35,\"*済*\"),$H$31,$H$27))","v":""},"","",null,null,null,null,"","","",""]
["",null,{"$f":"IF($D$35=\"\",\"\",IF(COUNTIF($D$35,\"*済*\"),$C$32,$C$28))","v":""},{"$f":"IF($D$35=\"\",\"\",IF(COUNTIF($D$35,\"*済*\"),\"\",$D$28))","v":""},"",{"$f":"IF($D$35=\"\",\"\",IF(COUNTIF($D$35,\"*済*\"),$F$32,$F$28))","v":""},"",{"$f":"IF($D$35=\"\",\"\",IF(COUNTIF($D$35,\"*済*\"),$H$32,$H$28))","v":""},"","",null,null,null,null,"","","",""]
["",{"$f":"B36","v":"令和8年度"},{"$f":"IF($D$36=\"\",\"\",IF(COUNTIF($D$36,\"*済*\"),$C$29,$C$25))","v":""},{"$f":"IF($D$36=\"\",\"\",IF(COUNTIF($D$36,\"*済*\"),\"\",$D$25))","v":""},"",{"$f":"IF($D$36=\"\",\"\",IF(COUNTIF($D$36,\"*済*\"),$F$29,$F$25))","v":""},"",{"$f":"IF($D$36=\"\",\"\",IF(COUNTIF($D$36,\"*済*\"),$H$29,$H$25))","v":""},"","",{"$f":"IF(SUM(LEN($J46),LEN($J47),LEN($J48),LEN($J49))=0,\"\",SUM($J46:$J49))","v":""},{"$f":"IFERROR($K$25-$K$46,\"---\")","v":"---"},null,null,"","","","",{"$f":"IF(SUM(LEN($R46),LEN($R47),LEN($R48),LEN($R49))=0,\"\",SUM($R46:$R49))","v":""},{"$f":"IFERROR($S$25-$S$46,\"---\")","v":"---"}]
["",null,{"$f":"IF($D$36=\"\",\"\",IF(COUNTIF($D$36,\"*済*\"),$C$30,$C$26))","v":""},{"$f":"IF($D$36=\"\",\"\",IF(COUNTIF($D$36,\"*済*\"),\"\",$D$26))","v":""},"",{"$f":"IF($D$36=\"\",\"\",IF(COUNTIF($D$36,\"*済*\"),$F$30,$F$26))","v":""},"",{"$f":"IF($D$36=\"\",\"\",IF(COUNTIF($D$36,\"*済*\"),$H$30,$H$26))","v":""},"","","(c3)","(a-c3)",null,null,"","","","","(C3)","(A-C3)"]
["",null,{"$f":"IF($D$36=\"\",\"\",IF(COUNTIF($D$36,\"*済*\"),$C$31,$C$27))","v":""},{"$f":"IF($D$36=\"\",\"\",IF(COUNTIF($D$36,\"*済*\"),\"\",$D$27))","v":""},"",{"$f":"IF($D$36=\"\",\"\",IF(COUNTIF($D$36,\"*済*\"),$F$31,$F$27))","v":""},"",{"$f":"IF($D$36=\"\",\"\",IF(COUNTIF($D$36,\"*済*\"),$H$31,$H$27))","v":""},"","",null,null,null,null,"","","",""]
["",null,{"$f":"IF($D$36=\"\",\"\",IF(COUNTIF($D$36,\"*済*\"),$C$32,$C$28))","v":""},{"$f":"IF($D$36=\"\",\"\",IF(COUNTIF($D$36,\"*済*\"),\"\",$D$28))","v":""},"",{"$f":"IF($D$36=\"\",\"\",IF(COUNTIF($D$36,\"*済*\"),$F$32,$F$28))","v":""},"",{"$f":"IF($D$36=\"\",\"\",IF(COUNTIF($D$36,\"*済*\"),$H$32,$H$28))","v":""},"","",null,null,null,null,"","","",""]
[null,"※活動量、排出量及び削減量は、小数点以下を四捨五入した整数で表示されています（端数処理なし）。"]
[null,null,null,null,null,null,null,null,null,null,null,{"$f":"\"個票\"&$D$12","v":"個票3"}]
[]
[null,"３．CO2排出量の算出根拠"]
[]
[null,{"$f":"$B$38","v":"令和6年度"},null,{"$f":"IF($D$34=\"\",\"\",$D$34)","v":""},null,null,null,null,null,{"$f":"IF(D55=\"\",\"\",IF($V$34=FALSE,\"当初計画どおり\",\"当初計画から変更あり\"))","v":""}]
[null,"CO2排出量の計算式で使用する「活動種別ごとの年間活動量」の算出根拠\n※「対策実施済み」の場合は、実施計画書の対策個票「7.報告時のCO2排出量算定のための活動量把握方法」に基づき算出すること。"]
[]
[]
[]
[]
[]
[]
[]
[]
[]
[]
[]
[]
[]
[]
[]
[]
[]
[]
[]
[]
[]
[]
[]
[]
[]
[]
[]
[]
[]
[]
[]
[]
[]
[]
[]
[]
[]
[]
[]
[]
[]
[]
[null,"備考"]
[]
[]
[]
[]
[]
[]
[null,null,null,null,null,null,null,null,null,null,null,{"$f":"\"個票\"&$D$12","v":"個票3"}]
[]
[]
[]
[null,{"$f":"$B$42","v":"令和7年度"},null,{"$f":"IF($D$35=\"\",\"\",$D$35)","v":""},null,null,null,null,null,{"$f":"IF(D110=\"\",\"\",IF($V$35=FALSE,\"当初計画どおり\",\"当初計画から変更あり\"))","v":""}]
[null,"CO2排出量の計算式で使用する「活動種別ごとの年間活動量」の算出根拠\n※「対策実施済み」の場合は、実施計画書の対策個票「7.報告時のCO2排出量算定のための活動量把握方法」に基づき算出すること。"]
[]
[]
[]
[]
[]
[]
[]
[]
[]
[]
[]
[]
[]
[]
[]
[]
[]
[]
[]
[]
[]
[]
[]
[]
[]
[]
[]
[]
[]
[]
[]
[]
[]
[]
[]
[]
[]
[]
[]
[]
[]
[]
[null,"備考"]
[]
[]
[]
[]
[]
[]
[null,null,null,null,null,null,null,null,null,null,null,{"$f":"\"個票\"&$D$12","v":"個票3"}]
[]
[]
[]
[null,{"$f":"$B$46","v":"令和8年度"},null,{"$f":"IF($D$36=\"\",\"\",$D$36)","v":""},null,null,null,null,null,{"$f":"IF(D165=\"\",\"\",IF($V$36=FALSE,\"当初計画どおり\",\"当初計画から変更あり\"))","v":""}]
[null,"CO2排出量の計算式で使用する「活動種別ごとの年間活動量」の算出根拠\n※「対策実施済み」の場合は、実施計画書の対策個票「7.報告時のCO2排出量算定のための活動量把握方法」に基づき算出すること。"]
[]
[]
[]
[]
[]
[]
[]
[]
[]
[]
[]
[]
[]
[]
[]
[]
[]
[]
[]
[]
[]
[]
[]
[]
[]
[]
[]
[]
[]
[]
[]
[]
[]
[]
[]
[]
[]
[]
[]
[]
[]
[]
[null,"備考"]

{"sheet":"別紙1_CO2排出量_個票4","index":9,"n_rows":209,"n_cols":22,"rows_kept":209,"cut":false,"hidden":true,"merged":[[166,1,207,11],[208,1,208,11],[209,1,213,11],[153,1,153,11],[154,1,158,11],[164,1,164,2],[164,3,164,8],[164,9,164,10],[165,1,165,11],[111,1,152,11],[54,1,54,2],[54,3,54,8],[54,9,54,10],[55,1,55,11],[56,1,97,11],[98,1,98,11],[99,1,103,11],[109,1,109,2],[109,3,109,8],[109,9,109,10],[110,1,110,11],[22,15,22,16],[24,1,27,1],[45,1,48,1],[33,1,33,2],[33,3,33,8],[33,9,33,10],[34,1,34,2],[34,3,34,8],[34,9,34,10],[35,1,35,2],[35,3,35,8],[35,9,35,10],[37,1,40,1],[41,1,44,1],[28,1,31,1],[22,3,22,4],[22,5,22,6],[22,7,22,8],[12,1,12,2],[12,3,12,11],[13,1,13,2],[13,3,13,11],[14,1,14,2],[14,3,14,11],[15,1,15,2],[15,3,15,11],[16,1,16,2],[16,3,16,11],[17,1,17,2],[17,3,17,11],[4,1,4,2],[4,3,4,11],[5,1,5,2],[5,3,5,11],[11,1,11,2],[11,7,11,9]]}
[null,null,null,null,null,null,null,null,null,null,null,null,null,null,null,null,null,null,null,null,null,"セル色表示/非表示"]
[null,"環境省　令和４年度（第2次補正予算）・令和5年度二酸化炭素排出抑制対策事業費等補助金",null,null,null,null,null,null,null,null,null,null,null,null,null,null,null,null,null,null,null,false]
[null," （工場・事業場における先導的な脱炭素化取組推進事業（SHIFT事業））"]
[]
[null,"事業者名（法人名）",null,{"$f":"IF(事業報告書まとめ_計画策定支援!$H$7=\"\",\"\",事業報告書まとめ_計画策定支援!$H$7)","v":"○○株式会社"}]
[null,"工場・事業場名",null,{"$f":"IF(事業報告書まとめ_計画策定支援!$H$8=\"\",\"\",事業報告書まとめ_計画策定支援!$H$8)","v":"○○工場"}]
[]
[null,{"$f":"\"【様式第16 事業報告書】 別紙1_CO2排出量_個票\"&$D$12","v":"【様式第16 事業報告書】 別紙1_CO2排出量_個票4"}]
[]
[null,"１．対策概要"]
[]
[null,"個票番号",null,{"$f":"MID(CELL(\"filename\",$A$1),FIND(\"]\",CELL(\"filename\",$A$1))+14,LEN(CELL(\"filename\",$A$1)))","v":"4"},null,null,null,"統合した対策個票番号"]
[null,"対策名称",null,{"$f":"IF(VLOOKUP(VALUE($D$12),個票概要,3,FALSE)=\"\",\"\",VLOOKUP(VALUE($D$12),個票概要,3,FALSE))","v":{"$error":"#N/A"}}]
[null,"対策種類",null,{"$f":"IF(VLOOKUP(VALUE($D$12),個票概要,2,FALSE)=\"\",\"\",VLOOKUP(VALUE($D$12),個票概要,2,FALSE))","v":{"$error":"#N/A"}}]
[null,"対象システム／設備",null,{"$f":"IF(VLOOKUP(VALUE($D$12),個票概要,6,FALSE)=\"\",\"\",VLOOKUP(VALUE($D$12),個票概要,6,FALSE))","v":{"$error":"#N/A"}}]
[null,"工程",null,{"$f":"IF(VLOOKUP(VALUE($D$12),個票概要,5,FALSE)=\"\",\"\",VLOOKUP(VALUE($D$12),個票概要,5,FALSE))","v":{"$error":"#N/A"}}]
[null,"既存設備名称",null,{"$f":"IF(VLOOKUP(VALUE($D$12),個票概要,7,FALSE)=\"\",\"\",VLOOKUP(VALUE($D$12),個票概要,7,FALSE))","v":{"$error":"#N/A"}}]
[null,"導入設備名称",null,{"$f":"IF(VLOOKUP(VALUE($D$12),個票概要,8,FALSE)=\"\",\"\",VLOOKUP(VALUE($D$12),個票概要,8,FALSE))","v":{"$error":"#N/A"}}]
[]
[]
[null,"２．CO2排出量"]
[]
[null,null,"活動種別","年間活動量",null,"単位発熱量",null,"CO2排出係数",null,"CO2排出量\n(t-CO2/年)","CO2排出量合計\n(t-CO2/年)","CO2削減量\n(t-CO2/年)",null,null,"活動種別","単位発熱量",null,"GJ換算量\n(GJ/年)","GJ換算量合計\n(GJ/年)","GJ削減量\n(GJ/年)"]
[null,"■計画",null,null,null,null,null,null,null,null,null,null,null,null,"■計画"]
[{"$f":"IF($C25=\"\",\"\",VLOOKUP($C25,活動の種別と単位_個票,2,FALSE))","v":""},"【前】\n対策実施",{"$f":"IF(VLOOKUP(VALUE($D$12),対策前後,2,FALSE)=\"\",\"\",VLOOKUP(VALUE($D$12),対策前後,2,FALSE))","v":""},{"$f":"IF(VLOOKUP(VALUE($D$12),対策前後,3,FALSE)=\"\",\"\",VLOOKUP(VALUE($D$12),対策前後,3,FALSE))","v":""},{"$f":"IF($C25=\"\",\"\",VLOOKUP($C25,活動の種別と単位_個票,4,FALSE))","v":""},{"$f":"IF(VLOOKUP(VALUE($D$12),対策前後,5,FALSE)=\"\",\"\",VLOOKUP(VALUE($D$12),対策前後,5,FALSE))","v":""},{"$f":"IF($C25=\"\",\"\",VLOOKUP($C25,活動の種別と単位_個票,5,FALSE))","v":""},{"$f":"IF(VLOOKUP(VALUE($D$12),対策前後,7,FALSE)=\"\",\"\",VLOOKUP(VALUE($D$12),対策前後,7,FALSE))","v":""},{"$f":"IF($C25=\"\",\"\",VLOOKUP($C25,活動の種別と単位_個票,6,FALSE))","v":""},{"$f":"IFERROR(IF($D25=\"\",\"\",IF($A25=0,$D25*$F25*$H25,$D25*$H25)),\"---\")","v":""},{"$f":"IF(SUM(LEN($J25),LEN($J26),LEN($J27),LEN($J28))=0,\"\",SUM($J25:$J28))","v":""},null,null,null,{"$f":"IF($C25=\"\",\"\",IF(COUNTIF($C25,\"*系統電力*\"),\"*系統電力*\",IF(COUNTIF($C25,\"*産業用蒸気*\"),\"*産業用蒸気*\",IF(COUNTIF($C25,\"*温水*\"),\"*温水*\",IF(COUNTIF($C25,\"*冷水*\"),\"*冷水*\",IF(COUNTIF($C25,\"*蒸気（産業用以外）*\"),\"*蒸気（産業用以外）*\",$C25))))))","v":""},{"$f":"IF($O25=\"\",\"\",IFERROR(VLOOKUP($O25,電力等のGJ換算係数_個票,2,FALSE),F25))","v":""},{"$f":"IF($O25=\"\",\"\",IFERROR(VLOOKUP($O25,電力等のGJ換算係数_個票,3,FALSE),VLOOKUP($O25,活動の種別と単位_個票,5,FALSE)))","v":""},{"$f":"IF(OR($D25=\"\",$P25=\"\"),\"\",$D25*$P25)","v":""},{"$f":"IF(SUM(LEN($R25),LEN($R26),LEN($R27),LEN($R28))=0,\"\",SUM($R25:$R28))","v":""}]
["",null,{"$f":"IF(VLOOKUP(VALUE($D$12)&\"-2\",対策前後,2,FALSE)=\"\",\"\",VLOOKUP(VALUE($D$12)&\"-2\",対策前後,2,FALSE))","v":""},{"$f":"IF(VLOOKUP(VALUE($D$12)&\"-2\",対策前後,3,FALSE)=\"\",\"\",VLOOKUP(VALUE($D$12)&\"-2\",対策前後,3,FALSE))","v":""},{"$f":"IF($C26=\"\",\"\",VLOOKUP($C26,活動の種別と単位_個票,4,FALSE))","v":""},{"$f":"IF(VLOOKUP(VALUE($D$12)&\"-2\",対策前後,5,FALSE)=\"\",\"\",VLOOKUP(VALUE($D$12)&\"-2\",対策前後,5,FALSE))","v":""},"",{"$f":"IF(VLOOKUP(VALUE($D$12)&\"-2\",対策前後,7,FALSE)=\"\",\"\",VLOOKUP(VALUE($D$12)&\"-2\",対策前後,7,FALSE))","v":""},"","","(a)",null,null,null,{"$f":"IF($C26=\"\",\"\",IF(COUNTIF($C26,\"*系統電力*\"),\"*系統電力*\",IF(COUNTIF($C26,\"*産業用蒸気*\"),\"*産業用蒸気*\",IF(COUNTIF($C26,\"*温水*\"),\"*温水*\",IF(COUNTIF($C26,\"*冷水*\"),\"*冷水*\",IF(COUNTIF($C26,\"*蒸気（産業用以外）*\"),\"*蒸気（産業用以外）*\",$C26))))))","v":""},{"$f":"IF($O26=\"\",\"\",IFERROR(VLOOKUP($O26,電力等のGJ換算係数_個票,2,FALSE),F26))","v":""},{"$f":"IF($O26=\"\",\"\",IFERROR(VLOOKUP($O26,電力等のGJ換算係数_個票,3,FALSE),VLOOKUP($O26,活動の種別と単位_個票,5,FALSE)))","v":""},{"$f":"IF(OR($D26=\"\",$P26=\"\"),\"\",$D26*$P26)","v":""},"(A)"]
["",null,{"$f":"IF(VLOOKUP(VALUE($D$12)&\"-3\",対策前後,2,FALSE)=\"\",\"\",VLOOKUP(VALUE($D$12)&\"-3\",対策前後,2,FALSE))","v":""},{"$f":"IF(VLOOKUP(VALUE($D$12)&\"-3\",対策前後,3,FALSE)=\"\",\"\",VLOOKUP(VALUE($D$12)&\"-3\",対策前後,3,FALSE))","v":""},"",{"$f":"IF(VLOOKUP(VALUE($D$12)&\"-3\",対策前後,5,FALSE)=\"\",\"\",VLOOKUP(VALUE($D$12)&\"-3\",対策前後,5,FALSE))","v":""},"",{"$f":"IF(VLOOKUP(VALUE($D$12)&\"-3\",対策前後,7,FALSE)=\"\",\"\",VLOOKUP(VALUE($D$12)&\"-3\",対策前後,7,FALSE))","v":""},"","",null,null,null,null,"","",{"$f":"IF($O27=\"\",\"\",IFERROR(VLOOKUP($O27,電力等のGJ換算係数_個票,3,FALSE),VLOOKUP($O27,活動の種別と単位_個票,5,FALSE)))","v":""},""]
["",null,{"$f":"IF(VLOOKUP(VALUE($D$12)&\"-4\",対策前後,2,FALSE)=\"\",\"\",VLOOKUP(VALUE($D$12)&\"-4\",対策前後,2,FALSE))","v":""},{"$f":"IF(VLOOKUP(VALUE($D$12)&\"-4\",対策前後,3,FALSE)=\"\",\"\",VLOOKUP(VALUE($D$12)&\"-4\",対策前後,3,FALSE))","v":""},"",{"$f":"IF(VLOOKUP(VALUE($D$12)&\"-4\",対策前後,5,FALSE)=\"\",\"\",VLOOKUP(VALUE($D$12)&\"-4\",対策前後,5,FALSE))","v":""},"",{"$f":"IF(VLOOKUP(VALUE($D$12)&\"-4\",対策前後,7,FALSE)=\"\",\"\",VLOOKUP(VALUE($D$12)&\"-4\",対策前後,7,FALSE))","v":""},"","",null,null,null,null,"","","",""]
["","【計画】\n対策実施",{"$f":"IF(VLOOKUP(VALUE($D$12),対策前後,9,FALSE)=\"\",\"\",VLOOKUP(VALUE($D$12),対策前後,9,FALSE))","v":""},{"$f":"IF(VLOOKUP(VALUE($D$12),対策前後,10,FALSE)=\"\",\"\",VLOOKUP(VALUE($D$12),対策前後,10,FALSE))","v":""},"",{"$f":"IF(VLOOKUP(VALUE($D$12),対策前後,12,FALSE)=\"\",\"\",VLOOKUP(VALUE($D$12),対策前後,12,FALSE))","v":""},"",{"$f":"IF(VLOOKUP(VALUE($D$12),対策前後,14,FALSE)=\"\",\"\",VLOOKUP(VALUE($D$12),対策前後,14,FALSE))","v":""},"","",{"$f":"IF(SUM(LEN($J29),LEN($J30),LEN($J31),LEN($J32))=0,\"\",SUM($J29:$J32))","v":""},{"$f":"IFERROR($K$25-$K$29,\"---\")","v":"---"},null,null,"","","","",{"$f":"IF(SUM(LEN($R29),LEN($R30),LEN($R31),LEN($R32))=0,\"\",SUM($R29:$R32))","v":""},{"$f":"IFERROR($S$25-$S$29,\"---\")","v":"---"}]
["",null,{"$f":"IF(VLOOKUP(VALUE($D$12)&\"-2\",対策前後,9,FALSE)=\"\",\"\",VLOOKUP(VALUE($D$12)&\"-2\",対策前後,9,FALSE))","v":""},{"$f":"IF(VLOOKUP(VALUE($D$12)&\"-2\",対策前後,10,FALSE)=\"\",\"\",VLOOKUP(VALUE($D$12)&\"-2\",対策前後,10,FALSE))","v":""},"",{"$f":"IF(VLOOKUP(VALUE($D$12)&\"-2\",対策前後,12,FALSE)=\"\",\"\",VLOOKUP(VALUE($D$12)&\"-2\",対策前後,12,FALSE))","v":""},"",{"$f":"IF(VLOOKUP(VALUE($D$12)&\"-2\",対策前後,14,FALSE)=\"\",\"\",VLOOKUP(VALUE($D$12)&\"-2\",対策前後,14,FALSE))","v":""},"","","(b)","(a-b)",null,null,"","","","","(B)","(A-B)"]
["",null,{"$f":"IF(VLOOKUP(VALUE($D$12)&\"-3\",対策前後,9,FALSE)=\"\",\"\",VLOOKUP(VALUE($D$12)&\"-3\",対策前後,9,FALSE))","v":""},{"$f":"IF(VLOOKUP(VALUE($D$12)&\"-3\",対策前後,10,FALSE)=\"\",\"\",VLOOKUP(VALUE($D$12)&\"-3\",対策前後,10,FALSE))","v":""},"",{"$f":"IF(VLOOKUP(VALUE($D$12)&\"-3\",対策前後,12,FALSE)=\"\",\"\",VLOOKUP(VALUE($D$12)&\"-3\",対策前後,12,FALSE))","v":""},"",{"$f":"IF(VLOOKUP(VALUE($D$12)&\"-3\",対策前後,14,FALSE)=\"\",\"\",VLOOKUP(VALUE($D$12)&\"-3\",対策前後,14,FALSE))","v":""},"","",null,null,null,null,"","","",""]
["",null,{"$f":"IF(VLOOKUP(VALUE($D$12)&\"-4\",対策前後,9,FALSE)=\"\",\"\",VLOOKUP(VALUE($D$12)&\"-4\",対策前後,9,FALSE))","v":""},{"$f":"IF(VLOOKUP(VALUE($D$12)&\"-4\",対策前後,10,FALSE)=\"\",\"\",VLOOKUP(VALUE($D$12)&\"-4\",対策前後,10,FALSE))","v":""},"",{"$f":"IF(VLOOKUP(VALUE($D$12)&\"-4\",対策前後,12,FALSE)=\"\",\"\",VLOOKUP(VALUE($D$12)&\"-4\",対策前後,12,FALSE))","v":""},"",{"$f":"IF(VLOOKUP(VALUE($D$12)&\"-4\",対策前後,14,FALSE)=\"\",\"\",VLOOKUP(VALUE($D$12)&\"-4\",対策前後,14,FALSE))","v":""},"","",null,null,null,null,"","","",""]
[null,"■対策実施状況",null,null,null,null,null,null,null,null,null,null,null,null,null,null,null,null,null,null,null,"計画変更状況"]
[null,"令和6年度",null,null,null,null,null,null,null,"　当初計画から変更あり",null," ",null,null,null,null,null,null,null,null,null,false]
[null,"令和7年度",null,null,null,null,null,null,null,"　当初計画から変更あり",null,null,null,null,null,null,null,null,null,null,null,false]
[null,"令和8年度",null,null,null,null,null,null,null,"　当初計画から変更あり",null,null,null,null,null,null,null,null,null,null,null,false]
[null,"■実績",null,null,null,null,null,null,null,null,null,null,null,null,"■実績"]
[{"$f":"IF($C38=\"\",\"\",VLOOKUP($C38,活動の種別と単位_個票,2,FALSE))","v":""},{"$f":"B34","v":"令和6年度"},{"$f":"IF($D$34=\"\",\"\",IF(COUNTIF($D$34,\"*済*\"),$C$29,$C$25))","v":""},{"$f":"IF($D$34=\"\",\"\",IF(COUNTIF($D$34,\"*済*\"),\"\",$D$25))","v":""},{"$f":"IF($C38=\"\",\"\",VLOOKUP($C38,活動の種別と単位_個票,4,FALSE))","v":""},{"$f":"IF($D$34=\"\",\"\",IF(COUNTIF($D$34,\"*済*\"),$F$29,$F$25))","v":""},{"$f":"IF($C38=\"\",\"\",VLOOKUP($C38,活動の種別と単位_個票,5,FALSE))","v":""},{"$f":"IF($D$34=\"\",\"\",IF(COUNTIF($D$34,\"*済*\"),$H$29,$H$25))","v":""},{"$f":"IF($C38=\"\",\"\",VLOOKUP($C38,活動の種別と単位_個票,6,FALSE))","v":""},{"$f":"IFERROR(IF($D38=\"\",\"\",IF($A38=0,$D38*$F38*$H38,$D38*$H38)),\"---\")","v":""},{"$f":"IF(SUM(LEN($J38),LEN($J39),LEN($J40),LEN($J41))=0,\"\",SUM($J38:$J41))","v":""},{"$f":"IFERROR($K$25-$K$38,\"---\")","v":"---"},null,null,{"$f":"IF($C38=\"\",\"\",IF(COUNTIF($C38,\"*系統電力*\"),\"*系統電力*\",IF(COUNTIF($C38,\"*産業用蒸気*\"),\"*産業用蒸気*\",IF(COUNTIF($C38,\"*温水*\"),\"*温水*\",IF(COUNTIF($C38,\"*冷水*\"),\"*冷水*\",IF(COUNTIF($C38,\"*蒸気（産業用以外）*\"),\"*蒸気（産業用以外）*\",$C38))))))","v":""},{"$f":"IF($O38=\"\",\"\",IFERROR(VLOOKUP($O38,電力等のGJ換算係数_個票,2,FALSE),F38))","v":""},{"$f":"IF($O38=\"\",\"\",IFERROR(VLOOKUP($O38,電力等のGJ換算係数_個票,3,FALSE),VLOOKUP($O38,活動の種別と単位_個票,5,FALSE)))","v":""},{"$f":"IF(OR($D38=\"\",$P38=\"\"),\"\",$D38*$P38)","v":""},{"$f":"IF(SUM(LEN($R38),LEN($R39),LEN($R40),LEN($R41))=0,\"\",SUM($R38:$R41))","v":""},{"$f":"IFERROR($S$25-$S$38,\"---\")","v":"---"}]
["",null,{"$f":"IF($D$34=\"\",\"\",IF(COUNTIF($D$34,\"*済*\"),$C$30,$C$26))","v":""},{"$f":"IF($D$34=\"\",\"\",IF(COUNTIF($D$34,\"*済*\"),\"\",$D$26))","v":""},"",{"$f":"IF($D$34=\"\",\"\",IF(COUNTIF($D$34,\"*済*\"),$F$30,$F$26))","v":""},"",{"$f":"IF($D$34=\"\",\"\",IF(COUNTIF($D$34,\"*済*\"),$H$30,$H$26))","v":""},"","","(c1)","(a-c1)",null,null,{"$f":"IF($C39=\"\",\"\",IF(COUNTIF($C39,\"*系統電力*\"),\"*系統電力*\",IF(COUNTIF($C39,\"*産業用蒸気*\"),\"*産業用蒸気*\",IF(COUNTIF($C39,\"*温水*\"),\"*温水*\",IF(COUNTIF($C39,\"*冷水*\"),\"*冷水*\",IF(COUNTIF($C39,\"*蒸気（産業用以外）*\"),\"*蒸気（産業用以外）*\",$C39))))))","v":""},"","","","(C1)","(A-C1)"]
["",null,{"$f":"IF($D$34=\"\",\"\",IF(COUNTIF($D$34,\"*済*\"),$C$31,$C$27))","v":""},{"$f":"IF($D$34=\"\",\"\",IF(COUNTIF($D$34,\"*済*\"),\"\",$D$27))","v":""},"",{"$f":"IF($D$34=\"\",\"\",IF(COUNTIF($D$34,\"*済*\"),$F$31,$F$27))","v":""},"",{"$f":"IF($D$34=\"\",\"\",IF(COUNTIF($D$34,\"*済*\"),$H$31,$H$27))","v":""},"","",null,null,null,null,"","","",""]
["",null,{"$f":"IF($D$34=\"\",\"\",IF(COUNTIF($D$34,\"*済*\"),$C$32,$C$28))","v":""},{"$f":"IF($D$34=\"\",\"\",IF(COUNTIF($D$34,\"*済*\"),\"\",$D$28))","v":""},"",{"$f":"IF($D$34=\"\",\"\",IF(COUNTIF($D$34,\"*済*\"),$F$32,$F$28))","v":""},"",{"$f":"IF($D$34=\"\",\"\",IF(COUNTIF($D$34,\"*済*\"),$H$32,$H$28))","v":""},"","",null,null,null,null,"","","",""]
["",{"$f":"B35","v":"令和7年度"},{"$f":"IF($D$35=\"\",\"\",IF(COUNTIF($D$35,\"*済*\"),$C$29,$C$25))","v":""},{"$f":"IF($D$35=\"\",\"\",IF(COUNTIF($D$35,\"*済*\"),\"\",$D$25))","v":""},"",{"$f":"IF($D$35=\"\",\"\",IF(COUNTIF($D$35,\"*済*\"),$F$29,$F$25))","v":""},"",{"$f":"IF($D$35=\"\",\"\",IF(COUNTIF($D$35,\"*済*\"),$H$29,$H$25))","v":""},"","",{"$f":"IF(SUM(LEN($J42),LEN($J43),LEN($J44),LEN($J45))=0,\"\",SUM($J42:$J45))","v":""},{"$f":"IFERROR($K$25-$K$42,\"---\")","v":"---"},null,null,"","","","",{"$f":"IF(SUM(LEN($R42),LEN($R43),LEN($R44),LEN($R45))=0,\"\",SUM($R42:$R45))","v":""},{"$f":"IFERROR($S$25-$S$42,\"---\")","v":"---"}]
["",null,{"$f":"IF($D$35=\"\",\"\",IF(COUNTIF($D$35,\"*済*\"),$C$30,$C$26))","v":""},{"$f":"IF($D$35=\"\",\"\",IF(COUNTIF($D$35,\"*済*\"),\"\",$D$26))","v":""},"",{"$f":"IF($D$35=\"\",\"\",IF(COUNTIF($D$35,\"*済*\"),$F$30,$F$26))","v":""},"",{"$f":"IF($D$35=\"\",\"\",IF(COUNTIF($D$35,\"*済*\"),$H$30,$H$26))","v":""},"","","(c2)","(a-c2)",null,null,"","","","","(C2)","(A-C2)"]
["",null,{"$f":"IF($D$35=\"\",\"\",IF(COUNTIF($D$35,\"*済*\"),$C$31,$C$27))","v":""},{"$f":"IF($D$35=\"\",\"\",IF(COUNTIF($D$35,\"*済*\"),\"\",$D$27))","v":""},"",{"$f":"IF($D$35=\"\",\"\",IF(COUNTIF($D$35,\"*済*\"),$F$31,$F$27))","v":""},"",{"$f":"IF($D$35=\"\",\"\",IF(COUNTIF($D$35,\"*済*\"),$H$31,$H$27))","v":""},"","",null,null,null,null,"","","",""]
["",null,{"$f":"IF($D$35=\"\",\"\",IF(COUNTIF($D$35,\"*済*\"),$C$32,$C$28))","v":""},{"$f":"IF($D$35=\"\",\"\",IF(COUNTIF($D$35,\"*済*\"),\"\",$D$28))","v":""},"",{"$f":"IF($D$35=\"\",\"\",IF(COUNTIF($D$35,\"*済*\"),$F$32,$F$28))","v":""},"",{"$f":"IF($D$35=\"\",\"\",IF(COUNTIF($D$35,\"*済*\"),$H$32,$H$28))","v":""},"","",null,null,null,null,"","","",""]
["",{"$f":"B36","v":"令和8年度"},{"$f":"IF($D$36=\"\",\"\",IF(COUNTIF($D$36,\"*済*\"),$C$29,$C$25))","v":""},{"$f":"IF($D$36=\"\",\"\",IF(COUNTIF($D$36,\"*済*\"),\"\",$D$25))","v":""},"",{"$f":"IF($D$36=\"\",\"\",IF(COUNTIF($D$36,\"*済*\"),$F$29,$F$25))","v":""},"",{"$f":"IF($D$36=\"\",\"\",IF(COUNTIF($D$36,\"*済*\"),$H$29,$H$25))","v":""},"","",{"$f":"IF(SUM(LEN($J46),LEN($J47),LEN($J48),LEN($J49))=0,\"\",SUM($J46:$J49))","v":""},{"$f":"IFERROR($K$25-$K$46,\"---\")","v":"---"},null,null,"","","","",{"$f":"IF(SUM(LEN($R46),LEN($R47),LEN($R48),LEN($R49))=0,\"\",SUM($R46:$R49))","v":""},{"$f":"IFERROR($S$25-$S$46,\"---\")","v":"---"}]
["",null,{"$f":"IF($D$36=\"\",\"\",IF(COUNTIF($D$36,\"*済*\"),$C$30,$C$26))","v":""},{"$f":"IF($D$36=\"\",\"\",IF(COUNTIF($D$36,\"*済*\"),\"\",$D$26))","v":""},"",{"$f":"IF($D$36=\"\",\"\",IF(COUNTIF($D$36,\"*済*\"),$F$30,$F$26))","v":""},"",{"$f":"IF($D$36=\"\",\"\",IF(COUNTIF($D$36,\"*済*\"),$H$30,$H$26))","v":""},"","","(c3)","(a-c3)",null,null,"","","","","(C3)","(A-C3)"]
["",null,{"$f":"IF($D$36=\"\",\"\",IF(COUNTIF($D$36,\"*済*\"),$C$31,$C$27))","v":""},{"$f":"IF($D$36=\"\",\"\",IF(COUNTIF($D$36,\"*済*\"),\"\",$D$27))","v":""},"",{"$f":"IF($D$36=\"\",\"\",IF(COUNTIF($D$36,\"*済*\"),$F$31,$F$27))","v":""},"",{"$f":"IF($D$36=\"\",\"\",IF(COUNTIF($D$36,\"*済*\"),$H$31,$H$27))","v":""},"","",null,null,null,null,"","","",""]
["",null,{"$f":"IF($D$36=\"\",\"\",IF(COUNTIF($D$36,\"*済*\"),$C$32,$C$28))","v":""},{"$f":"IF($D$36=\"\",\"\",IF(COUNTIF($D$36,\"*済*\"),\"\",$D$28))","v":""},"",{"$f":"IF($D$36=\"\",\"\",IF(COUNTIF($D$36,\"*済*\"),$F$32,$F$28))","v":""},"",{"$f":"IF($D$36=\"\",\"\",IF(COUNTIF($D$36,\"*済*\"),$H$32,$H$28))","v":""},"","",null,null,null,null,"","","",""]
[null,"※活動量、排出量及び削減量は、小数点以下を四捨五入した整数で表示されています（端数処理なし）。"]
[null,null,null,null,null,null,null,null,null,null,null,{"$f":"\"個票\"&$D$12","v":"個票4"}]
[]
[null,"３．CO2排出量の算出根拠"]
[]
[null,{"$f":"$B$38","v":"令和6年度"},null,{"$f":"IF($D$34=\"\",\"\",$D$34)","v":""},null,null,null,null,null,{"$f":"IF(D55=\"\",\"\",IF($V$34=FALSE,\"当初計画どおり\",\"当初計画から変更あり\"))","v":""}]
[null,"CO2排出量の計算式で使用する「活動種別ごとの年間活動量」の算出根拠\n※「対策実施済み」の場合は、実施計画書の対策個票「7.報告時のCO2排出量算定のための活動量把握方法」に基づき算出すること。"]
[]
[]
[]
[]
[]
[]
[]
[]
[]
[]
[]
[]
[]
[]
[]
[]
[]
[]
[]
[]
[]
[]
[]
[]
[]
[]
[]
[]
[]
[]
[]
[]
[]
[]
[]
[]
[]
[]
[]
[]
[]
[]
[null,"備考"]
[]
[]
[]
[]
[]
[]
[null,null,null,null,null,null,null,null,null,null,null,{"$f":"\"個票\"&$D$12","v":"個票4"}]
[]
[]
[]
[null,{"$f":"$B$42","v":"令和7年度"},null,{"$f":"IF($D$35=\"\",\"\",$D$35)","v":""},null,null,null,null,null,{"$f":"IF(D110=\"\",\"\",IF($V$35=FALSE,\"当初計画どおり\",\"当初計画から変更あり\"))","v":""}]
[null,"CO2排出量の計算式で使用する「活動種別ごとの年間活動量」の算出根拠\n※「対策実施済み」の場合は、実施計画書の対策個票「7.報告時のCO2排出量算定のための活動量把握方法」に基づき算出すること。"]
[]
[]
[]
[]
[]
[]
[]
[]
[]
[]
[]
[]
[]
[]
[]
[]
[]
[]
[]
[]
[]
[]
[]
[]
[]
[]
[]
[]
[]
[]
[]
[]
[]
[]
[]
[]
[]
[]
[]
[]
[]
[]
[null,"備考"]
[]
[]
[]
[]
[]
[]
[null,null,null,null,null,null,null,null,null,null,null,{"$f":"\"個票\"&$D$12","v":"個票4"}]
[]
[]
[]
[null,{"$f":"$B$46","v":"令和8年度"},null,{"$f":"IF($D$36=\"\",\"\",$D$36)","v":""},null,null,null,null,null,{"$f":"IF(D165=\"\",\"\",IF($V$36=FALSE,\"当初計画どおり\",\"当初計画から変更あり\"))","v":""}]
[null,"CO2排出量の計算式で使用する「活動種別ごとの年間活動量」の算出根拠\n※「対策実施済み」の場合は、実施計画書の対策個票「7.報告時のCO2排出量算定のための活動量把握方法」に基づき算出すること。"]
[]
[]
[]
[]
[]
[]
[]
[]
[]
[]
[]
[]
[]
[]
[]
[]
[]
[]
[]
[]
[]
[]
[]
[]
[]
[]
[]
[]
[]
[]
[]
[]
[]
[]
[]
[]
[]
[]
[]
[]
[]
[]
[null,"備考"]

{"sheet":"別紙1_CO2排出量_個票5","index":10,"n_rows":209,"n_cols":22,"rows_kept":209,"cut":false,"hidden":true,"merged":[[166,1,207,11],[208,1,208,11],[209,1,213,11],[153,1,153,11],[154,1,158,11],[164,1,164,2],[164,3,164,8],[164,9,164,10],[165,1,165,11],[111,1,152,11],[54,1,54,2],[54,3,54,8],[54,9,54,10],[55,1,55,11],[56,1,97,11],[98,1,98,11],[99,1,103,11],[109,1,109,2],[109,3,109,8],[109,9,109,10],[110,1,110,11],[22,15,22,16],[24,1,27,1],[45,1,48,1],[33,1,33,2],[33,3,33,8],[33,9,33,10],[34,1,34,2],[34,3,34,8],[34,9,34,10],[35,1,35,2],[35,3,35,8],[35,9,35,10],[37,1,40,1],[41,1,44,1],[28,1,31,1],[22,3,22,4],[22,5,22,6],[22,7,22,8],[12,1,12,2],[12,3,12,11],[13,1,13,2],[13,3,13,11],[14,1,14,2],[14,3,14,11],[15,1,15,2],[15,3,15,11],[16,1,16,2],[16,3,16,11],[17,1,17,2],[17,3,17,11],[4,1,4,2],[4,3,4,11],[5,1,5,2],[5,3,5,11],[11,1,11,2],[11,7,11,9]]}
[null,null,null,null,null,null,null,null,null,null,null,null,null,null,null,null,null,null,null,null,null,"セル色表示/非表示"]
[null,"環境省　令和４年度（第2次補正予算）・令和5年度二酸化炭素排出抑制対策事業費等補助金",null,null,null,null,null,null,null,null,null,null,null,null,null,null,null,null,null,null,null,false]
[null," （工場・事業場における先導的な脱炭素化取組推進事業（SHIFT事業））"]
[]
[null,"事業者名（法人名）",null,{"$f":"IF(事業報告書まとめ_計画策定支援!$H$7=\"\",\"\",事業報告書まとめ_計画策定支援!$H$7)","v":"○○株式会社"}]
[null,"工場・事業場名",null,{"$f":"IF(事業報告書まとめ_計画策定支援!$H$8=\"\",\"\",事業報告書まとめ_計画策定支援!$H$8)","v":"○○工場"}]
[]
[null,{"$f":"\"【様式第16 事業報告書】 別紙1_CO2排出量_個票\"&$D$12","v":"【様式第16 事業報告書】 別紙1_CO2排出量_個票5"}]
[]
[null,"１．対策概要"]
[]
[null,"個票番号",null,{"$f":"MID(CELL(\"filename\",$A$1),FIND(\"]\",CELL(\"filename\",$A$1))+14,LEN(CELL(\"filename\",$A$1)))","v":"5"},null,null,null,"統合した対策個票番号"]
[null,"対策名称",null,{"$f":"IF(VLOOKUP(VALUE($D$12),個票概要,3,FALSE)=\"\",\"\",VLOOKUP(VALUE($D$12),個票概要,3,FALSE))","v":{"$error":"#N/A"}}]
[null,"対策種類",null,{"$f":"IF(VLOOKUP(VALUE($D$12),個票概要,2,FALSE)=\"\",\"\",VLOOKUP(VALUE($D$12),個票概要,2,FALSE))","v":{"$error":"#N/A"}}]
[null,"対象システム／設備",null,{"$f":"IF(VLOOKUP(VALUE($D$12),個票概要,6,FALSE)=\"\",\"\",VLOOKUP(VALUE($D$12),個票概要,6,FALSE))","v":{"$error":"#N/A"}}]
[null,"工程",null,{"$f":"IF(VLOOKUP(VALUE($D$12),個票概要,5,FALSE)=\"\",\"\",VLOOKUP(VALUE($D$12),個票概要,5,FALSE))","v":{"$error":"#N/A"}}]
[null,"既存設備名称",null,{"$f":"IF(VLOOKUP(VALUE($D$12),個票概要,7,FALSE)=\"\",\"\",VLOOKUP(VALUE($D$12),個票概要,7,FALSE))","v":{"$error":"#N/A"}}]
[null,"導入設備名称",null,{"$f":"IF(VLOOKUP(VALUE($D$12),個票概要,8,FALSE)=\"\",\"\",VLOOKUP(VALUE($D$12),個票概要,8,FALSE))","v":{"$error":"#N/A"}}]
[]
[]
[null,"２．CO2排出量"]
[]
[null,null,"活動種別","年間活動量",null,"単位発熱量",null,"CO2排出係数",null,"CO2排出量\n(t-CO2/年)","CO2排出量合計\n(t-CO2/年)","CO2削減量\n(t-CO2/年)",null,null,"活動種別","単位発熱量",null,"GJ換算量\n(GJ/年)","GJ換算量合計\n(GJ/年)","GJ削減量\n(GJ/年)"]
[null,"■計画",null,null,null,null,null,null,null,null,null,null,null,null,"■計画"]
[{"$f":"IF($C25=\"\",\"\",VLOOKUP($C25,活動の種別と単位_個票,2,FALSE))","v":""},"【前】\n対策実施",{"$f":"IF(VLOOKUP(VALUE($D$12),対策前後,2,FALSE)=\"\",\"\",VLOOKUP(VALUE($D$12),対策前後,2,FALSE))","v":""},{"$f":"IF(VLOOKUP(VALUE($D$12),対策前後,3,FALSE)=\"\",\"\",VLOOKUP(VALUE($D$12),対策前後,3,FALSE))","v":""},{"$f":"IF($C25=\"\",\"\",VLOOKUP($C25,活動の種別と単位_個票,4,FALSE))","v":""},{"$f":"IF(VLOOKUP(VALUE($D$12),対策前後,5,FALSE)=\"\",\"\",VLOOKUP(VALUE($D$12),対策前後,5,FALSE))","v":""},{"$f":"IF($C25=\"\",\"\",VLOOKUP($C25,活動の種別と単位_個票,5,FALSE))","v":""},{"$f":"IF(VLOOKUP(VALUE($D$12),対策前後,7,FALSE)=\"\",\"\",VLOOKUP(VALUE($D$12),対策前後,7,FALSE))","v":""},{"$f":"IF($C25=\"\",\"\",VLOOKUP($C25,活動の種別と単位_個票,6,FALSE))","v":""},{"$f":"IFERROR(IF($D25=\"\",\"\",IF($A25=0,$D25*$F25*$H25,$D25*$H25)),\"---\")","v":""},{"$f":"IF(SUM(LEN($J25),LEN($J26),LEN($J27),LEN($J28))=0,\"\",SUM($J25:$J28))","v":""},null,null,null,{"$f":"IF($C25=\"\",\"\",IF(COUNTIF($C25,\"*系統電力*\"),\"*系統電力*\",IF(COUNTIF($C25,\"*産業用蒸気*\"),\"*産業用蒸気*\",IF(COUNTIF($C25,\"*温水*\"),\"*温水*\",IF(COUNTIF($C25,\"*冷水*\"),\"*冷水*\",IF(COUNTIF($C25,\"*蒸気（産業用以外）*\"),\"*蒸気（産業用以外）*\",$C25))))))","v":""},{"$f":"IF($O25=\"\",\"\",IFERROR(VLOOKUP($O25,電力等のGJ換算係数_個票,2,FALSE),F25))","v":""},{"$f":"IF($O25=\"\",\"\",IFERROR(VLOOKUP($O25,電力等のGJ換算係数_個票,3,FALSE),VLOOKUP($O25,活動の種別と単位_個票,5,FALSE)))","v":""},{"$f":"IF(OR($D25=\"\",$P25=\"\"),\"\",$D25*$P25)","v":""},{"$f":"IF(SUM(LEN($R25),LEN($R26),LEN($R27),LEN($R28))=0,\"\",SUM($R25:$R28))","v":""}]
["",null,{"$f":"IF(VLOOKUP(VALUE($D$12)&\"-2\",対策前後,2,FALSE)=\"\",\"\",VLOOKUP(VALUE($D$12)&\"-2\",対策前後,2,FALSE))","v":""},{"$f":"IF(VLOOKUP(VALUE($D$12)&\"-2\",対策前後,3,FALSE)=\"\",\"\",VLOOKUP(VALUE($D$12)&\"-2\",対策前後,3,FALSE))","v":""},{"$f":"IF($C26=\"\",\"\",VLOOKUP($C26,活動の種別と単位_個票,4,FALSE))","v":""},{"$f":"IF(VLOOKUP(VALUE($D$12)&\"-2\",対策前後,5,FALSE)=\"\",\"\",VLOOKUP(VALUE($D$12)&\"-2\",対策前後,5,FALSE))","v":""},"",{"$f":"IF(VLOOKUP(VALUE($D$12)&\"-2\",対策前後,7,FALSE)=\"\",\"\",VLOOKUP(VALUE($D$12)&\"-2\",対策前後,7,FALSE))","v":""},"","","(a)",null,null,null,{"$f":"IF($C26=\"\",\"\",IF(COUNTIF($C26,\"*系統電力*\"),\"*系統電力*\",IF(COUNTIF($C26,\"*産業用蒸気*\"),\"*産業用蒸気*\",IF(COUNTIF($C26,\"*温水*\"),\"*温水*\",IF(COUNTIF($C26,\"*冷水*\"),\"*冷水*\",IF(COUNTIF($C26,\"*蒸気（産業用以外）*\"),\"*蒸気（産業用以外）*\",$C26))))))","v":""},{"$f":"IF($O26=\"\",\"\",IFERROR(VLOOKUP($O26,電力等のGJ換算係数_個票,2,FALSE),F26))","v":""},{"$f":"IF($O26=\"\",\"\",IFERROR(VLOOKUP($O26,電力等のGJ換算係数_個票,3,FALSE),VLOOKUP($O26,活動の種別と単位_個票,5,FALSE)))","v":""},{"$f":"IF(OR($D26=\"\",$P26=\"\"),\"\",$D26*$P26)","v":""},"(A)"]
["",null,{"$f":"IF(VLOOKUP(VALUE($D$12)&\"-3\",対策前後,2,FALSE)=\"\",\"\",VLOOKUP(VALUE($D$12)&\"-3\",対策前後,2,FALSE))","v":""},{"$f":"IF(VLOOKUP(VALUE($D$12)&\"-3\",対策前後,3,FALSE)=\"\",\"\",VLOOKUP(VALUE($D$12)&\"-3\",対策前後,3,FALSE))","v":""},"",{"$f":"IF(VLOOKUP(VALUE($D$12)&\"-3\",対策前後,5,FALSE)=\"\",\"\",VLOOKUP(VALUE($D$12)&\"-3\",対策前後,5,FALSE))","v":""},"",{"$f":"IF(VLOOKUP(VALUE($D$12)&\"-3\",対策前後,7,FALSE)=\"\",\"\",VLOOKUP(VALUE($D$12)&\"-3\",対策前後,7,FALSE))","v":""},"","",null,null,null,null,"","",{"$f":"IF($O27=\"\",\"\",IFERROR(VLOOKUP($O27,電力等のGJ換算係数_個票,3,FALSE),VLOOKUP($O27,活動の種別と単位_個票,5,FALSE)))","v":""},""]
["",null,{"$f":"IF(VLOOKUP(VALUE($D$12)&\"-4\",対策前後,2,FALSE)=\"\",\"\",VLOOKUP(VALUE($D$12)&\"-4\",対策前後,2,FALSE))","v":""},{"$f":"IF(VLOOKUP(VALUE($D$12)&\"-4\",対策前後,3,FALSE)=\"\",\"\",VLOOKUP(VALUE($D$12)&\"-4\",対策前後,3,FALSE))","v":""},"",{"$f":"IF(VLOOKUP(VALUE($D$12)&\"-4\",対策前後,5,FALSE)=\"\",\"\",VLOOKUP(VALUE($D$12)&\"-4\",対策前後,5,FALSE))","v":""},"",{"$f":"IF(VLOOKUP(VALUE($D$12)&\"-4\",対策前後,7,FALSE)=\"\",\"\",VLOOKUP(VALUE($D$12)&\"-4\",対策前後,7,FALSE))","v":""},"","",null,null,null,null,"","","",""]
["","【計画】\n対策実施",{"$f":"IF(VLOOKUP(VALUE($D$12),対策前後,9,FALSE)=\"\",\"\",VLOOKUP(VALUE($D$12),対策前後,9,FALSE))","v":""},{"$f":"IF(VLOOKUP(VALUE($D$12),対策前後,10,FALSE)=\"\",\"\",VLOOKUP(VALUE($D$12),対策前後,10,FALSE))","v":""},"",{"$f":"IF(VLOOKUP(VALUE($D$12),対策前後,12,FALSE)=\"\",\"\",VLOOKUP(VALUE($D$12),対策前後,12,FALSE))","v":""},"",{"$f":"IF(VLOOKUP(VALUE($D$12),対策前後,14,FALSE)=\"\",\"\",VLOOKUP(VALUE($D$12),対策前後,14,FALSE))","v":""},"","",{"$f":"IF(SUM(LEN($J29),LEN($J30),LEN($J31),LEN($J32))=0,\"\",SUM($J29:$J32))","v":""},{"$f":"IFERROR($K$25-$K$29,\"---\")","v":"---"},null,null,"","","","",{"$f":"IF(SUM(LEN($R29),LEN($R30),LEN($R31),LEN($R32))=0,\"\",SUM($R29:$R32))","v":""},{"$f":"IFERROR($S$25-$S$29,\"---\")","v":"---"}]
["",null,{"$f":"IF(VLOOKUP(VALUE($D$12)&\"-2\",対策前後,9,FALSE)=\"\",\"\",VLOOKUP(VALUE($D$12)&\"-2\",対策前後,9,FALSE))","v":""},{"$f":"IF(VLOOKUP(VALUE($D$12)&\"-2\",対策前後,10,FALSE)=\"\",\"\",VLOOKUP(VALUE($D$12)&\"-2\",対策前後,10,FALSE))","v":""},"",{"$f":"IF(VLOOKUP(VALUE($D$12)&\"-2\",対策前後,12,FALSE)=\"\",\"\",VLOOKUP(VALUE($D$12)&\"-2\",対策前後,12,FALSE))","v":""},"",{"$f":"IF(VLOOKUP(VALUE($D$12)&\"-2\",対策前後,14,FALSE)=\"\",\"\",VLOOKUP(VALUE($D$12)&\"-2\",対策前後,14,FALSE))","v":""},"","","(b)","(a-b)",null,null,"","","","","(B)","(A-B)"]
["",null,{"$f":"IF(VLOOKUP(VALUE($D$12)&\"-3\",対策前後,9,FALSE)=\"\",\"\",VLOOKUP(VALUE($D$12)&\"-3\",対策前後,9,FALSE))","v":""},{"$f":"IF(VLOOKUP(VALUE($D$12)&\"-3\",対策前後,10,FALSE)=\"\",\"\",VLOOKUP(VALUE($D$12)&\"-3\",対策前後,10,FALSE))","v":""},"",{"$f":"IF(VLOOKUP(VALUE($D$12)&\"-3\",対策前後,12,FALSE)=\"\",\"\",VLOOKUP(VALUE($D$12)&\"-3\",対策前後,12,FALSE))","v":""},"",{"$f":"IF(VLOOKUP(VALUE($D$12)&\"-3\",対策前後,14,FALSE)=\"\",\"\",VLOOKUP(VALUE($D$12)&\"-3\",対策前後,14,FALSE))","v":""},"","",null,null,null,null,"","","",""]
["",null,{"$f":"IF(VLOOKUP(VALUE($D$12)&\"-4\",対策前後,9,FALSE)=\"\",\"\",VLOOKUP(VALUE($D$12)&\"-4\",対策前後,9,FALSE))","v":""},{"$f":"IF(VLOOKUP(VALUE($D$12)&\"-4\",対策前後,10,FALSE)=\"\",\"\",VLOOKUP(VALUE($D$12)&\"-4\",対策前後,10,FALSE))","v":""},"",{"$f":"IF(VLOOKUP(VALUE($D$12)&\"-4\",対策前後,12,FALSE)=\"\",\"\",VLOOKUP(VALUE($D$12)&\"-4\",対策前後,12,FALSE))","v":""},"",{"$f":"IF(VLOOKUP(VALUE($D$12)&\"-4\",対策前後,14,FALSE)=\"\",\"\",VLOOKUP(VALUE($D$12)&\"-4\",対策前後,14,FALSE))","v":""},"","",null,null,null,null,"","","",""]
[null,"■対策実施状況",null,null,null,null,null,null,null,null,null,null,null,null,null,null,null,null,null,null,null,"計画変更状況"]
[null,"令和6年度",null,null,null,null,null,null,null,"　当初計画から変更あり",null," ",null,null,null,null,null,null,null,null,null,false]
[null,"令和7年度",null,null,null,null,null,null,null,"　当初計画から変更あり",null,null,null,null,null,null,null,null,null,null,null,false]
[null,"令和8年度",null,null,null,null,null,null,null,"　当初計画から変更あり",null,null,null,null,null,null,null,null,null,null,null,false]
[null,"■実績",null,null,null,null,null,null,null,null,null,null,null,null,"■実績"]
[{"$f":"IF($C38=\"\",\"\",VLOOKUP($C38,活動の種別と単位_個票,2,FALSE))","v":""},{"$f":"B34","v":"令和6年度"},{"$f":"IF($D$34=\"\",\"\",IF(COUNTIF($D$34,\"*済*\"),$C$29,$C$25))","v":""},{"$f":"IF($D$34=\"\",\"\",IF(COUNTIF($D$34,\"*済*\"),\"\",$D$25))","v":""},{"$f":"IF($C38=\"\",\"\",VLOOKUP($C38,活動の種別と単位_個票,4,FALSE))","v":""},{"$f":"IF($D$34=\"\",\"\",IF(COUNTIF($D$34,\"*済*\"),$F$29,$F$25))","v":""},{"$f":"IF($C38=\"\",\"\",VLOOKUP($C38,活動の種別と単位_個票,5,FALSE))","v":""},{"$f":"IF($D$34=\"\",\"\",IF(COUNTIF($D$34,\"*済*\"),$H$29,$H$25))","v":""},{"$f":"IF($C38=\"\",\"\",VLOOKUP($C38,活動の種別と単位_個票,6,FALSE))","v":""},{"$f":"IFERROR(IF($D38=\"\",\"\",IF($A38=0,$D38*$F38*$H38,$D38*$H38)),\"---\")","v":""},{"$f":"IF(SUM(LEN($J38),LEN($J39),LEN($J40),LEN($J41))=0,\"\",SUM($J38:$J41))","v":""},{"$f":"IFERROR($K$25-$K$38,\"---\")","v":"---"},null,null,{"$f":"IF($C38=\"\",\"\",IF(COUNTIF($C38,\"*系統電力*\"),\"*系統電力*\",IF(COUNTIF($C38,\"*産業用蒸気*\"),\"*産業用蒸気*\",IF(COUNTIF($C38,\"*温水*\"),\"*温水*\",IF(COUNTIF($C38,\"*冷水*\"),\"*冷水*\",IF(COUNTIF($C38,\"*蒸気（産業用以外）*\"),\"*蒸気（産業用以外）*\",$C38))))))","v":""},{"$f":"IF($O38=\"\",\"\",IFERROR(VLOOKUP($O38,電力等のGJ換算係数_個票,2,FALSE),F38))","v":""},{"$f":"IF($O38=\"\",\"\",IFERROR(VLOOKUP($O38,電力等のGJ換算係数_個票,3,FALSE),VLOOKUP($O38,活動の種別と単位_個票,5,FALSE)))","v":""},{"$f":"IF(OR($D38=\"\",$P38=\"\"),\"\",$D38*$P38)","v":""},{"$f":"IF(SUM(LEN($R38),LEN($R39),LEN($R40),LEN($R41))=0,\"\",SUM($R38:$R41))","v":""},{"$f":"IFERROR($S$25-$S$38,\"---\")","v":"---"}]
["",null,{"$f":"IF($D$34=\"\",\"\",IF(COUNTIF($D$34,\"*済*\"),$C$30,$C$26))","v":""},{"$f":"IF($D$34=\"\",\"\",IF(COUNTIF($D$34,\"*済*\"),\"\",$D$26))","v":""},"",{"$f":"IF($D$34=\"\",\"\",IF(COUNTIF($D$34,\"*済*\"),$F$30,$F$26))","v":""},"",{"$f":"IF($D$34=\"\",\"\",IF(COUNTIF($D$34,\"*済*\"),$H$30,$H$26))","v":""},"","","(c1)","(a-c1)",null,null,{"$f":"IF($C39=\"\",\"\",IF(COUNTIF($C39,\"*系統電力*\"),\"*系統電力*\",IF(COUNTIF($C39,\"*産業用蒸気*\"),\"*産業用蒸気*\",IF(COUNTIF($C39,\"*温水*\"),\"*温水*\",IF(COUNTIF($C39,\"*冷水*\"),\"*冷水*\",IF(COUNTIF($C39,\"*蒸気（産業用以外）*\"),\"*蒸気（産業用以外）*\",$C39))))))","v":""},"","","","(C1)","(A-C1)"]
["",null,{"$f":"IF($D$34=\"\",\"\",IF(COUNTIF($D$34,\"*済*\"),$C$31,$C$27))","v":""},{"$f":"IF($D$34=\"\",\"\",IF(COUNTIF($D$34,\"*済*\"),\"\",$D$27))","v":""},"",{"$f":"IF($D$34=\"\",\"\",IF(COUNTIF($D$34,\"*済*\"),$F$31,$F$27))","v":""},"",{"$f":"IF($D$34=\"\",\"\",IF(COUNTIF($D$34,\"*済*\"),$H$31,$H$27))","v":""},"","",null,null,null,null,"","","",""]
["",null,{"$f":"IF($D$34=\"\",\"\",IF(COUNTIF($D$34,\"*済*\"),$C$32,$C$28))","v":""},{"$f":"IF($D$34=\"\",\"\",IF(COUNTIF($D$34,\"*済*\"),\"\",$D$28))","v":""},"",{"$f":"IF($D$34=\"\",\"\",IF(COUNTIF($D$34,\"*済*\"),$F$32,$F$28))","v":""},"",{"$f":"IF($D$34=\"\",\"\",IF(COUNTIF($D$34,\"*済*\"),$H$32,$H$28))","v":""},"","",null,null,null,null,"","","",""]
["",{"$f":"B35","v":"令和7年度"},{"$f":"IF($D$35=\"\",\"\",IF(COUNTIF($D$35,\"*済*\"),$C$29,$C$25))","v":""},{"$f":"IF($D$35=\"\",\"\",IF(COUNTIF($D$35,\"*済*\"),\"\",$D$25))","v":""},"",{"$f":"IF($D$35=\"\",\"\",IF(COUNTIF($D$35,\"*済*\"),$F$29,$F$25))","v":""},"",{"$f":"IF($D$35=\"\",\"\",IF(COUNTIF($D$35,\"*済*\"),$H$29,$H$25))","v":""},"","",{"$f":"IF(SUM(LEN($J42),LEN($J43),LEN($J44),LEN($J45))=0,\"\",SUM($J42:$J45))","v":""},{"$f":"IFERROR($K$25-$K$42,\"---\")","v":"---"},null,null,"","","","",{"$f":"IF(SUM(LEN($R42),LEN($R43),LEN($R44),LEN($R45))=0,\"\",SUM($R42:$R45))","v":""},{"$f":"IFERROR($S$25-$S$42,\"---\")","v":"---"}]
["",null,{"$f":"IF($D$35=\"\",\"\",IF(COUNTIF($D$35,\"*済*\"),$C$30,$C$26))","v":""},{"$f":"IF($D$35=\"\",\"\",IF(COUNTIF($D$35,\"*済*\"),\"\",$D$26))","v":""},"",{"$f":"IF($D$35=\"\",\"\",IF(COUNTIF($D$35,\"*済*\"),$F$30,$F$26))","v":""},"",{"$f":"IF($D$35=\"\",\"\",IF(COUNTIF($D$35,\"*済*\"),$H$30,$H$26))","v":""},"","","(c2)","(a-c2)",null,null,"","","","","(C2)","(A-C2)"]
["",null,{"$f":"IF($D$35=\"\",\"\",IF(COUNTIF($D$35,\"*済*\"),$C$31,$C$27))","v":""},{"$f":"IF($D$35=\"\",\"\",IF(COUNTIF($D$35,\"*済*\"),\"\",$D$27))","v":""},"",{"$f":"IF($D$35=\"\",\"\",IF(COUNTIF($D$35,\"*済*\"),$F$31,$F$27))","v":""},"",{"$f":"IF($D$35=\"\",\"\",IF(COUNTIF($D$35,\"*済*\"),$H$31,$H$27))","v":""},"","",null,null,null,null,"","","",""]
["",null,{"$f":"IF($D$35=\"\",\"\",IF(COUNTIF($D$35,\"*済*\"),$C$32,$C$28))","v":""},{"$f":"IF($D$35=\"\",\"\",IF(COUNTIF($D$35,\"*済*\"),\"\",$D$28))","v":""},"",{"$f":"IF($D$35=\"\",\"\",IF(COUNTIF($D$35,\"*済*\"),$F$32,$F$28))","v":""},"",{"$f":"IF($D$35=\"\",\"\",IF(COUNTIF($D$35,\"*済*\"),$H$32,$H$28))","v":""},"","",null,null,null,null,"","","",""]
["",{"$f":"B36","v":"令和8年度"},{"$f":"IF($D$36=\"\",\"\",IF(COUNTIF($D$36,\"*済*\"),$C$29,$C$25))","v":""},{"$f":"IF($D$36=\"\",\"\",IF(COUNTIF($D$36,\"*済*\"),\"\",$D$25))","v":""},"",{"$f":"IF($D$36=\"\",\"\",IF(COUNTIF($D$36,\"*済*\"),$F$29,$F$25))","v":""},"",{"$f":"IF($D$36=\"\",\"\",IF(COUNTIF($D$36,\"*済*\"),$H$29,$H$25))","v":""},"","",{"$f":"IF(SUM(LEN($J46),LEN($J47),LEN($J48),LEN($J49))=0,\"\",SUM($J46:$J49))","v":""},{"$f":"IFERROR($K$25-$K$46,\"---\")","v":"---"},null,null,"","","","",{"$f":"IF(SUM(LEN($R46),LEN($R47),LEN($R48),LEN($R49))=0,\"\",SUM($R46:$R49))","v":""},{"$f":"IFERROR($S$25-$S$46,\"---\")","v":"---"}]
["",null,{"$f":"IF($D$36=\"\",\"\",IF(COUNTIF($D$36,\"*済*\"),$C$30,$C$26))","v":""},{"$f":"IF($D$36=\"\",\"\",IF(COUNTIF($D$36,\"*済*\"),\"\",$D$26))","v":""},"",{"$f":"IF($D$36=\"\",\"\",IF(COUNTIF($D$36,\"*済*\"),$F$30,$F$26))","v":""},"",{"$f":"IF($D$36=\"\",\"\",IF(COUNTIF($D$36,\"*済*\"),$H$30,$H$26))","v":""},"","","(c3)","(a-c3)",null,null,"","","","","(C3)","(A-C3)"]
["",null,{"$f":"IF($D$36=\"\",\"\",IF(COUNTIF($D$36,\"*済*\"),$C$31,$C$27))","v":""},{"$f":"IF($D$36=\"\",\"\",IF(COUNTIF($D$36,\"*済*\"),\"\",$D$27))","v":""},"",{"$f":"IF($D$36=\"\",\"\",IF(COUNTIF($D$36,\"*済*\"),$F$31,$F$27))","v":""},"",{"$f":"IF($D$36=\"\",\"\",IF(COUNTIF($D$36,\"*済*\"),$H$31,$H$27))","v":""},"","",null,null,null,null,"","","",""]
["",null,{"$f":"IF($D$36=\"\",\"\",IF(COUNTIF($D$36,\"*済*\"),$C$32,$C$28))","v":""},{"$f":"IF($D$36=\"\",\"\",IF(COUNTIF($D$36,\"*済*\"),\"\",$D$28))","v":""},"",{"$f":"IF($D$36=\"\",\"\",IF(COUNTIF($D$36,\"*済*\"),$F$32,$F$28))","v":""},"",{"$f":"IF($D$36=\"\",\"\",IF(COUNTIF($D$36,\"*済*\"),$H$32,$H$28))","v":""},"","",null,null,null,null,"","","",""]
[null,"※活動量、排出量及び削減量は、小数点以下を四捨五入した整数で表示されています（端数処理なし）。"]
[null,null,null,null,null,null,null,null,null,null,null,{"$f":"\"個票\"&$D$12","v":"個票5"}]
[]
[null,"３．CO2排出量の算出根拠"]
[]
[null,{"$f":"$B$38","v":"令和6年度"},null,{"$f":"IF($D$34=\"\",\"\",$D$34)","v":""},null,null,null,null,null,{"$f":"IF(D55=\"\",\"\",IF($V$34=FALSE,\"当初計画どおり\",\"当初計画から変更あり\"))","v":""}]
[null,"CO2排出量の計算式で使用する「活動種別ごとの年間活動量」の算出根拠\n※「対策実施済み」の場合は、実施計画書の対策個票「7.報告時のCO2排出量算定のための活動量把握方法」に基づき算出すること。"]
[]
[]
[]
[]
[]
[]
[]
[]
[]
[]
[]
[]
[]
[]
[]
[]
[]
[]
[]
[]
[]
[]
[]
[]
[]
[]
[]
[]
[]
[]
[]
[]
[]
[]
[]
[]
[]
[]
[]
[]
[]
[]
[null,"備考"]
[]
[]
[]
[]
[]
[]
[null,null,null,null,null,null,null,null,null,null,null,{"$f":"\"個票\"&$D$12","v":"個票5"}]
[]
[]
[]
[null,{"$f":"$B$42","v":"令和7年度"},null,{"$f":"IF($D$35=\"\",\"\",$D$35)","v":""},null,null,null,null,null,{"$f":"IF(D110=\"\",\"\",IF($V$35=FALSE,\"当初計画どおり\",\"当初計画から変更あり\"))","v":""}]
[null,"CO2排出量の計算式で使用する「活動種別ごとの年間活動量」の算出根拠\n※「対策実施済み」の場合は、実施計画書の対策個票「7.報告時のCO2排出量算定のための活動量把握方法」に基づき算出すること。"]
[]
[]
[]
[]
[]
[]
[]
[]
[]
[]
[]
[]
[]
[]
[]
[]
[]
[]
[]
[]
[]
[]
[]
[]
[]
[]
[]
[]
[]
[]
[]
[]
[]
[]
[]
[]
[]
[]
[]
[]
[]
[]
[null,"備考"]
[]
[]
[]
[]
[]
[]
[null,null,null,null,null,null,null,null,null,null,null,{"$f":"\"個票\"&$D$12","v":"個票5"}]
[]
[]
[]
[null,{"$f":"$B$46","v":"令和8年度"},null,{"$f":"IF($D$36=\"\",\"\",$D$36)","v":""},null,null,null,null,null,{"$f":"IF(D165=\"\",\"\",IF($V$36=FALSE,\"当初計画どおり\",\"当初計画から変更あり\"))","v":""}]
[null,"CO2排出量の計算式で使用する「活動種別ごとの年間活動量」の算出根拠\n※「対策実施済み」の場合は、実施計画書の対策個票「7.報告時のCO2排出量算定のための活動量把握方法」に基づき算出すること。"]
[]
[]
[]
[]
[]
[]
[]
[]
[]
[]
[]
[]
[]
[]
[]
[]
[]
[]
[]
[]
[]
[]
[]
[]
[]
[]
[]
[]
[]
[]
[]
[]
[]
[]
[]
[]
[]
[]
[]
[]
[]
[]
[null,"備考"]

{"sheet":"別紙1_CO2排出量_個票6","index":11,"n_rows":209,"n_cols":22,"rows_kept":209,"cut":false,"hidden":true,"merged":[[166,1,207,11],[208,1,208,11],[209,1,213,11],[153,1,153,11],[154,1,158,11],[164,1,164,2],[164,3,164,8],[164,9,164,10],[165,1,165,11],[111,1,152,11],[54,1,54,2],[54,3,54,8],[54,9,54,10],[55,1,55,11],[56,1,97,11],[98,1,98,11],[99,1,103,11],[109,1,109,2],[109,3,109,8],[109,9,109,10],[110,1,110,11],[22,15,22,16],[24,1,27,1],[45,1,48,1],[33,1,33,2],[33,3,33,8],[33,9,33,10],[34,1,34,2],[34,3,34,8],[34,9,34,10],[35,1,35,2],[35,3,35,8],[35,9,35,10],[37,1,40,1],[41,1,44,1],[28,1,31,1],[22,3,22,4],[22,5,22,6],[22,7,22,8],[12,1,12,2],[12,3,12,11],[13,1,13,2],[13,3,13,11],[14,1,14,2],[14,3,14,11],[15,1,15,2],[15,3,15,11],[16,1,16,2],[16,3,16,11],[17,1,17,2],[17,3,17,11],[4,1,4,2],[4,3,4,11],[5,1,5,2],[5,3,5,11],[11,1,11,2],[11,7,11,9]]}
[null,null,null,null,null,null,null,null,null,null,null,null,null,null,null,null,null,null,null,null,null,"セル色表示/非表示"]
[null,"環境省　令和４年度（第2次補正予算）・令和5年度二酸化炭素排出抑制対策事業費等補助金",null,null,null,null,null,null,null,null,null,null,null,null,null,null,null,null,null,null,null,false]
[null," （工場・事業場における先導的な脱炭素化取組推進事業（SHIFT事業））"]
[]
[null,"事業者名（法人名）",null,{"$f":"IF(事業報告書まとめ_計画策定支援!$H$7=\"\",\"\",事業報告書まとめ_計画策定支援!$H$7)","v":"○○株式会社"}]
[null,"工場・事業場名",null,{"$f":"IF(事業報告書まとめ_計画策定支援!$H$8=\"\",\"\",事業報告書まとめ_計画策定支援!$H$8)","v":"○○工場"}]
[]
[null,{"$f":"\"【様式第16 事業報告書】 別紙1_CO2排出量_個票\"&$D$12","v":"【様式第16 事業報告書】 別紙1_CO2排出量_個票6"}]
[]
[null,"１．対策概要"]
[]
[null,"個票番号",null,{"$f":"MID(CELL(\"filename\",$A$1),FIND(\"]\",CELL(\"filename\",$A$1))+14,LEN(CELL(\"filename\",$A$1)))","v":"6"},null,null,null,"統合した対策個票番号"]
[null,"対策名称",null,{"$f":"IF(VLOOKUP(VALUE($D$12),個票概要,3,FALSE)=\"\",\"\",VLOOKUP(VALUE($D$12),個票概要,3,FALSE))","v":{"$error":"#N/A"}}]
[null,"対策種類",null,{"$f":"IF(VLOOKUP(VALUE($D$12),個票概要,2,FALSE)=\"\",\"\",VLOOKUP(VALUE($D$12),個票概要,2,FALSE))","v":{"$error":"#N/A"}}]
[null,"対象システム／設備",null,{"$f":"IF(VLOOKUP(VALUE($D$12),個票概要,6,FALSE)=\"\",\"\",VLOOKUP(VALUE($D$12),個票概要,6,FALSE))","v":{"$error":"#N/A"}}]
[null,"工程",null,{"$f":"IF(VLOOKUP(VALUE($D$12),個票概要,5,FALSE)=\"\",\"\",VLOOKUP(VALUE($D$12),個票概要,5,FALSE))","v":{"$error":"#N/A"}}]
[null,"既存設備名称",null,{"$f":"IF(VLOOKUP(VALUE($D$12),個票概要,7,FALSE)=\"\",\"\",VLOOKUP(VALUE($D$12),個票概要,7,FALSE))","v":{"$error":"#N/A"}}]
[null,"導入設備名称",null,{"$f":"IF(VLOOKUP(VALUE($D$12),個票概要,8,FALSE)=\"\",\"\",VLOOKUP(VALUE($D$12),個票概要,8,FALSE))","v":{"$error":"#N/A"}}]
[]
[]
[null,"２．CO2排出量"]
[]
[null,null,"活動種別","年間活動量",null,"単位発熱量",null,"CO2排出係数",null,"CO2排出量\n(t-CO2/年)","CO2排出量合計\n(t-CO2/年)","CO2削減量\n(t-CO2/年)",null,null,"活動種別","単位発熱量",null,"GJ換算量\n(GJ/年)","GJ換算量合計\n(GJ/年)","GJ削減量\n(GJ/年)"]
[null,"■計画",null,null,null,null,null,null,null,null,null,null,null,null,"■計画"]
[{"$f":"IF($C25=\"\",\"\",VLOOKUP($C25,活動の種別と単位_個票,2,FALSE))","v":""},"【前】\n対策実施",{"$f":"IF(VLOOKUP(VALUE($D$12),対策前後,2,FALSE)=\"\",\"\",VLOOKUP(VALUE($D$12),対策前後,2,FALSE))","v":""},{"$f":"IF(VLOOKUP(VALUE($D$12),対策前後,3,FALSE)=\"\",\"\",VLOOKUP(VALUE($D$12),対策前後,3,FALSE))","v":""},{"$f":"IF($C25=\"\",\"\",VLOOKUP($C25,活動の種別と単位_個票,4,FALSE))","v":""},{"$f":"IF(VLOOKUP(VALUE($D$12),対策前後,5,FALSE)=\"\",\"\",VLOOKUP(VALUE($D$12),対策前後,5,FALSE))","v":""},{"$f":"IF($C25=\"\",\"\",VLOOKUP($C25,活動の種別と単位_個票,5,FALSE))","v":""},{"$f":"IF(VLOOKUP(VALUE($D$12),対策前後,7,FALSE)=\"\",\"\",VLOOKUP(VALUE($D$12),対策前後,7,FALSE))","v":""},{"$f":"IF($C25=\"\",\"\",VLOOKUP($C25,活動の種別と単位_個票,6,FALSE))","v":""},{"$f":"IFERROR(IF($D25=\"\",\"\",IF($A25=0,$D25*$F25*$H25,$D25*$H25)),\"---\")","v":""},{"$f":"IF(SUM(LEN($J25),LEN($J26),LEN($J27),LEN($J28))=0,\"\",SUM($J25:$J28))","v":""},null,null,null,{"$f":"IF($C25=\"\",\"\",IF(COUNTIF($C25,\"*系統電力*\"),\"*系統電力*\",IF(COUNTIF($C25,\"*産業用蒸気*\"),\"*産業用蒸気*\",IF(COUNTIF($C25,\"*温水*\"),\"*温水*\",IF(COUNTIF($C25,\"*冷水*\"),\"*冷水*\",IF(COUNTIF($C25,\"*蒸気（産業用以外）*\"),\"*蒸気（産業用以外）*\",$C25))))))","v":""},{"$f":"IF($O25=\"\",\"\",IFERROR(VLOOKUP($O25,電力等のGJ換算係数_個票,2,FALSE),F25))","v":""},{"$f":"IF($O25=\"\",\"\",IFERROR(VLOOKUP($O25,電力等のGJ換算係数_個票,3,FALSE),VLOOKUP($O25,活動の種別と単位_個票,5,FALSE)))","v":""},{"$f":"IF(OR($D25=\"\",$P25=\"\"),\"\",$D25*$P25)","v":""},{"$f":"IF(SUM(LEN($R25),LEN($R26),LEN($R27),LEN($R28))=0,\"\",SUM($R25:$R28))","v":""}]
["",null,{"$f":"IF(VLOOKUP(VALUE($D$12)&\"-2\",対策前後,2,FALSE)=\"\",\"\",VLOOKUP(VALUE($D$12)&\"-2\",対策前後,2,FALSE))","v":""},{"$f":"IF(VLOOKUP(VALUE($D$12)&\"-2\",対策前後,3,FALSE)=\"\",\"\",VLOOKUP(VALUE($D$12)&\"-2\",対策前後,3,FALSE))","v":""},{"$f":"IF($C26=\"\",\"\",VLOOKUP($C26,活動の種別と単位_個票,4,FALSE))","v":""},{"$f":"IF(VLOOKUP(VALUE($D$12)&\"-2\",対策前後,5,FALSE)=\"\",\"\",VLOOKUP(VALUE($D$12)&\"-2\",対策前後,5,FALSE))","v":""},"",{"$f":"IF(VLOOKUP(VALUE($D$12)&\"-2\",対策前後,7,FALSE)=\"\",\"\",VLOOKUP(VALUE($D$12)&\"-2\",対策前後,7,FALSE))","v":""},"","","(a)",null,null,null,{"$f":"IF($C26=\"\",\"\",IF(COUNTIF($C26,\"*系統電力*\"),\"*系統電力*\",IF(COUNTIF($C26,\"*産業用蒸気*\"),\"*産業用蒸気*\",IF(COUNTIF($C26,\"*温水*\"),\"*温水*\",IF(COUNTIF($C26,\"*冷水*\"),\"*冷水*\",IF(COUNTIF($C26,\"*蒸気（産業用以外）*\"),\"*蒸気（産業用以外）*\",$C26))))))","v":""},{"$f":"IF($O26=\"\",\"\",IFERROR(VLOOKUP($O26,電力等のGJ換算係数_個票,2,FALSE),F26))","v":""},{"$f":"IF($O26=\"\",\"\",IFERROR(VLOOKUP($O26,電力等のGJ換算係数_個票,3,FALSE),VLOOKUP($O26,活動の種別と単位_個票,5,FALSE)))","v":""},{"$f":"IF(OR($D26=\"\",$P26=\"\"),\"\",$D26*$P26)","v":""},"(A)"]
["",null,{"$f":"IF(VLOOKUP(VALUE($D$12)&\"-3\",対策前後,2,FALSE)=\"\",\"\",VLOOKUP(VALUE($D$12)&\"-3\",対策前後,2,FALSE))","v":""},{"$f":"IF(VLOOKUP(VALUE($D$12)&\"-3\",対策前後,3,FALSE)=\"\",\"\",VLOOKUP(VALUE($D$12)&\"-3\",対策前後,3,FALSE))","v":""},"",{"$f":"IF(VLOOKUP(VALUE($D$12)&\"-3\",対策前後,5,FALSE)=\"\",\"\",VLOOKUP(VALUE($D$12)&\"-3\",対策前後,5,FALSE))","v":""},"",{"$f":"IF(VLOOKUP(VALUE($D$12)&\"-3\",対策前後,7,FALSE)=\"\",\"\",VLOOKUP(VALUE($D$12)&\"-3\",対策前後,7,FALSE))","v":""},"","",null,null,null,null,"","",{"$f":"IF($O27=\"\",\"\",IFERROR(VLOOKUP($O27,電力等のGJ換算係数_個票,3,FALSE),VLOOKUP($O27,活動の種別と単位_個票,5,FALSE)))","v":""},""]
["",null,{"$f":"IF(VLOOKUP(VALUE($D$12)&\"-4\",対策前後,2,FALSE)=\"\",\"\",VLOOKUP(VALUE($D$12)&\"-4\",対策前後,2,FALSE))","v":""},{"$f":"IF(VLOOKUP(VALUE($D$12)&\"-4\",対策前後,3,FALSE)=\"\",\"\",VLOOKUP(VALUE($D$12)&\"-4\",対策前後,3,FALSE))","v":""},"",{"$f":"IF(VLOOKUP(VALUE($D$12)&\"-4\",対策前後,5,FALSE)=\"\",\"\",VLOOKUP(VALUE($D$12)&\"-4\",対策前後,5,FALSE))","v":""},"",{"$f":"IF(VLOOKUP(VALUE($D$12)&\"-4\",対策前後,7,FALSE)=\"\",\"\",VLOOKUP(VALUE($D$12)&\"-4\",対策前後,7,FALSE))","v":""},"","",null,null,null,null,"","","",""]
["","【計画】\n対策実施",{"$f":"IF(VLOOKUP(VALUE($D$12),対策前後,9,FALSE)=\"\",\"\",VLOOKUP(VALUE($D$12),対策前後,9,FALSE))","v":""},{"$f":"IF(VLOOKUP(VALUE($D$12),対策前後,10,FALSE)=\"\",\"\",VLOOKUP(VALUE($D$12),対策前後,10,FALSE))","v":""},"",{"$f":"IF(VLOOKUP(VALUE($D$12),対策前後,12,FALSE)=\"\",\"\",VLOOKUP(VALUE($D$12),対策前後,12,FALSE))","v":""},"",{"$f":"IF(VLOOKUP(VALUE($D$12),対策前後,14,FALSE)=\"\",\"\",VLOOKUP(VALUE($D$12),対策前後,14,FALSE))","v":""},"","",{"$f":"IF(SUM(LEN($J29),LEN($J30),LEN($J31),LEN($J32))=0,\"\",SUM($J29:$J32))","v":""},{"$f":"IFERROR($K$25-$K$29,\"---\")","v":"---"},null,null,"","","","",{"$f":"IF(SUM(LEN($R29),LEN($R30),LEN($R31),LEN($R32))=0,\"\",SUM($R29:$R32))","v":""},{"$f":"IFERROR($S$25-$S$29,\"---\")","v":"---"}]
["",null,{"$f":"IF(VLOOKUP(VALUE($D$12)&\"-2\",対策前後,9,FALSE)=\"\",\"\",VLOOKUP(VALUE($D$12)&\"-2\",対策前後,9,FALSE))","v":""},{"$f":"IF(VLOOKUP(VALUE($D$12)&\"-2\",対策前後,10,FALSE)=\"\",\"\",VLOOKUP(VALUE($D$12)&\"-2\",対策前後,10,FALSE))","v":""},"",{"$f":"IF(VLOOKUP(VALUE($D$12)&\"-2\",対策前後,12,FALSE)=\"\",\"\",VLOOKUP(VALUE($D$12)&\"-2\",対策前後,12,FALSE))","v":""},"",{"$f":"IF(VLOOKUP(VALUE($D$12)&\"-2\",対策前後,14,FALSE)=\"\",\"\",VLOOKUP(VALUE($D$12)&\"-2\",対策前後,14,FALSE))","v":""},"","","(b)","(a-b)",null,null,"","","","","(B)","(A-B)"]
["",null,{"$f":"IF(VLOOKUP(VALUE($D$12)&\"-3\",対策前後,9,FALSE)=\"\",\"\",VLOOKUP(VALUE($D$12)&\"-3\",対策前後,9,FALSE))","v":""},{"$f":"IF(VLOOKUP(VALUE($D$12)&\"-3\",対策前後,10,FALSE)=\"\",\"\",VLOOKUP(VALUE($D$12)&\"-3\",対策前後,10,FALSE))","v":""},"",{"$f":"IF(VLOOKUP(VALUE($D$12)&\"-3\",対策前後,12,FALSE)=\"\",\"\",VLOOKUP(VALUE($D$12)&\"-3\",対策前後,12,FALSE))","v":""},"",{"$f":"IF(VLOOKUP(VALUE($D$12)&\"-3\",対策前後,14,FALSE)=\"\",\"\",VLOOKUP(VALUE($D$12)&\"-3\",対策前後,14,FALSE))","v":""},"","",null,null,null,null,"","","",""]
["",null,{"$f":"IF(VLOOKUP(VALUE($D$12)&\"-4\",対策前後,9,FALSE)=\"\",\"\",VLOOKUP(VALUE($D$12)&\"-4\",対策前後,9,FALSE))","v":""},{"$f":"IF(VLOOKUP(VALUE($D$12)&\"-4\",対策前後,10,FALSE)=\"\",\"\",VLOOKUP(VALUE($D$12)&\"-4\",対策前後,10,FALSE))","v":""},"",{"$f":"IF(VLOOKUP(VALUE($D$12)&\"-4\",対策前後,12,FALSE)=\"\",\"\",VLOOKUP(VALUE($D$12)&\"-4\",対策前後,12,FALSE))","v":""},"",{"$f":"IF(VLOOKUP(VALUE($D$12)&\"-4\",対策前後,14,FALSE)=\"\",\"\",VLOOKUP(VALUE($D$12)&\"-4\",対策前後,14,FALSE))","v":""},"","",null,null,null,null,"","","",""]
[null,"■対策実施状況",null,null,null,null,null,null,null,null,null,null,null,null,null,null,null,null,null,null,null,"計画変更状況"]
[null,"令和6年度",null,null,null,null,null,null,null,"　当初計画から変更あり",null," ",null,null,null,null,null,null,null,null,null,false]
[null,"令和7年度",null,null,null,null,null,null,null,"　当初計画から変更あり",null,null,null,null,null,null,null,null,null,null,null,false]
[null,"令和8年度",null,null,null,null,null,null,null,"　当初計画から変更あり",null,null,null,null,null,null,null,null,null,null,null,false]
[null,"■実績",null,null,null,null,null,null,null,null,null,null,null,null,"■実績"]
[{"$f":"IF($C38=\"\",\"\",VLOOKUP($C38,活動の種別と単位_個票,2,FALSE))","v":""},{"$f":"B34","v":"令和6年度"},{"$f":"IF($D$34=\"\",\"\",IF(COUNTIF($D$34,\"*済*\"),$C$29,$C$25))","v":""},{"$f":"IF($D$34=\"\",\"\",IF(COUNTIF($D$34,\"*済*\"),\"\",$D$25))","v":""},{"$f":"IF($C38=\"\",\"\",VLOOKUP($C38,活動の種別と単位_個票,4,FALSE))","v":""},{"$f":"IF($D$34=\"\",\"\",IF(COUNTIF($D$34,\"*済*\"),$F$29,$F$25))","v":""},{"$f":"IF($C38=\"\",\"\",VLOOKUP($C38,活動の種別と単位_個票,5,FALSE))","v":""},{"$f":"IF($D$34=\"\",\"\",IF(COUNTIF($D$34,\"*済*\"),$H$29,$H$25))","v":""},{"$f":"IF($C38=\"\",\"\",VLOOKUP($C38,活動の種別と単位_個票,6,FALSE))","v":""},{"$f":"IFERROR(IF($D38=\"\",\"\",IF($A38=0,$D38*$F38*$H38,$D38*$H38)),\"---\")","v":""},{"$f":"IF(SUM(LEN($J38),LEN($J39),LEN($J40),LEN($J41))=0,\"\",SUM($J38:$J41))","v":""},{"$f":"IFERROR($K$25-$K$38,\"---\")","v":"---"},null,null,{"$f":"IF($C38=\"\",\"\",IF(COUNTIF($C38,\"*系統電力*\"),\"*系統電力*\",IF(COUNTIF($C38,\"*産業用蒸気*\"),\"*産業用蒸気*\",IF(COUNTIF($C38,\"*温水*\"),\"*温水*\",IF(COUNTIF($C38,\"*冷水*\"),\"*冷水*\",IF(COUNTIF($C38,\"*蒸気（産業用以外）*\"),\"*蒸気（産業用以外）*\",$C38))))))","v":""},{"$f":"IF($O38=\"\",\"\",IFERROR(VLOOKUP($O38,電力等のGJ換算係数_個票,2,FALSE),F38))","v":""},{"$f":"IF($O38=\"\",\"\",IFERROR(VLOOKUP($O38,電力等のGJ換算係数_個票,3,FALSE),VLOOKUP($O38,活動の種別と単位_個票,5,FALSE)))","v":""},{"$f":"IF(OR($D38=\"\",$P38=\"\"),\"\",$D38*$P38)","v":""},{"$f":"IF(SUM(LEN($R38),LEN($R39),LEN($R40),LEN($R41))=0,\"\",SUM($R38:$R41))","v":""},{"$f":"IFERROR($S$25-$S$38,\"---\")","v":"---"}]
["",null,{"$f":"IF($D$34=\"\",\"\",IF(COUNTIF($D$34,\"*済*\"),$C$30,$C$26))","v":""},{"$f":"IF($D$34=\"\",\"\",IF(COUNTIF($D$34,\"*済*\"),\"\",$D$26))","v":""},"",{"$f":"IF($D$34=\"\",\"\",IF(COUNTIF($D$34,\"*済*\"),$F$30,$F$26))","v":""},"",{"$f":"IF($D$34=\"\",\"\",IF(COUNTIF($D$34,\"*済*\"),$H$30,$H$26))","v":""},"","","(c1)","(a-c1)",null,null,{"$f":"IF($C39=\"\",\"\",IF(COUNTIF($C39,\"*系統電力*\"),\"*系統電力*\",IF(COUNTIF($C39,\"*産業用蒸気*\"),\"*産業用蒸気*\",IF(COUNTIF($C39,\"*温水*\"),\"*温水*\",IF(COUNTIF($C39,\"*冷水*\"),\"*冷水*\",IF(COUNTIF($C39,\"*蒸気（産業用以外）*\"),\"*蒸気（産業用以外）*\",$C39))))))","v":""},"","","","(C1)","(A-C1)"]
["",null,{"$f":"IF($D$34=\"\",\"\",IF(COUNTIF($D$34,\"*済*\"),$C$31,$C$27))","v":""},{"$f":"IF($D$34=\"\",\"\",IF(COUNTIF($D$34,\"*済*\"),\"\",$D$27))","v":""},"",{"$f":"IF($D$34=\"\",\"\",IF(COUNTIF($D$34,\"*済*\"),$F$31,$F$27))","v":""},"",{"$f":"IF($D$34=\"\",\"\",IF(COUNTIF($D$34,\"*済*\"),$H$31,$H$27))","v":""},"","",null,null,null,null,"","","",""]
["",null,{"$f":"IF($D$34=\"\",\"\",IF(COUNTIF($D$34,\"*済*\"),$C$32,$C$28))","v":""},{"$f":"IF($D$34=\"\",\"\",IF(COUNTIF($D$34,\"*済*\"),\"\",$D$28))","v":""},"",{"$f":"IF($D$34=\"\",\"\",IF(COUNTIF($D$34,\"*済*\"),$F$32,$F$28))","v":""},"",{"$f":"IF($D$34=\"\",\"\",IF(COUNTIF($D$34,\"*済*\"),$H$32,$H$28))","v":""},"","",null,null,null,null,"","","",""]
["",{"$f":"B35","v":"令和7年度"},{"$f":"IF($D$35=\"\",\"\",IF(COUNTIF($D$35,\"*済*\"),$C$29,$C$25))","v":""},{"$f":"IF($D$35=\"\",\"\",IF(COUNTIF($D$35,\"*済*\"),\"\",$D$25))","v":""},"",{"$f":"IF($D$35=\"\",\"\",IF(COUNTIF($D$35,\"*済*\"),$F$29,$F$25))","v":""},"",{"$f":"IF($D$35=\"\",\"\",IF(COUNTIF($D$35,\"*済*\"),$H$29,$H$25))","v":""},"","",{"$f":"IF(SUM(LEN($J42),LEN($J43),LEN($J44),LEN($J45))=0,\"\",SUM($J42:$J45))","v":""},{"$f":"IFERROR($K$25-$K$42,\"---\")","v":"---"},null,null,"","","","",{"$f":"IF(SUM(LEN($R42),LEN($R43),LEN($R44),LEN($R45))=0,\"\",SUM($R42:$R45))","v":""},{"$f":"IFERROR($S$25-$S$42,\"---\")","v":"---"}]
["",null,{"$f":"IF($D$35=\"\",\"\",IF(COUNTIF($D$35,\"*済*\"),$C$30,$C$26))","v":""},{"$f":"IF($D$35=\"\",\"\",IF(COUNTIF($D$35,\"*済*\"),\"\",$D$26))","v":""},"",{"$f":"IF($D$35=\"\",\"\",IF(COUNTIF($D$35,\"*済*\"),$F$30,$F$26))","v":""},"",{"$f":"IF($D$35=\"\",\"\",IF(COUNTIF($D$35,\"*済*\"),$H$30,$H$26))","v":""},"","","(c2)","(a-c2)",null,null,"","","","","(C2)","(A-C2)"]
["",null,{"$f":"IF($D$35=\"\",\"\",IF(COUNTIF($D$35,\"*済*\"),$C$31,$C$27))","v":""},{"$f":"IF($D$35=\"\",\"\",IF(COUNTIF($D$35,\"*済*\"),\"\",$D$27))","v":""},"",{"$f":"IF($D$35=\"\",\"\",IF(COUNTIF($D$35,\"*済*\"),$F$31,$F$27))","v":""},"",{"$f":"IF($D$35=\"\",\"\",IF(COUNTIF($D$35,\"*済*\"),$H$31,$H$27))","v":""},"","",null,null,null,null,"","","",""]
["",null,{"$f":"IF($D$35=\"\",\"\",IF(COUNTIF($D$35,\"*済*\"),$C$32,$C$28))","v":""},{"$f":"IF($D$35=\"\",\"\",IF(COUNTIF($D$35,\"*済*\"),\"\",$D$28))","v":""},"",{"$f":"IF($D$35=\"\",\"\",IF(COUNTIF($D$35,\"*済*\"),$F$32,$F$28))","v":""},"",{"$f":"IF($D$35=\"\",\"\",IF(COUNTIF($D$35,\"*済*\"),$H$32,$H$28))","v":""},"","",null,null,null,null,"","","",""]
["",{"$f":"B36","v":"令和8年度"},{"$f":"IF($D$36=\"\",\"\",IF(COUNTIF($D$36,\"*済*\"),$C$29,$C$25))","v":""},{"$f":"IF($D$36=\"\",\"\",IF(COUNTIF($D$36,\"*済*\"),\"\",$D$25))","v":""},"",{"$f":"IF($D$36=\"\",\"\",IF(COUNTIF($D$36,\"*済*\"),$F$29,$F$25))","v":""},"",{"$f":"IF($D$36=\"\",\"\",IF(COUNTIF($D$36,\"*済*\"),$H$29,$H$25))","v":""},"","",{"$f":"IF(SUM(LEN($J46),LEN($J47),LEN($J48),LEN($J49))=0,\"\",SUM($J46:$J49))","v":""},{"$f":"IFERROR($K$25-$K$46,\"---\")","v":"---"},null,null,"","","","",{"$f":"IF(SUM(LEN($R46),LEN($R47),LEN($R48),LEN($R49))=0,\"\",SUM($R46:$R49))","v":""},{"$f":"IFERROR($S$25-$S$46,\"---\")","v":"---"}]
["",null,{"$f":"IF($D$36=\"\",\"\",IF(COUNTIF($D$36,\"*済*\"),$C$30,$C$26))","v":""},{"$f":"IF($D$36=\"\",\"\",IF(COUNTIF($D$36,\"*済*\"),\"\",$D$26))","v":""},"",{"$f":"IF($D$36=\"\",\"\",IF(COUNTIF($D$36,\"*済*\"),$F$30,$F$26))","v":""},"",{"$f":"IF($D$36=\"\",\"\",IF(COUNTIF($D$36,\"*済*\"),$H$30,$H$26))","v":""},"","","(c3)","(a-c3)",null,null,"","","","","(C3)","(A-C3)"]
["",null,{"$f":"IF($D$36=\"\",\"\",IF(COUNTIF($D$36,\"*済*\"),$C$31,$C$27))","v":""},{"$f":"IF($D$36=\"\",\"\",IF(COUNTIF($D$36,\"*済*\"),\"\",$D$27))","v":""},"",{"$f":"IF($D$36=\"\",\"\",IF(COUNTIF($D$36,\"*済*\"),$F$31,$F$27))","v":""},"",{"$f":"IF($D$36=\"\",\"\",IF(COUNTIF($D$36,\"*済*\"),$H$31,$H$27))","v":""},"","",null,null,null,null,"","","",""]
["",null,{"$f":"IF($D$36=\"\",\"\",IF(COUNTIF($D$36,\"*済*\"),$C$32,$C$28))","v":""},{"$f":"IF($D$36=\"\",\"\",IF(COUNTIF($D$36,\"*済*\"),\"\",$D$28))","v":""},"",{"$f":"IF($D$36=\"\",\"\",IF(COUNTIF($D$36,\"*済*\"),$F$32,$F$28))","v":""},"",{"$f":"IF($D$36=\"\",\"\",IF(COUNTIF($D$36,\"*済*\"),$H$32,$H$28))","v":""},"","",null,null,null,null,"","","",""]
[null,"※活動量、排出量及び削減量は、小数点以下を四捨五入した整数で表示されています（端数処理なし）。"]
[null,null,null,null,null,null,null,null,null,null,null,{"$f":"\"個票\"&$D$12","v":"個票6"}]
[]
[null,"３．CO2排出量の算出根拠"]
[]
[null,{"$f":"$B$38","v":"令和6年度"},null,{"$f":"IF($D$34=\"\",\"\",$D$34)","v":""},null,null,null,null,null,{"$f":"IF(D55=\"\",\"\",IF($V$34=FALSE,\"当初計画どおり\",\"当初計画から変更あり\"))","v":""}]
[null,"CO2排出量の計算式で使用する「活動種別ごとの年間活動量」の算出根拠\n※「対策実施済み」の場合は、実施計画書の対策個票「7.報告時のCO2排出量算定のための活動量把握方法」に基づき算出すること。"]
[]
[]
[]
[]
[]
[]
[]
[]
[]
[]
[]
[]
[]
[]
[]
[]
[]
[]
[]
[]
[]
[]
[]
[]
[]
[]
[]
[]
[]
[]
[]
[]
[]
[]
[]
[]
[]
[]
[]
[]
[]
[]
[null,"備考"]
[]
[]
[]
[]
[]
[]
[null,null,null,null,null,null,null,null,null,null,null,{"$f":"\"個票\"&$D$12","v":"個票6"}]
[]
[]
[]
[null,{"$f":"$B$42","v":"令和7年度"},null,{"$f":"IF($D$35=\"\",\"\",$D$35)","v":""},null,null,null,null,null,{"$f":"IF(D110=\"\",\"\",IF($V$35=FALSE,\"当初計画どおり\",\"当初計画から変更あり\"))","v":""}]
[null,"CO2排出量の計算式で使用する「活動種別ごとの年間活動量」の算出根拠\n※「対策実施済み」の場合は、実施計画書の対策個票「7.報告時のCO2排出量算定のための活動量把握方法」に基づき算出すること。"]
[]
[]
[]
[]
[]
[]
[]
[]
[]
[]
[]
[]
[]
[]
[]
[]
[]
[]
[]
[]
[]
[]
[]
[]
[]
[]
[]
[]
[]
[]
[]
[]
[]
[]
[]
[]
[]
[]
[]
[]
[]
[]
[null,"備考"]
[]
[]
[]
[]
[]
[]
[null,null,null,null,null,null,null,null,null,null,null,{"$f":"\"個票\"&$D$12","v":"個票6"}]
[]
[]
[]
[null,{"$f":"$B$46","v":"令和8年度"},null,{"$f":"IF($D$36=\"\",\"\",$D$36)","v":""},null,null,null,null,null,{"$f":"IF(D165=\"\",\"\",IF($V$36=FALSE,\"当初計画どおり\",\"当初計画から変更あり\"))","v":""}]
[null,"CO2排出量の計算式で使用する「活動種別ごとの年間活動量」の算出根拠\n※「対策実施済み」の場合は、実施計画書の対策個票「7.報告時のCO2排出量算定のための活動量把握方法」に基づき算出すること。"]
[]
[]
[]
[]
[]
[]
[]
[]
[]
[]
[]
[]
[]
[]
[]
[]
[]
[]
[]
[]
[]
[]
[]
[]
[]
[]
[]
[]
[]
[]
[]
[]
[]
[]
[]
[]
[]
[]
[]
[]
[]
[]
[null,"備考"]

{"sheet":"別紙2_CO2排出量_全体","index":12,"n_rows":109,"n_cols":72,"rows_kept":109,"cut":false,"hidden":false,"merged":[[58,62,58,65],[59,17,59,31],[59,32,59,46],[59,47,59,61],[59,62,60,62],[59,63,59,65],[58,47,58,61],[58,12,59,14],[58,15,60,15],[58,16,59,16],[58,17,58,31],[58,32,58,46],[54,1,55,9],[54,10,54,11],[55,10,55,11],[58,1,60,1],[58,2,60,2],[58,3,60,3],[58,4,59,7],[58,8,59,9],[58,10,59,11],[26,47,26,61],[26,62,26,65],[27,17,27,31],[27,32,27,46],[27,47,27,61],[27,62,28,62],[27,63,27,65],[26,32,26,46],[26,10,27,11],[26,12,27,14],[26,15,28,15],[26,16,27,16],[26,17,26,31],[7,3,7,11],[8,3,8,11],[22,1,22,2],[23,1,23,2],[24,1,24,2],[26,1,28,1],[26,2,28,2],[26,3,28,3],[26,4,27,7],[26,8,27,9]]}
[null,null,null,null,null,null,null,null,null,null,null,null,null,null,null,null,null,null,null,null,null,null,null,null,null,null,null,null,null,null,null,null,null,null,null,null,null,null,null,null,null,null,null,null,null,null,null,null,null,null,null,null,null,null,null,null,null,null,null,null,null,null,null,null,null,null,null,null,null,null,null,"セル色表示／非表示"]
[null,null,null,null,null,null,null,null,null,null,null,null,null,null,null,null,null,null,null,null,null,null,null,null,null,null,null,null,null,null,null,null,null,null,null,null,null,null,null,null,null,null,null,null,null,null,null,null,null,null,null,null,null,null,null,null,null,null,null,null,null,null,null,null,null,null,null,null,null,null,null,false]
[]
[null,"環境省　令和４年度（第2次補正予算）・令和5年度二酸化炭素排出抑制対策事業費等補助金 （工場・事業場における先導的な脱炭素化取組推進事業（SHIFT事業））"]
[]
[null,"【様式第16 事業報告書】 別紙1_工場・事業場全体のCO2排出量"]
[]
[null,"事業者名（法人名）",null,{"$f":"IF(事業報告書まとめ_計画策定支援!$H$7=\"\",\"\",事業報告書まとめ_計画策定支援!$H$7)","v":"○○株式会社"}]
[null,"工場・事業場名",null,{"$f":"IF(事業報告書まとめ_計画策定支援!$H$8=\"\",\"\",事業報告書まとめ_計画策定支援!$H$8)","v":"○○工場"}]
[]
[]
[null,"■工場・事業場全体のエネルギー起源CO2排出量等の推移\n"]
[]
[null,null,null,"基準年度",{"$f":"$B$23","v":"令和6年度"},{"$f":"$B$24","v":"令和7年度"},{"$f":"$B$25","v":"令和8年度"}]
[null,"CO2排出量(t-CO2)",null,{"$f":"IF(基本データ転記先シート!$F$25=\"\",\"\",基本データ転記先シート!$F$25)","v":500.26612},{"$f":"IF($M$56=\"\",\"\",$M$56)","v":391.16444256000011},{"$f":"IF($N$56=\"\",\"\",$N$56)","v":0},{"$f":"IF($O$56=\"\",\"\",$O$56)","v":0}]
[null,"エネルギー使用量(GJ)",null,{"$f":"IF(基本データ転記先シート!$F$26=\"\",\"\",基本データ転記先シート!$F$26)","v":8218.1239999999998},{"$f":"IF($BL$55=\"\",\"\",$BL$55)","v":8028.4236096000022},{"$f":"IF($BM$55=\"\",\"\",$BM$55)","v":0},{"$f":"IF($BN$55=\"\",\"\",$BN$55)","v":0}]
[null,"脱炭素化指標(t-CO2/GJ)",null,{"$f":"IF(基本データ転記先シート!$F$27=\"\",\"\",基本データ転記先シート!$F$27)","v":6.0873518092450299E-2},{"$f":"IF($BL$56=\"\",\"\",$BL$56)","v":4.8722446844018608E-2},{"$f":"IF($BM$56=\"\",\"\",$BM$56)","v":"---"},{"$f":"IF($BN$56=\"\",\"\",$BN$56)","v":"---"}]
[]
[]
[null,"■活動種別と活動量\n"]
[]
[null,"チェックを外すと、当該年度分が非表示となります。チェックを入れると再表示されます。"]
[null,{"$f":"事業報告書まとめ_計画策定支援!$O$16","v":"令和6年度"},true,null,{"$f":"MID(CELL(\"address\",$E$26),2,1)","v":"E"},{"$f":"MID(CELL(\"address\",$M$26),2,1)","v":"M"},{"$f":"MID(CELL(\"address\",$R$26),2,1)&\":\"&MID(CELL(\"address\",$AF$26),2,2)","v":"R:AF"},{"$f":"MID(CELL(\"address\",$BL$26),2,2)","v":"BL"}]
[null,{"$f":"事業報告書まとめ_計画策定支援!$R$16","v":"令和7年度"},true,null,{"$f":"MID(CELL(\"address\",$F$26),2,1)","v":"F"},{"$f":"MID(CELL(\"address\",$N$26),2,1)","v":"N"},{"$f":"MID(CELL(\"address\",$AG$26),2,2)&\":\"&MID(CELL(\"address\",$AU$26),2,2)","v":"AG:AU"},{"$f":"MID(CELL(\"address\",$BM$26),2,2)","v":"BM"}]
[null,{"$f":"事業報告書まとめ_計画策定支援!$U$16","v":"令和8年度"},true,null,{"$f":"MID(CELL(\"address\",$G$26),2,1)","v":"G"},{"$f":"MID(CELL(\"address\",$O$26),2,1)","v":"O"},{"$f":"MID(CELL(\"address\",$AV$26),2,2)&\":\"&MID(CELL(\"address\",$BJ$26),2,2)","v":"AV:BJ"},{"$f":"MID(CELL(\"address\",$BN$26),2,2)","v":"BN"}]
[]
[null,"事業所No.","モニタリング\nポイントNo.","活動種別","活動量",null,null,null,"単位発熱量",null,"CO2排出係数",null,"CO2排出量[t-CO2]",null,null,"備考","活動量",{"$f":"$B$23","v":"令和6年度"},null,null,null,null,null,null,null,null,null,null,null,null,null,null,{"$f":"$B$24","v":"令和7年度"},null,null,null,null,null,null,null,null,null,null,null,null,null,null,{"$f":"$B$25","v":"令和8年度"},null,null,null,null,null,null,null,null,null,null,null,null,null,null,"GJ換算"]
[null,null,null,null,null,null,null,null,null,null,null,null,null,null,null,null,null,"月別の購買量　※「活動量」の単位（H列）と整合するように記入ください。",null,null,null,null,null,null,null,null,null,null,null,null,null,null,"月別の購買量　※「活動量」の単位（H列）と整合するように記入ください。",null,null,null,null,null,null,null,null,null,null,null,null,null,null,"月別の購買量　※「活動量」の単位（H列）と整合するように記入ください。",null,null,null,null,null,null,null,null,null,null,null,null,null,null,"対象","GJ換算量"]
[null,null,null,null,{"$f":"$B$23","v":"令和6年度"},{"$f":"$B$24","v":"令和7年度"},{"$f":"$B$25","v":"令和8年度"},"単位","係数","単位","係数","単位",{"$f":"$B$23","v":"令和6年度"},{"$f":"$B$24","v":"令和7年度"},{"$f":"$B$25","v":"令和8年度"},null,"把握対象","年度開始\n時点の\n在庫量","４月","５月","６月","７月","８月","９月","１０月","１１月","１２月","１月","２月","３月","年度終了\n時点の\n在庫量","製品中への注入量","年度開始\n時点の\n在庫量","４月","５月","６月","７月","８月","９月","１０月","１１月","１２月","１月","２月","３月","年度終了\n時点の\n在庫量","製品中への注入量","年度開始\n時点の\n在庫量","４月","５月","６月","７月","８月","９月","１０月","１１月","１２月","１月","２月","３月","年度終了\n時点の\n在庫量","製品中への注入量",null,{"$f":"$B$23","v":"令和6年度"},{"$f":"$B$24","v":"令和7年度"},{"$f":"$B$25","v":"令和8年度"}]
[{"$f":"IF($D30=\"\",\"\",VLOOKUP($D30,活動の種別と単位_全体,2,FALSE))","v":1},null,null,"系統電力",{"$f":"SUM($S30:$AD30)+($R30-$AE30)-$AF30","v":319899.96000000014},{"$f":"SUM($AH30:$AS30)+($AG30-$AT30)-$AU30","v":0},{"$f":"SUM($AW30:$BH30)+($AV30-$BI30)-$BJ30","v":0},{"$f":"IF($D30=\"\",\"\",VLOOKUP($D30,活動の種別と単位_全体,4,FALSE))","v":"kWh"},null,{"$f":"IF($D30=\"\",\"\",VLOOKUP($D30,活動の種別と単位_全体,5,FALSE))","v":"---"},4.3600000000000003E-4,{"$f":"IF($D30=\"\",\"\",VLOOKUP($D30,活動の種別と単位_全体,6,FALSE))","v":"t-CO2/kWh"},{"$f":"IF($D30=\"\",\"\",IF($A30=0,$E30*$I30*$K30,$E30*$K30))","v":139.47638256000008},{"$f":"IF($D30=\"\",\"\",IF($A30=0,$F30*$I30*$K30,$F30*$K30))","v":0},{"$f":"IF($D30=\"\",\"\",IF($A30=0,$G30*$I30*$K30,$G30*$K30))","v":0},null,{"$f":"IF($D30=\"\",\"\",VLOOKUP($D30,活動の種別と単位_全体,3,FALSE))","v":"使用量"},null,26658.33,26658.33,26658.33,26658.33,26658.33,26658.33,26658.33,26658.33,26658.33,26658.33,26658.33,26658.33,null,null,{"$f":"AE30","v":0},null,null,null,null,null,null,null,null,null,null,null,null,null,null,{"$f":"AT30","v":0},null,null,null,null,null,null,null,null,null,null,null,null,null,null,{"$f":"IF($D30=\"\",\"\",VLOOKUP($D30,活動の種別と単位_全体,7,FALSE))","v":"対象"},{"$f":"IF($D30=\"\",\"\",IF($BK30=\"対象\",IF(OR($D30=\"系統電力\",$D30=\"産業用蒸気\",$D30=\"温水\",$D30=\"冷水\",$D30=\"蒸気（産業用以外）\"),$E30*VLOOKUP($D30,電力等のGJ換算係数_全体,2,FALSE),$E30*$I30),\"---\"))","v":3122.2236096000011},{"$f":"IF($D30=\"\",\"\",IF($BK30=\"対象\",IF(OR($D30=\"系統電力\",$D30=\"産業用蒸気\",$D30=\"温水\",$D30=\"冷水\",$D30=\"蒸気（産業用以外）\"),$F30*VLOOKUP($D30,電力等のGJ換算係数_全体,2,FALSE),$F30*$I30),\"---\"))","v":0},{"$f":"IF($D30=\"\",\"\",IF($BK30=\"対象\",IF(OR($D30=\"系統電力\",$D30=\"産業用蒸気\",$D30=\"温水\",$D30=\"冷水\",$D30=\"蒸気（産業用以外）\"),$G30*VLOOKUP($D30,電力等のGJ換算係数_全体,2,FALSE),$G30*$I30),\"---\"))","v":0}]
[0,null,null,"都市ガス",{"$f":"SUM($S31:$AD31)+($R31-$AE31)-$AF31","v":111},{"$f":"SUM($AH31:$AS31)+($AG31-$AT31)-$AU31","v":0},{"$f":"SUM($AW31:$BH31)+($AV31-$BI31)-$BJ31","v":0},"千Nm3",44.2,"GJ/千Nm3",5.1299999999999998E-2,"t-CO2/GJ",{"$f":"IF($D31=\"\",\"\",IF($A31=0,$E31*$I31*$K31,$E31*$K31))","v":251.68806000000004},{"$f":"IF($D31=\"\",\"\",IF($A31=0,$F31*$I31*$K31,$F31*$K31))","v":0},{"$f":"IF($D31=\"\",\"\",IF($A31=0,$G31*$I31*$K31,$G31*$K31))","v":0},null,"使用量",null,9.25,9.25,9.25,9.25,9.25,9.25,9.25,9.25,9.25,9.25,9.25,9.25,null,null,0,null,null,null,null,null,null,null,null,null,null,null,null,null,null,0,null,null,null,null,null,null,null,null,null,null,null,null,null,null,"対象",4906.2000000000007,0,0]
["",null,null,null,0,0,0,"",null,"",null,"","","","",null,"",null,null,null,null,null,null,null,null,null,null,null,null,null,null,null,0,null,null,null,null,null,null,null,null,null,null,null,null,null,null,0,null,null,null,null,null,null,null,null,null,null,null,null,null,null,"","","",""]
["",null,null,null,0,0,0,"",null,"",null,"","","","",null,"",null,null,null,null,null,null,null,null,null,null,null,null,null,null,null,0,null,null,null,null,null,null,null,null,null,null,null,null,null,null,0,null,null,null,null,null,null,null,null,null,null,null,null,null,null,"","","",""]
["",null,null,null,{"$f":"SUM($S34:$AD34)+($R34-$AE34)-$AF34","v":0},{"$f":"SUM($AH34:$AS34)+($AG34-$AT34)-$AU34","v":0},{"$f":"SUM($AW34:$BH34)+($AV34-$BI34)-$BJ34","v":0},"",null,"",null,"","","","",null,"",null,null,null,null,null,null,null,null,null,null,null,null,null,null,null,{"$f":"AE34","v":0},null,null,null,null,null,null,null,null,null,null,null,null,null,null,0,null,null,null,null,null,null,null,null,null,null,null,null,null,null,"","","",""]
["",null,null,null,0,0,0,"",null,"",null,"","","","",null,"",null,null,null,null,null,null,null,null,null,null,null,null,null,null,null,0,null,null,null,null,null,null,null,null,null,null,null,null,null,null,0,null,null,null,null,null,null,null,null,null,null,null,null,null,null,"","","",""]
["",null,null,null,0,0,0,"",null,"",null,"","","","",null,"",null,null,null,null,null,null,null,null,null,null,null,null,null,null,null,0,null,null,null,null,null,null,null,null,null,null,null,null,null,null,0,null,null,null,null,null,null,null,null,null,null,null,null,null,null,"","","",""]
["",null,null,null,0,0,0,"",null,"",null,"","","","",null,"",null,null,null,null,null,null,null,null,null,null,null,null,null,null,null,0,null,null,null,null,null,null,null,null,null,null,null,null,null,null,0,null,null,null,null,null,null,null,null,null,null,null,null,null,null,"","","",""]
["",null,null,null,0,0,0,"",null,"",null,"","","","",null,"",null,null,null,null,null,null,null,null,null,null,null,null,null,null,null,0,null,null,null,null,null,null,null,null,null,null,null,null,null,null,0,null,null,null,null,null,null,null,null,null,null,null,null,null,null,"","","",""]
["",null,null,null,0,0,0,"",null,"",null,"","","","",null,"",null,null,null,null,null,null,null,null,null,null,null,null,null,null,null,0,null,null,null,null,null,null,null,null,null,null,null,null,null,null,0,null,null,null,null,null,null,null,null,null,null,null,null,null,null,"","","",""]
["",null,null,null,0,0,0,"",null,"",null,"","","","",null,"",null,null,null,null,null,null,null,null,null,null,null,null,null,null,null,0,null,null,null,null,null,null,null,null,null,null,null,null,null,null,0,null,null,null,null,null,null,null,null,null,null,null,null,null,null,"","","",""]
["",null,null,null,0,0,0,"",null,"",null,"","","","",null,"",null,null,null,null,null,null,null,null,null,null,null,null,null,null,null,0,null,null,null,null,null,null,null,null,null,null,null,null,null,null,0,null,null,null,null,null,null,null,null,null,null,null,null,null,null,"","","",""]
["",null,null,null,0,0,0,"",null,"",null,"","","","",null,"",null,null,null,null,null,null,null,null,null,null,null,null,null,null,null,0,null,null,null,null,null,null,null,null,null,null,null,null,null,null,0,null,null,null,null,null,null,null,null,null,null,null,null,null,null,"","","",""]
["",null,null,null,0,0,0,"",null,"",null,"","","","",null,"",null,null,null,null,null,null,null,null,null,null,null,null,null,null,null,0,null,null,null,null,null,null,null,null,null,null,null,null,null,null,0,null,null,null,null,null,null,null,null,null,null,null,null,null,null,"","","",""]
["",null,null,null,0,0,0,"",null,"",null,"","","","",null,"",null,null,null,null,null,null,null,null,null,null,null,null,null,null,null,0,null,null,null,null,null,null,null,null,null,null,null,null,null,null,0,null,null,null,null,null,null,null,null,null,null,null,null,null,null,"","","",""]
[{"$f":"IF($I45=\"\",1,0)","v":1},null,null,"その他（要：備考欄への詳細記載）",0,0,0,null,null,null,null,null,0,0,0,null,null,null,null,null,null,null,null,null,null,null,null,null,null,null,null,null,0,null,null,null,null,null,null,null,null,null,null,null,null,null,null,0,null,null,null,null,null,null,null,null,null,null,null,null,null,null,null,"---","---","---"]
[{"$f":"IF($I46=\"\",1,0)","v":1},null,null,"その他（要：備考欄への詳細記載）",0,0,0,null,null,null,null,null,0,0,0,null,null,null,null,null,null,null,null,null,null,null,null,null,null,null,null,null,0,null,null,null,null,null,null,null,null,null,null,null,null,null,null,0,null,null,null,null,null,null,null,null,null,null,null,null,null,null,null,"---","---","---"]
[1,null,null,"その他（要：備考欄への詳細記載）",0,0,0,null,null,null,null,null,0,0,0,null,null,null,null,null,null,null,null,null,null,null,null,null,null,null,null,null,0,null,null,null,null,null,null,null,null,null,null,null,null,null,null,0,null,null,null,null,null,null,null,null,null,null,null,null,null,null,null,"---","---","---"]
[1,null,null,"その他（要：備考欄への詳細記載）",0,0,0,null,null,null,null,null,0,0,0,null,null,null,null,null,null,null,null,null,null,null,null,null,null,null,null,null,0,null,null,null,null,null,null,null,null,null,null,null,null,null,null,0,null,null,null,null,null,null,null,null,null,null,null,null,null,null,null,"---","---","---"]
[1,null,null,"その他（要：備考欄への詳細記載）",0,0,0,null,null,null,null,null,0,0,0,null,null,null,null,null,null,null,null,null,null,null,null,null,null,null,null,null,0,null,null,null,null,null,null,null,null,null,null,null,null,null,null,0,null,null,null,null,null,null,null,null,null,null,null,null,null,null,null,"---","---","---"]
[1,null,null,"その他（要：備考欄への詳細記載）",0,0,0,null,null,null,null,null,0,0,0,null,null,null,null,null,null,null,null,null,null,null,null,null,null,null,null,null,0,null,null,null,null,null,null,null,null,null,null,null,null,null,null,0,null,null,null,null,null,null,null,null,null,null,null,null,null,null,null,"---","---","---"]
[1,null,null,"その他（要：備考欄への詳細記載）",0,0,0,null,null,null,null,null,0,0,0,null,null,null,null,null,null,null,null,null,null,null,null,null,null,null,null,null,0,null,null,null,null,null,null,null,null,null,null,null,null,null,null,0,null,null,null,null,null,null,null,null,null,null,null,null,null,null,null,"---","---","---"]
[1,null,null,"その他（要：備考欄への詳細記載）",0,0,0,null,null,null,null,null,0,0,0,null,null,null,null,null,null,null,null,null,null,null,null,null,null,null,null,null,0,null,null,null,null,null,null,null,null,null,null,null,null,null,null,0,null,null,null,null,null,null,null,null,null,null,null,null,null,null,null,"---","---","---"]
[1,null,null,"その他（要：備考欄への詳細記載）",0,0,0,null,null,null,null,null,0,0,0,null,null,null,null,null,null,null,null,null,null,null,null,null,null,null,null,null,0,null,null,null,null,null,null,null,null,null,null,null,null,null,null,0,null,null,null,null,null,null,null,null,null,null,null,null,null,null,null,"---","---","---"]
[{"$f":"IF($I54=\"\",1,0)","v":1},null,null,"その他（要：備考欄への詳細記載）",0,0,0,null,null,null,null,null,0,0,0,null,null,null,null,null,null,null,null,null,null,null,null,null,null,null,null,null,0,null,null,null,null,null,null,null,null,null,null,null,null,null,null,0,null,null,null,null,null,null,null,null,null,null,null,null,null,null,null,"---","---","---"]
[null,"1) 年度開始時点の在庫量・月別の購買量・年度終了時点の在庫量・製品中への注入量は小数点以下を切り捨てずに記入してください。\n2) 活動種別が「その他」の場合には、指定されている行を使用し、活動量単位や係数等の必要な情報を入力してください。\n3) 記入欄が足りない場合には、下表に記入してください。",null,null,null,null,null,null,null,null,"CO2排出量の合計",null,{"$f":"SUM($M$30:$M$54)+SUM($M$62:$M$109)","v":391.16444256000011},{"$f":"SUM($N$30:$N$54)+SUM($N$62:$N$109)","v":0},{"$f":"SUM($O$30:$O$54)+SUM($O$62:$O$109)","v":0},null,null,null,null,null,null,null,null,null,null,null,null,null,null,null,null,null,null,null,null,null,null,null,null,null,null,null,null,null,null,null,null,null,null,null,null,null,null,null,null,null,null,null,null,null,null,null,"GJ換算量の合計(b)",{"$f":"SUM($BL30:$BL54)+SUM($BL62:$BL109)","v":8028.4236096000022},{"$f":"SUM($BM30:$BM54)+SUM($BM62:$BM109)","v":0},{"$f":"SUM($BN30:$BN54)+SUM($BN62:$BN109)","v":0}]
[null,null,null,null,null,null,null,null,null,null,"エネルギー起源\nCO2排出量の合計(a)",null,{"$f":"SUMIFS($M30:$M54,$BK30:$BK54,\"対象\")+SUMIFS($M62:$M109,$BK62:$BK109,\"対象\")","v":391.16444256000011},{"$f":"SUMIFS($N30:$N54,$BK30:$BK54,\"対象\")+SUMIFS($N62:$N109,$BK62:$BK109,\"対象\")","v":0},{"$f":"SUMIFS($O30:$O54,$BK30:$BK54,\"対象\")+SUMIFS($O62:$O109,$BK62:$BK109,\"対象\")","v":0},null,null,null,null,null,null,null,null,null,null,null,null,null,null,null,null,null,null,null,null,null,null,null,null,null,null,null,null,null,null,null,null,null,null,null,null,null,null,null,null,null,null,null,null,null,null,null,"脱炭素化指標(a)/(b)",{"$f":"IFERROR($M56/$BL55,\"---\")","v":4.8722446844018608E-2},{"$f":"IFERROR($N56/$BM55,\"---\")","v":"---"},{"$f":"IFERROR($O56/$BN55,\"---\")","v":"---"}]
[]
[]
[null,"事業所No.","モニタリング\nポイント\nNo.","活動種別","活動量",null,null,null,"単位発熱量",null,"CO2排出係数",null,"CO2排出量[t-CO2]",null,null,"備考","活動量",{"$f":"$B$23","v":"令和6年度"},null,null,null,null,null,null,null,null,null,null,null,null,null,null,{"$f":"$B$24","v":"令和7年度"},null,null,null,null,null,null,null,null,null,null,null,null,null,null,{"$f":"$B$25","v":"令和8年度"},null,null,null,null,null,null,null,null,null,null,null,null,null,null,"GJ換算"]
[null,null,null,null,null,null,null,null,null,null,null,null,null,null,null,null,null,"月別の購買量　※「活動量」の単位（I列）と整合するように記入ください。",null,null,null,null,null,null,null,null,null,null,null,null,null,null,"月別の購買量　※「活動量」の単位（I列）と整合するように記入ください。",null,null,null,null,null,null,null,null,null,null,null,null,null,null,"月別の購買量　※「活動量」の単位（I列）と整合するように記入ください。",null,null,null,null,null,null,null,null,null,null,null,null,null,null,"対象","GJ換算量"]
[null,null,null,null,{"$f":"$B$23","v":"令和6年度"},{"$f":"$B$24","v":"令和7年度"},{"$f":"$B$25","v":"令和8年度"},"単位","係数","単位","係数","単位",{"$f":"$B$23","v":"令和6年度"},{"$f":"$B$24","v":"令和7年度"},{"$f":"$B$25","v":"令和8年度"},null,"把握対象","年度開始\n時点の\n在庫量","４月","５月","６月","７月","８月","９月","１０月","１１月","１２月","１月","２月","３月","年度終了\n時点の\n在庫量","製品中への注入量","年度開始\n時点の\n在庫量","４月","５月","６月","７月","８月","９月","１０月","１１月","１２月","１月","２月","３月","年度終了\n時点の\n在庫量","製品中への注入量","年度開始\n時点の\n在庫量","４月","５月","６月","７月","８月","９月","１０月","１１月","１２月","１月","２月","３月","年度終了\n時点の\n在庫量","製品中への注入量",null,{"$f":"$B$23","v":"令和6年度"},{"$f":"$B$24","v":"令和7年度"},{"$f":"$B$25","v":"令和8年度"}]
[{"$f":"IF($D62=\"\",\"\",VLOOKUP($D62,活動の種別と単位_全体,2,FALSE))","v":""},null,null,null,{"$f":"SUM($S62:$AD62)+($R62-$AE62)-$AF62","v":0},{"$f":"SUM($AH62:$AS62)+($AG62-$AT62)-$AU62","v":0},{"$f":"SUM($AW62:$BH62)+($AV62-$BI62)-$BJ62","v":0},{"$f":"IF($D62=\"\",\"\",VLOOKUP($D62,活動の種別と単位_全体,4,FALSE))","v":""},null,{"$f":"IF($D62=\"\",\"\",VLOOKUP($D62,活動の種別と単位_全体,5,FALSE))","v":""},null,{"$f":"IF($D62=\"\",\"\",VLOOKUP($D62,活動の種別と単位_全体,6,FALSE))","v":""},{"$f":"IF($D62=\"\",\"\",IF($A62=0,$E62*$I62*$K62,$E62*$K62))","v":""},{"$f":"IF($D62=\"\",\"\",IF($A62=0,$F62*$I62*$K62,$F62*$K62))","v":""},{"$f":"IF($D62=\"\",\"\",IF($A62=0,$G62*$I62*$K62,$G62*$K62))","v":""},null,{"$f":"IF($D62=\"\",\"\",VLOOKUP($D62,活動の種別と単位_全体,3,FALSE))","v":""},null,null,null,null,null,null,null,null,null,null,null,null,null,null,null,{"$f":"AE62","v":0},null,null,null,null,null,null,null,null,null,null,null,null,null,null,{"$f":"AT62","v":0},null,null,null,null,null,null,null,null,null,null,null,null,null,null,{"$f":"IF($D62=\"\",\"\",VLOOKUP($D62,活動の種別と単位_全体,7,FALSE))","v":""},{"$f":"IF($D62=\"\",\"\",IF($BK62=\"対象\",IF(OR($D62=\"系統電力\",$D62=\"産業用蒸気\",$D62=\"温水\",$D62=\"冷水\",$D62=\"蒸気（産業用以外）\"),$E62*VLOOKUP($D62,電力等のGJ換算係数_全体,2,FALSE),$E62*$I62),\"---\"))","v":""},{"$f":"IF($D62=\"\",\"\",IF($BK62=\"対象\",IF(OR($D62=\"系統電力\",$D62=\"産業用蒸気\",$D62=\"温水\",$D62=\"冷水\",$D62=\"蒸気（産業用以外）\"),$F62*VLOOKUP($D62,電力等のGJ換算係数_全体,2,FALSE),$F62*$I62),\"---\"))","v":""},{"$f":"IF($D62=\"\",\"\",IF($BK62=\"対象\",IF(OR($D62=\"系統電力\",$D62=\"産業用蒸気\",$D62=\"温水\",$D62=\"冷水\",$D62=\"蒸気（産業用以外）\"),$G62*VLOOKUP($D62,電力等のGJ換算係数_全体,2,FALSE),$G62*$I62),\"---\"))","v":""}]
["",null,null,null,{"$f":"SUM($S63:$AD63)+($R63-$AE63)-$AF63","v":0},{"$f":"SUM($AH63:$AS63)+($AG63-$AT63)-$AU63","v":0},{"$f":"SUM($AW63:$BH63)+($AV63-$BI63)-$BJ63","v":0},"",null,"",null,"",{"$f":"IF($D63=\"\",\"\",IF($A63=0,$E63*$I63*$K63,$E63*$K63))","v":""},{"$f":"IF($D63=\"\",\"\",IF($A63=0,$F63*$I63*$K63,$F63*$K63))","v":""},"",null,"",null,null,null,null,null,null,null,null,null,null,null,null,null,null,null,0,null,null,null,null,null,null,null,null,null,null,null,null,null,null,{"$f":"AT63","v":0},null,null,null,null,null,null,null,null,null,null,null,null,null,null,"","","",""]
["",null,null,null,0,0,0,"",null,"",null,"","","","",null,"",null,null,null,null,null,null,null,null,null,null,null,null,null,null,null,0,null,null,null,null,null,null,null,null,null,null,null,null,null,null,0,null,null,null,null,null,null,null,null,null,null,null,null,null,null,"","","",""]
["",null,null,null,0,0,0,"",null,"",null,"","","","",null,"",null,null,null,null,null,null,null,null,null,null,null,null,null,null,null,0,null,null,null,null,null,null,null,null,null,null,null,null,null,null,0,null,null,null,null,null,null,null,null,null,null,null,null,null,null,"","","",""]
["",null,null,null,0,0,0,"",null,"",null,"","","","",null,"",null,null,null,null,null,null,null,null,null,null,null,null,null,null,null,0,null,null,null,null,null,null,null,null,null,null,null,null,null,null,0,null,null,null,null,null,null,null,null,null,null,null,null,null,null,"","","",""]
["",null,null,null,0,0,0,"",null,"",null,"","","","",null,"",null,null,null,null,null,null,null,null,null,null,null,null,null,null,null,0,null,null,null,null,null,null,null,null,null,null,null,null,null,null,0,null,null,null,null,null,null,null,null,null,null,null,null,null,null,"","","",""]
["",null,null,null,0,0,0,"",null,"",null,"","","","",null,"",null,null,null,null,null,null,null,null,null,null,null,null,null,null,null,0,null,null,null,null,null,null,null,null,null,null,null,null,null,null,0,null,null,null,null,null,null,null,null,null,null,null,null,null,null,"","","",""]
["",null,null,null,0,0,0,"",null,"",null,"","","","",null,"",null,null,null,null,null,null,null,null,null,null,null,null,null,null,null,0,null,null,null,null,null,null,null,null,null,null,null,null,null,null,0,null,null,null,null,null,null,null,null,null,null,null,null,null,null,"","","",""]
["",null,null,null,0,0,0,"",null,"",null,"","","","",null,"",null,null,null,null,null,null,null,null,null,null,null,null,null,null,null,0,null,null,null,null,null,null,null,null,null,null,null,null,null,null,0,null,null,null,null,null,null,null,null,null,null,null,null,null,null,"","","",""]
["",null,null,null,0,0,0,"",null,"",null,"","","","",null,"",null,null,null,null,null,null,null,null,null,null,null,null,null,null,null,0,null,null,null,null,null,null,null,null,null,null,null,null,null,null,0,null,null,null,null,null,null,null,null,null,null,null,null,null,null,"","","",""]
["",null,null,null,0,0,0,"",null,"",null,"","","","",null,"",null,null,null,null,null,null,null,null,null,null,null,null,null,null,null,0,null,null,null,null,null,null,null,null,null,null,null,null,null,null,0,null,null,null,null,null,null,null,null,null,null,null,null,null,null,"","","",""]
["",null,null,null,0,0,0,"",null,"",null,"","","","",null,"",null,null,null,null,null,null,null,null,null,null,null,null,null,null,null,0,null,null,null,null,null,null,null,null,null,null,null,null,null,null,0,null,null,null,null,null,null,null,null,null,null,null,null,null,null,"","","",""]
["",null,null,null,0,0,0,"",null,"",null,"","","","",null,"",null,null,null,null,null,null,null,null,null,null,null,null,null,null,null,0,null,null,null,null,null,null,null,null,null,null,null,null,null,null,0,null,null,null,null,null,null,null,null,null,null,null,null,null,null,"","","",""]
["",null,null,null,0,0,0,"",null,"",null,"","","","",null,"",null,null,null,null,null,null,null,null,null,null,null,null,null,null,null,0,null,null,null,null,null,null,null,null,null,null,null,null,null,null,0,null,null,null,null,null,null,null,null,null,null,null,null,null,null,"","","",""]
["",null,null,null,0,0,0,"",null,"",null,"","","","",null,"",null,null,null,null,null,null,null,null,null,null,null,null,null,null,null,0,null,null,null,null,null,null,null,null,null,null,null,null,null,null,0,null,null,null,null,null,null,null,null,null,null,null,null,null,null,"","","",""]
["",null,null,null,0,0,0,"",null,"",null,"","","","",null,"",null,null,null,null,null,null,null,null,null,null,null,null,null,null,null,0,null,null,null,null,null,null,null,null,null,null,null,null,null,null,0,null,null,null,null,null,null,null,null,null,null,null,null,null,null,"","","",""]
["",null,null,null,0,0,0,"",null,"",null,"","","","",null,"",null,null,null,null,null,null,null,null,null,null,null,null,null,null,null,0,null,null,null,null,null,null,null,null,null,null,null,null,null,null,0,null,null,null,null,null,null,null,null,null,null,null,null,null,null,"","","",""]
["",null,null,null,0,0,0,"",null,"",null,"","","","",null,"",null,null,null,null,null,null,null,null,null,null,null,null,null,null,null,0,null,null,null,null,null,null,null,null,null,null,null,null,null,null,0,null,null,null,null,null,null,null,null,null,null,null,null,null,null,"","","",""]
["",null,null,null,0,0,0,"",null,"",null,"","","","",null,"",null,null,null,null,null,null,null,null,null,null,null,null,null,null,null,0,null,null,null,null,null,null,null,null,null,null,null,null,null,null,0,null,null,null,null,null,null,null,null,null,null,null,null,null,null,"","","",""]
["",null,null,null,0,0,0,"",null,"",null,"","","","",null,"",null,null,null,null,null,null,null,null,null,null,null,null,null,null,null,0,null,null,null,null,null,null,null,null,null,null,null,null,null,null,0,null,null,null,null,null,null,null,null,null,null,null,null,null,null,"","","",""]
["",null,null,null,0,0,0,"",null,"",null,"","","","",null,"",null,null,null,null,null,null,null,null,null,null,null,null,null,null,null,0,null,null,null,null,null,null,null,null,null,null,null,null,null,null,0,null,null,null,null,null,null,null,null,null,null,null,null,null,null,"","","",""]
["",null,null,null,0,0,0,"",null,"",null,"","","","",null,"",null,null,null,null,null,null,null,null,null,null,null,null,null,null,null,0,null,null,null,null,null,null,null,null,null,null,null,null,null,null,0,null,null,null,null,null,null,null,null,null,null,null,null,null,null,"","","",""]
["",null,null,null,0,0,0,"",null,"",null,"","","","",null,"",null,null,null,null,null,null,null,null,null,null,null,null,null,null,null,0,null,null,null,null,null,null,null,null,null,null,null,null,null,null,0,null,null,null,null,null,null,null,null,null,null,null,null,null,null,"","","",""]
["",null,null,null,0,0,0,"",null,"",null,"","","","",null,"",null,null,null,null,null,null,null,null,null,null,null,null,null,null,null,0,null,null,null,null,null,null,null,null,null,null,null,null,null,null,0,null,null,null,null,null,null,null,null,null,null,null,null,null,null,"","","",""]
["",null,null,null,0,0,0,"",null,"",null,"","","","",null,"",null,null,null,null,null,null,null,null,null,null,null,null,null,null,null,0,null,null,null,null,null,null,null,null,null,null,null,null,null,null,0,null,null,null,null,null,null,null,null,null,null,null,null,null,null,"","","",""]
["",null,null,null,0,0,0,"",null,"",null,"","","","",null,"",null,null,null,null,null,null,null,null,null,null,null,null,null,null,null,0,null,null,null,null,null,null,null,null,null,null,null,null,null,null,0,null,null,null,null,null,null,null,null,null,null,null,null,null,null,"","","",""]
["",null,null,null,0,0,0,"",null,"",null,"","","","",null,"",null,null,null,null,null,null,null,null,null,null,null,null,null,null,null,0,null,null,null,null,null,null,null,null,null,null,null,null,null,null,0,null,null,null,null,null,null,null,null,null,null,null,null,null,null,"","","",""]
["",null,null,null,0,0,0,"",null,"",null,"","","","",null,"",null,null,null,null,null,null,null,null,null,null,null,null,null,null,null,0,null,null,null,null,null,null,null,null,null,null,null,null,null,null,0,null,null,null,null,null,null,null,null,null,null,null,null,null,null,"","","",""]
["",null,null,null,0,0,0,"",null,"",null,"","","","",null,"",null,null,null,null,null,null,null,null,null,null,null,null,null,null,null,0,null,null,null,null,null,null,null,null,null,null,null,null,null,null,0,null,null,null,null,null,null,null,null,null,null,null,null,null,null,"","","",""]
["",null,null,null,0,0,0,"",null,"",null,"","","","",null,"",null,null,null,null,null,null,null,null,null,null,null,null,null,null,null,0,null,null,null,null,null,null,null,null,null,null,null,null,null,null,0,null,null,null,null,null,null,null,null,null,null,null,null,null,null,"","","",""]
["",null,null,null,0,0,0,"",null,"",null,"","","","",null,"",null,null,null,null,null,null,null,null,null,null,null,null,null,null,null,0,null,null,null,null,null,null,null,null,null,null,null,null,null,null,0,null,null,null,null,null,null,null,null,null,null,null,null,null,null,"","","",""]
["",null,null,null,0,0,0,"",null,"",null,"","","","",null,"",null,null,null,null,null,null,null,null,null,null,null,null,null,null,null,0,null,null,null,null,null,null,null,null,null,null,null,null,null,null,0,null,null,null,null,null,null,null,null,null,null,null,null,null,null,"","","",""]
["",null,null,null,0,0,0,"",null,"",null,"","","","",null,"",null,null,null,null,null,null,null,null,null,null,null,null,null,null,null,0,null,null,null,null,null,null,null,null,null,null,null,null,null,null,0,null,null,null,null,null,null,null,null,null,null,null,null,null,null,"","","",""]
["",null,null,null,0,0,0,"",null,"",null,"","","","",null,"",null,null,null,null,null,null,null,null,null,null,null,null,null,null,null,0,null,null,null,null,null,null,null,null,null,null,null,null,null,null,0,null,null,null,null,null,null,null,null,null,null,null,null,null,null,"","","",""]
["",null,null,null,0,0,0,"",null,"",null,"","","","",null,"",null,null,null,null,null,null,null,null,null,null,null,null,null,null,null,0,null,null,null,null,null,null,null,null,null,null,null,null,null,null,0,null,null,null,null,null,null,null,null,null,null,null,null,null,null,"","","",""]
["",null,null,null,0,0,0,"",null,"",null,"","","","",null,"",null,null,null,null,null,null,null,null,null,null,null,null,null,null,null,0,null,null,null,null,null,null,null,null,null,null,null,null,null,null,0,null,null,null,null,null,null,null,null,null,null,null,null,null,null,"","","",""]
["",null,null,null,0,0,0,"",null,"",null,"","","","",null,"",null,null,null,null,null,null,null,null,null,null,null,null,null,null,null,0,null,null,null,null,null,null,null,null,null,null,null,null,null,null,0,null,null,null,null,null,null,null,null,null,null,null,null,null,null,"","","",""]
["",null,null,null,0,0,0,"",null,"",null,"","","","",null,"",null,null,null,null,null,null,null,null,null,null,null,null,null,null,null,0,null,null,null,null,null,null,null,null,null,null,null,null,null,null,0,null,null,null,null,null,null,null,null,null,null,null,null,null,null,"","","",""]
["",null,null,null,0,0,0,"",null,"",null,"","","","",null,"",null,null,null,null,null,null,null,null,null,null,null,null,null,null,null,0,null,null,null,null,null,null,null,null,null,null,null,null,null,null,0,null,null,null,null,null,null,null,null,null,null,null,null,null,null,"","","",""]
["",null,null,null,0,0,0,"",null,"",null,"","","","",null,"",null,null,null,null,null,null,null,null,null,null,null,null,null,null,null,0,null,null,null,null,null,null,null,null,null,null,null,null,null,null,0,null,null,null,null,null,null,null,null,null,null,null,null,null,null,"","","",""]
["",null,null,null,0,0,0,"",null,"",null,"","","","",null,"",null,null,null,null,null,null,null,null,null,null,null,null,null,null,null,0,null,null,null,null,null,null,null,null,null,null,null,null,null,null,0,null,null,null,null,null,null,null,null,null,null,null,null,null,null,"","","",""]
["",null,null,null,0,0,0,"",null,"",null,"","","","",null,"",null,null,null,null,null,null,null,null,null,null,null,null,null,null,null,0,null,null,null,null,null,null,null,null,null,null,null,null,null,null,0,null,null,null,null,null,null,null,null,null,null,null,null,null,null,"","","",""]
["",null,null,null,0,0,0,"",null,"",null,"","","","",null,"",null,null,null,null,null,null,null,null,null,null,null,null,null,null,null,0,null,null,null,null,null,null,null,null,null,null,null,null,null,null,0,null,null,null,null,null,null,null,null,null,null,null,null,null,null,"","","",""]
["",null,null,null,0,0,0,"",null,"",null,"","","","",null,"",null,null,null,null,null,null,null,null,null,null,null,null,null,null,null,0,null,null,null,null,null,null,null,null,null,null,null,null,null,null,0,null,null,null,null,null,null,null,null,null,null,null,null,null,null,"","","",""]
["",null,null,null,0,0,0,"",null,"",null,"","","","",null,"",null,null,null,null,null,null,null,null,null,null,null,null,null,null,null,0,null,null,null,null,null,null,null,null,null,null,null,null,null,null,0,null,null,null,null,null,null,null,null,null,null,null,null,null,null,"","","",""]
["",null,null,null,0,0,0,"",null,"",null,"","","","",null,"",null,null,null,null,null,null,null,null,null,null,null,null,null,null,null,0,null,null,null,null,null,null,null,null,null,null,null,null,null,null,0,null,null,null,null,null,null,null,null,null,null,null,null,null,null,"","","",""]
["",null,null,null,0,0,0,"",null,"",null,"","","","",null,"",null,null,null,null,null,null,null,null,null,null,null,null,null,null,null,0,null,null,null,null,null,null,null,null,null,null,null,null,null,null,0,null,null,null,null,null,null,null,null,null,null,null,null,null,null,"","","",""]
["",null,null,null,0,0,0,"",null,"",null,"",{"$f":"IF($D109=\"\",\"\",IF($A109=0,$E109*$I109*$K109,$E109*$K109))","v":""},{"$f":"IF($D109=\"\",\"\",IF($A109=0,$F109*$I109*$K109,$F109*$K109))","v":""},{"$f":"IF($D109=\"\",\"\",IF($A109=0,$G109*$I109*$K109,$G109*$K109))","v":""},null,"",null,null,null,null,null,null,null,null,null,null,null,null,null,null,null,0,null,null,null,null,null,null,null,null,null,null,null,null,null,null,0,null,null,null,null,null,null,null,null,null,null,null,null,null,null,"","","",""]

{"sheet":"集計用1_まとめ","index":13,"n_rows":19,"n_cols":68,"rows_kept":19,"cut":false,"hidden":true,"merged":[[3,40,3,67],[6,41,6,43],[5,41,5,49],[7,55,7,56],[7,57,7,58],[7,59,7,60],[5,50,5,60],[4,40,4,60],[4,61,4,67],[5,61,5,67],[6,62,6,67],[7,62,7,63],[7,64,7,65],[6,52,6,54],[6,55,6,60],[7,66,7,67],[6,44,6,49],[7,44,7,45],[7,46,7,47],[7,48,7,49],[7,36,7,37],[7,38,7,39],[6,34,6,39],[7,34,7,35],[5,33,5,39],[4,33,4,39],[3,1,3,5],[6,7,6,9],[6,10,6,18],[3,6,3,39],[5,19,5,32],[4,6,4,32],[6,21,6,23],[6,24,6,32],[5,7,5,18],[7,24,7,26],[7,27,7,29],[7,30,7,32],[7,10,7,12],[7,13,7,15],[7,16,7,18]]}
[]
[null,{"$f":"MID(CELL(\"filename\",事業報告書まとめ_計画策定支援!A1),FIND(\"]\",CELL(\"filename\",事業報告書まとめ_計画策定支援!A1))+1,LEN(CELL(\"filename\",事業報告書まとめ_計画策定支援!A1)))&\"!\"","v":"事業報告書まとめ_計画策定支援!"}]
[null,null,null,null,null,null,null,"L","M","N","O","P","Q","R","S","T","U","V","W","B","C","L","M","N","O","P","Q","R","S","T","U","V","W","L","O","P","R","S","U","V",null,"AA","AB","AC","AD","AE","AF","AG","AH","AI",null,null,"AA","AB","AC","AD","AE","AF","AG","AH","AI","AA","AD","AE","AF","AG","AH","AI"]
[null,"【補助事業者情報】",null,null,null,null,"【CO2排出量等】",null,null,null,null,null,null,null,null,null,null,null,null,null,null,null,null,null,null,null,null,null,null,null,null,null,null,null,null,null,null,null,null,null,"【エネルギー使用量等】"]
[null,null,null,null,null,null,"１．設備・機器",null,null,null,null,null,null,null,null,null,null,null,null,null,null,null,null,null,null,null,null,null,null,null,null,null,null,"２．工場・事業場全体",null,null,null,null,null,null,"１．設備・機器",null,null,null,null,null,null,null,null,null,null,null,null,null,null,null,null,null,null,null,null,"２．工場・事業場全体"]
[null,null,null,null,null,null,null,"CO2排出量、CO2削減量等：合計(t-CO2/年)",null,null,null,null,null,null,null,null,null,null,null,"CO2排出量、CO2削減量等：個票別(t-CO2/年)",null,null,null,null,null,null,null,null,null,null,null,null,null,"CO2排出量、CO2削減量（t-CO2/年）",null,null,null,null,null,null,null,"エネルギー使用量、エネルギー削減量等：合計(GJ換算/年)",null,null,null,null,null,null,null,null,"エネルギー使用量、エネルギー削減量等：個票別(GJ換算/年)",null,null,null,null,null,null,null,null,null,null,"エネルギー使用量、エネルギー削減量（GJ換算/年）"]
[null,null,null,null,null,null,null,"計画",null,null,"実績",null,null,null,null,null,null,null,null,null,null,"計画",null,null,"実績",null,null,null,null,null,null,null,null,null,"実績",null,null,null,null,null,null,"計画",null,null,"実績",null,null,null,null,null,null,null,"計画",null,null,"実績",null,null,null,null,null,null,"実績"]
[null,null,null,null,null,null,null,"対策実施前","計画","目標",{"$f":"IF(INDIRECT($B$2&K$3&\"16\")=\"\",\"★\",INDIRECT($B$2&K$3&\"16\"))","v":"令和6年度"},null,null,{"$f":"IF(INDIRECT($B$2&N$3&\"16\")=\"\",\"★\",INDIRECT($B$2&N$3&\"16\"))","v":"令和7年度"},null,null,{"$f":"IF(INDIRECT($B$2&Q$3&\"16\")=\"\",\"★\",INDIRECT($B$2&Q$3&\"16\"))","v":"令和8年度"},null,null,null,null,"対策実施前","計画","目標",{"$f":"IF(INDIRECT($B$2&Y$3&\"16\")=\"\",\"★\",INDIRECT($B$2&Y$3&\"16\"))","v":"令和6年度"},null,null,{"$f":"IF(INDIRECT($B$2&AB$3&\"16\")=\"\",\"★\",INDIRECT($B$2&AB$3&\"16\"))","v":"令和7年度"},null,null,{"$f":"IF(INDIRECT($B$2&AE$3&\"16\")=\"\",\"★\",INDIRECT($B$2&AE$3&\"16\"))","v":"令和8年度"},null,null,"基準年度",{"$f":"IF(INDIRECT($B$2&AI$3&\"16\")=\"\",\"★\",INDIRECT($B$2&AI$3&\"16\"))","v":"令和6年度"},null,{"$f":"IF(INDIRECT($B$2&AK$3&\"16\")=\"\",\"★\",INDIRECT($B$2&AK$3&\"16\"))","v":"令和7年度"},null,{"$f":"IF(INDIRECT($B$2&AM$3&\"16\")=\"\",\"★\",INDIRECT($B$2&AM$3&\"16\"))","v":"令和8年度"},null,null,"対策実施前","計画",null,{"$f":"IF(INDIRECT($B$2&AS$3&\"16\")=\"\",\"★\",INDIRECT($B$2&AS$3&\"16\"))","v":"令和6年度"},null,{"$f":"IF(INDIRECT($B$2&AU$3&\"16\")=\"\",\"★\",INDIRECT($B$2&AU$3&\"16\"))","v":"令和7年度"},null,{"$f":"IF(INDIRECT($B$2&AW$3&\"16\")=\"\",\"★\",INDIRECT($B$2&AW$3&\"16\"))","v":"令和8年度"},null,null,null,"対策実施前","計画",null,{"$f":"IF(INDIRECT($B$2&BD$3&\"16\")=\"\",\"★\",INDIRECT($B$2&BD$3&\"16\"))","v":"令和6年度"},null,{"$f":"IF(INDIRECT($B$2&BF$3&\"16\")=\"\",\"★\",INDIRECT($B$2&BF$3&\"16\"))","v":"令和7年度"},null,{"$f":"IF(INDIRECT($B$2&BH$3&\"16\")=\"\",\"★\",INDIRECT($B$2&BH$3&\"16\"))","v":"令和8年度"},null,"基準年度",{"$f":"IF(INDIRECT($B$2&BK$3&\"16\")=\"\",\"★\",INDIRECT($B$2&BK$3&\"16\"))","v":"令和6年度"},null,{"$f":"IF(INDIRECT($B$2&BM$3&\"16\")=\"\",\"★\",INDIRECT($B$2&BM$3&\"16\"))","v":"令和7年度"},null,{"$f":"IF(INDIRECT($B$2&BO$3&\"16\")=\"\",\"★\",INDIRECT($B$2&BO$3&\"16\"))","v":"令和8年度"}]
[null,"整理番号","事業者名（法人名）","工場・事業場名","工場・事業場の業種","部門","対象設備名","排出量","排出量","削減量","排出量","削減量","削減未達量","排出量","削減量","削減未達量","排出量","削減量","削減未達量","個票","対策名称","排出量","排出量","削減量","排出量","削減量","削減未達量","排出量","削減量","削減未達量","排出量","削減量","削減未達量","排出量","排出量","削減量","排出量","削減量","排出量","削減量","対象設備名","使用量","使用量","削減量","使用量","削減量","使用量","削減量","使用量","削減量","個票","対策名称","使用量","使用量","削減量","使用量","削減量","使用量","削減量","使用量","削減量","使用量","使用量","削減量","使用量","削減量","使用量","削減量"]
[21,{"$f":"IF(INDIRECT($B$2&\"H6\")=\"\",\"★\",INDIRECT($B$2&\"H6\"))","v":"xxxxxxx"},{"$f":"IF(INDIRECT($B$2&\"H7\")=\"\",\"★\",INDIRECT($B$2&\"H7\"))","v":"○○株式会社"},{"$f":"IF(INDIRECT($B$2&\"H8\")=\"\",\"★\",INDIRECT($B$2&\"H8\"))","v":"○○工場"},{"$f":"IF(INDIRECT($B$2&\"H9\")=\"\",\"★\",INDIRECT($B$2&\"H9\"))","v":"253 一般産業用機械・装置製造業"},{"$f":"IF(INDIRECT($B$2&\"W9\")=\"\",\"★\",INDIRECT($B$2&\"W9\"))","v":"産業"},null,{"$f":"IF(INDIRECT($B$2&H$3&\"18\")=\"\",\"★\",INDIRECT($B$2&H$3&\"18\"))","v":395.65881999999999},{"$f":"IF(INDIRECT($B$2&I$3&\"18\")=\"\",\"★\",INDIRECT($B$2&I$3&\"18\"))","v":286.03844762},{"$f":"IF(INDIRECT($B$2&J$3&\"18\")=\"\",\"★\",INDIRECT($B$2&J$3&\"18\"))","v":109.62037237999998},{"$f":"IF(INDIRECT($B$2&K$3&\"18\")=\"\",\"★\",INDIRECT($B$2&K$3&\"18\"))","v":286.55716000000007},{"$f":"IF(INDIRECT($B$2&L$3&\"18\")=\"\",\"★\",INDIRECT($B$2&L$3&\"18\"))","v":109.10165999999995},{"$f":"IF(INDIRECT($B$2&M$3&\"18\")=\"\",\"★\",INDIRECT($B$2&M$3&\"18\"))","v":0.51871238000002506},{"$f":"IF(INDIRECT($B$2&N$3&\"18\")=\"\",\"★\",INDIRECT($B$2&N$3&\"18\"))","v":0},{"$f":"IF(INDIRECT($B$2&O$3&\"18\")=\"\",\"★\",INDIRECT($B$2&O$3&\"18\"))","v":0},{"$f":"IF(INDIRECT($B$2&P$3&\"18\")=\"\",\"★\",INDIRECT($B$2&P$3&\"18\"))","v":0},{"$f":"IF(INDIRECT($B$2&Q$3&\"18\")=\"\",\"★\",INDIRECT($B$2&Q$3&\"18\"))","v":0},{"$f":"IF(INDIRECT($B$2&R$3&\"18\")=\"\",\"★\",INDIRECT($B$2&R$3&\"18\"))","v":0},{"$f":"IF(INDIRECT($B$2&S$3&\"18\")=\"\",\"★\",INDIRECT($B$2&S$3&\"18\"))","v":0},{"$f":"IF(INDIRECT($B$2&T$3&$A10)=\"\",\"★\",INDIRECT($B$2&T$3&$A10))","v":1},{"$f":"IF(INDIRECT($B$2&U$3&$A10)=\"\",\"★\",INDIRECT($B$2&U$3&$A10))","v":"A重油蒸気ボイラから都市ガス蒸気ボイラへの燃料転換"},{"$f":"IF(INDIRECT($B$2&V$3&$A10)=\"\",\"★\",INDIRECT($B$2&V$3&$A10))","v":360.78971999999999},{"$f":"IF(INDIRECT($B$2&W$3&$A10)=\"\",\"★\",INDIRECT($B$2&W$3&$A10))","v":255.08244762000001},{"$f":"IF(INDIRECT($B$2&X$3&$A10)=\"\",\"★\",INDIRECT($B$2&X$3&$A10))","v":105.70727237999998},{"$f":"IF(INDIRECT($B$2&Y$3&$A10)=\"\",\"★\",INDIRECT($B$2&Y$3&$A10))","v":251.68806000000004},{"$f":"IF(INDIRECT($B$2&Z$3&$A10)=\"\",\"★\",INDIRECT($B$2&Z$3&$A10))","v":109.10165999999995},{"$f":"IF(INDIRECT($B$2&AA$3&$A10)=\"\",\"★\",INDIRECT($B$2&AA$3&$A10))","v":-3.394387619999975},{"$f":"IF(INDIRECT($B$2&AB$3&$A10)=\"\",\"★\",INDIRECT($B$2&AB$3&$A10))","v":"★"},{"$f":"IF(INDIRECT($B$2&AC$3&$A10)=\"\",\"★\",INDIRECT($B$2&AC$3&$A10))","v":"---"},{"$f":"IF(INDIRECT($B$2&AD$3&$A10)=\"\",\"★\",INDIRECT($B$2&AD$3&$A10))","v":"---"},{"$f":"IF(INDIRECT($B$2&AE$3&$A10)=\"\",\"★\",INDIRECT($B$2&AE$3&$A10))","v":"★"},{"$f":"IF(INDIRECT($B$2&AF$3&$A10)=\"\",\"★\",INDIRECT($B$2&AF$3&$A10))","v":"---"},{"$f":"IF(INDIRECT($B$2&AG$3&$A10)=\"\",\"★\",INDIRECT($B$2&AG$3&$A10))","v":"---"},{"$f":"IF(INDIRECT($B$2&AH$3&\"37\")=\"\",\"★\",INDIRECT($B$2&AH$3&\"37\"))","v":500.26612},{"$f":"IF(INDIRECT($B$2&AI$3&\"37\")=\"\",\"★\",INDIRECT($B$2&AI$3&\"37\"))","v":391.16444256000011},{"$f":"IF(INDIRECT($B$2&AJ$3&\"37\")=\"\",\"★\",INDIRECT($B$2&AJ$3&\"37\"))","v":109.10167743999989},{"$f":"IF(INDIRECT($B$2&AK$3&\"37\")=\"\",\"★\",INDIRECT($B$2&AK$3&\"37\"))","v":0},{"$f":"IF(INDIRECT($B$2&AL$3&\"37\")=\"\",\"★\",INDIRECT($B$2&AL$3&\"37\"))","v":500.26612},{"$f":"IF(INDIRECT($B$2&AM$3&\"37\")=\"\",\"★\",INDIRECT($B$2&AM$3&\"37\"))","v":0},{"$f":"IF(INDIRECT($B$2&AN$3&\"37\")=\"\",\"★\",INDIRECT($B$2&AN$3&\"37\"))","v":500.26612},null,{"$f":"IF(INDIRECT($B$2&AP$3&\"18\")=\"\",\"★\",INDIRECT($B$2&AP$3&\"18\"))","v":5876.4559999999992},{"$f":"IF(INDIRECT($B$2&AQ$3&\"18\")=\"\",\"★\",INDIRECT($B$2&AQ$3&\"18\"))","v":5665.3274000000001},{"$f":"IF(INDIRECT($B$2&AR$3&\"18\")=\"\",\"★\",INDIRECT($B$2&AR$3&\"18\"))","v":211.12859999999955},{"$f":"IF(INDIRECT($B$2&AS$3&\"18\")=\"\",\"★\",INDIRECT($B$2&AS$3&\"18\"))","v":5686.7560000000003},{"$f":"IF(INDIRECT($B$2&AT$3&\"18\")=\"\",\"★\",INDIRECT($B$2&AT$3&\"18\"))","v":189.69999999999891},{"$f":"IF(INDIRECT($B$2&AU$3&\"18\")=\"\",\"★\",INDIRECT($B$2&AU$3&\"18\"))","v":0},{"$f":"IF(INDIRECT($B$2&AV$3&\"18\")=\"\",\"★\",INDIRECT($B$2&AV$3&\"18\"))","v":0},{"$f":"IF(INDIRECT($B$2&AW$3&\"18\")=\"\",\"★\",INDIRECT($B$2&AW$3&\"18\"))","v":0},{"$f":"IF(INDIRECT($B$2&AX$3&\"18\")=\"\",\"★\",INDIRECT($B$2&AX$3&\"18\"))","v":0},{"$f":"IF(T10=\"★\",\"★\",T10)","v":1},{"$f":"IF(U10=\"★\",\"★\",U10)","v":"A重油蒸気ボイラから都市ガス蒸気ボイラへの燃料転換"},{"$f":"IF(INDIRECT($B$2&BA$3&$A10)=\"\",\"★\",INDIRECT($B$2&BA$3&$A10))","v":5095.8999999999996},{"$f":"IF(INDIRECT($B$2&BB$3&$A10)=\"\",\"★\",INDIRECT($B$2&BB$3&$A10))","v":4972.3674000000001},{"$f":"IF(INDIRECT($B$2&BC$3&$A10)=\"\",\"★\",INDIRECT($B$2&BC$3&$A10))","v":123.53259999999955},{"$f":"IF(INDIRECT($B$2&BD$3&$A10)=\"\",\"★\",INDIRECT($B$2&BD$3&$A10))","v":4906.2000000000007},{"$f":"IF(INDIRECT($B$2&BE$3&$A10)=\"\",\"★\",INDIRECT($B$2&BE$3&$A10))","v":189.69999999999891},{"$f":"IF(INDIRECT($B$2&BF$3&$A10)=\"\",\"★\",INDIRECT($B$2&BF$3&$A10))","v":"★"},{"$f":"IF(INDIRECT($B$2&BG$3&$A10)=\"\",\"★\",INDIRECT($B$2&BG$3&$A10))","v":"---"},{"$f":"IF(INDIRECT($B$2&BH$3&$A10)=\"\",\"★\",INDIRECT($B$2&BH$3&$A10))","v":"★"},{"$f":"IF(INDIRECT($B$2&BI$3&$A10)=\"\",\"★\",INDIRECT($B$2&BI$3&$A10))","v":"---"},{"$f":"IF(INDIRECT($B$2&BJ$3&\"37\")=\"\",\"★\",INDIRECT($B$2&BJ$3&\"37\"))","v":8218.1239999999998},{"$f":"IF(INDIRECT($B$2&BK$3&\"37\")=\"\",\"★\",INDIRECT($B$2&BK$3&\"37\"))","v":8028.4236096000022},{"$f":"IF(INDIRECT($B$2&BL$3&\"37\")=\"\",\"★\",INDIRECT($B$2&BL$3&\"37\"))","v":189.70039039999756},{"$f":"IF(INDIRECT($B$2&BM$3&\"37\")=\"\",\"★\",INDIRECT($B$2&BM$3&\"37\"))","v":0},{"$f":"IF(INDIRECT($B$2&BN$3&\"37\")=\"\",\"★\",INDIRECT($B$2&BN$3&\"37\"))","v":8218.1239999999998},{"$f":"IF(INDIRECT($B$2&BO$3&\"37\")=\"\",\"★\",INDIRECT($B$2&BO$3&\"37\"))","v":0},{"$f":"IF(INDIRECT($B$2&BP$3&\"37\")=\"\",\"★\",INDIRECT($B$2&BP$3&\"37\"))","v":8218.1239999999998}]
[22,null,null,null,null,null,null,null,null,null,null,null,null,null,null,null,null,null,null,{"$f":"IF(INDIRECT($B$2&T$3&$A11)=\"\",\"★\",INDIRECT($B$2&T$3&$A11))","v":2},{"$f":"IF(INDIRECT($B$2&U$3&$A11)=\"\",\"★\",INDIRECT($B$2&U$3&$A11))","v":"ボイラ室照明の不要時間帯の消灯"},{"$f":"IF(INDIRECT($B$2&V$3&$A11)=\"\",\"★\",INDIRECT($B$2&V$3&$A11))","v":34.869100000000003},{"$f":"IF(INDIRECT($B$2&W$3&$A11)=\"\",\"★\",INDIRECT($B$2&W$3&$A11))","v":30.956000000000003},{"$f":"IF(INDIRECT($B$2&X$3&$A11)=\"\",\"★\",INDIRECT($B$2&X$3&$A11))","v":3.9131},{"$f":"IF(INDIRECT($B$2&Y$3&$A11)=\"\",\"★\",INDIRECT($B$2&Y$3&$A11))","v":34.869100000000003},{"$f":"IF(INDIRECT($B$2&Z$3&$A11)=\"\",\"★\",INDIRECT($B$2&Z$3&$A11))","v":0},{"$f":"IF(INDIRECT($B$2&AA$3&$A11)=\"\",\"★\",INDIRECT($B$2&AA$3&$A11))","v":3.9131},{"$f":"IF(INDIRECT($B$2&AB$3&$A11)=\"\",\"★\",INDIRECT($B$2&AB$3&$A11))","v":"★"},{"$f":"IF(INDIRECT($B$2&AC$3&$A11)=\"\",\"★\",INDIRECT($B$2&AC$3&$A11))","v":"---"},{"$f":"IF(INDIRECT($B$2&AD$3&$A11)=\"\",\"★\",INDIRECT($B$2&AD$3&$A11))","v":"---"},{"$f":"IF(INDIRECT($B$2&AE$3&$A11)=\"\",\"★\",INDIRECT($B$2&AE$3&$A11))","v":"★"},{"$f":"IF(INDIRECT($B$2&AF$3&$A11)=\"\",\"★\",INDIRECT($B$2&AF$3&$A11))","v":"---"},{"$f":"IF(INDIRECT($B$2&AG$3&$A11)=\"\",\"★\",INDIRECT($B$2&AG$3&$A11))","v":"---"},null,null,null,null,null,null,null,null,null,null,null,null,null,null,null,null,null,{"$f":"IF(T11=\"★\",\"★\",T11)","v":2},{"$f":"IF(U11=\"★\",\"★\",U11)","v":"ボイラ室照明の不要時間帯の消灯"},{"$f":"IF(INDIRECT($B$2&BA$3&$A11)=\"\",\"★\",INDIRECT($B$2&BA$3&$A11))","v":780.55599999999993},{"$f":"IF(INDIRECT($B$2&BB$3&$A11)=\"\",\"★\",INDIRECT($B$2&BB$3&$A11))","v":692.95999999999992},{"$f":"IF(INDIRECT($B$2&BC$3&$A11)=\"\",\"★\",INDIRECT($B$2&BC$3&$A11))","v":87.596000000000004},{"$f":"IF(INDIRECT($B$2&BD$3&$A11)=\"\",\"★\",INDIRECT($B$2&BD$3&$A11))","v":780.55599999999993},{"$f":"IF(INDIRECT($B$2&BE$3&$A11)=\"\",\"★\",INDIRECT($B$2&BE$3&$A11))","v":0},{"$f":"IF(INDIRECT($B$2&BF$3&$A11)=\"\",\"★\",INDIRECT($B$2&BF$3&$A11))","v":"★"},{"$f":"IF(INDIRECT($B$2&BG$3&$A11)=\"\",\"★\",INDIRECT($B$2&BG$3&$A11))","v":"---"},{"$f":"IF(INDIRECT($B$2&BH$3&$A11)=\"\",\"★\",INDIRECT($B$2&BH$3&$A11))","v":"★"},{"$f":"IF(INDIRECT($B$2&BI$3&$A11)=\"\",\"★\",INDIRECT($B$2&BI$3&$A11))","v":"---"}]
[23,null,null,null,null,null,null,null,null,null,null,null,null,null,null,null,null,null,null,{"$f":"IF(INDIRECT($B$2&T$3&$A12)=\"\",\"★\",INDIRECT($B$2&T$3&$A12))","v":"★"},{"$f":"IF(INDIRECT($B$2&U$3&$A12)=\"\",\"★\",INDIRECT($B$2&U$3&$A12))","v":"★"},{"$f":"IF(INDIRECT($B$2&V$3&$A12)=\"\",\"★\",INDIRECT($B$2&V$3&$A12))","v":"★"},{"$f":"IF(INDIRECT($B$2&W$3&$A12)=\"\",\"★\",INDIRECT($B$2&W$3&$A12))","v":"★"},{"$f":"IF(INDIRECT($B$2&X$3&$A12)=\"\",\"★\",INDIRECT($B$2&X$3&$A12))","v":"★"},{"$f":"IF(INDIRECT($B$2&Y$3&$A12)=\"\",\"★\",INDIRECT($B$2&Y$3&$A12))","v":"★"},{"$f":"IF(INDIRECT($B$2&Z$3&$A12)=\"\",\"★\",INDIRECT($B$2&Z$3&$A12))","v":"★"},{"$f":"IF(INDIRECT($B$2&AA$3&$A12)=\"\",\"★\",INDIRECT($B$2&AA$3&$A12))","v":"★"},{"$f":"IF(INDIRECT($B$2&AB$3&$A12)=\"\",\"★\",INDIRECT($B$2&AB$3&$A12))","v":"★"},{"$f":"IF(INDIRECT($B$2&AC$3&$A12)=\"\",\"★\",INDIRECT($B$2&AC$3&$A12))","v":"★"},{"$f":"IF(INDIRECT($B$2&AD$3&$A12)=\"\",\"★\",INDIRECT($B$2&AD$3&$A12))","v":"★"},{"$f":"IF(INDIRECT($B$2&AE$3&$A12)=\"\",\"★\",INDIRECT($B$2&AE$3&$A12))","v":"★"},{"$f":"IF(INDIRECT($B$2&AF$3&$A12)=\"\",\"★\",INDIRECT($B$2&AF$3&$A12))","v":"★"},{"$f":"IF(INDIRECT($B$2&AG$3&$A12)=\"\",\"★\",INDIRECT($B$2&AG$3&$A12))","v":"★"},null,null,null,null,null,null,null,null,null,null,null,null,null,null,null,null,null,"★","★",{"$f":"IF(INDIRECT($B$2&BA$3&$A12)=\"\",\"★\",INDIRECT($B$2&BA$3&$A12))","v":"★"},{"$f":"IF(INDIRECT($B$2&BB$3&$A12)=\"\",\"★\",INDIRECT($B$2&BB$3&$A12))","v":"★"},{"$f":"IF(INDIRECT($B$2&BC$3&$A12)=\"\",\"★\",INDIRECT($B$2&BC$3&$A12))","v":"★"},{"$f":"IF(INDIRECT($B$2&BD$3&$A12)=\"\",\"★\",INDIRECT($B$2&BD$3&$A12))","v":"★"},{"$f":"IF(INDIRECT($B$2&BE$3&$A12)=\"\",\"★\",INDIRECT($B$2&BE$3&$A12))","v":"★"},{"$f":"IF(INDIRECT($B$2&BF$3&$A12)=\"\",\"★\",INDIRECT($B$2&BF$3&$A12))","v":"★"},{"$f":"IF(INDIRECT($B$2&BG$3&$A12)=\"\",\"★\",INDIRECT($B$2&BG$3&$A12))","v":"★"},{"$f":"IF(INDIRECT($B$2&BH$3&$A12)=\"\",\"★\",INDIRECT($B$2&BH$3&$A12))","v":"★"},{"$f":"IF(INDIRECT($B$2&BI$3&$A12)=\"\",\"★\",INDIRECT($B$2&BI$3&$A12))","v":"★"}]
[24,null,null,null,null,null,null,null,null,null,null,null,null,null,null,null,null,null,null,{"$f":"IF(INDIRECT($B$2&T$3&$A13)=\"\",\"★\",INDIRECT($B$2&T$3&$A13))","v":"★"},{"$f":"IF(INDIRECT($B$2&U$3&$A13)=\"\",\"★\",INDIRECT($B$2&U$3&$A13))","v":"★"},{"$f":"IF(INDIRECT($B$2&V$3&$A13)=\"\",\"★\",INDIRECT($B$2&V$3&$A13))","v":"★"},{"$f":"IF(INDIRECT($B$2&W$3&$A13)=\"\",\"★\",INDIRECT($B$2&W$3&$A13))","v":"★"},{"$f":"IF(INDIRECT($B$2&X$3&$A13)=\"\",\"★\",INDIRECT($B$2&X$3&$A13))","v":"★"},{"$f":"IF(INDIRECT($B$2&Y$3&$A13)=\"\",\"★\",INDIRECT($B$2&Y$3&$A13))","v":"★"},{"$f":"IF(INDIRECT($B$2&Z$3&$A13)=\"\",\"★\",INDIRECT($B$2&Z$3&$A13))","v":"★"},{"$f":"IF(INDIRECT($B$2&AA$3&$A13)=\"\",\"★\",INDIRECT($B$2&AA$3&$A13))","v":"★"},{"$f":"IF(INDIRECT($B$2&AB$3&$A13)=\"\",\"★\",INDIRECT($B$2&AB$3&$A13))","v":"★"},{"$f":"IF(INDIRECT($B$2&AC$3&$A13)=\"\",\"★\",INDIRECT($B$2&AC$3&$A13))","v":"★"},{"$f":"IF(INDIRECT($B$2&AD$3&$A13)=\"\",\"★\",INDIRECT($B$2&AD$3&$A13))","v":"★"},{"$f":"IF(INDIRECT($B$2&AE$3&$A13)=\"\",\"★\",INDIRECT($B$2&AE$3&$A13))","v":"★"},{"$f":"IF(INDIRECT($B$2&AF$3&$A13)=\"\",\"★\",INDIRECT($B$2&AF$3&$A13))","v":"★"},{"$f":"IF(INDIRECT($B$2&AG$3&$A13)=\"\",\"★\",INDIRECT($B$2&AG$3&$A13))","v":"★"},null,null,null,null,null,null,null,null,null,null,null,null,null,null,null,null,null,"★","★",{"$f":"IF(INDIRECT($B$2&BA$3&$A13)=\"\",\"★\",INDIRECT($B$2&BA$3&$A13))","v":"★"},{"$f":"IF(INDIRECT($B$2&BB$3&$A13)=\"\",\"★\",INDIRECT($B$2&BB$3&$A13))","v":"★"},{"$f":"IF(INDIRECT($B$2&BC$3&$A13)=\"\",\"★\",INDIRECT($B$2&BC$3&$A13))","v":"★"},{"$f":"IF(INDIRECT($B$2&BD$3&$A13)=\"\",\"★\",INDIRECT($B$2&BD$3&$A13))","v":"★"},{"$f":"IF(INDIRECT($B$2&BE$3&$A13)=\"\",\"★\",INDIRECT($B$2&BE$3&$A13))","v":"★"},{"$f":"IF(INDIRECT($B$2&BF$3&$A13)=\"\",\"★\",INDIRECT($B$2&BF$3&$A13))","v":"★"},{"$f":"IF(INDIRECT($B$2&BG$3&$A13)=\"\",\"★\",INDIRECT($B$2&BG$3&$A13))","v":"★"},{"$f":"IF(INDIRECT($B$2&BH$3&$A13)=\"\",\"★\",INDIRECT($B$2&BH$3&$A13))","v":"★"},{"$f":"IF(INDIRECT($B$2&BI$3&$A13)=\"\",\"★\",INDIRECT($B$2&BI$3&$A13))","v":"★"}]
[25,null,null,null,null,null,null,null,null,null,null,null,null,null,null,null,null,null,null,{"$f":"IF(INDIRECT($B$2&T$3&$A14)=\"\",\"★\",INDIRECT($B$2&T$3&$A14))","v":"★"},{"$f":"IF(INDIRECT($B$2&U$3&$A14)=\"\",\"★\",INDIRECT($B$2&U$3&$A14))","v":"★"},{"$f":"IF(INDIRECT($B$2&V$3&$A14)=\"\",\"★\",INDIRECT($B$2&V$3&$A14))","v":"★"},{"$f":"IF(INDIRECT($B$2&W$3&$A14)=\"\",\"★\",INDIRECT($B$2&W$3&$A14))","v":"★"},{"$f":"IF(INDIRECT($B$2&X$3&$A14)=\"\",\"★\",INDIRECT($B$2&X$3&$A14))","v":"★"},{"$f":"IF(INDIRECT($B$2&Y$3&$A14)=\"\",\"★\",INDIRECT($B$2&Y$3&$A14))","v":"★"},{"$f":"IF(INDIRECT($B$2&Z$3&$A14)=\"\",\"★\",INDIRECT($B$2&Z$3&$A14))","v":"★"},{"$f":"IF(INDIRECT($B$2&AA$3&$A14)=\"\",\"★\",INDIRECT($B$2&AA$3&$A14))","v":"★"},{"$f":"IF(INDIRECT($B$2&AB$3&$A14)=\"\",\"★\",INDIRECT($B$2&AB$3&$A14))","v":"★"},{"$f":"IF(INDIRECT($B$2&AC$3&$A14)=\"\",\"★\",INDIRECT($B$2&AC$3&$A14))","v":"★"},{"$f":"IF(INDIRECT($B$2&AD$3&$A14)=\"\",\"★\",INDIRECT($B$2&AD$3&$A14))","v":"★"},{"$f":"IF(INDIRECT($B$2&AE$3&$A14)=\"\",\"★\",INDIRECT($B$2&AE$3&$A14))","v":"★"},{"$f":"IF(INDIRECT($B$2&AF$3&$A14)=\"\",\"★\",INDIRECT($B$2&AF$3&$A14))","v":"★"},{"$f":"IF(INDIRECT($B$2&AG$3&$A14)=\"\",\"★\",INDIRECT($B$2&AG$3&$A14))","v":"★"},null,null,null,null,null,null,null,null,null,null,null,null,null,null,null,null,null,"★","★",{"$f":"IF(INDIRECT($B$2&BA$3&$A14)=\"\",\"★\",INDIRECT($B$2&BA$3&$A14))","v":"★"},{"$f":"IF(INDIRECT($B$2&BB$3&$A14)=\"\",\"★\",INDIRECT($B$2&BB$3&$A14))","v":"★"},{"$f":"IF(INDIRECT($B$2&BC$3&$A14)=\"\",\"★\",INDIRECT($B$2&BC$3&$A14))","v":"★"},{"$f":"IF(INDIRECT($B$2&BD$3&$A14)=\"\",\"★\",INDIRECT($B$2&BD$3&$A14))","v":"★"},{"$f":"IF(INDIRECT($B$2&BE$3&$A14)=\"\",\"★\",INDIRECT($B$2&BE$3&$A14))","v":"★"},{"$f":"IF(INDIRECT($B$2&BF$3&$A14)=\"\",\"★\",INDIRECT($B$2&BF$3&$A14))","v":"★"},{"$f":"IF(INDIRECT($B$2&BG$3&$A14)=\"\",\"★\",INDIRECT($B$2&BG$3&$A14))","v":"★"},{"$f":"IF(INDIRECT($B$2&BH$3&$A14)=\"\",\"★\",INDIRECT($B$2&BH$3&$A14))","v":"★"},{"$f":"IF(INDIRECT($B$2&BI$3&$A14)=\"\",\"★\",INDIRECT($B$2&BI$3&$A14))","v":"★"}]
[26,null,null,null,null,null,null,null,null,null,null,null,null,null,null,null,null,null,null,{"$f":"IF(INDIRECT($B$2&T$3&$A15)=\"\",\"★\",INDIRECT($B$2&T$3&$A15))","v":"★"},{"$f":"IF(INDIRECT($B$2&U$3&$A15)=\"\",\"★\",INDIRECT($B$2&U$3&$A15))","v":"★"},{"$f":"IF(INDIRECT($B$2&V$3&$A15)=\"\",\"★\",INDIRECT($B$2&V$3&$A15))","v":"★"},{"$f":"IF(INDIRECT($B$2&W$3&$A15)=\"\",\"★\",INDIRECT($B$2&W$3&$A15))","v":"★"},{"$f":"IF(INDIRECT($B$2&X$3&$A15)=\"\",\"★\",INDIRECT($B$2&X$3&$A15))","v":"★"},{"$f":"IF(INDIRECT($B$2&Y$3&$A15)=\"\",\"★\",INDIRECT($B$2&Y$3&$A15))","v":"★"},{"$f":"IF(INDIRECT($B$2&Z$3&$A15)=\"\",\"★\",INDIRECT($B$2&Z$3&$A15))","v":"★"},{"$f":"IF(INDIRECT($B$2&AA$3&$A15)=\"\",\"★\",INDIRECT($B$2&AA$3&$A15))","v":"★"},{"$f":"IF(INDIRECT($B$2&AB$3&$A15)=\"\",\"★\",INDIRECT($B$2&AB$3&$A15))","v":"★"},{"$f":"IF(INDIRECT($B$2&AC$3&$A15)=\"\",\"★\",INDIRECT($B$2&AC$3&$A15))","v":"★"},{"$f":"IF(INDIRECT($B$2&AD$3&$A15)=\"\",\"★\",INDIRECT($B$2&AD$3&$A15))","v":"★"},{"$f":"IF(INDIRECT($B$2&AE$3&$A15)=\"\",\"★\",INDIRECT($B$2&AE$3&$A15))","v":"★"},{"$f":"IF(INDIRECT($B$2&AF$3&$A15)=\"\",\"★\",INDIRECT($B$2&AF$3&$A15))","v":"★"},{"$f":"IF(INDIRECT($B$2&AG$3&$A15)=\"\",\"★\",INDIRECT($B$2&AG$3&$A15))","v":"★"},null,null,null,null,null,null,null,null,null,null,null,null,null,null,null,null,null,"★","★",{"$f":"IF(INDIRECT($B$2&BA$3&$A15)=\"\",\"★\",INDIRECT($B$2&BA$3&$A15))","v":"★"},{"$f":"IF(INDIRECT($B$2&BB$3&$A15)=\"\",\"★\",INDIRECT($B$2&BB$3&$A15))","v":"★"},{"$f":"IF(INDIRECT($B$2&BC$3&$A15)=\"\",\"★\",INDIRECT($B$2&BC$3&$A15))","v":"★"},{"$f":"IF(INDIRECT($B$2&BD$3&$A15)=\"\",\"★\",INDIRECT($B$2&BD$3&$A15))","v":"★"},{"$f":"IF(INDIRECT($B$2&BE$3&$A15)=\"\",\"★\",INDIRECT($B$2&BE$3&$A15))","v":"★"},{"$f":"IF(INDIRECT($B$2&BF$3&$A15)=\"\",\"★\",INDIRECT($B$2&BF$3&$A15))","v":"★"},{"$f":"IF(INDIRECT($B$2&BG$3&$A15)=\"\",\"★\",INDIRECT($B$2&BG$3&$A15))","v":"★"},{"$f":"IF(INDIRECT($B$2&BH$3&$A15)=\"\",\"★\",INDIRECT($B$2&BH$3&$A15))","v":"★"},{"$f":"IF(INDIRECT($B$2&BI$3&$A15)=\"\",\"★\",INDIRECT($B$2&BI$3&$A15))","v":"★"}]
[27,null,null,null,null," ",null,null,null,null,null,null,null,null,null,null,null,null,null,{"$f":"IF(INDIRECT($B$2&T$3&$A16)=\"\",\"★\",INDIRECT($B$2&T$3&$A16))","v":"★"},{"$f":"IF(INDIRECT($B$2&U$3&$A16)=\"\",\"★\",INDIRECT($B$2&U$3&$A16))","v":"★"},{"$f":"IF(INDIRECT($B$2&V$3&$A16)=\"\",\"★\",INDIRECT($B$2&V$3&$A16))","v":"★"},{"$f":"IF(INDIRECT($B$2&W$3&$A16)=\"\",\"★\",INDIRECT($B$2&W$3&$A16))","v":"★"},{"$f":"IF(INDIRECT($B$2&X$3&$A16)=\"\",\"★\",INDIRECT($B$2&X$3&$A16))","v":"★"},{"$f":"IF(INDIRECT($B$2&Y$3&$A16)=\"\",\"★\",INDIRECT($B$2&Y$3&$A16))","v":"★"},{"$f":"IF(INDIRECT($B$2&Z$3&$A16)=\"\",\"★\",INDIRECT($B$2&Z$3&$A16))","v":"★"},{"$f":"IF(INDIRECT($B$2&AA$3&$A16)=\"\",\"★\",INDIRECT($B$2&AA$3&$A16))","v":"★"},{"$f":"IF(INDIRECT($B$2&AB$3&$A16)=\"\",\"★\",INDIRECT($B$2&AB$3&$A16))","v":"★"},{"$f":"IF(INDIRECT($B$2&AC$3&$A16)=\"\",\"★\",INDIRECT($B$2&AC$3&$A16))","v":"★"},{"$f":"IF(INDIRECT($B$2&AD$3&$A16)=\"\",\"★\",INDIRECT($B$2&AD$3&$A16))","v":"★"},{"$f":"IF(INDIRECT($B$2&AE$3&$A16)=\"\",\"★\",INDIRECT($B$2&AE$3&$A16))","v":"★"},{"$f":"IF(INDIRECT($B$2&AF$3&$A16)=\"\",\"★\",INDIRECT($B$2&AF$3&$A16))","v":"★"},{"$f":"IF(INDIRECT($B$2&AG$3&$A16)=\"\",\"★\",INDIRECT($B$2&AG$3&$A16))","v":"★"},null,null,null,null,null,null,null,null,null,null,null,null,null,null,null,null,null,"★","★",{"$f":"IF(INDIRECT($B$2&BA$3&$A16)=\"\",\"★\",INDIRECT($B$2&BA$3&$A16))","v":"★"},{"$f":"IF(INDIRECT($B$2&BB$3&$A16)=\"\",\"★\",INDIRECT($B$2&BB$3&$A16))","v":"★"},{"$f":"IF(INDIRECT($B$2&BC$3&$A16)=\"\",\"★\",INDIRECT($B$2&BC$3&$A16))","v":"★"},{"$f":"IF(INDIRECT($B$2&BD$3&$A16)=\"\",\"★\",INDIRECT($B$2&BD$3&$A16))","v":"★"},{"$f":"IF(INDIRECT($B$2&BE$3&$A16)=\"\",\"★\",INDIRECT($B$2&BE$3&$A16))","v":"★"},{"$f":"IF(INDIRECT($B$2&BF$3&$A16)=\"\",\"★\",INDIRECT($B$2&BF$3&$A16))","v":"★"},{"$f":"IF(INDIRECT($B$2&BG$3&$A16)=\"\",\"★\",INDIRECT($B$2&BG$3&$A16))","v":"★"},{"$f":"IF(INDIRECT($B$2&BH$3&$A16)=\"\",\"★\",INDIRECT($B$2&BH$3&$A16))","v":"★"},{"$f":"IF(INDIRECT($B$2&BI$3&$A16)=\"\",\"★\",INDIRECT($B$2&BI$3&$A16))","v":"★"}]
[28,null,null,null,null,null,null,null,null,null,null,null,null,null,null,null,null,null,null,{"$f":"IF(INDIRECT($B$2&T$3&$A17)=\"\",\"★\",INDIRECT($B$2&T$3&$A17))","v":"★"},{"$f":"IF(INDIRECT($B$2&U$3&$A17)=\"\",\"★\",INDIRECT($B$2&U$3&$A17))","v":"★"},{"$f":"IF(INDIRECT($B$2&V$3&$A17)=\"\",\"★\",INDIRECT($B$2&V$3&$A17))","v":"★"},{"$f":"IF(INDIRECT($B$2&W$3&$A17)=\"\",\"★\",INDIRECT($B$2&W$3&$A17))","v":"★"},{"$f":"IF(INDIRECT($B$2&X$3&$A17)=\"\",\"★\",INDIRECT($B$2&X$3&$A17))","v":"★"},{"$f":"IF(INDIRECT($B$2&Y$3&$A17)=\"\",\"★\",INDIRECT($B$2&Y$3&$A17))","v":"★"},{"$f":"IF(INDIRECT($B$2&Z$3&$A17)=\"\",\"★\",INDIRECT($B$2&Z$3&$A17))","v":"★"},{"$f":"IF(INDIRECT($B$2&AA$3&$A17)=\"\",\"★\",INDIRECT($B$2&AA$3&$A17))","v":"★"},{"$f":"IF(INDIRECT($B$2&AB$3&$A17)=\"\",\"★\",INDIRECT($B$2&AB$3&$A17))","v":"★"},{"$f":"IF(INDIRECT($B$2&AC$3&$A17)=\"\",\"★\",INDIRECT($B$2&AC$3&$A17))","v":"★"},{"$f":"IF(INDIRECT($B$2&AD$3&$A17)=\"\",\"★\",INDIRECT($B$2&AD$3&$A17))","v":"★"},{"$f":"IF(INDIRECT($B$2&AE$3&$A17)=\"\",\"★\",INDIRECT($B$2&AE$3&$A17))","v":"★"},{"$f":"IF(INDIRECT($B$2&AF$3&$A17)=\"\",\"★\",INDIRECT($B$2&AF$3&$A17))","v":"★"},{"$f":"IF(INDIRECT($B$2&AG$3&$A17)=\"\",\"★\",INDIRECT($B$2&AG$3&$A17))","v":"★"},null,null,null,null,null,null,null,null,null,null,null,null,null,null,null,null,null,"★","★",{"$f":"IF(INDIRECT($B$2&BA$3&$A17)=\"\",\"★\",INDIRECT($B$2&BA$3&$A17))","v":"★"},{"$f":"IF(INDIRECT($B$2&BB$3&$A17)=\"\",\"★\",INDIRECT($B$2&BB$3&$A17))","v":"★"},{"$f":"IF(INDIRECT($B$2&BC$3&$A17)=\"\",\"★\",INDIRECT($B$2&BC$3&$A17))","v":"★"},{"$f":"IF(INDIRECT($B$2&BD$3&$A17)=\"\",\"★\",INDIRECT($B$2&BD$3&$A17))","v":"★"},{"$f":"IF(INDIRECT($B$2&BE$3&$A17)=\"\",\"★\",INDIRECT($B$2&BE$3&$A17))","v":"★"},{"$f":"IF(INDIRECT($B$2&BF$3&$A17)=\"\",\"★\",INDIRECT($B$2&BF$3&$A17))","v":"★"},{"$f":"IF(INDIRECT($B$2&BG$3&$A17)=\"\",\"★\",INDIRECT($B$2&BG$3&$A17))","v":"★"},{"$f":"IF(INDIRECT($B$2&BH$3&$A17)=\"\",\"★\",INDIRECT($B$2&BH$3&$A17))","v":"★"},{"$f":"IF(INDIRECT($B$2&BI$3&$A17)=\"\",\"★\",INDIRECT($B$2&BI$3&$A17))","v":"★"}]
[29,null,null,null,null,null,null,null,null,null,null,null,null,null,null,null,null,null,null,{"$f":"IF(INDIRECT($B$2&T$3&$A18)=\"\",\"★\",INDIRECT($B$2&T$3&$A18))","v":"★"},{"$f":"IF(INDIRECT($B$2&U$3&$A18)=\"\",\"★\",INDIRECT($B$2&U$3&$A18))","v":"★"},{"$f":"IF(INDIRECT($B$2&V$3&$A18)=\"\",\"★\",INDIRECT($B$2&V$3&$A18))","v":"★"},{"$f":"IF(INDIRECT($B$2&W$3&$A18)=\"\",\"★\",INDIRECT($B$2&W$3&$A18))","v":"★"},{"$f":"IF(INDIRECT($B$2&X$3&$A18)=\"\",\"★\",INDIRECT($B$2&X$3&$A18))","v":"★"},{"$f":"IF(INDIRECT($B$2&Y$3&$A18)=\"\",\"★\",INDIRECT($B$2&Y$3&$A18))","v":"★"},{"$f":"IF(INDIRECT($B$2&Z$3&$A18)=\"\",\"★\",INDIRECT($B$2&Z$3&$A18))","v":"★"},{"$f":"IF(INDIRECT($B$2&AA$3&$A18)=\"\",\"★\",INDIRECT($B$2&AA$3&$A18))","v":"★"},{"$f":"IF(INDIRECT($B$2&AB$3&$A18)=\"\",\"★\",INDIRECT($B$2&AB$3&$A18))","v":"★"},{"$f":"IF(INDIRECT($B$2&AC$3&$A18)=\"\",\"★\",INDIRECT($B$2&AC$3&$A18))","v":"★"},{"$f":"IF(INDIRECT($B$2&AD$3&$A18)=\"\",\"★\",INDIRECT($B$2&AD$3&$A18))","v":"★"},{"$f":"IF(INDIRECT($B$2&AE$3&$A18)=\"\",\"★\",INDIRECT($B$2&AE$3&$A18))","v":"★"},{"$f":"IF(INDIRECT($B$2&AF$3&$A18)=\"\",\"★\",INDIRECT($B$2&AF$3&$A18))","v":"★"},{"$f":"IF(INDIRECT($B$2&AG$3&$A18)=\"\",\"★\",INDIRECT($B$2&AG$3&$A18))","v":"★"},null,null,null,null,null,null,null,null,null,null,null,null,null,null,null,null,null,"★","★",{"$f":"IF(INDIRECT($B$2&BA$3&$A18)=\"\",\"★\",INDIRECT($B$2&BA$3&$A18))","v":"★"},{"$f":"IF(INDIRECT($B$2&BB$3&$A18)=\"\",\"★\",INDIRECT($B$2&BB$3&$A18))","v":"★"},{"$f":"IF(INDIRECT($B$2&BC$3&$A18)=\"\",\"★\",INDIRECT($B$2&BC$3&$A18))","v":"★"},{"$f":"IF(INDIRECT($B$2&BD$3&$A18)=\"\",\"★\",INDIRECT($B$2&BD$3&$A18))","v":"★"},{"$f":"IF(INDIRECT($B$2&BE$3&$A18)=\"\",\"★\",INDIRECT($B$2&BE$3&$A18))","v":"★"},{"$f":"IF(INDIRECT($B$2&BF$3&$A18)=\"\",\"★\",INDIRECT($B$2&BF$3&$A18))","v":"★"},{"$f":"IF(INDIRECT($B$2&BG$3&$A18)=\"\",\"★\",INDIRECT($B$2&BG$3&$A18))","v":"★"},{"$f":"IF(INDIRECT($B$2&BH$3&$A18)=\"\",\"★\",INDIRECT($B$2&BH$3&$A18))","v":"★"},{"$f":"IF(INDIRECT($B$2&BI$3&$A18)=\"\",\"★\",INDIRECT($B$2&BI$3&$A18))","v":"★"}]
[30,null,null,null,null,null,null,null,null,null,null,null,null,null,null,null,null,null,null,{"$f":"IF(INDIRECT($B$2&T$3&$A19)=\"\",\"★\",INDIRECT($B$2&T$3&$A19))","v":"★"},{"$f":"IF(INDIRECT($B$2&U$3&$A19)=\"\",\"★\",INDIRECT($B$2&U$3&$A19))","v":"★"},{"$f":"IF(INDIRECT($B$2&V$3&$A19)=\"\",\"★\",INDIRECT($B$2&V$3&$A19))","v":"★"},{"$f":"IF(INDIRECT($B$2&W$3&$A19)=\"\",\"★\",INDIRECT($B$2&W$3&$A19))","v":"★"},{"$f":"IF(INDIRECT($B$2&X$3&$A19)=\"\",\"★\",INDIRECT($B$2&X$3&$A19))","v":"★"},{"$f":"IF(INDIRECT($B$2&Y$3&$A19)=\"\",\"★\",INDIRECT($B$2&Y$3&$A19))","v":"★"},{"$f":"IF(INDIRECT($B$2&Z$3&$A19)=\"\",\"★\",INDIRECT($B$2&Z$3&$A19))","v":"★"},{"$f":"IF(INDIRECT($B$2&AA$3&$A19)=\"\",\"★\",INDIRECT($B$2&AA$3&$A19))","v":"★"},{"$f":"IF(INDIRECT($B$2&AB$3&$A19)=\"\",\"★\",INDIRECT($B$2&AB$3&$A19))","v":"★"},{"$f":"IF(INDIRECT($B$2&AC$3&$A19)=\"\",\"★\",INDIRECT($B$2&AC$3&$A19))","v":"★"},{"$f":"IF(INDIRECT($B$2&AD$3&$A19)=\"\",\"★\",INDIRECT($B$2&AD$3&$A19))","v":"★"},{"$f":"IF(INDIRECT($B$2&AE$3&$A19)=\"\",\"★\",INDIRECT($B$2&AE$3&$A19))","v":"★"},{"$f":"IF(INDIRECT($B$2&AF$3&$A19)=\"\",\"★\",INDIRECT($B$2&AF$3&$A19))","v":"★"},{"$f":"IF(INDIRECT($B$2&AG$3&$A19)=\"\",\"★\",INDIRECT($B$2&AG$3&$A19))","v":"★"},null,null,null,null,null,null,null,null,null,null,null,null,null,null,null,null,null,"★","★",{"$f":"IF(INDIRECT($B$2&BA$3&$A19)=\"\",\"★\",INDIRECT($B$2&BA$3&$A19))","v":"★"},{"$f":"IF(INDIRECT($B$2&BB$3&$A19)=\"\",\"★\",INDIRECT($B$2&BB$3&$A19))","v":"★"},{"$f":"IF(INDIRECT($B$2&BC$3&$A19)=\"\",\"★\",INDIRECT($B$2&BC$3&$A19))","v":"★"},{"$f":"IF(INDIRECT($B$2&BD$3&$A19)=\"\",\"★\",INDIRECT($B$2&BD$3&$A19))","v":"★"},{"$f":"IF(INDIRECT($B$2&BE$3&$A19)=\"\",\"★\",INDIRECT($B$2&BE$3&$A19))","v":"★"},{"$f":"IF(INDIRECT($B$2&BF$3&$A19)=\"\",\"★\",INDIRECT($B$2&BF$3&$A19))","v":"★"},{"$f":"IF(INDIRECT($B$2&BG$3&$A19)=\"\",\"★\",INDIRECT($B$2&BG$3&$A19))","v":"★"},{"$f":"IF(INDIRECT($B$2&BH$3&$A19)=\"\",\"★\",INDIRECT($B$2&BH$3&$A19))","v":"★"},{"$f":"IF(INDIRECT($B$2&BI$3&$A19)=\"\",\"★\",INDIRECT($B$2&BI$3&$A19))","v":"★"}]

{"sheet":"集計用2_様式16","index":14,"n_rows":17,"n_cols":25,"rows_kept":17,"cut":false,"hidden":true,"merged":[[9,1,9,24],[10,9,10,13],[10,14,10,16],[10,17,10,24],[11,17,11,20],[11,21,11,24],[11,3,11,5],[11,11,11,12],[11,14,11,15]]}
[]
[null,{"$f":"MID(CELL(\"filename\",事業報告書まとめ_計画策定支援!$A$1),FIND(\"]\",CELL(\"filename\",事業報告書まとめ_計画策定支援!$A$1))+1,LEN(CELL(\"filename\",事業報告書まとめ_計画策定支援!$A$1)))&\"!\"","v":"事業報告書まとめ_計画策定支援!"},{"$f":"MID(CELL(\"filename\",様式16_令和6年度事業報告書!$A$1),FIND(\"]\",CELL(\"filename\",様式16_令和6年度事業報告書!$A$1))+1,LEN(CELL(\"filename\",様式16_令和6年度事業報告書!$A$1)))&\"!\"","v":"様式16_令和6年度事業報告書!"},{"$f":"MID(CELL(\"filename\",様式16_令和7年度事業報告書!$A$1),FIND(\"]\",CELL(\"filename\",様式16_令和7年度事業報告書!$A$1))+1,LEN(CELL(\"filename\",様式16_令和7年度事業報告書!$A$1)))&\"!\"","v":"様式16_令和7年度事業報告書!"},{"$f":"MID(CELL(\"filename\",様式16_令和8年度事業報告書!$A$1),FIND(\"]\",CELL(\"filename\",様式16_令和8年度事業報告書!$A$1))+1,LEN(CELL(\"filename\",様式16_令和8年度事業報告書!$A$1)))&\"!\"","v":"様式16_令和8年度事業報告書!"}]
[]
[]
[]
[]
[]
[null,"様式16"]
[]
[null,"様式16"]
[null,null,null,null,null,null,null,null,null,"１　脱炭素化促進計画に記された取組の実施状況・予定",null,null,null,null,"２　事業実施による二酸化炭素排出削減効果について",null,null,"本件責任者及び担当者の氏名、連絡先等"]
[null,null,null,"交付日",null,null,"交付番号",null,null,null,"省CO2型設備更新支援事業への申請状況","その他の補助事業の利用状況",null,"対策実施状況","計画二酸化炭素排出量及び実績二酸化炭素排出量",null,null,"代表事業者1",null,null,null,"代表事業者2"]
[null,"環境省補助事業ID","GAJ事業番号","年","月","日",null,"第～号",null,null,"1＝申請した\n2=申請していない","1＝利用した\n2=利用していない","その他補助事業の詳細","1=当初の計画どおりに対策を実施した\n2=当初の計画から変更があった","計画二酸化炭素排出量","実績二酸化炭素排出量","実績二酸化炭素排出量が計画二酸化炭素排出量を超過した場合の原因","責任者の所属部署・職名・氏名","担当者の所属部署・職名・氏名","電話番号","メールアドレス","責任者の所属部署・職名・氏名","担当者の所属部署・職名・氏名","電話番号","メールアドレス"]
[null,{"$f":"IF(INDIRECT($C$2&\"AD3\")=\"\",\"★\",INDIRECT($C$2&\"AD3\"))","v":"★"},{"$f":"IF(INDIRECT($C$2&\"AD4\")=\"\",\"★\",INDIRECT($C$2&\"AD4\"))","v":"★"},{"$f":"IF(INDIRECT($C$2&\"C20\")=\"\",\"★\",INDIRECT($C$2&\"C20\"))","v":"令和5"},{"$f":"IF(INDIRECT($C$2&\"G20\")=\"\",\"★\",INDIRECT($C$2&\"G20\"))","v":"★"},{"$f":"IF(INDIRECT($C$2&\"J20\")=\"\",\"★\",INDIRECT($C$2&\"J20\"))","v":"★"},{"$f":"IF(INDIRECT($C$2&\"O20\")=\"\",\"★\",INDIRECT($C$2&\"O20\"))","v":"★"},{"$f":"IF(INDIRECT($C$2&\"U20\")=\"\",\"★\",INDIRECT($C$2&\"U20\"))","v":"★"},"a"]
[null,null,null,null,null,null,null,null,"b","令和6年度",{"$f":"IF(INDIRECT($C$2&\"AR31\")=\"\",\"★\",INDIRECT($C$2&\"AR31\"))","v":0},{"$f":"IF(INDIRECT($C$2&\"AR35\")=\"\",\"★\",INDIRECT($C$2&\"AR35\"))","v":0},{"$f":"IF(INDIRECT($C$2&\"F37\")=\"\",\"★\",INDIRECT($C$2&\"F37\"))","v":"★"},{"$f":"IF(INDIRECT($C$2&\"AR43\")=\"\",\"★\",INDIRECT($C$2&\"AR43\"))","v":0},{"$f":"IF(INDIRECT($C$2&\"L49\")=\"\",\"★\",INDIRECT($C$2&\"L49\"))","v":286.03844762},{"$f":"IF(INDIRECT($C$2&\"L50\")=\"\",\"★\",INDIRECT($C$2&\"L50\"))","v":286.55716000000007},{"$f":"IF(INDIRECT($C$2&\"C54\")=\"\",\"★\",INDIRECT($C$2&\"C54\"))","v":"★"},{"$f":"IF(INDIRECT($C$2&\"M59\")=\"\",\"★\",INDIRECT($C$2&\"M59\"))","v":"○○株式会社　●●部　部長　△△△△△△"},{"$f":"IF(INDIRECT($C$2&\"M60\")=\"\",\"★\",INDIRECT($C$2&\"M60\"))","v":"○○株式会社　●●部　▲▲▲▲▲"},{"$f":"IF(INDIRECT($C$2&\"M61\")=\"\",\"★\",INDIRECT($C$2&\"M61\"))","v":"123-456-789"},{"$f":"IF(INDIRECT($C$2&\"M62\")=\"\",\"★\",INDIRECT($C$2&\"M62\"))","v":"▲▲▲@○○○"},{"$f":"IF(INDIRECT($C$2&\"M64\")=\"\",\"★\",INDIRECT($C$2&\"M64\"))","v":"★"},{"$f":"IF(INDIRECT($C$2&\"M65\")=\"\",\"★\",INDIRECT($C$2&\"M65\"))","v":"★"},{"$f":"IF(INDIRECT($C$2&\"M66\")=\"\",\"★\",INDIRECT($C$2&\"M66\"))","v":"★"},{"$f":"IF(INDIRECT($C$2&\"M67\")=\"\",\"★\",INDIRECT($C$2&\"M67\"))","v":"★"}]
[null,null,null,null,null,null,null,null,"c","令和7年度",{"$f":"IF(INDIRECT($D$2&\"AR31\")=\"\",\"★\",INDIRECT($D$2&\"AR31\"))","v":0},{"$f":"IF(INDIRECT($D$2&\"AR35\")=\"\",\"★\",INDIRECT($D$2&\"AR35\"))","v":0},{"$f":"IF(INDIRECT($D$2&\"F37\")=\"\",\"★\",INDIRECT($D$2&\"F37\"))","v":"★"},{"$f":"IF(INDIRECT($D$2&\"AR43\")=\"\",\"★\",INDIRECT($D$2&\"AR43\"))","v":0},{"$f":"IF(INDIRECT($D$2&\"L49\")=\"\",\"★\",INDIRECT($D$2&\"L49\"))","v":286.03844762},{"$f":"IF(INDIRECT($D$2&\"L50\")=\"\",\"★\",INDIRECT($D$2&\"L50\"))","v":0},{"$f":"IF(INDIRECT($D$2&\"C54\")=\"\",\"★\",INDIRECT($D$2&\"C54\"))","v":"★"},{"$f":"IF(INDIRECT($D$2&\"M59\")=\"\",\"★\",INDIRECT($D$2&\"M59\"))","v":"○○株式会社　●●部　部長　△△△△△△"},{"$f":"IF(INDIRECT($D$2&\"M60\")=\"\",\"★\",INDIRECT($D$2&\"M60\"))","v":"○○株式会社　●●部　▲▲▲▲▲"},{"$f":"IF(INDIRECT($D$2&\"M61\")=\"\",\"★\",INDIRECT($D$2&\"M61\"))","v":"123-456-789"},{"$f":"IF(INDIRECT($D$2&\"M62\")=\"\",\"★\",INDIRECT($D$2&\"M62\"))","v":"▲▲▲@○○○"},{"$f":"IF(INDIRECT($D$2&\"M64\")=\"\",\"★\",INDIRECT($D$2&\"M64\"))","v":"★"},{"$f":"IF(INDIRECT($D$2&\"M65\")=\"\",\"★\",INDIRECT($D$2&\"M65\"))","v":"★"},{"$f":"IF(INDIRECT($D$2&\"M66\")=\"\",\"★\",INDIRECT($D$2&\"M66\"))","v":"★"},{"$f":"IF(INDIRECT($D$2&\"M67\")=\"\",\"★\",INDIRECT($D$2&\"M67\"))","v":"★"}]
[null,null,null,null,null,null,null,null,"d","令和8年度",{"$f":"IF(INDIRECT($E$2&\"AR31\")=\"\",\"★\",INDIRECT($E$2&\"AR31\"))","v":0},{"$f":"IF(INDIRECT($E$2&\"AR35\")=\"\",\"★\",INDIRECT($E$2&\"AR35\"))","v":0},{"$f":"IF(INDIRECT($E$2&\"F37\")=\"\",\"★\",INDIRECT($E$2&\"F37\"))","v":"★"},{"$f":"IF(INDIRECT($E$2&\"AR43\")=\"\",\"★\",INDIRECT($E$2&\"AR43\"))","v":0},{"$f":"IF(INDIRECT($E$2&\"L49\")=\"\",\"★\",INDIRECT($E$2&\"L49\"))","v":286.03844762},{"$f":"IF(INDIRECT($E$2&\"L50\")=\"\",\"★\",INDIRECT($E$2&\"L50\"))","v":0},{"$f":"IF(INDIRECT($E$2&\"C54\")=\"\",\"★\",INDIRECT($E$2&\"C54\"))","v":"★"},{"$f":"IF(INDIRECT($E$2&\"M59\")=\"\",\"★\",INDIRECT($E$2&\"M59\"))","v":"○○株式会社　●●部　部長　△△△△△△"},{"$f":"IF(INDIRECT($E$2&\"M60\")=\"\",\"★\",INDIRECT($E$2&\"M60\"))","v":"○○株式会社　●●部　▲▲▲▲▲"},{"$f":"IF(INDIRECT($E$2&\"M61\")=\"\",\"★\",INDIRECT($E$2&\"M61\"))","v":"123-456-789"},{"$f":"IF(INDIRECT($E$2&\"M62\")=\"\",\"★\",INDIRECT($E$2&\"M62\"))","v":"▲▲▲@○○○"},{"$f":"IF(INDIRECT($E$2&\"M64\")=\"\",\"★\",INDIRECT($E$2&\"M64\"))","v":"★"},{"$f":"IF(INDIRECT($E$2&\"M65\")=\"\",\"★\",INDIRECT($E$2&\"M65\"))","v":"★"},{"$f":"IF(INDIRECT($E$2&\"M66\")=\"\",\"★\",INDIRECT($E$2&\"M66\"))","v":"★"},{"$f":"IF(INDIRECT($E$2&\"M67\")=\"\",\"★\",INDIRECT($E$2&\"M67\"))","v":"★"}]

{"sheet":"集計用3_別紙1","index":15,"n_rows":49,"n_cols":124,"rows_kept":49,"cut":false,"hidden":true,"merged":[[7,49,7,60],[7,61,7,72],[5,5,5,10],[5,3,5,4],[6,31,6,36],[7,31,7,32],[7,33,7,34],[7,35,7,36],[7,12,7,20],[6,12,6,30],[5,118,5,123],[5,11,5,72],[5,73,5,117],[6,73,6,87],[7,80,7,87],[7,73,7,79],[7,118,7,119],[7,120,7,121],[7,122,7,123],[7,21,7,30],[7,88,7,97],[6,88,6,117],[7,98,7,107],[7,108,7,117],[6,37,6,72],[7,37,7,48]]}
[]
[null,{"$f":"MID(CELL(\"filename\",事業報告書まとめ_計画策定支援!A1),FIND(\"]\",CELL(\"filename\",事業報告書まとめ_計画策定支援!A1))+1,LEN(CELL(\"filename\",事業報告書まとめ_計画策定支援!A1)))&\"!\"","v":"事業報告書まとめ_計画策定支援!"},"別紙1_CO2排出量_個票"]
[null,null,null,null,null,null,null,null,null,null,null,null,null,null,null,null,null,null,null,null,null,null,null,null,null,null,null,null,null,null,null,null,"TRUE=あり",null,"TRUE=あり",null,"TRUE=あり"]
[null,null,null,null,null,null,null,null,null,null,null,null,25,null,null,null,null,null,null,null,null,29,null,null,null,null,null,null,null,null,null,34,"FALSE=なし",35,"FALSE=なし",36,"FALSE=なし",null,null,38,null,null,null,null,null,null,null,null,null,null,null,42,null,null,null,null,null,null,null,null,null,null,null,46,null,null,null,null,null,null,null,null,null,25,null,null,null,null,null,null,29,null,null,null,null,null,null,null,null,null,38,null,null,null,null,null,null,null,null,null,42,null,null,null,null,null,null,null,null,null,46]
[null,null,null,null,null,null,null,null,null,null,null,null,"C","D","E","F","G","H","I","J","K","C","D","E","F","G","H","I","J","K","L","D","V","D","V","D","V",null,null,"C","D","E","F","G","H","I","J","K","L",null,null,"C","D","E","F","G","H","I","J","K","L",null,null,"C","D","E","F","G","H","I","J","K","L","O","D","E","P","Q","R","S","O","D","E","P","Q","R","S","T",null,null,"O","D","E","P","Q","R","S","T",null,null,"O","D","E","P","Q","R","S","T",null,null,"O","D","E","P","Q","R","S","T"]
[null,null,null,"統合した個票番号",null,"１．対策概要",null,null,null,null,null,"２-１．CO2排出量",null,null,null,null,null,null,null,null,null,null,null,null,null,null,null,null,null,null,null,null,null,null,null,null,null,null,null,null,null,null,null,null,null,null,null,null,null,null,null,null,null,null,null,null,null,null,null,null,null,null,null,null,null,null,null,null,null,null,null,null,null,"２-２．エネルギー使用量",null,null,null,null,null,null,null,null,null,null,null,null,null,null,null,null,null,null,null,null,null,null,null,null,null,null,null,null,null,null,null,null,null,null,null,null,null,null,null,null,null,null,null,null,"３．CO2排出量の計算式における実績値（年間活動量）の算出根拠"]
[null,null,null,null,null,null,null,null,null,null,null,null,"■計画",null,null,null,null,null,null,null,null,null,null,null,null,null,null,null,null,null,null,"■対策実施状況",null,null,null,null,null,"■実績（対策実施【後】）",null,null,null,null,null,null,null,null,null,null,null,null,null,null,null,null,null,null,null,null,null,null,null,null,null,null,null,null,null,null,null,null,null,null,null,"■計画",null,null,null,null,null,null,null,null,null,null,null,null,null,null,"■実績（対策実施【後】）"]
[null,null,null,null,null,null,null,null,null,null,null,null,"対策実施【前】",null,null,null,null,null,null,null,null,"対策実施【計画】",null,null,null,null,null,null,null,null,null,"令和6年度",null,"令和7年度",null,"令和8年度",null,"令和6年度",null,null,null,null,null,null,null,null,null,null,null,"令和7年度",null,null,null,null,null,null,null,null,null,null,null,"令和8年度",null,null,null,null,null,null,null,null,null,null,null,"対策実施【前】",null,null,null,null,null,null,"対策実施【計画】",null,null,null,null,null,null,null,"令和6年度",null,null,null,null,null,null,null,null,null,"令和7年度",null,null,null,null,null,null,null,null,null,"令和8年度",null,null,null,null,null,null,null,null,null,"令和6年度",null,"令和7年度",null,"令和8年度"]
[null,"整理番号","個票番号",null,null,"対策名称","対策種類","対象システム／設備","工程","既存設備名称","導入設備名称",null,"活動種別","年間活動量",null,"単位発熱量",null,"CO2排出係数",null,"CO2排出量\n(t-CO2/年)","CO2排出量合計\n(t-CO2/年)","活動種別","年間活動量",null,"単位発熱量",null,"CO2排出係数",null,"CO2排出量\n(t-CO2/年)","CO2排出量合計\n(t-CO2/年)","CO2削減量\n(t-CO2/年)","対策実施状況","計画変更有無","対策実施状況","計画変更有無","対策実施状況","計画変更有無","対策実施状況","計画変更有無","活動種別","年間活動量",null,"単位発熱量",null,"CO2排出係数",null,"CO2排出量\n(t-CO2/年)","CO2排出量合計\n(t-CO2/年)","CO2削減量\n(t-CO2/年)","対策実施状況","計画変更有無","活動種別","年間活動量",null,"単位発熱量",null,"CO2排出係数",null,"CO2排出量\n(t-CO2/年)","CO2排出量合計\n(t-CO2/年)","CO2削減量\n(t-CO2/年)","対策実施状況","計画変更有無","活動種別","年間活動量",null,"単位発熱量",null,"CO2排出係数",null,"CO2排出量\n(t-CO2/年)","CO2排出量合計\n(t-CO2/年)","CO2削減量\n(t-CO2/年)","活動種別","年間活動量",null,"単位発熱量",null,"GJ換算量","GJ換算量（合計）","活動種別","年間活動量",null,"単位発熱量",null,"GJ換算量","GJ換算量（合計）","GJ削減量\n(t-CO2/年)","対策実施状況","計画変更有無","活動種別","年間活動量",null,"単位発熱量",null,"GJ換算量","GJ換算量（合計）","GJ削減量\n(t-CO2/年)","対策実施状況","計画変更有無","活動種別","年間活動量",null,"単位発熱量",null,"GJ換算量","GJ換算量（合計）","GJ削減量\n(t-CO2/年)","対策実施状況","計画変更有無","活動種別","年間活動量",null,"単位発熱量",null,"GJ換算量","GJ換算量（合計）","GJ削減量\n(t-CO2/年)","実績値（活動種別ごとの年間活動量）の算出根拠","備考","実績値（活動種別ごとの年間活動量）の算出根拠","備考","実績値（活動種別ごとの年間活動量）の算出根拠","備考"]
[null,{"$f":"IF(INDIRECT($B$2&\"H6\")=\"\",\"★\",INDIRECT($B$2&\"H6\"))","v":"xxxxxxx"},{"$f":"IF(INDIRECT($B$2&\"B21\")=\"\",\"★\",INDIRECT($B$2&\"B21\"))","v":1},{"$f":"IF(INDIRECT($C$2&$C10&\"!K12\")=\"\",\"★\",INDIRECT($C$2&$C10&\"!K12\"))","v":"★"},{"$f":"IF(INDIRECT($C$2&$C10&\"!L12\")=\"\",\"★\",INDIRECT($C$2&$C10&\"!L12\"))","v":"★"},{"$f":"IF(INDIRECT($C$2&$C10&\"!D13\")=\"\",\"★\",INDIRECT($C$2&$C10&\"!D13\"))","v":"A重油蒸気ボイラから都市ガス蒸気ボイラへの燃料転換"},{"$f":"IF(INDIRECT($C$2&$C10&\"!D14\")=\"\",\"★\",INDIRECT($C$2&$C10&\"!D14\"))","v":"燃料低炭素化"},{"$f":"IF(INDIRECT($C$2&$C10&\"!D15\")=\"\",\"★\",INDIRECT($C$2&$C10&\"!D15\"))","v":"蒸気システム（発生）"},{"$f":"IF(INDIRECT($C$2&$C10&\"!D16\")=\"\",\"★\",INDIRECT($C$2&$C10&\"!D16\"))","v":"原料加熱"},{"$f":"IF(INDIRECT($C$2&$C10&\"!D17\")=\"\",\"★\",INDIRECT($C$2&$C10&\"!D17\"))","v":"A重油焚きボイラ"},{"$f":"IF(INDIRECT($C$2&$C10&\"!D18\")=\"\",\"★\",INDIRECT($C$2&$C10&\"!D18\"))","v":"都市ガス焚きボイラ"},{"$f":"$C10&\"-1\"","v":"1-1"},{"$f":"IF(INDIRECT($C$2&$C10&\"!\"&M$5&$M$4)=\"\",\"★\",INDIRECT($C$2&$C10&\"!\"&M$5&$M$4))","v":"A重油"},{"$f":"IF(INDIRECT($C$2&$C10&\"!\"&N$5&$M$4)=\"\",\"★\",INDIRECT($C$2&$C10&\"!\"&N$5&$M$4))","v":131},{"$f":"IF(INDIRECT($C$2&$C10&\"!\"&O$5&$M$4)=\"\",\"★\",INDIRECT($C$2&$C10&\"!\"&O$5&$M$4))","v":"kl"},{"$f":"IF(INDIRECT($C$2&$C10&\"!\"&P$5&$M$4)=\"\",\"★\",INDIRECT($C$2&$C10&\"!\"&P$5&$M$4))","v":38.9},{"$f":"IF(INDIRECT($C$2&$C10&\"!\"&Q$5&$M$4)=\"\",\"★\",INDIRECT($C$2&$C10&\"!\"&Q$5&$M$4))","v":"GJ/kl"},{"$f":"IF(INDIRECT($C$2&$C10&\"!\"&R$5&$M$4)=\"\",\"★\",INDIRECT($C$2&$C10&\"!\"&R$5&$M$4))","v":7.0800000000000002E-2},{"$f":"IF(INDIRECT($C$2&$C10&\"!\"&S$5&$M$4)=\"\",\"★\",INDIRECT($C$2&$C10&\"!\"&S$5&$M$4))","v":"t-CO2/GJ"},{"$f":"IF(INDIRECT($C$2&$C10&\"!\"&T$5&$M$4)=\"\",\"★\",INDIRECT($C$2&$C10&\"!\"&T$5&$M$4))","v":360.78971999999999},{"$f":"IF(INDIRECT($C$2&$C10&\"!\"&U$5&$M$4)=\"\",\"★\",INDIRECT($C$2&$C10&\"!\"&U$5&$M$4))","v":360.78971999999999},{"$f":"IF(INDIRECT($C$2&$C10&\"!\"&V$5&$V$4)=\"\",\"★\",INDIRECT($C$2&$C10&\"!\"&V$5&$V$4))","v":"都市ガス"},{"$f":"IF(INDIRECT($C$2&$C10&\"!\"&W$5&$V$4)=\"\",\"★\",INDIRECT($C$2&$C10&\"!\"&W$5&$V$4))","v":112.497},{"$f":"IF(INDIRECT($C$2&$C10&\"!\"&X$5&$V$4)=\"\",\"★\",INDIRECT($C$2&$C10&\"!\"&X$5&$V$4))","v":"千Nm3"},{"$f":"IF(INDIRECT($C$2&$C10&\"!\"&Y$5&$V$4)=\"\",\"★\",INDIRECT($C$2&$C10&\"!\"&Y$5&$V$4))","v":44.2},{"$f":"IF(INDIRECT($C$2&$C10&\"!\"&Z$5&$V$4)=\"\",\"★\",INDIRECT($C$2&$C10&\"!\"&Z$5&$V$4))","v":"GJ/千Nm3"},{"$f":"IF(INDIRECT($C$2&$C10&\"!\"&AA$5&$V$4)=\"\",\"★\",INDIRECT($C$2&$C10&\"!\"&AA$5&$V$4))","v":5.1299999999999998E-2},{"$f":"IF(INDIRECT($C$2&$C10&\"!\"&AB$5&$V$4)=\"\",\"★\",INDIRECT($C$2&$C10&\"!\"&AB$5&$V$4))","v":"t-CO2/GJ"},{"$f":"IF(INDIRECT($C$2&$C10&\"!\"&AC$5&$V$4)=\"\",\"★\",INDIRECT($C$2&$C10&\"!\"&AC$5&$V$4))","v":255.08244762000001},{"$f":"IF(INDIRECT($C$2&$C10&\"!\"&AD$5&$V$4)=\"\",\"★\",INDIRECT($C$2&$C10&\"!\"&AD$5&$V$4))","v":255.08244762000001},{"$f":"IF(INDIRECT($C$2&$C10&\"!\"&AE$5&$V$4)=\"\",\"★\",INDIRECT($C$2&$C10&\"!\"&AE$5&$V$4))","v":105.70727237999998},{"$f":"IF(INDIRECT($C$2&$C10&\"!\"&AF$5&$AF$4)=\"\",\"★\",INDIRECT($C$2&$C10&\"!\"&AF$5&$AF$4))","v":"実施済み（CO2削減効果算定）"},{"$f":"IF(INDIRECT($C$2&$C10&\"!\"&AG$5&$AF$4)=\"\",\"★\",INDIRECT($C$2&$C10&\"!\"&AG$5&$AF$4))","v":false},{"$f":"IF(INDIRECT($C$2&$C10&\"!\"&AH$5&$AH$4)=\"\",\"★\",INDIRECT($C$2&$C10&\"!\"&AH$5&$AH$4))","v":"★"},{"$f":"IF(INDIRECT($C$2&$C10&\"!\"&AI$5&$AH$4)=\"\",\"★\",INDIRECT($C$2&$C10&\"!\"&AI$5&$AH$4))","v":false},{"$f":"IF(INDIRECT($C$2&$C10&\"!\"&AJ$5&$AJ$4)=\"\",\"★\",INDIRECT($C$2&$C10&\"!\"&AJ$5&$AJ$4))","v":"★"},{"$f":"IF(INDIRECT($C$2&$C10&\"!\"&AK$5&$AJ$4)=\"\",\"★\",INDIRECT($C$2&$C10&\"!\"&AK$5&$AJ$4))","v":false},{"$f":"$AF10","v":"実施済み（CO2削減効果算定）"},{"$f":"$AG10","v":false},{"$f":"IF(INDIRECT($C$2&$C10&\"!\"&AN$5&$AN$4)=\"\",\"★\",INDIRECT($C$2&$C10&\"!\"&AN$5&$AN$4))","v":"都市ガス"},{"$f":"IF(INDIRECT($C$2&$C10&\"!\"&AO$5&$AN$4)=\"\",\"★\",INDIRECT($C$2&$C10&\"!\"&AO$5&$AN$4))","v":111},{"$f":"IF(INDIRECT($C$2&$C10&\"!\"&AP$5&$AN$4)=\"\",\"★\",INDIRECT($C$2&$C10&\"!\"&AP$5&$AN$4))","v":"千Nm3"},{"$f":"IF(INDIRECT($C$2&$C10&\"!\"&AQ$5&$AN$4)=\"\",\"★\",INDIRECT($C$2&$C10&\"!\"&AQ$5&$AN$4))","v":44.2},{"$f":"IF(INDIRECT($C$2&$C10&\"!\"&AR$5&$AN$4)=\"\",\"★\",INDIRECT($C$2&$C10&\"!\"&AR$5&$AN$4))","v":"GJ/千Nm3"},{"$f":"IF(INDIRECT($C$2&$C10&\"!\"&AS$5&$AN$4)=\"\",\"★\",INDIRECT($C$2&$C10&\"!\"&AS$5&$AN$4))","v":5.1299999999999998E-2},{"$f":"IF(INDIRECT($C$2&$C10&\"!\"&AT$5&$AN$4)=\"\",\"★\",INDIRECT($C$2&$C10&\"!\"&AT$5&$AN$4))","v":"t-CO2/GJ"},{"$f":"IF(INDIRECT($C$2&$C10&\"!\"&AU$5&$AN$4)=\"\",\"★\",INDIRECT($C$2&$C10&\"!\"&AU$5&$AN$4))","v":251.68806000000004},{"$f":"IF(INDIRECT($C$2&$C10&\"!\"&AV$5&$AN$4)=\"\",\"★\",INDIRECT($C$2&$C10&\"!\"&AV$5&$AN$4))","v":251.68806000000004},{"$f":"IF(INDIRECT($C$2&$C10&\"!\"&AW$5&$AN$4)=\"\",\"★\",INDIRECT($C$2&$C10&\"!\"&AW$5&$AN$4))","v":109.10165999999995},{"$f":"$AH10","v":"★"},{"$f":"$AI10","v":false},{"$f":"IF(INDIRECT($C$2&$C10&\"!\"&AZ$5&$AZ$4)=\"\",\"★\",INDIRECT($C$2&$C10&\"!\"&AZ$5&$AZ$4))","v":"★"},{"$f":"IF(INDIRECT($C$2&$C10&\"!\"&BA$5&$AZ$4)=\"\",\"★\",INDIRECT($C$2&$C10&\"!\"&BA$5&$AZ$4))","v":"★"},{"$f":"IF(INDIRECT($C$2&$C10&\"!\"&BB$5&$AZ$4)=\"\",\"★\",INDIRECT($C$2&$C10&\"!\"&BB$5&$AZ$4))","v":"★"},{"$f":"IF(INDIRECT($C$2&$C10&\"!\"&BC$5&$AZ$4)=\"\",\"★\",INDIRECT($C$2&$C10&\"!\"&BC$5&$AZ$4))","v":"★"},{"$f":"IF(INDIRECT($C$2&$C10&\"!\"&BD$5&$AZ$4)=\"\",\"★\",INDIRECT($C$2&$C10&\"!\"&BD$5&$AZ$4))","v":"★"},{"$f":"IF(INDIRECT($C$2&$C10&\"!\"&BE$5&$AZ$4)=\"\",\"★\",INDIRECT($C$2&$C10&\"!\"&BE$5&$AZ$4))","v":"★"},{"$f":"IF(INDIRECT($C$2&$C10&\"!\"&BF$5&$AZ$4)=\"\",\"★\",INDIRECT($C$2&$C10&\"!\"&BF$5&$AZ$4))","v":"★"},{"$f":"IF(INDIRECT($C$2&$C10&\"!\"&BG$5&$AZ$4)=\"\",\"★\",INDIRECT($C$2&$C10&\"!\"&BG$5&$AZ$4))","v":"★"},{"$f":"IF(INDIRECT($C$2&$C10&\"!\"&BH$5&$AZ$4)=\"\",\"★\",INDIRECT($C$2&$C10&\"!\"&BH$5&$AZ$4))","v":"★"},{"$f":"IF(INDIRECT($C$2&$C10&\"!\"&BI$5&$AZ$4)=\"\",\"★\",INDIRECT($C$2&$C10&\"!\"&BI$5&$AZ$4))","v":"---"},{"$f":"$AJ10","v":"★"},{"$f":"$AK10","v":false},{"$f":"IF(INDIRECT($C$2&$C10&\"!\"&BL$5&$BL$4)=\"\",\"★\",INDIRECT($C$2&$C10&\"!\"&BL$5&$BL$4))","v":"★"},{"$f":"IF(INDIRECT($C$2&$C10&\"!\"&BM$5&$BL$4)=\"\",\"★\",INDIRECT($C$2&$C10&\"!\"&BM$5&$BL$4))","v":"★"},{"$f":"IF(INDIRECT($C$2&$C10&\"!\"&BN$5&$BL$4)=\"\",\"★\",INDIRECT($C$2&$C10&\"!\"&BN$5&$BL$4))","v":"★"},{"$f":"IF(INDIRECT($C$2&$C10&\"!\"&BO$5&$BL$4)=\"\",\"★\",INDIRECT($C$2&$C10&\"!\"&BO$5&$BL$4))","v":"★"},{"$f":"IF(INDIRECT($C$2&$C10&\"!\"&BP$5&$BL$4)=\"\",\"★\",INDIRECT($C$2&$C10&\"!\"&BP$5&$BL$4))","v":"★"},{"$f":"IF(INDIRECT($C$2&$C10&\"!\"&BQ$5&$BL$4)=\"\",\"★\",INDIRECT($C$2&$C10&\"!\"&BQ$5&$BL$4))","v":"★"},{"$f":"IF(INDIRECT($C$2&$C10&\"!\"&BR$5&$BL$4)=\"\",\"★\",INDIRECT($C$2&$C10&\"!\"&BR$5&$BL$4))","v":"★"},{"$f":"IF(INDIRECT($C$2&$C10&\"!\"&BS$5&$BL$4)=\"\",\"★\",INDIRECT($C$2&$C10&\"!\"&BS$5&$BL$4))","v":"★"},{"$f":"IF(INDIRECT($C$2&$C10&\"!\"&BT$5&$BL$4)=\"\",\"★\",INDIRECT($C$2&$C10&\"!\"&BT$5&$BL$4))","v":"★"},{"$f":"IF(INDIRECT($C$2&$C10&\"!\"&BU$5&$BL$4)=\"\",\"★\",INDIRECT($C$2&$C10&\"!\"&BU$5&$BL$4))","v":"---"},{"$f":"IF(INDIRECT($C$2&$C10&\"!\"&BV$5&$BV$4)=\"\",\"★\",INDIRECT($C$2&$C10&\"!\"&BV$5&$BV$4))","v":"A重油"},{"$f":"IF(INDIRECT($C$2&$C10&\"!\"&BW$5&$BV$4)=\"\",\"★\",INDIRECT($C$2&$C10&\"!\"&BW$5&$BV$4))","v":131},{"$f":"IF(INDIRECT($C$2&$C10&\"!\"&BX$5&$BV$4)=\"\",\"★\",INDIRECT($C$2&$C10&\"!\"&BX$5&$BV$4))","v":"kl"},{"$f":"IF(INDIRECT($C$2&$C10&\"!\"&BY$5&$BV$4)=\"\",\"★\",INDIRECT($C$2&$C10&\"!\"&BY$5&$BV$4))","v":38.9},{"$f":"IF(INDIRECT($C$2&$C10&\"!\"&BZ$5&$BV$4)=\"\",\"★\",INDIRECT($C$2&$C10&\"!\"&BZ$5&$BV$4))","v":"GJ/kl"},{"$f":"IF(INDIRECT($C$2&$C10&\"!\"&CA$5&$BV$4)=\"\",\"★\",INDIRECT($C$2&$C10&\"!\"&CA$5&$BV$4))","v":5095.8999999999996},{"$f":"IF(INDIRECT($C$2&$C10&\"!\"&CB$5&$BV$4)=\"\",\"★\",INDIRECT($C$2&$C10&\"!\"&CB$5&$BV$4))","v":5095.8999999999996},{"$f":"IF(INDIRECT($C$2&$C10&\"!\"&CC$5&$CC$4)=\"\",\"★\",INDIRECT($C$2&$C10&\"!\"&CC$5&$CC$4))","v":"都市ガス"},{"$f":"IF(INDIRECT($C$2&$C10&\"!\"&CD$5&$CC$4)=\"\",\"★\",INDIRECT($C$2&$C10&\"!\"&CD$5&$CC$4))","v":112.497},{"$f":"IF(INDIRECT($C$2&$C10&\"!\"&CE$5&$CC$4)=\"\",\"★\",INDIRECT($C$2&$C10&\"!\"&CE$5&$CC$4))","v":"千Nm3"},{"$f":"IF(INDIRECT($C$2&$C10&\"!\"&CF$5&$CC$4)=\"\",\"★\",INDIRECT($C$2&$C10&\"!\"&CF$5&$CC$4))","v":44.2},{"$f":"IF(INDIRECT($C$2&$C10&\"!\"&CG$5&$CC$4)=\"\",\"★\",INDIRECT($C$2&$C10&\"!\"&CG$5&$CC$4))","v":"GJ/千Nm3"},{"$f":"IF(INDIRECT($C$2&$C10&\"!\"&CH$5&$CC$4)=\"\",\"★\",INDIRECT($C$2&$C10&\"!\"&CH$5&$CC$4))","v":4972.3674000000001},{"$f":"IF(INDIRECT($C$2&$C10&\"!\"&CI$5&$CC$4)=\"\",\"★\",INDIRECT($C$2&$C10&\"!\"&CI$5&$CC$4))","v":4972.3674000000001},{"$f":"IF(INDIRECT($C$2&$C10&\"!\"&CJ$5&$CC$4)=\"\",\"★\",INDIRECT($C$2&$C10&\"!\"&CJ$5&$CC$4))","v":123.53259999999955},{"$f":"$AF10","v":"実施済み（CO2削減効果算定）"},{"$f":"$AG10","v":false},{"$f":"IF(INDIRECT($C$2&$C10&\"!\"&CM$5&$CM$4)=\"\",\"★\",INDIRECT($C$2&$C10&\"!\"&CM$5&$CM$4))","v":"都市ガス"},{"$f":"IF(INDIRECT($C$2&$C10&\"!\"&CN$5&$CM$4)=\"\",\"★\",INDIRECT($C$2&$C10&\"!\"&CN$5&$CM$4))","v":111},{"$f":"IF(INDIRECT($C$2&$C10&\"!\"&CO$5&$CM$4)=\"\",\"★\",INDIRECT($C$2&$C10&\"!\"&CO$5&$CM$4))","v":"千Nm3"},{"$f":"IF(INDIRECT($C$2&$C10&\"!\"&CP$5&$CM$4)=\"\",\"★\",INDIRECT($C$2&$C10&\"!\"&CP$5&$CM$4))","v":44.2},{"$f":"IF(INDIRECT($C$2&$C10&\"!\"&CQ$5&$CM$4)=\"\",\"★\",INDIRECT($C$2&$C10&\"!\"&CQ$5&$CM$4))","v":"GJ/千Nm3"},{"$f":"IF(INDIRECT($C$2&$C10&\"!\"&CR$5&$CM$4)=\"\",\"★\",INDIRECT($C$2&$C10&\"!\"&CR$5&$CM$4))","v":4906.2000000000007},{"$f":"IF(INDIRECT($C$2&$C10&\"!\"&CS$5&$CM$4)=\"\",\"★\",INDIRECT($C$2&$C10&\"!\"&CS$5&$CM$4))","v":4906.2000000000007},{"$f":"IF(INDIRECT($C$2&$C10&\"!\"&CT$5&$CM$4)=\"\",\"★\",INDIRECT($C$2&$C10&\"!\"&CT$5&$CM$4))","v":189.69999999999891},{"$f":"$AH10","v":"★"},{"$f":"$AI10","v":false},{"$f":"IF(INDIRECT($C$2&$C10&\"!\"&CW$5&$CW$4)=\"\",\"★\",INDIRECT($C$2&$C10&\"!\"&CW$5&$CW$4))","v":"★"},{"$f":"IF(INDIRECT($C$2&$C10&\"!\"&CX$5&$CW$4)=\"\",\"★\",INDIRECT($C$2&$C10&\"!\"&CX$5&$CW$4))","v":"★"},{"$f":"IF(INDIRECT($C$2&$C10&\"!\"&CY$5&$CW$4)=\"\",\"★\",INDIRECT($C$2&$C10&\"!\"&CY$5&$CW$4))","v":"★"},{"$f":"IF(INDIRECT($C$2&$C10&\"!\"&CZ$5&$CW$4)=\"\",\"★\",INDIRECT($C$2&$C10&\"!\"&CZ$5&$CW$4))","v":"★"},{"$f":"IF(INDIRECT($C$2&$C10&\"!\"&DA$5&$CW$4)=\"\",\"★\",INDIRECT($C$2&$C10&\"!\"&DA$5&$CW$4))","v":"★"},{"$f":"IF(INDIRECT($C$2&$C10&\"!\"&DB$5&$CW$4)=\"\",\"★\",INDIRECT($C$2&$C10&\"!\"&DB$5&$CW$4))","v":"★"},{"$f":"IF(INDIRECT($C$2&$C10&\"!\"&DC$5&$CW$4)=\"\",\"★\",INDIRECT($C$2&$C10&\"!\"&DC$5&$CW$4))","v":"★"},{"$f":"IF(INDIRECT($C$2&$C10&\"!\"&DD$5&$CW$4)=\"\",\"★\",INDIRECT($C$2&$C10&\"!\"&DD$5&$CW$4))","v":"---"},{"$f":"$AJ10","v":"★"},{"$f":"$AK10","v":false},{"$f":"IF(INDIRECT($C$2&$C10&\"!\"&DG$5&$DG$4)=\"\",\"★\",INDIRECT($C$2&$C10&\"!\"&DG$5&$DG$4))","v":"★"},{"$f":"IF(INDIRECT($C$2&$C10&\"!\"&DH$5&$DG$4)=\"\",\"★\",INDIRECT($C$2&$C10&\"!\"&DH$5&$DG$4))","v":"★"},{"$f":"IF(INDIRECT($C$2&$C10&\"!\"&DI$5&$DG$4)=\"\",\"★\",INDIRECT($C$2&$C10&\"!\"&DI$5&$DG$4))","v":"★"},{"$f":"IF(INDIRECT($C$2&$C10&\"!\"&DJ$5&$DG$4)=\"\",\"★\",INDIRECT($C$2&$C10&\"!\"&DJ$5&$DG$4))","v":"★"},{"$f":"IF(INDIRECT($C$2&$C10&\"!\"&DK$5&$DG$4)=\"\",\"★\",INDIRECT($C$2&$C10&\"!\"&DK$5&$DG$4))","v":"★"},{"$f":"IF(INDIRECT($C$2&$C10&\"!\"&DL$5&$DG$4)=\"\",\"★\",INDIRECT($C$2&$C10&\"!\"&DL$5&$DG$4))","v":"★"},{"$f":"IF(INDIRECT($C$2&$C10&\"!\"&DM$5&$DG$4)=\"\",\"★\",INDIRECT($C$2&$C10&\"!\"&DM$5&$DG$4))","v":"★"},{"$f":"IF(INDIRECT($C$2&$C10&\"!\"&DN$5&$DG$4)=\"\",\"★\",INDIRECT($C$2&$C10&\"!\"&DN$5&$DG$4))","v":"---"},{"$f":"IF(INDIRECT($C$2&$C10&\"!B57\")=\"\",\"★\",INDIRECT($C$2&$C10&\"!B57\"))","v":"★"},{"$f":"IF(INDIRECT($C$2&$C10&\"!B100\")=\"\",\"★\",INDIRECT($C$2&$C10&\"!B100\"))","v":"★"},{"$f":"IF(INDIRECT($C$2&$C10&\"!B112\")=\"\",\"★\",INDIRECT($C$2&$C10&\"!B112\"))","v":"★"},{"$f":"IF(INDIRECT($C$2&$C10&\"!B155\")=\"\",\"★\",INDIRECT($C$2&$C10&\"!B155\"))","v":"★"},{"$f":"IF(INDIRECT($C$2&$C10&\"!B167\")=\"\",\"★\",INDIRECT($C$2&$C10&\"!B167\"))","v":"★"},{"$f":"IF(INDIRECT($C$2&$C10&\"!B210\")=\"\",\"★\",INDIRECT($C$2&$C10&\"!B210\"))","v":"★"}]
[null,null,{"$f":"C10","v":1},null,null,null,null,null,null,null,null,{"$f":"$C11&\"-2\"","v":"1-2"},{"$f":"IF(INDIRECT($C$2&$C11&\"!\"&M$5&$M$4+1)=\"\",\"★\",INDIRECT($C$2&$C11&\"!\"&M$5&$M$4+1))","v":"★"},{"$f":"IF(INDIRECT($C$2&$C11&\"!\"&N$5&$M$4+1)=\"\",\"★\",INDIRECT($C$2&$C11&\"!\"&N$5&$M$4+1))","v":"★"},{"$f":"IF(INDIRECT($C$2&$C11&\"!\"&O$5&$M$4+1)=\"\",\"★\",INDIRECT($C$2&$C11&\"!\"&O$5&$M$4+1))","v":"★"},{"$f":"IF(INDIRECT($C$2&$C11&\"!\"&P$5&$M$4+1)=\"\",\"★\",INDIRECT($C$2&$C11&\"!\"&P$5&$M$4+1))","v":"★"},{"$f":"IF(INDIRECT($C$2&$C11&\"!\"&Q$5&$M$4+1)=\"\",\"★\",INDIRECT($C$2&$C11&\"!\"&Q$5&$M$4+1))","v":"★"},{"$f":"IF(INDIRECT($C$2&$C11&\"!\"&R$5&$M$4+1)=\"\",\"★\",INDIRECT($C$2&$C11&\"!\"&R$5&$M$4+1))","v":"★"},{"$f":"IF(INDIRECT($C$2&$C11&\"!\"&S$5&$M$4+1)=\"\",\"★\",INDIRECT($C$2&$C11&\"!\"&S$5&$M$4+1))","v":"★"},{"$f":"IF(INDIRECT($C$2&$C11&\"!\"&T$5&$M$4+1)=\"\",\"★\",INDIRECT($C$2&$C11&\"!\"&T$5&$M$4+1))","v":"★"},null,{"$f":"IF(INDIRECT($C$2&$C11&\"!\"&V$5&$V$4+1)=\"\",\"★\",INDIRECT($C$2&$C11&\"!\"&V$5&$V$4+1))","v":"★"},{"$f":"IF(INDIRECT($C$2&$C11&\"!\"&W$5&$V$4+1)=\"\",\"★\",INDIRECT($C$2&$C11&\"!\"&W$5&$V$4+1))","v":"★"},{"$f":"IF(INDIRECT($C$2&$C11&\"!\"&X$5&$V$4+1)=\"\",\"★\",INDIRECT($C$2&$C11&\"!\"&X$5&$V$4+1))","v":"★"},{"$f":"IF(INDIRECT($C$2&$C11&\"!\"&Y$5&$V$4+1)=\"\",\"★\",INDIRECT($C$2&$C11&\"!\"&Y$5&$V$4+1))","v":"★"},{"$f":"IF(INDIRECT($C$2&$C11&\"!\"&Z$5&$V$4+1)=\"\",\"★\",INDIRECT($C$2&$C11&\"!\"&Z$5&$V$4+1))","v":"★"},{"$f":"IF(INDIRECT($C$2&$C11&\"!\"&AA$5&$V$4+1)=\"\",\"★\",INDIRECT($C$2&$C11&\"!\"&AA$5&$V$4+1))","v":"★"},{"$f":"IF(INDIRECT($C$2&$C11&\"!\"&AB$5&$V$4+1)=\"\",\"★\",INDIRECT($C$2&$C11&\"!\"&AB$5&$V$4+1))","v":"★"},{"$f":"IF(INDIRECT($C$2&$C11&\"!\"&AC$5&$V$4+1)=\"\",\"★\",INDIRECT($C$2&$C11&\"!\"&AC$5&$V$4+1))","v":"★"},null,null,null,null,null,null,null,null,null,null,{"$f":"IF(INDIRECT($C$2&$C11&\"!\"&AN$5&$AN$4+1)=\"\",\"★\",INDIRECT($C$2&$C11&\"!\"&AN$5&$AN$4+1))","v":"★"},{"$f":"IF(INDIRECT($C$2&$C11&\"!\"&AO$5&$AN$4+1)=\"\",\"★\",INDIRECT($C$2&$C11&\"!\"&AO$5&$AN$4+1))","v":"★"},{"$f":"IF(INDIRECT($C$2&$C11&\"!\"&AP$5&$AN$4+1)=\"\",\"★\",INDIRECT($C$2&$C11&\"!\"&AP$5&$AN$4+1))","v":"★"},{"$f":"IF(INDIRECT($C$2&$C11&\"!\"&AQ$5&$AN$4+1)=\"\",\"★\",INDIRECT($C$2&$C11&\"!\"&AQ$5&$AN$4+1))","v":"★"},{"$f":"IF(INDIRECT($C$2&$C11&\"!\"&AR$5&$AN$4+1)=\"\",\"★\",INDIRECT($C$2&$C11&\"!\"&AR$5&$AN$4+1))","v":"★"},{"$f":"IF(INDIRECT($C$2&$C11&\"!\"&AS$5&$AN$4+1)=\"\",\"★\",INDIRECT($C$2&$C11&\"!\"&AS$5&$AN$4+1))","v":"★"},{"$f":"IF(INDIRECT($C$2&$C11&\"!\"&AT$5&$AN$4+1)=\"\",\"★\",INDIRECT($C$2&$C11&\"!\"&AT$5&$AN$4+1))","v":"★"},{"$f":"IF(INDIRECT($C$2&$C11&\"!\"&AU$5&$AN$4+1)=\"\",\"★\",INDIRECT($C$2&$C11&\"!\"&AU$5&$AN$4+1))","v":"★"},null,null,null,null,{"$f":"IF(INDIRECT($C$2&$C11&\"!\"&AZ$5&$AZ$4+1)=\"\",\"★\",INDIRECT($C$2&$C11&\"!\"&AZ$5&$AZ$4+1))","v":"★"},{"$f":"IF(INDIRECT($C$2&$C11&\"!\"&BA$5&$AZ$4+1)=\"\",\"★\",INDIRECT($C$2&$C11&\"!\"&BA$5&$AZ$4+1))","v":"★"},{"$f":"IF(INDIRECT($C$2&$C11&\"!\"&BB$5&$AZ$4+1)=\"\",\"★\",INDIRECT($C$2&$C11&\"!\"&BB$5&$AZ$4+1))","v":"★"},{"$f":"IF(INDIRECT($C$2&$C11&\"!\"&BC$5&$AZ$4+1)=\"\",\"★\",INDIRECT($C$2&$C11&\"!\"&BC$5&$AZ$4+1))","v":"★"},{"$f":"IF(INDIRECT($C$2&$C11&\"!\"&BD$5&$AZ$4+1)=\"\",\"★\",INDIRECT($C$2&$C11&\"!\"&BD$5&$AZ$4+1))","v":"★"},{"$f":"IF(INDIRECT($C$2&$C11&\"!\"&BE$5&$AZ$4+1)=\"\",\"★\",INDIRECT($C$2&$C11&\"!\"&BE$5&$AZ$4+1))","v":"★"},{"$f":"IF(INDIRECT($C$2&$C11&\"!\"&BF$5&$AZ$4+1)=\"\",\"★\",INDIRECT($C$2&$C11&\"!\"&BF$5&$AZ$4+1))","v":"★"},{"$f":"IF(INDIRECT($C$2&$C11&\"!\"&BG$5&$AZ$4+1)=\"\",\"★\",INDIRECT($C$2&$C11&\"!\"&BG$5&$AZ$4+1))","v":"★"},null,null,null,null,{"$f":"IF(INDIRECT($C$2&$C11&\"!\"&BL$5&$BL$4+1)=\"\",\"★\",INDIRECT($C$2&$C11&\"!\"&BL$5&$BL$4+1))","v":"★"},{"$f":"IF(INDIRECT($C$2&$C11&\"!\"&BM$5&$BL$4+1)=\"\",\"★\",INDIRECT($C$2&$C11&\"!\"&BM$5&$BL$4+1))","v":"★"},{"$f":"IF(INDIRECT($C$2&$C11&\"!\"&BN$5&$BL$4+1)=\"\",\"★\",INDIRECT($C$2&$C11&\"!\"&BN$5&$BL$4+1))","v":"★"},{"$f":"IF(INDIRECT($C$2&$C11&\"!\"&BO$5&$BL$4+1)=\"\",\"★\",INDIRECT($C$2&$C11&\"!\"&BO$5&$BL$4+1))","v":"★"},{"$f":"IF(INDIRECT($C$2&$C11&\"!\"&BP$5&$BL$4+1)=\"\",\"★\",INDIRECT($C$2&$C11&\"!\"&BP$5&$BL$4+1))","v":"★"},{"$f":"IF(INDIRECT($C$2&$C11&\"!\"&BQ$5&$BL$4+1)=\"\",\"★\",INDIRECT($C$2&$C11&\"!\"&BQ$5&$BL$4+1))","v":"★"},{"$f":"IF(INDIRECT($C$2&$C11&\"!\"&BR$5&$BL$4+1)=\"\",\"★\",INDIRECT($C$2&$C11&\"!\"&BR$5&$BL$4+1))","v":"★"},{"$f":"IF(INDIRECT($C$2&$C11&\"!\"&BS$5&$BL$4+1)=\"\",\"★\",INDIRECT($C$2&$C11&\"!\"&BS$5&$BL$4+1))","v":"★"},null,null,{"$f":"IF(INDIRECT($C$2&$C11&\"!\"&BV$5&$BV$4+1)=\"\",\"★\",INDIRECT($C$2&$C11&\"!\"&BV$5&$BV$4+1))","v":"★"},{"$f":"IF(INDIRECT($C$2&$C11&\"!\"&BW$5&$BV$4+1)=\"\",\"★\",INDIRECT($C$2&$C11&\"!\"&BW$5&$BV$4+1))","v":"★"},{"$f":"IF(INDIRECT($C$2&$C11&\"!\"&BX$5&$BV$4+1)=\"\",\"★\",INDIRECT($C$2&$C11&\"!\"&BX$5&$BV$4+1))","v":"★"},{"$f":"IF(INDIRECT($C$2&$C11&\"!\"&BY$5&$BV$4+1)=\"\",\"★\",INDIRECT($C$2&$C11&\"!\"&BY$5&$BV$4+1))","v":"★"},{"$f":"IF(INDIRECT($C$2&$C11&\"!\"&BZ$5&$BV$4+1)=\"\",\"★\",INDIRECT($C$2&$C11&\"!\"&BZ$5&$BV$4+1))","v":"★"},{"$f":"IF(INDIRECT($C$2&$C11&\"!\"&CA$5&$BV$4+1)=\"\",\"★\",INDIRECT($C$2&$C11&\"!\"&CA$5&$BV$4+1))","v":"★"},null,{"$f":"IF(INDIRECT($C$2&$C11&\"!\"&CC$5&$CC$4+1)=\"\",\"★\",INDIRECT($C$2&$C11&\"!\"&CC$5&$CC$4+1))","v":"★"},{"$f":"IF(INDIRECT($C$2&$C11&\"!\"&CD$5&$CC$4+1)=\"\",\"★\",INDIRECT($C$2&$C11&\"!\"&CD$5&$CC$4+1))","v":"★"},{"$f":"IF(INDIRECT($C$2&$C11&\"!\"&CE$5&$CC$4+1)=\"\",\"★\",INDIRECT($C$2&$C11&\"!\"&CE$5&$CC$4+1))","v":"★"},{"$f":"IF(INDIRECT($C$2&$C11&\"!\"&CF$5&$CC$4+1)=\"\",\"★\",INDIRECT($C$2&$C11&\"!\"&CF$5&$CC$4+1))","v":"★"},{"$f":"IF(INDIRECT($C$2&$C11&\"!\"&CG$5&$CC$4+1)=\"\",\"★\",INDIRECT($C$2&$C11&\"!\"&CG$5&$CC$4+1))","v":"★"},{"$f":"IF(INDIRECT($C$2&$C11&\"!\"&CH$5&$CC$4+1)=\"\",\"★\",INDIRECT($C$2&$C11&\"!\"&CH$5&$CC$4+1))","v":"★"},null,null,null,null,{"$f":"IF(INDIRECT($C$2&$C11&\"!\"&CM$5&$CM$4+1)=\"\",\"★\",INDIRECT($C$2&$C11&\"!\"&CM$5&$CM$4+1))","v":"★"},{"$f":"IF(INDIRECT($C$2&$C11&\"!\"&CN$5&$CM$4+1)=\"\",\"★\",INDIRECT($C$2&$C11&\"!\"&CN$5&$CM$4+1))","v":"★"},{"$f":"IF(INDIRECT($C$2&$C11&\"!\"&CO$5&$CM$4+1)=\"\",\"★\",INDIRECT($C$2&$C11&\"!\"&CO$5&$CM$4+1))","v":"★"},{"$f":"IF(INDIRECT($C$2&$C11&\"!\"&CP$5&$CM$4+1)=\"\",\"★\",INDIRECT($C$2&$C11&\"!\"&CP$5&$CM$4+1))","v":"★"},{"$f":"IF(INDIRECT($C$2&$C11&\"!\"&CQ$5&$CM$4+1)=\"\",\"★\",INDIRECT($C$2&$C11&\"!\"&CQ$5&$CM$4+1))","v":"★"},{"$f":"IF(INDIRECT($C$2&$C11&\"!\"&CR$5&$CM$4+1)=\"\",\"★\",INDIRECT($C$2&$C11&\"!\"&CR$5&$CM$4+1))","v":"★"},null,null,null,null,{"$f":"IF(INDIRECT($C$2&$C11&\"!\"&CW$5&$CW$4+1)=\"\",\"★\",INDIRECT($C$2&$C11&\"!\"&CW$5&$CW$4+1))","v":"★"},{"$f":"IF(INDIRECT($C$2&$C11&\"!\"&CX$5&$CW$4+1)=\"\",\"★\",INDIRECT($C$2&$C11&\"!\"&CX$5&$CW$4+1))","v":"★"},{"$f":"IF(INDIRECT($C$2&$C11&\"!\"&CY$5&$CW$4+1)=\"\",\"★\",INDIRECT($C$2&$C11&\"!\"&CY$5&$CW$4+1))","v":"★"},{"$f":"IF(INDIRECT($C$2&$C11&\"!\"&CZ$5&$CW$4+1)=\"\",\"★\",INDIRECT($C$2&$C11&\"!\"&CZ$5&$CW$4+1))","v":"★"},{"$f":"IF(INDIRECT($C$2&$C11&\"!\"&DA$5&$CW$4+1)=\"\",\"★\",INDIRECT($C$2&$C11&\"!\"&DA$5&$CW$4+1))","v":"★"},{"$f":"IF(INDIRECT($C$2&$C11&\"!\"&DB$5&$CW$4+1)=\"\",\"★\",INDIRECT($C$2&$C11&\"!\"&DB$5&$CW$4+1))","v":"★"},null,null,null,null,{"$f":"IF(INDIRECT($C$2&$C11&\"!\"&DG$5&$DG$4+1)=\"\",\"★\",INDIRECT($C$2&$C11&\"!\"&DG$5&$DG$4+1))","v":"★"},{"$f":"IF(INDIRECT($C$2&$C11&\"!\"&DH$5&$DG$4+1)=\"\",\"★\",INDIRECT($C$2&$C11&\"!\"&DH$5&$DG$4+1))","v":"★"},{"$f":"IF(INDIRECT($C$2&$C11&\"!\"&DI$5&$DG$4+1)=\"\",\"★\",INDIRECT($C$2&$C11&\"!\"&DI$5&$DG$4+1))","v":"★"},{"$f":"IF(INDIRECT($C$2&$C11&\"!\"&DJ$5&$DG$4+1)=\"\",\"★\",INDIRECT($C$2&$C11&\"!\"&DJ$5&$DG$4+1))","v":"★"},{"$f":"IF(INDIRECT($C$2&$C11&\"!\"&DK$5&$DG$4+1)=\"\",\"★\",INDIRECT($C$2&$C11&\"!\"&DK$5&$DG$4+1))","v":"★"},{"$f":"IF(INDIRECT($C$2&$C11&\"!\"&DL$5&$DG$4+1)=\"\",\"★\",INDIRECT($C$2&$C11&\"!\"&DL$5&$DG$4+1))","v":"★"}]
[null,null,{"$f":"C11","v":1},null,null,null,null,null,null,null,null,{"$f":"$C12&\"-3\"","v":"1-3"},{"$f":"IF(INDIRECT($C$2&$C12&\"!\"&M$5&$M$4+2)=\"\",\"★\",INDIRECT($C$2&$C12&\"!\"&M$5&$M$4+2))","v":"★"},{"$f":"IF(INDIRECT($C$2&$C12&\"!\"&N$5&$M$4+2)=\"\",\"★\",INDIRECT($C$2&$C12&\"!\"&N$5&$M$4+2))","v":"★"},{"$f":"IF(INDIRECT($C$2&$C12&\"!\"&O$5&$M$4+2)=\"\",\"★\",INDIRECT($C$2&$C12&\"!\"&O$5&$M$4+2))","v":"★"},{"$f":"IF(INDIRECT($C$2&$C12&\"!\"&P$5&$M$4+2)=\"\",\"★\",INDIRECT($C$2&$C12&\"!\"&P$5&$M$4+2))","v":"★"},{"$f":"IF(INDIRECT($C$2&$C12&\"!\"&Q$5&$M$4+2)=\"\",\"★\",INDIRECT($C$2&$C12&\"!\"&Q$5&$M$4+2))","v":"★"},{"$f":"IF(INDIRECT($C$2&$C12&\"!\"&R$5&$M$4+2)=\"\",\"★\",INDIRECT($C$2&$C12&\"!\"&R$5&$M$4+2))","v":"★"},{"$f":"IF(INDIRECT($C$2&$C12&\"!\"&S$5&$M$4+2)=\"\",\"★\",INDIRECT($C$2&$C12&\"!\"&S$5&$M$4+2))","v":"★"},{"$f":"IF(INDIRECT($C$2&$C12&\"!\"&T$5&$M$4+2)=\"\",\"★\",INDIRECT($C$2&$C12&\"!\"&T$5&$M$4+2))","v":"★"},null,{"$f":"IF(INDIRECT($C$2&$C12&\"!\"&V$5&$V$4+2)=\"\",\"★\",INDIRECT($C$2&$C12&\"!\"&V$5&$V$4+2))","v":"★"},{"$f":"IF(INDIRECT($C$2&$C12&\"!\"&W$5&$V$4+2)=\"\",\"★\",INDIRECT($C$2&$C12&\"!\"&W$5&$V$4+2))","v":"★"},{"$f":"IF(INDIRECT($C$2&$C12&\"!\"&X$5&$V$4+2)=\"\",\"★\",INDIRECT($C$2&$C12&\"!\"&X$5&$V$4+2))","v":"★"},{"$f":"IF(INDIRECT($C$2&$C12&\"!\"&Y$5&$V$4+2)=\"\",\"★\",INDIRECT($C$2&$C12&\"!\"&Y$5&$V$4+2))","v":"★"},{"$f":"IF(INDIRECT($C$2&$C12&\"!\"&Z$5&$V$4+2)=\"\",\"★\",INDIRECT($C$2&$C12&\"!\"&Z$5&$V$4+2))","v":"★"},{"$f":"IF(INDIRECT($C$2&$C12&\"!\"&AA$5&$V$4+2)=\"\",\"★\",INDIRECT($C$2&$C12&\"!\"&AA$5&$V$4+2))","v":"★"},{"$f":"IF(INDIRECT($C$2&$C12&\"!\"&AB$5&$V$4+2)=\"\",\"★\",INDIRECT($C$2&$C12&\"!\"&AB$5&$V$4+2))","v":"★"},{"$f":"IF(INDIRECT($C$2&$C12&\"!\"&AC$5&$V$4+2)=\"\",\"★\",INDIRECT($C$2&$C12&\"!\"&AC$5&$V$4+2))","v":"★"},null,null,null,null,null,null,null,null,null,null,{"$f":"IF(INDIRECT($C$2&$C12&\"!\"&AN$5&$AN$4+2)=\"\",\"★\",INDIRECT($C$2&$C12&\"!\"&AN$5&$AN$4+2))","v":"★"},{"$f":"IF(INDIRECT($C$2&$C12&\"!\"&AO$5&$AN$4+2)=\"\",\"★\",INDIRECT($C$2&$C12&\"!\"&AO$5&$AN$4+2))","v":"★"},{"$f":"IF(INDIRECT($C$2&$C12&\"!\"&AP$5&$AN$4+2)=\"\",\"★\",INDIRECT($C$2&$C12&\"!\"&AP$5&$AN$4+2))","v":"★"},{"$f":"IF(INDIRECT($C$2&$C12&\"!\"&AQ$5&$AN$4+2)=\"\",\"★\",INDIRECT($C$2&$C12&\"!\"&AQ$5&$AN$4+2))","v":"★"},{"$f":"IF(INDIRECT($C$2&$C12&\"!\"&AR$5&$AN$4+2)=\"\",\"★\",INDIRECT($C$2&$C12&\"!\"&AR$5&$AN$4+2))","v":"★"},{"$f":"IF(INDIRECT($C$2&$C12&\"!\"&AS$5&$AN$4+2)=\"\",\"★\",INDIRECT($C$2&$C12&\"!\"&AS$5&$AN$4+2))","v":"★"},{"$f":"IF(INDIRECT($C$2&$C12&\"!\"&AT$5&$AN$4+2)=\"\",\"★\",INDIRECT($C$2&$C12&\"!\"&AT$5&$AN$4+2))","v":"★"},{"$f":"IF(INDIRECT($C$2&$C12&\"!\"&AU$5&$AN$4+2)=\"\",\"★\",INDIRECT($C$2&$C12&\"!\"&AU$5&$AN$4+2))","v":"★"},null,null,null,null,{"$f":"IF(INDIRECT($C$2&$C12&\"!\"&AZ$5&$AZ$4+2)=\"\",\"★\",INDIRECT($C$2&$C12&\"!\"&AZ$5&$AZ$4+2))","v":"★"},{"$f":"IF(INDIRECT($C$2&$C12&\"!\"&BA$5&$AZ$4+2)=\"\",\"★\",INDIRECT($C$2&$C12&\"!\"&BA$5&$AZ$4+2))","v":"★"},{"$f":"IF(INDIRECT($C$2&$C12&\"!\"&BB$5&$AZ$4+2)=\"\",\"★\",INDIRECT($C$2&$C12&\"!\"&BB$5&$AZ$4+2))","v":"★"},{"$f":"IF(INDIRECT($C$2&$C12&\"!\"&BC$5&$AZ$4+2)=\"\",\"★\",INDIRECT($C$2&$C12&\"!\"&BC$5&$AZ$4+2))","v":"★"},{"$f":"IF(INDIRECT($C$2&$C12&\"!\"&BD$5&$AZ$4+2)=\"\",\"★\",INDIRECT($C$2&$C12&\"!\"&BD$5&$AZ$4+2))","v":"★"},{"$f":"IF(INDIRECT($C$2&$C12&\"!\"&BE$5&$AZ$4+2)=\"\",\"★\",INDIRECT($C$2&$C12&\"!\"&BE$5&$AZ$4+2))","v":"★"},{"$f":"IF(INDIRECT($C$2&$C12&\"!\"&BF$5&$AZ$4+2)=\"\",\"★\",INDIRECT($C$2&$C12&\"!\"&BF$5&$AZ$4+2))","v":"★"},{"$f":"IF(INDIRECT($C$2&$C12&\"!\"&BG$5&$AZ$4+2)=\"\",\"★\",INDIRECT($C$2&$C12&\"!\"&BG$5&$AZ$4+2))","v":"★"},null,null,null,null,{"$f":"IF(INDIRECT($C$2&$C12&\"!\"&BL$5&$BL$4+2)=\"\",\"★\",INDIRECT($C$2&$C12&\"!\"&BL$5&$BL$4+2))","v":"★"},{"$f":"IF(INDIRECT($C$2&$C12&\"!\"&BM$5&$BL$4+2)=\"\",\"★\",INDIRECT($C$2&$C12&\"!\"&BM$5&$BL$4+2))","v":"★"},{"$f":"IF(INDIRECT($C$2&$C12&\"!\"&BN$5&$BL$4+2)=\"\",\"★\",INDIRECT($C$2&$C12&\"!\"&BN$5&$BL$4+2))","v":"★"},{"$f":"IF(INDIRECT($C$2&$C12&\"!\"&BO$5&$BL$4+2)=\"\",\"★\",INDIRECT($C$2&$C12&\"!\"&BO$5&$BL$4+2))","v":"★"},{"$f":"IF(INDIRECT($C$2&$C12&\"!\"&BP$5&$BL$4+2)=\"\",\"★\",INDIRECT($C$2&$C12&\"!\"&BP$5&$BL$4+2))","v":"★"},{"$f":"IF(INDIRECT($C$2&$C12&\"!\"&BQ$5&$BL$4+2)=\"\",\"★\",INDIRECT($C$2&$C12&\"!\"&BQ$5&$BL$4+2))","v":"★"},{"$f":"IF(INDIRECT($C$2&$C12&\"!\"&BR$5&$BL$4+2)=\"\",\"★\",INDIRECT($C$2&$C12&\"!\"&BR$5&$BL$4+2))","v":"★"},{"$f":"IF(INDIRECT($C$2&$C12&\"!\"&BS$5&$BL$4+2)=\"\",\"★\",INDIRECT($C$2&$C12&\"!\"&BS$5&$BL$4+2))","v":"★"},null,null,{"$f":"IF(INDIRECT($C$2&$C12&\"!\"&BV$5&$BV$4+2)=\"\",\"★\",INDIRECT($C$2&$C12&\"!\"&BV$5&$BV$4+2))","v":"★"},{"$f":"IF(INDIRECT($C$2&$C12&\"!\"&BW$5&$BV$4+2)=\"\",\"★\",INDIRECT($C$2&$C12&\"!\"&BW$5&$BV$4+2))","v":"★"},{"$f":"IF(INDIRECT($C$2&$C12&\"!\"&BX$5&$BV$4+2)=\"\",\"★\",INDIRECT($C$2&$C12&\"!\"&BX$5&$BV$4+2))","v":"★"},{"$f":"IF(INDIRECT($C$2&$C12&\"!\"&BY$5&$BV$4+2)=\"\",\"★\",INDIRECT($C$2&$C12&\"!\"&BY$5&$BV$4+2))","v":"★"},{"$f":"IF(INDIRECT($C$2&$C12&\"!\"&BZ$5&$BV$4+2)=\"\",\"★\",INDIRECT($C$2&$C12&\"!\"&BZ$5&$BV$4+2))","v":"★"},{"$f":"IF(INDIRECT($C$2&$C12&\"!\"&CA$5&$BV$4+2)=\"\",\"★\",INDIRECT($C$2&$C12&\"!\"&CA$5&$BV$4+2))","v":"★"},null,{"$f":"IF(INDIRECT($C$2&$C12&\"!\"&CC$5&$CC$4+2)=\"\",\"★\",INDIRECT($C$2&$C12&\"!\"&CC$5&$CC$4+2))","v":"★"},{"$f":"IF(INDIRECT($C$2&$C12&\"!\"&CD$5&$CC$4+2)=\"\",\"★\",INDIRECT($C$2&$C12&\"!\"&CD$5&$CC$4+2))","v":"★"},{"$f":"IF(INDIRECT($C$2&$C12&\"!\"&CE$5&$CC$4+2)=\"\",\"★\",INDIRECT($C$2&$C12&\"!\"&CE$5&$CC$4+2))","v":"★"},{"$f":"IF(INDIRECT($C$2&$C12&\"!\"&CF$5&$CC$4+2)=\"\",\"★\",INDIRECT($C$2&$C12&\"!\"&CF$5&$CC$4+2))","v":"★"},{"$f":"IF(INDIRECT($C$2&$C12&\"!\"&CG$5&$CC$4+2)=\"\",\"★\",INDIRECT($C$2&$C12&\"!\"&CG$5&$CC$4+2))","v":"★"},{"$f":"IF(INDIRECT($C$2&$C12&\"!\"&CH$5&$CC$4+2)=\"\",\"★\",INDIRECT($C$2&$C12&\"!\"&CH$5&$CC$4+2))","v":"★"},null,null,null,null,{"$f":"IF(INDIRECT($C$2&$C12&\"!\"&CM$5&$CM$4+2)=\"\",\"★\",INDIRECT($C$2&$C12&\"!\"&CM$5&$CM$4+2))","v":"★"},{"$f":"IF(INDIRECT($C$2&$C12&\"!\"&CN$5&$CM$4+2)=\"\",\"★\",INDIRECT($C$2&$C12&\"!\"&CN$5&$CM$4+2))","v":"★"},{"$f":"IF(INDIRECT($C$2&$C12&\"!\"&CO$5&$CM$4+2)=\"\",\"★\",INDIRECT($C$2&$C12&\"!\"&CO$5&$CM$4+2))","v":"★"},{"$f":"IF(INDIRECT($C$2&$C12&\"!\"&CP$5&$CM$4+2)=\"\",\"★\",INDIRECT($C$2&$C12&\"!\"&CP$5&$CM$4+2))","v":"★"},{"$f":"IF(INDIRECT($C$2&$C12&\"!\"&CQ$5&$CM$4+2)=\"\",\"★\",INDIRECT($C$2&$C12&\"!\"&CQ$5&$CM$4+2))","v":"★"},{"$f":"IF(INDIRECT($C$2&$C12&\"!\"&CR$5&$CM$4+2)=\"\",\"★\",INDIRECT($C$2&$C12&\"!\"&CR$5&$CM$4+2))","v":"★"},null,null,null,null,{"$f":"IF(INDIRECT($C$2&$C12&\"!\"&CW$5&$CW$4+2)=\"\",\"★\",INDIRECT($C$2&$C12&\"!\"&CW$5&$CW$4+2))","v":"★"},{"$f":"IF(INDIRECT($C$2&$C12&\"!\"&CX$5&$CW$4+2)=\"\",\"★\",INDIRECT($C$2&$C12&\"!\"&CX$5&$CW$4+2))","v":"★"},{"$f":"IF(INDIRECT($C$2&$C12&\"!\"&CY$5&$CW$4+2)=\"\",\"★\",INDIRECT($C$2&$C12&\"!\"&CY$5&$CW$4+2))","v":"★"},{"$f":"IF(INDIRECT($C$2&$C12&\"!\"&CZ$5&$CW$4+2)=\"\",\"★\",INDIRECT($C$2&$C12&\"!\"&CZ$5&$CW$4+2))","v":"★"},{"$f":"IF(INDIRECT($C$2&$C12&\"!\"&DA$5&$CW$4+2)=\"\",\"★\",INDIRECT($C$2&$C12&\"!\"&DA$5&$CW$4+2))","v":"★"},{"$f":"IF(INDIRECT($C$2&$C12&\"!\"&DB$5&$CW$4+2)=\"\",\"★\",INDIRECT($C$2&$C12&\"!\"&DB$5&$CW$4+2))","v":"★"},null,null,null,null,{"$f":"IF(INDIRECT($C$2&$C12&\"!\"&DG$5&$DG$4+2)=\"\",\"★\",INDIRECT($C$2&$C12&\"!\"&DG$5&$DG$4+2))","v":"★"},{"$f":"IF(INDIRECT($C$2&$C12&\"!\"&DH$5&$DG$4+2)=\"\",\"★\",INDIRECT($C$2&$C12&\"!\"&DH$5&$DG$4+2))","v":"★"},{"$f":"IF(INDIRECT($C$2&$C12&\"!\"&DI$5&$DG$4+2)=\"\",\"★\",INDIRECT($C$2&$C12&\"!\"&DI$5&$DG$4+2))","v":"★"},{"$f":"IF(INDIRECT($C$2&$C12&\"!\"&DJ$5&$DG$4+2)=\"\",\"★\",INDIRECT($C$2&$C12&\"!\"&DJ$5&$DG$4+2))","v":"★"},{"$f":"IF(INDIRECT($C$2&$C12&\"!\"&DK$5&$DG$4+2)=\"\",\"★\",INDIRECT($C$2&$C12&\"!\"&DK$5&$DG$4+2))","v":"★"},{"$f":"IF(INDIRECT($C$2&$C12&\"!\"&DL$5&$DG$4+2)=\"\",\"★\",INDIRECT($C$2&$C12&\"!\"&DL$5&$DG$4+2))","v":"★"}]
[null,null,1,null,null,null,null,null,null,null,null,{"$f":"$C13&\"-4\"","v":"1-4"},{"$f":"IF(INDIRECT($C$2&$C13&\"!\"&M$5&$M$4+3)=\"\",\"★\",INDIRECT($C$2&$C13&\"!\"&M$5&$M$4+3))","v":"★"},{"$f":"IF(INDIRECT($C$2&$C13&\"!\"&N$5&$M$4+3)=\"\",\"★\",INDIRECT($C$2&$C13&\"!\"&N$5&$M$4+3))","v":"★"},{"$f":"IF(INDIRECT($C$2&$C13&\"!\"&O$5&$M$4+3)=\"\",\"★\",INDIRECT($C$2&$C13&\"!\"&O$5&$M$4+3))","v":"★"},{"$f":"IF(INDIRECT($C$2&$C13&\"!\"&P$5&$M$4+3)=\"\",\"★\",INDIRECT($C$2&$C13&\"!\"&P$5&$M$4+3))","v":"★"},{"$f":"IF(INDIRECT($C$2&$C13&\"!\"&Q$5&$M$4+3)=\"\",\"★\",INDIRECT($C$2&$C13&\"!\"&Q$5&$M$4+3))","v":"★"},{"$f":"IF(INDIRECT($C$2&$C13&\"!\"&R$5&$M$4+3)=\"\",\"★\",INDIRECT($C$2&$C13&\"!\"&R$5&$M$4+3))","v":"★"},{"$f":"IF(INDIRECT($C$2&$C13&\"!\"&S$5&$M$4+3)=\"\",\"★\",INDIRECT($C$2&$C13&\"!\"&S$5&$M$4+3))","v":"★"},{"$f":"IF(INDIRECT($C$2&$C13&\"!\"&T$5&$M$4+3)=\"\",\"★\",INDIRECT($C$2&$C13&\"!\"&T$5&$M$4+3))","v":"★"},null,{"$f":"IF(INDIRECT($C$2&$C13&\"!\"&V$5&$V$4+3)=\"\",\"★\",INDIRECT($C$2&$C13&\"!\"&V$5&$V$4+3))","v":"★"},{"$f":"IF(INDIRECT($C$2&$C13&\"!\"&W$5&$V$4+3)=\"\",\"★\",INDIRECT($C$2&$C13&\"!\"&W$5&$V$4+3))","v":"★"},{"$f":"IF(INDIRECT($C$2&$C13&\"!\"&X$5&$V$4+3)=\"\",\"★\",INDIRECT($C$2&$C13&\"!\"&X$5&$V$4+3))","v":"★"},{"$f":"IF(INDIRECT($C$2&$C13&\"!\"&Y$5&$V$4+3)=\"\",\"★\",INDIRECT($C$2&$C13&\"!\"&Y$5&$V$4+3))","v":"★"},{"$f":"IF(INDIRECT($C$2&$C13&\"!\"&Z$5&$V$4+3)=\"\",\"★\",INDIRECT($C$2&$C13&\"!\"&Z$5&$V$4+3))","v":"★"},{"$f":"IF(INDIRECT($C$2&$C13&\"!\"&AA$5&$V$4+3)=\"\",\"★\",INDIRECT($C$2&$C13&\"!\"&AA$5&$V$4+3))","v":"★"},{"$f":"IF(INDIRECT($C$2&$C13&\"!\"&AB$5&$V$4+3)=\"\",\"★\",INDIRECT($C$2&$C13&\"!\"&AB$5&$V$4+3))","v":"★"},{"$f":"IF(INDIRECT($C$2&$C13&\"!\"&AC$5&$V$4+3)=\"\",\"★\",INDIRECT($C$2&$C13&\"!\"&AC$5&$V$4+3))","v":"★"},null,null,null,null,null,null,null,null,null,null,{"$f":"IF(INDIRECT($C$2&$C13&\"!\"&AN$5&$AN$4+3)=\"\",\"★\",INDIRECT($C$2&$C13&\"!\"&AN$5&$AN$4+3))","v":"★"},{"$f":"IF(INDIRECT($C$2&$C13&\"!\"&AO$5&$AN$4+3)=\"\",\"★\",INDIRECT($C$2&$C13&\"!\"&AO$5&$AN$4+3))","v":"★"},{"$f":"IF(INDIRECT($C$2&$C13&\"!\"&AP$5&$AN$4+3)=\"\",\"★\",INDIRECT($C$2&$C13&\"!\"&AP$5&$AN$4+3))","v":"★"},{"$f":"IF(INDIRECT($C$2&$C13&\"!\"&AQ$5&$AN$4+3)=\"\",\"★\",INDIRECT($C$2&$C13&\"!\"&AQ$5&$AN$4+3))","v":"★"},{"$f":"IF(INDIRECT($C$2&$C13&\"!\"&AR$5&$AN$4+3)=\"\",\"★\",INDIRECT($C$2&$C13&\"!\"&AR$5&$AN$4+3))","v":"★"},{"$f":"IF(INDIRECT($C$2&$C13&\"!\"&AS$5&$AN$4+3)=\"\",\"★\",INDIRECT($C$2&$C13&\"!\"&AS$5&$AN$4+3))","v":"★"},{"$f":"IF(INDIRECT($C$2&$C13&\"!\"&AT$5&$AN$4+3)=\"\",\"★\",INDIRECT($C$2&$C13&\"!\"&AT$5&$AN$4+3))","v":"★"},{"$f":"IF(INDIRECT($C$2&$C13&\"!\"&AU$5&$AN$4+3)=\"\",\"★\",INDIRECT($C$2&$C13&\"!\"&AU$5&$AN$4+3))","v":"★"},null,null,null,null,{"$f":"IF(INDIRECT($C$2&$C13&\"!\"&AZ$5&$AZ$4+3)=\"\",\"★\",INDIRECT($C$2&$C13&\"!\"&AZ$5&$AZ$4+3))","v":"★"},{"$f":"IF(INDIRECT($C$2&$C13&\"!\"&BA$5&$AZ$4+3)=\"\",\"★\",INDIRECT($C$2&$C13&\"!\"&BA$5&$AZ$4+3))","v":"★"},{"$f":"IF(INDIRECT($C$2&$C13&\"!\"&BB$5&$AZ$4+3)=\"\",\"★\",INDIRECT($C$2&$C13&\"!\"&BB$5&$AZ$4+3))","v":"★"},{"$f":"IF(INDIRECT($C$2&$C13&\"!\"&BC$5&$AZ$4+3)=\"\",\"★\",INDIRECT($C$2&$C13&\"!\"&BC$5&$AZ$4+3))","v":"★"},{"$f":"IF(INDIRECT($C$2&$C13&\"!\"&BD$5&$AZ$4+3)=\"\",\"★\",INDIRECT($C$2&$C13&\"!\"&BD$5&$AZ$4+3))","v":"★"},{"$f":"IF(INDIRECT($C$2&$C13&\"!\"&BE$5&$AZ$4+3)=\"\",\"★\",INDIRECT($C$2&$C13&\"!\"&BE$5&$AZ$4+3))","v":"★"},{"$f":"IF(INDIRECT($C$2&$C13&\"!\"&BF$5&$AZ$4+3)=\"\",\"★\",INDIRECT($C$2&$C13&\"!\"&BF$5&$AZ$4+3))","v":"★"},{"$f":"IF(INDIRECT($C$2&$C13&\"!\"&BG$5&$AZ$4+3)=\"\",\"★\",INDIRECT($C$2&$C13&\"!\"&BG$5&$AZ$4+3))","v":"★"},null,null,null,null,{"$f":"IF(INDIRECT($C$2&$C13&\"!\"&BL$5&$BL$4+3)=\"\",\"★\",INDIRECT($C$2&$C13&\"!\"&BL$5&$BL$4+3))","v":"★"},{"$f":"IF(INDIRECT($C$2&$C13&\"!\"&BM$5&$BL$4+3)=\"\",\"★\",INDIRECT($C$2&$C13&\"!\"&BM$5&$BL$4+3))","v":"★"},{"$f":"IF(INDIRECT($C$2&$C13&\"!\"&BN$5&$BL$4+3)=\"\",\"★\",INDIRECT($C$2&$C13&\"!\"&BN$5&$BL$4+3))","v":"★"},{"$f":"IF(INDIRECT($C$2&$C13&\"!\"&BO$5&$BL$4+3)=\"\",\"★\",INDIRECT($C$2&$C13&\"!\"&BO$5&$BL$4+3))","v":"★"},{"$f":"IF(INDIRECT($C$2&$C13&\"!\"&BP$5&$BL$4+3)=\"\",\"★\",INDIRECT($C$2&$C13&\"!\"&BP$5&$BL$4+3))","v":"★"},{"$f":"IF(INDIRECT($C$2&$C13&\"!\"&BQ$5&$BL$4+3)=\"\",\"★\",INDIRECT($C$2&$C13&\"!\"&BQ$5&$BL$4+3))","v":"★"},{"$f":"IF(INDIRECT($C$2&$C13&\"!\"&BR$5&$BL$4+3)=\"\",\"★\",INDIRECT($C$2&$C13&\"!\"&BR$5&$BL$4+3))","v":"★"},{"$f":"IF(INDIRECT($C$2&$C13&\"!\"&BS$5&$BL$4+3)=\"\",\"★\",INDIRECT($C$2&$C13&\"!\"&BS$5&$BL$4+3))","v":"★"},null,null,{"$f":"IF(INDIRECT($C$2&$C13&\"!\"&BV$5&$BV$4+3)=\"\",\"★\",INDIRECT($C$2&$C13&\"!\"&BV$5&$BV$4+3))","v":"★"},{"$f":"IF(INDIRECT($C$2&$C13&\"!\"&BW$5&$BV$4+3)=\"\",\"★\",INDIRECT($C$2&$C13&\"!\"&BW$5&$BV$4+3))","v":"★"},{"$f":"IF(INDIRECT($C$2&$C13&\"!\"&BX$5&$BV$4+3)=\"\",\"★\",INDIRECT($C$2&$C13&\"!\"&BX$5&$BV$4+3))","v":"★"},{"$f":"IF(INDIRECT($C$2&$C13&\"!\"&BY$5&$BV$4+3)=\"\",\"★\",INDIRECT($C$2&$C13&\"!\"&BY$5&$BV$4+3))","v":"★"},{"$f":"IF(INDIRECT($C$2&$C13&\"!\"&BZ$5&$BV$4+3)=\"\",\"★\",INDIRECT($C$2&$C13&\"!\"&BZ$5&$BV$4+3))","v":"★"},{"$f":"IF(INDIRECT($C$2&$C13&\"!\"&CA$5&$BV$4+3)=\"\",\"★\",INDIRECT($C$2&$C13&\"!\"&CA$5&$BV$4+3))","v":"★"},null,{"$f":"IF(INDIRECT($C$2&$C13&\"!\"&CC$5&$CC$4+3)=\"\",\"★\",INDIRECT($C$2&$C13&\"!\"&CC$5&$CC$4+3))","v":"★"},{"$f":"IF(INDIRECT($C$2&$C13&\"!\"&CD$5&$CC$4+3)=\"\",\"★\",INDIRECT($C$2&$C13&\"!\"&CD$5&$CC$4+3))","v":"★"},{"$f":"IF(INDIRECT($C$2&$C13&\"!\"&CE$5&$CC$4+3)=\"\",\"★\",INDIRECT($C$2&$C13&\"!\"&CE$5&$CC$4+3))","v":"★"},{"$f":"IF(INDIRECT($C$2&$C13&\"!\"&CF$5&$CC$4+3)=\"\",\"★\",INDIRECT($C$2&$C13&\"!\"&CF$5&$CC$4+3))","v":"★"},{"$f":"IF(INDIRECT($C$2&$C13&\"!\"&CG$5&$CC$4+3)=\"\",\"★\",INDIRECT($C$2&$C13&\"!\"&CG$5&$CC$4+3))","v":"★"},{"$f":"IF(INDIRECT($C$2&$C13&\"!\"&CH$5&$CC$4+3)=\"\",\"★\",INDIRECT($C$2&$C13&\"!\"&CH$5&$CC$4+3))","v":"★"},null,null,null,null,{"$f":"IF(INDIRECT($C$2&$C13&\"!\"&CM$5&$CM$4+3)=\"\",\"★\",INDIRECT($C$2&$C13&\"!\"&CM$5&$CM$4+3))","v":"★"},{"$f":"IF(INDIRECT($C$2&$C13&\"!\"&CN$5&$CM$4+3)=\"\",\"★\",INDIRECT($C$2&$C13&\"!\"&CN$5&$CM$4+3))","v":"★"},{"$f":"IF(INDIRECT($C$2&$C13&\"!\"&CO$5&$CM$4+3)=\"\",\"★\",INDIRECT($C$2&$C13&\"!\"&CO$5&$CM$4+3))","v":"★"},{"$f":"IF(INDIRECT($C$2&$C13&\"!\"&CP$5&$CM$4+3)=\"\",\"★\",INDIRECT($C$2&$C13&\"!\"&CP$5&$CM$4+3))","v":"★"},{"$f":"IF(INDIRECT($C$2&$C13&\"!\"&CQ$5&$CM$4+3)=\"\",\"★\",INDIRECT($C$2&$C13&\"!\"&CQ$5&$CM$4+3))","v":"★"},{"$f":"IF(INDIRECT($C$2&$C13&\"!\"&CR$5&$CM$4+3)=\"\",\"★\",INDIRECT($C$2&$C13&\"!\"&CR$5&$CM$4+3))","v":"★"},null,null,null,null,{"$f":"IF(INDIRECT($C$2&$C13&\"!\"&CW$5&$CW$4+3)=\"\",\"★\",INDIRECT($C$2&$C13&\"!\"&CW$5&$CW$4+3))","v":"★"},{"$f":"IF(INDIRECT($C$2&$C13&\"!\"&CX$5&$CW$4+3)=\"\",\"★\",INDIRECT($C$2&$C13&\"!\"&CX$5&$CW$4+3))","v":"★"},{"$f":"IF(INDIRECT($C$2&$C13&\"!\"&CY$5&$CW$4+3)=\"\",\"★\",INDIRECT($C$2&$C13&\"!\"&CY$5&$CW$4+3))","v":"★"},{"$f":"IF(INDIRECT($C$2&$C13&\"!\"&CZ$5&$CW$4+3)=\"\",\"★\",INDIRECT($C$2&$C13&\"!\"&CZ$5&$CW$4+3))","v":"★"},{"$f":"IF(INDIRECT($C$2&$C13&\"!\"&DA$5&$CW$4+3)=\"\",\"★\",INDIRECT($C$2&$C13&\"!\"&DA$5&$CW$4+3))","v":"★"},{"$f":"IF(INDIRECT($C$2&$C13&\"!\"&DB$5&$CW$4+3)=\"\",\"★\",INDIRECT($C$2&$C13&\"!\"&DB$5&$CW$4+3))","v":"★"},null,null,null,null,{"$f":"IF(INDIRECT($C$2&$C13&\"!\"&DG$5&$DG$4+3)=\"\",\"★\",INDIRECT($C$2&$C13&\"!\"&DG$5&$DG$4+3))","v":"★"},{"$f":"IF(INDIRECT($C$2&$C13&\"!\"&DH$5&$DG$4+3)=\"\",\"★\",INDIRECT($C$2&$C13&\"!\"&DH$5&$DG$4+3))","v":"★"},{"$f":"IF(INDIRECT($C$2&$C13&\"!\"&DI$5&$DG$4+3)=\"\",\"★\",INDIRECT($C$2&$C13&\"!\"&DI$5&$DG$4+3))","v":"★"},{"$f":"IF(INDIRECT($C$2&$C13&\"!\"&DJ$5&$DG$4+3)=\"\",\"★\",INDIRECT($C$2&$C13&\"!\"&DJ$5&$DG$4+3))","v":"★"},{"$f":"IF(INDIRECT($C$2&$C13&\"!\"&DK$5&$DG$4+3)=\"\",\"★\",INDIRECT($C$2&$C13&\"!\"&DK$5&$DG$4+3))","v":"★"},{"$f":"IF(INDIRECT($C$2&$C13&\"!\"&DL$5&$DG$4+3)=\"\",\"★\",INDIRECT($C$2&$C13&\"!\"&DL$5&$DG$4+3))","v":"★"}]
[null,null,{"$f":"IF(INDIRECT($B$2&\"B22\")=\"\",\"★\",INDIRECT($B$2&\"B22\"))","v":2},{"$f":"IF(INDIRECT($C$2&$C14&\"!K12\")=\"\",\"★\",INDIRECT($C$2&$C14&\"!K12\"))","v":"★"},{"$f":"IF(INDIRECT($C$2&$C14&\"!L12\")=\"\",\"★\",INDIRECT($C$2&$C14&\"!L12\"))","v":"★"},{"$f":"IF(INDIRECT($C$2&$C14&\"!D13\")=\"\",\"★\",INDIRECT($C$2&$C14&\"!D13\"))","v":"ボイラ室照明の不要時間帯の消灯"},{"$f":"IF(INDIRECT($C$2&$C14&\"!D14\")=\"\",\"★\",INDIRECT($C$2&$C14&\"!D14\"))","v":"運用改善"},{"$f":"IF(INDIRECT($C$2&$C14&\"!D15\")=\"\",\"★\",INDIRECT($C$2&$C14&\"!D15\"))","v":"照明設備"},{"$f":"IF(INDIRECT($C$2&$C14&\"!D16\")=\"\",\"★\",INDIRECT($C$2&$C14&\"!D16\"))","v":"照明"},{"$f":"IF(INDIRECT($C$2&$C14&\"!D17\")=\"\",\"★\",INDIRECT($C$2&$C14&\"!D17\"))","v":"照明設備"},{"$f":"IF(INDIRECT($C$2&$C14&\"!D18\")=\"\",\"★\",INDIRECT($C$2&$C14&\"!D18\"))","v":"★"},{"$f":"$C14&\"-1\"","v":"2-1"},{"$f":"IF(INDIRECT($C$2&$C14&\"!\"&M$5&$M$4)=\"\",\"★\",INDIRECT($C$2&$C14&\"!\"&M$5&$M$4))","v":"系統電力①"},{"$f":"IF(INDIRECT($C$2&$C14&\"!\"&N$5&$M$4)=\"\",\"★\",INDIRECT($C$2&$C14&\"!\"&N$5&$M$4))","v":79975},{"$f":"IF(INDIRECT($C$2&$C14&\"!\"&O$5&$M$4)=\"\",\"★\",INDIRECT($C$2&$C14&\"!\"&O$5&$M$4))","v":"kWh"},{"$f":"IF(INDIRECT($C$2&$C14&\"!\"&P$5&$M$4)=\"\",\"★\",INDIRECT($C$2&$C14&\"!\"&P$5&$M$4))","v":"★"},{"$f":"IF(INDIRECT($C$2&$C14&\"!\"&Q$5&$M$4)=\"\",\"★\",INDIRECT($C$2&$C14&\"!\"&Q$5&$M$4))","v":"---"},{"$f":"IF(INDIRECT($C$2&$C14&\"!\"&R$5&$M$4)=\"\",\"★\",INDIRECT($C$2&$C14&\"!\"&R$5&$M$4))","v":4.3600000000000003E-4},{"$f":"IF(INDIRECT($C$2&$C14&\"!\"&S$5&$M$4)=\"\",\"★\",INDIRECT($C$2&$C14&\"!\"&S$5&$M$4))","v":"t-CO2/kWh"},{"$f":"IF(INDIRECT($C$2&$C14&\"!\"&T$5&$M$4)=\"\",\"★\",INDIRECT($C$2&$C14&\"!\"&T$5&$M$4))","v":34.869100000000003},{"$f":"IF(INDIRECT($C$2&$C14&\"!\"&U$5&$M$4)=\"\",\"★\",INDIRECT($C$2&$C14&\"!\"&U$5&$M$4))","v":34.869100000000003},{"$f":"IF(INDIRECT($C$2&$C14&\"!\"&V$5&$V$4)=\"\",\"★\",INDIRECT($C$2&$C14&\"!\"&V$5&$V$4))","v":"系統電力①"},{"$f":"IF(INDIRECT($C$2&$C14&\"!\"&W$5&$V$4)=\"\",\"★\",INDIRECT($C$2&$C14&\"!\"&W$5&$V$4))","v":71000},{"$f":"IF(INDIRECT($C$2&$C14&\"!\"&X$5&$V$4)=\"\",\"★\",INDIRECT($C$2&$C14&\"!\"&X$5&$V$4))","v":"kWh"},{"$f":"IF(INDIRECT($C$2&$C14&\"!\"&Y$5&$V$4)=\"\",\"★\",INDIRECT($C$2&$C14&\"!\"&Y$5&$V$4))","v":"★"},{"$f":"IF(INDIRECT($C$2&$C14&\"!\"&Z$5&$V$4)=\"\",\"★\",INDIRECT($C$2&$C14&\"!\"&Z$5&$V$4))","v":"---"},{"$f":"IF(INDIRECT($C$2&$C14&\"!\"&AA$5&$V$4)=\"\",\"★\",INDIRECT($C$2&$C14&\"!\"&AA$5&$V$4))","v":4.3600000000000003E-4},{"$f":"IF(INDIRECT($C$2&$C14&\"!\"&AB$5&$V$4)=\"\",\"★\",INDIRECT($C$2&$C14&\"!\"&AB$5&$V$4))","v":"t-CO2/kWh"},{"$f":"IF(INDIRECT($C$2&$C14&\"!\"&AC$5&$V$4)=\"\",\"★\",INDIRECT($C$2&$C14&\"!\"&AC$5&$V$4))","v":30.956000000000003},{"$f":"IF(INDIRECT($C$2&$C14&\"!\"&AD$5&$V$4)=\"\",\"★\",INDIRECT($C$2&$C14&\"!\"&AD$5&$V$4))","v":30.956000000000003},{"$f":"IF(INDIRECT($C$2&$C14&\"!\"&AE$5&$V$4)=\"\",\"★\",INDIRECT($C$2&$C14&\"!\"&AE$5&$V$4))","v":3.9131},{"$f":"IF(INDIRECT($C$2&$C14&\"!\"&AF$5&$AF$4)=\"\",\"★\",INDIRECT($C$2&$C14&\"!\"&AF$5&$AF$4))","v":"未実施"},{"$f":"IF(INDIRECT($C$2&$C14&\"!\"&AG$5&$AF$4)=\"\",\"★\",INDIRECT($C$2&$C14&\"!\"&AG$5&$AF$4))","v":true},{"$f":"IF(INDIRECT($C$2&$C14&\"!\"&AH$5&$AH$4)=\"\",\"★\",INDIRECT($C$2&$C14&\"!\"&AH$5&$AH$4))","v":"★"},{"$f":"IF(INDIRECT($C$2&$C14&\"!\"&AI$5&$AH$4)=\"\",\"★\",INDIRECT($C$2&$C14&\"!\"&AI$5&$AH$4))","v":false},{"$f":"IF(INDIRECT($C$2&$C14&\"!\"&AJ$5&$AJ$4)=\"\",\"★\",INDIRECT($C$2&$C14&\"!\"&AJ$5&$AJ$4))","v":"★"},{"$f":"IF(INDIRECT($C$2&$C14&\"!\"&AK$5&$AJ$4)=\"\",\"★\",INDIRECT($C$2&$C14&\"!\"&AK$5&$AJ$4))","v":false},{"$f":"$AF14","v":"未実施"},{"$f":"$AG14","v":true},{"$f":"IF(INDIRECT($C$2&$C14&\"!\"&AN$5&$AN$4)=\"\",\"★\",INDIRECT($C$2&$C14&\"!\"&AN$5&$AN$4))","v":"系統電力①"},{"$f":"IF(INDIRECT($C$2&$C14&\"!\"&AO$5&$AN$4)=\"\",\"★\",INDIRECT($C$2&$C14&\"!\"&AO$5&$AN$4))","v":79975},{"$f":"IF(INDIRECT($C$2&$C14&\"!\"&AP$5&$AN$4)=\"\",\"★\",INDIRECT($C$2&$C14&\"!\"&AP$5&$AN$4))","v":"kWh"},{"$f":"IF(INDIRECT($C$2&$C14&\"!\"&AQ$5&$AN$4)=\"\",\"★\",INDIRECT($C$2&$C14&\"!\"&AQ$5&$AN$4))","v":"★"},{"$f":"IF(INDIRECT($C$2&$C14&\"!\"&AR$5&$AN$4)=\"\",\"★\",INDIRECT($C$2&$C14&\"!\"&AR$5&$AN$4))","v":"---"},{"$f":"IF(INDIRECT($C$2&$C14&\"!\"&AS$5&$AN$4)=\"\",\"★\",INDIRECT($C$2&$C14&\"!\"&AS$5&$AN$4))","v":4.3600000000000003E-4},{"$f":"IF(INDIRECT($C$2&$C14&\"!\"&AT$5&$AN$4)=\"\",\"★\",INDIRECT($C$2&$C14&\"!\"&AT$5&$AN$4))","v":"t-CO2/kWh"},{"$f":"IF(INDIRECT($C$2&$C14&\"!\"&AU$5&$AN$4)=\"\",\"★\",INDIRECT($C$2&$C14&\"!\"&AU$5&$AN$4))","v":34.869100000000003},{"$f":"IF(INDIRECT($C$2&$C14&\"!\"&AV$5&$AN$4)=\"\",\"★\",INDIRECT($C$2&$C14&\"!\"&AV$5&$AN$4))","v":34.869100000000003},{"$f":"IF(INDIRECT($C$2&$C14&\"!\"&AW$5&$AN$4)=\"\",\"★\",INDIRECT($C$2&$C14&\"!\"&AW$5&$AN$4))","v":0},{"$f":"$AH14","v":"★"},{"$f":"$AI14","v":false},{"$f":"IF(INDIRECT($C$2&$C14&\"!\"&AZ$5&$AZ$4)=\"\",\"★\",INDIRECT($C$2&$C14&\"!\"&AZ$5&$AZ$4))","v":"★"},{"$f":"IF(INDIRECT($C$2&$C14&\"!\"&BA$5&$AZ$4)=\"\",\"★\",INDIRECT($C$2&$C14&\"!\"&BA$5&$AZ$4))","v":"★"},{"$f":"IF(INDIRECT($C$2&$C14&\"!\"&BB$5&$AZ$4)=\"\",\"★\",INDIRECT($C$2&$C14&\"!\"&BB$5&$AZ$4))","v":"★"},{"$f":"IF(INDIRECT($C$2&$C14&\"!\"&BC$5&$AZ$4)=\"\",\"★\",INDIRECT($C$2&$C14&\"!\"&BC$5&$AZ$4))","v":"★"},{"$f":"IF(INDIRECT($C$2&$C14&\"!\"&BD$5&$AZ$4)=\"\",\"★\",INDIRECT($C$2&$C14&\"!\"&BD$5&$AZ$4))","v":"★"},{"$f":"IF(INDIRECT($C$2&$C14&\"!\"&BE$5&$AZ$4)=\"\",\"★\",INDIRECT($C$2&$C14&\"!\"&BE$5&$AZ$4))","v":"★"},{"$f":"IF(INDIRECT($C$2&$C14&\"!\"&BF$5&$AZ$4)=\"\",\"★\",INDIRECT($C$2&$C14&\"!\"&BF$5&$AZ$4))","v":"★"},{"$f":"IF(INDIRECT($C$2&$C14&\"!\"&BG$5&$AZ$4)=\"\",\"★\",INDIRECT($C$2&$C14&\"!\"&BG$5&$AZ$4))","v":"★"},{"$f":"IF(INDIRECT($C$2&$C14&\"!\"&BH$5&$AZ$4)=\"\",\"★\",INDIRECT($C$2&$C14&\"!\"&BH$5&$AZ$4))","v":"★"},{"$f":"IF(INDIRECT($C$2&$C14&\"!\"&BI$5&$AZ$4)=\"\",\"★\",INDIRECT($C$2&$C14&\"!\"&BI$5&$AZ$4))","v":"---"},{"$f":"$AJ14","v":"★"},{"$f":"$AK14","v":false},{"$f":"IF(INDIRECT($C$2&$C14&\"!\"&BL$5&$BL$4)=\"\",\"★\",INDIRECT($C$2&$C14&\"!\"&BL$5&$BL$4))","v":"★"},{"$f":"IF(INDIRECT($C$2&$C14&\"!\"&BM$5&$BL$4)=\"\",\"★\",INDIRECT($C$2&$C14&\"!\"&BM$5&$BL$4))","v":"★"},{"$f":"IF(INDIRECT($C$2&$C14&\"!\"&BN$5&$BL$4)=\"\",\"★\",INDIRECT($C$2&$C14&\"!\"&BN$5&$BL$4))","v":"★"},{"$f":"IF(INDIRECT($C$2&$C14&\"!\"&BO$5&$BL$4)=\"\",\"★\",INDIRECT($C$2&$C14&\"!\"&BO$5&$BL$4))","v":"★"},{"$f":"IF(INDIRECT($C$2&$C14&\"!\"&BP$5&$BL$4)=\"\",\"★\",INDIRECT($C$2&$C14&\"!\"&BP$5&$BL$4))","v":"★"},{"$f":"IF(INDIRECT($C$2&$C14&\"!\"&BQ$5&$BL$4)=\"\",\"★\",INDIRECT($C$2&$C14&\"!\"&BQ$5&$BL$4))","v":"★"},{"$f":"IF(INDIRECT($C$2&$C14&\"!\"&BR$5&$BL$4)=\"\",\"★\",INDIRECT($C$2&$C14&\"!\"&BR$5&$BL$4))","v":"★"},{"$f":"IF(INDIRECT($C$2&$C14&\"!\"&BS$5&$BL$4)=\"\",\"★\",INDIRECT($C$2&$C14&\"!\"&BS$5&$BL$4))","v":"★"},{"$f":"IF(INDIRECT($C$2&$C14&\"!\"&BT$5&$BL$4)=\"\",\"★\",INDIRECT($C$2&$C14&\"!\"&BT$5&$BL$4))","v":"★"},{"$f":"IF(INDIRECT($C$2&$C14&\"!\"&BU$5&$BL$4)=\"\",\"★\",INDIRECT($C$2&$C14&\"!\"&BU$5&$BL$4))","v":"---"},{"$f":"IF(INDIRECT($C$2&$C14&\"!\"&BV$5&$BV$4)=\"\",\"★\",INDIRECT($C$2&$C14&\"!\"&BV$5&$BV$4))","v":"*系統電力*"},{"$f":"IF(INDIRECT($C$2&$C14&\"!\"&BW$5&$BV$4)=\"\",\"★\",INDIRECT($C$2&$C14&\"!\"&BW$5&$BV$4))","v":79975},{"$f":"IF(INDIRECT($C$2&$C14&\"!\"&BX$5&$BV$4)=\"\",\"★\",INDIRECT($C$2&$C14&\"!\"&BX$5&$BV$4))","v":"kWh"},{"$f":"IF(INDIRECT($C$2&$C14&\"!\"&BY$5&$BV$4)=\"\",\"★\",INDIRECT($C$2&$C14&\"!\"&BY$5&$BV$4))","v":9.7599999999999996E-3},{"$f":"IF(INDIRECT($C$2&$C14&\"!\"&BZ$5&$BV$4)=\"\",\"★\",INDIRECT($C$2&$C14&\"!\"&BZ$5&$BV$4))","v":"GJ/kWh"},{"$f":"IF(INDIRECT($C$2&$C14&\"!\"&CA$5&$BV$4)=\"\",\"★\",INDIRECT($C$2&$C14&\"!\"&CA$5&$BV$4))","v":780.55599999999993},{"$f":"IF(INDIRECT($C$2&$C14&\"!\"&CB$5&$BV$4)=\"\",\"★\",INDIRECT($C$2&$C14&\"!\"&CB$5&$BV$4))","v":780.55599999999993},{"$f":"IF(INDIRECT($C$2&$C14&\"!\"&CC$5&$CC$4)=\"\",\"★\",INDIRECT($C$2&$C14&\"!\"&CC$5&$CC$4))","v":"*系統電力*"},{"$f":"IF(INDIRECT($C$2&$C14&\"!\"&CD$5&$CC$4)=\"\",\"★\",INDIRECT($C$2&$C14&\"!\"&CD$5&$CC$4))","v":71000},{"$f":"IF(INDIRECT($C$2&$C14&\"!\"&CE$5&$CC$4)=\"\",\"★\",INDIRECT($C$2&$C14&\"!\"&CE$5&$CC$4))","v":"kWh"},{"$f":"IF(INDIRECT($C$2&$C14&\"!\"&CF$5&$CC$4)=\"\",\"★\",INDIRECT($C$2&$C14&\"!\"&CF$5&$CC$4))","v":9.7599999999999996E-3},{"$f":"IF(INDIRECT($C$2&$C14&\"!\"&CG$5&$CC$4)=\"\",\"★\",INDIRECT($C$2&$C14&\"!\"&CG$5&$CC$4))","v":"GJ/kWh"},{"$f":"IF(INDIRECT($C$2&$C14&\"!\"&CH$5&$CC$4)=\"\",\"★\",INDIRECT($C$2&$C14&\"!\"&CH$5&$CC$4))","v":692.95999999999992},{"$f":"IF(INDIRECT($C$2&$C14&\"!\"&CI$5&$CC$4)=\"\",\"★\",INDIRECT($C$2&$C14&\"!\"&CI$5&$CC$4))","v":692.95999999999992},{"$f":"IF(INDIRECT($C$2&$C14&\"!\"&CJ$5&$CC$4)=\"\",\"★\",INDIRECT($C$2&$C14&\"!\"&CJ$5&$CC$4))","v":87.596000000000004},{"$f":"$AF14","v":"未実施"},{"$f":"$AG14","v":true},{"$f":"IF(INDIRECT($C$2&$C14&\"!\"&CM$5&$CM$4)=\"\",\"★\",INDIRECT($C$2&$C14&\"!\"&CM$5&$CM$4))","v":"*系統電力*"},{"$f":"IF(INDIRECT($C$2&$C14&\"!\"&CN$5&$CM$4)=\"\",\"★\",INDIRECT($C$2&$C14&\"!\"&CN$5&$CM$4))","v":79975},{"$f":"IF(INDIRECT($C$2&$C14&\"!\"&CO$5&$CM$4)=\"\",\"★\",INDIRECT($C$2&$C14&\"!\"&CO$5&$CM$4))","v":"kWh"},{"$f":"IF(INDIRECT($C$2&$C14&\"!\"&CP$5&$CM$4)=\"\",\"★\",INDIRECT($C$2&$C14&\"!\"&CP$5&$CM$4))","v":9.7599999999999996E-3},{"$f":"IF(INDIRECT($C$2&$C14&\"!\"&CQ$5&$CM$4)=\"\",\"★\",INDIRECT($C$2&$C14&\"!\"&CQ$5&$CM$4))","v":"GJ/kWh"},{"$f":"IF(INDIRECT($C$2&$C14&\"!\"&CR$5&$CM$4)=\"\",\"★\",INDIRECT($C$2&$C14&\"!\"&CR$5&$CM$4))","v":780.55599999999993},{"$f":"IF(INDIRECT($C$2&$C14&\"!\"&CS$5&$CM$4)=\"\",\"★\",INDIRECT($C$2&$C14&\"!\"&CS$5&$CM$4))","v":780.55599999999993},{"$f":"IF(INDIRECT($C$2&$C14&\"!\"&CT$5&$CM$4)=\"\",\"★\",INDIRECT($C$2&$C14&\"!\"&CT$5&$CM$4))","v":0},{"$f":"$AH14","v":"★"},{"$f":"$AI14","v":false},{"$f":"IF(INDIRECT($C$2&$C14&\"!\"&CW$5&$CW$4)=\"\",\"★\",INDIRECT($C$2&$C14&\"!\"&CW$5&$CW$4))","v":"★"},{"$f":"IF(INDIRECT($C$2&$C14&\"!\"&CX$5&$CW$4)=\"\",\"★\",INDIRECT($C$2&$C14&\"!\"&CX$5&$CW$4))","v":"★"},{"$f":"IF(INDIRECT($C$2&$C14&\"!\"&CY$5&$CW$4)=\"\",\"★\",INDIRECT($C$2&$C14&\"!\"&CY$5&$CW$4))","v":"★"},{"$f":"IF(INDIRECT($C$2&$C14&\"!\"&CZ$5&$CW$4)=\"\",\"★\",INDIRECT($C$2&$C14&\"!\"&CZ$5&$CW$4))","v":"★"},{"$f":"IF(INDIRECT($C$2&$C14&\"!\"&DA$5&$CW$4)=\"\",\"★\",INDIRECT($C$2&$C14&\"!\"&DA$5&$CW$4))","v":"★"},{"$f":"IF(INDIRECT($C$2&$C14&\"!\"&DB$5&$CW$4)=\"\",\"★\",INDIRECT($C$2&$C14&\"!\"&DB$5&$CW$4))","v":"★"},{"$f":"IF(INDIRECT($C$2&$C14&\"!\"&DC$5&$CW$4)=\"\",\"★\",INDIRECT($C$2&$C14&\"!\"&DC$5&$CW$4))","v":"★"},{"$f":"IF(INDIRECT($C$2&$C14&\"!\"&DD$5&$CW$4)=\"\",\"★\",INDIRECT($C$2&$C14&\"!\"&DD$5&$CW$4))","v":"---"},{"$f":"$AJ14","v":"★"},{"$f":"$AK14","v":false},{"$f":"IF(INDIRECT($C$2&$C14&\"!\"&DG$5&$DG$4)=\"\",\"★\",INDIRECT($C$2&$C14&\"!\"&DG$5&$DG$4))","v":"★"},{"$f":"IF(INDIRECT($C$2&$C14&\"!\"&DH$5&$DG$4)=\"\",\"★\",INDIRECT($C$2&$C14&\"!\"&DH$5&$DG$4))","v":"★"},{"$f":"IF(INDIRECT($C$2&$C14&\"!\"&DI$5&$DG$4)=\"\",\"★\",INDIRECT($C$2&$C14&\"!\"&DI$5&$DG$4))","v":"★"},{"$f":"IF(INDIRECT($C$2&$C14&\"!\"&DJ$5&$DG$4)=\"\",\"★\",INDIRECT($C$2&$C14&\"!\"&DJ$5&$DG$4))","v":"★"},{"$f":"IF(INDIRECT($C$2&$C14&\"!\"&DK$5&$DG$4)=\"\",\"★\",INDIRECT($C$2&$C14&\"!\"&DK$5&$DG$4))","v":"★"},{"$f":"IF(INDIRECT($C$2&$C14&\"!\"&DL$5&$DG$4)=\"\",\"★\",INDIRECT($C$2&$C14&\"!\"&DL$5&$DG$4))","v":"★"},{"$f":"IF(INDIRECT($C$2&$C14&\"!\"&DM$5&$DG$4)=\"\",\"★\",INDIRECT($C$2&$C14&\"!\"&DM$5&$DG$4))","v":"★"},{"$f":"IF(INDIRECT($C$2&$C14&\"!\"&DN$5&$DG$4)=\"\",\"★\",INDIRECT($C$2&$C14&\"!\"&DN$5&$DG$4))","v":"---"},{"$f":"IF(INDIRECT($C$2&$C14&\"!B57\")=\"\",\"★\",INDIRECT($C$2&$C14&\"!B57\"))","v":"★"},{"$f":"IF(INDIRECT($C$2&$C14&\"!B100\")=\"\",\"★\",INDIRECT($C$2&$C14&\"!B100\"))","v":"★"},{"$f":"IF(INDIRECT($C$2&$C14&\"!B112\")=\"\",\"★\",INDIRECT($C$2&$C14&\"!B112\"))","v":"★"},{"$f":"IF(INDIRECT($C$2&$C14&\"!B155\")=\"\",\"★\",INDIRECT($C$2&$C14&\"!B155\"))","v":"★"},{"$f":"IF(INDIRECT($C$2&$C14&\"!B167\")=\"\",\"★\",INDIRECT($C$2&$C14&\"!B167\"))","v":"★"},{"$f":"IF(INDIRECT($C$2&$C14&\"!B210\")=\"\",\"★\",INDIRECT($C$2&$C14&\"!B210\"))","v":"★"}]
[null,null,{"$f":"C14","v":2},null,null,null,null,null,null,null,null,{"$f":"$C15&\"-2\"","v":"2-2"},{"$f":"IF(INDIRECT($C$2&$C15&\"!\"&M$5&$M$4+1)=\"\",\"★\",INDIRECT($C$2&$C15&\"!\"&M$5&$M$4+1))","v":"★"},{"$f":"IF(INDIRECT($C$2&$C15&\"!\"&N$5&$M$4+1)=\"\",\"★\",INDIRECT($C$2&$C15&\"!\"&N$5&$M$4+1))","v":"★"},{"$f":"IF(INDIRECT($C$2&$C15&\"!\"&O$5&$M$4+1)=\"\",\"★\",INDIRECT($C$2&$C15&\"!\"&O$5&$M$4+1))","v":"★"},{"$f":"IF(INDIRECT($C$2&$C15&\"!\"&P$5&$M$4+1)=\"\",\"★\",INDIRECT($C$2&$C15&\"!\"&P$5&$M$4+1))","v":"★"},{"$f":"IF(INDIRECT($C$2&$C15&\"!\"&Q$5&$M$4+1)=\"\",\"★\",INDIRECT($C$2&$C15&\"!\"&Q$5&$M$4+1))","v":"★"},{"$f":"IF(INDIRECT($C$2&$C15&\"!\"&R$5&$M$4+1)=\"\",\"★\",INDIRECT($C$2&$C15&\"!\"&R$5&$M$4+1))","v":"★"},{"$f":"IF(INDIRECT($C$2&$C15&\"!\"&S$5&$M$4+1)=\"\",\"★\",INDIRECT($C$2&$C15&\"!\"&S$5&$M$4+1))","v":"★"},{"$f":"IF(INDIRECT($C$2&$C15&\"!\"&T$5&$M$4+1)=\"\",\"★\",INDIRECT($C$2&$C15&\"!\"&T$5&$M$4+1))","v":"★"},null,{"$f":"IF(INDIRECT($C$2&$C15&\"!\"&V$5&$V$4+1)=\"\",\"★\",INDIRECT($C$2&$C15&\"!\"&V$5&$V$4+1))","v":"★"},{"$f":"IF(INDIRECT($C$2&$C15&\"!\"&W$5&$V$4+1)=\"\",\"★\",INDIRECT($C$2&$C15&\"!\"&W$5&$V$4+1))","v":"★"},{"$f":"IF(INDIRECT($C$2&$C15&\"!\"&X$5&$V$4+1)=\"\",\"★\",INDIRECT($C$2&$C15&\"!\"&X$5&$V$4+1))","v":"★"},{"$f":"IF(INDIRECT($C$2&$C15&\"!\"&Y$5&$V$4+1)=\"\",\"★\",INDIRECT($C$2&$C15&\"!\"&Y$5&$V$4+1))","v":"★"},{"$f":"IF(INDIRECT($C$2&$C15&\"!\"&Z$5&$V$4+1)=\"\",\"★\",INDIRECT($C$2&$C15&\"!\"&Z$5&$V$4+1))","v":"★"},{"$f":"IF(INDIRECT($C$2&$C15&\"!\"&AA$5&$V$4+1)=\"\",\"★\",INDIRECT($C$2&$C15&\"!\"&AA$5&$V$4+1))","v":"★"},{"$f":"IF(INDIRECT($C$2&$C15&\"!\"&AB$5&$V$4+1)=\"\",\"★\",INDIRECT($C$2&$C15&\"!\"&AB$5&$V$4+1))","v":"★"},{"$f":"IF(INDIRECT($C$2&$C15&\"!\"&AC$5&$V$4+1)=\"\",\"★\",INDIRECT($C$2&$C15&\"!\"&AC$5&$V$4+1))","v":"★"},null,null,null,null,null,null,null,null,null,null,{"$f":"IF(INDIRECT($C$2&$C15&\"!\"&AN$5&$AN$4+1)=\"\",\"★\",INDIRECT($C$2&$C15&\"!\"&AN$5&$AN$4+1))","v":"★"},{"$f":"IF(INDIRECT($C$2&$C15&\"!\"&AO$5&$AN$4+1)=\"\",\"★\",INDIRECT($C$2&$C15&\"!\"&AO$5&$AN$4+1))","v":"★"},{"$f":"IF(INDIRECT($C$2&$C15&\"!\"&AP$5&$AN$4+1)=\"\",\"★\",INDIRECT($C$2&$C15&\"!\"&AP$5&$AN$4+1))","v":"★"},{"$f":"IF(INDIRECT($C$2&$C15&\"!\"&AQ$5&$AN$4+1)=\"\",\"★\",INDIRECT($C$2&$C15&\"!\"&AQ$5&$AN$4+1))","v":"★"},{"$f":"IF(INDIRECT($C$2&$C15&\"!\"&AR$5&$AN$4+1)=\"\",\"★\",INDIRECT($C$2&$C15&\"!\"&AR$5&$AN$4+1))","v":"★"},{"$f":"IF(INDIRECT($C$2&$C15&\"!\"&AS$5&$AN$4+1)=\"\",\"★\",INDIRECT($C$2&$C15&\"!\"&AS$5&$AN$4+1))","v":"★"},{"$f":"IF(INDIRECT($C$2&$C15&\"!\"&AT$5&$AN$4+1)=\"\",\"★\",INDIRECT($C$2&$C15&\"!\"&AT$5&$AN$4+1))","v":"★"},{"$f":"IF(INDIRECT($C$2&$C15&\"!\"&AU$5&$AN$4+1)=\"\",\"★\",INDIRECT($C$2&$C15&\"!\"&AU$5&$AN$4+1))","v":"★"},null,null,null,null,{"$f":"IF(INDIRECT($C$2&$C15&\"!\"&AZ$5&$AZ$4+1)=\"\",\"★\",INDIRECT($C$2&$C15&\"!\"&AZ$5&$AZ$4+1))","v":"★"},{"$f":"IF(INDIRECT($C$2&$C15&\"!\"&BA$5&$AZ$4+1)=\"\",\"★\",INDIRECT($C$2&$C15&\"!\"&BA$5&$AZ$4+1))","v":"★"},{"$f":"IF(INDIRECT($C$2&$C15&\"!\"&BB$5&$AZ$4+1)=\"\",\"★\",INDIRECT($C$2&$C15&\"!\"&BB$5&$AZ$4+1))","v":"★"},{"$f":"IF(INDIRECT($C$2&$C15&\"!\"&BC$5&$AZ$4+1)=\"\",\"★\",INDIRECT($C$2&$C15&\"!\"&BC$5&$AZ$4+1))","v":"★"},{"$f":"IF(INDIRECT($C$2&$C15&\"!\"&BD$5&$AZ$4+1)=\"\",\"★\",INDIRECT($C$2&$C15&\"!\"&BD$5&$AZ$4+1))","v":"★"},{"$f":"IF(INDIRECT($C$2&$C15&\"!\"&BE$5&$AZ$4+1)=\"\",\"★\",INDIRECT($C$2&$C15&\"!\"&BE$5&$AZ$4+1))","v":"★"},{"$f":"IF(INDIRECT($C$2&$C15&\"!\"&BF$5&$AZ$4+1)=\"\",\"★\",INDIRECT($C$2&$C15&\"!\"&BF$5&$AZ$4+1))","v":"★"},{"$f":"IF(INDIRECT($C$2&$C15&\"!\"&BG$5&$AZ$4+1)=\"\",\"★\",INDIRECT($C$2&$C15&\"!\"&BG$5&$AZ$4+1))","v":"★"},null,null,null,null,{"$f":"IF(INDIRECT($C$2&$C15&\"!\"&BL$5&$BL$4+1)=\"\",\"★\",INDIRECT($C$2&$C15&\"!\"&BL$5&$BL$4+1))","v":"★"},{"$f":"IF(INDIRECT($C$2&$C15&\"!\"&BM$5&$BL$4+1)=\"\",\"★\",INDIRECT($C$2&$C15&\"!\"&BM$5&$BL$4+1))","v":"★"},{"$f":"IF(INDIRECT($C$2&$C15&\"!\"&BN$5&$BL$4+1)=\"\",\"★\",INDIRECT($C$2&$C15&\"!\"&BN$5&$BL$4+1))","v":"★"},{"$f":"IF(INDIRECT($C$2&$C15&\"!\"&BO$5&$BL$4+1)=\"\",\"★\",INDIRECT($C$2&$C15&\"!\"&BO$5&$BL$4+1))","v":"★"},{"$f":"IF(INDIRECT($C$2&$C15&\"!\"&BP$5&$BL$4+1)=\"\",\"★\",INDIRECT($C$2&$C15&\"!\"&BP$5&$BL$4+1))","v":"★"},{"$f":"IF(INDIRECT($C$2&$C15&\"!\"&BQ$5&$BL$4+1)=\"\",\"★\",INDIRECT($C$2&$C15&\"!\"&BQ$5&$BL$4+1))","v":"★"},{"$f":"IF(INDIRECT($C$2&$C15&\"!\"&BR$5&$BL$4+1)=\"\",\"★\",INDIRECT($C$2&$C15&\"!\"&BR$5&$BL$4+1))","v":"★"},{"$f":"IF(INDIRECT($C$2&$C15&\"!\"&BS$5&$BL$4+1)=\"\",\"★\",INDIRECT($C$2&$C15&\"!\"&BS$5&$BL$4+1))","v":"★"},null,null,{"$f":"IF(INDIRECT($C$2&$C15&\"!\"&BV$5&$BV$4+1)=\"\",\"★\",INDIRECT($C$2&$C15&\"!\"&BV$5&$BV$4+1))","v":"★"},{"$f":"IF(INDIRECT($C$2&$C15&\"!\"&BW$5&$BV$4+1)=\"\",\"★\",INDIRECT($C$2&$C15&\"!\"&BW$5&$BV$4+1))","v":"★"},{"$f":"IF(INDIRECT($C$2&$C15&\"!\"&BX$5&$BV$4+1)=\"\",\"★\",INDIRECT($C$2&$C15&\"!\"&BX$5&$BV$4+1))","v":"★"},{"$f":"IF(INDIRECT($C$2&$C15&\"!\"&BY$5&$BV$4+1)=\"\",\"★\",INDIRECT($C$2&$C15&\"!\"&BY$5&$BV$4+1))","v":"★"},{"$f":"IF(INDIRECT($C$2&$C15&\"!\"&BZ$5&$BV$4+1)=\"\",\"★\",INDIRECT($C$2&$C15&\"!\"&BZ$5&$BV$4+1))","v":"★"},{"$f":"IF(INDIRECT($C$2&$C15&\"!\"&CA$5&$BV$4+1)=\"\",\"★\",INDIRECT($C$2&$C15&\"!\"&CA$5&$BV$4+1))","v":"★"},null,{"$f":"IF(INDIRECT($C$2&$C15&\"!\"&CC$5&$CC$4+1)=\"\",\"★\",INDIRECT($C$2&$C15&\"!\"&CC$5&$CC$4+1))","v":"★"},{"$f":"IF(INDIRECT($C$2&$C15&\"!\"&CD$5&$CC$4+1)=\"\",\"★\",INDIRECT($C$2&$C15&\"!\"&CD$5&$CC$4+1))","v":"★"},{"$f":"IF(INDIRECT($C$2&$C15&\"!\"&CE$5&$CC$4+1)=\"\",\"★\",INDIRECT($C$2&$C15&\"!\"&CE$5&$CC$4+1))","v":"★"},{"$f":"IF(INDIRECT($C$2&$C15&\"!\"&CF$5&$CC$4+1)=\"\",\"★\",INDIRECT($C$2&$C15&\"!\"&CF$5&$CC$4+1))","v":"★"},{"$f":"IF(INDIRECT($C$2&$C15&\"!\"&CG$5&$CC$4+1)=\"\",\"★\",INDIRECT($C$2&$C15&\"!\"&CG$5&$CC$4+1))","v":"★"},{"$f":"IF(INDIRECT($C$2&$C15&\"!\"&CH$5&$CC$4+1)=\"\",\"★\",INDIRECT($C$2&$C15&\"!\"&CH$5&$CC$4+1))","v":"★"},null,null,null,null,{"$f":"IF(INDIRECT($C$2&$C15&\"!\"&CM$5&$CM$4+1)=\"\",\"★\",INDIRECT($C$2&$C15&\"!\"&CM$5&$CM$4+1))","v":"★"},{"$f":"IF(INDIRECT($C$2&$C15&\"!\"&CN$5&$CM$4+1)=\"\",\"★\",INDIRECT($C$2&$C15&\"!\"&CN$5&$CM$4+1))","v":"★"},{"$f":"IF(INDIRECT($C$2&$C15&\"!\"&CO$5&$CM$4+1)=\"\",\"★\",INDIRECT($C$2&$C15&\"!\"&CO$5&$CM$4+1))","v":"★"},{"$f":"IF(INDIRECT($C$2&$C15&\"!\"&CP$5&$CM$4+1)=\"\",\"★\",INDIRECT($C$2&$C15&\"!\"&CP$5&$CM$4+1))","v":"★"},{"$f":"IF(INDIRECT($C$2&$C15&\"!\"&CQ$5&$CM$4+1)=\"\",\"★\",INDIRECT($C$2&$C15&\"!\"&CQ$5&$CM$4+1))","v":"★"},{"$f":"IF(INDIRECT($C$2&$C15&\"!\"&CR$5&$CM$4+1)=\"\",\"★\",INDIRECT($C$2&$C15&\"!\"&CR$5&$CM$4+1))","v":"★"},null,null,null,null,{"$f":"IF(INDIRECT($C$2&$C15&\"!\"&CW$5&$CW$4+1)=\"\",\"★\",INDIRECT($C$2&$C15&\"!\"&CW$5&$CW$4+1))","v":"★"},{"$f":"IF(INDIRECT($C$2&$C15&\"!\"&CX$5&$CW$4+1)=\"\",\"★\",INDIRECT($C$2&$C15&\"!\"&CX$5&$CW$4+1))","v":"★"},{"$f":"IF(INDIRECT($C$2&$C15&\"!\"&CY$5&$CW$4+1)=\"\",\"★\",INDIRECT($C$2&$C15&\"!\"&CY$5&$CW$4+1))","v":"★"},{"$f":"IF(INDIRECT($C$2&$C15&\"!\"&CZ$5&$CW$4+1)=\"\",\"★\",INDIRECT($C$2&$C15&\"!\"&CZ$5&$CW$4+1))","v":"★"},{"$f":"IF(INDIRECT($C$2&$C15&\"!\"&DA$5&$CW$4+1)=\"\",\"★\",INDIRECT($C$2&$C15&\"!\"&DA$5&$CW$4+1))","v":"★"},{"$f":"IF(INDIRECT($C$2&$C15&\"!\"&DB$5&$CW$4+1)=\"\",\"★\",INDIRECT($C$2&$C15&\"!\"&DB$5&$CW$4+1))","v":"★"},null,null,null,null,{"$f":"IF(INDIRECT($C$2&$C15&\"!\"&DG$5&$DG$4+1)=\"\",\"★\",INDIRECT($C$2&$C15&\"!\"&DG$5&$DG$4+1))","v":"★"},{"$f":"IF(INDIRECT($C$2&$C15&\"!\"&DH$5&$DG$4+1)=\"\",\"★\",INDIRECT($C$2&$C15&\"!\"&DH$5&$DG$4+1))","v":"★"},{"$f":"IF(INDIRECT($C$2&$C15&\"!\"&DI$5&$DG$4+1)=\"\",\"★\",INDIRECT($C$2&$C15&\"!\"&DI$5&$DG$4+1))","v":"★"},{"$f":"IF(INDIRECT($C$2&$C15&\"!\"&DJ$5&$DG$4+1)=\"\",\"★\",INDIRECT($C$2&$C15&\"!\"&DJ$5&$DG$4+1))","v":"★"},{"$f":"IF(INDIRECT($C$2&$C15&\"!\"&DK$5&$DG$4+1)=\"\",\"★\",INDIRECT($C$2&$C15&\"!\"&DK$5&$DG$4+1))","v":"★"},{"$f":"IF(INDIRECT($C$2&$C15&\"!\"&DL$5&$DG$4+1)=\"\",\"★\",INDIRECT($C$2&$C15&\"!\"&DL$5&$DG$4+1))","v":"★"}]
[null,null,{"$f":"C15","v":2},null,null,null,null,null,null,null,null,{"$f":"$C16&\"-3\"","v":"2-3"},{"$f":"IF(INDIRECT($C$2&$C16&\"!\"&M$5&$M$4+2)=\"\",\"★\",INDIRECT($C$2&$C16&\"!\"&M$5&$M$4+2))","v":"★"},{"$f":"IF(INDIRECT($C$2&$C16&\"!\"&N$5&$M$4+2)=\"\",\"★\",INDIRECT($C$2&$C16&\"!\"&N$5&$M$4+2))","v":"★"},{"$f":"IF(INDIRECT($C$2&$C16&\"!\"&O$5&$M$4+2)=\"\",\"★\",INDIRECT($C$2&$C16&\"!\"&O$5&$M$4+2))","v":"★"},{"$f":"IF(INDIRECT($C$2&$C16&\"!\"&P$5&$M$4+2)=\"\",\"★\",INDIRECT($C$2&$C16&\"!\"&P$5&$M$4+2))","v":"★"},{"$f":"IF(INDIRECT($C$2&$C16&\"!\"&Q$5&$M$4+2)=\"\",\"★\",INDIRECT($C$2&$C16&\"!\"&Q$5&$M$4+2))","v":"★"},{"$f":"IF(INDIRECT($C$2&$C16&\"!\"&R$5&$M$4+2)=\"\",\"★\",INDIRECT($C$2&$C16&\"!\"&R$5&$M$4+2))","v":"★"},{"$f":"IF(INDIRECT($C$2&$C16&\"!\"&S$5&$M$4+2)=\"\",\"★\",INDIRECT($C$2&$C16&\"!\"&S$5&$M$4+2))","v":"★"},{"$f":"IF(INDIRECT($C$2&$C16&\"!\"&T$5&$M$4+2)=\"\",\"★\",INDIRECT($C$2&$C16&\"!\"&T$5&$M$4+2))","v":"★"},null,{"$f":"IF(INDIRECT($C$2&$C16&\"!\"&V$5&$V$4+2)=\"\",\"★\",INDIRECT($C$2&$C16&\"!\"&V$5&$V$4+2))","v":"★"},{"$f":"IF(INDIRECT($C$2&$C16&\"!\"&W$5&$V$4+2)=\"\",\"★\",INDIRECT($C$2&$C16&\"!\"&W$5&$V$4+2))","v":"★"},{"$f":"IF(INDIRECT($C$2&$C16&\"!\"&X$5&$V$4+2)=\"\",\"★\",INDIRECT($C$2&$C16&\"!\"&X$5&$V$4+2))","v":"★"},{"$f":"IF(INDIRECT($C$2&$C16&\"!\"&Y$5&$V$4+2)=\"\",\"★\",INDIRECT($C$2&$C16&\"!\"&Y$5&$V$4+2))","v":"★"},{"$f":"IF(INDIRECT($C$2&$C16&\"!\"&Z$5&$V$4+2)=\"\",\"★\",INDIRECT($C$2&$C16&\"!\"&Z$5&$V$4+2))","v":"★"},{"$f":"IF(INDIRECT($C$2&$C16&\"!\"&AA$5&$V$4+2)=\"\",\"★\",INDIRECT($C$2&$C16&\"!\"&AA$5&$V$4+2))","v":"★"},{"$f":"IF(INDIRECT($C$2&$C16&\"!\"&AB$5&$V$4+2)=\"\",\"★\",INDIRECT($C$2&$C16&\"!\"&AB$5&$V$4+2))","v":"★"},{"$f":"IF(INDIRECT($C$2&$C16&\"!\"&AC$5&$V$4+2)=\"\",\"★\",INDIRECT($C$2&$C16&\"!\"&AC$5&$V$4+2))","v":"★"},null,null,null,null,null,null,null,null,null,null,{"$f":"IF(INDIRECT($C$2&$C16&\"!\"&AN$5&$AN$4+2)=\"\",\"★\",INDIRECT($C$2&$C16&\"!\"&AN$5&$AN$4+2))","v":"★"},{"$f":"IF(INDIRECT($C$2&$C16&\"!\"&AO$5&$AN$4+2)=\"\",\"★\",INDIRECT($C$2&$C16&\"!\"&AO$5&$AN$4+2))","v":"★"},{"$f":"IF(INDIRECT($C$2&$C16&\"!\"&AP$5&$AN$4+2)=\"\",\"★\",INDIRECT($C$2&$C16&\"!\"&AP$5&$AN$4+2))","v":"★"},{"$f":"IF(INDIRECT($C$2&$C16&\"!\"&AQ$5&$AN$4+2)=\"\",\"★\",INDIRECT($C$2&$C16&\"!\"&AQ$5&$AN$4+2))","v":"★"},{"$f":"IF(INDIRECT($C$2&$C16&\"!\"&AR$5&$AN$4+2)=\"\",\"★\",INDIRECT($C$2&$C16&\"!\"&AR$5&$AN$4+2))","v":"★"},{"$f":"IF(INDIRECT($C$2&$C16&\"!\"&AS$5&$AN$4+2)=\"\",\"★\",INDIRECT($C$2&$C16&\"!\"&AS$5&$AN$4+2))","v":"★"},{"$f":"IF(INDIRECT($C$2&$C16&\"!\"&AT$5&$AN$4+2)=\"\",\"★\",INDIRECT($C$2&$C16&\"!\"&AT$5&$AN$4+2))","v":"★"},{"$f":"IF(INDIRECT($C$2&$C16&\"!\"&AU$5&$AN$4+2)=\"\",\"★\",INDIRECT($C$2&$C16&\"!\"&AU$5&$AN$4+2))","v":"★"},null,null,null,null,{"$f":"IF(INDIRECT($C$2&$C16&\"!\"&AZ$5&$AZ$4+2)=\"\",\"★\",INDIRECT($C$2&$C16&\"!\"&AZ$5&$AZ$4+2))","v":"★"},{"$f":"IF(INDIRECT($C$2&$C16&\"!\"&BA$5&$AZ$4+2)=\"\",\"★\",INDIRECT($C$2&$C16&\"!\"&BA$5&$AZ$4+2))","v":"★"},{"$f":"IF(INDIRECT($C$2&$C16&\"!\"&BB$5&$AZ$4+2)=\"\",\"★\",INDIRECT($C$2&$C16&\"!\"&BB$5&$AZ$4+2))","v":"★"},{"$f":"IF(INDIRECT($C$2&$C16&\"!\"&BC$5&$AZ$4+2)=\"\",\"★\",INDIRECT($C$2&$C16&\"!\"&BC$5&$AZ$4+2))","v":"★"},{"$f":"IF(INDIRECT($C$2&$C16&\"!\"&BD$5&$AZ$4+2)=\"\",\"★\",INDIRECT($C$2&$C16&\"!\"&BD$5&$AZ$4+2))","v":"★"},{"$f":"IF(INDIRECT($C$2&$C16&\"!\"&BE$5&$AZ$4+2)=\"\",\"★\",INDIRECT($C$2&$C16&\"!\"&BE$5&$AZ$4+2))","v":"★"},{"$f":"IF(INDIRECT($C$2&$C16&\"!\"&BF$5&$AZ$4+2)=\"\",\"★\",INDIRECT($C$2&$C16&\"!\"&BF$5&$AZ$4+2))","v":"★"},{"$f":"IF(INDIRECT($C$2&$C16&\"!\"&BG$5&$AZ$4+2)=\"\",\"★\",INDIRECT($C$2&$C16&\"!\"&BG$5&$AZ$4+2))","v":"★"},null,null,null,null,{"$f":"IF(INDIRECT($C$2&$C16&\"!\"&BL$5&$BL$4+2)=\"\",\"★\",INDIRECT($C$2&$C16&\"!\"&BL$5&$BL$4+2))","v":"★"},{"$f":"IF(INDIRECT($C$2&$C16&\"!\"&BM$5&$BL$4+2)=\"\",\"★\",INDIRECT($C$2&$C16&\"!\"&BM$5&$BL$4+2))","v":"★"},{"$f":"IF(INDIRECT($C$2&$C16&\"!\"&BN$5&$BL$4+2)=\"\",\"★\",INDIRECT($C$2&$C16&\"!\"&BN$5&$BL$4+2))","v":"★"},{"$f":"IF(INDIRECT($C$2&$C16&\"!\"&BO$5&$BL$4+2)=\"\",\"★\",INDIRECT($C$2&$C16&\"!\"&BO$5&$BL$4+2))","v":"★"},{"$f":"IF(INDIRECT($C$2&$C16&\"!\"&BP$5&$BL$4+2)=\"\",\"★\",INDIRECT($C$2&$C16&\"!\"&BP$5&$BL$4+2))","v":"★"},{"$f":"IF(INDIRECT($C$2&$C16&\"!\"&BQ$5&$BL$4+2)=\"\",\"★\",INDIRECT($C$2&$C16&\"!\"&BQ$5&$BL$4+2))","v":"★"},{"$f":"IF(INDIRECT($C$2&$C16&\"!\"&BR$5&$BL$4+2)=\"\",\"★\",INDIRECT($C$2&$C16&\"!\"&BR$5&$BL$4+2))","v":"★"},{"$f":"IF(INDIRECT($C$2&$C16&\"!\"&BS$5&$BL$4+2)=\"\",\"★\",INDIRECT($C$2&$C16&\"!\"&BS$5&$BL$4+2))","v":"★"},null,null,{"$f":"IF(INDIRECT($C$2&$C16&\"!\"&BV$5&$BV$4+2)=\"\",\"★\",INDIRECT($C$2&$C16&\"!\"&BV$5&$BV$4+2))","v":"★"},{"$f":"IF(INDIRECT($C$2&$C16&\"!\"&BW$5&$BV$4+2)=\"\",\"★\",INDIRECT($C$2&$C16&\"!\"&BW$5&$BV$4+2))","v":"★"},{"$f":"IF(INDIRECT($C$2&$C16&\"!\"&BX$5&$BV$4+2)=\"\",\"★\",INDIRECT($C$2&$C16&\"!\"&BX$5&$BV$4+2))","v":"★"},{"$f":"IF(INDIRECT($C$2&$C16&\"!\"&BY$5&$BV$4+2)=\"\",\"★\",INDIRECT($C$2&$C16&\"!\"&BY$5&$BV$4+2))","v":"★"},{"$f":"IF(INDIRECT($C$2&$C16&\"!\"&BZ$5&$BV$4+2)=\"\",\"★\",INDIRECT($C$2&$C16&\"!\"&BZ$5&$BV$4+2))","v":"★"},{"$f":"IF(INDIRECT($C$2&$C16&\"!\"&CA$5&$BV$4+2)=\"\",\"★\",INDIRECT($C$2&$C16&\"!\"&CA$5&$BV$4+2))","v":"★"},null,{"$f":"IF(INDIRECT($C$2&$C16&\"!\"&CC$5&$CC$4+2)=\"\",\"★\",INDIRECT($C$2&$C16&\"!\"&CC$5&$CC$4+2))","v":"★"},{"$f":"IF(INDIRECT($C$2&$C16&\"!\"&CD$5&$CC$4+2)=\"\",\"★\",INDIRECT($C$2&$C16&\"!\"&CD$5&$CC$4+2))","v":"★"},{"$f":"IF(INDIRECT($C$2&$C16&\"!\"&CE$5&$CC$4+2)=\"\",\"★\",INDIRECT($C$2&$C16&\"!\"&CE$5&$CC$4+2))","v":"★"},{"$f":"IF(INDIRECT($C$2&$C16&\"!\"&CF$5&$CC$4+2)=\"\",\"★\",INDIRECT($C$2&$C16&\"!\"&CF$5&$CC$4+2))","v":"★"},{"$f":"IF(INDIRECT($C$2&$C16&\"!\"&CG$5&$CC$4+2)=\"\",\"★\",INDIRECT($C$2&$C16&\"!\"&CG$5&$CC$4+2))","v":"★"},{"$f":"IF(INDIRECT($C$2&$C16&\"!\"&CH$5&$CC$4+2)=\"\",\"★\",INDIRECT($C$2&$C16&\"!\"&CH$5&$CC$4+2))","v":"★"},null,null,null,null,{"$f":"IF(INDIRECT($C$2&$C16&\"!\"&CM$5&$CM$4+2)=\"\",\"★\",INDIRECT($C$2&$C16&\"!\"&CM$5&$CM$4+2))","v":"★"},{"$f":"IF(INDIRECT($C$2&$C16&\"!\"&CN$5&$CM$4+2)=\"\",\"★\",INDIRECT($C$2&$C16&\"!\"&CN$5&$CM$4+2))","v":"★"},{"$f":"IF(INDIRECT($C$2&$C16&\"!\"&CO$5&$CM$4+2)=\"\",\"★\",INDIRECT($C$2&$C16&\"!\"&CO$5&$CM$4+2))","v":"★"},{"$f":"IF(INDIRECT($C$2&$C16&\"!\"&CP$5&$CM$4+2)=\"\",\"★\",INDIRECT($C$2&$C16&\"!\"&CP$5&$CM$4+2))","v":"★"},{"$f":"IF(INDIRECT($C$2&$C16&\"!\"&CQ$5&$CM$4+2)=\"\",\"★\",INDIRECT($C$2&$C16&\"!\"&CQ$5&$CM$4+2))","v":"★"},{"$f":"IF(INDIRECT($C$2&$C16&\"!\"&CR$5&$CM$4+2)=\"\",\"★\",INDIRECT($C$2&$C16&\"!\"&CR$5&$CM$4+2))","v":"★"},null,null,null,null,{"$f":"IF(INDIRECT($C$2&$C16&\"!\"&CW$5&$CW$4+2)=\"\",\"★\",INDIRECT($C$2&$C16&\"!\"&CW$5&$CW$4+2))","v":"★"},{"$f":"IF(INDIRECT($C$2&$C16&\"!\"&CX$5&$CW$4+2)=\"\",\"★\",INDIRECT($C$2&$C16&\"!\"&CX$5&$CW$4+2))","v":"★"},{"$f":"IF(INDIRECT($C$2&$C16&\"!\"&CY$5&$CW$4+2)=\"\",\"★\",INDIRECT($C$2&$C16&\"!\"&CY$5&$CW$4+2))","v":"★"},{"$f":"IF(INDIRECT($C$2&$C16&\"!\"&CZ$5&$CW$4+2)=\"\",\"★\",INDIRECT($C$2&$C16&\"!\"&CZ$5&$CW$4+2))","v":"★"},{"$f":"IF(INDIRECT($C$2&$C16&\"!\"&DA$5&$CW$4+2)=\"\",\"★\",INDIRECT($C$2&$C16&\"!\"&DA$5&$CW$4+2))","v":"★"},{"$f":"IF(INDIRECT($C$2&$C16&\"!\"&DB$5&$CW$4+2)=\"\",\"★\",INDIRECT($C$2&$C16&\"!\"&DB$5&$CW$4+2))","v":"★"},null,null,null,null,{"$f":"IF(INDIRECT($C$2&$C16&\"!\"&DG$5&$DG$4+2)=\"\",\"★\",INDIRECT($C$2&$C16&\"!\"&DG$5&$DG$4+2))","v":"★"},{"$f":"IF(INDIRECT($C$2&$C16&\"!\"&DH$5&$DG$4+2)=\"\",\"★\",INDIRECT($C$2&$C16&\"!\"&DH$5&$DG$4+2))","v":"★"},{"$f":"IF(INDIRECT($C$2&$C16&\"!\"&DI$5&$DG$4+2)=\"\",\"★\",INDIRECT($C$2&$C16&\"!\"&DI$5&$DG$4+2))","v":"★"},{"$f":"IF(INDIRECT($C$2&$C16&\"!\"&DJ$5&$DG$4+2)=\"\",\"★\",INDIRECT($C$2&$C16&\"!\"&DJ$5&$DG$4+2))","v":"★"},{"$f":"IF(INDIRECT($C$2&$C16&\"!\"&DK$5&$DG$4+2)=\"\",\"★\",INDIRECT($C$2&$C16&\"!\"&DK$5&$DG$4+2))","v":"★"},{"$f":"IF(INDIRECT($C$2&$C16&\"!\"&DL$5&$DG$4+2)=\"\",\"★\",INDIRECT($C$2&$C16&\"!\"&DL$5&$DG$4+2))","v":"★"}]
[null,null,2,null,null,null,null,null,null,null,null,{"$f":"$C17&\"-4\"","v":"2-4"},{"$f":"IF(INDIRECT($C$2&$C17&\"!\"&M$5&$M$4+3)=\"\",\"★\",INDIRECT($C$2&$C17&\"!\"&M$5&$M$4+3))","v":"★"},{"$f":"IF(INDIRECT($C$2&$C17&\"!\"&N$5&$M$4+3)=\"\",\"★\",INDIRECT($C$2&$C17&\"!\"&N$5&$M$4+3))","v":"★"},{"$f":"IF(INDIRECT($C$2&$C17&\"!\"&O$5&$M$4+3)=\"\",\"★\",INDIRECT($C$2&$C17&\"!\"&O$5&$M$4+3))","v":"★"},{"$f":"IF(INDIRECT($C$2&$C17&\"!\"&P$5&$M$4+3)=\"\",\"★\",INDIRECT($C$2&$C17&\"!\"&P$5&$M$4+3))","v":"★"},{"$f":"IF(INDIRECT($C$2&$C17&\"!\"&Q$5&$M$4+3)=\"\",\"★\",INDIRECT($C$2&$C17&\"!\"&Q$5&$M$4+3))","v":"★"},{"$f":"IF(INDIRECT($C$2&$C17&\"!\"&R$5&$M$4+3)=\"\",\"★\",INDIRECT($C$2&$C17&\"!\"&R$5&$M$4+3))","v":"★"},{"$f":"IF(INDIRECT($C$2&$C17&\"!\"&S$5&$M$4+3)=\"\",\"★\",INDIRECT($C$2&$C17&\"!\"&S$5&$M$4+3))","v":"★"},{"$f":"IF(INDIRECT($C$2&$C17&\"!\"&T$5&$M$4+3)=\"\",\"★\",INDIRECT($C$2&$C17&\"!\"&T$5&$M$4+3))","v":"★"},null,{"$f":"IF(INDIRECT($C$2&$C17&\"!\"&V$5&$V$4+3)=\"\",\"★\",INDIRECT($C$2&$C17&\"!\"&V$5&$V$4+3))","v":"★"},{"$f":"IF(INDIRECT($C$2&$C17&\"!\"&W$5&$V$4+3)=\"\",\"★\",INDIRECT($C$2&$C17&\"!\"&W$5&$V$4+3))","v":"★"},{"$f":"IF(INDIRECT($C$2&$C17&\"!\"&X$5&$V$4+3)=\"\",\"★\",INDIRECT($C$2&$C17&\"!\"&X$5&$V$4+3))","v":"★"},{"$f":"IF(INDIRECT($C$2&$C17&\"!\"&Y$5&$V$4+3)=\"\",\"★\",INDIRECT($C$2&$C17&\"!\"&Y$5&$V$4+3))","v":"★"},{"$f":"IF(INDIRECT($C$2&$C17&\"!\"&Z$5&$V$4+3)=\"\",\"★\",INDIRECT($C$2&$C17&\"!\"&Z$5&$V$4+3))","v":"★"},{"$f":"IF(INDIRECT($C$2&$C17&\"!\"&AA$5&$V$4+3)=\"\",\"★\",INDIRECT($C$2&$C17&\"!\"&AA$5&$V$4+3))","v":"★"},{"$f":"IF(INDIRECT($C$2&$C17&\"!\"&AB$5&$V$4+3)=\"\",\"★\",INDIRECT($C$2&$C17&\"!\"&AB$5&$V$4+3))","v":"★"},{"$f":"IF(INDIRECT($C$2&$C17&\"!\"&AC$5&$V$4+3)=\"\",\"★\",INDIRECT($C$2&$C17&\"!\"&AC$5&$V$4+3))","v":"★"},null,null,null,null,null,null,null,null,null,null,{"$f":"IF(INDIRECT($C$2&$C17&\"!\"&AN$5&$AN$4+3)=\"\",\"★\",INDIRECT($C$2&$C17&\"!\"&AN$5&$AN$4+3))","v":"★"},{"$f":"IF(INDIRECT($C$2&$C17&\"!\"&AO$5&$AN$4+3)=\"\",\"★\",INDIRECT($C$2&$C17&\"!\"&AO$5&$AN$4+3))","v":"★"},{"$f":"IF(INDIRECT($C$2&$C17&\"!\"&AP$5&$AN$4+3)=\"\",\"★\",INDIRECT($C$2&$C17&\"!\"&AP$5&$AN$4+3))","v":"★"},{"$f":"IF(INDIRECT($C$2&$C17&\"!\"&AQ$5&$AN$4+3)=\"\",\"★\",INDIRECT($C$2&$C17&\"!\"&AQ$5&$AN$4+3))","v":"★"},{"$f":"IF(INDIRECT($C$2&$C17&\"!\"&AR$5&$AN$4+3)=\"\",\"★\",INDIRECT($C$2&$C17&\"!\"&AR$5&$AN$4+3))","v":"★"},{"$f":"IF(INDIRECT($C$2&$C17&\"!\"&AS$5&$AN$4+3)=\"\",\"★\",INDIRECT($C$2&$C17&\"!\"&AS$5&$AN$4+3))","v":"★"},{"$f":"IF(INDIRECT($C$2&$C17&\"!\"&AT$5&$AN$4+3)=\"\",\"★\",INDIRECT($C$2&$C17&\"!\"&AT$5&$AN$4+3))","v":"★"},{"$f":"IF(INDIRECT($C$2&$C17&\"!\"&AU$5&$AN$4+3)=\"\",\"★\",INDIRECT($C$2&$C17&\"!\"&AU$5&$AN$4+3))","v":"★"},null,null,null,null,{"$f":"IF(INDIRECT($C$2&$C17&\"!\"&AZ$5&$AZ$4+3)=\"\",\"★\",INDIRECT($C$2&$C17&\"!\"&AZ$5&$AZ$4+3))","v":"★"},{"$f":"IF(INDIRECT($C$2&$C17&\"!\"&BA$5&$AZ$4+3)=\"\",\"★\",INDIRECT($C$2&$C17&\"!\"&BA$5&$AZ$4+3))","v":"★"},{"$f":"IF(INDIRECT($C$2&$C17&\"!\"&BB$5&$AZ$4+3)=\"\",\"★\",INDIRECT($C$2&$C17&\"!\"&BB$5&$AZ$4+3))","v":"★"},{"$f":"IF(INDIRECT($C$2&$C17&\"!\"&BC$5&$AZ$4+3)=\"\",\"★\",INDIRECT($C$2&$C17&\"!\"&BC$5&$AZ$4+3))","v":"★"},{"$f":"IF(INDIRECT($C$2&$C17&\"!\"&BD$5&$AZ$4+3)=\"\",\"★\",INDIRECT($C$2&$C17&\"!\"&BD$5&$AZ$4+3))","v":"★"},{"$f":"IF(INDIRECT($C$2&$C17&\"!\"&BE$5&$AZ$4+3)=\"\",\"★\",INDIRECT($C$2&$C17&\"!\"&BE$5&$AZ$4+3))","v":"★"},{"$f":"IF(INDIRECT($C$2&$C17&\"!\"&BF$5&$AZ$4+3)=\"\",\"★\",INDIRECT($C$2&$C17&\"!\"&BF$5&$AZ$4+3))","v":"★"},{"$f":"IF(INDIRECT($C$2&$C17&\"!\"&BG$5&$AZ$4+3)=\"\",\"★\",INDIRECT($C$2&$C17&\"!\"&BG$5&$AZ$4+3))","v":"★"},null,null,null,null,{"$f":"IF(INDIRECT($C$2&$C17&\"!\"&BL$5&$BL$4+3)=\"\",\"★\",INDIRECT($C$2&$C17&\"!\"&BL$5&$BL$4+3))","v":"★"},{"$f":"IF(INDIRECT($C$2&$C17&\"!\"&BM$5&$BL$4+3)=\"\",\"★\",INDIRECT($C$2&$C17&\"!\"&BM$5&$BL$4+3))","v":"★"},{"$f":"IF(INDIRECT($C$2&$C17&\"!\"&BN$5&$BL$4+3)=\"\",\"★\",INDIRECT($C$2&$C17&\"!\"&BN$5&$BL$4+3))","v":"★"},{"$f":"IF(INDIRECT($C$2&$C17&\"!\"&BO$5&$BL$4+3)=\"\",\"★\",INDIRECT($C$2&$C17&\"!\"&BO$5&$BL$4+3))","v":"★"},{"$f":"IF(INDIRECT($C$2&$C17&\"!\"&BP$5&$BL$4+3)=\"\",\"★\",INDIRECT($C$2&$C17&\"!\"&BP$5&$BL$4+3))","v":"★"},{"$f":"IF(INDIRECT($C$2&$C17&\"!\"&BQ$5&$BL$4+3)=\"\",\"★\",INDIRECT($C$2&$C17&\"!\"&BQ$5&$BL$4+3))","v":"★"},{"$f":"IF(INDIRECT($C$2&$C17&\"!\"&BR$5&$BL$4+3)=\"\",\"★\",INDIRECT($C$2&$C17&\"!\"&BR$5&$BL$4+3))","v":"★"},{"$f":"IF(INDIRECT($C$2&$C17&\"!\"&BS$5&$BL$4+3)=\"\",\"★\",INDIRECT($C$2&$C17&\"!\"&BS$5&$BL$4+3))","v":"★"},null,null,{"$f":"IF(INDIRECT($C$2&$C17&\"!\"&BV$5&$BV$4+3)=\"\",\"★\",INDIRECT($C$2&$C17&\"!\"&BV$5&$BV$4+3))","v":"★"},{"$f":"IF(INDIRECT($C$2&$C17&\"!\"&BW$5&$BV$4+3)=\"\",\"★\",INDIRECT($C$2&$C17&\"!\"&BW$5&$BV$4+3))","v":"★"},{"$f":"IF(INDIRECT($C$2&$C17&\"!\"&BX$5&$BV$4+3)=\"\",\"★\",INDIRECT($C$2&$C17&\"!\"&BX$5&$BV$4+3))","v":"★"},{"$f":"IF(INDIRECT($C$2&$C17&\"!\"&BY$5&$BV$4+3)=\"\",\"★\",INDIRECT($C$2&$C17&\"!\"&BY$5&$BV$4+3))","v":"★"},{"$f":"IF(INDIRECT($C$2&$C17&\"!\"&BZ$5&$BV$4+3)=\"\",\"★\",INDIRECT($C$2&$C17&\"!\"&BZ$5&$BV$4+3))","v":"★"},{"$f":"IF(INDIRECT($C$2&$C17&\"!\"&CA$5&$BV$4+3)=\"\",\"★\",INDIRECT($C$2&$C17&\"!\"&CA$5&$BV$4+3))","v":"★"},null,{"$f":"IF(INDIRECT($C$2&$C17&\"!\"&CC$5&$CC$4+3)=\"\",\"★\",INDIRECT($C$2&$C17&\"!\"&CC$5&$CC$4+3))","v":"★"},{"$f":"IF(INDIRECT($C$2&$C17&\"!\"&CD$5&$CC$4+3)=\"\",\"★\",INDIRECT($C$2&$C17&\"!\"&CD$5&$CC$4+3))","v":"★"},{"$f":"IF(INDIRECT($C$2&$C17&\"!\"&CE$5&$CC$4+3)=\"\",\"★\",INDIRECT($C$2&$C17&\"!\"&CE$5&$CC$4+3))","v":"★"},{"$f":"IF(INDIRECT($C$2&$C17&\"!\"&CF$5&$CC$4+3)=\"\",\"★\",INDIRECT($C$2&$C17&\"!\"&CF$5&$CC$4+3))","v":"★"},{"$f":"IF(INDIRECT($C$2&$C17&\"!\"&CG$5&$CC$4+3)=\"\",\"★\",INDIRECT($C$2&$C17&\"!\"&CG$5&$CC$4+3))","v":"★"},{"$f":"IF(INDIRECT($C$2&$C17&\"!\"&CH$5&$CC$4+3)=\"\",\"★\",INDIRECT($C$2&$C17&\"!\"&CH$5&$CC$4+3))","v":"★"},null,null,null,null,{"$f":"IF(INDIRECT($C$2&$C17&\"!\"&CM$5&$CM$4+3)=\"\",\"★\",INDIRECT($C$2&$C17&\"!\"&CM$5&$CM$4+3))","v":"★"},{"$f":"IF(INDIRECT($C$2&$C17&\"!\"&CN$5&$CM$4+3)=\"\",\"★\",INDIRECT($C$2&$C17&\"!\"&CN$5&$CM$4+3))","v":"★"},{"$f":"IF(INDIRECT($C$2&$C17&\"!\"&CO$5&$CM$4+3)=\"\",\"★\",INDIRECT($C$2&$C17&\"!\"&CO$5&$CM$4+3))","v":"★"},{"$f":"IF(INDIRECT($C$2&$C17&\"!\"&CP$5&$CM$4+3)=\"\",\"★\",INDIRECT($C$2&$C17&\"!\"&CP$5&$CM$4+3))","v":"★"},{"$f":"IF(INDIRECT($C$2&$C17&\"!\"&CQ$5&$CM$4+3)=\"\",\"★\",INDIRECT($C$2&$C17&\"!\"&CQ$5&$CM$4+3))","v":"★"},{"$f":"IF(INDIRECT($C$2&$C17&\"!\"&CR$5&$CM$4+3)=\"\",\"★\",INDIRECT($C$2&$C17&\"!\"&CR$5&$CM$4+3))","v":"★"},null,null,null,null,{"$f":"IF(INDIRECT($C$2&$C17&\"!\"&CW$5&$CW$4+3)=\"\",\"★\",INDIRECT($C$2&$C17&\"!\"&CW$5&$CW$4+3))","v":"★"},{"$f":"IF(INDIRECT($C$2&$C17&\"!\"&CX$5&$CW$4+3)=\"\",\"★\",INDIRECT($C$2&$C17&\"!\"&CX$5&$CW$4+3))","v":"★"},{"$f":"IF(INDIRECT($C$2&$C17&\"!\"&CY$5&$CW$4+3)=\"\",\"★\",INDIRECT($C$2&$C17&\"!\"&CY$5&$CW$4+3))","v":"★"},{"$f":"IF(INDIRECT($C$2&$C17&\"!\"&CZ$5&$CW$4+3)=\"\",\"★\",INDIRECT($C$2&$C17&\"!\"&CZ$5&$CW$4+3))","v":"★"},{"$f":"IF(INDIRECT($C$2&$C17&\"!\"&DA$5&$CW$4+3)=\"\",\"★\",INDIRECT($C$2&$C17&\"!\"&DA$5&$CW$4+3))","v":"★"},{"$f":"IF(INDIRECT($C$2&$C17&\"!\"&DB$5&$CW$4+3)=\"\",\"★\",INDIRECT($C$2&$C17&\"!\"&DB$5&$CW$4+3))","v":"★"},null,null,null,null,{"$f":"IF(INDIRECT($C$2&$C17&\"!\"&DG$5&$DG$4+3)=\"\",\"★\",INDIRECT($C$2&$C17&\"!\"&DG$5&$DG$4+3))","v":"★"},{"$f":"IF(INDIRECT($C$2&$C17&\"!\"&DH$5&$DG$4+3)=\"\",\"★\",INDIRECT($C$2&$C17&\"!\"&DH$5&$DG$4+3))","v":"★"},{"$f":"IF(INDIRECT($C$2&$C17&\"!\"&DI$5&$DG$4+3)=\"\",\"★\",INDIRECT($C$2&$C17&\"!\"&DI$5&$DG$4+3))","v":"★"},{"$f":"IF(INDIRECT($C$2&$C17&\"!\"&DJ$5&$DG$4+3)=\"\",\"★\",INDIRECT($C$2&$C17&\"!\"&DJ$5&$DG$4+3))","v":"★"},{"$f":"IF(INDIRECT($C$2&$C17&\"!\"&DK$5&$DG$4+3)=\"\",\"★\",INDIRECT($C$2&$C17&\"!\"&DK$5&$DG$4+3))","v":"★"},{"$f":"IF(INDIRECT($C$2&$C17&\"!\"&DL$5&$DG$4+3)=\"\",\"★\",INDIRECT($C$2&$C17&\"!\"&DL$5&$DG$4+3))","v":"★"}]
[null,null,{"$f":"IF(INDIRECT($B$2&\"B23\")=\"\",\"★\",INDIRECT($B$2&\"B23\"))","v":"★"},{"$f":"IF(INDIRECT($C$2&$C18&\"!K12\")=\"\",\"★\",INDIRECT($C$2&$C18&\"!K12\"))","v":{"$error":"#REF!"}},{"$f":"IF(INDIRECT($C$2&$C18&\"!L12\")=\"\",\"★\",INDIRECT($C$2&$C18&\"!L12\"))","v":{"$error":"#REF!"}},{"$f":"IF(INDIRECT($C$2&$C18&\"!D13\")=\"\",\"★\",INDIRECT($C$2&$C18&\"!D13\"))","v":{"$error":"#REF!"}},{"$f":"IF(INDIRECT($C$2&$C18&\"!D14\")=\"\",\"★\",INDIRECT($C$2&$C18&\"!D14\"))","v":{"$error":"#REF!"}},{"$f":"IF(INDIRECT($C$2&$C18&\"!D15\")=\"\",\"★\",INDIRECT($C$2&$C18&\"!D15\"))","v":{"$error":"#REF!"}},{"$f":"IF(INDIRECT($C$2&$C18&\"!D16\")=\"\",\"★\",INDIRECT($C$2&$C18&\"!D16\"))","v":{"$error":"#REF!"}},{"$f":"IF(INDIRECT($C$2&$C18&\"!D17\")=\"\",\"★\",INDIRECT($C$2&$C18&\"!D17\"))","v":{"$error":"#REF!"}},{"$f":"IF(INDIRECT($C$2&$C18&\"!D18\")=\"\",\"★\",INDIRECT($C$2&$C18&\"!D18\"))","v":{"$error":"#REF!"}},{"$f":"$C18&\"-1\"","v":"★-1"},{"$f":"IF(INDIRECT($C$2&$C18&\"!\"&M$5&$M$4)=\"\",\"★\",INDIRECT($C$2&$C18&\"!\"&M$5&$M$4))","v":{"$error":"#REF!"}},{"$f":"IF(INDIRECT($C$2&$C18&\"!\"&N$5&$M$4)=\"\",\"★\",INDIRECT($C$2&$C18&\"!\"&N$5&$M$4))","v":{"$error":"#REF!"}},{"$f":"IF(INDIRECT($C$2&$C18&\"!\"&O$5&$M$4)=\"\",\"★\",INDIRECT($C$2&$C18&\"!\"&O$5&$M$4))","v":{"$error":"#REF!"}},{"$f":"IF(INDIRECT($C$2&$C18&\"!\"&P$5&$M$4)=\"\",\"★\",INDIRECT($C$2&$C18&\"!\"&P$5&$M$4))","v":{"$error":"#REF!"}},{"$f":"IF(INDIRECT($C$2&$C18&\"!\"&Q$5&$M$4)=\"\",\"★\",INDIRECT($C$2&$C18&\"!\"&Q$5&$M$4))","v":{"$error":"#REF!"}},{"$f":"IF(INDIRECT($C$2&$C18&\"!\"&R$5&$M$4)=\"\",\"★\",INDIRECT($C$2&$C18&\"!\"&R$5&$M$4))","v":{"$error":"#REF!"}},{"$f":"IF(INDIRECT($C$2&$C18&\"!\"&S$5&$M$4)=\"\",\"★\",INDIRECT($C$2&$C18&\"!\"&S$5&$M$4))","v":{"$error":"#REF!"}},{"$f":"IF(INDIRECT($C$2&$C18&\"!\"&T$5&$M$4)=\"\",\"★\",INDIRECT($C$2&$C18&\"!\"&T$5&$M$4))","v":{"$error":"#REF!"}},{"$f":"IF(INDIRECT($C$2&$C18&\"!\"&U$5&$M$4)=\"\",\"★\",INDIRECT($C$2&$C18&\"!\"&U$5&$M$4))","v":{"$error":"#REF!"}},{"$f":"IF(INDIRECT($C$2&$C18&\"!\"&V$5&$V$4)=\"\",\"★\",INDIRECT($C$2&$C18&\"!\"&V$5&$V$4))","v":{"$error":"#REF!"}},{"$f":"IF(INDIRECT($C$2&$C18&\"!\"&W$5&$V$4)=\"\",\"★\",INDIRECT($C$2&$C18&\"!\"&W$5&$V$4))","v":{"$error":"#REF!"}},{"$f":"IF(INDIRECT($C$2&$C18&\"!\"&X$5&$V$4)=\"\",\"★\",INDIRECT($C$2&$C18&\"!\"&X$5&$V$4))","v":{"$error":"#REF!"}},{"$f":"IF(INDIRECT($C$2&$C18&\"!\"&Y$5&$V$4)=\"\",\"★\",INDIRECT($C$2&$C18&\"!\"&Y$5&$V$4))","v":{"$error":"#REF!"}},{"$f":"IF(INDIRECT($C$2&$C18&\"!\"&Z$5&$V$4)=\"\",\"★\",INDIRECT($C$2&$C18&\"!\"&Z$5&$V$4))","v":{"$error":"#REF!"}},{"$f":"IF(INDIRECT($C$2&$C18&\"!\"&AA$5&$V$4)=\"\",\"★\",INDIRECT($C$2&$C18&\"!\"&AA$5&$V$4))","v":{"$error":"#REF!"}},{"$f":"IF(INDIRECT($C$2&$C18&\"!\"&AB$5&$V$4)=\"\",\"★\",INDIRECT($C$2&$C18&\"!\"&AB$5&$V$4))","v":{"$error":"#REF!"}},{"$f":"IF(INDIRECT($C$2&$C18&\"!\"&AC$5&$V$4)=\"\",\"★\",INDIRECT($C$2&$C18&\"!\"&AC$5&$V$4))","v":{"$error":"#REF!"}},{"$f":"IF(INDIRECT($C$2&$C18&\"!\"&AD$5&$V$4)=\"\",\"★\",INDIRECT($C$2&$C18&\"!\"&AD$5&$V$4))","v":{"$error":"#REF!"}},{"$f":"IF(INDIRECT($C$2&$C18&\"!\"&AE$5&$V$4)=\"\",\"★\",INDIRECT($C$2&$C18&\"!\"&AE$5&$V$4))","v":{"$error":"#REF!"}},{"$f":"IF(INDIRECT($C$2&$C18&\"!\"&AF$5&$AF$4)=\"\",\"★\",INDIRECT($C$2&$C18&\"!\"&AF$5&$AF$4))","v":{"$error":"#REF!"}},{"$f":"IF(INDIRECT($C$2&$C18&\"!\"&AG$5&$AF$4)=\"\",\"★\",INDIRECT($C$2&$C18&\"!\"&AG$5&$AF$4))","v":{"$error":"#REF!"}},{"$f":"IF(INDIRECT($C$2&$C18&\"!\"&AH$5&$AH$4)=\"\",\"★\",INDIRECT($C$2&$C18&\"!\"&AH$5&$AH$4))","v":{"$error":"#REF!"}},{"$f":"IF(INDIRECT($C$2&$C18&\"!\"&AI$5&$AH$4)=\"\",\"★\",INDIRECT($C$2&$C18&\"!\"&AI$5&$AH$4))","v":{"$error":"#REF!"}},{"$f":"IF(INDIRECT($C$2&$C18&\"!\"&AJ$5&$AJ$4)=\"\",\"★\",INDIRECT($C$2&$C18&\"!\"&AJ$5&$AJ$4))","v":{"$error":"#REF!"}},{"$f":"IF(INDIRECT($C$2&$C18&\"!\"&AK$5&$AJ$4)=\"\",\"★\",INDIRECT($C$2&$C18&\"!\"&AK$5&$AJ$4))","v":{"$error":"#REF!"}},{"$f":"$AF18","v":{"$error":"#REF!"}},{"$f":"$AG18","v":{"$error":"#REF!"}},{"$f":"IF(INDIRECT($C$2&$C18&\"!\"&AN$5&$AN$4)=\"\",\"★\",INDIRECT($C$2&$C18&\"!\"&AN$5&$AN$4))","v":{"$error":"#REF!"}},{"$f":"IF(INDIRECT($C$2&$C18&\"!\"&AO$5&$AN$4)=\"\",\"★\",INDIRECT($C$2&$C18&\"!\"&AO$5&$AN$4))","v":{"$error":"#REF!"}},{"$f":"IF(INDIRECT($C$2&$C18&\"!\"&AP$5&$AN$4)=\"\",\"★\",INDIRECT($C$2&$C18&\"!\"&AP$5&$AN$4))","v":{"$error":"#REF!"}},{"$f":"IF(INDIRECT($C$2&$C18&\"!\"&AQ$5&$AN$4)=\"\",\"★\",INDIRECT($C$2&$C18&\"!\"&AQ$5&$AN$4))","v":{"$error":"#REF!"}},{"$f":"IF(INDIRECT($C$2&$C18&\"!\"&AR$5&$AN$4)=\"\",\"★\",INDIRECT($C$2&$C18&\"!\"&AR$5&$AN$4))","v":{"$error":"#REF!"}},{"$f":"IF(INDIRECT($C$2&$C18&\"!\"&AS$5&$AN$4)=\"\",\"★\",INDIRECT($C$2&$C18&\"!\"&AS$5&$AN$4))","v":{"$error":"#REF!"}},{"$f":"IF(INDIRECT($C$2&$C18&\"!\"&AT$5&$AN$4)=\"\",\"★\",INDIRECT($C$2&$C18&\"!\"&AT$5&$AN$4))","v":{"$error":"#REF!"}},{"$f":"IF(INDIRECT($C$2&$C18&\"!\"&AU$5&$AN$4)=\"\",\"★\",INDIRECT($C$2&$C18&\"!\"&AU$5&$AN$4))","v":{"$error":"#REF!"}},{"$f":"IF(INDIRECT($C$2&$C18&\"!\"&AV$5&$AN$4)=\"\",\"★\",INDIRECT($C$2&$C18&\"!\"&AV$5&$AN$4))","v":{"$error":"#REF!"}},{"$f":"IF(INDIRECT($C$2&$C18&\"!\"&AW$5&$AN$4)=\"\",\"★\",INDIRECT($C$2&$C18&\"!\"&AW$5&$AN$4))","v":{"$error":"#REF!"}},{"$f":"$AH18","v":{"$error":"#REF!"}},{"$f":"$AI18","v":{"$error":"#REF!"}},{"$f":"IF(INDIRECT($C$2&$C18&\"!\"&AZ$5&$AZ$4)=\"\",\"★\",INDIRECT($C$2&$C18&\"!\"&AZ$5&$AZ$4))","v":{"$error":"#REF!"}},{"$f":"IF(INDIRECT($C$2&$C18&\"!\"&BA$5&$AZ$4)=\"\",\"★\",INDIRECT($C$2&$C18&\"!\"&BA$5&$AZ$4))","v":{"$error":"#REF!"}},{"$f":"IF(INDIRECT($C$2&$C18&\"!\"&BB$5&$AZ$4)=\"\",\"★\",INDIRECT($C$2&$C18&\"!\"&BB$5&$AZ$4))","v":{"$error":"#REF!"}},{"$f":"IF(INDIRECT($C$2&$C18&\"!\"&BC$5&$AZ$4)=\"\",\"★\",INDIRECT($C$2&$C18&\"!\"&BC$5&$AZ$4))","v":{"$error":"#REF!"}},{"$f":"IF(INDIRECT($C$2&$C18&\"!\"&BD$5&$AZ$4)=\"\",\"★\",INDIRECT($C$2&$C18&\"!\"&BD$5&$AZ$4))","v":{"$error":"#REF!"}},{"$f":"IF(INDIRECT($C$2&$C18&\"!\"&BE$5&$AZ$4)=\"\",\"★\",INDIRECT($C$2&$C18&\"!\"&BE$5&$AZ$4))","v":{"$error":"#REF!"}},{"$f":"IF(INDIRECT($C$2&$C18&\"!\"&BF$5&$AZ$4)=\"\",\"★\",INDIRECT($C$2&$C18&\"!\"&BF$5&$AZ$4))","v":{"$error":"#REF!"}},{"$f":"IF(INDIRECT($C$2&$C18&\"!\"&BG$5&$AZ$4)=\"\",\"★\",INDIRECT($C$2&$C18&\"!\"&BG$5&$AZ$4))","v":{"$error":"#REF!"}},{"$f":"IF(INDIRECT($C$2&$C18&\"!\"&BH$5&$AZ$4)=\"\",\"★\",INDIRECT($C$2&$C18&\"!\"&BH$5&$AZ$4))","v":{"$error":"#REF!"}},{"$f":"IF(INDIRECT($C$2&$C18&\"!\"&BI$5&$AZ$4)=\"\",\"★\",INDIRECT($C$2&$C18&\"!\"&BI$5&$AZ$4))","v":{"$error":"#REF!"}},{"$f":"$AJ18","v":{"$error":"#REF!"}},{"$f":"$AK18","v":{"$error":"#REF!"}},{"$f":"IF(INDIRECT($C$2&$C18&\"!\"&BL$5&$BL$4)=\"\",\"★\",INDIRECT($C$2&$C18&\"!\"&BL$5&$BL$4))","v":{"$error":"#REF!"}},{"$f":"IF(INDIRECT($C$2&$C18&\"!\"&BM$5&$BL$4)=\"\",\"★\",INDIRECT($C$2&$C18&\"!\"&BM$5&$BL$4))","v":{"$error":"#REF!"}},{"$f":"IF(INDIRECT($C$2&$C18&\"!\"&BN$5&$BL$4)=\"\",\"★\",INDIRECT($C$2&$C18&\"!\"&BN$5&$BL$4))","v":{"$error":"#REF!"}},{"$f":"IF(INDIRECT($C$2&$C18&\"!\"&BO$5&$BL$4)=\"\",\"★\",INDIRECT($C$2&$C18&\"!\"&BO$5&$BL$4))","v":{"$error":"#REF!"}},{"$f":"IF(INDIRECT($C$2&$C18&\"!\"&BP$5&$BL$4)=\"\",\"★\",INDIRECT($C$2&$C18&\"!\"&BP$5&$BL$4))","v":{"$error":"#REF!"}},{"$f":"IF(INDIRECT($C$2&$C18&\"!\"&BQ$5&$BL$4)=\"\",\"★\",INDIRECT($C$2&$C18&\"!\"&BQ$5&$BL$4))","v":{"$error":"#REF!"}},{"$f":"IF(INDIRECT($C$2&$C18&\"!\"&BR$5&$BL$4)=\"\",\"★\",INDIRECT($C$2&$C18&\"!\"&BR$5&$BL$4))","v":{"$error":"#REF!"}},{"$f":"IF(INDIRECT($C$2&$C18&\"!\"&BS$5&$BL$4)=\"\",\"★\",INDIRECT($C$2&$C18&\"!\"&BS$5&$BL$4))","v":{"$error":"#REF!"}},{"$f":"IF(INDIRECT($C$2&$C18&\"!\"&BT$5&$BL$4)=\"\",\"★\",INDIRECT($C$2&$C18&\"!\"&BT$5&$BL$4))","v":{"$error":"#REF!"}},{"$f":"IF(INDIRECT($C$2&$C18&\"!\"&BU$5&$BL$4)=\"\",\"★\",INDIRECT($C$2&$C18&\"!\"&BU$5&$BL$4))","v":{"$error":"#REF!"}},{"$f":"IF(INDIRECT($C$2&$C18&\"!\"&BV$5&$BV$4)=\"\",\"★\",INDIRECT($C$2&$C18&\"!\"&BV$5&$BV$4))","v":{"$error":"#REF!"}},{"$f":"IF(INDIRECT($C$2&$C18&\"!\"&BW$5&$BV$4)=\"\",\"★\",INDIRECT($C$2&$C18&\"!\"&BW$5&$BV$4))","v":{"$error":"#REF!"}},{"$f":"IF(INDIRECT($C$2&$C18&\"!\"&BX$5&$BV$4)=\"\",\"★\",INDIRECT($C$2&$C18&\"!\"&BX$5&$BV$4))","v":{"$error":"#REF!"}},{"$f":"IF(INDIRECT($C$2&$C18&\"!\"&BY$5&$BV$4)=\"\",\"★\",INDIRECT($C$2&$C18&\"!\"&BY$5&$BV$4))","v":{"$error":"#REF!"}},{"$f":"IF(INDIRECT($C$2&$C18&\"!\"&BZ$5&$BV$4)=\"\",\"★\",INDIRECT($C$2&$C18&\"!\"&BZ$5&$BV$4))","v":{"$error":"#REF!"}},{"$f":"IF(INDIRECT($C$2&$C18&\"!\"&CA$5&$BV$4)=\"\",\"★\",INDIRECT($C$2&$C18&\"!\"&CA$5&$BV$4))","v":{"$error":"#REF!"}},{"$f":"IF(INDIRECT($C$2&$C18&\"!\"&CB$5&$BV$4)=\"\",\"★\",INDIRECT($C$2&$C18&\"!\"&CB$5&$BV$4))","v":{"$error":"#REF!"}},{"$f":"IF(INDIRECT($C$2&$C18&\"!\"&CC$5&$CC$4)=\"\",\"★\",INDIRECT($C$2&$C18&\"!\"&CC$5&$CC$4))","v":{"$error":"#REF!"}},{"$f":"IF(INDIRECT($C$2&$C18&\"!\"&CD$5&$CC$4)=\"\",\"★\",INDIRECT($C$2&$C18&\"!\"&CD$5&$CC$4))","v":{"$error":"#REF!"}},{"$f":"IF(INDIRECT($C$2&$C18&\"!\"&CE$5&$CC$4)=\"\",\"★\",INDIRECT($C$2&$C18&\"!\"&CE$5&$CC$4))","v":{"$error":"#REF!"}},{"$f":"IF(INDIRECT($C$2&$C18&\"!\"&CF$5&$CC$4)=\"\",\"★\",INDIRECT($C$2&$C18&\"!\"&CF$5&$CC$4))","v":{"$error":"#REF!"}},{"$f":"IF(INDIRECT($C$2&$C18&\"!\"&CG$5&$CC$4)=\"\",\"★\",INDIRECT($C$2&$C18&\"!\"&CG$5&$CC$4))","v":{"$error":"#REF!"}},{"$f":"IF(INDIRECT($C$2&$C18&\"!\"&CH$5&$CC$4)=\"\",\"★\",INDIRECT($C$2&$C18&\"!\"&CH$5&$CC$4))","v":{"$error":"#REF!"}},{"$f":"IF(INDIRECT($C$2&$C18&\"!\"&CI$5&$CC$4)=\"\",\"★\",INDIRECT($C$2&$C18&\"!\"&CI$5&$CC$4))","v":{"$error":"#REF!"}},{"$f":"IF(INDIRECT($C$2&$C18&\"!\"&CJ$5&$CC$4)=\"\",\"★\",INDIRECT($C$2&$C18&\"!\"&CJ$5&$CC$4))","v":{"$error":"#REF!"}},{"$f":"$AF18","v":{"$error":"#REF!"}},{"$f":"$AG18","v":{"$error":"#REF!"}},{"$f":"IF(INDIRECT($C$2&$C18&\"!\"&CM$5&$CM$4)=\"\",\"★\",INDIRECT($C$2&$C18&\"!\"&CM$5&$CM$4))","v":{"$error":"#REF!"}},{"$f":"IF(INDIRECT($C$2&$C18&\"!\"&CN$5&$CM$4)=\"\",\"★\",INDIRECT($C$2&$C18&\"!\"&CN$5&$CM$4))","v":{"$error":"#REF!"}},{"$f":"IF(INDIRECT($C$2&$C18&\"!\"&CO$5&$CM$4)=\"\",\"★\",INDIRECT($C$2&$C18&\"!\"&CO$5&$CM$4))","v":{"$error":"#REF!"}},{"$f":"IF(INDIRECT($C$2&$C18&\"!\"&CP$5&$CM$4)=\"\",\"★\",INDIRECT($C$2&$C18&\"!\"&CP$5&$CM$4))","v":{"$error":"#REF!"}},{"$f":"IF(INDIRECT($C$2&$C18&\"!\"&CQ$5&$CM$4)=\"\",\"★\",INDIRECT($C$2&$C18&\"!\"&CQ$5&$CM$4))","v":{"$error":"#REF!"}},{"$f":"IF(INDIRECT($C$2&$C18&\"!\"&CR$5&$CM$4)=\"\",\"★\",INDIRECT($C$2&$C18&\"!\"&CR$5&$CM$4))","v":{"$error":"#REF!"}},{"$f":"IF(INDIRECT($C$2&$C18&\"!\"&CS$5&$CM$4)=\"\",\"★\",INDIRECT($C$2&$C18&\"!\"&CS$5&$CM$4))","v":{"$error":"#REF!"}},{"$f":"IF(INDIRECT($C$2&$C18&\"!\"&CT$5&$CM$4)=\"\",\"★\",INDIRECT($C$2&$C18&\"!\"&CT$5&$CM$4))","v":{"$error":"#REF!"}},{"$f":"$AH18","v":{"$error":"#REF!"}},{"$f":"$AI18","v":{"$error":"#REF!"}},{"$f":"IF(INDIRECT($C$2&$C18&\"!\"&CW$5&$CW$4)=\"\",\"★\",INDIRECT($C$2&$C18&\"!\"&CW$5&$CW$4))","v":{"$error":"#REF!"}},{"$f":"IF(INDIRECT($C$2&$C18&\"!\"&CX$5&$CW$4)=\"\",\"★\",INDIRECT($C$2&$C18&\"!\"&CX$5&$CW$4))","v":{"$error":"#REF!"}},{"$f":"IF(INDIRECT($C$2&$C18&\"!\"&CY$5&$CW$4)=\"\",\"★\",INDIRECT($C$2&$C18&\"!\"&CY$5&$CW$4))","v":{"$error":"#REF!"}},{"$f":"IF(INDIRECT($C$2&$C18&\"!\"&CZ$5&$CW$4)=\"\",\"★\",INDIRECT($C$2&$C18&\"!\"&CZ$5&$CW$4))","v":{"$error":"#REF!"}},{"$f":"IF(INDIRECT($C$2&$C18&\"!\"&DA$5&$CW$4)=\"\",\"★\",INDIRECT($C$2&$C18&\"!\"&DA$5&$CW$4))","v":{"$error":"#REF!"}},{"$f":"IF(INDIRECT($C$2&$C18&\"!\"&DB$5&$CW$4)=\"\",\"★\",INDIRECT($C$2&$C18&\"!\"&DB$5&$CW$4))","v":{"$error":"#REF!"}},{"$f":"IF(INDIRECT($C$2&$C18&\"!\"&DC$5&$CW$4)=\"\",\"★\",INDIRECT($C$2&$C18&\"!\"&DC$5&$CW$4))","v":{"$error":"#REF!"}},{"$f":"IF(INDIRECT($C$2&$C18&\"!\"&DD$5&$CW$4)=\"\",\"★\",INDIRECT($C$2&$C18&\"!\"&DD$5&$CW$4))","v":{"$error":"#REF!"}},{"$f":"$AJ18","v":{"$error":"#REF!"}},{"$f":"$AK18","v":{"$error":"#REF!"}},{"$f":"IF(INDIRECT($C$2&$C18&\"!\"&DG$5&$DG$4)=\"\",\"★\",INDIRECT($C$2&$C18&\"!\"&DG$5&$DG$4))","v":{"$error":"#REF!"}},{"$f":"IF(INDIRECT($C$2&$C18&\"!\"&DH$5&$DG$4)=\"\",\"★\",INDIRECT($C$2&$C18&\"!\"&DH$5&$DG$4))","v":{"$error":"#REF!"}},{"$f":"IF(INDIRECT($C$2&$C18&\"!\"&DI$5&$DG$4)=\"\",\"★\",INDIRECT($C$2&$C18&\"!\"&DI$5&$DG$4))","v":{"$error":"#REF!"}},{"$f":"IF(INDIRECT($C$2&$C18&\"!\"&DJ$5&$DG$4)=\"\",\"★\",INDIRECT($C$2&$C18&\"!\"&DJ$5&$DG$4))","v":{"$error":"#REF!"}},{"$f":"IF(INDIRECT($C$2&$C18&\"!\"&DK$5&$DG$4)=\"\",\"★\",INDIRECT($C$2&$C18&\"!\"&DK$5&$DG$4))","v":{"$error":"#REF!"}},{"$f":"IF(INDIRECT($C$2&$C18&\"!\"&DL$5&$DG$4)=\"\",\"★\",INDIRECT($C$2&$C18&\"!\"&DL$5&$DG$4))","v":{"$error":"#REF!"}},{"$f":"IF(INDIRECT($C$2&$C18&\"!\"&DM$5&$DG$4)=\"\",\"★\",INDIRECT($C$2&$C18&\"!\"&DM$5&$DG$4))","v":{"$error":"#REF!"}},{"$f":"IF(INDIRECT($C$2&$C18&\"!\"&DN$5&$DG$4)=\"\",\"★\",INDIRECT($C$2&$C18&\"!\"&DN$5&$DG$4))","v":{"$error":"#REF!"}},{"$f":"IF(INDIRECT($C$2&$C18&\"!B57\")=\"\",\"★\",INDIRECT($C$2&$C18&\"!B57\"))","v":{"$error":"#REF!"}},{"$f":"IF(INDIRECT($C$2&$C18&\"!B100\")=\"\",\"★\",INDIRECT($C$2&$C18&\"!B100\"))","v":{"$error":"#REF!"}},{"$f":"IF(INDIRECT($C$2&$C18&\"!B112\")=\"\",\"★\",INDIRECT($C$2&$C18&\"!B112\"))","v":{"$error":"#REF!"}},{"$f":"IF(INDIRECT($C$2&$C18&\"!B155\")=\"\",\"★\",INDIRECT($C$2&$C18&\"!B155\"))","v":{"$error":"#REF!"}},{"$f":"IF(INDIRECT($C$2&$C18&\"!B167\")=\"\",\"★\",INDIRECT($C$2&$C18&\"!B167\"))","v":{"$error":"#REF!"}},{"$f":"IF(INDIRECT($C$2&$C18&\"!B210\")=\"\",\"★\",INDIRECT($C$2&$C18&\"!B210\"))","v":{"$error":"#REF!"}}]
[null,null,{"$f":"C18","v":"★"},null,null,null,null,null,null,null,null,{"$f":"$C19&\"-2\"","v":"★-2"},{"$f":"IF(INDIRECT($C$2&$C19&\"!\"&M$5&$M$4+1)=\"\",\"★\",INDIRECT($C$2&$C19&\"!\"&M$5&$M$4+1))","v":{"$error":"#REF!"}},{"$f":"IF(INDIRECT($C$2&$C19&\"!\"&N$5&$M$4+1)=\"\",\"★\",INDIRECT($C$2&$C19&\"!\"&N$5&$M$4+1))","v":{"$error":"#REF!"}},{"$f":"IF(INDIRECT($C$2&$C19&\"!\"&O$5&$M$4+1)=\"\",\"★\",INDIRECT($C$2&$C19&\"!\"&O$5&$M$4+1))","v":{"$error":"#REF!"}},{"$f":"IF(INDIRECT($C$2&$C19&\"!\"&P$5&$M$4+1)=\"\",\"★\",INDIRECT($C$2&$C19&\"!\"&P$5&$M$4+1))","v":{"$error":"#REF!"}},{"$f":"IF(INDIRECT($C$2&$C19&\"!\"&Q$5&$M$4+1)=\"\",\"★\",INDIRECT($C$2&$C19&\"!\"&Q$5&$M$4+1))","v":{"$error":"#REF!"}},{"$f":"IF(INDIRECT($C$2&$C19&\"!\"&R$5&$M$4+1)=\"\",\"★\",INDIRECT($C$2&$C19&\"!\"&R$5&$M$4+1))","v":{"$error":"#REF!"}},{"$f":"IF(INDIRECT($C$2&$C19&\"!\"&S$5&$M$4+1)=\"\",\"★\",INDIRECT($C$2&$C19&\"!\"&S$5&$M$4+1))","v":{"$error":"#REF!"}},{"$f":"IF(INDIRECT($C$2&$C19&\"!\"&T$5&$M$4+1)=\"\",\"★\",INDIRECT($C$2&$C19&\"!\"&T$5&$M$4+1))","v":{"$error":"#REF!"}},null,{"$f":"IF(INDIRECT($C$2&$C19&\"!\"&V$5&$V$4+1)=\"\",\"★\",INDIRECT($C$2&$C19&\"!\"&V$5&$V$4+1))","v":{"$error":"#REF!"}},{"$f":"IF(INDIRECT($C$2&$C19&\"!\"&W$5&$V$4+1)=\"\",\"★\",INDIRECT($C$2&$C19&\"!\"&W$5&$V$4+1))","v":{"$error":"#REF!"}},{"$f":"IF(INDIRECT($C$2&$C19&\"!\"&X$5&$V$4+1)=\"\",\"★\",INDIRECT($C$2&$C19&\"!\"&X$5&$V$4+1))","v":{"$error":"#REF!"}},{"$f":"IF(INDIRECT($C$2&$C19&\"!\"&Y$5&$V$4+1)=\"\",\"★\",INDIRECT($C$2&$C19&\"!\"&Y$5&$V$4+1))","v":{"$error":"#REF!"}},{"$f":"IF(INDIRECT($C$2&$C19&\"!\"&Z$5&$V$4+1)=\"\",\"★\",INDIRECT($C$2&$C19&\"!\"&Z$5&$V$4+1))","v":{"$error":"#REF!"}},{"$f":"IF(INDIRECT($C$2&$C19&\"!\"&AA$5&$V$4+1)=\"\",\"★\",INDIRECT($C$2&$C19&\"!\"&AA$5&$V$4+1))","v":{"$error":"#REF!"}},{"$f":"IF(INDIRECT($C$2&$C19&\"!\"&AB$5&$V$4+1)=\"\",\"★\",INDIRECT($C$2&$C19&\"!\"&AB$5&$V$4+1))","v":{"$error":"#REF!"}},{"$f":"IF(INDIRECT($C$2&$C19&\"!\"&AC$5&$V$4+1)=\"\",\"★\",INDIRECT($C$2&$C19&\"!\"&AC$5&$V$4+1))","v":{"$error":"#REF!"}},null,null,null,null,null,null,null,null,null,null,{"$f":"IF(INDIRECT($C$2&$C19&\"!\"&AN$5&$AN$4+1)=\"\",\"★\",INDIRECT($C$2&$C19&\"!\"&AN$5&$AN$4+1))","v":{"$error":"#REF!"}},{"$f":"IF(INDIRECT($C$2&$C19&\"!\"&AO$5&$AN$4+1)=\"\",\"★\",INDIRECT($C$2&$C19&\"!\"&AO$5&$AN$4+1))","v":{"$error":"#REF!"}},{"$f":"IF(INDIRECT($C$2&$C19&\"!\"&AP$5&$AN$4+1)=\"\",\"★\",INDIRECT($C$2&$C19&\"!\"&AP$5&$AN$4+1))","v":{"$error":"#REF!"}},{"$f":"IF(INDIRECT($C$2&$C19&\"!\"&AQ$5&$AN$4+1)=\"\",\"★\",INDIRECT($C$2&$C19&\"!\"&AQ$5&$AN$4+1))","v":{"$error":"#REF!"}},{"$f":"IF(INDIRECT($C$2&$C19&\"!\"&AR$5&$AN$4+1)=\"\",\"★\",INDIRECT($C$2&$C19&\"!\"&AR$5&$AN$4+1))","v":{"$error":"#REF!"}},{"$f":"IF(INDIRECT($C$2&$C19&\"!\"&AS$5&$AN$4+1)=\"\",\"★\",INDIRECT($C$2&$C19&\"!\"&AS$5&$AN$4+1))","v":{"$error":"#REF!"}},{"$f":"IF(INDIRECT($C$2&$C19&\"!\"&AT$5&$AN$4+1)=\"\",\"★\",INDIRECT($C$2&$C19&\"!\"&AT$5&$AN$4+1))","v":{"$error":"#REF!"}},{"$f":"IF(INDIRECT($C$2&$C19&\"!\"&AU$5&$AN$4+1)=\"\",\"★\",INDIRECT($C$2&$C19&\"!\"&AU$5&$AN$4+1))","v":{"$error":"#REF!"}},null,null,null,null,{"$f":"IF(INDIRECT($C$2&$C19&\"!\"&AZ$5&$AZ$4+1)=\"\",\"★\",INDIRECT($C$2&$C19&\"!\"&AZ$5&$AZ$4+1))","v":{"$error":"#REF!"}},{"$f":"IF(INDIRECT($C$2&$C19&\"!\"&BA$5&$AZ$4+1)=\"\",\"★\",INDIRECT($C$2&$C19&\"!\"&BA$5&$AZ$4+1))","v":{"$error":"#REF!"}},{"$f":"IF(INDIRECT($C$2&$C19&\"!\"&BB$5&$AZ$4+1)=\"\",\"★\",INDIRECT($C$2&$C19&\"!\"&BB$5&$AZ$4+1))","v":{"$error":"#REF!"}},{"$f":"IF(INDIRECT($C$2&$C19&\"!\"&BC$5&$AZ$4+1)=\"\",\"★\",INDIRECT($C$2&$C19&\"!\"&BC$5&$AZ$4+1))","v":{"$error":"#REF!"}},{"$f":"IF(INDIRECT($C$2&$C19&\"!\"&BD$5&$AZ$4+1)=\"\",\"★\",INDIRECT($C$2&$C19&\"!\"&BD$5&$AZ$4+1))","v":{"$error":"#REF!"}},{"$f":"IF(INDIRECT($C$2&$C19&\"!\"&BE$5&$AZ$4+1)=\"\",\"★\",INDIRECT($C$2&$C19&\"!\"&BE$5&$AZ$4+1))","v":{"$error":"#REF!"}},{"$f":"IF(INDIRECT($C$2&$C19&\"!\"&BF$5&$AZ$4+1)=\"\",\"★\",INDIRECT($C$2&$C19&\"!\"&BF$5&$AZ$4+1))","v":{"$error":"#REF!"}},{"$f":"IF(INDIRECT($C$2&$C19&\"!\"&BG$5&$AZ$4+1)=\"\",\"★\",INDIRECT($C$2&$C19&\"!\"&BG$5&$AZ$4+1))","v":{"$error":"#REF!"}},null,null,null,null,{"$f":"IF(INDIRECT($C$2&$C19&\"!\"&BL$5&$BL$4+1)=\"\",\"★\",INDIRECT($C$2&$C19&\"!\"&BL$5&$BL$4+1))","v":{"$error":"#REF!"}},{"$f":"IF(INDIRECT($C$2&$C19&\"!\"&BM$5&$BL$4+1)=\"\",\"★\",INDIRECT($C$2&$C19&\"!\"&BM$5&$BL$4+1))","v":{"$error":"#REF!"}},{"$f":"IF(INDIRECT($C$2&$C19&\"!\"&BN$5&$BL$4+1)=\"\",\"★\",INDIRECT($C$2&$C19&\"!\"&BN$5&$BL$4+1))","v":{"$error":"#REF!"}},{"$f":"IF(INDIRECT($C$2&$C19&\"!\"&BO$5&$BL$4+1)=\"\",\"★\",INDIRECT($C$2&$C19&\"!\"&BO$5&$BL$4+1))","v":{"$error":"#REF!"}},{"$f":"IF(INDIRECT($C$2&$C19&\"!\"&BP$5&$BL$4+1)=\"\",\"★\",INDIRECT($C$2&$C19&\"!\"&BP$5&$BL$4+1))","v":{"$error":"#REF!"}},{"$f":"IF(INDIRECT($C$2&$C19&\"!\"&BQ$5&$BL$4+1)=\"\",\"★\",INDIRECT($C$2&$C19&\"!\"&BQ$5&$BL$4+1))","v":{"$error":"#REF!"}},{"$f":"IF(INDIRECT($C$2&$C19&\"!\"&BR$5&$BL$4+1)=\"\",\"★\",INDIRECT($C$2&$C19&\"!\"&BR$5&$BL$4+1))","v":{"$error":"#REF!"}},{"$f":"IF(INDIRECT($C$2&$C19&\"!\"&BS$5&$BL$4+1)=\"\",\"★\",INDIRECT($C$2&$C19&\"!\"&BS$5&$BL$4+1))","v":{"$error":"#REF!"}},null,null,{"$f":"IF(INDIRECT($C$2&$C19&\"!\"&BV$5&$BV$4+1)=\"\",\"★\",INDIRECT($C$2&$C19&\"!\"&BV$5&$BV$4+1))","v":{"$error":"#REF!"}},{"$f":"IF(INDIRECT($C$2&$C19&\"!\"&BW$5&$BV$4+1)=\"\",\"★\",INDIRECT($C$2&$C19&\"!\"&BW$5&$BV$4+1))","v":{"$error":"#REF!"}},{"$f":"IF(INDIRECT($C$2&$C19&\"!\"&BX$5&$BV$4+1)=\"\",\"★\",INDIRECT($C$2&$C19&\"!\"&BX$5&$BV$4+1))","v":{"$error":"#REF!"}},{"$f":"IF(INDIRECT($C$2&$C19&\"!\"&BY$5&$BV$4+1)=\"\",\"★\",INDIRECT($C$2&$C19&\"!\"&BY$5&$BV$4+1))","v":{"$error":"#REF!"}},{"$f":"IF(INDIRECT($C$2&$C19&\"!\"&BZ$5&$BV$4+1)=\"\",\"★\",INDIRECT($C$2&$C19&\"!\"&BZ$5&$BV$4+1))","v":{"$error":"#REF!"}},{"$f":"IF(INDIRECT($C$2&$C19&\"!\"&CA$5&$BV$4+1)=\"\",\"★\",INDIRECT($C$2&$C19&\"!\"&CA$5&$BV$4+1))","v":{"$error":"#REF!"}},null,{"$f":"IF(INDIRECT($C$2&$C19&\"!\"&CC$5&$CC$4+1)=\"\",\"★\",INDIRECT($C$2&$C19&\"!\"&CC$5&$CC$4+1))","v":{"$error":"#REF!"}},{"$f":"IF(INDIRECT($C$2&$C19&\"!\"&CD$5&$CC$4+1)=\"\",\"★\",INDIRECT($C$2&$C19&\"!\"&CD$5&$CC$4+1))","v":{"$error":"#REF!"}},{"$f":"IF(INDIRECT($C$2&$C19&\"!\"&CE$5&$CC$4+1)=\"\",\"★\",INDIRECT($C$2&$C19&\"!\"&CE$5&$CC$4+1))","v":{"$error":"#REF!"}},{"$f":"IF(INDIRECT($C$2&$C19&\"!\"&CF$5&$CC$4+1)=\"\",\"★\",INDIRECT($C$2&$C19&\"!\"&CF$5&$CC$4+1))","v":{"$error":"#REF!"}},{"$f":"IF(INDIRECT($C$2&$C19&\"!\"&CG$5&$CC$4+1)=\"\",\"★\",INDIRECT($C$2&$C19&\"!\"&CG$5&$CC$4+1))","v":{"$error":"#REF!"}},{"$f":"IF(INDIRECT($C$2&$C19&\"!\"&CH$5&$CC$4+1)=\"\",\"★\",INDIRECT($C$2&$C19&\"!\"&CH$5&$CC$4+1))","v":{"$error":"#REF!"}},null,null,null,null,{"$f":"IF(INDIRECT($C$2&$C19&\"!\"&CM$5&$CM$4+1)=\"\",\"★\",INDIRECT($C$2&$C19&\"!\"&CM$5&$CM$4+1))","v":{"$error":"#REF!"}},{"$f":"IF(INDIRECT($C$2&$C19&\"!\"&CN$5&$CM$4+1)=\"\",\"★\",INDIRECT($C$2&$C19&\"!\"&CN$5&$CM$4+1))","v":{"$error":"#REF!"}},{"$f":"IF(INDIRECT($C$2&$C19&\"!\"&CO$5&$CM$4+1)=\"\",\"★\",INDIRECT($C$2&$C19&\"!\"&CO$5&$CM$4+1))","v":{"$error":"#REF!"}},{"$f":"IF(INDIRECT($C$2&$C19&\"!\"&CP$5&$CM$4+1)=\"\",\"★\",INDIRECT($C$2&$C19&\"!\"&CP$5&$CM$4+1))","v":{"$error":"#REF!"}},{"$f":"IF(INDIRECT($C$2&$C19&\"!\"&CQ$5&$CM$4+1)=\"\",\"★\",INDIRECT($C$2&$C19&\"!\"&CQ$5&$CM$4+1))","v":{"$error":"#REF!"}},{"$f":"IF(INDIRECT($C$2&$C19&\"!\"&CR$5&$CM$4+1)=\"\",\"★\",INDIRECT($C$2&$C19&\"!\"&CR$5&$CM$4+1))","v":{"$error":"#REF!"}},null,null,null,null,{"$f":"IF(INDIRECT($C$2&$C19&\"!\"&CW$5&$CW$4+1)=\"\",\"★\",INDIRECT($C$2&$C19&\"!\"&CW$5&$CW$4+1))","v":{"$error":"#REF!"}},{"$f":"IF(INDIRECT($C$2&$C19&\"!\"&CX$5&$CW$4+1)=\"\",\"★\",INDIRECT($C$2&$C19&\"!\"&CX$5&$CW$4+1))","v":{"$error":"#REF!"}},{"$f":"IF(INDIRECT($C$2&$C19&\"!\"&CY$5&$CW$4+1)=\"\",\"★\",INDIRECT($C$2&$C19&\"!\"&CY$5&$CW$4+1))","v":{"$error":"#REF!"}},{"$f":"IF(INDIRECT($C$2&$C19&\"!\"&CZ$5&$CW$4+1)=\"\",\"★\",INDIRECT($C$2&$C19&\"!\"&CZ$5&$CW$4+1))","v":{"$error":"#REF!"}},{"$f":"IF(INDIRECT($C$2&$C19&\"!\"&DA$5&$CW$4+1)=\"\",\"★\",INDIRECT($C$2&$C19&\"!\"&DA$5&$CW$4+1))","v":{"$error":"#REF!"}},{"$f":"IF(INDIRECT($C$2&$C19&\"!\"&DB$5&$CW$4+1)=\"\",\"★\",INDIRECT($C$2&$C19&\"!\"&DB$5&$CW$4+1))","v":{"$error":"#REF!"}},null,null,null,null,{"$f":"IF(INDIRECT($C$2&$C19&\"!\"&DG$5&$DG$4+1)=\"\",\"★\",INDIRECT($C$2&$C19&\"!\"&DG$5&$DG$4+1))","v":{"$error":"#REF!"}},{"$f":"IF(INDIRECT($C$2&$C19&\"!\"&DH$5&$DG$4+1)=\"\",\"★\",INDIRECT($C$2&$C19&\"!\"&DH$5&$DG$4+1))","v":{"$error":"#REF!"}},{"$f":"IF(INDIRECT($C$2&$C19&\"!\"&DI$5&$DG$4+1)=\"\",\"★\",INDIRECT($C$2&$C19&\"!\"&DI$5&$DG$4+1))","v":{"$error":"#REF!"}},{"$f":"IF(INDIRECT($C$2&$C19&\"!\"&DJ$5&$DG$4+1)=\"\",\"★\",INDIRECT($C$2&$C19&\"!\"&DJ$5&$DG$4+1))","v":{"$error":"#REF!"}},{"$f":"IF(INDIRECT($C$2&$C19&\"!\"&DK$5&$DG$4+1)=\"\",\"★\",INDIRECT($C$2&$C19&\"!\"&DK$5&$DG$4+1))","v":{"$error":"#REF!"}},{"$f":"IF(INDIRECT($C$2&$C19&\"!\"&DL$5&$DG$4+1)=\"\",\"★\",INDIRECT($C$2&$C19&\"!\"&DL$5&$DG$4+1))","v":{"$error":"#REF!"}}]
[null,null,{"$f":"C19","v":"★"},null,null,null,null,null,null,null,null,{"$f":"$C20&\"-3\"","v":"★-3"},{"$f":"IF(INDIRECT($C$2&$C20&\"!\"&M$5&$M$4+2)=\"\",\"★\",INDIRECT($C$2&$C20&\"!\"&M$5&$M$4+2))","v":{"$error":"#REF!"}},{"$f":"IF(INDIRECT($C$2&$C20&\"!\"&N$5&$M$4+2)=\"\",\"★\",INDIRECT($C$2&$C20&\"!\"&N$5&$M$4+2))","v":{"$error":"#REF!"}},{"$f":"IF(INDIRECT($C$2&$C20&\"!\"&O$5&$M$4+2)=\"\",\"★\",INDIRECT($C$2&$C20&\"!\"&O$5&$M$4+2))","v":{"$error":"#REF!"}},{"$f":"IF(INDIRECT($C$2&$C20&\"!\"&P$5&$M$4+2)=\"\",\"★\",INDIRECT($C$2&$C20&\"!\"&P$5&$M$4+2))","v":{"$error":"#REF!"}},{"$f":"IF(INDIRECT($C$2&$C20&\"!\"&Q$5&$M$4+2)=\"\",\"★\",INDIRECT($C$2&$C20&\"!\"&Q$5&$M$4+2))","v":{"$error":"#REF!"}},{"$f":"IF(INDIRECT($C$2&$C20&\"!\"&R$5&$M$4+2)=\"\",\"★\",INDIRECT($C$2&$C20&\"!\"&R$5&$M$4+2))","v":{"$error":"#REF!"}},{"$f":"IF(INDIRECT($C$2&$C20&\"!\"&S$5&$M$4+2)=\"\",\"★\",INDIRECT($C$2&$C20&\"!\"&S$5&$M$4+2))","v":{"$error":"#REF!"}},{"$f":"IF(INDIRECT($C$2&$C20&\"!\"&T$5&$M$4+2)=\"\",\"★\",INDIRECT($C$2&$C20&\"!\"&T$5&$M$4+2))","v":{"$error":"#REF!"}},null,{"$f":"IF(INDIRECT($C$2&$C20&\"!\"&V$5&$V$4+2)=\"\",\"★\",INDIRECT($C$2&$C20&\"!\"&V$5&$V$4+2))","v":{"$error":"#REF!"}},{"$f":"IF(INDIRECT($C$2&$C20&\"!\"&W$5&$V$4+2)=\"\",\"★\",INDIRECT($C$2&$C20&\"!\"&W$5&$V$4+2))","v":{"$error":"#REF!"}},{"$f":"IF(INDIRECT($C$2&$C20&\"!\"&X$5&$V$4+2)=\"\",\"★\",INDIRECT($C$2&$C20&\"!\"&X$5&$V$4+2))","v":{"$error":"#REF!"}},{"$f":"IF(INDIRECT($C$2&$C20&\"!\"&Y$5&$V$4+2)=\"\",\"★\",INDIRECT($C$2&$C20&\"!\"&Y$5&$V$4+2))","v":{"$error":"#REF!"}},{"$f":"IF(INDIRECT($C$2&$C20&\"!\"&Z$5&$V$4+2)=\"\",\"★\",INDIRECT($C$2&$C20&\"!\"&Z$5&$V$4+2))","v":{"$error":"#REF!"}},{"$f":"IF(INDIRECT($C$2&$C20&\"!\"&AA$5&$V$4+2)=\"\",\"★\",INDIRECT($C$2&$C20&\"!\"&AA$5&$V$4+2))","v":{"$error":"#REF!"}},{"$f":"IF(INDIRECT($C$2&$C20&\"!\"&AB$5&$V$4+2)=\"\",\"★\",INDIRECT($C$2&$C20&\"!\"&AB$5&$V$4+2))","v":{"$error":"#REF!"}},{"$f":"IF(INDIRECT($C$2&$C20&\"!\"&AC$5&$V$4+2)=\"\",\"★\",INDIRECT($C$2&$C20&\"!\"&AC$5&$V$4+2))","v":{"$error":"#REF!"}},null,null,null,null,null,null,null,null,null,null,{"$f":"IF(INDIRECT($C$2&$C20&\"!\"&AN$5&$AN$4+2)=\"\",\"★\",INDIRECT($C$2&$C20&\"!\"&AN$5&$AN$4+2))","v":{"$error":"#REF!"}},{"$f":"IF(INDIRECT($C$2&$C20&\"!\"&AO$5&$AN$4+2)=\"\",\"★\",INDIRECT($C$2&$C20&\"!\"&AO$5&$AN$4+2))","v":{"$error":"#REF!"}},{"$f":"IF(INDIRECT($C$2&$C20&\"!\"&AP$5&$AN$4+2)=\"\",\"★\",INDIRECT($C$2&$C20&\"!\"&AP$5&$AN$4+2))","v":{"$error":"#REF!"}},{"$f":"IF(INDIRECT($C$2&$C20&\"!\"&AQ$5&$AN$4+2)=\"\",\"★\",INDIRECT($C$2&$C20&\"!\"&AQ$5&$AN$4+2))","v":{"$error":"#REF!"}},{"$f":"IF(INDIRECT($C$2&$C20&\"!\"&AR$5&$AN$4+2)=\"\",\"★\",INDIRECT($C$2&$C20&\"!\"&AR$5&$AN$4+2))","v":{"$error":"#REF!"}},{"$f":"IF(INDIRECT($C$2&$C20&\"!\"&AS$5&$AN$4+2)=\"\",\"★\",INDIRECT($C$2&$C20&\"!\"&AS$5&$AN$4+2))","v":{"$error":"#REF!"}},{"$f":"IF(INDIRECT($C$2&$C20&\"!\"&AT$5&$AN$4+2)=\"\",\"★\",INDIRECT($C$2&$C20&\"!\"&AT$5&$AN$4+2))","v":{"$error":"#REF!"}},{"$f":"IF(INDIRECT($C$2&$C20&\"!\"&AU$5&$AN$4+2)=\"\",\"★\",INDIRECT($C$2&$C20&\"!\"&AU$5&$AN$4+2))","v":{"$error":"#REF!"}},null,null,null,null,{"$f":"IF(INDIRECT($C$2&$C20&\"!\"&AZ$5&$AZ$4+2)=\"\",\"★\",INDIRECT($C$2&$C20&\"!\"&AZ$5&$AZ$4+2))","v":{"$error":"#REF!"}},{"$f":"IF(INDIRECT($C$2&$C20&\"!\"&BA$5&$AZ$4+2)=\"\",\"★\",INDIRECT($C$2&$C20&\"!\"&BA$5&$AZ$4+2))","v":{"$error":"#REF!"}},{"$f":"IF(INDIRECT($C$2&$C20&\"!\"&BB$5&$AZ$4+2)=\"\",\"★\",INDIRECT($C$2&$C20&\"!\"&BB$5&$AZ$4+2))","v":{"$error":"#REF!"}},{"$f":"IF(INDIRECT($C$2&$C20&\"!\"&BC$5&$AZ$4+2)=\"\",\"★\",INDIRECT($C$2&$C20&\"!\"&BC$5&$AZ$4+2))","v":{"$error":"#REF!"}},{"$f":"IF(INDIRECT($C$2&$C20&\"!\"&BD$5&$AZ$4+2)=\"\",\"★\",INDIRECT($C$2&$C20&\"!\"&BD$5&$AZ$4+2))","v":{"$error":"#REF!"}},{"$f":"IF(INDIRECT($C$2&$C20&\"!\"&BE$5&$AZ$4+2)=\"\",\"★\",INDIRECT($C$2&$C20&\"!\"&BE$5&$AZ$4+2))","v":{"$error":"#REF!"}},{"$f":"IF(INDIRECT($C$2&$C20&\"!\"&BF$5&$AZ$4+2)=\"\",\"★\",INDIRECT($C$2&$C20&\"!\"&BF$5&$AZ$4+2))","v":{"$error":"#REF!"}},{"$f":"IF(INDIRECT($C$2&$C20&\"!\"&BG$5&$AZ$4+2)=\"\",\"★\",INDIRECT($C$2&$C20&\"!\"&BG$5&$AZ$4+2))","v":{"$error":"#REF!"}},null,null,null,null,{"$f":"IF(INDIRECT($C$2&$C20&\"!\"&BL$5&$BL$4+2)=\"\",\"★\",INDIRECT($C$2&$C20&\"!\"&BL$5&$BL$4+2))","v":{"$error":"#REF!"}},{"$f":"IF(INDIRECT($C$2&$C20&\"!\"&BM$5&$BL$4+2)=\"\",\"★\",INDIRECT($C$2&$C20&\"!\"&BM$5&$BL$4+2))","v":{"$error":"#REF!"}},{"$f":"IF(INDIRECT($C$2&$C20&\"!\"&BN$5&$BL$4+2)=\"\",\"★\",INDIRECT($C$2&$C20&\"!\"&BN$5&$BL$4+2))","v":{"$error":"#REF!"}},{"$f":"IF(INDIRECT($C$2&$C20&\"!\"&BO$5&$BL$4+2)=\"\",\"★\",INDIRECT($C$2&$C20&\"!\"&BO$5&$BL$4+2))","v":{"$error":"#REF!"}},{"$f":"IF(INDIRECT($C$2&$C20&\"!\"&BP$5&$BL$4+2)=\"\",\"★\",INDIRECT($C$2&$C20&\"!\"&BP$5&$BL$4+2))","v":{"$error":"#REF!"}},{"$f":"IF(INDIRECT($C$2&$C20&\"!\"&BQ$5&$BL$4+2)=\"\",\"★\",INDIRECT($C$2&$C20&\"!\"&BQ$5&$BL$4+2))","v":{"$error":"#REF!"}},{"$f":"IF(INDIRECT($C$2&$C20&\"!\"&BR$5&$BL$4+2)=\"\",\"★\",INDIRECT($C$2&$C20&\"!\"&BR$5&$BL$4+2))","v":{"$error":"#REF!"}},{"$f":"IF(INDIRECT($C$2&$C20&\"!\"&BS$5&$BL$4+2)=\"\",\"★\",INDIRECT($C$2&$C20&\"!\"&BS$5&$BL$4+2))","v":{"$error":"#REF!"}},null,null,{"$f":"IF(INDIRECT($C$2&$C20&\"!\"&BV$5&$BV$4+2)=\"\",\"★\",INDIRECT($C$2&$C20&\"!\"&BV$5&$BV$4+2))","v":{"$error":"#REF!"}},{"$f":"IF(INDIRECT($C$2&$C20&\"!\"&BW$5&$BV$4+2)=\"\",\"★\",INDIRECT($C$2&$C20&\"!\"&BW$5&$BV$4+2))","v":{"$error":"#REF!"}},{"$f":"IF(INDIRECT($C$2&$C20&\"!\"&BX$5&$BV$4+2)=\"\",\"★\",INDIRECT($C$2&$C20&\"!\"&BX$5&$BV$4+2))","v":{"$error":"#REF!"}},{"$f":"IF(INDIRECT($C$2&$C20&\"!\"&BY$5&$BV$4+2)=\"\",\"★\",INDIRECT($C$2&$C20&\"!\"&BY$5&$BV$4+2))","v":{"$error":"#REF!"}},{"$f":"IF(INDIRECT($C$2&$C20&\"!\"&BZ$5&$BV$4+2)=\"\",\"★\",INDIRECT($C$2&$C20&\"!\"&BZ$5&$BV$4+2))","v":{"$error":"#REF!"}},{"$f":"IF(INDIRECT($C$2&$C20&\"!\"&CA$5&$BV$4+2)=\"\",\"★\",INDIRECT($C$2&$C20&\"!\"&CA$5&$BV$4+2))","v":{"$error":"#REF!"}},null,{"$f":"IF(INDIRECT($C$2&$C20&\"!\"&CC$5&$CC$4+2)=\"\",\"★\",INDIRECT($C$2&$C20&\"!\"&CC$5&$CC$4+2))","v":{"$error":"#REF!"}},{"$f":"IF(INDIRECT($C$2&$C20&\"!\"&CD$5&$CC$4+2)=\"\",\"★\",INDIRECT($C$2&$C20&\"!\"&CD$5&$CC$4+2))","v":{"$error":"#REF!"}},{"$f":"IF(INDIRECT($C$2&$C20&\"!\"&CE$5&$CC$4+2)=\"\",\"★\",INDIRECT($C$2&$C20&\"!\"&CE$5&$CC$4+2))","v":{"$error":"#REF!"}},{"$f":"IF(INDIRECT($C$2&$C20&\"!\"&CF$5&$CC$4+2)=\"\",\"★\",INDIRECT($C$2&$C20&\"!\"&CF$5&$CC$4+2))","v":{"$error":"#REF!"}},{"$f":"IF(INDIRECT($C$2&$C20&\"!\"&CG$5&$CC$4+2)=\"\",\"★\",INDIRECT($C$2&$C20&\"!\"&CG$5&$CC$4+2))","v":{"$error":"#REF!"}},{"$f":"IF(INDIRECT($C$2&$C20&\"!\"&CH$5&$CC$4+2)=\"\",\"★\",INDIRECT($C$2&$C20&\"!\"&CH$5&$CC$4+2))","v":{"$error":"#REF!"}},null,null,null,null,{"$f":"IF(INDIRECT($C$2&$C20&\"!\"&CM$5&$CM$4+2)=\"\",\"★\",INDIRECT($C$2&$C20&\"!\"&CM$5&$CM$4+2))","v":{"$error":"#REF!"}},{"$f":"IF(INDIRECT($C$2&$C20&\"!\"&CN$5&$CM$4+2)=\"\",\"★\",INDIRECT($C$2&$C20&\"!\"&CN$5&$CM$4+2))","v":{"$error":"#REF!"}},{"$f":"IF(INDIRECT($C$2&$C20&\"!\"&CO$5&$CM$4+2)=\"\",\"★\",INDIRECT($C$2&$C20&\"!\"&CO$5&$CM$4+2))","v":{"$error":"#REF!"}},{"$f":"IF(INDIRECT($C$2&$C20&\"!\"&CP$5&$CM$4+2)=\"\",\"★\",INDIRECT($C$2&$C20&\"!\"&CP$5&$CM$4+2))","v":{"$error":"#REF!"}},{"$f":"IF(INDIRECT($C$2&$C20&\"!\"&CQ$5&$CM$4+2)=\"\",\"★\",INDIRECT($C$2&$C20&\"!\"&CQ$5&$CM$4+2))","v":{"$error":"#REF!"}},{"$f":"IF(INDIRECT($C$2&$C20&\"!\"&CR$5&$CM$4+2)=\"\",\"★\",INDIRECT($C$2&$C20&\"!\"&CR$5&$CM$4+2))","v":{"$error":"#REF!"}},null,null,null,null,{"$f":"IF(INDIRECT($C$2&$C20&\"!\"&CW$5&$CW$4+2)=\"\",\"★\",INDIRECT($C$2&$C20&\"!\"&CW$5&$CW$4+2))","v":{"$error":"#REF!"}},{"$f":"IF(INDIRECT($C$2&$C20&\"!\"&CX$5&$CW$4+2)=\"\",\"★\",INDIRECT($C$2&$C20&\"!\"&CX$5&$CW$4+2))","v":{"$error":"#REF!"}},{"$f":"IF(INDIRECT($C$2&$C20&\"!\"&CY$5&$CW$4+2)=\"\",\"★\",INDIRECT($C$2&$C20&\"!\"&CY$5&$CW$4+2))","v":{"$error":"#REF!"}},{"$f":"IF(INDIRECT($C$2&$C20&\"!\"&CZ$5&$CW$4+2)=\"\",\"★\",INDIRECT($C$2&$C20&\"!\"&CZ$5&$CW$4+2))","v":{"$error":"#REF!"}},{"$f":"IF(INDIRECT($C$2&$C20&\"!\"&DA$5&$CW$4+2)=\"\",\"★\",INDIRECT($C$2&$C20&\"!\"&DA$5&$CW$4+2))","v":{"$error":"#REF!"}},{"$f":"IF(INDIRECT($C$2&$C20&\"!\"&DB$5&$CW$4+2)=\"\",\"★\",INDIRECT($C$2&$C20&\"!\"&DB$5&$CW$4+2))","v":{"$error":"#REF!"}},null,null,null,null,{"$f":"IF(INDIRECT($C$2&$C20&\"!\"&DG$5&$DG$4+2)=\"\",\"★\",INDIRECT($C$2&$C20&\"!\"&DG$5&$DG$4+2))","v":{"$error":"#REF!"}},{"$f":"IF(INDIRECT($C$2&$C20&\"!\"&DH$5&$DG$4+2)=\"\",\"★\",INDIRECT($C$2&$C20&\"!\"&DH$5&$DG$4+2))","v":{"$error":"#REF!"}},{"$f":"IF(INDIRECT($C$2&$C20&\"!\"&DI$5&$DG$4+2)=\"\",\"★\",INDIRECT($C$2&$C20&\"!\"&DI$5&$DG$4+2))","v":{"$error":"#REF!"}},{"$f":"IF(INDIRECT($C$2&$C20&\"!\"&DJ$5&$DG$4+2)=\"\",\"★\",INDIRECT($C$2&$C20&\"!\"&DJ$5&$DG$4+2))","v":{"$error":"#REF!"}},{"$f":"IF(INDIRECT($C$2&$C20&\"!\"&DK$5&$DG$4+2)=\"\",\"★\",INDIRECT($C$2&$C20&\"!\"&DK$5&$DG$4+2))","v":{"$error":"#REF!"}},{"$f":"IF(INDIRECT($C$2&$C20&\"!\"&DL$5&$DG$4+2)=\"\",\"★\",INDIRECT($C$2&$C20&\"!\"&DL$5&$DG$4+2))","v":{"$error":"#REF!"}}]
[null,null,"★",null,null,null,null,null,null,null,null,{"$f":"$C21&\"-4\"","v":"★-4"},{"$f":"IF(INDIRECT($C$2&$C21&\"!\"&M$5&$M$4+3)=\"\",\"★\",INDIRECT($C$2&$C21&\"!\"&M$5&$M$4+3))","v":{"$error":"#REF!"}},{"$f":"IF(INDIRECT($C$2&$C21&\"!\"&N$5&$M$4+3)=\"\",\"★\",INDIRECT($C$2&$C21&\"!\"&N$5&$M$4+3))","v":{"$error":"#REF!"}},{"$f":"IF(INDIRECT($C$2&$C21&\"!\"&O$5&$M$4+3)=\"\",\"★\",INDIRECT($C$2&$C21&\"!\"&O$5&$M$4+3))","v":{"$error":"#REF!"}},{"$f":"IF(INDIRECT($C$2&$C21&\"!\"&P$5&$M$4+3)=\"\",\"★\",INDIRECT($C$2&$C21&\"!\"&P$5&$M$4+3))","v":{"$error":"#REF!"}},{"$f":"IF(INDIRECT($C$2&$C21&\"!\"&Q$5&$M$4+3)=\"\",\"★\",INDIRECT($C$2&$C21&\"!\"&Q$5&$M$4+3))","v":{"$error":"#REF!"}},{"$f":"IF(INDIRECT($C$2&$C21&\"!\"&R$5&$M$4+3)=\"\",\"★\",INDIRECT($C$2&$C21&\"!\"&R$5&$M$4+3))","v":{"$error":"#REF!"}},{"$f":"IF(INDIRECT($C$2&$C21&\"!\"&S$5&$M$4+3)=\"\",\"★\",INDIRECT($C$2&$C21&\"!\"&S$5&$M$4+3))","v":{"$error":"#REF!"}},{"$f":"IF(INDIRECT($C$2&$C21&\"!\"&T$5&$M$4+3)=\"\",\"★\",INDIRECT($C$2&$C21&\"!\"&T$5&$M$4+3))","v":{"$error":"#REF!"}},null,{"$f":"IF(INDIRECT($C$2&$C21&\"!\"&V$5&$V$4+3)=\"\",\"★\",INDIRECT($C$2&$C21&\"!\"&V$5&$V$4+3))","v":{"$error":"#REF!"}},{"$f":"IF(INDIRECT($C$2&$C21&\"!\"&W$5&$V$4+3)=\"\",\"★\",INDIRECT($C$2&$C21&\"!\"&W$5&$V$4+3))","v":{"$error":"#REF!"}},{"$f":"IF(INDIRECT($C$2&$C21&\"!\"&X$5&$V$4+3)=\"\",\"★\",INDIRECT($C$2&$C21&\"!\"&X$5&$V$4+3))","v":{"$error":"#REF!"}},{"$f":"IF(INDIRECT($C$2&$C21&\"!\"&Y$5&$V$4+3)=\"\",\"★\",INDIRECT($C$2&$C21&\"!\"&Y$5&$V$4+3))","v":{"$error":"#REF!"}},{"$f":"IF(INDIRECT($C$2&$C21&\"!\"&Z$5&$V$4+3)=\"\",\"★\",INDIRECT($C$2&$C21&\"!\"&Z$5&$V$4+3))","v":{"$error":"#REF!"}},{"$f":"IF(INDIRECT($C$2&$C21&\"!\"&AA$5&$V$4+3)=\"\",\"★\",INDIRECT($C$2&$C21&\"!\"&AA$5&$V$4+3))","v":{"$error":"#REF!"}},{"$f":"IF(INDIRECT($C$2&$C21&\"!\"&AB$5&$V$4+3)=\"\",\"★\",INDIRECT($C$2&$C21&\"!\"&AB$5&$V$4+3))","v":{"$error":"#REF!"}},{"$f":"IF(INDIRECT($C$2&$C21&\"!\"&AC$5&$V$4+3)=\"\",\"★\",INDIRECT($C$2&$C21&\"!\"&AC$5&$V$4+3))","v":{"$error":"#REF!"}},null,null,null,null,null,null,null,null,null,null,{"$f":"IF(INDIRECT($C$2&$C21&\"!\"&AN$5&$AN$4+3)=\"\",\"★\",INDIRECT($C$2&$C21&\"!\"&AN$5&$AN$4+3))","v":{"$error":"#REF!"}},{"$f":"IF(INDIRECT($C$2&$C21&\"!\"&AO$5&$AN$4+3)=\"\",\"★\",INDIRECT($C$2&$C21&\"!\"&AO$5&$AN$4+3))","v":{"$error":"#REF!"}},{"$f":"IF(INDIRECT($C$2&$C21&\"!\"&AP$5&$AN$4+3)=\"\",\"★\",INDIRECT($C$2&$C21&\"!\"&AP$5&$AN$4+3))","v":{"$error":"#REF!"}},{"$f":"IF(INDIRECT($C$2&$C21&\"!\"&AQ$5&$AN$4+3)=\"\",\"★\",INDIRECT($C$2&$C21&\"!\"&AQ$5&$AN$4+3))","v":{"$error":"#REF!"}},{"$f":"IF(INDIRECT($C$2&$C21&\"!\"&AR$5&$AN$4+3)=\"\",\"★\",INDIRECT($C$2&$C21&\"!\"&AR$5&$AN$4+3))","v":{"$error":"#REF!"}},{"$f":"IF(INDIRECT($C$2&$C21&\"!\"&AS$5&$AN$4+3)=\"\",\"★\",INDIRECT($C$2&$C21&\"!\"&AS$5&$AN$4+3))","v":{"$error":"#REF!"}},{"$f":"IF(INDIRECT($C$2&$C21&\"!\"&AT$5&$AN$4+3)=\"\",\"★\",INDIRECT($C$2&$C21&\"!\"&AT$5&$AN$4+3))","v":{"$error":"#REF!"}},{"$f":"IF(INDIRECT($C$2&$C21&\"!\"&AU$5&$AN$4+3)=\"\",\"★\",INDIRECT($C$2&$C21&\"!\"&AU$5&$AN$4+3))","v":{"$error":"#REF!"}},null,null,null,null,{"$f":"IF(INDIRECT($C$2&$C21&\"!\"&AZ$5&$AZ$4+3)=\"\",\"★\",INDIRECT($C$2&$C21&\"!\"&AZ$5&$AZ$4+3))","v":{"$error":"#REF!"}},{"$f":"IF(INDIRECT($C$2&$C21&\"!\"&BA$5&$AZ$4+3)=\"\",\"★\",INDIRECT($C$2&$C21&\"!\"&BA$5&$AZ$4+3))","v":{"$error":"#REF!"}},{"$f":"IF(INDIRECT($C$2&$C21&\"!\"&BB$5&$AZ$4+3)=\"\",\"★\",INDIRECT($C$2&$C21&\"!\"&BB$5&$AZ$4+3))","v":{"$error":"#REF!"}},{"$f":"IF(INDIRECT($C$2&$C21&\"!\"&BC$5&$AZ$4+3)=\"\",\"★\",INDIRECT($C$2&$C21&\"!\"&BC$5&$AZ$4+3))","v":{"$error":"#REF!"}},{"$f":"IF(INDIRECT($C$2&$C21&\"!\"&BD$5&$AZ$4+3)=\"\",\"★\",INDIRECT($C$2&$C21&\"!\"&BD$5&$AZ$4+3))","v":{"$error":"#REF!"}},{"$f":"IF(INDIRECT($C$2&$C21&\"!\"&BE$5&$AZ$4+3)=\"\",\"★\",INDIRECT($C$2&$C21&\"!\"&BE$5&$AZ$4+3))","v":{"$error":"#REF!"}},{"$f":"IF(INDIRECT($C$2&$C21&\"!\"&BF$5&$AZ$4+3)=\"\",\"★\",INDIRECT($C$2&$C21&\"!\"&BF$5&$AZ$4+3))","v":{"$error":"#REF!"}},{"$f":"IF(INDIRECT($C$2&$C21&\"!\"&BG$5&$AZ$4+3)=\"\",\"★\",INDIRECT($C$2&$C21&\"!\"&BG$5&$AZ$4+3))","v":{"$error":"#REF!"}},null,null,null,null,{"$f":"IF(INDIRECT($C$2&$C21&\"!\"&BL$5&$BL$4+3)=\"\",\"★\",INDIRECT($C$2&$C21&\"!\"&BL$5&$BL$4+3))","v":{"$error":"#REF!"}},{"$f":"IF(INDIRECT($C$2&$C21&\"!\"&BM$5&$BL$4+3)=\"\",\"★\",INDIRECT($C$2&$C21&\"!\"&BM$5&$BL$4+3))","v":{"$error":"#REF!"}},{"$f":"IF(INDIRECT($C$2&$C21&\"!\"&BN$5&$BL$4+3)=\"\",\"★\",INDIRECT($C$2&$C21&\"!\"&BN$5&$BL$4+3))","v":{"$error":"#REF!"}},{"$f":"IF(INDIRECT($C$2&$C21&\"!\"&BO$5&$BL$4+3)=\"\",\"★\",INDIRECT($C$2&$C21&\"!\"&BO$5&$BL$4+3))","v":{"$error":"#REF!"}},{"$f":"IF(INDIRECT($C$2&$C21&\"!\"&BP$5&$BL$4+3)=\"\",\"★\",INDIRECT($C$2&$C21&\"!\"&BP$5&$BL$4+3))","v":{"$error":"#REF!"}},{"$f":"IF(INDIRECT($C$2&$C21&\"!\"&BQ$5&$BL$4+3)=\"\",\"★\",INDIRECT($C$2&$C21&\"!\"&BQ$5&$BL$4+3))","v":{"$error":"#REF!"}},{"$f":"IF(INDIRECT($C$2&$C21&\"!\"&BR$5&$BL$4+3)=\"\",\"★\",INDIRECT($C$2&$C21&\"!\"&BR$5&$BL$4+3))","v":{"$error":"#REF!"}},{"$f":"IF(INDIRECT($C$2&$C21&\"!\"&BS$5&$BL$4+3)=\"\",\"★\",INDIRECT($C$2&$C21&\"!\"&BS$5&$BL$4+3))","v":{"$error":"#REF!"}},null,null,{"$f":"IF(INDIRECT($C$2&$C21&\"!\"&BV$5&$BV$4+3)=\"\",\"★\",INDIRECT($C$2&$C21&\"!\"&BV$5&$BV$4+3))","v":{"$error":"#REF!"}},{"$f":"IF(INDIRECT($C$2&$C21&\"!\"&BW$5&$BV$4+3)=\"\",\"★\",INDIRECT($C$2&$C21&\"!\"&BW$5&$BV$4+3))","v":{"$error":"#REF!"}},{"$f":"IF(INDIRECT($C$2&$C21&\"!\"&BX$5&$BV$4+3)=\"\",\"★\",INDIRECT($C$2&$C21&\"!\"&BX$5&$BV$4+3))","v":{"$error":"#REF!"}},{"$f":"IF(INDIRECT($C$2&$C21&\"!\"&BY$5&$BV$4+3)=\"\",\"★\",INDIRECT($C$2&$C21&\"!\"&BY$5&$BV$4+3))","v":{"$error":"#REF!"}},{"$f":"IF(INDIRECT($C$2&$C21&\"!\"&BZ$5&$BV$4+3)=\"\",\"★\",INDIRECT($C$2&$C21&\"!\"&BZ$5&$BV$4+3))","v":{"$error":"#REF!"}},{"$f":"IF(INDIRECT($C$2&$C21&\"!\"&CA$5&$BV$4+3)=\"\",\"★\",INDIRECT($C$2&$C21&\"!\"&CA$5&$BV$4+3))","v":{"$error":"#REF!"}},null,{"$f":"IF(INDIRECT($C$2&$C21&\"!\"&CC$5&$CC$4+3)=\"\",\"★\",INDIRECT($C$2&$C21&\"!\"&CC$5&$CC$4+3))","v":{"$error":"#REF!"}},{"$f":"IF(INDIRECT($C$2&$C21&\"!\"&CD$5&$CC$4+3)=\"\",\"★\",INDIRECT($C$2&$C21&\"!\"&CD$5&$CC$4+3))","v":{"$error":"#REF!"}},{"$f":"IF(INDIRECT($C$2&$C21&\"!\"&CE$5&$CC$4+3)=\"\",\"★\",INDIRECT($C$2&$C21&\"!\"&CE$5&$CC$4+3))","v":{"$error":"#REF!"}},{"$f":"IF(INDIRECT($C$2&$C21&\"!\"&CF$5&$CC$4+3)=\"\",\"★\",INDIRECT($C$2&$C21&\"!\"&CF$5&$CC$4+3))","v":{"$error":"#REF!"}},{"$f":"IF(INDIRECT($C$2&$C21&\"!\"&CG$5&$CC$4+3)=\"\",\"★\",INDIRECT($C$2&$C21&\"!\"&CG$5&$CC$4+3))","v":{"$error":"#REF!"}},{"$f":"IF(INDIRECT($C$2&$C21&\"!\"&CH$5&$CC$4+3)=\"\",\"★\",INDIRECT($C$2&$C21&\"!\"&CH$5&$CC$4+3))","v":{"$error":"#REF!"}},null,null,null,null,{"$f":"IF(INDIRECT($C$2&$C21&\"!\"&CM$5&$CM$4+3)=\"\",\"★\",INDIRECT($C$2&$C21&\"!\"&CM$5&$CM$4+3))","v":{"$error":"#REF!"}},{"$f":"IF(INDIRECT($C$2&$C21&\"!\"&CN$5&$CM$4+3)=\"\",\"★\",INDIRECT($C$2&$C21&\"!\"&CN$5&$CM$4+3))","v":{"$error":"#REF!"}},{"$f":"IF(INDIRECT($C$2&$C21&\"!\"&CO$5&$CM$4+3)=\"\",\"★\",INDIRECT($C$2&$C21&\"!\"&CO$5&$CM$4+3))","v":{"$error":"#REF!"}},{"$f":"IF(INDIRECT($C$2&$C21&\"!\"&CP$5&$CM$4+3)=\"\",\"★\",INDIRECT($C$2&$C21&\"!\"&CP$5&$CM$4+3))","v":{"$error":"#REF!"}},{"$f":"IF(INDIRECT($C$2&$C21&\"!\"&CQ$5&$CM$4+3)=\"\",\"★\",INDIRECT($C$2&$C21&\"!\"&CQ$5&$CM$4+3))","v":{"$error":"#REF!"}},{"$f":"IF(INDIRECT($C$2&$C21&\"!\"&CR$5&$CM$4+3)=\"\",\"★\",INDIRECT($C$2&$C21&\"!\"&CR$5&$CM$4+3))","v":{"$error":"#REF!"}},null,null,null,null,{"$f":"IF(INDIRECT($C$2&$C21&\"!\"&CW$5&$CW$4+3)=\"\",\"★\",INDIRECT($C$2&$C21&\"!\"&CW$5&$CW$4+3))","v":{"$error":"#REF!"}},{"$f":"IF(INDIRECT($C$2&$C21&\"!\"&CX$5&$CW$4+3)=\"\",\"★\",INDIRECT($C$2&$C21&\"!\"&CX$5&$CW$4+3))","v":{"$error":"#REF!"}},{"$f":"IF(INDIRECT($C$2&$C21&\"!\"&CY$5&$CW$4+3)=\"\",\"★\",INDIRECT($C$2&$C21&\"!\"&CY$5&$CW$4+3))","v":{"$error":"#REF!"}},{"$f":"IF(INDIRECT($C$2&$C21&\"!\"&CZ$5&$CW$4+3)=\"\",\"★\",INDIRECT($C$2&$C21&\"!\"&CZ$5&$CW$4+3))","v":{"$error":"#REF!"}},{"$f":"IF(INDIRECT($C$2&$C21&\"!\"&DA$5&$CW$4+3)=\"\",\"★\",INDIRECT($C$2&$C21&\"!\"&DA$5&$CW$4+3))","v":{"$error":"#REF!"}},{"$f":"IF(INDIRECT($C$2&$C21&\"!\"&DB$5&$CW$4+3)=\"\",\"★\",INDIRECT($C$2&$C21&\"!\"&DB$5&$CW$4+3))","v":{"$error":"#REF!"}},null,null,null,null,{"$f":"IF(INDIRECT($C$2&$C21&\"!\"&DG$5&$DG$4+3)=\"\",\"★\",INDIRECT($C$2&$C21&\"!\"&DG$5&$DG$4+3))","v":{"$error":"#REF!"}},{"$f":"IF(INDIRECT($C$2&$C21&\"!\"&DH$5&$DG$4+3)=\"\",\"★\",INDIRECT($C$2&$C21&\"!\"&DH$5&$DG$4+3))","v":{"$error":"#REF!"}},{"$f":"IF(INDIRECT($C$2&$C21&\"!\"&DI$5&$DG$4+3)=\"\",\"★\",INDIRECT($C$2&$C21&\"!\"&DI$5&$DG$4+3))","v":{"$error":"#REF!"}},{"$f":"IF(INDIRECT($C$2&$C21&\"!\"&DJ$5&$DG$4+3)=\"\",\"★\",INDIRECT($C$2&$C21&\"!\"&DJ$5&$DG$4+3))","v":{"$error":"#REF!"}},{"$f":"IF(INDIRECT($C$2&$C21&\"!\"&DK$5&$DG$4+3)=\"\",\"★\",INDIRECT($C$2&$C21&\"!\"&DK$5&$DG$4+3))","v":{"$error":"#REF!"}},{"$f":"IF(INDIRECT($C$2&$C21&\"!\"&DL$5&$DG$4+3)=\"\",\"★\",INDIRECT($C$2&$C21&\"!\"&DL$5&$DG$4+3))","v":{"$error":"#REF!"}}]
[null,null,{"$f":"IF(INDIRECT($B$2&\"B24\")=\"\",\"★\",INDIRECT($B$2&\"B24\"))","v":"★"},{"$f":"IF(INDIRECT($C$2&$C22&\"!K12\")=\"\",\"★\",INDIRECT($C$2&$C22&\"!K12\"))","v":{"$error":"#REF!"}},{"$f":"IF(INDIRECT($C$2&$C22&\"!L12\")=\"\",\"★\",INDIRECT($C$2&$C22&\"!L12\"))","v":{"$error":"#REF!"}},{"$f":"IF(INDIRECT($C$2&$C22&\"!D13\")=\"\",\"★\",INDIRECT($C$2&$C22&\"!D13\"))","v":{"$error":"#REF!"}},{"$f":"IF(INDIRECT($C$2&$C22&\"!D14\")=\"\",\"★\",INDIRECT($C$2&$C22&\"!D14\"))","v":{"$error":"#REF!"}},{"$f":"IF(INDIRECT($C$2&$C22&\"!D15\")=\"\",\"★\",INDIRECT($C$2&$C22&\"!D15\"))","v":{"$error":"#REF!"}},{"$f":"IF(INDIRECT($C$2&$C22&\"!D16\")=\"\",\"★\",INDIRECT($C$2&$C22&\"!D16\"))","v":{"$error":"#REF!"}},{"$f":"IF(INDIRECT($C$2&$C22&\"!D17\")=\"\",\"★\",INDIRECT($C$2&$C22&\"!D17\"))","v":{"$error":"#REF!"}},{"$f":"IF(INDIRECT($C$2&$C22&\"!D18\")=\"\",\"★\",INDIRECT($C$2&$C22&\"!D18\"))","v":{"$error":"#REF!"}},{"$f":"$C22&\"-1\"","v":"★-1"},{"$f":"IF(INDIRECT($C$2&$C22&\"!\"&M$5&$M$4)=\"\",\"★\",INDIRECT($C$2&$C22&\"!\"&M$5&$M$4))","v":{"$error":"#REF!"}},{"$f":"IF(INDIRECT($C$2&$C22&\"!\"&N$5&$M$4)=\"\",\"★\",INDIRECT($C$2&$C22&\"!\"&N$5&$M$4))","v":{"$error":"#REF!"}},{"$f":"IF(INDIRECT($C$2&$C22&\"!\"&O$5&$M$4)=\"\",\"★\",INDIRECT($C$2&$C22&\"!\"&O$5&$M$4))","v":{"$error":"#REF!"}},{"$f":"IF(INDIRECT($C$2&$C22&\"!\"&P$5&$M$4)=\"\",\"★\",INDIRECT($C$2&$C22&\"!\"&P$5&$M$4))","v":{"$error":"#REF!"}},{"$f":"IF(INDIRECT($C$2&$C22&\"!\"&Q$5&$M$4)=\"\",\"★\",INDIRECT($C$2&$C22&\"!\"&Q$5&$M$4))","v":{"$error":"#REF!"}},{"$f":"IF(INDIRECT($C$2&$C22&\"!\"&R$5&$M$4)=\"\",\"★\",INDIRECT($C$2&$C22&\"!\"&R$5&$M$4))","v":{"$error":"#REF!"}},{"$f":"IF(INDIRECT($C$2&$C22&\"!\"&S$5&$M$4)=\"\",\"★\",INDIRECT($C$2&$C22&\"!\"&S$5&$M$4))","v":{"$error":"#REF!"}},{"$f":"IF(INDIRECT($C$2&$C22&\"!\"&T$5&$M$4)=\"\",\"★\",INDIRECT($C$2&$C22&\"!\"&T$5&$M$4))","v":{"$error":"#REF!"}},{"$f":"IF(INDIRECT($C$2&$C22&\"!\"&U$5&$M$4)=\"\",\"★\",INDIRECT($C$2&$C22&\"!\"&U$5&$M$4))","v":{"$error":"#REF!"}},{"$f":"IF(INDIRECT($C$2&$C22&\"!\"&V$5&$V$4)=\"\",\"★\",INDIRECT($C$2&$C22&\"!\"&V$5&$V$4))","v":{"$error":"#REF!"}},{"$f":"IF(INDIRECT($C$2&$C22&\"!\"&W$5&$V$4)=\"\",\"★\",INDIRECT($C$2&$C22&\"!\"&W$5&$V$4))","v":{"$error":"#REF!"}},{"$f":"IF(INDIRECT($C$2&$C22&\"!\"&X$5&$V$4)=\"\",\"★\",INDIRECT($C$2&$C22&\"!\"&X$5&$V$4))","v":{"$error":"#REF!"}},{"$f":"IF(INDIRECT($C$2&$C22&\"!\"&Y$5&$V$4)=\"\",\"★\",INDIRECT($C$2&$C22&\"!\"&Y$5&$V$4))","v":{"$error":"#REF!"}},{"$f":"IF(INDIRECT($C$2&$C22&\"!\"&Z$5&$V$4)=\"\",\"★\",INDIRECT($C$2&$C22&\"!\"&Z$5&$V$4))","v":{"$error":"#REF!"}},{"$f":"IF(INDIRECT($C$2&$C22&\"!\"&AA$5&$V$4)=\"\",\"★\",INDIRECT($C$2&$C22&\"!\"&AA$5&$V$4))","v":{"$error":"#REF!"}},{"$f":"IF(INDIRECT($C$2&$C22&\"!\"&AB$5&$V$4)=\"\",\"★\",INDIRECT($C$2&$C22&\"!\"&AB$5&$V$4))","v":{"$error":"#REF!"}},{"$f":"IF(INDIRECT($C$2&$C22&\"!\"&AC$5&$V$4)=\"\",\"★\",INDIRECT($C$2&$C22&\"!\"&AC$5&$V$4))","v":{"$error":"#REF!"}},{"$f":"IF(INDIRECT($C$2&$C22&\"!\"&AD$5&$V$4)=\"\",\"★\",INDIRECT($C$2&$C22&\"!\"&AD$5&$V$4))","v":{"$error":"#REF!"}},{"$f":"IF(INDIRECT($C$2&$C22&\"!\"&AE$5&$V$4)=\"\",\"★\",INDIRECT($C$2&$C22&\"!\"&AE$5&$V$4))","v":{"$error":"#REF!"}},{"$f":"IF(INDIRECT($C$2&$C22&\"!\"&AF$5&$AF$4)=\"\",\"★\",INDIRECT($C$2&$C22&\"!\"&AF$5&$AF$4))","v":{"$error":"#REF!"}},{"$f":"IF(INDIRECT($C$2&$C22&\"!\"&AG$5&$AF$4)=\"\",\"★\",INDIRECT($C$2&$C22&\"!\"&AG$5&$AF$4))","v":{"$error":"#REF!"}},{"$f":"IF(INDIRECT($C$2&$C22&\"!\"&AH$5&$AH$4)=\"\",\"★\",INDIRECT($C$2&$C22&\"!\"&AH$5&$AH$4))","v":{"$error":"#REF!"}},{"$f":"IF(INDIRECT($C$2&$C22&\"!\"&AI$5&$AH$4)=\"\",\"★\",INDIRECT($C$2&$C22&\"!\"&AI$5&$AH$4))","v":{"$error":"#REF!"}},{"$f":"IF(INDIRECT($C$2&$C22&\"!\"&AJ$5&$AJ$4)=\"\",\"★\",INDIRECT($C$2&$C22&\"!\"&AJ$5&$AJ$4))","v":{"$error":"#REF!"}},{"$f":"IF(INDIRECT($C$2&$C22&\"!\"&AK$5&$AJ$4)=\"\",\"★\",INDIRECT($C$2&$C22&\"!\"&AK$5&$AJ$4))","v":{"$error":"#REF!"}},{"$f":"$AF22","v":{"$error":"#REF!"}},{"$f":"$AG22","v":{"$error":"#REF!"}},{"$f":"IF(INDIRECT($C$2&$C22&\"!\"&AN$5&$AN$4)=\"\",\"★\",INDIRECT($C$2&$C22&\"!\"&AN$5&$AN$4))","v":{"$error":"#REF!"}},{"$f":"IF(INDIRECT($C$2&$C22&\"!\"&AO$5&$AN$4)=\"\",\"★\",INDIRECT($C$2&$C22&\"!\"&AO$5&$AN$4))","v":{"$error":"#REF!"}},{"$f":"IF(INDIRECT($C$2&$C22&\"!\"&AP$5&$AN$4)=\"\",\"★\",INDIRECT($C$2&$C22&\"!\"&AP$5&$AN$4))","v":{"$error":"#REF!"}},{"$f":"IF(INDIRECT($C$2&$C22&\"!\"&AQ$5&$AN$4)=\"\",\"★\",INDIRECT($C$2&$C22&\"!\"&AQ$5&$AN$4))","v":{"$error":"#REF!"}},{"$f":"IF(INDIRECT($C$2&$C22&\"!\"&AR$5&$AN$4)=\"\",\"★\",INDIRECT($C$2&$C22&\"!\"&AR$5&$AN$4))","v":{"$error":"#REF!"}},{"$f":"IF(INDIRECT($C$2&$C22&\"!\"&AS$5&$AN$4)=\"\",\"★\",INDIRECT($C$2&$C22&\"!\"&AS$5&$AN$4))","v":{"$error":"#REF!"}},{"$f":"IF(INDIRECT($C$2&$C22&\"!\"&AT$5&$AN$4)=\"\",\"★\",INDIRECT($C$2&$C22&\"!\"&AT$5&$AN$4))","v":{"$error":"#REF!"}},{"$f":"IF(INDIRECT($C$2&$C22&\"!\"&AU$5&$AN$4)=\"\",\"★\",INDIRECT($C$2&$C22&\"!\"&AU$5&$AN$4))","v":{"$error":"#REF!"}},{"$f":"IF(INDIRECT($C$2&$C22&\"!\"&AV$5&$AN$4)=\"\",\"★\",INDIRECT($C$2&$C22&\"!\"&AV$5&$AN$4))","v":{"$error":"#REF!"}},{"$f":"IF(INDIRECT($C$2&$C22&\"!\"&AW$5&$AN$4)=\"\",\"★\",INDIRECT($C$2&$C22&\"!\"&AW$5&$AN$4))","v":{"$error":"#REF!"}},{"$f":"$AH22","v":{"$error":"#REF!"}},{"$f":"$AI22","v":{"$error":"#REF!"}},{"$f":"IF(INDIRECT($C$2&$C22&\"!\"&AZ$5&$AZ$4)=\"\",\"★\",INDIRECT($C$2&$C22&\"!\"&AZ$5&$AZ$4))","v":{"$error":"#REF!"}},{"$f":"IF(INDIRECT($C$2&$C22&\"!\"&BA$5&$AZ$4)=\"\",\"★\",INDIRECT($C$2&$C22&\"!\"&BA$5&$AZ$4))","v":{"$error":"#REF!"}},{"$f":"IF(INDIRECT($C$2&$C22&\"!\"&BB$5&$AZ$4)=\"\",\"★\",INDIRECT($C$2&$C22&\"!\"&BB$5&$AZ$4))","v":{"$error":"#REF!"}},{"$f":"IF(INDIRECT($C$2&$C22&\"!\"&BC$5&$AZ$4)=\"\",\"★\",INDIRECT($C$2&$C22&\"!\"&BC$5&$AZ$4))","v":{"$error":"#REF!"}},{"$f":"IF(INDIRECT($C$2&$C22&\"!\"&BD$5&$AZ$4)=\"\",\"★\",INDIRECT($C$2&$C22&\"!\"&BD$5&$AZ$4))","v":{"$error":"#REF!"}},{"$f":"IF(INDIRECT($C$2&$C22&\"!\"&BE$5&$AZ$4)=\"\",\"★\",INDIRECT($C$2&$C22&\"!\"&BE$5&$AZ$4))","v":{"$error":"#REF!"}},{"$f":"IF(INDIRECT($C$2&$C22&\"!\"&BF$5&$AZ$4)=\"\",\"★\",INDIRECT($C$2&$C22&\"!\"&BF$5&$AZ$4))","v":{"$error":"#REF!"}},{"$f":"IF(INDIRECT($C$2&$C22&\"!\"&BG$5&$AZ$4)=\"\",\"★\",INDIRECT($C$2&$C22&\"!\"&BG$5&$AZ$4))","v":{"$error":"#REF!"}},{"$f":"IF(INDIRECT($C$2&$C22&\"!\"&BH$5&$AZ$4)=\"\",\"★\",INDIRECT($C$2&$C22&\"!\"&BH$5&$AZ$4))","v":{"$error":"#REF!"}},{"$f":"IF(INDIRECT($C$2&$C22&\"!\"&BI$5&$AZ$4)=\"\",\"★\",INDIRECT($C$2&$C22&\"!\"&BI$5&$AZ$4))","v":{"$error":"#REF!"}},{"$f":"$AJ22","v":{"$error":"#REF!"}},{"$f":"$AK22","v":{"$error":"#REF!"}},{"$f":"IF(INDIRECT($C$2&$C22&\"!\"&BL$5&$BL$4)=\"\",\"★\",INDIRECT($C$2&$C22&\"!\"&BL$5&$BL$4))","v":{"$error":"#REF!"}},{"$f":"IF(INDIRECT($C$2&$C22&\"!\"&BM$5&$BL$4)=\"\",\"★\",INDIRECT($C$2&$C22&\"!\"&BM$5&$BL$4))","v":{"$error":"#REF!"}},{"$f":"IF(INDIRECT($C$2&$C22&\"!\"&BN$5&$BL$4)=\"\",\"★\",INDIRECT($C$2&$C22&\"!\"&BN$5&$BL$4))","v":{"$error":"#REF!"}},{"$f":"IF(INDIRECT($C$2&$C22&\"!\"&BO$5&$BL$4)=\"\",\"★\",INDIRECT($C$2&$C22&\"!\"&BO$5&$BL$4))","v":{"$error":"#REF!"}},{"$f":"IF(INDIRECT($C$2&$C22&\"!\"&BP$5&$BL$4)=\"\",\"★\",INDIRECT($C$2&$C22&\"!\"&BP$5&$BL$4))","v":{"$error":"#REF!"}},{"$f":"IF(INDIRECT($C$2&$C22&\"!\"&BQ$5&$BL$4)=\"\",\"★\",INDIRECT($C$2&$C22&\"!\"&BQ$5&$BL$4))","v":{"$error":"#REF!"}},{"$f":"IF(INDIRECT($C$2&$C22&\"!\"&BR$5&$BL$4)=\"\",\"★\",INDIRECT($C$2&$C22&\"!\"&BR$5&$BL$4))","v":{"$error":"#REF!"}},{"$f":"IF(INDIRECT($C$2&$C22&\"!\"&BS$5&$BL$4)=\"\",\"★\",INDIRECT($C$2&$C22&\"!\"&BS$5&$BL$4))","v":{"$error":"#REF!"}},{"$f":"IF(INDIRECT($C$2&$C22&\"!\"&BT$5&$BL$4)=\"\",\"★\",INDIRECT($C$2&$C22&\"!\"&BT$5&$BL$4))","v":{"$error":"#REF!"}},{"$f":"IF(INDIRECT($C$2&$C22&\"!\"&BU$5&$BL$4)=\"\",\"★\",INDIRECT($C$2&$C22&\"!\"&BU$5&$BL$4))","v":{"$error":"#REF!"}},{"$f":"IF(INDIRECT($C$2&$C22&\"!\"&BV$5&$BV$4)=\"\",\"★\",INDIRECT($C$2&$C22&\"!\"&BV$5&$BV$4))","v":{"$error":"#REF!"}},{"$f":"IF(INDIRECT($C$2&$C22&\"!\"&BW$5&$BV$4)=\"\",\"★\",INDIRECT($C$2&$C22&\"!\"&BW$5&$BV$4))","v":{"$error":"#REF!"}},{"$f":"IF(INDIRECT($C$2&$C22&\"!\"&BX$5&$BV$4)=\"\",\"★\",INDIRECT($C$2&$C22&\"!\"&BX$5&$BV$4))","v":{"$error":"#REF!"}},{"$f":"IF(INDIRECT($C$2&$C22&\"!\"&BY$5&$BV$4)=\"\",\"★\",INDIRECT($C$2&$C22&\"!\"&BY$5&$BV$4))","v":{"$error":"#REF!"}},{"$f":"IF(INDIRECT($C$2&$C22&\"!\"&BZ$5&$BV$4)=\"\",\"★\",INDIRECT($C$2&$C22&\"!\"&BZ$5&$BV$4))","v":{"$error":"#REF!"}},{"$f":"IF(INDIRECT($C$2&$C22&\"!\"&CA$5&$BV$4)=\"\",\"★\",INDIRECT($C$2&$C22&\"!\"&CA$5&$BV$4))","v":{"$error":"#REF!"}},{"$f":"IF(INDIRECT($C$2&$C22&\"!\"&CB$5&$BV$4)=\"\",\"★\",INDIRECT($C$2&$C22&\"!\"&CB$5&$BV$4))","v":{"$error":"#REF!"}},{"$f":"IF(INDIRECT($C$2&$C22&\"!\"&CC$5&$CC$4)=\"\",\"★\",INDIRECT($C$2&$C22&\"!\"&CC$5&$CC$4))","v":{"$error":"#REF!"}},{"$f":"IF(INDIRECT($C$2&$C22&\"!\"&CD$5&$CC$4)=\"\",\"★\",INDIRECT($C$2&$C22&\"!\"&CD$5&$CC$4))","v":{"$error":"#REF!"}},{"$f":"IF(INDIRECT($C$2&$C22&\"!\"&CE$5&$CC$4)=\"\",\"★\",INDIRECT($C$2&$C22&\"!\"&CE$5&$CC$4))","v":{"$error":"#REF!"}},{"$f":"IF(INDIRECT($C$2&$C22&\"!\"&CF$5&$CC$4)=\"\",\"★\",INDIRECT($C$2&$C22&\"!\"&CF$5&$CC$4))","v":{"$error":"#REF!"}},{"$f":"IF(INDIRECT($C$2&$C22&\"!\"&CG$5&$CC$4)=\"\",\"★\",INDIRECT($C$2&$C22&\"!\"&CG$5&$CC$4))","v":{"$error":"#REF!"}},{"$f":"IF(INDIRECT($C$2&$C22&\"!\"&CH$5&$CC$4)=\"\",\"★\",INDIRECT($C$2&$C22&\"!\"&CH$5&$CC$4))","v":{"$error":"#REF!"}},{"$f":"IF(INDIRECT($C$2&$C22&\"!\"&CI$5&$CC$4)=\"\",\"★\",INDIRECT($C$2&$C22&\"!\"&CI$5&$CC$4))","v":{"$error":"#REF!"}},{"$f":"IF(INDIRECT($C$2&$C22&\"!\"&CJ$5&$CC$4)=\"\",\"★\",INDIRECT($C$2&$C22&\"!\"&CJ$5&$CC$4))","v":{"$error":"#REF!"}},{"$f":"$AF22","v":{"$error":"#REF!"}},{"$f":"$AG22","v":{"$error":"#REF!"}},{"$f":"IF(INDIRECT($C$2&$C22&\"!\"&CM$5&$CM$4)=\"\",\"★\",INDIRECT($C$2&$C22&\"!\"&CM$5&$CM$4))","v":{"$error":"#REF!"}},{"$f":"IF(INDIRECT($C$2&$C22&\"!\"&CN$5&$CM$4)=\"\",\"★\",INDIRECT($C$2&$C22&\"!\"&CN$5&$CM$4))","v":{"$error":"#REF!"}},{"$f":"IF(INDIRECT($C$2&$C22&\"!\"&CO$5&$CM$4)=\"\",\"★\",INDIRECT($C$2&$C22&\"!\"&CO$5&$CM$4))","v":{"$error":"#REF!"}},{"$f":"IF(INDIRECT($C$2&$C22&\"!\"&CP$5&$CM$4)=\"\",\"★\",INDIRECT($C$2&$C22&\"!\"&CP$5&$CM$4))","v":{"$error":"#REF!"}},{"$f":"IF(INDIRECT($C$2&$C22&\"!\"&CQ$5&$CM$4)=\"\",\"★\",INDIRECT($C$2&$C22&\"!\"&CQ$5&$CM$4))","v":{"$error":"#REF!"}},{"$f":"IF(INDIRECT($C$2&$C22&\"!\"&CR$5&$CM$4)=\"\",\"★\",INDIRECT($C$2&$C22&\"!\"&CR$5&$CM$4))","v":{"$error":"#REF!"}},{"$f":"IF(INDIRECT($C$2&$C22&\"!\"&CS$5&$CM$4)=\"\",\"★\",INDIRECT($C$2&$C22&\"!\"&CS$5&$CM$4))","v":{"$error":"#REF!"}},{"$f":"IF(INDIRECT($C$2&$C22&\"!\"&CT$5&$CM$4)=\"\",\"★\",INDIRECT($C$2&$C22&\"!\"&CT$5&$CM$4))","v":{"$error":"#REF!"}},{"$f":"$AH22","v":{"$error":"#REF!"}},{"$f":"$AI22","v":{"$error":"#REF!"}},{"$f":"IF(INDIRECT($C$2&$C22&\"!\"&CW$5&$CW$4)=\"\",\"★\",INDIRECT($C$2&$C22&\"!\"&CW$5&$CW$4))","v":{"$error":"#REF!"}},{"$f":"IF(INDIRECT($C$2&$C22&\"!\"&CX$5&$CW$4)=\"\",\"★\",INDIRECT($C$2&$C22&\"!\"&CX$5&$CW$4))","v":{"$error":"#REF!"}},{"$f":"IF(INDIRECT($C$2&$C22&\"!\"&CY$5&$CW$4)=\"\",\"★\",INDIRECT($C$2&$C22&\"!\"&CY$5&$CW$4))","v":{"$error":"#REF!"}},{"$f":"IF(INDIRECT($C$2&$C22&\"!\"&CZ$5&$CW$4)=\"\",\"★\",INDIRECT($C$2&$C22&\"!\"&CZ$5&$CW$4))","v":{"$error":"#REF!"}},{"$f":"IF(INDIRECT($C$2&$C22&\"!\"&DA$5&$CW$4)=\"\",\"★\",INDIRECT($C$2&$C22&\"!\"&DA$5&$CW$4))","v":{"$error":"#REF!"}},{"$f":"IF(INDIRECT($C$2&$C22&\"!\"&DB$5&$CW$4)=\"\",\"★\",INDIRECT($C$2&$C22&\"!\"&DB$5&$CW$4))","v":{"$error":"#REF!"}},{"$f":"IF(INDIRECT($C$2&$C22&\"!\"&DC$5&$CW$4)=\"\",\"★\",INDIRECT($C$2&$C22&\"!\"&DC$5&$CW$4))","v":{"$error":"#REF!"}},{"$f":"IF(INDIRECT($C$2&$C22&\"!\"&DD$5&$CW$4)=\"\",\"★\",INDIRECT($C$2&$C22&\"!\"&DD$5&$CW$4))","v":{"$error":"#REF!"}},{"$f":"$AJ22","v":{"$error":"#REF!"}},{"$f":"$AK22","v":{"$error":"#REF!"}},{"$f":"IF(INDIRECT($C$2&$C22&\"!\"&DG$5&$DG$4)=\"\",\"★\",INDIRECT($C$2&$C22&\"!\"&DG$5&$DG$4))","v":{"$error":"#REF!"}},{"$f":"IF(INDIRECT($C$2&$C22&\"!\"&DH$5&$DG$4)=\"\",\"★\",INDIRECT($C$2&$C22&\"!\"&DH$5&$DG$4))","v":{"$error":"#REF!"}},{"$f":"IF(INDIRECT($C$2&$C22&\"!\"&DI$5&$DG$4)=\"\",\"★\",INDIRECT($C$2&$C22&\"!\"&DI$5&$DG$4))","v":{"$error":"#REF!"}},{"$f":"IF(INDIRECT($C$2&$C22&\"!\"&DJ$5&$DG$4)=\"\",\"★\",INDIRECT($C$2&$C22&\"!\"&DJ$5&$DG$4))","v":{"$error":"#REF!"}},{"$f":"IF(INDIRECT($C$2&$C22&\"!\"&DK$5&$DG$4)=\"\",\"★\",INDIRECT($C$2&$C22&\"!\"&DK$5&$DG$4))","v":{"$error":"#REF!"}},{"$f":"IF(INDIRECT($C$2&$C22&\"!\"&DL$5&$DG$4)=\"\",\"★\",INDIRECT($C$2&$C22&\"!\"&DL$5&$DG$4))","v":{"$error":"#REF!"}},{"$f":"IF(INDIRECT($C$2&$C22&\"!\"&DM$5&$DG$4)=\"\",\"★\",INDIRECT($C$2&$C22&\"!\"&DM$5&$DG$4))","v":{"$error":"#REF!"}},{"$f":"IF(INDIRECT($C$2&$C22&\"!\"&DN$5&$DG$4)=\"\",\"★\",INDIRECT($C$2&$C22&\"!\"&DN$5&$DG$4))","v":{"$error":"#REF!"}},{"$f":"IF(INDIRECT($C$2&$C22&\"!B57\")=\"\",\"★\",INDIRECT($C$2&$C22&\"!B57\"))","v":{"$error":"#REF!"}},{"$f":"IF(INDIRECT($C$2&$C22&\"!B100\")=\"\",\"★\",INDIRECT($C$2&$C22&\"!B100\"))","v":{"$error":"#REF!"}},{"$f":"IF(INDIRECT($C$2&$C22&\"!B112\")=\"\",\"★\",INDIRECT($C$2&$C22&\"!B112\"))","v":{"$error":"#REF!"}},{"$f":"IF(INDIRECT($C$2&$C22&\"!B155\")=\"\",\"★\",INDIRECT($C$2&$C22&\"!B155\"))","v":{"$error":"#REF!"}},{"$f":"IF(INDIRECT($C$2&$C22&\"!B167\")=\"\",\"★\",INDIRECT($C$2&$C22&\"!B167\"))","v":{"$error":"#REF!"}},{"$f":"IF(INDIRECT($C$2&$C22&\"!B210\")=\"\",\"★\",INDIRECT($C$2&$C22&\"!B210\"))","v":{"$error":"#REF!"}}]
[null,null,{"$f":"C22","v":"★"},null,null,null,null,null,null,null,null,{"$f":"$C23&\"-2\"","v":"★-2"},{"$f":"IF(INDIRECT($C$2&$C23&\"!\"&M$5&$M$4+1)=\"\",\"★\",INDIRECT($C$2&$C23&\"!\"&M$5&$M$4+1))","v":{"$error":"#REF!"}},{"$f":"IF(INDIRECT($C$2&$C23&\"!\"&N$5&$M$4+1)=\"\",\"★\",INDIRECT($C$2&$C23&\"!\"&N$5&$M$4+1))","v":{"$error":"#REF!"}},{"$f":"IF(INDIRECT($C$2&$C23&\"!\"&O$5&$M$4+1)=\"\",\"★\",INDIRECT($C$2&$C23&\"!\"&O$5&$M$4+1))","v":{"$error":"#REF!"}},{"$f":"IF(INDIRECT($C$2&$C23&\"!\"&P$5&$M$4+1)=\"\",\"★\",INDIRECT($C$2&$C23&\"!\"&P$5&$M$4+1))","v":{"$error":"#REF!"}},{"$f":"IF(INDIRECT($C$2&$C23&\"!\"&Q$5&$M$4+1)=\"\",\"★\",INDIRECT($C$2&$C23&\"!\"&Q$5&$M$4+1))","v":{"$error":"#REF!"}},{"$f":"IF(INDIRECT($C$2&$C23&\"!\"&R$5&$M$4+1)=\"\",\"★\",INDIRECT($C$2&$C23&\"!\"&R$5&$M$4+1))","v":{"$error":"#REF!"}},{"$f":"IF(INDIRECT($C$2&$C23&\"!\"&S$5&$M$4+1)=\"\",\"★\",INDIRECT($C$2&$C23&\"!\"&S$5&$M$4+1))","v":{"$error":"#REF!"}},{"$f":"IF(INDIRECT($C$2&$C23&\"!\"&T$5&$M$4+1)=\"\",\"★\",INDIRECT($C$2&$C23&\"!\"&T$5&$M$4+1))","v":{"$error":"#REF!"}},null,{"$f":"IF(INDIRECT($C$2&$C23&\"!\"&V$5&$V$4+1)=\"\",\"★\",INDIRECT($C$2&$C23&\"!\"&V$5&$V$4+1))","v":{"$error":"#REF!"}},{"$f":"IF(INDIRECT($C$2&$C23&\"!\"&W$5&$V$4+1)=\"\",\"★\",INDIRECT($C$2&$C23&\"!\"&W$5&$V$4+1))","v":{"$error":"#REF!"}},{"$f":"IF(INDIRECT($C$2&$C23&\"!\"&X$5&$V$4+1)=\"\",\"★\",INDIRECT($C$2&$C23&\"!\"&X$5&$V$4+1))","v":{"$error":"#REF!"}},{"$f":"IF(INDIRECT($C$2&$C23&\"!\"&Y$5&$V$4+1)=\"\",\"★\",INDIRECT($C$2&$C23&\"!\"&Y$5&$V$4+1))","v":{"$error":"#REF!"}},{"$f":"IF(INDIRECT($C$2&$C23&\"!\"&Z$5&$V$4+1)=\"\",\"★\",INDIRECT($C$2&$C23&\"!\"&Z$5&$V$4+1))","v":{"$error":"#REF!"}},{"$f":"IF(INDIRECT($C$2&$C23&\"!\"&AA$5&$V$4+1)=\"\",\"★\",INDIRECT($C$2&$C23&\"!\"&AA$5&$V$4+1))","v":{"$error":"#REF!"}},{"$f":"IF(INDIRECT($C$2&$C23&\"!\"&AB$5&$V$4+1)=\"\",\"★\",INDIRECT($C$2&$C23&\"!\"&AB$5&$V$4+1))","v":{"$error":"#REF!"}},{"$f":"IF(INDIRECT($C$2&$C23&\"!\"&AC$5&$V$4+1)=\"\",\"★\",INDIRECT($C$2&$C23&\"!\"&AC$5&$V$4+1))","v":{"$error":"#REF!"}},null,null,null,null,null,null,null,null,null,null,{"$f":"IF(INDIRECT($C$2&$C23&\"!\"&AN$5&$AN$4+1)=\"\",\"★\",INDIRECT($C$2&$C23&\"!\"&AN$5&$AN$4+1))","v":{"$error":"#REF!"}},{"$f":"IF(INDIRECT($C$2&$C23&\"!\"&AO$5&$AN$4+1)=\"\",\"★\",INDIRECT($C$2&$C23&\"!\"&AO$5&$AN$4+1))","v":{"$error":"#REF!"}},{"$f":"IF(INDIRECT($C$2&$C23&\"!\"&AP$5&$AN$4+1)=\"\",\"★\",INDIRECT($C$2&$C23&\"!\"&AP$5&$AN$4+1))","v":{"$error":"#REF!"}},{"$f":"IF(INDIRECT($C$2&$C23&\"!\"&AQ$5&$AN$4+1)=\"\",\"★\",INDIRECT($C$2&$C23&\"!\"&AQ$5&$AN$4+1))","v":{"$error":"#REF!"}},{"$f":"IF(INDIRECT($C$2&$C23&\"!\"&AR$5&$AN$4+1)=\"\",\"★\",INDIRECT($C$2&$C23&\"!\"&AR$5&$AN$4+1))","v":{"$error":"#REF!"}},{"$f":"IF(INDIRECT($C$2&$C23&\"!\"&AS$5&$AN$4+1)=\"\",\"★\",INDIRECT($C$2&$C23&\"!\"&AS$5&$AN$4+1))","v":{"$error":"#REF!"}},{"$f":"IF(INDIRECT($C$2&$C23&\"!\"&AT$5&$AN$4+1)=\"\",\"★\",INDIRECT($C$2&$C23&\"!\"&AT$5&$AN$4+1))","v":{"$error":"#REF!"}},{"$f":"IF(INDIRECT($C$2&$C23&\"!\"&AU$5&$AN$4+1)=\"\",\"★\",INDIRECT($C$2&$C23&\"!\"&AU$5&$AN$4+1))","v":{"$error":"#REF!"}},null,null,null,null,{"$f":"IF(INDIRECT($C$2&$C23&\"!\"&AZ$5&$AZ$4+1)=\"\",\"★\",INDIRECT($C$2&$C23&\"!\"&AZ$5&$AZ$4+1))","v":{"$error":"#REF!"}},{"$f":"IF(INDIRECT($C$2&$C23&\"!\"&BA$5&$AZ$4+1)=\"\",\"★\",INDIRECT($C$2&$C23&\"!\"&BA$5&$AZ$4+1))","v":{"$error":"#REF!"}},{"$f":"IF(INDIRECT($C$2&$C23&\"!\"&BB$5&$AZ$4+1)=\"\",\"★\",INDIRECT($C$2&$C23&\"!\"&BB$5&$AZ$4+1))","v":{"$error":"#REF!"}},{"$f":"IF(INDIRECT($C$2&$C23&\"!\"&BC$5&$AZ$4+1)=\"\",\"★\",INDIRECT($C$2&$C23&\"!\"&BC$5&$AZ$4+1))","v":{"$error":"#REF!"}},{"$f":"IF(INDIRECT($C$2&$C23&\"!\"&BD$5&$AZ$4+1)=\"\",\"★\",INDIRECT($C$2&$C23&\"!\"&BD$5&$AZ$4+1))","v":{"$error":"#REF!"}},{"$f":"IF(INDIRECT($C$2&$C23&\"!\"&BE$5&$AZ$4+1)=\"\",\"★\",INDIRECT($C$2&$C23&\"!\"&BE$5&$AZ$4+1))","v":{"$error":"#REF!"}},{"$f":"IF(INDIRECT($C$2&$C23&\"!\"&BF$5&$AZ$4+1)=\"\",\"★\",INDIRECT($C$2&$C23&\"!\"&BF$5&$AZ$4+1))","v":{"$error":"#REF!"}},{"$f":"IF(INDIRECT($C$2&$C23&\"!\"&BG$5&$AZ$4+1)=\"\",\"★\",INDIRECT($C$2&$C23&\"!\"&BG$5&$AZ$4+1))","v":{"$error":"#REF!"}},null,null,null,null,{"$f":"IF(INDIRECT($C$2&$C23&\"!\"&BL$5&$BL$4+1)=\"\",\"★\",INDIRECT($C$2&$C23&\"!\"&BL$5&$BL$4+1))","v":{"$error":"#REF!"}},{"$f":"IF(INDIRECT($C$2&$C23&\"!\"&BM$5&$BL$4+1)=\"\",\"★\",INDIRECT($C$2&$C23&\"!\"&BM$5&$BL$4+1))","v":{"$error":"#REF!"}},{"$f":"IF(INDIRECT($C$2&$C23&\"!\"&BN$5&$BL$4+1)=\"\",\"★\",INDIRECT($C$2&$C23&\"!\"&BN$5&$BL$4+1))","v":{"$error":"#REF!"}},{"$f":"IF(INDIRECT($C$2&$C23&\"!\"&BO$5&$BL$4+1)=\"\",\"★\",INDIRECT($C$2&$C23&\"!\"&BO$5&$BL$4+1))","v":{"$error":"#REF!"}},{"$f":"IF(INDIRECT($C$2&$C23&\"!\"&BP$5&$BL$4+1)=\"\",\"★\",INDIRECT($C$2&$C23&\"!\"&BP$5&$BL$4+1))","v":{"$error":"#REF!"}},{"$f":"IF(INDIRECT($C$2&$C23&\"!\"&BQ$5&$BL$4+1)=\"\",\"★\",INDIRECT($C$2&$C23&\"!\"&BQ$5&$BL$4+1))","v":{"$error":"#REF!"}},{"$f":"IF(INDIRECT($C$2&$C23&\"!\"&BR$5&$BL$4+1)=\"\",\"★\",INDIRECT($C$2&$C23&\"!\"&BR$5&$BL$4+1))","v":{"$error":"#REF!"}},{"$f":"IF(INDIRECT($C$2&$C23&\"!\"&BS$5&$BL$4+1)=\"\",\"★\",INDIRECT($C$2&$C23&\"!\"&BS$5&$BL$4+1))","v":{"$error":"#REF!"}},null,null,{"$f":"IF(INDIRECT($C$2&$C23&\"!\"&BV$5&$BV$4+1)=\"\",\"★\",INDIRECT($C$2&$C23&\"!\"&BV$5&$BV$4+1))","v":{"$error":"#REF!"}},{"$f":"IF(INDIRECT($C$2&$C23&\"!\"&BW$5&$BV$4+1)=\"\",\"★\",INDIRECT($C$2&$C23&\"!\"&BW$5&$BV$4+1))","v":{"$error":"#REF!"}},{"$f":"IF(INDIRECT($C$2&$C23&\"!\"&BX$5&$BV$4+1)=\"\",\"★\",INDIRECT($C$2&$C23&\"!\"&BX$5&$BV$4+1))","v":{"$error":"#REF!"}},{"$f":"IF(INDIRECT($C$2&$C23&\"!\"&BY$5&$BV$4+1)=\"\",\"★\",INDIRECT($C$2&$C23&\"!\"&BY$5&$BV$4+1))","v":{"$error":"#REF!"}},{"$f":"IF(INDIRECT($C$2&$C23&\"!\"&BZ$5&$BV$4+1)=\"\",\"★\",INDIRECT($C$2&$C23&\"!\"&BZ$5&$BV$4+1))","v":{"$error":"#REF!"}},{"$f":"IF(INDIRECT($C$2&$C23&\"!\"&CA$5&$BV$4+1)=\"\",\"★\",INDIRECT($C$2&$C23&\"!\"&CA$5&$BV$4+1))","v":{"$error":"#REF!"}},null,{"$f":"IF(INDIRECT($C$2&$C23&\"!\"&CC$5&$CC$4+1)=\"\",\"★\",INDIRECT($C$2&$C23&\"!\"&CC$5&$CC$4+1))","v":{"$error":"#REF!"}},{"$f":"IF(INDIRECT($C$2&$C23&\"!\"&CD$5&$CC$4+1)=\"\",\"★\",INDIRECT($C$2&$C23&\"!\"&CD$5&$CC$4+1))","v":{"$error":"#REF!"}},{"$f":"IF(INDIRECT($C$2&$C23&\"!\"&CE$5&$CC$4+1)=\"\",\"★\",INDIRECT($C$2&$C23&\"!\"&CE$5&$CC$4+1))","v":{"$error":"#REF!"}},{"$f":"IF(INDIRECT($C$2&$C23&\"!\"&CF$5&$CC$4+1)=\"\",\"★\",INDIRECT($C$2&$C23&\"!\"&CF$5&$CC$4+1))","v":{"$error":"#REF!"}},{"$f":"IF(INDIRECT($C$2&$C23&\"!\"&CG$5&$CC$4+1)=\"\",\"★\",INDIRECT($C$2&$C23&\"!\"&CG$5&$CC$4+1))","v":{"$error":"#REF!"}},{"$f":"IF(INDIRECT($C$2&$C23&\"!\"&CH$5&$CC$4+1)=\"\",\"★\",INDIRECT($C$2&$C23&\"!\"&CH$5&$CC$4+1))","v":{"$error":"#REF!"}},null,null,null,null,{"$f":"IF(INDIRECT($C$2&$C23&\"!\"&CM$5&$CM$4+1)=\"\",\"★\",INDIRECT($C$2&$C23&\"!\"&CM$5&$CM$4+1))","v":{"$error":"#REF!"}},{"$f":"IF(INDIRECT($C$2&$C23&\"!\"&CN$5&$CM$4+1)=\"\",\"★\",INDIRECT($C$2&$C23&\"!\"&CN$5&$CM$4+1))","v":{"$error":"#REF!"}},{"$f":"IF(INDIRECT($C$2&$C23&\"!\"&CO$5&$CM$4+1)=\"\",\"★\",INDIRECT($C$2&$C23&\"!\"&CO$5&$CM$4+1))","v":{"$error":"#REF!"}},{"$f":"IF(INDIRECT($C$2&$C23&\"!\"&CP$5&$CM$4+1)=\"\",\"★\",INDIRECT($C$2&$C23&\"!\"&CP$5&$CM$4+1))","v":{"$error":"#REF!"}},{"$f":"IF(INDIRECT($C$2&$C23&\"!\"&CQ$5&$CM$4+1)=\"\",\"★\",INDIRECT($C$2&$C23&\"!\"&CQ$5&$CM$4+1))","v":{"$error":"#REF!"}},{"$f":"IF(INDIRECT($C$2&$C23&\"!\"&CR$5&$CM$4+1)=\"\",\"★\",INDIRECT($C$2&$C23&\"!\"&CR$5&$CM$4+1))","v":{"$error":"#REF!"}},null,null,null,null,{"$f":"IF(INDIRECT($C$2&$C23&\"!\"&CW$5&$CW$4+1)=\"\",\"★\",INDIRECT($C$2&$C23&\"!\"&CW$5&$CW$4+1))","v":{"$error":"#REF!"}},{"$f":"IF(INDIRECT($C$2&$C23&\"!\"&CX$5&$CW$4+1)=\"\",\"★\",INDIRECT($C$2&$C23&\"!\"&CX$5&$CW$4+1))","v":{"$error":"#REF!"}},{"$f":"IF(INDIRECT($C$2&$C23&\"!\"&CY$5&$CW$4+1)=\"\",\"★\",INDIRECT($C$2&$C23&\"!\"&CY$5&$CW$4+1))","v":{"$error":"#REF!"}},{"$f":"IF(INDIRECT($C$2&$C23&\"!\"&CZ$5&$CW$4+1)=\"\",\"★\",INDIRECT($C$2&$C23&\"!\"&CZ$5&$CW$4+1))","v":{"$error":"#REF!"}},{"$f":"IF(INDIRECT($C$2&$C23&\"!\"&DA$5&$CW$4+1)=\"\",\"★\",INDIRECT($C$2&$C23&\"!\"&DA$5&$CW$4+1))","v":{"$error":"#REF!"}},{"$f":"IF(INDIRECT($C$2&$C23&\"!\"&DB$5&$CW$4+1)=\"\",\"★\",INDIRECT($C$2&$C23&\"!\"&DB$5&$CW$4+1))","v":{"$error":"#REF!"}},null,null,null,null,{"$f":"IF(INDIRECT($C$2&$C23&\"!\"&DG$5&$DG$4+1)=\"\",\"★\",INDIRECT($C$2&$C23&\"!\"&DG$5&$DG$4+1))","v":{"$error":"#REF!"}},{"$f":"IF(INDIRECT($C$2&$C23&\"!\"&DH$5&$DG$4+1)=\"\",\"★\",INDIRECT($C$2&$C23&\"!\"&DH$5&$DG$4+1))","v":{"$error":"#REF!"}},{"$f":"IF(INDIRECT($C$2&$C23&\"!\"&DI$5&$DG$4+1)=\"\",\"★\",INDIRECT($C$2&$C23&\"!\"&DI$5&$DG$4+1))","v":{"$error":"#REF!"}},{"$f":"IF(INDIRECT($C$2&$C23&\"!\"&DJ$5&$DG$4+1)=\"\",\"★\",INDIRECT($C$2&$C23&\"!\"&DJ$5&$DG$4+1))","v":{"$error":"#REF!"}},{"$f":"IF(INDIRECT($C$2&$C23&\"!\"&DK$5&$DG$4+1)=\"\",\"★\",INDIRECT($C$2&$C23&\"!\"&DK$5&$DG$4+1))","v":{"$error":"#REF!"}},{"$f":"IF(INDIRECT($C$2&$C23&\"!\"&DL$5&$DG$4+1)=\"\",\"★\",INDIRECT($C$2&$C23&\"!\"&DL$5&$DG$4+1))","v":{"$error":"#REF!"}}]
[null,null,{"$f":"C23","v":"★"},null,null,null,null,null,null,null,null,{"$f":"$C24&\"-3\"","v":"★-3"},{"$f":"IF(INDIRECT($C$2&$C24&\"!\"&M$5&$M$4+2)=\"\",\"★\",INDIRECT($C$2&$C24&\"!\"&M$5&$M$4+2))","v":{"$error":"#REF!"}},{"$f":"IF(INDIRECT($C$2&$C24&\"!\"&N$5&$M$4+2)=\"\",\"★\",INDIRECT($C$2&$C24&\"!\"&N$5&$M$4+2))","v":{"$error":"#REF!"}},{"$f":"IF(INDIRECT($C$2&$C24&\"!\"&O$5&$M$4+2)=\"\",\"★\",INDIRECT($C$2&$C24&\"!\"&O$5&$M$4+2))","v":{"$error":"#REF!"}},{"$f":"IF(INDIRECT($C$2&$C24&\"!\"&P$5&$M$4+2)=\"\",\"★\",INDIRECT($C$2&$C24&\"!\"&P$5&$M$4+2))","v":{"$error":"#REF!"}},{"$f":"IF(INDIRECT($C$2&$C24&\"!\"&Q$5&$M$4+2)=\"\",\"★\",INDIRECT($C$2&$C24&\"!\"&Q$5&$M$4+2))","v":{"$error":"#REF!"}},{"$f":"IF(INDIRECT($C$2&$C24&\"!\"&R$5&$M$4+2)=\"\",\"★\",INDIRECT($C$2&$C24&\"!\"&R$5&$M$4+2))","v":{"$error":"#REF!"}},{"$f":"IF(INDIRECT($C$2&$C24&\"!\"&S$5&$M$4+2)=\"\",\"★\",INDIRECT($C$2&$C24&\"!\"&S$5&$M$4+2))","v":{"$error":"#REF!"}},{"$f":"IF(INDIRECT($C$2&$C24&\"!\"&T$5&$M$4+2)=\"\",\"★\",INDIRECT($C$2&$C24&\"!\"&T$5&$M$4+2))","v":{"$error":"#REF!"}},null,{"$f":"IF(INDIRECT($C$2&$C24&\"!\"&V$5&$V$4+2)=\"\",\"★\",INDIRECT($C$2&$C24&\"!\"&V$5&$V$4+2))","v":{"$error":"#REF!"}},{"$f":"IF(INDIRECT($C$2&$C24&\"!\"&W$5&$V$4+2)=\"\",\"★\",INDIRECT($C$2&$C24&\"!\"&W$5&$V$4+2))","v":{"$error":"#REF!"}},{"$f":"IF(INDIRECT($C$2&$C24&\"!\"&X$5&$V$4+2)=\"\",\"★\",INDIRECT($C$2&$C24&\"!\"&X$5&$V$4+2))","v":{"$error":"#REF!"}},{"$f":"IF(INDIRECT($C$2&$C24&\"!\"&Y$5&$V$4+2)=\"\",\"★\",INDIRECT($C$2&$C24&\"!\"&Y$5&$V$4+2))","v":{"$error":"#REF!"}},{"$f":"IF(INDIRECT($C$2&$C24&\"!\"&Z$5&$V$4+2)=\"\",\"★\",INDIRECT($C$2&$C24&\"!\"&Z$5&$V$4+2))","v":{"$error":"#REF!"}},{"$f":"IF(INDIRECT($C$2&$C24&\"!\"&AA$5&$V$4+2)=\"\",\"★\",INDIRECT($C$2&$C24&\"!\"&AA$5&$V$4+2))","v":{"$error":"#REF!"}},{"$f":"IF(INDIRECT($C$2&$C24&\"!\"&AB$5&$V$4+2)=\"\",\"★\",INDIRECT($C$2&$C24&\"!\"&AB$5&$V$4+2))","v":{"$error":"#REF!"}},{"$f":"IF(INDIRECT($C$2&$C24&\"!\"&AC$5&$V$4+2)=\"\",\"★\",INDIRECT($C$2&$C24&\"!\"&AC$5&$V$4+2))","v":{"$error":"#REF!"}},null,null,null,null,null,null,null,null,null,null,{"$f":"IF(INDIRECT($C$2&$C24&\"!\"&AN$5&$AN$4+2)=\"\",\"★\",INDIRECT($C$2&$C24&\"!\"&AN$5&$AN$4+2))","v":{"$error":"#REF!"}},{"$f":"IF(INDIRECT($C$2&$C24&\"!\"&AO$5&$AN$4+2)=\"\",\"★\",INDIRECT($C$2&$C24&\"!\"&AO$5&$AN$4+2))","v":{"$error":"#REF!"}},{"$f":"IF(INDIRECT($C$2&$C24&\"!\"&AP$5&$AN$4+2)=\"\",\"★\",INDIRECT($C$2&$C24&\"!\"&AP$5&$AN$4+2))","v":{"$error":"#REF!"}},{"$f":"IF(INDIRECT($C$2&$C24&\"!\"&AQ$5&$AN$4+2)=\"\",\"★\",INDIRECT($C$2&$C24&\"!\"&AQ$5&$AN$4+2))","v":{"$error":"#REF!"}},{"$f":"IF(INDIRECT($C$2&$C24&\"!\"&AR$5&$AN$4+2)=\"\",\"★\",INDIRECT($C$2&$C24&\"!\"&AR$5&$AN$4+2))","v":{"$error":"#REF!"}},{"$f":"IF(INDIRECT($C$2&$C24&\"!\"&AS$5&$AN$4+2)=\"\",\"★\",INDIRECT($C$2&$C24&\"!\"&AS$5&$AN$4+2))","v":{"$error":"#REF!"}},{"$f":"IF(INDIRECT($C$2&$C24&\"!\"&AT$5&$AN$4+2)=\"\",\"★\",INDIRECT($C$2&$C24&\"!\"&AT$5&$AN$4+2))","v":{"$error":"#REF!"}},{"$f":"IF(INDIRECT($C$2&$C24&\"!\"&AU$5&$AN$4+2)=\"\",\"★\",INDIRECT($C$2&$C24&\"!\"&AU$5&$AN$4+2))","v":{"$error":"#REF!"}},null,null,null,null,{"$f":"IF(INDIRECT($C$2&$C24&\"!\"&AZ$5&$AZ$4+2)=\"\",\"★\",INDIRECT($C$2&$C24&\"!\"&AZ$5&$AZ$4+2))","v":{"$error":"#REF!"}},{"$f":"IF(INDIRECT($C$2&$C24&\"!\"&BA$5&$AZ$4+2)=\"\",\"★\",INDIRECT($C$2&$C24&\"!\"&BA$5&$AZ$4+2))","v":{"$error":"#REF!"}},{"$f":"IF(INDIRECT($C$2&$C24&\"!\"&BB$5&$AZ$4+2)=\"\",\"★\",INDIRECT($C$2&$C24&\"!\"&BB$5&$AZ$4+2))","v":{"$error":"#REF!"}},{"$f":"IF(INDIRECT($C$2&$C24&\"!\"&BC$5&$AZ$4+2)=\"\",\"★\",INDIRECT($C$2&$C24&\"!\"&BC$5&$AZ$4+2))","v":{"$error":"#REF!"}},{"$f":"IF(INDIRECT($C$2&$C24&\"!\"&BD$5&$AZ$4+2)=\"\",\"★\",INDIRECT($C$2&$C24&\"!\"&BD$5&$AZ$4+2))","v":{"$error":"#REF!"}},{"$f":"IF(INDIRECT($C$2&$C24&\"!\"&BE$5&$AZ$4+2)=\"\",\"★\",INDIRECT($C$2&$C24&\"!\"&BE$5&$AZ$4+2))","v":{"$error":"#REF!"}},{"$f":"IF(INDIRECT($C$2&$C24&\"!\"&BF$5&$AZ$4+2)=\"\",\"★\",INDIRECT($C$2&$C24&\"!\"&BF$5&$AZ$4+2))","v":{"$error":"#REF!"}},{"$f":"IF(INDIRECT($C$2&$C24&\"!\"&BG$5&$AZ$4+2)=\"\",\"★\",INDIRECT($C$2&$C24&\"!\"&BG$5&$AZ$4+2))","v":{"$error":"#REF!"}},null,null,null,null,{"$f":"IF(INDIRECT($C$2&$C24&\"!\"&BL$5&$BL$4+2)=\"\",\"★\",INDIRECT($C$2&$C24&\"!\"&BL$5&$BL$4+2))","v":{"$error":"#REF!"}},{"$f":"IF(INDIRECT($C$2&$C24&\"!\"&BM$5&$BL$4+2)=\"\",\"★\",INDIRECT($C$2&$C24&\"!\"&BM$5&$BL$4+2))","v":{"$error":"#REF!"}},{"$f":"IF(INDIRECT($C$2&$C24&\"!\"&BN$5&$BL$4+2)=\"\",\"★\",INDIRECT($C$2&$C24&\"!\"&BN$5&$BL$4+2))","v":{"$error":"#REF!"}},{"$f":"IF(INDIRECT($C$2&$C24&\"!\"&BO$5&$BL$4+2)=\"\",\"★\",INDIRECT($C$2&$C24&\"!\"&BO$5&$BL$4+2))","v":{"$error":"#REF!"}},{"$f":"IF(INDIRECT($C$2&$C24&\"!\"&BP$5&$BL$4+2)=\"\",\"★\",INDIRECT($C$2&$C24&\"!\"&BP$5&$BL$4+2))","v":{"$error":"#REF!"}},{"$f":"IF(INDIRECT($C$2&$C24&\"!\"&BQ$5&$BL$4+2)=\"\",\"★\",INDIRECT($C$2&$C24&\"!\"&BQ$5&$BL$4+2))","v":{"$error":"#REF!"}},{"$f":"IF(INDIRECT($C$2&$C24&\"!\"&BR$5&$BL$4+2)=\"\",\"★\",INDIRECT($C$2&$C24&\"!\"&BR$5&$BL$4+2))","v":{"$error":"#REF!"}},{"$f":"IF(INDIRECT($C$2&$C24&\"!\"&BS$5&$BL$4+2)=\"\",\"★\",INDIRECT($C$2&$C24&\"!\"&BS$5&$BL$4+2))","v":{"$error":"#REF!"}},null,null,{"$f":"IF(INDIRECT($C$2&$C24&\"!\"&BV$5&$BV$4+2)=\"\",\"★\",INDIRECT($C$2&$C24&\"!\"&BV$5&$BV$4+2))","v":{"$error":"#REF!"}},{"$f":"IF(INDIRECT($C$2&$C24&\"!\"&BW$5&$BV$4+2)=\"\",\"★\",INDIRECT($C$2&$C24&\"!\"&BW$5&$BV$4+2))","v":{"$error":"#REF!"}},{"$f":"IF(INDIRECT($C$2&$C24&\"!\"&BX$5&$BV$4+2)=\"\",\"★\",INDIRECT($C$2&$C24&\"!\"&BX$5&$BV$4+2))","v":{"$error":"#REF!"}},{"$f":"IF(INDIRECT($C$2&$C24&\"!\"&BY$5&$BV$4+2)=\"\",\"★\",INDIRECT($C$2&$C24&\"!\"&BY$5&$BV$4+2))","v":{"$error":"#REF!"}},{"$f":"IF(INDIRECT($C$2&$C24&\"!\"&BZ$5&$BV$4+2)=\"\",\"★\",INDIRECT($C$2&$C24&\"!\"&BZ$5&$BV$4+2))","v":{"$error":"#REF!"}},{"$f":"IF(INDIRECT($C$2&$C24&\"!\"&CA$5&$BV$4+2)=\"\",\"★\",INDIRECT($C$2&$C24&\"!\"&CA$5&$BV$4+2))","v":{"$error":"#REF!"}},null,{"$f":"IF(INDIRECT($C$2&$C24&\"!\"&CC$5&$CC$4+2)=\"\",\"★\",INDIRECT($C$2&$C24&\"!\"&CC$5&$CC$4+2))","v":{"$error":"#REF!"}},{"$f":"IF(INDIRECT($C$2&$C24&\"!\"&CD$5&$CC$4+2)=\"\",\"★\",INDIRECT($C$2&$C24&\"!\"&CD$5&$CC$4+2))","v":{"$error":"#REF!"}},{"$f":"IF(INDIRECT($C$2&$C24&\"!\"&CE$5&$CC$4+2)=\"\",\"★\",INDIRECT($C$2&$C24&\"!\"&CE$5&$CC$4+2))","v":{"$error":"#REF!"}},{"$f":"IF(INDIRECT($C$2&$C24&\"!\"&CF$5&$CC$4+2)=\"\",\"★\",INDIRECT($C$2&$C24&\"!\"&CF$5&$CC$4+2))","v":{"$error":"#REF!"}},{"$f":"IF(INDIRECT($C$2&$C24&\"!\"&CG$5&$CC$4+2)=\"\",\"★\",INDIRECT($C$2&$C24&\"!\"&CG$5&$CC$4+2))","v":{"$error":"#REF!"}},{"$f":"IF(INDIRECT($C$2&$C24&\"!\"&CH$5&$CC$4+2)=\"\",\"★\",INDIRECT($C$2&$C24&\"!\"&CH$5&$CC$4+2))","v":{"$error":"#REF!"}},null,null,null,null,{"$f":"IF(INDIRECT($C$2&$C24&\"!\"&CM$5&$CM$4+2)=\"\",\"★\",INDIRECT($C$2&$C24&\"!\"&CM$5&$CM$4+2))","v":{"$error":"#REF!"}},{"$f":"IF(INDIRECT($C$2&$C24&\"!\"&CN$5&$CM$4+2)=\"\",\"★\",INDIRECT($C$2&$C24&\"!\"&CN$5&$CM$4+2))","v":{"$error":"#REF!"}},{"$f":"IF(INDIRECT($C$2&$C24&\"!\"&CO$5&$CM$4+2)=\"\",\"★\",INDIRECT($C$2&$C24&\"!\"&CO$5&$CM$4+2))","v":{"$error":"#REF!"}},{"$f":"IF(INDIRECT($C$2&$C24&\"!\"&CP$5&$CM$4+2)=\"\",\"★\",INDIRECT($C$2&$C24&\"!\"&CP$5&$CM$4+2))","v":{"$error":"#REF!"}},{"$f":"IF(INDIRECT($C$2&$C24&\"!\"&CQ$5&$CM$4+2)=\"\",\"★\",INDIRECT($C$2&$C24&\"!\"&CQ$5&$CM$4+2))","v":{"$error":"#REF!"}},{"$f":"IF(INDIRECT($C$2&$C24&\"!\"&CR$5&$CM$4+2)=\"\",\"★\",INDIRECT($C$2&$C24&\"!\"&CR$5&$CM$4+2))","v":{"$error":"#REF!"}},null,null,null,null,{"$f":"IF(INDIRECT($C$2&$C24&\"!\"&CW$5&$CW$4+2)=\"\",\"★\",INDIRECT($C$2&$C24&\"!\"&CW$5&$CW$4+2))","v":{"$error":"#REF!"}},{"$f":"IF(INDIRECT($C$2&$C24&\"!\"&CX$5&$CW$4+2)=\"\",\"★\",INDIRECT($C$2&$C24&\"!\"&CX$5&$CW$4+2))","v":{"$error":"#REF!"}},{"$f":"IF(INDIRECT($C$2&$C24&\"!\"&CY$5&$CW$4+2)=\"\",\"★\",INDIRECT($C$2&$C24&\"!\"&CY$5&$CW$4+2))","v":{"$error":"#REF!"}},{"$f":"IF(INDIRECT($C$2&$C24&\"!\"&CZ$5&$CW$4+2)=\"\",\"★\",INDIRECT($C$2&$C24&\"!\"&CZ$5&$CW$4+2))","v":{"$error":"#REF!"}},{"$f":"IF(INDIRECT($C$2&$C24&\"!\"&DA$5&$CW$4+2)=\"\",\"★\",INDIRECT($C$2&$C24&\"!\"&DA$5&$CW$4+2))","v":{"$error":"#REF!"}},{"$f":"IF(INDIRECT($C$2&$C24&\"!\"&DB$5&$CW$4+2)=\"\",\"★\",INDIRECT($C$2&$C24&\"!\"&DB$5&$CW$4+2))","v":{"$error":"#REF!"}},null,null,null,null,{"$f":"IF(INDIRECT($C$2&$C24&\"!\"&DG$5&$DG$4+2)=\"\",\"★\",INDIRECT($C$2&$C24&\"!\"&DG$5&$DG$4+2))","v":{"$error":"#REF!"}},{"$f":"IF(INDIRECT($C$2&$C24&\"!\"&DH$5&$DG$4+2)=\"\",\"★\",INDIRECT($C$2&$C24&\"!\"&DH$5&$DG$4+2))","v":{"$error":"#REF!"}},{"$f":"IF(INDIRECT($C$2&$C24&\"!\"&DI$5&$DG$4+2)=\"\",\"★\",INDIRECT($C$2&$C24&\"!\"&DI$5&$DG$4+2))","v":{"$error":"#REF!"}},{"$f":"IF(INDIRECT($C$2&$C24&\"!\"&DJ$5&$DG$4+2)=\"\",\"★\",INDIRECT($C$2&$C24&\"!\"&DJ$5&$DG$4+2))","v":{"$error":"#REF!"}},{"$f":"IF(INDIRECT($C$2&$C24&\"!\"&DK$5&$DG$4+2)=\"\",\"★\",INDIRECT($C$2&$C24&\"!\"&DK$5&$DG$4+2))","v":{"$error":"#REF!"}},{"$f":"IF(INDIRECT($C$2&$C24&\"!\"&DL$5&$DG$4+2)=\"\",\"★\",INDIRECT($C$2&$C24&\"!\"&DL$5&$DG$4+2))","v":{"$error":"#REF!"}}]
[null,null,"★",null,null,null,null,null,null,null,null,{"$f":"$C25&\"-4\"","v":"★-4"},{"$f":"IF(INDIRECT($C$2&$C25&\"!\"&M$5&$M$4+3)=\"\",\"★\",INDIRECT($C$2&$C25&\"!\"&M$5&$M$4+3))","v":{"$error":"#REF!"}},{"$f":"IF(INDIRECT($C$2&$C25&\"!\"&N$5&$M$4+3)=\"\",\"★\",INDIRECT($C$2&$C25&\"!\"&N$5&$M$4+3))","v":{"$error":"#REF!"}},{"$f":"IF(INDIRECT($C$2&$C25&\"!\"&O$5&$M$4+3)=\"\",\"★\",INDIRECT($C$2&$C25&\"!\"&O$5&$M$4+3))","v":{"$error":"#REF!"}},{"$f":"IF(INDIRECT($C$2&$C25&\"!\"&P$5&$M$4+3)=\"\",\"★\",INDIRECT($C$2&$C25&\"!\"&P$5&$M$4+3))","v":{"$error":"#REF!"}},{"$f":"IF(INDIRECT($C$2&$C25&\"!\"&Q$5&$M$4+3)=\"\",\"★\",INDIRECT($C$2&$C25&\"!\"&Q$5&$M$4+3))","v":{"$error":"#REF!"}},{"$f":"IF(INDIRECT($C$2&$C25&\"!\"&R$5&$M$4+3)=\"\",\"★\",INDIRECT($C$2&$C25&\"!\"&R$5&$M$4+3))","v":{"$error":"#REF!"}},{"$f":"IF(INDIRECT($C$2&$C25&\"!\"&S$5&$M$4+3)=\"\",\"★\",INDIRECT($C$2&$C25&\"!\"&S$5&$M$4+3))","v":{"$error":"#REF!"}},{"$f":"IF(INDIRECT($C$2&$C25&\"!\"&T$5&$M$4+3)=\"\",\"★\",INDIRECT($C$2&$C25&\"!\"&T$5&$M$4+3))","v":{"$error":"#REF!"}},null,{"$f":"IF(INDIRECT($C$2&$C25&\"!\"&V$5&$V$4+3)=\"\",\"★\",INDIRECT($C$2&$C25&\"!\"&V$5&$V$4+3))","v":{"$error":"#REF!"}},{"$f":"IF(INDIRECT($C$2&$C25&\"!\"&W$5&$V$4+3)=\"\",\"★\",INDIRECT($C$2&$C25&\"!\"&W$5&$V$4+3))","v":{"$error":"#REF!"}},{"$f":"IF(INDIRECT($C$2&$C25&\"!\"&X$5&$V$4+3)=\"\",\"★\",INDIRECT($C$2&$C25&\"!\"&X$5&$V$4+3))","v":{"$error":"#REF!"}},{"$f":"IF(INDIRECT($C$2&$C25&\"!\"&Y$5&$V$4+3)=\"\",\"★\",INDIRECT($C$2&$C25&\"!\"&Y$5&$V$4+3))","v":{"$error":"#REF!"}},{"$f":"IF(INDIRECT($C$2&$C25&\"!\"&Z$5&$V$4+3)=\"\",\"★\",INDIRECT($C$2&$C25&\"!\"&Z$5&$V$4+3))","v":{"$error":"#REF!"}},{"$f":"IF(INDIRECT($C$2&$C25&\"!\"&AA$5&$V$4+3)=\"\",\"★\",INDIRECT($C$2&$C25&\"!\"&AA$5&$V$4+3))","v":{"$error":"#REF!"}},{"$f":"IF(INDIRECT($C$2&$C25&\"!\"&AB$5&$V$4+3)=\"\",\"★\",INDIRECT($C$2&$C25&\"!\"&AB$5&$V$4+3))","v":{"$error":"#REF!"}},{"$f":"IF(INDIRECT($C$2&$C25&\"!\"&AC$5&$V$4+3)=\"\",\"★\",INDIRECT($C$2&$C25&\"!\"&AC$5&$V$4+3))","v":{"$error":"#REF!"}},null,null,null,null,null,null,null,null,null,null,{"$f":"IF(INDIRECT($C$2&$C25&\"!\"&AN$5&$AN$4+3)=\"\",\"★\",INDIRECT($C$2&$C25&\"!\"&AN$5&$AN$4+3))","v":{"$error":"#REF!"}},{"$f":"IF(INDIRECT($C$2&$C25&\"!\"&AO$5&$AN$4+3)=\"\",\"★\",INDIRECT($C$2&$C25&\"!\"&AO$5&$AN$4+3))","v":{"$error":"#REF!"}},{"$f":"IF(INDIRECT($C$2&$C25&\"!\"&AP$5&$AN$4+3)=\"\",\"★\",INDIRECT($C$2&$C25&\"!\"&AP$5&$AN$4+3))","v":{"$error":"#REF!"}},{"$f":"IF(INDIRECT($C$2&$C25&\"!\"&AQ$5&$AN$4+3)=\"\",\"★\",INDIRECT($C$2&$C25&\"!\"&AQ$5&$AN$4+3))","v":{"$error":"#REF!"}},{"$f":"IF(INDIRECT($C$2&$C25&\"!\"&AR$5&$AN$4+3)=\"\",\"★\",INDIRECT($C$2&$C25&\"!\"&AR$5&$AN$4+3))","v":{"$error":"#REF!"}},{"$f":"IF(INDIRECT($C$2&$C25&\"!\"&AS$5&$AN$4+3)=\"\",\"★\",INDIRECT($C$2&$C25&\"!\"&AS$5&$AN$4+3))","v":{"$error":"#REF!"}},{"$f":"IF(INDIRECT($C$2&$C25&\"!\"&AT$5&$AN$4+3)=\"\",\"★\",INDIRECT($C$2&$C25&\"!\"&AT$5&$AN$4+3))","v":{"$error":"#REF!"}},{"$f":"IF(INDIRECT($C$2&$C25&\"!\"&AU$5&$AN$4+3)=\"\",\"★\",INDIRECT($C$2&$C25&\"!\"&AU$5&$AN$4+3))","v":{"$error":"#REF!"}},null,null,null,null,{"$f":"IF(INDIRECT($C$2&$C25&\"!\"&AZ$5&$AZ$4+3)=\"\",\"★\",INDIRECT($C$2&$C25&\"!\"&AZ$5&$AZ$4+3))","v":{"$error":"#REF!"}},{"$f":"IF(INDIRECT($C$2&$C25&\"!\"&BA$5&$AZ$4+3)=\"\",\"★\",INDIRECT($C$2&$C25&\"!\"&BA$5&$AZ$4+3))","v":{"$error":"#REF!"}},{"$f":"IF(INDIRECT($C$2&$C25&\"!\"&BB$5&$AZ$4+3)=\"\",\"★\",INDIRECT($C$2&$C25&\"!\"&BB$5&$AZ$4+3))","v":{"$error":"#REF!"}},{"$f":"IF(INDIRECT($C$2&$C25&\"!\"&BC$5&$AZ$4+3)=\"\",\"★\",INDIRECT($C$2&$C25&\"!\"&BC$5&$AZ$4+3))","v":{"$error":"#REF!"}},{"$f":"IF(INDIRECT($C$2&$C25&\"!\"&BD$5&$AZ$4+3)=\"\",\"★\",INDIRECT($C$2&$C25&\"!\"&BD$5&$AZ$4+3))","v":{"$error":"#REF!"}},{"$f":"IF(INDIRECT($C$2&$C25&\"!\"&BE$5&$AZ$4+3)=\"\",\"★\",INDIRECT($C$2&$C25&\"!\"&BE$5&$AZ$4+3))","v":{"$error":"#REF!"}},{"$f":"IF(INDIRECT($C$2&$C25&\"!\"&BF$5&$AZ$4+3)=\"\",\"★\",INDIRECT($C$2&$C25&\"!\"&BF$5&$AZ$4+3))","v":{"$error":"#REF!"}},{"$f":"IF(INDIRECT($C$2&$C25&\"!\"&BG$5&$AZ$4+3)=\"\",\"★\",INDIRECT($C$2&$C25&\"!\"&BG$5&$AZ$4+3))","v":{"$error":"#REF!"}},null,null,null,null,{"$f":"IF(INDIRECT($C$2&$C25&\"!\"&BL$5&$BL$4+3)=\"\",\"★\",INDIRECT($C$2&$C25&\"!\"&BL$5&$BL$4+3))","v":{"$error":"#REF!"}},{"$f":"IF(INDIRECT($C$2&$C25&\"!\"&BM$5&$BL$4+3)=\"\",\"★\",INDIRECT($C$2&$C25&\"!\"&BM$5&$BL$4+3))","v":{"$error":"#REF!"}},{"$f":"IF(INDIRECT($C$2&$C25&\"!\"&BN$5&$BL$4+3)=\"\",\"★\",INDIRECT($C$2&$C25&\"!\"&BN$5&$BL$4+3))","v":{"$error":"#REF!"}},{"$f":"IF(INDIRECT($C$2&$C25&\"!\"&BO$5&$BL$4+3)=\"\",\"★\",INDIRECT($C$2&$C25&\"!\"&BO$5&$BL$4+3))","v":{"$error":"#REF!"}},{"$f":"IF(INDIRECT($C$2&$C25&\"!\"&BP$5&$BL$4+3)=\"\",\"★\",INDIRECT($C$2&$C25&\"!\"&BP$5&$BL$4+3))","v":{"$error":"#REF!"}},{"$f":"IF(INDIRECT($C$2&$C25&\"!\"&BQ$5&$BL$4+3)=\"\",\"★\",INDIRECT($C$2&$C25&\"!\"&BQ$5&$BL$4+3))","v":{"$error":"#REF!"}},{"$f":"IF(INDIRECT($C$2&$C25&\"!\"&BR$5&$BL$4+3)=\"\",\"★\",INDIRECT($C$2&$C25&\"!\"&BR$5&$BL$4+3))","v":{"$error":"#REF!"}},{"$f":"IF(INDIRECT($C$2&$C25&\"!\"&BS$5&$BL$4+3)=\"\",\"★\",INDIRECT($C$2&$C25&\"!\"&BS$5&$BL$4+3))","v":{"$error":"#REF!"}},null,null,{"$f":"IF(INDIRECT($C$2&$C25&\"!\"&BV$5&$BV$4+3)=\"\",\"★\",INDIRECT($C$2&$C25&\"!\"&BV$5&$BV$4+3))","v":{"$error":"#REF!"}},{"$f":"IF(INDIRECT($C$2&$C25&\"!\"&BW$5&$BV$4+3)=\"\",\"★\",INDIRECT($C$2&$C25&\"!\"&BW$5&$BV$4+3))","v":{"$error":"#REF!"}},{"$f":"IF(INDIRECT($C$2&$C25&\"!\"&BX$5&$BV$4+3)=\"\",\"★\",INDIRECT($C$2&$C25&\"!\"&BX$5&$BV$4+3))","v":{"$error":"#REF!"}},{"$f":"IF(INDIRECT($C$2&$C25&\"!\"&BY$5&$BV$4+3)=\"\",\"★\",INDIRECT($C$2&$C25&\"!\"&BY$5&$BV$4+3))","v":{"$error":"#REF!"}},{"$f":"IF(INDIRECT($C$2&$C25&\"!\"&BZ$5&$BV$4+3)=\"\",\"★\",INDIRECT($C$2&$C25&\"!\"&BZ$5&$BV$4+3))","v":{"$error":"#REF!"}},{"$f":"IF(INDIRECT($C$2&$C25&\"!\"&CA$5&$BV$4+3)=\"\",\"★\",INDIRECT($C$2&$C25&\"!\"&CA$5&$BV$4+3))","v":{"$error":"#REF!"}},null,{"$f":"IF(INDIRECT($C$2&$C25&\"!\"&CC$5&$CC$4+3)=\"\",\"★\",INDIRECT($C$2&$C25&\"!\"&CC$5&$CC$4+3))","v":{"$error":"#REF!"}},{"$f":"IF(INDIRECT($C$2&$C25&\"!\"&CD$5&$CC$4+3)=\"\",\"★\",INDIRECT($C$2&$C25&\"!\"&CD$5&$CC$4+3))","v":{"$error":"#REF!"}},{"$f":"IF(INDIRECT($C$2&$C25&\"!\"&CE$5&$CC$4+3)=\"\",\"★\",INDIRECT($C$2&$C25&\"!\"&CE$5&$CC$4+3))","v":{"$error":"#REF!"}},{"$f":"IF(INDIRECT($C$2&$C25&\"!\"&CF$5&$CC$4+3)=\"\",\"★\",INDIRECT($C$2&$C25&\"!\"&CF$5&$CC$4+3))","v":{"$error":"#REF!"}},{"$f":"IF(INDIRECT($C$2&$C25&\"!\"&CG$5&$CC$4+3)=\"\",\"★\",INDIRECT($C$2&$C25&\"!\"&CG$5&$CC$4+3))","v":{"$error":"#REF!"}},{"$f":"IF(INDIRECT($C$2&$C25&\"!\"&CH$5&$CC$4+3)=\"\",\"★\",INDIRECT($C$2&$C25&\"!\"&CH$5&$CC$4+3))","v":{"$error":"#REF!"}},null,null,null,null,{"$f":"IF(INDIRECT($C$2&$C25&\"!\"&CM$5&$CM$4+3)=\"\",\"★\",INDIRECT($C$2&$C25&\"!\"&CM$5&$CM$4+3))","v":{"$error":"#REF!"}},{"$f":"IF(INDIRECT($C$2&$C25&\"!\"&CN$5&$CM$4+3)=\"\",\"★\",INDIRECT($C$2&$C25&\"!\"&CN$5&$CM$4+3))","v":{"$error":"#REF!"}},{"$f":"IF(INDIRECT($C$2&$C25&\"!\"&CO$5&$CM$4+3)=\"\",\"★\",INDIRECT($C$2&$C25&\"!\"&CO$5&$CM$4+3))","v":{"$error":"#REF!"}},{"$f":"IF(INDIRECT($C$2&$C25&\"!\"&CP$5&$CM$4+3)=\"\",\"★\",INDIRECT($C$2&$C25&\"!\"&CP$5&$CM$4+3))","v":{"$error":"#REF!"}},{"$f":"IF(INDIRECT($C$2&$C25&\"!\"&CQ$5&$CM$4+3)=\"\",\"★\",INDIRECT($C$2&$C25&\"!\"&CQ$5&$CM$4+3))","v":{"$error":"#REF!"}},{"$f":"IF(INDIRECT($C$2&$C25&\"!\"&CR$5&$CM$4+3)=\"\",\"★\",INDIRECT($C$2&$C25&\"!\"&CR$5&$CM$4+3))","v":{"$error":"#REF!"}},null,null,null,null,{"$f":"IF(INDIRECT($C$2&$C25&\"!\"&CW$5&$CW$4+3)=\"\",\"★\",INDIRECT($C$2&$C25&\"!\"&CW$5&$CW$4+3))","v":{"$error":"#REF!"}},{"$f":"IF(INDIRECT($C$2&$C25&\"!\"&CX$5&$CW$4+3)=\"\",\"★\",INDIRECT($C$2&$C25&\"!\"&CX$5&$CW$4+3))","v":{"$error":"#REF!"}},{"$f":"IF(INDIRECT($C$2&$C25&\"!\"&CY$5&$CW$4+3)=\"\",\"★\",INDIRECT($C$2&$C25&\"!\"&CY$5&$CW$4+3))","v":{"$error":"#REF!"}},{"$f":"IF(INDIRECT($C$2&$C25&\"!\"&CZ$5&$CW$4+3)=\"\",\"★\",INDIRECT($C$2&$C25&\"!\"&CZ$5&$CW$4+3))","v":{"$error":"#REF!"}},{"$f":"IF(INDIRECT($C$2&$C25&\"!\"&DA$5&$CW$4+3)=\"\",\"★\",INDIRECT($C$2&$C25&\"!\"&DA$5&$CW$4+3))","v":{"$error":"#REF!"}},{"$f":"IF(INDIRECT($C$2&$C25&\"!\"&DB$5&$CW$4+3)=\"\",\"★\",INDIRECT($C$2&$C25&\"!\"&DB$5&$CW$4+3))","v":{"$error":"#REF!"}},null,null,null,null,{"$f":"IF(INDIRECT($C$2&$C25&\"!\"&DG$5&$DG$4+3)=\"\",\"★\",INDIRECT($C$2&$C25&\"!\"&DG$5&$DG$4+3))","v":{"$error":"#REF!"}},{"$f":"IF(INDIRECT($C$2&$C25&\"!\"&DH$5&$DG$4+3)=\"\",\"★\",INDIRECT($C$2&$C25&\"!\"&DH$5&$DG$4+3))","v":{"$error":"#REF!"}},{"$f":"IF(INDIRECT($C$2&$C25&\"!\"&DI$5&$DG$4+3)=\"\",\"★\",INDIRECT($C$2&$C25&\"!\"&DI$5&$DG$4+3))","v":{"$error":"#REF!"}},{"$f":"IF(INDIRECT($C$2&$C25&\"!\"&DJ$5&$DG$4+3)=\"\",\"★\",INDIRECT($C$2&$C25&\"!\"&DJ$5&$DG$4+3))","v":{"$error":"#REF!"}},{"$f":"IF(INDIRECT($C$2&$C25&\"!\"&DK$5&$DG$4+3)=\"\",\"★\",INDIRECT($C$2&$C25&\"!\"&DK$5&$DG$4+3))","v":{"$error":"#REF!"}},{"$f":"IF(INDIRECT($C$2&$C25&\"!\"&DL$5&$DG$4+3)=\"\",\"★\",INDIRECT($C$2&$C25&\"!\"&DL$5&$DG$4+3))","v":{"$error":"#REF!"}}]
[null,null,{"$f":"IF(INDIRECT($B$2&\"B25\")=\"\",\"★\",INDIRECT($B$2&\"B25\"))","v":"★"},{"$f":"IF(INDIRECT($C$2&$C26&\"!K12\")=\"\",\"★\",INDIRECT($C$2&$C26&\"!K12\"))","v":{"$error":"#REF!"}},{"$f":"IF(INDIRECT($C$2&$C26&\"!L12\")=\"\",\"★\",INDIRECT($C$2&$C26&\"!L12\"))","v":{"$error":"#REF!"}},{"$f":"IF(INDIRECT($C$2&$C26&\"!D13\")=\"\",\"★\",INDIRECT($C$2&$C26&\"!D13\"))","v":{"$error":"#REF!"}},{"$f":"IF(INDIRECT($C$2&$C26&\"!D14\")=\"\",\"★\",INDIRECT($C$2&$C26&\"!D14\"))","v":{"$error":"#REF!"}},{"$f":"IF(INDIRECT($C$2&$C26&\"!D15\")=\"\",\"★\",INDIRECT($C$2&$C26&\"!D15\"))","v":{"$error":"#REF!"}},{"$f":"IF(INDIRECT($C$2&$C26&\"!D16\")=\"\",\"★\",INDIRECT($C$2&$C26&\"!D16\"))","v":{"$error":"#REF!"}},{"$f":"IF(INDIRECT($C$2&$C26&\"!D17\")=\"\",\"★\",INDIRECT($C$2&$C26&\"!D17\"))","v":{"$error":"#REF!"}},{"$f":"IF(INDIRECT($C$2&$C26&\"!D18\")=\"\",\"★\",INDIRECT($C$2&$C26&\"!D18\"))","v":{"$error":"#REF!"}},{"$f":"$C26&\"-1\"","v":"★-1"},{"$f":"IF(INDIRECT($C$2&$C26&\"!\"&M$5&$M$4)=\"\",\"★\",INDIRECT($C$2&$C26&\"!\"&M$5&$M$4))","v":{"$error":"#REF!"}},{"$f":"IF(INDIRECT($C$2&$C26&\"!\"&N$5&$M$4)=\"\",\"★\",INDIRECT($C$2&$C26&\"!\"&N$5&$M$4))","v":{"$error":"#REF!"}},{"$f":"IF(INDIRECT($C$2&$C26&\"!\"&O$5&$M$4)=\"\",\"★\",INDIRECT($C$2&$C26&\"!\"&O$5&$M$4))","v":{"$error":"#REF!"}},{"$f":"IF(INDIRECT($C$2&$C26&\"!\"&P$5&$M$4)=\"\",\"★\",INDIRECT($C$2&$C26&\"!\"&P$5&$M$4))","v":{"$error":"#REF!"}},{"$f":"IF(INDIRECT($C$2&$C26&\"!\"&Q$5&$M$4)=\"\",\"★\",INDIRECT($C$2&$C26&\"!\"&Q$5&$M$4))","v":{"$error":"#REF!"}},{"$f":"IF(INDIRECT($C$2&$C26&\"!\"&R$5&$M$4)=\"\",\"★\",INDIRECT($C$2&$C26&\"!\"&R$5&$M$4))","v":{"$error":"#REF!"}},{"$f":"IF(INDIRECT($C$2&$C26&\"!\"&S$5&$M$4)=\"\",\"★\",INDIRECT($C$2&$C26&\"!\"&S$5&$M$4))","v":{"$error":"#REF!"}},{"$f":"IF(INDIRECT($C$2&$C26&\"!\"&T$5&$M$4)=\"\",\"★\",INDIRECT($C$2&$C26&\"!\"&T$5&$M$4))","v":{"$error":"#REF!"}},{"$f":"IF(INDIRECT($C$2&$C26&\"!\"&U$5&$M$4)=\"\",\"★\",INDIRECT($C$2&$C26&\"!\"&U$5&$M$4))","v":{"$error":"#REF!"}},{"$f":"IF(INDIRECT($C$2&$C26&\"!\"&V$5&$V$4)=\"\",\"★\",INDIRECT($C$2&$C26&\"!\"&V$5&$V$4))","v":{"$error":"#REF!"}},{"$f":"IF(INDIRECT($C$2&$C26&\"!\"&W$5&$V$4)=\"\",\"★\",INDIRECT($C$2&$C26&\"!\"&W$5&$V$4))","v":{"$error":"#REF!"}},{"$f":"IF(INDIRECT($C$2&$C26&\"!\"&X$5&$V$4)=\"\",\"★\",INDIRECT($C$2&$C26&\"!\"&X$5&$V$4))","v":{"$error":"#REF!"}},{"$f":"IF(INDIRECT($C$2&$C26&\"!\"&Y$5&$V$4)=\"\",\"★\",INDIRECT($C$2&$C26&\"!\"&Y$5&$V$4))","v":{"$error":"#REF!"}},{"$f":"IF(INDIRECT($C$2&$C26&\"!\"&Z$5&$V$4)=\"\",\"★\",INDIRECT($C$2&$C26&\"!\"&Z$5&$V$4))","v":{"$error":"#REF!"}},{"$f":"IF(INDIRECT($C$2&$C26&\"!\"&AA$5&$V$4)=\"\",\"★\",INDIRECT($C$2&$C26&\"!\"&AA$5&$V$4))","v":{"$error":"#REF!"}},{"$f":"IF(INDIRECT($C$2&$C26&\"!\"&AB$5&$V$4)=\"\",\"★\",INDIRECT($C$2&$C26&\"!\"&AB$5&$V$4))","v":{"$error":"#REF!"}},{"$f":"IF(INDIRECT($C$2&$C26&\"!\"&AC$5&$V$4)=\"\",\"★\",INDIRECT($C$2&$C26&\"!\"&AC$5&$V$4))","v":{"$error":"#REF!"}},{"$f":"IF(INDIRECT($C$2&$C26&\"!\"&AD$5&$V$4)=\"\",\"★\",INDIRECT($C$2&$C26&\"!\"&AD$5&$V$4))","v":{"$error":"#REF!"}},{"$f":"IF(INDIRECT($C$2&$C26&\"!\"&AE$5&$V$4)=\"\",\"★\",INDIRECT($C$2&$C26&\"!\"&AE$5&$V$4))","v":{"$error":"#REF!"}},{"$f":"IF(INDIRECT($C$2&$C26&\"!\"&AF$5&$AF$4)=\"\",\"★\",INDIRECT($C$2&$C26&\"!\"&AF$5&$AF$4))","v":{"$error":"#REF!"}},{"$f":"IF(INDIRECT($C$2&$C26&\"!\"&AG$5&$AF$4)=\"\",\"★\",INDIRECT($C$2&$C26&\"!\"&AG$5&$AF$4))","v":{"$error":"#REF!"}},{"$f":"IF(INDIRECT($C$2&$C26&\"!\"&AH$5&$AH$4)=\"\",\"★\",INDIRECT($C$2&$C26&\"!\"&AH$5&$AH$4))","v":{"$error":"#REF!"}},{"$f":"IF(INDIRECT($C$2&$C26&\"!\"&AI$5&$AH$4)=\"\",\"★\",INDIRECT($C$2&$C26&\"!\"&AI$5&$AH$4))","v":{"$error":"#REF!"}},{"$f":"IF(INDIRECT($C$2&$C26&\"!\"&AJ$5&$AJ$4)=\"\",\"★\",INDIRECT($C$2&$C26&\"!\"&AJ$5&$AJ$4))","v":{"$error":"#REF!"}},{"$f":"IF(INDIRECT($C$2&$C26&\"!\"&AK$5&$AJ$4)=\"\",\"★\",INDIRECT($C$2&$C26&\"!\"&AK$5&$AJ$4))","v":{"$error":"#REF!"}},{"$f":"$AF26","v":{"$error":"#REF!"}},{"$f":"$AG26","v":{"$error":"#REF!"}},{"$f":"IF(INDIRECT($C$2&$C26&\"!\"&AN$5&$AN$4)=\"\",\"★\",INDIRECT($C$2&$C26&\"!\"&AN$5&$AN$4))","v":{"$error":"#REF!"}},{"$f":"IF(INDIRECT($C$2&$C26&\"!\"&AO$5&$AN$4)=\"\",\"★\",INDIRECT($C$2&$C26&\"!\"&AO$5&$AN$4))","v":{"$error":"#REF!"}},{"$f":"IF(INDIRECT($C$2&$C26&\"!\"&AP$5&$AN$4)=\"\",\"★\",INDIRECT($C$2&$C26&\"!\"&AP$5&$AN$4))","v":{"$error":"#REF!"}},{"$f":"IF(INDIRECT($C$2&$C26&\"!\"&AQ$5&$AN$4)=\"\",\"★\",INDIRECT($C$2&$C26&\"!\"&AQ$5&$AN$4))","v":{"$error":"#REF!"}},{"$f":"IF(INDIRECT($C$2&$C26&\"!\"&AR$5&$AN$4)=\"\",\"★\",INDIRECT($C$2&$C26&\"!\"&AR$5&$AN$4))","v":{"$error":"#REF!"}},{"$f":"IF(INDIRECT($C$2&$C26&\"!\"&AS$5&$AN$4)=\"\",\"★\",INDIRECT($C$2&$C26&\"!\"&AS$5&$AN$4))","v":{"$error":"#REF!"}},{"$f":"IF(INDIRECT($C$2&$C26&\"!\"&AT$5&$AN$4)=\"\",\"★\",INDIRECT($C$2&$C26&\"!\"&AT$5&$AN$4))","v":{"$error":"#REF!"}},{"$f":"IF(INDIRECT($C$2&$C26&\"!\"&AU$5&$AN$4)=\"\",\"★\",INDIRECT($C$2&$C26&\"!\"&AU$5&$AN$4))","v":{"$error":"#REF!"}},{"$f":"IF(INDIRECT($C$2&$C26&\"!\"&AV$5&$AN$4)=\"\",\"★\",INDIRECT($C$2&$C26&\"!\"&AV$5&$AN$4))","v":{"$error":"#REF!"}},{"$f":"IF(INDIRECT($C$2&$C26&\"!\"&AW$5&$AN$4)=\"\",\"★\",INDIRECT($C$2&$C26&\"!\"&AW$5&$AN$4))","v":{"$error":"#REF!"}},{"$f":"$AH26","v":{"$error":"#REF!"}},{"$f":"$AI26","v":{"$error":"#REF!"}},{"$f":"IF(INDIRECT($C$2&$C26&\"!\"&AZ$5&$AZ$4)=\"\",\"★\",INDIRECT($C$2&$C26&\"!\"&AZ$5&$AZ$4))","v":{"$error":"#REF!"}},{"$f":"IF(INDIRECT($C$2&$C26&\"!\"&BA$5&$AZ$4)=\"\",\"★\",INDIRECT($C$2&$C26&\"!\"&BA$5&$AZ$4))","v":{"$error":"#REF!"}},{"$f":"IF(INDIRECT($C$2&$C26&\"!\"&BB$5&$AZ$4)=\"\",\"★\",INDIRECT($C$2&$C26&\"!\"&BB$5&$AZ$4))","v":{"$error":"#REF!"}},{"$f":"IF(INDIRECT($C$2&$C26&\"!\"&BC$5&$AZ$4)=\"\",\"★\",INDIRECT($C$2&$C26&\"!\"&BC$5&$AZ$4))","v":{"$error":"#REF!"}},{"$f":"IF(INDIRECT($C$2&$C26&\"!\"&BD$5&$AZ$4)=\"\",\"★\",INDIRECT($C$2&$C26&\"!\"&BD$5&$AZ$4))","v":{"$error":"#REF!"}},{"$f":"IF(INDIRECT($C$2&$C26&\"!\"&BE$5&$AZ$4)=\"\",\"★\",INDIRECT($C$2&$C26&\"!\"&BE$5&$AZ$4))","v":{"$error":"#REF!"}},{"$f":"IF(INDIRECT($C$2&$C26&\"!\"&BF$5&$AZ$4)=\"\",\"★\",INDIRECT($C$2&$C26&\"!\"&BF$5&$AZ$4))","v":{"$error":"#REF!"}},{"$f":"IF(INDIRECT($C$2&$C26&\"!\"&BG$5&$AZ$4)=\"\",\"★\",INDIRECT($C$2&$C26&\"!\"&BG$5&$AZ$4))","v":{"$error":"#REF!"}},{"$f":"IF(INDIRECT($C$2&$C26&\"!\"&BH$5&$AZ$4)=\"\",\"★\",INDIRECT($C$2&$C26&\"!\"&BH$5&$AZ$4))","v":{"$error":"#REF!"}},{"$f":"IF(INDIRECT($C$2&$C26&\"!\"&BI$5&$AZ$4)=\"\",\"★\",INDIRECT($C$2&$C26&\"!\"&BI$5&$AZ$4))","v":{"$error":"#REF!"}},{"$f":"$AJ26","v":{"$error":"#REF!"}},{"$f":"$AK26","v":{"$error":"#REF!"}},{"$f":"IF(INDIRECT($C$2&$C26&\"!\"&BL$5&$BL$4)=\"\",\"★\",INDIRECT($C$2&$C26&\"!\"&BL$5&$BL$4))","v":{"$error":"#REF!"}},{"$f":"IF(INDIRECT($C$2&$C26&\"!\"&BM$5&$BL$4)=\"\",\"★\",INDIRECT($C$2&$C26&\"!\"&BM$5&$BL$4))","v":{"$error":"#REF!"}},{"$f":"IF(INDIRECT($C$2&$C26&\"!\"&BN$5&$BL$4)=\"\",\"★\",INDIRECT($C$2&$C26&\"!\"&BN$5&$BL$4))","v":{"$error":"#REF!"}},{"$f":"IF(INDIRECT($C$2&$C26&\"!\"&BO$5&$BL$4)=\"\",\"★\",INDIRECT($C$2&$C26&\"!\"&BO$5&$BL$4))","v":{"$error":"#REF!"}},{"$f":"IF(INDIRECT($C$2&$C26&\"!\"&BP$5&$BL$4)=\"\",\"★\",INDIRECT($C$2&$C26&\"!\"&BP$5&$BL$4))","v":{"$error":"#REF!"}},{"$f":"IF(INDIRECT($C$2&$C26&\"!\"&BQ$5&$BL$4)=\"\",\"★\",INDIRECT($C$2&$C26&\"!\"&BQ$5&$BL$4))","v":{"$error":"#REF!"}},{"$f":"IF(INDIRECT($C$2&$C26&\"!\"&BR$5&$BL$4)=\"\",\"★\",INDIRECT($C$2&$C26&\"!\"&BR$5&$BL$4))","v":{"$error":"#REF!"}},{"$f":"IF(INDIRECT($C$2&$C26&\"!\"&BS$5&$BL$4)=\"\",\"★\",INDIRECT($C$2&$C26&\"!\"&BS$5&$BL$4))","v":{"$error":"#REF!"}},{"$f":"IF(INDIRECT($C$2&$C26&\"!\"&BT$5&$BL$4)=\"\",\"★\",INDIRECT($C$2&$C26&\"!\"&BT$5&$BL$4))","v":{"$error":"#REF!"}},{"$f":"IF(INDIRECT($C$2&$C26&\"!\"&BU$5&$BL$4)=\"\",\"★\",INDIRECT($C$2&$C26&\"!\"&BU$5&$BL$4))","v":{"$error":"#REF!"}},{"$f":"IF(INDIRECT($C$2&$C26&\"!\"&BV$5&$BV$4)=\"\",\"★\",INDIRECT($C$2&$C26&\"!\"&BV$5&$BV$4))","v":{"$error":"#REF!"}},{"$f":"IF(INDIRECT($C$2&$C26&\"!\"&BW$5&$BV$4)=\"\",\"★\",INDIRECT($C$2&$C26&\"!\"&BW$5&$BV$4))","v":{"$error":"#REF!"}},{"$f":"IF(INDIRECT($C$2&$C26&\"!\"&BX$5&$BV$4)=\"\",\"★\",INDIRECT($C$2&$C26&\"!\"&BX$5&$BV$4))","v":{"$error":"#REF!"}},{"$f":"IF(INDIRECT($C$2&$C26&\"!\"&BY$5&$BV$4)=\"\",\"★\",INDIRECT($C$2&$C26&\"!\"&BY$5&$BV$4))","v":{"$error":"#REF!"}},{"$f":"IF(INDIRECT($C$2&$C26&\"!\"&BZ$5&$BV$4)=\"\",\"★\",INDIRECT($C$2&$C26&\"!\"&BZ$5&$BV$4))","v":{"$error":"#REF!"}},{"$f":"IF(INDIRECT($C$2&$C26&\"!\"&CA$5&$BV$4)=\"\",\"★\",INDIRECT($C$2&$C26&\"!\"&CA$5&$BV$4))","v":{"$error":"#REF!"}},{"$f":"IF(INDIRECT($C$2&$C26&\"!\"&CB$5&$BV$4)=\"\",\"★\",INDIRECT($C$2&$C26&\"!\"&CB$5&$BV$4))","v":{"$error":"#REF!"}},{"$f":"IF(INDIRECT($C$2&$C26&\"!\"&CC$5&$CC$4)=\"\",\"★\",INDIRECT($C$2&$C26&\"!\"&CC$5&$CC$4))","v":{"$error":"#REF!"}},{"$f":"IF(INDIRECT($C$2&$C26&\"!\"&CD$5&$CC$4)=\"\",\"★\",INDIRECT($C$2&$C26&\"!\"&CD$5&$CC$4))","v":{"$error":"#REF!"}},{"$f":"IF(INDIRECT($C$2&$C26&\"!\"&CE$5&$CC$4)=\"\",\"★\",INDIRECT($C$2&$C26&\"!\"&CE$5&$CC$4))","v":{"$error":"#REF!"}},{"$f":"IF(INDIRECT($C$2&$C26&\"!\"&CF$5&$CC$4)=\"\",\"★\",INDIRECT($C$2&$C26&\"!\"&CF$5&$CC$4))","v":{"$error":"#REF!"}},{"$f":"IF(INDIRECT($C$2&$C26&\"!\"&CG$5&$CC$4)=\"\",\"★\",INDIRECT($C$2&$C26&\"!\"&CG$5&$CC$4))","v":{"$error":"#REF!"}},{"$f":"IF(INDIRECT($C$2&$C26&\"!\"&CH$5&$CC$4)=\"\",\"★\",INDIRECT($C$2&$C26&\"!\"&CH$5&$CC$4))","v":{"$error":"#REF!"}},{"$f":"IF(INDIRECT($C$2&$C26&\"!\"&CI$5&$CC$4)=\"\",\"★\",INDIRECT($C$2&$C26&\"!\"&CI$5&$CC$4))","v":{"$error":"#REF!"}},{"$f":"IF(INDIRECT($C$2&$C26&\"!\"&CJ$5&$CC$4)=\"\",\"★\",INDIRECT($C$2&$C26&\"!\"&CJ$5&$CC$4))","v":{"$error":"#REF!"}},{"$f":"$AF26","v":{"$error":"#REF!"}},{"$f":"$AG26","v":{"$error":"#REF!"}},{"$f":"IF(INDIRECT($C$2&$C26&\"!\"&CM$5&$CM$4)=\"\",\"★\",INDIRECT($C$2&$C26&\"!\"&CM$5&$CM$4))","v":{"$error":"#REF!"}},{"$f":"IF(INDIRECT($C$2&$C26&\"!\"&CN$5&$CM$4)=\"\",\"★\",INDIRECT($C$2&$C26&\"!\"&CN$5&$CM$4))","v":{"$error":"#REF!"}},{"$f":"IF(INDIRECT($C$2&$C26&\"!\"&CO$5&$CM$4)=\"\",\"★\",INDIRECT($C$2&$C26&\"!\"&CO$5&$CM$4))","v":{"$error":"#REF!"}},{"$f":"IF(INDIRECT($C$2&$C26&\"!\"&CP$5&$CM$4)=\"\",\"★\",INDIRECT($C$2&$C26&\"!\"&CP$5&$CM$4))","v":{"$error":"#REF!"}},{"$f":"IF(INDIRECT($C$2&$C26&\"!\"&CQ$5&$CM$4)=\"\",\"★\",INDIRECT($C$2&$C26&\"!\"&CQ$5&$CM$4))","v":{"$error":"#REF!"}},{"$f":"IF(INDIRECT($C$2&$C26&\"!\"&CR$5&$CM$4)=\"\",\"★\",INDIRECT($C$2&$C26&\"!\"&CR$5&$CM$4))","v":{"$error":"#REF!"}},{"$f":"IF(INDIRECT($C$2&$C26&\"!\"&CS$5&$CM$4)=\"\",\"★\",INDIRECT($C$2&$C26&\"!\"&CS$5&$CM$4))","v":{"$error":"#REF!"}},{"$f":"IF(INDIRECT($C$2&$C26&\"!\"&CT$5&$CM$4)=\"\",\"★\",INDIRECT($C$2&$C26&\"!\"&CT$5&$CM$4))","v":{"$error":"#REF!"}},{"$f":"$AH26","v":{"$error":"#REF!"}},{"$f":"$AI26","v":{"$error":"#REF!"}},{"$f":"IF(INDIRECT($C$2&$C26&\"!\"&CW$5&$CW$4)=\"\",\"★\",INDIRECT($C$2&$C26&\"!\"&CW$5&$CW$4))","v":{"$error":"#REF!"}},{"$f":"IF(INDIRECT($C$2&$C26&\"!\"&CX$5&$CW$4)=\"\",\"★\",INDIRECT($C$2&$C26&\"!\"&CX$5&$CW$4))","v":{"$error":"#REF!"}},{"$f":"IF(INDIRECT($C$2&$C26&\"!\"&CY$5&$CW$4)=\"\",\"★\",INDIRECT($C$2&$C26&\"!\"&CY$5&$CW$4))","v":{"$error":"#REF!"}},{"$f":"IF(INDIRECT($C$2&$C26&\"!\"&CZ$5&$CW$4)=\"\",\"★\",INDIRECT($C$2&$C26&\"!\"&CZ$5&$CW$4))","v":{"$error":"#REF!"}},{"$f":"IF(INDIRECT($C$2&$C26&\"!\"&DA$5&$CW$4)=\"\",\"★\",INDIRECT($C$2&$C26&\"!\"&DA$5&$CW$4))","v":{"$error":"#REF!"}},{"$f":"IF(INDIRECT($C$2&$C26&\"!\"&DB$5&$CW$4)=\"\",\"★\",INDIRECT($C$2&$C26&\"!\"&DB$5&$CW$4))","v":{"$error":"#REF!"}},{"$f":"IF(INDIRECT($C$2&$C26&\"!\"&DC$5&$CW$4)=\"\",\"★\",INDIRECT($C$2&$C26&\"!\"&DC$5&$CW$4))","v":{"$error":"#REF!"}},{"$f":"IF(INDIRECT($C$2&$C26&\"!\"&DD$5&$CW$4)=\"\",\"★\",INDIRECT($C$2&$C26&\"!\"&DD$5&$CW$4))","v":{"$error":"#REF!"}},{"$f":"$AJ26","v":{"$error":"#REF!"}},{"$f":"$AK26","v":{"$error":"#REF!"}},{"$f":"IF(INDIRECT($C$2&$C26&\"!\"&DG$5&$DG$4)=\"\",\"★\",INDIRECT($C$2&$C26&\"!\"&DG$5&$DG$4))","v":{"$error":"#REF!"}},{"$f":"IF(INDIRECT($C$2&$C26&\"!\"&DH$5&$DG$4)=\"\",\"★\",INDIRECT($C$2&$C26&\"!\"&DH$5&$DG$4))","v":{"$error":"#REF!"}},{"$f":"IF(INDIRECT($C$2&$C26&\"!\"&DI$5&$DG$4)=\"\",\"★\",INDIRECT($C$2&$C26&\"!\"&DI$5&$DG$4))","v":{"$error":"#REF!"}},{"$f":"IF(INDIRECT($C$2&$C26&\"!\"&DJ$5&$DG$4)=\"\",\"★\",INDIRECT($C$2&$C26&\"!\"&DJ$5&$DG$4))","v":{"$error":"#REF!"}},{"$f":"IF(INDIRECT($C$2&$C26&\"!\"&DK$5&$DG$4)=\"\",\"★\",INDIRECT($C$2&$C26&\"!\"&DK$5&$DG$4))","v":{"$error":"#REF!"}},{"$f":"IF(INDIRECT($C$2&$C26&\"!\"&DL$5&$DG$4)=\"\",\"★\",INDIRECT($C$2&$C26&\"!\"&DL$5&$DG$4))","v":{"$error":"#REF!"}},{"$f":"IF(INDIRECT($C$2&$C26&\"!\"&DM$5&$DG$4)=\"\",\"★\",INDIRECT($C$2&$C26&\"!\"&DM$5&$DG$4))","v":{"$error":"#REF!"}},{"$f":"IF(INDIRECT($C$2&$C26&\"!\"&DN$5&$DG$4)=\"\",\"★\",INDIRECT($C$2&$C26&\"!\"&DN$5&$DG$4))","v":{"$error":"#REF!"}},{"$f":"IF(INDIRECT($C$2&$C26&\"!B57\")=\"\",\"★\",INDIRECT($C$2&$C26&\"!B57\"))","v":{"$error":"#REF!"}},{"$f":"IF(INDIRECT($C$2&$C26&\"!B100\")=\"\",\"★\",INDIRECT($C$2&$C26&\"!B100\"))","v":{"$error":"#REF!"}},{"$f":"IF(INDIRECT($C$2&$C26&\"!B112\")=\"\",\"★\",INDIRECT($C$2&$C26&\"!B112\"))","v":{"$error":"#REF!"}},{"$f":"IF(INDIRECT($C$2&$C26&\"!B155\")=\"\",\"★\",INDIRECT($C$2&$C26&\"!B155\"))","v":{"$error":"#REF!"}},{"$f":"IF(INDIRECT($C$2&$C26&\"!B167\")=\"\",\"★\",INDIRECT($C$2&$C26&\"!B167\"))","v":{"$error":"#REF!"}},{"$f":"IF(INDIRECT($C$2&$C26&\"!B210\")=\"\",\"★\",INDIRECT($C$2&$C26&\"!B210\"))","v":{"$error":"#REF!"}}]
[null,null,{"$f":"C26","v":"★"},null,null,null,null,null,null,null,null,{"$f":"$C27&\"-2\"","v":"★-2"},{"$f":"IF(INDIRECT($C$2&$C27&\"!\"&M$5&$M$4+1)=\"\",\"★\",INDIRECT($C$2&$C27&\"!\"&M$5&$M$4+1))","v":{"$error":"#REF!"}},{"$f":"IF(INDIRECT($C$2&$C27&\"!\"&N$5&$M$4+1)=\"\",\"★\",INDIRECT($C$2&$C27&\"!\"&N$5&$M$4+1))","v":{"$error":"#REF!"}},{"$f":"IF(INDIRECT($C$2&$C27&\"!\"&O$5&$M$4+1)=\"\",\"★\",INDIRECT($C$2&$C27&\"!\"&O$5&$M$4+1))","v":{"$error":"#REF!"}},{"$f":"IF(INDIRECT($C$2&$C27&\"!\"&P$5&$M$4+1)=\"\",\"★\",INDIRECT($C$2&$C27&\"!\"&P$5&$M$4+1))","v":{"$error":"#REF!"}},{"$f":"IF(INDIRECT($C$2&$C27&\"!\"&Q$5&$M$4+1)=\"\",\"★\",INDIRECT($C$2&$C27&\"!\"&Q$5&$M$4+1))","v":{"$error":"#REF!"}},{"$f":"IF(INDIRECT($C$2&$C27&\"!\"&R$5&$M$4+1)=\"\",\"★\",INDIRECT($C$2&$C27&\"!\"&R$5&$M$4+1))","v":{"$error":"#REF!"}},{"$f":"IF(INDIRECT($C$2&$C27&\"!\"&S$5&$M$4+1)=\"\",\"★\",INDIRECT($C$2&$C27&\"!\"&S$5&$M$4+1))","v":{"$error":"#REF!"}},{"$f":"IF(INDIRECT($C$2&$C27&\"!\"&T$5&$M$4+1)=\"\",\"★\",INDIRECT($C$2&$C27&\"!\"&T$5&$M$4+1))","v":{"$error":"#REF!"}},null,{"$f":"IF(INDIRECT($C$2&$C27&\"!\"&V$5&$V$4+1)=\"\",\"★\",INDIRECT($C$2&$C27&\"!\"&V$5&$V$4+1))","v":{"$error":"#REF!"}},{"$f":"IF(INDIRECT($C$2&$C27&\"!\"&W$5&$V$4+1)=\"\",\"★\",INDIRECT($C$2&$C27&\"!\"&W$5&$V$4+1))","v":{"$error":"#REF!"}},{"$f":"IF(INDIRECT($C$2&$C27&\"!\"&X$5&$V$4+1)=\"\",\"★\",INDIRECT($C$2&$C27&\"!\"&X$5&$V$4+1))","v":{"$error":"#REF!"}},{"$f":"IF(INDIRECT($C$2&$C27&\"!\"&Y$5&$V$4+1)=\"\",\"★\",INDIRECT($C$2&$C27&\"!\"&Y$5&$V$4+1))","v":{"$error":"#REF!"}},{"$f":"IF(INDIRECT($C$2&$C27&\"!\"&Z$5&$V$4+1)=\"\",\"★\",INDIRECT($C$2&$C27&\"!\"&Z$5&$V$4+1))","v":{"$error":"#REF!"}},{"$f":"IF(INDIRECT($C$2&$C27&\"!\"&AA$5&$V$4+1)=\"\",\"★\",INDIRECT($C$2&$C27&\"!\"&AA$5&$V$4+1))","v":{"$error":"#REF!"}},{"$f":"IF(INDIRECT($C$2&$C27&\"!\"&AB$5&$V$4+1)=\"\",\"★\",INDIRECT($C$2&$C27&\"!\"&AB$5&$V$4+1))","v":{"$error":"#REF!"}},{"$f":"IF(INDIRECT($C$2&$C27&\"!\"&AC$5&$V$4+1)=\"\",\"★\",INDIRECT($C$2&$C27&\"!\"&AC$5&$V$4+1))","v":{"$error":"#REF!"}},null,null,null,null,null,null,null,null,null,null,{"$f":"IF(INDIRECT($C$2&$C27&\"!\"&AN$5&$AN$4+1)=\"\",\"★\",INDIRECT($C$2&$C27&\"!\"&AN$5&$AN$4+1))","v":{"$error":"#REF!"}},{"$f":"IF(INDIRECT($C$2&$C27&\"!\"&AO$5&$AN$4+1)=\"\",\"★\",INDIRECT($C$2&$C27&\"!\"&AO$5&$AN$4+1))","v":{"$error":"#REF!"}},{"$f":"IF(INDIRECT($C$2&$C27&\"!\"&AP$5&$AN$4+1)=\"\",\"★\",INDIRECT($C$2&$C27&\"!\"&AP$5&$AN$4+1))","v":{"$error":"#REF!"}},{"$f":"IF(INDIRECT($C$2&$C27&\"!\"&AQ$5&$AN$4+1)=\"\",\"★\",INDIRECT($C$2&$C27&\"!\"&AQ$5&$AN$4+1))","v":{"$error":"#REF!"}},{"$f":"IF(INDIRECT($C$2&$C27&\"!\"&AR$5&$AN$4+1)=\"\",\"★\",INDIRECT($C$2&$C27&\"!\"&AR$5&$AN$4+1))","v":{"$error":"#REF!"}},{"$f":"IF(INDIRECT($C$2&$C27&\"!\"&AS$5&$AN$4+1)=\"\",\"★\",INDIRECT($C$2&$C27&\"!\"&AS$5&$AN$4+1))","v":{"$error":"#REF!"}},{"$f":"IF(INDIRECT($C$2&$C27&\"!\"&AT$5&$AN$4+1)=\"\",\"★\",INDIRECT($C$2&$C27&\"!\"&AT$5&$AN$4+1))","v":{"$error":"#REF!"}},{"$f":"IF(INDIRECT($C$2&$C27&\"!\"&AU$5&$AN$4+1)=\"\",\"★\",INDIRECT($C$2&$C27&\"!\"&AU$5&$AN$4+1))","v":{"$error":"#REF!"}},null,null,null,null,{"$f":"IF(INDIRECT($C$2&$C27&\"!\"&AZ$5&$AZ$4+1)=\"\",\"★\",INDIRECT($C$2&$C27&\"!\"&AZ$5&$AZ$4+1))","v":{"$error":"#REF!"}},{"$f":"IF(INDIRECT($C$2&$C27&\"!\"&BA$5&$AZ$4+1)=\"\",\"★\",INDIRECT($C$2&$C27&\"!\"&BA$5&$AZ$4+1))","v":{"$error":"#REF!"}},{"$f":"IF(INDIRECT($C$2&$C27&\"!\"&BB$5&$AZ$4+1)=\"\",\"★\",INDIRECT($C$2&$C27&\"!\"&BB$5&$AZ$4+1))","v":{"$error":"#REF!"}},{"$f":"IF(INDIRECT($C$2&$C27&\"!\"&BC$5&$AZ$4+1)=\"\",\"★\",INDIRECT($C$2&$C27&\"!\"&BC$5&$AZ$4+1))","v":{"$error":"#REF!"}},{"$f":"IF(INDIRECT($C$2&$C27&\"!\"&BD$5&$AZ$4+1)=\"\",\"★\",INDIRECT($C$2&$C27&\"!\"&BD$5&$AZ$4+1))","v":{"$error":"#REF!"}},{"$f":"IF(INDIRECT($C$2&$C27&\"!\"&BE$5&$AZ$4+1)=\"\",\"★\",INDIRECT($C$2&$C27&\"!\"&BE$5&$AZ$4+1))","v":{"$error":"#REF!"}},{"$f":"IF(INDIRECT($C$2&$C27&\"!\"&BF$5&$AZ$4+1)=\"\",\"★\",INDIRECT($C$2&$C27&\"!\"&BF$5&$AZ$4+1))","v":{"$error":"#REF!"}},{"$f":"IF(INDIRECT($C$2&$C27&\"!\"&BG$5&$AZ$4+1)=\"\",\"★\",INDIRECT($C$2&$C27&\"!\"&BG$5&$AZ$4+1))","v":{"$error":"#REF!"}},null,null,null,null,{"$f":"IF(INDIRECT($C$2&$C27&\"!\"&BL$5&$BL$4+1)=\"\",\"★\",INDIRECT($C$2&$C27&\"!\"&BL$5&$BL$4+1))","v":{"$error":"#REF!"}},{"$f":"IF(INDIRECT($C$2&$C27&\"!\"&BM$5&$BL$4+1)=\"\",\"★\",INDIRECT($C$2&$C27&\"!\"&BM$5&$BL$4+1))","v":{"$error":"#REF!"}},{"$f":"IF(INDIRECT($C$2&$C27&\"!\"&BN$5&$BL$4+1)=\"\",\"★\",INDIRECT($C$2&$C27&\"!\"&BN$5&$BL$4+1))","v":{"$error":"#REF!"}},{"$f":"IF(INDIRECT($C$2&$C27&\"!\"&BO$5&$BL$4+1)=\"\",\"★\",INDIRECT($C$2&$C27&\"!\"&BO$5&$BL$4+1))","v":{"$error":"#REF!"}},{"$f":"IF(INDIRECT($C$2&$C27&\"!\"&BP$5&$BL$4+1)=\"\",\"★\",INDIRECT($C$2&$C27&\"!\"&BP$5&$BL$4+1))","v":{"$error":"#REF!"}},{"$f":"IF(INDIRECT($C$2&$C27&\"!\"&BQ$5&$BL$4+1)=\"\",\"★\",INDIRECT($C$2&$C27&\"!\"&BQ$5&$BL$4+1))","v":{"$error":"#REF!"}},{"$f":"IF(INDIRECT($C$2&$C27&\"!\"&BR$5&$BL$4+1)=\"\",\"★\",INDIRECT($C$2&$C27&\"!\"&BR$5&$BL$4+1))","v":{"$error":"#REF!"}},{"$f":"IF(INDIRECT($C$2&$C27&\"!\"&BS$5&$BL$4+1)=\"\",\"★\",INDIRECT($C$2&$C27&\"!\"&BS$5&$BL$4+1))","v":{"$error":"#REF!"}},null,null,{"$f":"IF(INDIRECT($C$2&$C27&\"!\"&BV$5&$BV$4+1)=\"\",\"★\",INDIRECT($C$2&$C27&\"!\"&BV$5&$BV$4+1))","v":{"$error":"#REF!"}},{"$f":"IF(INDIRECT($C$2&$C27&\"!\"&BW$5&$BV$4+1)=\"\",\"★\",INDIRECT($C$2&$C27&\"!\"&BW$5&$BV$4+1))","v":{"$error":"#REF!"}},{"$f":"IF(INDIRECT($C$2&$C27&\"!\"&BX$5&$BV$4+1)=\"\",\"★\",INDIRECT($C$2&$C27&\"!\"&BX$5&$BV$4+1))","v":{"$error":"#REF!"}},{"$f":"IF(INDIRECT($C$2&$C27&\"!\"&BY$5&$BV$4+1)=\"\",\"★\",INDIRECT($C$2&$C27&\"!\"&BY$5&$BV$4+1))","v":{"$error":"#REF!"}},{"$f":"IF(INDIRECT($C$2&$C27&\"!\"&BZ$5&$BV$4+1)=\"\",\"★\",INDIRECT($C$2&$C27&\"!\"&BZ$5&$BV$4+1))","v":{"$error":"#REF!"}},{"$f":"IF(INDIRECT($C$2&$C27&\"!\"&CA$5&$BV$4+1)=\"\",\"★\",INDIRECT($C$2&$C27&\"!\"&CA$5&$BV$4+1))","v":{"$error":"#REF!"}},null,{"$f":"IF(INDIRECT($C$2&$C27&\"!\"&CC$5&$CC$4+1)=\"\",\"★\",INDIRECT($C$2&$C27&\"!\"&CC$5&$CC$4+1))","v":{"$error":"#REF!"}},{"$f":"IF(INDIRECT($C$2&$C27&\"!\"&CD$5&$CC$4+1)=\"\",\"★\",INDIRECT($C$2&$C27&\"!\"&CD$5&$CC$4+1))","v":{"$error":"#REF!"}},{"$f":"IF(INDIRECT($C$2&$C27&\"!\"&CE$5&$CC$4+1)=\"\",\"★\",INDIRECT($C$2&$C27&\"!\"&CE$5&$CC$4+1))","v":{"$error":"#REF!"}},{"$f":"IF(INDIRECT($C$2&$C27&\"!\"&CF$5&$CC$4+1)=\"\",\"★\",INDIRECT($C$2&$C27&\"!\"&CF$5&$CC$4+1))","v":{"$error":"#REF!"}},{"$f":"IF(INDIRECT($C$2&$C27&\"!\"&CG$5&$CC$4+1)=\"\",\"★\",INDIRECT($C$2&$C27&\"!\"&CG$5&$CC$4+1))","v":{"$error":"#REF!"}},{"$f":"IF(INDIRECT($C$2&$C27&\"!\"&CH$5&$CC$4+1)=\"\",\"★\",INDIRECT($C$2&$C27&\"!\"&CH$5&$CC$4+1))","v":{"$error":"#REF!"}},null,null,null,null,{"$f":"IF(INDIRECT($C$2&$C27&\"!\"&CM$5&$CM$4+1)=\"\",\"★\",INDIRECT($C$2&$C27&\"!\"&CM$5&$CM$4+1))","v":{"$error":"#REF!"}},{"$f":"IF(INDIRECT($C$2&$C27&\"!\"&CN$5&$CM$4+1)=\"\",\"★\",INDIRECT($C$2&$C27&\"!\"&CN$5&$CM$4+1))","v":{"$error":"#REF!"}},{"$f":"IF(INDIRECT($C$2&$C27&\"!\"&CO$5&$CM$4+1)=\"\",\"★\",INDIRECT($C$2&$C27&\"!\"&CO$5&$CM$4+1))","v":{"$error":"#REF!"}},{"$f":"IF(INDIRECT($C$2&$C27&\"!\"&CP$5&$CM$4+1)=\"\",\"★\",INDIRECT($C$2&$C27&\"!\"&CP$5&$CM$4+1))","v":{"$error":"#REF!"}},{"$f":"IF(INDIRECT($C$2&$C27&\"!\"&CQ$5&$CM$4+1)=\"\",\"★\",INDIRECT($C$2&$C27&\"!\"&CQ$5&$CM$4+1))","v":{"$error":"#REF!"}},{"$f":"IF(INDIRECT($C$2&$C27&\"!\"&CR$5&$CM$4+1)=\"\",\"★\",INDIRECT($C$2&$C27&\"!\"&CR$5&$CM$4+1))","v":{"$error":"#REF!"}},null,null,null,null,{"$f":"IF(INDIRECT($C$2&$C27&\"!\"&CW$5&$CW$4+1)=\"\",\"★\",INDIRECT($C$2&$C27&\"!\"&CW$5&$CW$4+1))","v":{"$error":"#REF!"}},{"$f":"IF(INDIRECT($C$2&$C27&\"!\"&CX$5&$CW$4+1)=\"\",\"★\",INDIRECT($C$2&$C27&\"!\"&CX$5&$CW$4+1))","v":{"$error":"#REF!"}},{"$f":"IF(INDIRECT($C$2&$C27&\"!\"&CY$5&$CW$4+1)=\"\",\"★\",INDIRECT($C$2&$C27&\"!\"&CY$5&$CW$4+1))","v":{"$error":"#REF!"}},{"$f":"IF(INDIRECT($C$2&$C27&\"!\"&CZ$5&$CW$4+1)=\"\",\"★\",INDIRECT($C$2&$C27&\"!\"&CZ$5&$CW$4+1))","v":{"$error":"#REF!"}},{"$f":"IF(INDIRECT($C$2&$C27&\"!\"&DA$5&$CW$4+1)=\"\",\"★\",INDIRECT($C$2&$C27&\"!\"&DA$5&$CW$4+1))","v":{"$error":"#REF!"}},{"$f":"IF(INDIRECT($C$2&$C27&\"!\"&DB$5&$CW$4+1)=\"\",\"★\",INDIRECT($C$2&$C27&\"!\"&DB$5&$CW$4+1))","v":{"$error":"#REF!"}},null,null,null,null,{"$f":"IF(INDIRECT($C$2&$C27&\"!\"&DG$5&$DG$4+1)=\"\",\"★\",INDIRECT($C$2&$C27&\"!\"&DG$5&$DG$4+1))","v":{"$error":"#REF!"}},{"$f":"IF(INDIRECT($C$2&$C27&\"!\"&DH$5&$DG$4+1)=\"\",\"★\",INDIRECT($C$2&$C27&\"!\"&DH$5&$DG$4+1))","v":{"$error":"#REF!"}},{"$f":"IF(INDIRECT($C$2&$C27&\"!\"&DI$5&$DG$4+1)=\"\",\"★\",INDIRECT($C$2&$C27&\"!\"&DI$5&$DG$4+1))","v":{"$error":"#REF!"}},{"$f":"IF(INDIRECT($C$2&$C27&\"!\"&DJ$5&$DG$4+1)=\"\",\"★\",INDIRECT($C$2&$C27&\"!\"&DJ$5&$DG$4+1))","v":{"$error":"#REF!"}},{"$f":"IF(INDIRECT($C$2&$C27&\"!\"&DK$5&$DG$4+1)=\"\",\"★\",INDIRECT($C$2&$C27&\"!\"&DK$5&$DG$4+1))","v":{"$error":"#REF!"}},{"$f":"IF(INDIRECT($C$2&$C27&\"!\"&DL$5&$DG$4+1)=\"\",\"★\",INDIRECT($C$2&$C27&\"!\"&DL$5&$DG$4+1))","v":{"$error":"#REF!"}}]
[null,null,{"$f":"C27","v":"★"},null,null,null,null,null,null,null,null,{"$f":"$C28&\"-3\"","v":"★-3"},{"$f":"IF(INDIRECT($C$2&$C28&\"!\"&M$5&$M$4+2)=\"\",\"★\",INDIRECT($C$2&$C28&\"!\"&M$5&$M$4+2))","v":{"$error":"#REF!"}},{"$f":"IF(INDIRECT($C$2&$C28&\"!\"&N$5&$M$4+2)=\"\",\"★\",INDIRECT($C$2&$C28&\"!\"&N$5&$M$4+2))","v":{"$error":"#REF!"}},{"$f":"IF(INDIRECT($C$2&$C28&\"!\"&O$5&$M$4+2)=\"\",\"★\",INDIRECT($C$2&$C28&\"!\"&O$5&$M$4+2))","v":{"$error":"#REF!"}},{"$f":"IF(INDIRECT($C$2&$C28&\"!\"&P$5&$M$4+2)=\"\",\"★\",INDIRECT($C$2&$C28&\"!\"&P$5&$M$4+2))","v":{"$error":"#REF!"}},{"$f":"IF(INDIRECT($C$2&$C28&\"!\"&Q$5&$M$4+2)=\"\",\"★\",INDIRECT($C$2&$C28&\"!\"&Q$5&$M$4+2))","v":{"$error":"#REF!"}},{"$f":"IF(INDIRECT($C$2&$C28&\"!\"&R$5&$M$4+2)=\"\",\"★\",INDIRECT($C$2&$C28&\"!\"&R$5&$M$4+2))","v":{"$error":"#REF!"}},{"$f":"IF(INDIRECT($C$2&$C28&\"!\"&S$5&$M$4+2)=\"\",\"★\",INDIRECT($C$2&$C28&\"!\"&S$5&$M$4+2))","v":{"$error":"#REF!"}},{"$f":"IF(INDIRECT($C$2&$C28&\"!\"&T$5&$M$4+2)=\"\",\"★\",INDIRECT($C$2&$C28&\"!\"&T$5&$M$4+2))","v":{"$error":"#REF!"}},null,{"$f":"IF(INDIRECT($C$2&$C28&\"!\"&V$5&$V$4+2)=\"\",\"★\",INDIRECT($C$2&$C28&\"!\"&V$5&$V$4+2))","v":{"$error":"#REF!"}},{"$f":"IF(INDIRECT($C$2&$C28&\"!\"&W$5&$V$4+2)=\"\",\"★\",INDIRECT($C$2&$C28&\"!\"&W$5&$V$4+2))","v":{"$error":"#REF!"}},{"$f":"IF(INDIRECT($C$2&$C28&\"!\"&X$5&$V$4+2)=\"\",\"★\",INDIRECT($C$2&$C28&\"!\"&X$5&$V$4+2))","v":{"$error":"#REF!"}},{"$f":"IF(INDIRECT($C$2&$C28&\"!\"&Y$5&$V$4+2)=\"\",\"★\",INDIRECT($C$2&$C28&\"!\"&Y$5&$V$4+2))","v":{"$error":"#REF!"}},{"$f":"IF(INDIRECT($C$2&$C28&\"!\"&Z$5&$V$4+2)=\"\",\"★\",INDIRECT($C$2&$C28&\"!\"&Z$5&$V$4+2))","v":{"$error":"#REF!"}},{"$f":"IF(INDIRECT($C$2&$C28&\"!\"&AA$5&$V$4+2)=\"\",\"★\",INDIRECT($C$2&$C28&\"!\"&AA$5&$V$4+2))","v":{"$error":"#REF!"}},{"$f":"IF(INDIRECT($C$2&$C28&\"!\"&AB$5&$V$4+2)=\"\",\"★\",INDIRECT($C$2&$C28&\"!\"&AB$5&$V$4+2))","v":{"$error":"#REF!"}},{"$f":"IF(INDIRECT($C$2&$C28&\"!\"&AC$5&$V$4+2)=\"\",\"★\",INDIRECT($C$2&$C28&\"!\"&AC$5&$V$4+2))","v":{"$error":"#REF!"}},null,null,null,null,null,null,null,null,null,null,{"$f":"IF(INDIRECT($C$2&$C28&\"!\"&AN$5&$AN$4+2)=\"\",\"★\",INDIRECT($C$2&$C28&\"!\"&AN$5&$AN$4+2))","v":{"$error":"#REF!"}},{"$f":"IF(INDIRECT($C$2&$C28&\"!\"&AO$5&$AN$4+2)=\"\",\"★\",INDIRECT($C$2&$C28&\"!\"&AO$5&$AN$4+2))","v":{"$error":"#REF!"}},{"$f":"IF(INDIRECT($C$2&$C28&\"!\"&AP$5&$AN$4+2)=\"\",\"★\",INDIRECT($C$2&$C28&\"!\"&AP$5&$AN$4+2))","v":{"$error":"#REF!"}},{"$f":"IF(INDIRECT($C$2&$C28&\"!\"&AQ$5&$AN$4+2)=\"\",\"★\",INDIRECT($C$2&$C28&\"!\"&AQ$5&$AN$4+2))","v":{"$error":"#REF!"}},{"$f":"IF(INDIRECT($C$2&$C28&\"!\"&AR$5&$AN$4+2)=\"\",\"★\",INDIRECT($C$2&$C28&\"!\"&AR$5&$AN$4+2))","v":{"$error":"#REF!"}},{"$f":"IF(INDIRECT($C$2&$C28&\"!\"&AS$5&$AN$4+2)=\"\",\"★\",INDIRECT($C$2&$C28&\"!\"&AS$5&$AN$4+2))","v":{"$error":"#REF!"}},{"$f":"IF(INDIRECT($C$2&$C28&\"!\"&AT$5&$AN$4+2)=\"\",\"★\",INDIRECT($C$2&$C28&\"!\"&AT$5&$AN$4+2))","v":{"$error":"#REF!"}},{"$f":"IF(INDIRECT($C$2&$C28&\"!\"&AU$5&$AN$4+2)=\"\",\"★\",INDIRECT($C$2&$C28&\"!\"&AU$5&$AN$4+2))","v":{"$error":"#REF!"}},null,null,null,null,{"$f":"IF(INDIRECT($C$2&$C28&\"!\"&AZ$5&$AZ$4+2)=\"\",\"★\",INDIRECT($C$2&$C28&\"!\"&AZ$5&$AZ$4+2))","v":{"$error":"#REF!"}},{"$f":"IF(INDIRECT($C$2&$C28&\"!\"&BA$5&$AZ$4+2)=\"\",\"★\",INDIRECT($C$2&$C28&\"!\"&BA$5&$AZ$4+2))","v":{"$error":"#REF!"}},{"$f":"IF(INDIRECT($C$2&$C28&\"!\"&BB$5&$AZ$4+2)=\"\",\"★\",INDIRECT($C$2&$C28&\"!\"&BB$5&$AZ$4+2))","v":{"$error":"#REF!"}},{"$f":"IF(INDIRECT($C$2&$C28&\"!\"&BC$5&$AZ$4+2)=\"\",\"★\",INDIRECT($C$2&$C28&\"!\"&BC$5&$AZ$4+2))","v":{"$error":"#REF!"}},{"$f":"IF(INDIRECT($C$2&$C28&\"!\"&BD$5&$AZ$4+2)=\"\",\"★\",INDIRECT($C$2&$C28&\"!\"&BD$5&$AZ$4+2))","v":{"$error":"#REF!"}},{"$f":"IF(INDIRECT($C$2&$C28&\"!\"&BE$5&$AZ$4+2)=\"\",\"★\",INDIRECT($C$2&$C28&\"!\"&BE$5&$AZ$4+2))","v":{"$error":"#REF!"}},{"$f":"IF(INDIRECT($C$2&$C28&\"!\"&BF$5&$AZ$4+2)=\"\",\"★\",INDIRECT($C$2&$C28&\"!\"&BF$5&$AZ$4+2))","v":{"$error":"#REF!"}},{"$f":"IF(INDIRECT($C$2&$C28&\"!\"&BG$5&$AZ$4+2)=\"\",\"★\",INDIRECT($C$2&$C28&\"!\"&BG$5&$AZ$4+2))","v":{"$error":"#REF!"}},null,null,null,null,{"$f":"IF(INDIRECT($C$2&$C28&\"!\"&BL$5&$BL$4+2)=\"\",\"★\",INDIRECT($C$2&$C28&\"!\"&BL$5&$BL$4+2))","v":{"$error":"#REF!"}},{"$f":"IF(INDIRECT($C$2&$C28&\"!\"&BM$5&$BL$4+2)=\"\",\"★\",INDIRECT($C$2&$C28&\"!\"&BM$5&$BL$4+2))","v":{"$error":"#REF!"}},{"$f":"IF(INDIRECT($C$2&$C28&\"!\"&BN$5&$BL$4+2)=\"\",\"★\",INDIRECT($C$2&$C28&\"!\"&BN$5&$BL$4+2))","v":{"$error":"#REF!"}},{"$f":"IF(INDIRECT($C$2&$C28&\"!\"&BO$5&$BL$4+2)=\"\",\"★\",INDIRECT($C$2&$C28&\"!\"&BO$5&$BL$4+2))","v":{"$error":"#REF!"}},{"$f":"IF(INDIRECT($C$2&$C28&\"!\"&BP$5&$BL$4+2)=\"\",\"★\",INDIRECT($C$2&$C28&\"!\"&BP$5&$BL$4+2))","v":{"$error":"#REF!"}},{"$f":"IF(INDIRECT($C$2&$C28&\"!\"&BQ$5&$BL$4+2)=\"\",\"★\",INDIRECT($C$2&$C28&\"!\"&BQ$5&$BL$4+2))","v":{"$error":"#REF!"}},{"$f":"IF(INDIRECT($C$2&$C28&\"!\"&BR$5&$BL$4+2)=\"\",\"★\",INDIRECT($C$2&$C28&\"!\"&BR$5&$BL$4+2))","v":{"$error":"#REF!"}},{"$f":"IF(INDIRECT($C$2&$C28&\"!\"&BS$5&$BL$4+2)=\"\",\"★\",INDIRECT($C$2&$C28&\"!\"&BS$5&$BL$4+2))","v":{"$error":"#REF!"}},null,null,{"$f":"IF(INDIRECT($C$2&$C28&\"!\"&BV$5&$BV$4+2)=\"\",\"★\",INDIRECT($C$2&$C28&\"!\"&BV$5&$BV$4+2))","v":{"$error":"#REF!"}},{"$f":"IF(INDIRECT($C$2&$C28&\"!\"&BW$5&$BV$4+2)=\"\",\"★\",INDIRECT($C$2&$C28&\"!\"&BW$5&$BV$4+2))","v":{"$error":"#REF!"}},{"$f":"IF(INDIRECT($C$2&$C28&\"!\"&BX$5&$BV$4+2)=\"\",\"★\",INDIRECT($C$2&$C28&\"!\"&BX$5&$BV$4+2))","v":{"$error":"#REF!"}},{"$f":"IF(INDIRECT($C$2&$C28&\"!\"&BY$5&$BV$4+2)=\"\",\"★\",INDIRECT($C$2&$C28&\"!\"&BY$5&$BV$4+2))","v":{"$error":"#REF!"}},{"$f":"IF(INDIRECT($C$2&$C28&\"!\"&BZ$5&$BV$4+2)=\"\",\"★\",INDIRECT($C$2&$C28&\"!\"&BZ$5&$BV$4+2))","v":{"$error":"#REF!"}},{"$f":"IF(INDIRECT($C$2&$C28&\"!\"&CA$5&$BV$4+2)=\"\",\"★\",INDIRECT($C$2&$C28&\"!\"&CA$5&$BV$4+2))","v":{"$error":"#REF!"}},null,{"$f":"IF(INDIRECT($C$2&$C28&\"!\"&CC$5&$CC$4+2)=\"\",\"★\",INDIRECT($C$2&$C28&\"!\"&CC$5&$CC$4+2))","v":{"$error":"#REF!"}},{"$f":"IF(INDIRECT($C$2&$C28&\"!\"&CD$5&$CC$4+2)=\"\",\"★\",INDIRECT($C$2&$C28&\"!\"&CD$5&$CC$4+2))","v":{"$error":"#REF!"}},{"$f":"IF(INDIRECT($C$2&$C28&\"!\"&CE$5&$CC$4+2)=\"\",\"★\",INDIRECT($C$2&$C28&\"!\"&CE$5&$CC$4+2))","v":{"$error":"#REF!"}},{"$f":"IF(INDIRECT($C$2&$C28&\"!\"&CF$5&$CC$4+2)=\"\",\"★\",INDIRECT($C$2&$C28&\"!\"&CF$5&$CC$4+2))","v":{"$error":"#REF!"}},{"$f":"IF(INDIRECT($C$2&$C28&\"!\"&CG$5&$CC$4+2)=\"\",\"★\",INDIRECT($C$2&$C28&\"!\"&CG$5&$CC$4+2))","v":{"$error":"#REF!"}},{"$f":"IF(INDIRECT($C$2&$C28&\"!\"&CH$5&$CC$4+2)=\"\",\"★\",INDIRECT($C$2&$C28&\"!\"&CH$5&$CC$4+2))","v":{"$error":"#REF!"}},null,null,null,null,{"$f":"IF(INDIRECT($C$2&$C28&\"!\"&CM$5&$CM$4+2)=\"\",\"★\",INDIRECT($C$2&$C28&\"!\"&CM$5&$CM$4+2))","v":{"$error":"#REF!"}},{"$f":"IF(INDIRECT($C$2&$C28&\"!\"&CN$5&$CM$4+2)=\"\",\"★\",INDIRECT($C$2&$C28&\"!\"&CN$5&$CM$4+2))","v":{"$error":"#REF!"}},{"$f":"IF(INDIRECT($C$2&$C28&\"!\"&CO$5&$CM$4+2)=\"\",\"★\",INDIRECT($C$2&$C28&\"!\"&CO$5&$CM$4+2))","v":{"$error":"#REF!"}},{"$f":"IF(INDIRECT($C$2&$C28&\"!\"&CP$5&$CM$4+2)=\"\",\"★\",INDIRECT($C$2&$C28&\"!\"&CP$5&$CM$4+2))","v":{"$error":"#REF!"}},{"$f":"IF(INDIRECT($C$2&$C28&\"!\"&CQ$5&$CM$4+2)=\"\",\"★\",INDIRECT($C$2&$C28&\"!\"&CQ$5&$CM$4+2))","v":{"$error":"#REF!"}},{"$f":"IF(INDIRECT($C$2&$C28&\"!\"&CR$5&$CM$4+2)=\"\",\"★\",INDIRECT($C$2&$C28&\"!\"&CR$5&$CM$4+2))","v":{"$error":"#REF!"}},null,null,null,null,{"$f":"IF(INDIRECT($C$2&$C28&\"!\"&CW$5&$CW$4+2)=\"\",\"★\",INDIRECT($C$2&$C28&\"!\"&CW$5&$CW$4+2))","v":{"$error":"#REF!"}},{"$f":"IF(INDIRECT($C$2&$C28&\"!\"&CX$5&$CW$4+2)=\"\",\"★\",INDIRECT($C$2&$C28&\"!\"&CX$5&$CW$4+2))","v":{"$error":"#REF!"}},{"$f":"IF(INDIRECT($C$2&$C28&\"!\"&CY$5&$CW$4+2)=\"\",\"★\",INDIRECT($C$2&$C28&\"!\"&CY$5&$CW$4+2))","v":{"$error":"#REF!"}},{"$f":"IF(INDIRECT($C$2&$C28&\"!\"&CZ$5&$CW$4+2)=\"\",\"★\",INDIRECT($C$2&$C28&\"!\"&CZ$5&$CW$4+2))","v":{"$error":"#REF!"}},{"$f":"IF(INDIRECT($C$2&$C28&\"!\"&DA$5&$CW$4+2)=\"\",\"★\",INDIRECT($C$2&$C28&\"!\"&DA$5&$CW$4+2))","v":{"$error":"#REF!"}},{"$f":"IF(INDIRECT($C$2&$C28&\"!\"&DB$5&$CW$4+2)=\"\",\"★\",INDIRECT($C$2&$C28&\"!\"&DB$5&$CW$4+2))","v":{"$error":"#REF!"}},null,null,null,null,{"$f":"IF(INDIRECT($C$2&$C28&\"!\"&DG$5&$DG$4+2)=\"\",\"★\",INDIRECT($C$2&$C28&\"!\"&DG$5&$DG$4+2))","v":{"$error":"#REF!"}},{"$f":"IF(INDIRECT($C$2&$C28&\"!\"&DH$5&$DG$4+2)=\"\",\"★\",INDIRECT($C$2&$C28&\"!\"&DH$5&$DG$4+2))","v":{"$error":"#REF!"}},{"$f":"IF(INDIRECT($C$2&$C28&\"!\"&DI$5&$DG$4+2)=\"\",\"★\",INDIRECT($C$2&$C28&\"!\"&DI$5&$DG$4+2))","v":{"$error":"#REF!"}},{"$f":"IF(INDIRECT($C$2&$C28&\"!\"&DJ$5&$DG$4+2)=\"\",\"★\",INDIRECT($C$2&$C28&\"!\"&DJ$5&$DG$4+2))","v":{"$error":"#REF!"}},{"$f":"IF(INDIRECT($C$2&$C28&\"!\"&DK$5&$DG$4+2)=\"\",\"★\",INDIRECT($C$2&$C28&\"!\"&DK$5&$DG$4+2))","v":{"$error":"#REF!"}},{"$f":"IF(INDIRECT($C$2&$C28&\"!\"&DL$5&$DG$4+2)=\"\",\"★\",INDIRECT($C$2&$C28&\"!\"&DL$5&$DG$4+2))","v":{"$error":"#REF!"}}]
[null,null,"★",null,null,null,null,null,null,null,null,{"$f":"$C29&\"-4\"","v":"★-4"},{"$f":"IF(INDIRECT($C$2&$C29&\"!\"&M$5&$M$4+3)=\"\",\"★\",INDIRECT($C$2&$C29&\"!\"&M$5&$M$4+3))","v":{"$error":"#REF!"}},{"$f":"IF(INDIRECT($C$2&$C29&\"!\"&N$5&$M$4+3)=\"\",\"★\",INDIRECT($C$2&$C29&\"!\"&N$5&$M$4+3))","v":{"$error":"#REF!"}},{"$f":"IF(INDIRECT($C$2&$C29&\"!\"&O$5&$M$4+3)=\"\",\"★\",INDIRECT($C$2&$C29&\"!\"&O$5&$M$4+3))","v":{"$error":"#REF!"}},{"$f":"IF(INDIRECT($C$2&$C29&\"!\"&P$5&$M$4+3)=\"\",\"★\",INDIRECT($C$2&$C29&\"!\"&P$5&$M$4+3))","v":{"$error":"#REF!"}},{"$f":"IF(INDIRECT($C$2&$C29&\"!\"&Q$5&$M$4+3)=\"\",\"★\",INDIRECT($C$2&$C29&\"!\"&Q$5&$M$4+3))","v":{"$error":"#REF!"}},{"$f":"IF(INDIRECT($C$2&$C29&\"!\"&R$5&$M$4+3)=\"\",\"★\",INDIRECT($C$2&$C29&\"!\"&R$5&$M$4+3))","v":{"$error":"#REF!"}},{"$f":"IF(INDIRECT($C$2&$C29&\"!\"&S$5&$M$4+3)=\"\",\"★\",INDIRECT($C$2&$C29&\"!\"&S$5&$M$4+3))","v":{"$error":"#REF!"}},{"$f":"IF(INDIRECT($C$2&$C29&\"!\"&T$5&$M$4+3)=\"\",\"★\",INDIRECT($C$2&$C29&\"!\"&T$5&$M$4+3))","v":{"$error":"#REF!"}},null,{"$f":"IF(INDIRECT($C$2&$C29&\"!\"&V$5&$V$4+3)=\"\",\"★\",INDIRECT($C$2&$C29&\"!\"&V$5&$V$4+3))","v":{"$error":"#REF!"}},{"$f":"IF(INDIRECT($C$2&$C29&\"!\"&W$5&$V$4+3)=\"\",\"★\",INDIRECT($C$2&$C29&\"!\"&W$5&$V$4+3))","v":{"$error":"#REF!"}},{"$f":"IF(INDIRECT($C$2&$C29&\"!\"&X$5&$V$4+3)=\"\",\"★\",INDIRECT($C$2&$C29&\"!\"&X$5&$V$4+3))","v":{"$error":"#REF!"}},{"$f":"IF(INDIRECT($C$2&$C29&\"!\"&Y$5&$V$4+3)=\"\",\"★\",INDIRECT($C$2&$C29&\"!\"&Y$5&$V$4+3))","v":{"$error":"#REF!"}},{"$f":"IF(INDIRECT($C$2&$C29&\"!\"&Z$5&$V$4+3)=\"\",\"★\",INDIRECT($C$2&$C29&\"!\"&Z$5&$V$4+3))","v":{"$error":"#REF!"}},{"$f":"IF(INDIRECT($C$2&$C29&\"!\"&AA$5&$V$4+3)=\"\",\"★\",INDIRECT($C$2&$C29&\"!\"&AA$5&$V$4+3))","v":{"$error":"#REF!"}},{"$f":"IF(INDIRECT($C$2&$C29&\"!\"&AB$5&$V$4+3)=\"\",\"★\",INDIRECT($C$2&$C29&\"!\"&AB$5&$V$4+3))","v":{"$error":"#REF!"}},{"$f":"IF(INDIRECT($C$2&$C29&\"!\"&AC$5&$V$4+3)=\"\",\"★\",INDIRECT($C$2&$C29&\"!\"&AC$5&$V$4+3))","v":{"$error":"#REF!"}},null,null,null,null,null,null,null,null,null,null,{"$f":"IF(INDIRECT($C$2&$C29&\"!\"&AN$5&$AN$4+3)=\"\",\"★\",INDIRECT($C$2&$C29&\"!\"&AN$5&$AN$4+3))","v":{"$error":"#REF!"}},{"$f":"IF(INDIRECT($C$2&$C29&\"!\"&AO$5&$AN$4+3)=\"\",\"★\",INDIRECT($C$2&$C29&\"!\"&AO$5&$AN$4+3))","v":{"$error":"#REF!"}},{"$f":"IF(INDIRECT($C$2&$C29&\"!\"&AP$5&$AN$4+3)=\"\",\"★\",INDIRECT($C$2&$C29&\"!\"&AP$5&$AN$4+3))","v":{"$error":"#REF!"}},{"$f":"IF(INDIRECT($C$2&$C29&\"!\"&AQ$5&$AN$4+3)=\"\",\"★\",INDIRECT($C$2&$C29&\"!\"&AQ$5&$AN$4+3))","v":{"$error":"#REF!"}},{"$f":"IF(INDIRECT($C$2&$C29&\"!\"&AR$5&$AN$4+3)=\"\",\"★\",INDIRECT($C$2&$C29&\"!\"&AR$5&$AN$4+3))","v":{"$error":"#REF!"}},{"$f":"IF(INDIRECT($C$2&$C29&\"!\"&AS$5&$AN$4+3)=\"\",\"★\",INDIRECT($C$2&$C29&\"!\"&AS$5&$AN$4+3))","v":{"$error":"#REF!"}},{"$f":"IF(INDIRECT($C$2&$C29&\"!\"&AT$5&$AN$4+3)=\"\",\"★\",INDIRECT($C$2&$C29&\"!\"&AT$5&$AN$4+3))","v":{"$error":"#REF!"}},{"$f":"IF(INDIRECT($C$2&$C29&\"!\"&AU$5&$AN$4+3)=\"\",\"★\",INDIRECT($C$2&$C29&\"!\"&AU$5&$AN$4+3))","v":{"$error":"#REF!"}},null,null,null,null,{"$f":"IF(INDIRECT($C$2&$C29&\"!\"&AZ$5&$AZ$4+3)=\"\",\"★\",INDIRECT($C$2&$C29&\"!\"&AZ$5&$AZ$4+3))","v":{"$error":"#REF!"}},{"$f":"IF(INDIRECT($C$2&$C29&\"!\"&BA$5&$AZ$4+3)=\"\",\"★\",INDIRECT($C$2&$C29&\"!\"&BA$5&$AZ$4+3))","v":{"$error":"#REF!"}},{"$f":"IF(INDIRECT($C$2&$C29&\"!\"&BB$5&$AZ$4+3)=\"\",\"★\",INDIRECT($C$2&$C29&\"!\"&BB$5&$AZ$4+3))","v":{"$error":"#REF!"}},{"$f":"IF(INDIRECT($C$2&$C29&\"!\"&BC$5&$AZ$4+3)=\"\",\"★\",INDIRECT($C$2&$C29&\"!\"&BC$5&$AZ$4+3))","v":{"$error":"#REF!"}},{"$f":"IF(INDIRECT($C$2&$C29&\"!\"&BD$5&$AZ$4+3)=\"\",\"★\",INDIRECT($C$2&$C29&\"!\"&BD$5&$AZ$4+3))","v":{"$error":"#REF!"}},{"$f":"IF(INDIRECT($C$2&$C29&\"!\"&BE$5&$AZ$4+3)=\"\",\"★\",INDIRECT($C$2&$C29&\"!\"&BE$5&$AZ$4+3))","v":{"$error":"#REF!"}},{"$f":"IF(INDIRECT($C$2&$C29&\"!\"&BF$5&$AZ$4+3)=\"\",\"★\",INDIRECT($C$2&$C29&\"!\"&BF$5&$AZ$4+3))","v":{"$error":"#REF!"}},{"$f":"IF(INDIRECT($C$2&$C29&\"!\"&BG$5&$AZ$4+3)=\"\",\"★\",INDIRECT($C$2&$C29&\"!\"&BG$5&$AZ$4+3))","v":{"$error":"#REF!"}},null,null,null,null,{"$f":"IF(INDIRECT($C$2&$C29&\"!\"&BL$5&$BL$4+3)=\"\",\"★\",INDIRECT($C$2&$C29&\"!\"&BL$5&$BL$4+3))","v":{"$error":"#REF!"}},{"$f":"IF(INDIRECT($C$2&$C29&\"!\"&BM$5&$BL$4+3)=\"\",\"★\",INDIRECT($C$2&$C29&\"!\"&BM$5&$BL$4+3))","v":{"$error":"#REF!"}},{"$f":"IF(INDIRECT($C$2&$C29&\"!\"&BN$5&$BL$4+3)=\"\",\"★\",INDIRECT($C$2&$C29&\"!\"&BN$5&$BL$4+3))","v":{"$error":"#REF!"}},{"$f":"IF(INDIRECT($C$2&$C29&\"!\"&BO$5&$BL$4+3)=\"\",\"★\",INDIRECT($C$2&$C29&\"!\"&BO$5&$BL$4+3))","v":{"$error":"#REF!"}},{"$f":"IF(INDIRECT($C$2&$C29&\"!\"&BP$5&$BL$4+3)=\"\",\"★\",INDIRECT($C$2&$C29&\"!\"&BP$5&$BL$4+3))","v":{"$error":"#REF!"}},{"$f":"IF(INDIRECT($C$2&$C29&\"!\"&BQ$5&$BL$4+3)=\"\",\"★\",INDIRECT($C$2&$C29&\"!\"&BQ$5&$BL$4+3))","v":{"$error":"#REF!"}},{"$f":"IF(INDIRECT($C$2&$C29&\"!\"&BR$5&$BL$4+3)=\"\",\"★\",INDIRECT($C$2&$C29&\"!\"&BR$5&$BL$4+3))","v":{"$error":"#REF!"}},{"$f":"IF(INDIRECT($C$2&$C29&\"!\"&BS$5&$BL$4+3)=\"\",\"★\",INDIRECT($C$2&$C29&\"!\"&BS$5&$BL$4+3))","v":{"$error":"#REF!"}},null,null,{"$f":"IF(INDIRECT($C$2&$C29&\"!\"&BV$5&$BV$4+3)=\"\",\"★\",INDIRECT($C$2&$C29&\"!\"&BV$5&$BV$4+3))","v":{"$error":"#REF!"}},{"$f":"IF(INDIRECT($C$2&$C29&\"!\"&BW$5&$BV$4+3)=\"\",\"★\",INDIRECT($C$2&$C29&\"!\"&BW$5&$BV$4+3))","v":{"$error":"#REF!"}},{"$f":"IF(INDIRECT($C$2&$C29&\"!\"&BX$5&$BV$4+3)=\"\",\"★\",INDIRECT($C$2&$C29&\"!\"&BX$5&$BV$4+3))","v":{"$error":"#REF!"}},{"$f":"IF(INDIRECT($C$2&$C29&\"!\"&BY$5&$BV$4+3)=\"\",\"★\",INDIRECT($C$2&$C29&\"!\"&BY$5&$BV$4+3))","v":{"$error":"#REF!"}},{"$f":"IF(INDIRECT($C$2&$C29&\"!\"&BZ$5&$BV$4+3)=\"\",\"★\",INDIRECT($C$2&$C29&\"!\"&BZ$5&$BV$4+3))","v":{"$error":"#REF!"}},{"$f":"IF(INDIRECT($C$2&$C29&\"!\"&CA$5&$BV$4+3)=\"\",\"★\",INDIRECT($C$2&$C29&\"!\"&CA$5&$BV$4+3))","v":{"$error":"#REF!"}},null,{"$f":"IF(INDIRECT($C$2&$C29&\"!\"&CC$5&$CC$4+3)=\"\",\"★\",INDIRECT($C$2&$C29&\"!\"&CC$5&$CC$4+3))","v":{"$error":"#REF!"}},{"$f":"IF(INDIRECT($C$2&$C29&\"!\"&CD$5&$CC$4+3)=\"\",\"★\",INDIRECT($C$2&$C29&\"!\"&CD$5&$CC$4+3))","v":{"$error":"#REF!"}},{"$f":"IF(INDIRECT($C$2&$C29&\"!\"&CE$5&$CC$4+3)=\"\",\"★\",INDIRECT($C$2&$C29&\"!\"&CE$5&$CC$4+3))","v":{"$error":"#REF!"}},{"$f":"IF(INDIRECT($C$2&$C29&\"!\"&CF$5&$CC$4+3)=\"\",\"★\",INDIRECT($C$2&$C29&\"!\"&CF$5&$CC$4+3))","v":{"$error":"#REF!"}},{"$f":"IF(INDIRECT($C$2&$C29&\"!\"&CG$5&$CC$4+3)=\"\",\"★\",INDIRECT($C$2&$C29&\"!\"&CG$5&$CC$4+3))","v":{"$error":"#REF!"}},{"$f":"IF(INDIRECT($C$2&$C29&\"!\"&CH$5&$CC$4+3)=\"\",\"★\",INDIRECT($C$2&$C29&\"!\"&CH$5&$CC$4+3))","v":{"$error":"#REF!"}},null,null,null,null,{"$f":"IF(INDIRECT($C$2&$C29&\"!\"&CM$5&$CM$4+3)=\"\",\"★\",INDIRECT($C$2&$C29&\"!\"&CM$5&$CM$4+3))","v":{"$error":"#REF!"}},{"$f":"IF(INDIRECT($C$2&$C29&\"!\"&CN$5&$CM$4+3)=\"\",\"★\",INDIRECT($C$2&$C29&\"!\"&CN$5&$CM$4+3))","v":{"$error":"#REF!"}},{"$f":"IF(INDIRECT($C$2&$C29&\"!\"&CO$5&$CM$4+3)=\"\",\"★\",INDIRECT($C$2&$C29&\"!\"&CO$5&$CM$4+3))","v":{"$error":"#REF!"}},{"$f":"IF(INDIRECT($C$2&$C29&\"!\"&CP$5&$CM$4+3)=\"\",\"★\",INDIRECT($C$2&$C29&\"!\"&CP$5&$CM$4+3))","v":{"$error":"#REF!"}},{"$f":"IF(INDIRECT($C$2&$C29&\"!\"&CQ$5&$CM$4+3)=\"\",\"★\",INDIRECT($C$2&$C29&\"!\"&CQ$5&$CM$4+3))","v":{"$error":"#REF!"}},{"$f":"IF(INDIRECT($C$2&$C29&\"!\"&CR$5&$CM$4+3)=\"\",\"★\",INDIRECT($C$2&$C29&\"!\"&CR$5&$CM$4+3))","v":{"$error":"#REF!"}},null,null,null,null,{"$f":"IF(INDIRECT($C$2&$C29&\"!\"&CW$5&$CW$4+3)=\"\",\"★\",INDIRECT($C$2&$C29&\"!\"&CW$5&$CW$4+3))","v":{"$error":"#REF!"}},{"$f":"IF(INDIRECT($C$2&$C29&\"!\"&CX$5&$CW$4+3)=\"\",\"★\",INDIRECT($C$2&$C29&\"!\"&CX$5&$CW$4+3))","v":{"$error":"#REF!"}},{"$f":"IF(INDIRECT($C$2&$C29&\"!\"&CY$5&$CW$4+3)=\"\",\"★\",INDIRECT($C$2&$C29&\"!\"&CY$5&$CW$4+3))","v":{"$error":"#REF!"}},{"$f":"IF(INDIRECT($C$2&$C29&\"!\"&CZ$5&$CW$4+3)=\"\",\"★\",INDIRECT($C$2&$C29&\"!\"&CZ$5&$CW$4+3))","v":{"$error":"#REF!"}},{"$f":"IF(INDIRECT($C$2&$C29&\"!\"&DA$5&$CW$4+3)=\"\",\"★\",INDIRECT($C$2&$C29&\"!\"&DA$5&$CW$4+3))","v":{"$error":"#REF!"}},{"$f":"IF(INDIRECT($C$2&$C29&\"!\"&DB$5&$CW$4+3)=\"\",\"★\",INDIRECT($C$2&$C29&\"!\"&DB$5&$CW$4+3))","v":{"$error":"#REF!"}},null,null,null,null,{"$f":"IF(INDIRECT($C$2&$C29&\"!\"&DG$5&$DG$4+3)=\"\",\"★\",INDIRECT($C$2&$C29&\"!\"&DG$5&$DG$4+3))","v":{"$error":"#REF!"}},{"$f":"IF(INDIRECT($C$2&$C29&\"!\"&DH$5&$DG$4+3)=\"\",\"★\",INDIRECT($C$2&$C29&\"!\"&DH$5&$DG$4+3))","v":{"$error":"#REF!"}},{"$f":"IF(INDIRECT($C$2&$C29&\"!\"&DI$5&$DG$4+3)=\"\",\"★\",INDIRECT($C$2&$C29&\"!\"&DI$5&$DG$4+3))","v":{"$error":"#REF!"}},{"$f":"IF(INDIRECT($C$2&$C29&\"!\"&DJ$5&$DG$4+3)=\"\",\"★\",INDIRECT($C$2&$C29&\"!\"&DJ$5&$DG$4+3))","v":{"$error":"#REF!"}},{"$f":"IF(INDIRECT($C$2&$C29&\"!\"&DK$5&$DG$4+3)=\"\",\"★\",INDIRECT($C$2&$C29&\"!\"&DK$5&$DG$4+3))","v":{"$error":"#REF!"}},{"$f":"IF(INDIRECT($C$2&$C29&\"!\"&DL$5&$DG$4+3)=\"\",\"★\",INDIRECT($C$2&$C29&\"!\"&DL$5&$DG$4+3))","v":{"$error":"#REF!"}}]
[null,null,{"$f":"IF(INDIRECT($B$2&\"B26\")=\"\",\"★\",INDIRECT($B$2&\"B26\"))","v":"★"},{"$f":"IF(INDIRECT($C$2&$C30&\"!K12\")=\"\",\"★\",INDIRECT($C$2&$C30&\"!K12\"))","v":{"$error":"#REF!"}},{"$f":"IF(INDIRECT($C$2&$C30&\"!L12\")=\"\",\"★\",INDIRECT($C$2&$C30&\"!L12\"))","v":{"$error":"#REF!"}},{"$f":"IF(INDIRECT($C$2&$C30&\"!D13\")=\"\",\"★\",INDIRECT($C$2&$C30&\"!D13\"))","v":{"$error":"#REF!"}},{"$f":"IF(INDIRECT($C$2&$C30&\"!D14\")=\"\",\"★\",INDIRECT($C$2&$C30&\"!D14\"))","v":{"$error":"#REF!"}},{"$f":"IF(INDIRECT($C$2&$C30&\"!D15\")=\"\",\"★\",INDIRECT($C$2&$C30&\"!D15\"))","v":{"$error":"#REF!"}},{"$f":"IF(INDIRECT($C$2&$C30&\"!D16\")=\"\",\"★\",INDIRECT($C$2&$C30&\"!D16\"))","v":{"$error":"#REF!"}},{"$f":"IF(INDIRECT($C$2&$C30&\"!D17\")=\"\",\"★\",INDIRECT($C$2&$C30&\"!D17\"))","v":{"$error":"#REF!"}},{"$f":"IF(INDIRECT($C$2&$C30&\"!D18\")=\"\",\"★\",INDIRECT($C$2&$C30&\"!D18\"))","v":{"$error":"#REF!"}},{"$f":"$C30&\"-1\"","v":"★-1"},{"$f":"IF(INDIRECT($C$2&$C30&\"!\"&M$5&$M$4)=\"\",\"★\",INDIRECT($C$2&$C30&\"!\"&M$5&$M$4))","v":{"$error":"#REF!"}},{"$f":"IF(INDIRECT($C$2&$C30&\"!\"&N$5&$M$4)=\"\",\"★\",INDIRECT($C$2&$C30&\"!\"&N$5&$M$4))","v":{"$error":"#REF!"}},{"$f":"IF(INDIRECT($C$2&$C30&\"!\"&O$5&$M$4)=\"\",\"★\",INDIRECT($C$2&$C30&\"!\"&O$5&$M$4))","v":{"$error":"#REF!"}},{"$f":"IF(INDIRECT($C$2&$C30&\"!\"&P$5&$M$4)=\"\",\"★\",INDIRECT($C$2&$C30&\"!\"&P$5&$M$4))","v":{"$error":"#REF!"}},{"$f":"IF(INDIRECT($C$2&$C30&\"!\"&Q$5&$M$4)=\"\",\"★\",INDIRECT($C$2&$C30&\"!\"&Q$5&$M$4))","v":{"$error":"#REF!"}},{"$f":"IF(INDIRECT($C$2&$C30&\"!\"&R$5&$M$4)=\"\",\"★\",INDIRECT($C$2&$C30&\"!\"&R$5&$M$4))","v":{"$error":"#REF!"}},{"$f":"IF(INDIRECT($C$2&$C30&\"!\"&S$5&$M$4)=\"\",\"★\",INDIRECT($C$2&$C30&\"!\"&S$5&$M$4))","v":{"$error":"#REF!"}},{"$f":"IF(INDIRECT($C$2&$C30&\"!\"&T$5&$M$4)=\"\",\"★\",INDIRECT($C$2&$C30&\"!\"&T$5&$M$4))","v":{"$error":"#REF!"}},{"$f":"IF(INDIRECT($C$2&$C30&\"!\"&U$5&$M$4)=\"\",\"★\",INDIRECT($C$2&$C30&\"!\"&U$5&$M$4))","v":{"$error":"#REF!"}},{"$f":"IF(INDIRECT($C$2&$C30&\"!\"&V$5&$V$4)=\"\",\"★\",INDIRECT($C$2&$C30&\"!\"&V$5&$V$4))","v":{"$error":"#REF!"}},{"$f":"IF(INDIRECT($C$2&$C30&\"!\"&W$5&$V$4)=\"\",\"★\",INDIRECT($C$2&$C30&\"!\"&W$5&$V$4))","v":{"$error":"#REF!"}},{"$f":"IF(INDIRECT($C$2&$C30&\"!\"&X$5&$V$4)=\"\",\"★\",INDIRECT($C$2&$C30&\"!\"&X$5&$V$4))","v":{"$error":"#REF!"}},{"$f":"IF(INDIRECT($C$2&$C30&\"!\"&Y$5&$V$4)=\"\",\"★\",INDIRECT($C$2&$C30&\"!\"&Y$5&$V$4))","v":{"$error":"#REF!"}},{"$f":"IF(INDIRECT($C$2&$C30&\"!\"&Z$5&$V$4)=\"\",\"★\",INDIRECT($C$2&$C30&\"!\"&Z$5&$V$4))","v":{"$error":"#REF!"}},{"$f":"IF(INDIRECT($C$2&$C30&\"!\"&AA$5&$V$4)=\"\",\"★\",INDIRECT($C$2&$C30&\"!\"&AA$5&$V$4))","v":{"$error":"#REF!"}},{"$f":"IF(INDIRECT($C$2&$C30&\"!\"&AB$5&$V$4)=\"\",\"★\",INDIRECT($C$2&$C30&\"!\"&AB$5&$V$4))","v":{"$error":"#REF!"}},{"$f":"IF(INDIRECT($C$2&$C30&\"!\"&AC$5&$V$4)=\"\",\"★\",INDIRECT($C$2&$C30&\"!\"&AC$5&$V$4))","v":{"$error":"#REF!"}},{"$f":"IF(INDIRECT($C$2&$C30&\"!\"&AD$5&$V$4)=\"\",\"★\",INDIRECT($C$2&$C30&\"!\"&AD$5&$V$4))","v":{"$error":"#REF!"}},{"$f":"IF(INDIRECT($C$2&$C30&\"!\"&AE$5&$V$4)=\"\",\"★\",INDIRECT($C$2&$C30&\"!\"&AE$5&$V$4))","v":{"$error":"#REF!"}},{"$f":"IF(INDIRECT($C$2&$C30&\"!\"&AF$5&$AF$4)=\"\",\"★\",INDIRECT($C$2&$C30&\"!\"&AF$5&$AF$4))","v":{"$error":"#REF!"}},{"$f":"IF(INDIRECT($C$2&$C30&\"!\"&AG$5&$AF$4)=\"\",\"★\",INDIRECT($C$2&$C30&\"!\"&AG$5&$AF$4))","v":{"$error":"#REF!"}},{"$f":"IF(INDIRECT($C$2&$C30&\"!\"&AH$5&$AH$4)=\"\",\"★\",INDIRECT($C$2&$C30&\"!\"&AH$5&$AH$4))","v":{"$error":"#REF!"}},{"$f":"IF(INDIRECT($C$2&$C30&\"!\"&AI$5&$AH$4)=\"\",\"★\",INDIRECT($C$2&$C30&\"!\"&AI$5&$AH$4))","v":{"$error":"#REF!"}},{"$f":"IF(INDIRECT($C$2&$C30&\"!\"&AJ$5&$AJ$4)=\"\",\"★\",INDIRECT($C$2&$C30&\"!\"&AJ$5&$AJ$4))","v":{"$error":"#REF!"}},{"$f":"IF(INDIRECT($C$2&$C30&\"!\"&AK$5&$AJ$4)=\"\",\"★\",INDIRECT($C$2&$C30&\"!\"&AK$5&$AJ$4))","v":{"$error":"#REF!"}},{"$f":"$AF30","v":{"$error":"#REF!"}},{"$f":"$AG30","v":{"$error":"#REF!"}},{"$f":"IF(INDIRECT($C$2&$C30&\"!\"&AN$5&$AN$4)=\"\",\"★\",INDIRECT($C$2&$C30&\"!\"&AN$5&$AN$4))","v":{"$error":"#REF!"}},{"$f":"IF(INDIRECT($C$2&$C30&\"!\"&AO$5&$AN$4)=\"\",\"★\",INDIRECT($C$2&$C30&\"!\"&AO$5&$AN$4))","v":{"$error":"#REF!"}},{"$f":"IF(INDIRECT($C$2&$C30&\"!\"&AP$5&$AN$4)=\"\",\"★\",INDIRECT($C$2&$C30&\"!\"&AP$5&$AN$4))","v":{"$error":"#REF!"}},{"$f":"IF(INDIRECT($C$2&$C30&\"!\"&AQ$5&$AN$4)=\"\",\"★\",INDIRECT($C$2&$C30&\"!\"&AQ$5&$AN$4))","v":{"$error":"#REF!"}},{"$f":"IF(INDIRECT($C$2&$C30&\"!\"&AR$5&$AN$4)=\"\",\"★\",INDIRECT($C$2&$C30&\"!\"&AR$5&$AN$4))","v":{"$error":"#REF!"}},{"$f":"IF(INDIRECT($C$2&$C30&\"!\"&AS$5&$AN$4)=\"\",\"★\",INDIRECT($C$2&$C30&\"!\"&AS$5&$AN$4))","v":{"$error":"#REF!"}},{"$f":"IF(INDIRECT($C$2&$C30&\"!\"&AT$5&$AN$4)=\"\",\"★\",INDIRECT($C$2&$C30&\"!\"&AT$5&$AN$4))","v":{"$error":"#REF!"}},{"$f":"IF(INDIRECT($C$2&$C30&\"!\"&AU$5&$AN$4)=\"\",\"★\",INDIRECT($C$2&$C30&\"!\"&AU$5&$AN$4))","v":{"$error":"#REF!"}},{"$f":"IF(INDIRECT($C$2&$C30&\"!\"&AV$5&$AN$4)=\"\",\"★\",INDIRECT($C$2&$C30&\"!\"&AV$5&$AN$4))","v":{"$error":"#REF!"}},{"$f":"IF(INDIRECT($C$2&$C30&\"!\"&AW$5&$AN$4)=\"\",\"★\",INDIRECT($C$2&$C30&\"!\"&AW$5&$AN$4))","v":{"$error":"#REF!"}},{"$f":"$AH30","v":{"$error":"#REF!"}},{"$f":"$AI30","v":{"$error":"#REF!"}},{"$f":"IF(INDIRECT($C$2&$C30&\"!\"&AZ$5&$AZ$4)=\"\",\"★\",INDIRECT($C$2&$C30&\"!\"&AZ$5&$AZ$4))","v":{"$error":"#REF!"}},{"$f":"IF(INDIRECT($C$2&$C30&\"!\"&BA$5&$AZ$4)=\"\",\"★\",INDIRECT($C$2&$C30&\"!\"&BA$5&$AZ$4))","v":{"$error":"#REF!"}},{"$f":"IF(INDIRECT($C$2&$C30&\"!\"&BB$5&$AZ$4)=\"\",\"★\",INDIRECT($C$2&$C30&\"!\"&BB$5&$AZ$4))","v":{"$error":"#REF!"}},{"$f":"IF(INDIRECT($C$2&$C30&\"!\"&BC$5&$AZ$4)=\"\",\"★\",INDIRECT($C$2&$C30&\"!\"&BC$5&$AZ$4))","v":{"$error":"#REF!"}},{"$f":"IF(INDIRECT($C$2&$C30&\"!\"&BD$5&$AZ$4)=\"\",\"★\",INDIRECT($C$2&$C30&\"!\"&BD$5&$AZ$4))","v":{"$error":"#REF!"}},{"$f":"IF(INDIRECT($C$2&$C30&\"!\"&BE$5&$AZ$4)=\"\",\"★\",INDIRECT($C$2&$C30&\"!\"&BE$5&$AZ$4))","v":{"$error":"#REF!"}},{"$f":"IF(INDIRECT($C$2&$C30&\"!\"&BF$5&$AZ$4)=\"\",\"★\",INDIRECT($C$2&$C30&\"!\"&BF$5&$AZ$4))","v":{"$error":"#REF!"}},{"$f":"IF(INDIRECT($C$2&$C30&\"!\"&BG$5&$AZ$4)=\"\",\"★\",INDIRECT($C$2&$C30&\"!\"&BG$5&$AZ$4))","v":{"$error":"#REF!"}},{"$f":"IF(INDIRECT($C$2&$C30&\"!\"&BH$5&$AZ$4)=\"\",\"★\",INDIRECT($C$2&$C30&\"!\"&BH$5&$AZ$4))","v":{"$error":"#REF!"}},{"$f":"IF(INDIRECT($C$2&$C30&\"!\"&BI$5&$AZ$4)=\"\",\"★\",INDIRECT($C$2&$C30&\"!\"&BI$5&$AZ$4))","v":{"$error":"#REF!"}},{"$f":"$AJ30","v":{"$error":"#REF!"}},{"$f":"$AK30","v":{"$error":"#REF!"}},{"$f":"IF(INDIRECT($C$2&$C30&\"!\"&BL$5&$BL$4)=\"\",\"★\",INDIRECT($C$2&$C30&\"!\"&BL$5&$BL$4))","v":{"$error":"#REF!"}},{"$f":"IF(INDIRECT($C$2&$C30&\"!\"&BM$5&$BL$4)=\"\",\"★\",INDIRECT($C$2&$C30&\"!\"&BM$5&$BL$4))","v":{"$error":"#REF!"}},{"$f":"IF(INDIRECT($C$2&$C30&\"!\"&BN$5&$BL$4)=\"\",\"★\",INDIRECT($C$2&$C30&\"!\"&BN$5&$BL$4))","v":{"$error":"#REF!"}},{"$f":"IF(INDIRECT($C$2&$C30&\"!\"&BO$5&$BL$4)=\"\",\"★\",INDIRECT($C$2&$C30&\"!\"&BO$5&$BL$4))","v":{"$error":"#REF!"}},{"$f":"IF(INDIRECT($C$2&$C30&\"!\"&BP$5&$BL$4)=\"\",\"★\",INDIRECT($C$2&$C30&\"!\"&BP$5&$BL$4))","v":{"$error":"#REF!"}},{"$f":"IF(INDIRECT($C$2&$C30&\"!\"&BQ$5&$BL$4)=\"\",\"★\",INDIRECT($C$2&$C30&\"!\"&BQ$5&$BL$4))","v":{"$error":"#REF!"}},{"$f":"IF(INDIRECT($C$2&$C30&\"!\"&BR$5&$BL$4)=\"\",\"★\",INDIRECT($C$2&$C30&\"!\"&BR$5&$BL$4))","v":{"$error":"#REF!"}},{"$f":"IF(INDIRECT($C$2&$C30&\"!\"&BS$5&$BL$4)=\"\",\"★\",INDIRECT($C$2&$C30&\"!\"&BS$5&$BL$4))","v":{"$error":"#REF!"}},{"$f":"IF(INDIRECT($C$2&$C30&\"!\"&BT$5&$BL$4)=\"\",\"★\",INDIRECT($C$2&$C30&\"!\"&BT$5&$BL$4))","v":{"$error":"#REF!"}},{"$f":"IF(INDIRECT($C$2&$C30&\"!\"&BU$5&$BL$4)=\"\",\"★\",INDIRECT($C$2&$C30&\"!\"&BU$5&$BL$4))","v":{"$error":"#REF!"}},{"$f":"IF(INDIRECT($C$2&$C30&\"!\"&BV$5&$BV$4)=\"\",\"★\",INDIRECT($C$2&$C30&\"!\"&BV$5&$BV$4))","v":{"$error":"#REF!"}},{"$f":"IF(INDIRECT($C$2&$C30&\"!\"&BW$5&$BV$4)=\"\",\"★\",INDIRECT($C$2&$C30&\"!\"&BW$5&$BV$4))","v":{"$error":"#REF!"}},{"$f":"IF(INDIRECT($C$2&$C30&\"!\"&BX$5&$BV$4)=\"\",\"★\",INDIRECT($C$2&$C30&\"!\"&BX$5&$BV$4))","v":{"$error":"#REF!"}},{"$f":"IF(INDIRECT($C$2&$C30&\"!\"&BY$5&$BV$4)=\"\",\"★\",INDIRECT($C$2&$C30&\"!\"&BY$5&$BV$4))","v":{"$error":"#REF!"}},{"$f":"IF(INDIRECT($C$2&$C30&\"!\"&BZ$5&$BV$4)=\"\",\"★\",INDIRECT($C$2&$C30&\"!\"&BZ$5&$BV$4))","v":{"$error":"#REF!"}},{"$f":"IF(INDIRECT($C$2&$C30&\"!\"&CA$5&$BV$4)=\"\",\"★\",INDIRECT($C$2&$C30&\"!\"&CA$5&$BV$4))","v":{"$error":"#REF!"}},{"$f":"IF(INDIRECT($C$2&$C30&\"!\"&CB$5&$BV$4)=\"\",\"★\",INDIRECT($C$2&$C30&\"!\"&CB$5&$BV$4))","v":{"$error":"#REF!"}},{"$f":"IF(INDIRECT($C$2&$C30&\"!\"&CC$5&$CC$4)=\"\",\"★\",INDIRECT($C$2&$C30&\"!\"&CC$5&$CC$4))","v":{"$error":"#REF!"}},{"$f":"IF(INDIRECT($C$2&$C30&\"!\"&CD$5&$CC$4)=\"\",\"★\",INDIRECT($C$2&$C30&\"!\"&CD$5&$CC$4))","v":{"$error":"#REF!"}},{"$f":"IF(INDIRECT($C$2&$C30&\"!\"&CE$5&$CC$4)=\"\",\"★\",INDIRECT($C$2&$C30&\"!\"&CE$5&$CC$4))","v":{"$error":"#REF!"}},{"$f":"IF(INDIRECT($C$2&$C30&\"!\"&CF$5&$CC$4)=\"\",\"★\",INDIRECT($C$2&$C30&\"!\"&CF$5&$CC$4))","v":{"$error":"#REF!"}},{"$f":"IF(INDIRECT($C$2&$C30&\"!\"&CG$5&$CC$4)=\"\",\"★\",INDIRECT($C$2&$C30&\"!\"&CG$5&$CC$4))","v":{"$error":"#REF!"}},{"$f":"IF(INDIRECT($C$2&$C30&\"!\"&CH$5&$CC$4)=\"\",\"★\",INDIRECT($C$2&$C30&\"!\"&CH$5&$CC$4))","v":{"$error":"#REF!"}},{"$f":"IF(INDIRECT($C$2&$C30&\"!\"&CI$5&$CC$4)=\"\",\"★\",INDIRECT($C$2&$C30&\"!\"&CI$5&$CC$4))","v":{"$error":"#REF!"}},{"$f":"IF(INDIRECT($C$2&$C30&\"!\"&CJ$5&$CC$4)=\"\",\"★\",INDIRECT($C$2&$C30&\"!\"&CJ$5&$CC$4))","v":{"$error":"#REF!"}},{"$f":"$AF30","v":{"$error":"#REF!"}},{"$f":"$AG30","v":{"$error":"#REF!"}},{"$f":"IF(INDIRECT($C$2&$C30&\"!\"&CM$5&$CM$4)=\"\",\"★\",INDIRECT($C$2&$C30&\"!\"&CM$5&$CM$4))","v":{"$error":"#REF!"}},{"$f":"IF(INDIRECT($C$2&$C30&\"!\"&CN$5&$CM$4)=\"\",\"★\",INDIRECT($C$2&$C30&\"!\"&CN$5&$CM$4))","v":{"$error":"#REF!"}},{"$f":"IF(INDIRECT($C$2&$C30&\"!\"&CO$5&$CM$4)=\"\",\"★\",INDIRECT($C$2&$C30&\"!\"&CO$5&$CM$4))","v":{"$error":"#REF!"}},{"$f":"IF(INDIRECT($C$2&$C30&\"!\"&CP$5&$CM$4)=\"\",\"★\",INDIRECT($C$2&$C30&\"!\"&CP$5&$CM$4))","v":{"$error":"#REF!"}},{"$f":"IF(INDIRECT($C$2&$C30&\"!\"&CQ$5&$CM$4)=\"\",\"★\",INDIRECT($C$2&$C30&\"!\"&CQ$5&$CM$4))","v":{"$error":"#REF!"}},{"$f":"IF(INDIRECT($C$2&$C30&\"!\"&CR$5&$CM$4)=\"\",\"★\",INDIRECT($C$2&$C30&\"!\"&CR$5&$CM$4))","v":{"$error":"#REF!"}},{"$f":"IF(INDIRECT($C$2&$C30&\"!\"&CS$5&$CM$4)=\"\",\"★\",INDIRECT($C$2&$C30&\"!\"&CS$5&$CM$4))","v":{"$error":"#REF!"}},{"$f":"IF(INDIRECT($C$2&$C30&\"!\"&CT$5&$CM$4)=\"\",\"★\",INDIRECT($C$2&$C30&\"!\"&CT$5&$CM$4))","v":{"$error":"#REF!"}},{"$f":"$AH30","v":{"$error":"#REF!"}},{"$f":"$AI30","v":{"$error":"#REF!"}},{"$f":"IF(INDIRECT($C$2&$C30&\"!\"&CW$5&$CW$4)=\"\",\"★\",INDIRECT($C$2&$C30&\"!\"&CW$5&$CW$4))","v":{"$error":"#REF!"}},{"$f":"IF(INDIRECT($C$2&$C30&\"!\"&CX$5&$CW$4)=\"\",\"★\",INDIRECT($C$2&$C30&\"!\"&CX$5&$CW$4))","v":{"$error":"#REF!"}},{"$f":"IF(INDIRECT($C$2&$C30&\"!\"&CY$5&$CW$4)=\"\",\"★\",INDIRECT($C$2&$C30&\"!\"&CY$5&$CW$4))","v":{"$error":"#REF!"}},{"$f":"IF(INDIRECT($C$2&$C30&\"!\"&CZ$5&$CW$4)=\"\",\"★\",INDIRECT($C$2&$C30&\"!\"&CZ$5&$CW$4))","v":{"$error":"#REF!"}},{"$f":"IF(INDIRECT($C$2&$C30&\"!\"&DA$5&$CW$4)=\"\",\"★\",INDIRECT($C$2&$C30&\"!\"&DA$5&$CW$4))","v":{"$error":"#REF!"}},{"$f":"IF(INDIRECT($C$2&$C30&\"!\"&DB$5&$CW$4)=\"\",\"★\",INDIRECT($C$2&$C30&\"!\"&DB$5&$CW$4))","v":{"$error":"#REF!"}},{"$f":"IF(INDIRECT($C$2&$C30&\"!\"&DC$5&$CW$4)=\"\",\"★\",INDIRECT($C$2&$C30&\"!\"&DC$5&$CW$4))","v":{"$error":"#REF!"}},{"$f":"IF(INDIRECT($C$2&$C30&\"!\"&DD$5&$CW$4)=\"\",\"★\",INDIRECT($C$2&$C30&\"!\"&DD$5&$CW$4))","v":{"$error":"#REF!"}},{"$f":"$AJ30","v":{"$error":"#REF!"}},{"$f":"$AK30","v":{"$error":"#REF!"}},{"$f":"IF(INDIRECT($C$2&$C30&\"!\"&DG$5&$DG$4)=\"\",\"★\",INDIRECT($C$2&$C30&\"!\"&DG$5&$DG$4))","v":{"$error":"#REF!"}},{"$f":"IF(INDIRECT($C$2&$C30&\"!\"&DH$5&$DG$4)=\"\",\"★\",INDIRECT($C$2&$C30&\"!\"&DH$5&$DG$4))","v":{"$error":"#REF!"}},{"$f":"IF(INDIRECT($C$2&$C30&\"!\"&DI$5&$DG$4)=\"\",\"★\",INDIRECT($C$2&$C30&\"!\"&DI$5&$DG$4))","v":{"$error":"#REF!"}},{"$f":"IF(INDIRECT($C$2&$C30&\"!\"&DJ$5&$DG$4)=\"\",\"★\",INDIRECT($C$2&$C30&\"!\"&DJ$5&$DG$4))","v":{"$error":"#REF!"}},{"$f":"IF(INDIRECT($C$2&$C30&\"!\"&DK$5&$DG$4)=\"\",\"★\",INDIRECT($C$2&$C30&\"!\"&DK$5&$DG$4))","v":{"$error":"#REF!"}},{"$f":"IF(INDIRECT($C$2&$C30&\"!\"&DL$5&$DG$4)=\"\",\"★\",INDIRECT($C$2&$C30&\"!\"&DL$5&$DG$4))","v":{"$error":"#REF!"}},{"$f":"IF(INDIRECT($C$2&$C30&\"!\"&DM$5&$DG$4)=\"\",\"★\",INDIRECT($C$2&$C30&\"!\"&DM$5&$DG$4))","v":{"$error":"#REF!"}},{"$f":"IF(INDIRECT($C$2&$C30&\"!\"&DN$5&$DG$4)=\"\",\"★\",INDIRECT($C$2&$C30&\"!\"&DN$5&$DG$4))","v":{"$error":"#REF!"}},{"$f":"IF(INDIRECT($C$2&$C30&\"!B57\")=\"\",\"★\",INDIRECT($C$2&$C30&\"!B57\"))","v":{"$error":"#REF!"}},{"$f":"IF(INDIRECT($C$2&$C30&\"!B100\")=\"\",\"★\",INDIRECT($C$2&$C30&\"!B100\"))","v":{"$error":"#REF!"}},{"$f":"IF(INDIRECT($C$2&$C30&\"!B112\")=\"\",\"★\",INDIRECT($C$2&$C30&\"!B112\"))","v":{"$error":"#REF!"}},{"$f":"IF(INDIRECT($C$2&$C30&\"!B155\")=\"\",\"★\",INDIRECT($C$2&$C30&\"!B155\"))","v":{"$error":"#REF!"}},{"$f":"IF(INDIRECT($C$2&$C30&\"!B167\")=\"\",\"★\",INDIRECT($C$2&$C30&\"!B167\"))","v":{"$error":"#REF!"}},{"$f":"IF(INDIRECT($C$2&$C30&\"!B210\")=\"\",\"★\",INDIRECT($C$2&$C30&\"!B210\"))","v":{"$error":"#REF!"}}]
[null,null,{"$f":"C30","v":"★"},null,null,null,null,null,null,null,null,{"$f":"$C31&\"-2\"","v":"★-2"},{"$f":"IF(INDIRECT($C$2&$C31&\"!\"&M$5&$M$4+1)=\"\",\"★\",INDIRECT($C$2&$C31&\"!\"&M$5&$M$4+1))","v":{"$error":"#REF!"}},{"$f":"IF(INDIRECT($C$2&$C31&\"!\"&N$5&$M$4+1)=\"\",\"★\",INDIRECT($C$2&$C31&\"!\"&N$5&$M$4+1))","v":{"$error":"#REF!"}},{"$f":"IF(INDIRECT($C$2&$C31&\"!\"&O$5&$M$4+1)=\"\",\"★\",INDIRECT($C$2&$C31&\"!\"&O$5&$M$4+1))","v":{"$error":"#REF!"}},{"$f":"IF(INDIRECT($C$2&$C31&\"!\"&P$5&$M$4+1)=\"\",\"★\",INDIRECT($C$2&$C31&\"!\"&P$5&$M$4+1))","v":{"$error":"#REF!"}},{"$f":"IF(INDIRECT($C$2&$C31&\"!\"&Q$5&$M$4+1)=\"\",\"★\",INDIRECT($C$2&$C31&\"!\"&Q$5&$M$4+1))","v":{"$error":"#REF!"}},{"$f":"IF(INDIRECT($C$2&$C31&\"!\"&R$5&$M$4+1)=\"\",\"★\",INDIRECT($C$2&$C31&\"!\"&R$5&$M$4+1))","v":{"$error":"#REF!"}},{"$f":"IF(INDIRECT($C$2&$C31&\"!\"&S$5&$M$4+1)=\"\",\"★\",INDIRECT($C$2&$C31&\"!\"&S$5&$M$4+1))","v":{"$error":"#REF!"}},{"$f":"IF(INDIRECT($C$2&$C31&\"!\"&T$5&$M$4+1)=\"\",\"★\",INDIRECT($C$2&$C31&\"!\"&T$5&$M$4+1))","v":{"$error":"#REF!"}},null,{"$f":"IF(INDIRECT($C$2&$C31&\"!\"&V$5&$V$4+1)=\"\",\"★\",INDIRECT($C$2&$C31&\"!\"&V$5&$V$4+1))","v":{"$error":"#REF!"}},{"$f":"IF(INDIRECT($C$2&$C31&\"!\"&W$5&$V$4+1)=\"\",\"★\",INDIRECT($C$2&$C31&\"!\"&W$5&$V$4+1))","v":{"$error":"#REF!"}},{"$f":"IF(INDIRECT($C$2&$C31&\"!\"&X$5&$V$4+1)=\"\",\"★\",INDIRECT($C$2&$C31&\"!\"&X$5&$V$4+1))","v":{"$error":"#REF!"}},{"$f":"IF(INDIRECT($C$2&$C31&\"!\"&Y$5&$V$4+1)=\"\",\"★\",INDIRECT($C$2&$C31&\"!\"&Y$5&$V$4+1))","v":{"$error":"#REF!"}},{"$f":"IF(INDIRECT($C$2&$C31&\"!\"&Z$5&$V$4+1)=\"\",\"★\",INDIRECT($C$2&$C31&\"!\"&Z$5&$V$4+1))","v":{"$error":"#REF!"}},{"$f":"IF(INDIRECT($C$2&$C31&\"!\"&AA$5&$V$4+1)=\"\",\"★\",INDIRECT($C$2&$C31&\"!\"&AA$5&$V$4+1))","v":{"$error":"#REF!"}},{"$f":"IF(INDIRECT($C$2&$C31&\"!\"&AB$5&$V$4+1)=\"\",\"★\",INDIRECT($C$2&$C31&\"!\"&AB$5&$V$4+1))","v":{"$error":"#REF!"}},{"$f":"IF(INDIRECT($C$2&$C31&\"!\"&AC$5&$V$4+1)=\"\",\"★\",INDIRECT($C$2&$C31&\"!\"&AC$5&$V$4+1))","v":{"$error":"#REF!"}},null,null,null,null,null,null,null,null,null,null,{"$f":"IF(INDIRECT($C$2&$C31&\"!\"&AN$5&$AN$4+1)=\"\",\"★\",INDIRECT($C$2&$C31&\"!\"&AN$5&$AN$4+1))","v":{"$error":"#REF!"}},{"$f":"IF(INDIRECT($C$2&$C31&\"!\"&AO$5&$AN$4+1)=\"\",\"★\",INDIRECT($C$2&$C31&\"!\"&AO$5&$AN$4+1))","v":{"$error":"#REF!"}},{"$f":"IF(INDIRECT($C$2&$C31&\"!\"&AP$5&$AN$4+1)=\"\",\"★\",INDIRECT($C$2&$C31&\"!\"&AP$5&$AN$4+1))","v":{"$error":"#REF!"}},{"$f":"IF(INDIRECT($C$2&$C31&\"!\"&AQ$5&$AN$4+1)=\"\",\"★\",INDIRECT($C$2&$C31&\"!\"&AQ$5&$AN$4+1))","v":{"$error":"#REF!"}},{"$f":"IF(INDIRECT($C$2&$C31&\"!\"&AR$5&$AN$4+1)=\"\",\"★\",INDIRECT($C$2&$C31&\"!\"&AR$5&$AN$4+1))","v":{"$error":"#REF!"}},{"$f":"IF(INDIRECT($C$2&$C31&\"!\"&AS$5&$AN$4+1)=\"\",\"★\",INDIRECT($C$2&$C31&\"!\"&AS$5&$AN$4+1))","v":{"$error":"#REF!"}},{"$f":"IF(INDIRECT($C$2&$C31&\"!\"&AT$5&$AN$4+1)=\"\",\"★\",INDIRECT($C$2&$C31&\"!\"&AT$5&$AN$4+1))","v":{"$error":"#REF!"}},{"$f":"IF(INDIRECT($C$2&$C31&\"!\"&AU$5&$AN$4+1)=\"\",\"★\",INDIRECT($C$2&$C31&\"!\"&AU$5&$AN$4+1))","v":{"$error":"#REF!"}},null,null,null,null,{"$f":"IF(INDIRECT($C$2&$C31&\"!\"&AZ$5&$AZ$4+1)=\"\",\"★\",INDIRECT($C$2&$C31&\"!\"&AZ$5&$AZ$4+1))","v":{"$error":"#REF!"}},{"$f":"IF(INDIRECT($C$2&$C31&\"!\"&BA$5&$AZ$4+1)=\"\",\"★\",INDIRECT($C$2&$C31&\"!\"&BA$5&$AZ$4+1))","v":{"$error":"#REF!"}},{"$f":"IF(INDIRECT($C$2&$C31&\"!\"&BB$5&$AZ$4+1)=\"\",\"★\",INDIRECT($C$2&$C31&\"!\"&BB$5&$AZ$4+1))","v":{"$error":"#REF!"}},{"$f":"IF(INDIRECT($C$2&$C31&\"!\"&BC$5&$AZ$4+1)=\"\",\"★\",INDIRECT($C$2&$C31&\"!\"&BC$5&$AZ$4+1))","v":{"$error":"#REF!"}},{"$f":"IF(INDIRECT($C$2&$C31&\"!\"&BD$5&$AZ$4+1)=\"\",\"★\",INDIRECT($C$2&$C31&\"!\"&BD$5&$AZ$4+1))","v":{"$error":"#REF!"}},{"$f":"IF(INDIRECT($C$2&$C31&\"!\"&BE$5&$AZ$4+1)=\"\",\"★\",INDIRECT($C$2&$C31&\"!\"&BE$5&$AZ$4+1))","v":{"$error":"#REF!"}},{"$f":"IF(INDIRECT($C$2&$C31&\"!\"&BF$5&$AZ$4+1)=\"\",\"★\",INDIRECT($C$2&$C31&\"!\"&BF$5&$AZ$4+1))","v":{"$error":"#REF!"}},{"$f":"IF(INDIRECT($C$2&$C31&\"!\"&BG$5&$AZ$4+1)=\"\",\"★\",INDIRECT($C$2&$C31&\"!\"&BG$5&$AZ$4+1))","v":{"$error":"#REF!"}},null,null,null,null,{"$f":"IF(INDIRECT($C$2&$C31&\"!\"&BL$5&$BL$4+1)=\"\",\"★\",INDIRECT($C$2&$C31&\"!\"&BL$5&$BL$4+1))","v":{"$error":"#REF!"}},{"$f":"IF(INDIRECT($C$2&$C31&\"!\"&BM$5&$BL$4+1)=\"\",\"★\",INDIRECT($C$2&$C31&\"!\"&BM$5&$BL$4+1))","v":{"$error":"#REF!"}},{"$f":"IF(INDIRECT($C$2&$C31&\"!\"&BN$5&$BL$4+1)=\"\",\"★\",INDIRECT($C$2&$C31&\"!\"&BN$5&$BL$4+1))","v":{"$error":"#REF!"}},{"$f":"IF(INDIRECT($C$2&$C31&\"!\"&BO$5&$BL$4+1)=\"\",\"★\",INDIRECT($C$2&$C31&\"!\"&BO$5&$BL$4+1))","v":{"$error":"#REF!"}},{"$f":"IF(INDIRECT($C$2&$C31&\"!\"&BP$5&$BL$4+1)=\"\",\"★\",INDIRECT($C$2&$C31&\"!\"&BP$5&$BL$4+1))","v":{"$error":"#REF!"}},{"$f":"IF(INDIRECT($C$2&$C31&\"!\"&BQ$5&$BL$4+1)=\"\",\"★\",INDIRECT($C$2&$C31&\"!\"&BQ$5&$BL$4+1))","v":{"$error":"#REF!"}},{"$f":"IF(INDIRECT($C$2&$C31&\"!\"&BR$5&$BL$4+1)=\"\",\"★\",INDIRECT($C$2&$C31&\"!\"&BR$5&$BL$4+1))","v":{"$error":"#REF!"}},{"$f":"IF(INDIRECT($C$2&$C31&\"!\"&BS$5&$BL$4+1)=\"\",\"★\",INDIRECT($C$2&$C31&\"!\"&BS$5&$BL$4+1))","v":{"$error":"#REF!"}},null,null,{"$f":"IF(INDIRECT($C$2&$C31&\"!\"&BV$5&$BV$4+1)=\"\",\"★\",INDIRECT($C$2&$C31&\"!\"&BV$5&$BV$4+1))","v":{"$error":"#REF!"}},{"$f":"IF(INDIRECT($C$2&$C31&\"!\"&BW$5&$BV$4+1)=\"\",\"★\",INDIRECT($C$2&$C31&\"!\"&BW$5&$BV$4+1))","v":{"$error":"#REF!"}},{"$f":"IF(INDIRECT($C$2&$C31&\"!\"&BX$5&$BV$4+1)=\"\",\"★\",INDIRECT($C$2&$C31&\"!\"&BX$5&$BV$4+1))","v":{"$error":"#REF!"}},{"$f":"IF(INDIRECT($C$2&$C31&\"!\"&BY$5&$BV$4+1)=\"\",\"★\",INDIRECT($C$2&$C31&\"!\"&BY$5&$BV$4+1))","v":{"$error":"#REF!"}},{"$f":"IF(INDIRECT($C$2&$C31&\"!\"&BZ$5&$BV$4+1)=\"\",\"★\",INDIRECT($C$2&$C31&\"!\"&BZ$5&$BV$4+1))","v":{"$error":"#REF!"}},{"$f":"IF(INDIRECT($C$2&$C31&\"!\"&CA$5&$BV$4+1)=\"\",\"★\",INDIRECT($C$2&$C31&\"!\"&CA$5&$BV$4+1))","v":{"$error":"#REF!"}},null,{"$f":"IF(INDIRECT($C$2&$C31&\"!\"&CC$5&$CC$4+1)=\"\",\"★\",INDIRECT($C$2&$C31&\"!\"&CC$5&$CC$4+1))","v":{"$error":"#REF!"}},{"$f":"IF(INDIRECT($C$2&$C31&\"!\"&CD$5&$CC$4+1)=\"\",\"★\",INDIRECT($C$2&$C31&\"!\"&CD$5&$CC$4+1))","v":{"$error":"#REF!"}},{"$f":"IF(INDIRECT($C$2&$C31&\"!\"&CE$5&$CC$4+1)=\"\",\"★\",INDIRECT($C$2&$C31&\"!\"&CE$5&$CC$4+1))","v":{"$error":"#REF!"}},{"$f":"IF(INDIRECT($C$2&$C31&\"!\"&CF$5&$CC$4+1)=\"\",\"★\",INDIRECT($C$2&$C31&\"!\"&CF$5&$CC$4+1))","v":{"$error":"#REF!"}},{"$f":"IF(INDIRECT($C$2&$C31&\"!\"&CG$5&$CC$4+1)=\"\",\"★\",INDIRECT($C$2&$C31&\"!\"&CG$5&$CC$4+1))","v":{"$error":"#REF!"}},{"$f":"IF(INDIRECT($C$2&$C31&\"!\"&CH$5&$CC$4+1)=\"\",\"★\",INDIRECT($C$2&$C31&\"!\"&CH$5&$CC$4+1))","v":{"$error":"#REF!"}},null,null,null,null,{"$f":"IF(INDIRECT($C$2&$C31&\"!\"&CM$5&$CM$4+1)=\"\",\"★\",INDIRECT($C$2&$C31&\"!\"&CM$5&$CM$4+1))","v":{"$error":"#REF!"}},{"$f":"IF(INDIRECT($C$2&$C31&\"!\"&CN$5&$CM$4+1)=\"\",\"★\",INDIRECT($C$2&$C31&\"!\"&CN$5&$CM$4+1))","v":{"$error":"#REF!"}},{"$f":"IF(INDIRECT($C$2&$C31&\"!\"&CO$5&$CM$4+1)=\"\",\"★\",INDIRECT($C$2&$C31&\"!\"&CO$5&$CM$4+1))","v":{"$error":"#REF!"}},{"$f":"IF(INDIRECT($C$2&$C31&\"!\"&CP$5&$CM$4+1)=\"\",\"★\",INDIRECT($C$2&$C31&\"!\"&CP$5&$CM$4+1))","v":{"$error":"#REF!"}},{"$f":"IF(INDIRECT($C$2&$C31&\"!\"&CQ$5&$CM$4+1)=\"\",\"★\",INDIRECT($C$2&$C31&\"!\"&CQ$5&$CM$4+1))","v":{"$error":"#REF!"}},{"$f":"IF(INDIRECT($C$2&$C31&\"!\"&CR$5&$CM$4+1)=\"\",\"★\",INDIRECT($C$2&$C31&\"!\"&CR$5&$CM$4+1))","v":{"$error":"#REF!"}},null,null,null,null,{"$f":"IF(INDIRECT($C$2&$C31&\"!\"&CW$5&$CW$4+1)=\"\",\"★\",INDIRECT($C$2&$C31&\"!\"&CW$5&$CW$4+1))","v":{"$error":"#REF!"}},{"$f":"IF(INDIRECT($C$2&$C31&\"!\"&CX$5&$CW$4+1)=\"\",\"★\",INDIRECT($C$2&$C31&\"!\"&CX$5&$CW$4+1))","v":{"$error":"#REF!"}},{"$f":"IF(INDIRECT($C$2&$C31&\"!\"&CY$5&$CW$4+1)=\"\",\"★\",INDIRECT($C$2&$C31&\"!\"&CY$5&$CW$4+1))","v":{"$error":"#REF!"}},{"$f":"IF(INDIRECT($C$2&$C31&\"!\"&CZ$5&$CW$4+1)=\"\",\"★\",INDIRECT($C$2&$C31&\"!\"&CZ$5&$CW$4+1))","v":{"$error":"#REF!"}},{"$f":"IF(INDIRECT($C$2&$C31&\"!\"&DA$5&$CW$4+1)=\"\",\"★\",INDIRECT($C$2&$C31&\"!\"&DA$5&$CW$4+1))","v":{"$error":"#REF!"}},{"$f":"IF(INDIRECT($C$2&$C31&\"!\"&DB$5&$CW$4+1)=\"\",\"★\",INDIRECT($C$2&$C31&\"!\"&DB$5&$CW$4+1))","v":{"$error":"#REF!"}},null,null,null,null,{"$f":"IF(INDIRECT($C$2&$C31&\"!\"&DG$5&$DG$4+1)=\"\",\"★\",INDIRECT($C$2&$C31&\"!\"&DG$5&$DG$4+1))","v":{"$error":"#REF!"}},{"$f":"IF(INDIRECT($C$2&$C31&\"!\"&DH$5&$DG$4+1)=\"\",\"★\",INDIRECT($C$2&$C31&\"!\"&DH$5&$DG$4+1))","v":{"$error":"#REF!"}},{"$f":"IF(INDIRECT($C$2&$C31&\"!\"&DI$5&$DG$4+1)=\"\",\"★\",INDIRECT($C$2&$C31&\"!\"&DI$5&$DG$4+1))","v":{"$error":"#REF!"}},{"$f":"IF(INDIRECT($C$2&$C31&\"!\"&DJ$5&$DG$4+1)=\"\",\"★\",INDIRECT($C$2&$C31&\"!\"&DJ$5&$DG$4+1))","v":{"$error":"#REF!"}},{"$f":"IF(INDIRECT($C$2&$C31&\"!\"&DK$5&$DG$4+1)=\"\",\"★\",INDIRECT($C$2&$C31&\"!\"&DK$5&$DG$4+1))","v":{"$error":"#REF!"}},{"$f":"IF(INDIRECT($C$2&$C31&\"!\"&DL$5&$DG$4+1)=\"\",\"★\",INDIRECT($C$2&$C31&\"!\"&DL$5&$DG$4+1))","v":{"$error":"#REF!"}}]
[null,null,{"$f":"C31","v":"★"},null,null,null,null,null,null,null,null,{"$f":"$C32&\"-3\"","v":"★-3"},{"$f":"IF(INDIRECT($C$2&$C32&\"!\"&M$5&$M$4+2)=\"\",\"★\",INDIRECT($C$2&$C32&\"!\"&M$5&$M$4+2))","v":{"$error":"#REF!"}},{"$f":"IF(INDIRECT($C$2&$C32&\"!\"&N$5&$M$4+2)=\"\",\"★\",INDIRECT($C$2&$C32&\"!\"&N$5&$M$4+2))","v":{"$error":"#REF!"}},{"$f":"IF(INDIRECT($C$2&$C32&\"!\"&O$5&$M$4+2)=\"\",\"★\",INDIRECT($C$2&$C32&\"!\"&O$5&$M$4+2))","v":{"$error":"#REF!"}},{"$f":"IF(INDIRECT($C$2&$C32&\"!\"&P$5&$M$4+2)=\"\",\"★\",INDIRECT($C$2&$C32&\"!\"&P$5&$M$4+2))","v":{"$error":"#REF!"}},{"$f":"IF(INDIRECT($C$2&$C32&\"!\"&Q$5&$M$4+2)=\"\",\"★\",INDIRECT($C$2&$C32&\"!\"&Q$5&$M$4+2))","v":{"$error":"#REF!"}},{"$f":"IF(INDIRECT($C$2&$C32&\"!\"&R$5&$M$4+2)=\"\",\"★\",INDIRECT($C$2&$C32&\"!\"&R$5&$M$4+2))","v":{"$error":"#REF!"}},{"$f":"IF(INDIRECT($C$2&$C32&\"!\"&S$5&$M$4+2)=\"\",\"★\",INDIRECT($C$2&$C32&\"!\"&S$5&$M$4+2))","v":{"$error":"#REF!"}},{"$f":"IF(INDIRECT($C$2&$C32&\"!\"&T$5&$M$4+2)=\"\",\"★\",INDIRECT($C$2&$C32&\"!\"&T$5&$M$4+2))","v":{"$error":"#REF!"}},null,{"$f":"IF(INDIRECT($C$2&$C32&\"!\"&V$5&$V$4+2)=\"\",\"★\",INDIRECT($C$2&$C32&\"!\"&V$5&$V$4+2))","v":{"$error":"#REF!"}},{"$f":"IF(INDIRECT($C$2&$C32&\"!\"&W$5&$V$4+2)=\"\",\"★\",INDIRECT($C$2&$C32&\"!\"&W$5&$V$4+2))","v":{"$error":"#REF!"}},{"$f":"IF(INDIRECT($C$2&$C32&\"!\"&X$5&$V$4+2)=\"\",\"★\",INDIRECT($C$2&$C32&\"!\"&X$5&$V$4+2))","v":{"$error":"#REF!"}},{"$f":"IF(INDIRECT($C$2&$C32&\"!\"&Y$5&$V$4+2)=\"\",\"★\",INDIRECT($C$2&$C32&\"!\"&Y$5&$V$4+2))","v":{"$error":"#REF!"}},{"$f":"IF(INDIRECT($C$2&$C32&\"!\"&Z$5&$V$4+2)=\"\",\"★\",INDIRECT($C$2&$C32&\"!\"&Z$5&$V$4+2))","v":{"$error":"#REF!"}},{"$f":"IF(INDIRECT($C$2&$C32&\"!\"&AA$5&$V$4+2)=\"\",\"★\",INDIRECT($C$2&$C32&\"!\"&AA$5&$V$4+2))","v":{"$error":"#REF!"}},{"$f":"IF(INDIRECT($C$2&$C32&\"!\"&AB$5&$V$4+2)=\"\",\"★\",INDIRECT($C$2&$C32&\"!\"&AB$5&$V$4+2))","v":{"$error":"#REF!"}},{"$f":"IF(INDIRECT($C$2&$C32&\"!\"&AC$5&$V$4+2)=\"\",\"★\",INDIRECT($C$2&$C32&\"!\"&AC$5&$V$4+2))","v":{"$error":"#REF!"}},null,null,null,null,null,null,null,null,null,null,{"$f":"IF(INDIRECT($C$2&$C32&\"!\"&AN$5&$AN$4+2)=\"\",\"★\",INDIRECT($C$2&$C32&\"!\"&AN$5&$AN$4+2))","v":{"$error":"#REF!"}},{"$f":"IF(INDIRECT($C$2&$C32&\"!\"&AO$5&$AN$4+2)=\"\",\"★\",INDIRECT($C$2&$C32&\"!\"&AO$5&$AN$4+2))","v":{"$error":"#REF!"}},{"$f":"IF(INDIRECT($C$2&$C32&\"!\"&AP$5&$AN$4+2)=\"\",\"★\",INDIRECT($C$2&$C32&\"!\"&AP$5&$AN$4+2))","v":{"$error":"#REF!"}},{"$f":"IF(INDIRECT($C$2&$C32&\"!\"&AQ$5&$AN$4+2)=\"\",\"★\",INDIRECT($C$2&$C32&\"!\"&AQ$5&$AN$4+2))","v":{"$error":"#REF!"}},{"$f":"IF(INDIRECT($C$2&$C32&\"!\"&AR$5&$AN$4+2)=\"\",\"★\",INDIRECT($C$2&$C32&\"!\"&AR$5&$AN$4+2))","v":{"$error":"#REF!"}},{"$f":"IF(INDIRECT($C$2&$C32&\"!\"&AS$5&$AN$4+2)=\"\",\"★\",INDIRECT($C$2&$C32&\"!\"&AS$5&$AN$4+2))","v":{"$error":"#REF!"}},{"$f":"IF(INDIRECT($C$2&$C32&\"!\"&AT$5&$AN$4+2)=\"\",\"★\",INDIRECT($C$2&$C32&\"!\"&AT$5&$AN$4+2))","v":{"$error":"#REF!"}},{"$f":"IF(INDIRECT($C$2&$C32&\"!\"&AU$5&$AN$4+2)=\"\",\"★\",INDIRECT($C$2&$C32&\"!\"&AU$5&$AN$4+2))","v":{"$error":"#REF!"}},null,null,null,null,{"$f":"IF(INDIRECT($C$2&$C32&\"!\"&AZ$5&$AZ$4+2)=\"\",\"★\",INDIRECT($C$2&$C32&\"!\"&AZ$5&$AZ$4+2))","v":{"$error":"#REF!"}},{"$f":"IF(INDIRECT($C$2&$C32&\"!\"&BA$5&$AZ$4+2)=\"\",\"★\",INDIRECT($C$2&$C32&\"!\"&BA$5&$AZ$4+2))","v":{"$error":"#REF!"}},{"$f":"IF(INDIRECT($C$2&$C32&\"!\"&BB$5&$AZ$4+2)=\"\",\"★\",INDIRECT($C$2&$C32&\"!\"&BB$5&$AZ$4+2))","v":{"$error":"#REF!"}},{"$f":"IF(INDIRECT($C$2&$C32&\"!\"&BC$5&$AZ$4+2)=\"\",\"★\",INDIRECT($C$2&$C32&\"!\"&BC$5&$AZ$4+2))","v":{"$error":"#REF!"}},{"$f":"IF(INDIRECT($C$2&$C32&\"!\"&BD$5&$AZ$4+2)=\"\",\"★\",INDIRECT($C$2&$C32&\"!\"&BD$5&$AZ$4+2))","v":{"$error":"#REF!"}},{"$f":"IF(INDIRECT($C$2&$C32&\"!\"&BE$5&$AZ$4+2)=\"\",\"★\",INDIRECT($C$2&$C32&\"!\"&BE$5&$AZ$4+2))","v":{"$error":"#REF!"}},{"$f":"IF(INDIRECT($C$2&$C32&\"!\"&BF$5&$AZ$4+2)=\"\",\"★\",INDIRECT($C$2&$C32&\"!\"&BF$5&$AZ$4+2))","v":{"$error":"#REF!"}},{"$f":"IF(INDIRECT($C$2&$C32&\"!\"&BG$5&$AZ$4+2)=\"\",\"★\",INDIRECT($C$2&$C32&\"!\"&BG$5&$AZ$4+2))","v":{"$error":"#REF!"}},null,null,null,null,{"$f":"IF(INDIRECT($C$2&$C32&\"!\"&BL$5&$BL$4+2)=\"\",\"★\",INDIRECT($C$2&$C32&\"!\"&BL$5&$BL$4+2))","v":{"$error":"#REF!"}},{"$f":"IF(INDIRECT($C$2&$C32&\"!\"&BM$5&$BL$4+2)=\"\",\"★\",INDIRECT($C$2&$C32&\"!\"&BM$5&$BL$4+2))","v":{"$error":"#REF!"}},{"$f":"IF(INDIRECT($C$2&$C32&\"!\"&BN$5&$BL$4+2)=\"\",\"★\",INDIRECT($C$2&$C32&\"!\"&BN$5&$BL$4+2))","v":{"$error":"#REF!"}},{"$f":"IF(INDIRECT($C$2&$C32&\"!\"&BO$5&$BL$4+2)=\"\",\"★\",INDIRECT($C$2&$C32&\"!\"&BO$5&$BL$4+2))","v":{"$error":"#REF!"}},{"$f":"IF(INDIRECT($C$2&$C32&\"!\"&BP$5&$BL$4+2)=\"\",\"★\",INDIRECT($C$2&$C32&\"!\"&BP$5&$BL$4+2))","v":{"$error":"#REF!"}},{"$f":"IF(INDIRECT($C$2&$C32&\"!\"&BQ$5&$BL$4+2)=\"\",\"★\",INDIRECT($C$2&$C32&\"!\"&BQ$5&$BL$4+2))","v":{"$error":"#REF!"}},{"$f":"IF(INDIRECT($C$2&$C32&\"!\"&BR$5&$BL$4+2)=\"\",\"★\",INDIRECT($C$2&$C32&\"!\"&BR$5&$BL$4+2))","v":{"$error":"#REF!"}},{"$f":"IF(INDIRECT($C$2&$C32&\"!\"&BS$5&$BL$4+2)=\"\",\"★\",INDIRECT($C$2&$C32&\"!\"&BS$5&$BL$4+2))","v":{"$error":"#REF!"}},null,null,{"$f":"IF(INDIRECT($C$2&$C32&\"!\"&BV$5&$BV$4+2)=\"\",\"★\",INDIRECT($C$2&$C32&\"!\"&BV$5&$BV$4+2))","v":{"$error":"#REF!"}},{"$f":"IF(INDIRECT($C$2&$C32&\"!\"&BW$5&$BV$4+2)=\"\",\"★\",INDIRECT($C$2&$C32&\"!\"&BW$5&$BV$4+2))","v":{"$error":"#REF!"}},{"$f":"IF(INDIRECT($C$2&$C32&\"!\"&BX$5&$BV$4+2)=\"\",\"★\",INDIRECT($C$2&$C32&\"!\"&BX$5&$BV$4+2))","v":{"$error":"#REF!"}},{"$f":"IF(INDIRECT($C$2&$C32&\"!\"&BY$5&$BV$4+2)=\"\",\"★\",INDIRECT($C$2&$C32&\"!\"&BY$5&$BV$4+2))","v":{"$error":"#REF!"}},{"$f":"IF(INDIRECT($C$2&$C32&\"!\"&BZ$5&$BV$4+2)=\"\",\"★\",INDIRECT($C$2&$C32&\"!\"&BZ$5&$BV$4+2))","v":{"$error":"#REF!"}},{"$f":"IF(INDIRECT($C$2&$C32&\"!\"&CA$5&$BV$4+2)=\"\",\"★\",INDIRECT($C$2&$C32&\"!\"&CA$5&$BV$4+2))","v":{"$error":"#REF!"}},null,{"$f":"IF(INDIRECT($C$2&$C32&\"!\"&CC$5&$CC$4+2)=\"\",\"★\",INDIRECT($C$2&$C32&\"!\"&CC$5&$CC$4+2))","v":{"$error":"#REF!"}},{"$f":"IF(INDIRECT($C$2&$C32&\"!\"&CD$5&$CC$4+2)=\"\",\"★\",INDIRECT($C$2&$C32&\"!\"&CD$5&$CC$4+2))","v":{"$error":"#REF!"}},{"$f":"IF(INDIRECT($C$2&$C32&\"!\"&CE$5&$CC$4+2)=\"\",\"★\",INDIRECT($C$2&$C32&\"!\"&CE$5&$CC$4+2))","v":{"$error":"#REF!"}},{"$f":"IF(INDIRECT($C$2&$C32&\"!\"&CF$5&$CC$4+2)=\"\",\"★\",INDIRECT($C$2&$C32&\"!\"&CF$5&$CC$4+2))","v":{"$error":"#REF!"}},{"$f":"IF(INDIRECT($C$2&$C32&\"!\"&CG$5&$CC$4+2)=\"\",\"★\",INDIRECT($C$2&$C32&\"!\"&CG$5&$CC$4+2))","v":{"$error":"#REF!"}},{"$f":"IF(INDIRECT($C$2&$C32&\"!\"&CH$5&$CC$4+2)=\"\",\"★\",INDIRECT($C$2&$C32&\"!\"&CH$5&$CC$4+2))","v":{"$error":"#REF!"}},null,null,null,null,{"$f":"IF(INDIRECT($C$2&$C32&\"!\"&CM$5&$CM$4+2)=\"\",\"★\",INDIRECT($C$2&$C32&\"!\"&CM$5&$CM$4+2))","v":{"$error":"#REF!"}},{"$f":"IF(INDIRECT($C$2&$C32&\"!\"&CN$5&$CM$4+2)=\"\",\"★\",INDIRECT($C$2&$C32&\"!\"&CN$5&$CM$4+2))","v":{"$error":"#REF!"}},{"$f":"IF(INDIRECT($C$2&$C32&\"!\"&CO$5&$CM$4+2)=\"\",\"★\",INDIRECT($C$2&$C32&\"!\"&CO$5&$CM$4+2))","v":{"$error":"#REF!"}},{"$f":"IF(INDIRECT($C$2&$C32&\"!\"&CP$5&$CM$4+2)=\"\",\"★\",INDIRECT($C$2&$C32&\"!\"&CP$5&$CM$4+2))","v":{"$error":"#REF!"}},{"$f":"IF(INDIRECT($C$2&$C32&\"!\"&CQ$5&$CM$4+2)=\"\",\"★\",INDIRECT($C$2&$C32&\"!\"&CQ$5&$CM$4+2))","v":{"$error":"#REF!"}},{"$f":"IF(INDIRECT($C$2&$C32&\"!\"&CR$5&$CM$4+2)=\"\",\"★\",INDIRECT($C$2&$C32&\"!\"&CR$5&$CM$4+2))","v":{"$error":"#REF!"}},null,null,null,null,{"$f":"IF(INDIRECT($C$2&$C32&\"!\"&CW$5&$CW$4+2)=\"\",\"★\",INDIRECT($C$2&$C32&\"!\"&CW$5&$CW$4+2))","v":{"$error":"#REF!"}},{"$f":"IF(INDIRECT($C$2&$C32&\"!\"&CX$5&$CW$4+2)=\"\",\"★\",INDIRECT($C$2&$C32&\"!\"&CX$5&$CW$4+2))","v":{"$error":"#REF!"}},{"$f":"IF(INDIRECT($C$2&$C32&\"!\"&CY$5&$CW$4+2)=\"\",\"★\",INDIRECT($C$2&$C32&\"!\"&CY$5&$CW$4+2))","v":{"$error":"#REF!"}},{"$f":"IF(INDIRECT($C$2&$C32&\"!\"&CZ$5&$CW$4+2)=\"\",\"★\",INDIRECT($C$2&$C32&\"!\"&CZ$5&$CW$4+2))","v":{"$error":"#REF!"}},{"$f":"IF(INDIRECT($C$2&$C32&\"!\"&DA$5&$CW$4+2)=\"\",\"★\",INDIRECT($C$2&$C32&\"!\"&DA$5&$CW$4+2))","v":{"$error":"#REF!"}},{"$f":"IF(INDIRECT($C$2&$C32&\"!\"&DB$5&$CW$4+2)=\"\",\"★\",INDIRECT($C$2&$C32&\"!\"&DB$5&$CW$4+2))","v":{"$error":"#REF!"}},null,null,null,null,{"$f":"IF(INDIRECT($C$2&$C32&\"!\"&DG$5&$DG$4+2)=\"\",\"★\",INDIRECT($C$2&$C32&\"!\"&DG$5&$DG$4+2))","v":{"$error":"#REF!"}},{"$f":"IF(INDIRECT($C$2&$C32&\"!\"&DH$5&$DG$4+2)=\"\",\"★\",INDIRECT($C$2&$C32&\"!\"&DH$5&$DG$4+2))","v":{"$error":"#REF!"}},{"$f":"IF(INDIRECT($C$2&$C32&\"!\"&DI$5&$DG$4+2)=\"\",\"★\",INDIRECT($C$2&$C32&\"!\"&DI$5&$DG$4+2))","v":{"$error":"#REF!"}},{"$f":"IF(INDIRECT($C$2&$C32&\"!\"&DJ$5&$DG$4+2)=\"\",\"★\",INDIRECT($C$2&$C32&\"!\"&DJ$5&$DG$4+2))","v":{"$error":"#REF!"}},{"$f":"IF(INDIRECT($C$2&$C32&\"!\"&DK$5&$DG$4+2)=\"\",\"★\",INDIRECT($C$2&$C32&\"!\"&DK$5&$DG$4+2))","v":{"$error":"#REF!"}},{"$f":"IF(INDIRECT($C$2&$C32&\"!\"&DL$5&$DG$4+2)=\"\",\"★\",INDIRECT($C$2&$C32&\"!\"&DL$5&$DG$4+2))","v":{"$error":"#REF!"}}]
[null,null,"★",null,null,null,null,null,null,null,null,{"$f":"$C33&\"-4\"","v":"★-4"},{"$f":"IF(INDIRECT($C$2&$C33&\"!\"&M$5&$M$4+3)=\"\",\"★\",INDIRECT($C$2&$C33&\"!\"&M$5&$M$4+3))","v":{"$error":"#REF!"}},{"$f":"IF(INDIRECT($C$2&$C33&\"!\"&N$5&$M$4+3)=\"\",\"★\",INDIRECT($C$2&$C33&\"!\"&N$5&$M$4+3))","v":{"$error":"#REF!"}},{"$f":"IF(INDIRECT($C$2&$C33&\"!\"&O$5&$M$4+3)=\"\",\"★\",INDIRECT($C$2&$C33&\"!\"&O$5&$M$4+3))","v":{"$error":"#REF!"}},{"$f":"IF(INDIRECT($C$2&$C33&\"!\"&P$5&$M$4+3)=\"\",\"★\",INDIRECT($C$2&$C33&\"!\"&P$5&$M$4+3))","v":{"$error":"#REF!"}},{"$f":"IF(INDIRECT($C$2&$C33&\"!\"&Q$5&$M$4+3)=\"\",\"★\",INDIRECT($C$2&$C33&\"!\"&Q$5&$M$4+3))","v":{"$error":"#REF!"}},{"$f":"IF(INDIRECT($C$2&$C33&\"!\"&R$5&$M$4+3)=\"\",\"★\",INDIRECT($C$2&$C33&\"!\"&R$5&$M$4+3))","v":{"$error":"#REF!"}},{"$f":"IF(INDIRECT($C$2&$C33&\"!\"&S$5&$M$4+3)=\"\",\"★\",INDIRECT($C$2&$C33&\"!\"&S$5&$M$4+3))","v":{"$error":"#REF!"}},{"$f":"IF(INDIRECT($C$2&$C33&\"!\"&T$5&$M$4+3)=\"\",\"★\",INDIRECT($C$2&$C33&\"!\"&T$5&$M$4+3))","v":{"$error":"#REF!"}},null,{"$f":"IF(INDIRECT($C$2&$C33&\"!\"&V$5&$V$4+3)=\"\",\"★\",INDIRECT($C$2&$C33&\"!\"&V$5&$V$4+3))","v":{"$error":"#REF!"}},{"$f":"IF(INDIRECT($C$2&$C33&\"!\"&W$5&$V$4+3)=\"\",\"★\",INDIRECT($C$2&$C33&\"!\"&W$5&$V$4+3))","v":{"$error":"#REF!"}},{"$f":"IF(INDIRECT($C$2&$C33&\"!\"&X$5&$V$4+3)=\"\",\"★\",INDIRECT($C$2&$C33&\"!\"&X$5&$V$4+3))","v":{"$error":"#REF!"}},{"$f":"IF(INDIRECT($C$2&$C33&\"!\"&Y$5&$V$4+3)=\"\",\"★\",INDIRECT($C$2&$C33&\"!\"&Y$5&$V$4+3))","v":{"$error":"#REF!"}},{"$f":"IF(INDIRECT($C$2&$C33&\"!\"&Z$5&$V$4+3)=\"\",\"★\",INDIRECT($C$2&$C33&\"!\"&Z$5&$V$4+3))","v":{"$error":"#REF!"}},{"$f":"IF(INDIRECT($C$2&$C33&\"!\"&AA$5&$V$4+3)=\"\",\"★\",INDIRECT($C$2&$C33&\"!\"&AA$5&$V$4+3))","v":{"$error":"#REF!"}},{"$f":"IF(INDIRECT($C$2&$C33&\"!\"&AB$5&$V$4+3)=\"\",\"★\",INDIRECT($C$2&$C33&\"!\"&AB$5&$V$4+3))","v":{"$error":"#REF!"}},{"$f":"IF(INDIRECT($C$2&$C33&\"!\"&AC$5&$V$4+3)=\"\",\"★\",INDIRECT($C$2&$C33&\"!\"&AC$5&$V$4+3))","v":{"$error":"#REF!"}},null,null,null,null,null,null,null,null,null,null,{"$f":"IF(INDIRECT($C$2&$C33&\"!\"&AN$5&$AN$4+3)=\"\",\"★\",INDIRECT($C$2&$C33&\"!\"&AN$5&$AN$4+3))","v":{"$error":"#REF!"}},{"$f":"IF(INDIRECT($C$2&$C33&\"!\"&AO$5&$AN$4+3)=\"\",\"★\",INDIRECT($C$2&$C33&\"!\"&AO$5&$AN$4+3))","v":{"$error":"#REF!"}},{"$f":"IF(INDIRECT($C$2&$C33&\"!\"&AP$5&$AN$4+3)=\"\",\"★\",INDIRECT($C$2&$C33&\"!\"&AP$5&$AN$4+3))","v":{"$error":"#REF!"}},{"$f":"IF(INDIRECT($C$2&$C33&\"!\"&AQ$5&$AN$4+3)=\"\",\"★\",INDIRECT($C$2&$C33&\"!\"&AQ$5&$AN$4+3))","v":{"$error":"#REF!"}},{"$f":"IF(INDIRECT($C$2&$C33&\"!\"&AR$5&$AN$4+3)=\"\",\"★\",INDIRECT($C$2&$C33&\"!\"&AR$5&$AN$4+3))","v":{"$error":"#REF!"}},{"$f":"IF(INDIRECT($C$2&$C33&\"!\"&AS$5&$AN$4+3)=\"\",\"★\",INDIRECT($C$2&$C33&\"!\"&AS$5&$AN$4+3))","v":{"$error":"#REF!"}},{"$f":"IF(INDIRECT($C$2&$C33&\"!\"&AT$5&$AN$4+3)=\"\",\"★\",INDIRECT($C$2&$C33&\"!\"&AT$5&$AN$4+3))","v":{"$error":"#REF!"}},{"$f":"IF(INDIRECT($C$2&$C33&\"!\"&AU$5&$AN$4+3)=\"\",\"★\",INDIRECT($C$2&$C33&\"!\"&AU$5&$AN$4+3))","v":{"$error":"#REF!"}},null,null,null,null,{"$f":"IF(INDIRECT($C$2&$C33&\"!\"&AZ$5&$AZ$4+3)=\"\",\"★\",INDIRECT($C$2&$C33&\"!\"&AZ$5&$AZ$4+3))","v":{"$error":"#REF!"}},{"$f":"IF(INDIRECT($C$2&$C33&\"!\"&BA$5&$AZ$4+3)=\"\",\"★\",INDIRECT($C$2&$C33&\"!\"&BA$5&$AZ$4+3))","v":{"$error":"#REF!"}},{"$f":"IF(INDIRECT($C$2&$C33&\"!\"&BB$5&$AZ$4+3)=\"\",\"★\",INDIRECT($C$2&$C33&\"!\"&BB$5&$AZ$4+3))","v":{"$error":"#REF!"}},{"$f":"IF(INDIRECT($C$2&$C33&\"!\"&BC$5&$AZ$4+3)=\"\",\"★\",INDIRECT($C$2&$C33&\"!\"&BC$5&$AZ$4+3))","v":{"$error":"#REF!"}},{"$f":"IF(INDIRECT($C$2&$C33&\"!\"&BD$5&$AZ$4+3)=\"\",\"★\",INDIRECT($C$2&$C33&\"!\"&BD$5&$AZ$4+3))","v":{"$error":"#REF!"}},{"$f":"IF(INDIRECT($C$2&$C33&\"!\"&BE$5&$AZ$4+3)=\"\",\"★\",INDIRECT($C$2&$C33&\"!\"&BE$5&$AZ$4+3))","v":{"$error":"#REF!"}},{"$f":"IF(INDIRECT($C$2&$C33&\"!\"&BF$5&$AZ$4+3)=\"\",\"★\",INDIRECT($C$2&$C33&\"!\"&BF$5&$AZ$4+3))","v":{"$error":"#REF!"}},{"$f":"IF(INDIRECT($C$2&$C33&\"!\"&BG$5&$AZ$4+3)=\"\",\"★\",INDIRECT($C$2&$C33&\"!\"&BG$5&$AZ$4+3))","v":{"$error":"#REF!"}},null,null,null,null,{"$f":"IF(INDIRECT($C$2&$C33&\"!\"&BL$5&$BL$4+3)=\"\",\"★\",INDIRECT($C$2&$C33&\"!\"&BL$5&$BL$4+3))","v":{"$error":"#REF!"}},{"$f":"IF(INDIRECT($C$2&$C33&\"!\"&BM$5&$BL$4+3)=\"\",\"★\",INDIRECT($C$2&$C33&\"!\"&BM$5&$BL$4+3))","v":{"$error":"#REF!"}},{"$f":"IF(INDIRECT($C$2&$C33&\"!\"&BN$5&$BL$4+3)=\"\",\"★\",INDIRECT($C$2&$C33&\"!\"&BN$5&$BL$4+3))","v":{"$error":"#REF!"}},{"$f":"IF(INDIRECT($C$2&$C33&\"!\"&BO$5&$BL$4+3)=\"\",\"★\",INDIRECT($C$2&$C33&\"!\"&BO$5&$BL$4+3))","v":{"$error":"#REF!"}},{"$f":"IF(INDIRECT($C$2&$C33&\"!\"&BP$5&$BL$4+3)=\"\",\"★\",INDIRECT($C$2&$C33&\"!\"&BP$5&$BL$4+3))","v":{"$error":"#REF!"}},{"$f":"IF(INDIRECT($C$2&$C33&\"!\"&BQ$5&$BL$4+3)=\"\",\"★\",INDIRECT($C$2&$C33&\"!\"&BQ$5&$BL$4+3))","v":{"$error":"#REF!"}},{"$f":"IF(INDIRECT($C$2&$C33&\"!\"&BR$5&$BL$4+3)=\"\",\"★\",INDIRECT($C$2&$C33&\"!\"&BR$5&$BL$4+3))","v":{"$error":"#REF!"}},{"$f":"IF(INDIRECT($C$2&$C33&\"!\"&BS$5&$BL$4+3)=\"\",\"★\",INDIRECT($C$2&$C33&\"!\"&BS$5&$BL$4+3))","v":{"$error":"#REF!"}},null,null,{"$f":"IF(INDIRECT($C$2&$C33&\"!\"&BV$5&$BV$4+3)=\"\",\"★\",INDIRECT($C$2&$C33&\"!\"&BV$5&$BV$4+3))","v":{"$error":"#REF!"}},{"$f":"IF(INDIRECT($C$2&$C33&\"!\"&BW$5&$BV$4+3)=\"\",\"★\",INDIRECT($C$2&$C33&\"!\"&BW$5&$BV$4+3))","v":{"$error":"#REF!"}},{"$f":"IF(INDIRECT($C$2&$C33&\"!\"&BX$5&$BV$4+3)=\"\",\"★\",INDIRECT($C$2&$C33&\"!\"&BX$5&$BV$4+3))","v":{"$error":"#REF!"}},{"$f":"IF(INDIRECT($C$2&$C33&\"!\"&BY$5&$BV$4+3)=\"\",\"★\",INDIRECT($C$2&$C33&\"!\"&BY$5&$BV$4+3))","v":{"$error":"#REF!"}},{"$f":"IF(INDIRECT($C$2&$C33&\"!\"&BZ$5&$BV$4+3)=\"\",\"★\",INDIRECT($C$2&$C33&\"!\"&BZ$5&$BV$4+3))","v":{"$error":"#REF!"}},{"$f":"IF(INDIRECT($C$2&$C33&\"!\"&CA$5&$BV$4+3)=\"\",\"★\",INDIRECT($C$2&$C33&\"!\"&CA$5&$BV$4+3))","v":{"$error":"#REF!"}},null,{"$f":"IF(INDIRECT($C$2&$C33&\"!\"&CC$5&$CC$4+3)=\"\",\"★\",INDIRECT($C$2&$C33&\"!\"&CC$5&$CC$4+3))","v":{"$error":"#REF!"}},{"$f":"IF(INDIRECT($C$2&$C33&\"!\"&CD$5&$CC$4+3)=\"\",\"★\",INDIRECT($C$2&$C33&\"!\"&CD$5&$CC$4+3))","v":{"$error":"#REF!"}},{"$f":"IF(INDIRECT($C$2&$C33&\"!\"&CE$5&$CC$4+3)=\"\",\"★\",INDIRECT($C$2&$C33&\"!\"&CE$5&$CC$4+3))","v":{"$error":"#REF!"}},{"$f":"IF(INDIRECT($C$2&$C33&\"!\"&CF$5&$CC$4+3)=\"\",\"★\",INDIRECT($C$2&$C33&\"!\"&CF$5&$CC$4+3))","v":{"$error":"#REF!"}},{"$f":"IF(INDIRECT($C$2&$C33&\"!\"&CG$5&$CC$4+3)=\"\",\"★\",INDIRECT($C$2&$C33&\"!\"&CG$5&$CC$4+3))","v":{"$error":"#REF!"}},{"$f":"IF(INDIRECT($C$2&$C33&\"!\"&CH$5&$CC$4+3)=\"\",\"★\",INDIRECT($C$2&$C33&\"!\"&CH$5&$CC$4+3))","v":{"$error":"#REF!"}},null,null,null,null,{"$f":"IF(INDIRECT($C$2&$C33&\"!\"&CM$5&$CM$4+3)=\"\",\"★\",INDIRECT($C$2&$C33&\"!\"&CM$5&$CM$4+3))","v":{"$error":"#REF!"}},{"$f":"IF(INDIRECT($C$2&$C33&\"!\"&CN$5&$CM$4+3)=\"\",\"★\",INDIRECT($C$2&$C33&\"!\"&CN$5&$CM$4+3))","v":{"$error":"#REF!"}},{"$f":"IF(INDIRECT($C$2&$C33&\"!\"&CO$5&$CM$4+3)=\"\",\"★\",INDIRECT($C$2&$C33&\"!\"&CO$5&$CM$4+3))","v":{"$error":"#REF!"}},{"$f":"IF(INDIRECT($C$2&$C33&\"!\"&CP$5&$CM$4+3)=\"\",\"★\",INDIRECT($C$2&$C33&\"!\"&CP$5&$CM$4+3))","v":{"$error":"#REF!"}},{"$f":"IF(INDIRECT($C$2&$C33&\"!\"&CQ$5&$CM$4+3)=\"\",\"★\",INDIRECT($C$2&$C33&\"!\"&CQ$5&$CM$4+3))","v":{"$error":"#REF!"}},{"$f":"IF(INDIRECT($C$2&$C33&\"!\"&CR$5&$CM$4+3)=\"\",\"★\",INDIRECT($C$2&$C33&\"!\"&CR$5&$CM$4+3))","v":{"$error":"#REF!"}},null,null,null,null,{"$f":"IF(INDIRECT($C$2&$C33&\"!\"&CW$5&$CW$4+3)=\"\",\"★\",INDIRECT($C$2&$C33&\"!\"&CW$5&$CW$4+3))","v":{"$error":"#REF!"}},{"$f":"IF(INDIRECT($C$2&$C33&\"!\"&CX$5&$CW$4+3)=\"\",\"★\",INDIRECT($C$2&$C33&\"!\"&CX$5&$CW$4+3))","v":{"$error":"#REF!"}},{"$f":"IF(INDIRECT($C$2&$C33&\"!\"&CY$5&$CW$4+3)=\"\",\"★\",INDIRECT($C$2&$C33&\"!\"&CY$5&$CW$4+3))","v":{"$error":"#REF!"}},{"$f":"IF(INDIRECT($C$2&$C33&\"!\"&CZ$5&$CW$4+3)=\"\",\"★\",INDIRECT($C$2&$C33&\"!\"&CZ$5&$CW$4+3))","v":{"$error":"#REF!"}},{"$f":"IF(INDIRECT($C$2&$C33&\"!\"&DA$5&$CW$4+3)=\"\",\"★\",INDIRECT($C$2&$C33&\"!\"&DA$5&$CW$4+3))","v":{"$error":"#REF!"}},{"$f":"IF(INDIRECT($C$2&$C33&\"!\"&DB$5&$CW$4+3)=\"\",\"★\",INDIRECT($C$2&$C33&\"!\"&DB$5&$CW$4+3))","v":{"$error":"#REF!"}},null,null,null,null,{"$f":"IF(INDIRECT($C$2&$C33&\"!\"&DG$5&$DG$4+3)=\"\",\"★\",INDIRECT($C$2&$C33&\"!\"&DG$5&$DG$4+3))","v":{"$error":"#REF!"}},{"$f":"IF(INDIRECT($C$2&$C33&\"!\"&DH$5&$DG$4+3)=\"\",\"★\",INDIRECT($C$2&$C33&\"!\"&DH$5&$DG$4+3))","v":{"$error":"#REF!"}},{"$f":"IF(INDIRECT($C$2&$C33&\"!\"&DI$5&$DG$4+3)=\"\",\"★\",INDIRECT($C$2&$C33&\"!\"&DI$5&$DG$4+3))","v":{"$error":"#REF!"}},{"$f":"IF(INDIRECT($C$2&$C33&\"!\"&DJ$5&$DG$4+3)=\"\",\"★\",INDIRECT($C$2&$C33&\"!\"&DJ$5&$DG$4+3))","v":{"$error":"#REF!"}},{"$f":"IF(INDIRECT($C$2&$C33&\"!\"&DK$5&$DG$4+3)=\"\",\"★\",INDIRECT($C$2&$C33&\"!\"&DK$5&$DG$4+3))","v":{"$error":"#REF!"}},{"$f":"IF(INDIRECT($C$2&$C33&\"!\"&DL$5&$DG$4+3)=\"\",\"★\",INDIRECT($C$2&$C33&\"!\"&DL$5&$DG$4+3))","v":{"$error":"#REF!"}}]
[null,null,{"$f":"IF(INDIRECT($B$2&\"B27\")=\"\",\"★\",INDIRECT($B$2&\"B27\"))","v":"★"},{"$f":"IF(INDIRECT($C$2&$C34&\"!K12\")=\"\",\"★\",INDIRECT($C$2&$C34&\"!K12\"))","v":{"$error":"#REF!"}},{"$f":"IF(INDIRECT($C$2&$C34&\"!L12\")=\"\",\"★\",INDIRECT($C$2&$C34&\"!L12\"))","v":{"$error":"#REF!"}},{"$f":"IF(INDIRECT($C$2&$C34&\"!D13\")=\"\",\"★\",INDIRECT($C$2&$C34&\"!D13\"))","v":{"$error":"#REF!"}},{"$f":"IF(INDIRECT($C$2&$C34&\"!D14\")=\"\",\"★\",INDIRECT($C$2&$C34&\"!D14\"))","v":{"$error":"#REF!"}},{"$f":"IF(INDIRECT($C$2&$C34&\"!D15\")=\"\",\"★\",INDIRECT($C$2&$C34&\"!D15\"))","v":{"$error":"#REF!"}},{"$f":"IF(INDIRECT($C$2&$C34&\"!D16\")=\"\",\"★\",INDIRECT($C$2&$C34&\"!D16\"))","v":{"$error":"#REF!"}},{"$f":"IF(INDIRECT($C$2&$C34&\"!D17\")=\"\",\"★\",INDIRECT($C$2&$C34&\"!D17\"))","v":{"$error":"#REF!"}},{"$f":"IF(INDIRECT($C$2&$C34&\"!D18\")=\"\",\"★\",INDIRECT($C$2&$C34&\"!D18\"))","v":{"$error":"#REF!"}},{"$f":"$C34&\"-1\"","v":"★-1"},{"$f":"IF(INDIRECT($C$2&$C34&\"!\"&M$5&$M$4)=\"\",\"★\",INDIRECT($C$2&$C34&\"!\"&M$5&$M$4))","v":{"$error":"#REF!"}},{"$f":"IF(INDIRECT($C$2&$C34&\"!\"&N$5&$M$4)=\"\",\"★\",INDIRECT($C$2&$C34&\"!\"&N$5&$M$4))","v":{"$error":"#REF!"}},{"$f":"IF(INDIRECT($C$2&$C34&\"!\"&O$5&$M$4)=\"\",\"★\",INDIRECT($C$2&$C34&\"!\"&O$5&$M$4))","v":{"$error":"#REF!"}},{"$f":"IF(INDIRECT($C$2&$C34&\"!\"&P$5&$M$4)=\"\",\"★\",INDIRECT($C$2&$C34&\"!\"&P$5&$M$4))","v":{"$error":"#REF!"}},{"$f":"IF(INDIRECT($C$2&$C34&\"!\"&Q$5&$M$4)=\"\",\"★\",INDIRECT($C$2&$C34&\"!\"&Q$5&$M$4))","v":{"$error":"#REF!"}},{"$f":"IF(INDIRECT($C$2&$C34&\"!\"&R$5&$M$4)=\"\",\"★\",INDIRECT($C$2&$C34&\"!\"&R$5&$M$4))","v":{"$error":"#REF!"}},{"$f":"IF(INDIRECT($C$2&$C34&\"!\"&S$5&$M$4)=\"\",\"★\",INDIRECT($C$2&$C34&\"!\"&S$5&$M$4))","v":{"$error":"#REF!"}},{"$f":"IF(INDIRECT($C$2&$C34&\"!\"&T$5&$M$4)=\"\",\"★\",INDIRECT($C$2&$C34&\"!\"&T$5&$M$4))","v":{"$error":"#REF!"}},{"$f":"IF(INDIRECT($C$2&$C34&\"!\"&U$5&$M$4)=\"\",\"★\",INDIRECT($C$2&$C34&\"!\"&U$5&$M$4))","v":{"$error":"#REF!"}},{"$f":"IF(INDIRECT($C$2&$C34&\"!\"&V$5&$V$4)=\"\",\"★\",INDIRECT($C$2&$C34&\"!\"&V$5&$V$4))","v":{"$error":"#REF!"}},{"$f":"IF(INDIRECT($C$2&$C34&\"!\"&W$5&$V$4)=\"\",\"★\",INDIRECT($C$2&$C34&\"!\"&W$5&$V$4))","v":{"$error":"#REF!"}},{"$f":"IF(INDIRECT($C$2&$C34&\"!\"&X$5&$V$4)=\"\",\"★\",INDIRECT($C$2&$C34&\"!\"&X$5&$V$4))","v":{"$error":"#REF!"}},{"$f":"IF(INDIRECT($C$2&$C34&\"!\"&Y$5&$V$4)=\"\",\"★\",INDIRECT($C$2&$C34&\"!\"&Y$5&$V$4))","v":{"$error":"#REF!"}},{"$f":"IF(INDIRECT($C$2&$C34&\"!\"&Z$5&$V$4)=\"\",\"★\",INDIRECT($C$2&$C34&\"!\"&Z$5&$V$4))","v":{"$error":"#REF!"}},{"$f":"IF(INDIRECT($C$2&$C34&\"!\"&AA$5&$V$4)=\"\",\"★\",INDIRECT($C$2&$C34&\"!\"&AA$5&$V$4))","v":{"$error":"#REF!"}},{"$f":"IF(INDIRECT($C$2&$C34&\"!\"&AB$5&$V$4)=\"\",\"★\",INDIRECT($C$2&$C34&\"!\"&AB$5&$V$4))","v":{"$error":"#REF!"}},{"$f":"IF(INDIRECT($C$2&$C34&\"!\"&AC$5&$V$4)=\"\",\"★\",INDIRECT($C$2&$C34&\"!\"&AC$5&$V$4))","v":{"$error":"#REF!"}},{"$f":"IF(INDIRECT($C$2&$C34&\"!\"&AD$5&$V$4)=\"\",\"★\",INDIRECT($C$2&$C34&\"!\"&AD$5&$V$4))","v":{"$error":"#REF!"}},{"$f":"IF(INDIRECT($C$2&$C34&\"!\"&AE$5&$V$4)=\"\",\"★\",INDIRECT($C$2&$C34&\"!\"&AE$5&$V$4))","v":{"$error":"#REF!"}},{"$f":"IF(INDIRECT($C$2&$C34&\"!\"&AF$5&$AF$4)=\"\",\"★\",INDIRECT($C$2&$C34&\"!\"&AF$5&$AF$4))","v":{"$error":"#REF!"}},{"$f":"IF(INDIRECT($C$2&$C34&\"!\"&AG$5&$AF$4)=\"\",\"★\",INDIRECT($C$2&$C34&\"!\"&AG$5&$AF$4))","v":{"$error":"#REF!"}},{"$f":"IF(INDIRECT($C$2&$C34&\"!\"&AH$5&$AH$4)=\"\",\"★\",INDIRECT($C$2&$C34&\"!\"&AH$5&$AH$4))","v":{"$error":"#REF!"}},{"$f":"IF(INDIRECT($C$2&$C34&\"!\"&AI$5&$AH$4)=\"\",\"★\",INDIRECT($C$2&$C34&\"!\"&AI$5&$AH$4))","v":{"$error":"#REF!"}},{"$f":"IF(INDIRECT($C$2&$C34&\"!\"&AJ$5&$AJ$4)=\"\",\"★\",INDIRECT($C$2&$C34&\"!\"&AJ$5&$AJ$4))","v":{"$error":"#REF!"}},{"$f":"IF(INDIRECT($C$2&$C34&\"!\"&AK$5&$AJ$4)=\"\",\"★\",INDIRECT($C$2&$C34&\"!\"&AK$5&$AJ$4))","v":{"$error":"#REF!"}},{"$f":"$AF34","v":{"$error":"#REF!"}},{"$f":"$AG34","v":{"$error":"#REF!"}},{"$f":"IF(INDIRECT($C$2&$C34&\"!\"&AN$5&$AN$4)=\"\",\"★\",INDIRECT($C$2&$C34&\"!\"&AN$5&$AN$4))","v":{"$error":"#REF!"}},{"$f":"IF(INDIRECT($C$2&$C34&\"!\"&AO$5&$AN$4)=\"\",\"★\",INDIRECT($C$2&$C34&\"!\"&AO$5&$AN$4))","v":{"$error":"#REF!"}},{"$f":"IF(INDIRECT($C$2&$C34&\"!\"&AP$5&$AN$4)=\"\",\"★\",INDIRECT($C$2&$C34&\"!\"&AP$5&$AN$4))","v":{"$error":"#REF!"}},{"$f":"IF(INDIRECT($C$2&$C34&\"!\"&AQ$5&$AN$4)=\"\",\"★\",INDIRECT($C$2&$C34&\"!\"&AQ$5&$AN$4))","v":{"$error":"#REF!"}},{"$f":"IF(INDIRECT($C$2&$C34&\"!\"&AR$5&$AN$4)=\"\",\"★\",INDIRECT($C$2&$C34&\"!\"&AR$5&$AN$4))","v":{"$error":"#REF!"}},{"$f":"IF(INDIRECT($C$2&$C34&\"!\"&AS$5&$AN$4)=\"\",\"★\",INDIRECT($C$2&$C34&\"!\"&AS$5&$AN$4))","v":{"$error":"#REF!"}},{"$f":"IF(INDIRECT($C$2&$C34&\"!\"&AT$5&$AN$4)=\"\",\"★\",INDIRECT($C$2&$C34&\"!\"&AT$5&$AN$4))","v":{"$error":"#REF!"}},{"$f":"IF(INDIRECT($C$2&$C34&\"!\"&AU$5&$AN$4)=\"\",\"★\",INDIRECT($C$2&$C34&\"!\"&AU$5&$AN$4))","v":{"$error":"#REF!"}},{"$f":"IF(INDIRECT($C$2&$C34&\"!\"&AV$5&$AN$4)=\"\",\"★\",INDIRECT($C$2&$C34&\"!\"&AV$5&$AN$4))","v":{"$error":"#REF!"}},{"$f":"IF(INDIRECT($C$2&$C34&\"!\"&AW$5&$AN$4)=\"\",\"★\",INDIRECT($C$2&$C34&\"!\"&AW$5&$AN$4))","v":{"$error":"#REF!"}},{"$f":"$AH34","v":{"$error":"#REF!"}},{"$f":"$AI34","v":{"$error":"#REF!"}},{"$f":"IF(INDIRECT($C$2&$C34&\"!\"&AZ$5&$AZ$4)=\"\",\"★\",INDIRECT($C$2&$C34&\"!\"&AZ$5&$AZ$4))","v":{"$error":"#REF!"}},{"$f":"IF(INDIRECT($C$2&$C34&\"!\"&BA$5&$AZ$4)=\"\",\"★\",INDIRECT($C$2&$C34&\"!\"&BA$5&$AZ$4))","v":{"$error":"#REF!"}},{"$f":"IF(INDIRECT($C$2&$C34&\"!\"&BB$5&$AZ$4)=\"\",\"★\",INDIRECT($C$2&$C34&\"!\"&BB$5&$AZ$4))","v":{"$error":"#REF!"}},{"$f":"IF(INDIRECT($C$2&$C34&\"!\"&BC$5&$AZ$4)=\"\",\"★\",INDIRECT($C$2&$C34&\"!\"&BC$5&$AZ$4))","v":{"$error":"#REF!"}},{"$f":"IF(INDIRECT($C$2&$C34&\"!\"&BD$5&$AZ$4)=\"\",\"★\",INDIRECT($C$2&$C34&\"!\"&BD$5&$AZ$4))","v":{"$error":"#REF!"}},{"$f":"IF(INDIRECT($C$2&$C34&\"!\"&BE$5&$AZ$4)=\"\",\"★\",INDIRECT($C$2&$C34&\"!\"&BE$5&$AZ$4))","v":{"$error":"#REF!"}},{"$f":"IF(INDIRECT($C$2&$C34&\"!\"&BF$5&$AZ$4)=\"\",\"★\",INDIRECT($C$2&$C34&\"!\"&BF$5&$AZ$4))","v":{"$error":"#REF!"}},{"$f":"IF(INDIRECT($C$2&$C34&\"!\"&BG$5&$AZ$4)=\"\",\"★\",INDIRECT($C$2&$C34&\"!\"&BG$5&$AZ$4))","v":{"$error":"#REF!"}},{"$f":"IF(INDIRECT($C$2&$C34&\"!\"&BH$5&$AZ$4)=\"\",\"★\",INDIRECT($C$2&$C34&\"!\"&BH$5&$AZ$4))","v":{"$error":"#REF!"}},{"$f":"IF(INDIRECT($C$2&$C34&\"!\"&BI$5&$AZ$4)=\"\",\"★\",INDIRECT($C$2&$C34&\"!\"&BI$5&$AZ$4))","v":{"$error":"#REF!"}},{"$f":"$AJ34","v":{"$error":"#REF!"}},{"$f":"$AK34","v":{"$error":"#REF!"}},{"$f":"IF(INDIRECT($C$2&$C34&\"!\"&BL$5&$BL$4)=\"\",\"★\",INDIRECT($C$2&$C34&\"!\"&BL$5&$BL$4))","v":{"$error":"#REF!"}},{"$f":"IF(INDIRECT($C$2&$C34&\"!\"&BM$5&$BL$4)=\"\",\"★\",INDIRECT($C$2&$C34&\"!\"&BM$5&$BL$4))","v":{"$error":"#REF!"}},{"$f":"IF(INDIRECT($C$2&$C34&\"!\"&BN$5&$BL$4)=\"\",\"★\",INDIRECT($C$2&$C34&\"!\"&BN$5&$BL$4))","v":{"$error":"#REF!"}},{"$f":"IF(INDIRECT($C$2&$C34&\"!\"&BO$5&$BL$4)=\"\",\"★\",INDIRECT($C$2&$C34&\"!\"&BO$5&$BL$4))","v":{"$error":"#REF!"}},{"$f":"IF(INDIRECT($C$2&$C34&\"!\"&BP$5&$BL$4)=\"\",\"★\",INDIRECT($C$2&$C34&\"!\"&BP$5&$BL$4))","v":{"$error":"#REF!"}},{"$f":"IF(INDIRECT($C$2&$C34&\"!\"&BQ$5&$BL$4)=\"\",\"★\",INDIRECT($C$2&$C34&\"!\"&BQ$5&$BL$4))","v":{"$error":"#REF!"}},{"$f":"IF(INDIRECT($C$2&$C34&\"!\"&BR$5&$BL$4)=\"\",\"★\",INDIRECT($C$2&$C34&\"!\"&BR$5&$BL$4))","v":{"$error":"#REF!"}},{"$f":"IF(INDIRECT($C$2&$C34&\"!\"&BS$5&$BL$4)=\"\",\"★\",INDIRECT($C$2&$C34&\"!\"&BS$5&$BL$4))","v":{"$error":"#REF!"}},{"$f":"IF(INDIRECT($C$2&$C34&\"!\"&BT$5&$BL$4)=\"\",\"★\",INDIRECT($C$2&$C34&\"!\"&BT$5&$BL$4))","v":{"$error":"#REF!"}},{"$f":"IF(INDIRECT($C$2&$C34&\"!\"&BU$5&$BL$4)=\"\",\"★\",INDIRECT($C$2&$C34&\"!\"&BU$5&$BL$4))","v":{"$error":"#REF!"}},{"$f":"IF(INDIRECT($C$2&$C34&\"!\"&BV$5&$BV$4)=\"\",\"★\",INDIRECT($C$2&$C34&\"!\"&BV$5&$BV$4))","v":{"$error":"#REF!"}},{"$f":"IF(INDIRECT($C$2&$C34&\"!\"&BW$5&$BV$4)=\"\",\"★\",INDIRECT($C$2&$C34&\"!\"&BW$5&$BV$4))","v":{"$error":"#REF!"}},{"$f":"IF(INDIRECT($C$2&$C34&\"!\"&BX$5&$BV$4)=\"\",\"★\",INDIRECT($C$2&$C34&\"!\"&BX$5&$BV$4))","v":{"$error":"#REF!"}},{"$f":"IF(INDIRECT($C$2&$C34&\"!\"&BY$5&$BV$4)=\"\",\"★\",INDIRECT($C$2&$C34&\"!\"&BY$5&$BV$4))","v":{"$error":"#REF!"}},{"$f":"IF(INDIRECT($C$2&$C34&\"!\"&BZ$5&$BV$4)=\"\",\"★\",INDIRECT($C$2&$C34&\"!\"&BZ$5&$BV$4))","v":{"$error":"#REF!"}},{"$f":"IF(INDIRECT($C$2&$C34&\"!\"&CA$5&$BV$4)=\"\",\"★\",INDIRECT($C$2&$C34&\"!\"&CA$5&$BV$4))","v":{"$error":"#REF!"}},{"$f":"IF(INDIRECT($C$2&$C34&\"!\"&CB$5&$BV$4)=\"\",\"★\",INDIRECT($C$2&$C34&\"!\"&CB$5&$BV$4))","v":{"$error":"#REF!"}},{"$f":"IF(INDIRECT($C$2&$C34&\"!\"&CC$5&$CC$4)=\"\",\"★\",INDIRECT($C$2&$C34&\"!\"&CC$5&$CC$4))","v":{"$error":"#REF!"}},{"$f":"IF(INDIRECT($C$2&$C34&\"!\"&CD$5&$CC$4)=\"\",\"★\",INDIRECT($C$2&$C34&\"!\"&CD$5&$CC$4))","v":{"$error":"#REF!"}},{"$f":"IF(INDIRECT($C$2&$C34&\"!\"&CE$5&$CC$4)=\"\",\"★\",INDIRECT($C$2&$C34&\"!\"&CE$5&$CC$4))","v":{"$error":"#REF!"}},{"$f":"IF(INDIRECT($C$2&$C34&\"!\"&CF$5&$CC$4)=\"\",\"★\",INDIRECT($C$2&$C34&\"!\"&CF$5&$CC$4))","v":{"$error":"#REF!"}},{"$f":"IF(INDIRECT($C$2&$C34&\"!\"&CG$5&$CC$4)=\"\",\"★\",INDIRECT($C$2&$C34&\"!\"&CG$5&$CC$4))","v":{"$error":"#REF!"}},{"$f":"IF(INDIRECT($C$2&$C34&\"!\"&CH$5&$CC$4)=\"\",\"★\",INDIRECT($C$2&$C34&\"!\"&CH$5&$CC$4))","v":{"$error":"#REF!"}},{"$f":"IF(INDIRECT($C$2&$C34&\"!\"&CI$5&$CC$4)=\"\",\"★\",INDIRECT($C$2&$C34&\"!\"&CI$5&$CC$4))","v":{"$error":"#REF!"}},{"$f":"IF(INDIRECT($C$2&$C34&\"!\"&CJ$5&$CC$4)=\"\",\"★\",INDIRECT($C$2&$C34&\"!\"&CJ$5&$CC$4))","v":{"$error":"#REF!"}},{"$f":"$AF34","v":{"$error":"#REF!"}},{"$f":"$AG34","v":{"$error":"#REF!"}},{"$f":"IF(INDIRECT($C$2&$C34&\"!\"&CM$5&$CM$4)=\"\",\"★\",INDIRECT($C$2&$C34&\"!\"&CM$5&$CM$4))","v":{"$error":"#REF!"}},{"$f":"IF(INDIRECT($C$2&$C34&\"!\"&CN$5&$CM$4)=\"\",\"★\",INDIRECT($C$2&$C34&\"!\"&CN$5&$CM$4))","v":{"$error":"#REF!"}},{"$f":"IF(INDIRECT($C$2&$C34&\"!\"&CO$5&$CM$4)=\"\",\"★\",INDIRECT($C$2&$C34&\"!\"&CO$5&$CM$4))","v":{"$error":"#REF!"}},{"$f":"IF(INDIRECT($C$2&$C34&\"!\"&CP$5&$CM$4)=\"\",\"★\",INDIRECT($C$2&$C34&\"!\"&CP$5&$CM$4))","v":{"$error":"#REF!"}},{"$f":"IF(INDIRECT($C$2&$C34&\"!\"&CQ$5&$CM$4)=\"\",\"★\",INDIRECT($C$2&$C34&\"!\"&CQ$5&$CM$4))","v":{"$error":"#REF!"}},{"$f":"IF(INDIRECT($C$2&$C34&\"!\"&CR$5&$CM$4)=\"\",\"★\",INDIRECT($C$2&$C34&\"!\"&CR$5&$CM$4))","v":{"$error":"#REF!"}},{"$f":"IF(INDIRECT($C$2&$C34&\"!\"&CS$5&$CM$4)=\"\",\"★\",INDIRECT($C$2&$C34&\"!\"&CS$5&$CM$4))","v":{"$error":"#REF!"}},{"$f":"IF(INDIRECT($C$2&$C34&\"!\"&CT$5&$CM$4)=\"\",\"★\",INDIRECT($C$2&$C34&\"!\"&CT$5&$CM$4))","v":{"$error":"#REF!"}},{"$f":"$AH34","v":{"$error":"#REF!"}},{"$f":"$AI34","v":{"$error":"#REF!"}},{"$f":"IF(INDIRECT($C$2&$C34&\"!\"&CW$5&$CW$4)=\"\",\"★\",INDIRECT($C$2&$C34&\"!\"&CW$5&$CW$4))","v":{"$error":"#REF!"}},{"$f":"IF(INDIRECT($C$2&$C34&\"!\"&CX$5&$CW$4)=\"\",\"★\",INDIRECT($C$2&$C34&\"!\"&CX$5&$CW$4))","v":{"$error":"#REF!"}},{"$f":"IF(INDIRECT($C$2&$C34&\"!\"&CY$5&$CW$4)=\"\",\"★\",INDIRECT($C$2&$C34&\"!\"&CY$5&$CW$4))","v":{"$error":"#REF!"}},{"$f":"IF(INDIRECT($C$2&$C34&\"!\"&CZ$5&$CW$4)=\"\",\"★\",INDIRECT($C$2&$C34&\"!\"&CZ$5&$CW$4))","v":{"$error":"#REF!"}},{"$f":"IF(INDIRECT($C$2&$C34&\"!\"&DA$5&$CW$4)=\"\",\"★\",INDIRECT($C$2&$C34&\"!\"&DA$5&$CW$4))","v":{"$error":"#REF!"}},{"$f":"IF(INDIRECT($C$2&$C34&\"!\"&DB$5&$CW$4)=\"\",\"★\",INDIRECT($C$2&$C34&\"!\"&DB$5&$CW$4))","v":{"$error":"#REF!"}},{"$f":"IF(INDIRECT($C$2&$C34&\"!\"&DC$5&$CW$4)=\"\",\"★\",INDIRECT($C$2&$C34&\"!\"&DC$5&$CW$4))","v":{"$error":"#REF!"}},{"$f":"IF(INDIRECT($C$2&$C34&\"!\"&DD$5&$CW$4)=\"\",\"★\",INDIRECT($C$2&$C34&\"!\"&DD$5&$CW$4))","v":{"$error":"#REF!"}},{"$f":"$AJ34","v":{"$error":"#REF!"}},{"$f":"$AK34","v":{"$error":"#REF!"}},{"$f":"IF(INDIRECT($C$2&$C34&\"!\"&DG$5&$DG$4)=\"\",\"★\",INDIRECT($C$2&$C34&\"!\"&DG$5&$DG$4))","v":{"$error":"#REF!"}},{"$f":"IF(INDIRECT($C$2&$C34&\"!\"&DH$5&$DG$4)=\"\",\"★\",INDIRECT($C$2&$C34&\"!\"&DH$5&$DG$4))","v":{"$error":"#REF!"}},{"$f":"IF(INDIRECT($C$2&$C34&\"!\"&DI$5&$DG$4)=\"\",\"★\",INDIRECT($C$2&$C34&\"!\"&DI$5&$DG$4))","v":{"$error":"#REF!"}},{"$f":"IF(INDIRECT($C$2&$C34&\"!\"&DJ$5&$DG$4)=\"\",\"★\",INDIRECT($C$2&$C34&\"!\"&DJ$5&$DG$4))","v":{"$error":"#REF!"}},{"$f":"IF(INDIRECT($C$2&$C34&\"!\"&DK$5&$DG$4)=\"\",\"★\",INDIRECT($C$2&$C34&\"!\"&DK$5&$DG$4))","v":{"$error":"#REF!"}},{"$f":"IF(INDIRECT($C$2&$C34&\"!\"&DL$5&$DG$4)=\"\",\"★\",INDIRECT($C$2&$C34&\"!\"&DL$5&$DG$4))","v":{"$error":"#REF!"}},{"$f":"IF(INDIRECT($C$2&$C34&\"!\"&DM$5&$DG$4)=\"\",\"★\",INDIRECT($C$2&$C34&\"!\"&DM$5&$DG$4))","v":{"$error":"#REF!"}},{"$f":"IF(INDIRECT($C$2&$C34&\"!\"&DN$5&$DG$4)=\"\",\"★\",INDIRECT($C$2&$C34&\"!\"&DN$5&$DG$4))","v":{"$error":"#REF!"}},{"$f":"IF(INDIRECT($C$2&$C34&\"!B57\")=\"\",\"★\",INDIRECT($C$2&$C34&\"!B57\"))","v":{"$error":"#REF!"}},{"$f":"IF(INDIRECT($C$2&$C34&\"!B100\")=\"\",\"★\",INDIRECT($C$2&$C34&\"!B100\"))","v":{"$error":"#REF!"}},{"$f":"IF(INDIRECT($C$2&$C34&\"!B112\")=\"\",\"★\",INDIRECT($C$2&$C34&\"!B112\"))","v":{"$error":"#REF!"}},{"$f":"IF(INDIRECT($C$2&$C34&\"!B155\")=\"\",\"★\",INDIRECT($C$2&$C34&\"!B155\"))","v":{"$error":"#REF!"}},{"$f":"IF(INDIRECT($C$2&$C34&\"!B167\")=\"\",\"★\",INDIRECT($C$2&$C34&\"!B167\"))","v":{"$error":"#REF!"}},{"$f":"IF(INDIRECT($C$2&$C34&\"!B210\")=\"\",\"★\",INDIRECT($C$2&$C34&\"!B210\"))","v":{"$error":"#REF!"}}]
[null,null,{"$f":"C34","v":"★"},null,null,null,null,null,null,null,null,{"$f":"$C35&\"-2\"","v":"★-2"},{"$f":"IF(INDIRECT($C$2&$C35&\"!\"&M$5&$M$4+1)=\"\",\"★\",INDIRECT($C$2&$C35&\"!\"&M$5&$M$4+1))","v":{"$error":"#REF!"}},{"$f":"IF(INDIRECT($C$2&$C35&\"!\"&N$5&$M$4+1)=\"\",\"★\",INDIRECT($C$2&$C35&\"!\"&N$5&$M$4+1))","v":{"$error":"#REF!"}},{"$f":"IF(INDIRECT($C$2&$C35&\"!\"&O$5&$M$4+1)=\"\",\"★\",INDIRECT($C$2&$C35&\"!\"&O$5&$M$4+1))","v":{"$error":"#REF!"}},{"$f":"IF(INDIRECT($C$2&$C35&\"!\"&P$5&$M$4+1)=\"\",\"★\",INDIRECT($C$2&$C35&\"!\"&P$5&$M$4+1))","v":{"$error":"#REF!"}},{"$f":"IF(INDIRECT($C$2&$C35&\"!\"&Q$5&$M$4+1)=\"\",\"★\",INDIRECT($C$2&$C35&\"!\"&Q$5&$M$4+1))","v":{"$error":"#REF!"}},{"$f":"IF(INDIRECT($C$2&$C35&\"!\"&R$5&$M$4+1)=\"\",\"★\",INDIRECT($C$2&$C35&\"!\"&R$5&$M$4+1))","v":{"$error":"#REF!"}},{"$f":"IF(INDIRECT($C$2&$C35&\"!\"&S$5&$M$4+1)=\"\",\"★\",INDIRECT($C$2&$C35&\"!\"&S$5&$M$4+1))","v":{"$error":"#REF!"}},{"$f":"IF(INDIRECT($C$2&$C35&\"!\"&T$5&$M$4+1)=\"\",\"★\",INDIRECT($C$2&$C35&\"!\"&T$5&$M$4+1))","v":{"$error":"#REF!"}},null,{"$f":"IF(INDIRECT($C$2&$C35&\"!\"&V$5&$V$4+1)=\"\",\"★\",INDIRECT($C$2&$C35&\"!\"&V$5&$V$4+1))","v":{"$error":"#REF!"}},{"$f":"IF(INDIRECT($C$2&$C35&\"!\"&W$5&$V$4+1)=\"\",\"★\",INDIRECT($C$2&$C35&\"!\"&W$5&$V$4+1))","v":{"$error":"#REF!"}},{"$f":"IF(INDIRECT($C$2&$C35&\"!\"&X$5&$V$4+1)=\"\",\"★\",INDIRECT($C$2&$C35&\"!\"&X$5&$V$4+1))","v":{"$error":"#REF!"}},{"$f":"IF(INDIRECT($C$2&$C35&\"!\"&Y$5&$V$4+1)=\"\",\"★\",INDIRECT($C$2&$C35&\"!\"&Y$5&$V$4+1))","v":{"$error":"#REF!"}},{"$f":"IF(INDIRECT($C$2&$C35&\"!\"&Z$5&$V$4+1)=\"\",\"★\",INDIRECT($C$2&$C35&\"!\"&Z$5&$V$4+1))","v":{"$error":"#REF!"}},{"$f":"IF(INDIRECT($C$2&$C35&\"!\"&AA$5&$V$4+1)=\"\",\"★\",INDIRECT($C$2&$C35&\"!\"&AA$5&$V$4+1))","v":{"$error":"#REF!"}},{"$f":"IF(INDIRECT($C$2&$C35&\"!\"&AB$5&$V$4+1)=\"\",\"★\",INDIRECT($C$2&$C35&\"!\"&AB$5&$V$4+1))","v":{"$error":"#REF!"}},{"$f":"IF(INDIRECT($C$2&$C35&\"!\"&AC$5&$V$4+1)=\"\",\"★\",INDIRECT($C$2&$C35&\"!\"&AC$5&$V$4+1))","v":{"$error":"#REF!"}},null,null,null,null,null,null,null,null,null,null,{"$f":"IF(INDIRECT($C$2&$C35&\"!\"&AN$5&$AN$4+1)=\"\",\"★\",INDIRECT($C$2&$C35&\"!\"&AN$5&$AN$4+1))","v":{"$error":"#REF!"}},{"$f":"IF(INDIRECT($C$2&$C35&\"!\"&AO$5&$AN$4+1)=\"\",\"★\",INDIRECT($C$2&$C35&\"!\"&AO$5&$AN$4+1))","v":{"$error":"#REF!"}},{"$f":"IF(INDIRECT($C$2&$C35&\"!\"&AP$5&$AN$4+1)=\"\",\"★\",INDIRECT($C$2&$C35&\"!\"&AP$5&$AN$4+1))","v":{"$error":"#REF!"}},{"$f":"IF(INDIRECT($C$2&$C35&\"!\"&AQ$5&$AN$4+1)=\"\",\"★\",INDIRECT($C$2&$C35&\"!\"&AQ$5&$AN$4+1))","v":{"$error":"#REF!"}},{"$f":"IF(INDIRECT($C$2&$C35&\"!\"&AR$5&$AN$4+1)=\"\",\"★\",INDIRECT($C$2&$C35&\"!\"&AR$5&$AN$4+1))","v":{"$error":"#REF!"}},{"$f":"IF(INDIRECT($C$2&$C35&\"!\"&AS$5&$AN$4+1)=\"\",\"★\",INDIRECT($C$2&$C35&\"!\"&AS$5&$AN$4+1))","v":{"$error":"#REF!"}},{"$f":"IF(INDIRECT($C$2&$C35&\"!\"&AT$5&$AN$4+1)=\"\",\"★\",INDIRECT($C$2&$C35&\"!\"&AT$5&$AN$4+1))","v":{"$error":"#REF!"}},{"$f":"IF(INDIRECT($C$2&$C35&\"!\"&AU$5&$AN$4+1)=\"\",\"★\",INDIRECT($C$2&$C35&\"!\"&AU$5&$AN$4+1))","v":{"$error":"#REF!"}},null,null,null,null,{"$f":"IF(INDIRECT($C$2&$C35&\"!\"&AZ$5&$AZ$4+1)=\"\",\"★\",INDIRECT($C$2&$C35&\"!\"&AZ$5&$AZ$4+1))","v":{"$error":"#REF!"}},{"$f":"IF(INDIRECT($C$2&$C35&\"!\"&BA$5&$AZ$4+1)=\"\",\"★\",INDIRECT($C$2&$C35&\"!\"&BA$5&$AZ$4+1))","v":{"$error":"#REF!"}},{"$f":"IF(INDIRECT($C$2&$C35&\"!\"&BB$5&$AZ$4+1)=\"\",\"★\",INDIRECT($C$2&$C35&\"!\"&BB$5&$AZ$4+1))","v":{"$error":"#REF!"}},{"$f":"IF(INDIRECT($C$2&$C35&\"!\"&BC$5&$AZ$4+1)=\"\",\"★\",INDIRECT($C$2&$C35&\"!\"&BC$5&$AZ$4+1))","v":{"$error":"#REF!"}},{"$f":"IF(INDIRECT($C$2&$C35&\"!\"&BD$5&$AZ$4+1)=\"\",\"★\",INDIRECT($C$2&$C35&\"!\"&BD$5&$AZ$4+1))","v":{"$error":"#REF!"}},{"$f":"IF(INDIRECT($C$2&$C35&\"!\"&BE$5&$AZ$4+1)=\"\",\"★\",INDIRECT($C$2&$C35&\"!\"&BE$5&$AZ$4+1))","v":{"$error":"#REF!"}},{"$f":"IF(INDIRECT($C$2&$C35&\"!\"&BF$5&$AZ$4+1)=\"\",\"★\",INDIRECT($C$2&$C35&\"!\"&BF$5&$AZ$4+1))","v":{"$error":"#REF!"}},{"$f":"IF(INDIRECT($C$2&$C35&\"!\"&BG$5&$AZ$4+1)=\"\",\"★\",INDIRECT($C$2&$C35&\"!\"&BG$5&$AZ$4+1))","v":{"$error":"#REF!"}},null,null,null,null,{"$f":"IF(INDIRECT($C$2&$C35&\"!\"&BL$5&$BL$4+1)=\"\",\"★\",INDIRECT($C$2&$C35&\"!\"&BL$5&$BL$4+1))","v":{"$error":"#REF!"}},{"$f":"IF(INDIRECT($C$2&$C35&\"!\"&BM$5&$BL$4+1)=\"\",\"★\",INDIRECT($C$2&$C35&\"!\"&BM$5&$BL$4+1))","v":{"$error":"#REF!"}},{"$f":"IF(INDIRECT($C$2&$C35&\"!\"&BN$5&$BL$4+1)=\"\",\"★\",INDIRECT($C$2&$C35&\"!\"&BN$5&$BL$4+1))","v":{"$error":"#REF!"}},{"$f":"IF(INDIRECT($C$2&$C35&\"!\"&BO$5&$BL$4+1)=\"\",\"★\",INDIRECT($C$2&$C35&\"!\"&BO$5&$BL$4+1))","v":{"$error":"#REF!"}},{"$f":"IF(INDIRECT($C$2&$C35&\"!\"&BP$5&$BL$4+1)=\"\",\"★\",INDIRECT($C$2&$C35&\"!\"&BP$5&$BL$4+1))","v":{"$error":"#REF!"}},{"$f":"IF(INDIRECT($C$2&$C35&\"!\"&BQ$5&$BL$4+1)=\"\",\"★\",INDIRECT($C$2&$C35&\"!\"&BQ$5&$BL$4+1))","v":{"$error":"#REF!"}},{"$f":"IF(INDIRECT($C$2&$C35&\"!\"&BR$5&$BL$4+1)=\"\",\"★\",INDIRECT($C$2&$C35&\"!\"&BR$5&$BL$4+1))","v":{"$error":"#REF!"}},{"$f":"IF(INDIRECT($C$2&$C35&\"!\"&BS$5&$BL$4+1)=\"\",\"★\",INDIRECT($C$2&$C35&\"!\"&BS$5&$BL$4+1))","v":{"$error":"#REF!"}},null,null,{"$f":"IF(INDIRECT($C$2&$C35&\"!\"&BV$5&$BV$4+1)=\"\",\"★\",INDIRECT($C$2&$C35&\"!\"&BV$5&$BV$4+1))","v":{"$error":"#REF!"}},{"$f":"IF(INDIRECT($C$2&$C35&\"!\"&BW$5&$BV$4+1)=\"\",\"★\",INDIRECT($C$2&$C35&\"!\"&BW$5&$BV$4+1))","v":{"$error":"#REF!"}},{"$f":"IF(INDIRECT($C$2&$C35&\"!\"&BX$5&$BV$4+1)=\"\",\"★\",INDIRECT($C$2&$C35&\"!\"&BX$5&$BV$4+1))","v":{"$error":"#REF!"}},{"$f":"IF(INDIRECT($C$2&$C35&\"!\"&BY$5&$BV$4+1)=\"\",\"★\",INDIRECT($C$2&$C35&\"!\"&BY$5&$BV$4+1))","v":{"$error":"#REF!"}},{"$f":"IF(INDIRECT($C$2&$C35&\"!\"&BZ$5&$BV$4+1)=\"\",\"★\",INDIRECT($C$2&$C35&\"!\"&BZ$5&$BV$4+1))","v":{"$error":"#REF!"}},{"$f":"IF(INDIRECT($C$2&$C35&\"!\"&CA$5&$BV$4+1)=\"\",\"★\",INDIRECT($C$2&$C35&\"!\"&CA$5&$BV$4+1))","v":{"$error":"#REF!"}},null,{"$f":"IF(INDIRECT($C$2&$C35&\"!\"&CC$5&$CC$4+1)=\"\",\"★\",INDIRECT($C$2&$C35&\"!\"&CC$5&$CC$4+1))","v":{"$error":"#REF!"}},{"$f":"IF(INDIRECT($C$2&$C35&\"!\"&CD$5&$CC$4+1)=\"\",\"★\",INDIRECT($C$2&$C35&\"!\"&CD$5&$CC$4+1))","v":{"$error":"#REF!"}},{"$f":"IF(INDIRECT($C$2&$C35&\"!\"&CE$5&$CC$4+1)=\"\",\"★\",INDIRECT($C$2&$C35&\"!\"&CE$5&$CC$4+1))","v":{"$error":"#REF!"}},{"$f":"IF(INDIRECT($C$2&$C35&\"!\"&CF$5&$CC$4+1)=\"\",\"★\",INDIRECT($C$2&$C35&\"!\"&CF$5&$CC$4+1))","v":{"$error":"#REF!"}},{"$f":"IF(INDIRECT($C$2&$C35&\"!\"&CG$5&$CC$4+1)=\"\",\"★\",INDIRECT($C$2&$C35&\"!\"&CG$5&$CC$4+1))","v":{"$error":"#REF!"}},{"$f":"IF(INDIRECT($C$2&$C35&\"!\"&CH$5&$CC$4+1)=\"\",\"★\",INDIRECT($C$2&$C35&\"!\"&CH$5&$CC$4+1))","v":{"$error":"#REF!"}},null,null,null,null,{"$f":"IF(INDIRECT($C$2&$C35&\"!\"&CM$5&$CM$4+1)=\"\",\"★\",INDIRECT($C$2&$C35&\"!\"&CM$5&$CM$4+1))","v":{"$error":"#REF!"}},{"$f":"IF(INDIRECT($C$2&$C35&\"!\"&CN$5&$CM$4+1)=\"\",\"★\",INDIRECT($C$2&$C35&\"!\"&CN$5&$CM$4+1))","v":{"$error":"#REF!"}},{"$f":"IF(INDIRECT($C$2&$C35&\"!\"&CO$5&$CM$4+1)=\"\",\"★\",INDIRECT($C$2&$C35&\"!\"&CO$5&$CM$4+1))","v":{"$error":"#REF!"}},{"$f":"IF(INDIRECT($C$2&$C35&\"!\"&CP$5&$CM$4+1)=\"\",\"★\",INDIRECT($C$2&$C35&\"!\"&CP$5&$CM$4+1))","v":{"$error":"#REF!"}},{"$f":"IF(INDIRECT($C$2&$C35&\"!\"&CQ$5&$CM$4+1)=\"\",\"★\",INDIRECT($C$2&$C35&\"!\"&CQ$5&$CM$4+1))","v":{"$error":"#REF!"}},{"$f":"IF(INDIRECT($C$2&$C35&\"!\"&CR$5&$CM$4+1)=\"\",\"★\",INDIRECT($C$2&$C35&\"!\"&CR$5&$CM$4+1))","v":{"$error":"#REF!"}},null,null,null,null,{"$f":"IF(INDIRECT($C$2&$C35&\"!\"&CW$5&$CW$4+1)=\"\",\"★\",INDIRECT($C$2&$C35&\"!\"&CW$5&$CW$4+1))","v":{"$error":"#REF!"}},{"$f":"IF(INDIRECT($C$2&$C35&\"!\"&CX$5&$CW$4+1)=\"\",\"★\",INDIRECT($C$2&$C35&\"!\"&CX$5&$CW$4+1))","v":{"$error":"#REF!"}},{"$f":"IF(INDIRECT($C$2&$C35&\"!\"&CY$5&$CW$4+1)=\"\",\"★\",INDIRECT($C$2&$C35&\"!\"&CY$5&$CW$4+1))","v":{"$error":"#REF!"}},{"$f":"IF(INDIRECT($C$2&$C35&\"!\"&CZ$5&$CW$4+1)=\"\",\"★\",INDIRECT($C$2&$C35&\"!\"&CZ$5&$CW$4+1))","v":{"$error":"#REF!"}},{"$f":"IF(INDIRECT($C$2&$C35&\"!\"&DA$5&$CW$4+1)=\"\",\"★\",INDIRECT($C$2&$C35&\"!\"&DA$5&$CW$4+1))","v":{"$error":"#REF!"}},{"$f":"IF(INDIRECT($C$2&$C35&\"!\"&DB$5&$CW$4+1)=\"\",\"★\",INDIRECT($C$2&$C35&\"!\"&DB$5&$CW$4+1))","v":{"$error":"#REF!"}},null,null,null,null,{"$f":"IF(INDIRECT($C$2&$C35&\"!\"&DG$5&$DG$4+1)=\"\",\"★\",INDIRECT($C$2&$C35&\"!\"&DG$5&$DG$4+1))","v":{"$error":"#REF!"}},{"$f":"IF(INDIRECT($C$2&$C35&\"!\"&DH$5&$DG$4+1)=\"\",\"★\",INDIRECT($C$2&$C35&\"!\"&DH$5&$DG$4+1))","v":{"$error":"#REF!"}},{"$f":"IF(INDIRECT($C$2&$C35&\"!\"&DI$5&$DG$4+1)=\"\",\"★\",INDIRECT($C$2&$C35&\"!\"&DI$5&$DG$4+1))","v":{"$error":"#REF!"}},{"$f":"IF(INDIRECT($C$2&$C35&\"!\"&DJ$5&$DG$4+1)=\"\",\"★\",INDIRECT($C$2&$C35&\"!\"&DJ$5&$DG$4+1))","v":{"$error":"#REF!"}},{"$f":"IF(INDIRECT($C$2&$C35&\"!\"&DK$5&$DG$4+1)=\"\",\"★\",INDIRECT($C$2&$C35&\"!\"&DK$5&$DG$4+1))","v":{"$error":"#REF!"}},{"$f":"IF(INDIRECT($C$2&$C35&\"!\"&DL$5&$DG$4+1)=\"\",\"★\",INDIRECT($C$2&$C35&\"!\"&DL$5&$DG$4+1))","v":{"$error":"#REF!"}}]
[null,null,{"$f":"C35","v":"★"},null,null,null,null,null,null,null,null,{"$f":"$C36&\"-3\"","v":"★-3"},{"$f":"IF(INDIRECT($C$2&$C36&\"!\"&M$5&$M$4+2)=\"\",\"★\",INDIRECT($C$2&$C36&\"!\"&M$5&$M$4+2))","v":{"$error":"#REF!"}},{"$f":"IF(INDIRECT($C$2&$C36&\"!\"&N$5&$M$4+2)=\"\",\"★\",INDIRECT($C$2&$C36&\"!\"&N$5&$M$4+2))","v":{"$error":"#REF!"}},{"$f":"IF(INDIRECT($C$2&$C36&\"!\"&O$5&$M$4+2)=\"\",\"★\",INDIRECT($C$2&$C36&\"!\"&O$5&$M$4+2))","v":{"$error":"#REF!"}},{"$f":"IF(INDIRECT($C$2&$C36&\"!\"&P$5&$M$4+2)=\"\",\"★\",INDIRECT($C$2&$C36&\"!\"&P$5&$M$4+2))","v":{"$error":"#REF!"}},{"$f":"IF(INDIRECT($C$2&$C36&\"!\"&Q$5&$M$4+2)=\"\",\"★\",INDIRECT($C$2&$C36&\"!\"&Q$5&$M$4+2))","v":{"$error":"#REF!"}},{"$f":"IF(INDIRECT($C$2&$C36&\"!\"&R$5&$M$4+2)=\"\",\"★\",INDIRECT($C$2&$C36&\"!\"&R$5&$M$4+2))","v":{"$error":"#REF!"}},{"$f":"IF(INDIRECT($C$2&$C36&\"!\"&S$5&$M$4+2)=\"\",\"★\",INDIRECT($C$2&$C36&\"!\"&S$5&$M$4+2))","v":{"$error":"#REF!"}},{"$f":"IF(INDIRECT($C$2&$C36&\"!\"&T$5&$M$4+2)=\"\",\"★\",INDIRECT($C$2&$C36&\"!\"&T$5&$M$4+2))","v":{"$error":"#REF!"}},null,{"$f":"IF(INDIRECT($C$2&$C36&\"!\"&V$5&$V$4+2)=\"\",\"★\",INDIRECT($C$2&$C36&\"!\"&V$5&$V$4+2))","v":{"$error":"#REF!"}},{"$f":"IF(INDIRECT($C$2&$C36&\"!\"&W$5&$V$4+2)=\"\",\"★\",INDIRECT($C$2&$C36&\"!\"&W$5&$V$4+2))","v":{"$error":"#REF!"}},{"$f":"IF(INDIRECT($C$2&$C36&\"!\"&X$5&$V$4+2)=\"\",\"★\",INDIRECT($C$2&$C36&\"!\"&X$5&$V$4+2))","v":{"$error":"#REF!"}},{"$f":"IF(INDIRECT($C$2&$C36&\"!\"&Y$5&$V$4+2)=\"\",\"★\",INDIRECT($C$2&$C36&\"!\"&Y$5&$V$4+2))","v":{"$error":"#REF!"}},{"$f":"IF(INDIRECT($C$2&$C36&\"!\"&Z$5&$V$4+2)=\"\",\"★\",INDIRECT($C$2&$C36&\"!\"&Z$5&$V$4+2))","v":{"$error":"#REF!"}},{"$f":"IF(INDIRECT($C$2&$C36&\"!\"&AA$5&$V$4+2)=\"\",\"★\",INDIRECT($C$2&$C36&\"!\"&AA$5&$V$4+2))","v":{"$error":"#REF!"}},{"$f":"IF(INDIRECT($C$2&$C36&\"!\"&AB$5&$V$4+2)=\"\",\"★\",INDIRECT($C$2&$C36&\"!\"&AB$5&$V$4+2))","v":{"$error":"#REF!"}},{"$f":"IF(INDIRECT($C$2&$C36&\"!\"&AC$5&$V$4+2)=\"\",\"★\",INDIRECT($C$2&$C36&\"!\"&AC$5&$V$4+2))","v":{"$error":"#REF!"}},null,null,null,null,null,null,null,null,null,null,{"$f":"IF(INDIRECT($C$2&$C36&\"!\"&AN$5&$AN$4+2)=\"\",\"★\",INDIRECT($C$2&$C36&\"!\"&AN$5&$AN$4+2))","v":{"$error":"#REF!"}},{"$f":"IF(INDIRECT($C$2&$C36&\"!\"&AO$5&$AN$4+2)=\"\",\"★\",INDIRECT($C$2&$C36&\"!\"&AO$5&$AN$4+2))","v":{"$error":"#REF!"}},{"$f":"IF(INDIRECT($C$2&$C36&\"!\"&AP$5&$AN$4+2)=\"\",\"★\",INDIRECT($C$2&$C36&\"!\"&AP$5&$AN$4+2))","v":{"$error":"#REF!"}},{"$f":"IF(INDIRECT($C$2&$C36&\"!\"&AQ$5&$AN$4+2)=\"\",\"★\",INDIRECT($C$2&$C36&\"!\"&AQ$5&$AN$4+2))","v":{"$error":"#REF!"}},{"$f":"IF(INDIRECT($C$2&$C36&\"!\"&AR$5&$AN$4+2)=\"\",\"★\",INDIRECT($C$2&$C36&\"!\"&AR$5&$AN$4+2))","v":{"$error":"#REF!"}},{"$f":"IF(INDIRECT($C$2&$C36&\"!\"&AS$5&$AN$4+2)=\"\",\"★\",INDIRECT($C$2&$C36&\"!\"&AS$5&$AN$4+2))","v":{"$error":"#REF!"}},{"$f":"IF(INDIRECT($C$2&$C36&\"!\"&AT$5&$AN$4+2)=\"\",\"★\",INDIRECT($C$2&$C36&\"!\"&AT$5&$AN$4+2))","v":{"$error":"#REF!"}},{"$f":"IF(INDIRECT($C$2&$C36&\"!\"&AU$5&$AN$4+2)=\"\",\"★\",INDIRECT($C$2&$C36&\"!\"&AU$5&$AN$4+2))","v":{"$error":"#REF!"}},null,null,null,null,{"$f":"IF(INDIRECT($C$2&$C36&\"!\"&AZ$5&$AZ$4+2)=\"\",\"★\",INDIRECT($C$2&$C36&\"!\"&AZ$5&$AZ$4+2))","v":{"$error":"#REF!"}},{"$f":"IF(INDIRECT($C$2&$C36&\"!\"&BA$5&$AZ$4+2)=\"\",\"★\",INDIRECT($C$2&$C36&\"!\"&BA$5&$AZ$4+2))","v":{"$error":"#REF!"}},{"$f":"IF(INDIRECT($C$2&$C36&\"!\"&BB$5&$AZ$4+2)=\"\",\"★\",INDIRECT($C$2&$C36&\"!\"&BB$5&$AZ$4+2))","v":{"$error":"#REF!"}},{"$f":"IF(INDIRECT($C$2&$C36&\"!\"&BC$5&$AZ$4+2)=\"\",\"★\",INDIRECT($C$2&$C36&\"!\"&BC$5&$AZ$4+2))","v":{"$error":"#REF!"}},{"$f":"IF(INDIRECT($C$2&$C36&\"!\"&BD$5&$AZ$4+2)=\"\",\"★\",INDIRECT($C$2&$C36&\"!\"&BD$5&$AZ$4+2))","v":{"$error":"#REF!"}},{"$f":"IF(INDIRECT($C$2&$C36&\"!\"&BE$5&$AZ$4+2)=\"\",\"★\",INDIRECT($C$2&$C36&\"!\"&BE$5&$AZ$4+2))","v":{"$error":"#REF!"}},{"$f":"IF(INDIRECT($C$2&$C36&\"!\"&BF$5&$AZ$4+2)=\"\",\"★\",INDIRECT($C$2&$C36&\"!\"&BF$5&$AZ$4+2))","v":{"$error":"#REF!"}},{"$f":"IF(INDIRECT($C$2&$C36&\"!\"&BG$5&$AZ$4+2)=\"\",\"★\",INDIRECT($C$2&$C36&\"!\"&BG$5&$AZ$4+2))","v":{"$error":"#REF!"}},null,null,null,null,{"$f":"IF(INDIRECT($C$2&$C36&\"!\"&BL$5&$BL$4+2)=\"\",\"★\",INDIRECT($C$2&$C36&\"!\"&BL$5&$BL$4+2))","v":{"$error":"#REF!"}},{"$f":"IF(INDIRECT($C$2&$C36&\"!\"&BM$5&$BL$4+2)=\"\",\"★\",INDIRECT($C$2&$C36&\"!\"&BM$5&$BL$4+2))","v":{"$error":"#REF!"}},{"$f":"IF(INDIRECT($C$2&$C36&\"!\"&BN$5&$BL$4+2)=\"\",\"★\",INDIRECT($C$2&$C36&\"!\"&BN$5&$BL$4+2))","v":{"$error":"#REF!"}},{"$f":"IF(INDIRECT($C$2&$C36&\"!\"&BO$5&$BL$4+2)=\"\",\"★\",INDIRECT($C$2&$C36&\"!\"&BO$5&$BL$4+2))","v":{"$error":"#REF!"}},{"$f":"IF(INDIRECT($C$2&$C36&\"!\"&BP$5&$BL$4+2)=\"\",\"★\",INDIRECT($C$2&$C36&\"!\"&BP$5&$BL$4+2))","v":{"$error":"#REF!"}},{"$f":"IF(INDIRECT($C$2&$C36&\"!\"&BQ$5&$BL$4+2)=\"\",\"★\",INDIRECT($C$2&$C36&\"!\"&BQ$5&$BL$4+2))","v":{"$error":"#REF!"}},{"$f":"IF(INDIRECT($C$2&$C36&\"!\"&BR$5&$BL$4+2)=\"\",\"★\",INDIRECT($C$2&$C36&\"!\"&BR$5&$BL$4+2))","v":{"$error":"#REF!"}},{"$f":"IF(INDIRECT($C$2&$C36&\"!\"&BS$5&$BL$4+2)=\"\",\"★\",INDIRECT($C$2&$C36&\"!\"&BS$5&$BL$4+2))","v":{"$error":"#REF!"}},null,null,{"$f":"IF(INDIRECT($C$2&$C36&\"!\"&BV$5&$BV$4+2)=\"\",\"★\",INDIRECT($C$2&$C36&\"!\"&BV$5&$BV$4+2))","v":{"$error":"#REF!"}},{"$f":"IF(INDIRECT($C$2&$C36&\"!\"&BW$5&$BV$4+2)=\"\",\"★\",INDIRECT($C$2&$C36&\"!\"&BW$5&$BV$4+2))","v":{"$error":"#REF!"}},{"$f":"IF(INDIRECT($C$2&$C36&\"!\"&BX$5&$BV$4+2)=\"\",\"★\",INDIRECT($C$2&$C36&\"!\"&BX$5&$BV$4+2))","v":{"$error":"#REF!"}},{"$f":"IF(INDIRECT($C$2&$C36&\"!\"&BY$5&$BV$4+2)=\"\",\"★\",INDIRECT($C$2&$C36&\"!\"&BY$5&$BV$4+2))","v":{"$error":"#REF!"}},{"$f":"IF(INDIRECT($C$2&$C36&\"!\"&BZ$5&$BV$4+2)=\"\",\"★\",INDIRECT($C$2&$C36&\"!\"&BZ$5&$BV$4+2))","v":{"$error":"#REF!"}},{"$f":"IF(INDIRECT($C$2&$C36&\"!\"&CA$5&$BV$4+2)=\"\",\"★\",INDIRECT($C$2&$C36&\"!\"&CA$5&$BV$4+2))","v":{"$error":"#REF!"}},null,{"$f":"IF(INDIRECT($C$2&$C36&\"!\"&CC$5&$CC$4+2)=\"\",\"★\",INDIRECT($C$2&$C36&\"!\"&CC$5&$CC$4+2))","v":{"$error":"#REF!"}},{"$f":"IF(INDIRECT($C$2&$C36&\"!\"&CD$5&$CC$4+2)=\"\",\"★\",INDIRECT($C$2&$C36&\"!\"&CD$5&$CC$4+2))","v":{"$error":"#REF!"}},{"$f":"IF(INDIRECT($C$2&$C36&\"!\"&CE$5&$CC$4+2)=\"\",\"★\",INDIRECT($C$2&$C36&\"!\"&CE$5&$CC$4+2))","v":{"$error":"#REF!"}},{"$f":"IF(INDIRECT($C$2&$C36&\"!\"&CF$5&$CC$4+2)=\"\",\"★\",INDIRECT($C$2&$C36&\"!\"&CF$5&$CC$4+2))","v":{"$error":"#REF!"}},{"$f":"IF(INDIRECT($C$2&$C36&\"!\"&CG$5&$CC$4+2)=\"\",\"★\",INDIRECT($C$2&$C36&\"!\"&CG$5&$CC$4+2))","v":{"$error":"#REF!"}},{"$f":"IF(INDIRECT($C$2&$C36&\"!\"&CH$5&$CC$4+2)=\"\",\"★\",INDIRECT($C$2&$C36&\"!\"&CH$5&$CC$4+2))","v":{"$error":"#REF!"}},null,null,null,null,{"$f":"IF(INDIRECT($C$2&$C36&\"!\"&CM$5&$CM$4+2)=\"\",\"★\",INDIRECT($C$2&$C36&\"!\"&CM$5&$CM$4+2))","v":{"$error":"#REF!"}},{"$f":"IF(INDIRECT($C$2&$C36&\"!\"&CN$5&$CM$4+2)=\"\",\"★\",INDIRECT($C$2&$C36&\"!\"&CN$5&$CM$4+2))","v":{"$error":"#REF!"}},{"$f":"IF(INDIRECT($C$2&$C36&\"!\"&CO$5&$CM$4+2)=\"\",\"★\",INDIRECT($C$2&$C36&\"!\"&CO$5&$CM$4+2))","v":{"$error":"#REF!"}},{"$f":"IF(INDIRECT($C$2&$C36&\"!\"&CP$5&$CM$4+2)=\"\",\"★\",INDIRECT($C$2&$C36&\"!\"&CP$5&$CM$4+2))","v":{"$error":"#REF!"}},{"$f":"IF(INDIRECT($C$2&$C36&\"!\"&CQ$5&$CM$4+2)=\"\",\"★\",INDIRECT($C$2&$C36&\"!\"&CQ$5&$CM$4+2))","v":{"$error":"#REF!"}},{"$f":"IF(INDIRECT($C$2&$C36&\"!\"&CR$5&$CM$4+2)=\"\",\"★\",INDIRECT($C$2&$C36&\"!\"&CR$5&$CM$4+2))","v":{"$error":"#REF!"}},null,null,null,null,{"$f":"IF(INDIRECT($C$2&$C36&\"!\"&CW$5&$CW$4+2)=\"\",\"★\",INDIRECT($C$2&$C36&\"!\"&CW$5&$CW$4+2))","v":{"$error":"#REF!"}},{"$f":"IF(INDIRECT($C$2&$C36&\"!\"&CX$5&$CW$4+2)=\"\",\"★\",INDIRECT($C$2&$C36&\"!\"&CX$5&$CW$4+2))","v":{"$error":"#REF!"}},{"$f":"IF(INDIRECT($C$2&$C36&\"!\"&CY$5&$CW$4+2)=\"\",\"★\",INDIRECT($C$2&$C36&\"!\"&CY$5&$CW$4+2))","v":{"$error":"#REF!"}},{"$f":"IF(INDIRECT($C$2&$C36&\"!\"&CZ$5&$CW$4+2)=\"\",\"★\",INDIRECT($C$2&$C36&\"!\"&CZ$5&$CW$4+2))","v":{"$error":"#REF!"}},{"$f":"IF(INDIRECT($C$2&$C36&\"!\"&DA$5&$CW$4+2)=\"\",\"★\",INDIRECT($C$2&$C36&\"!\"&DA$5&$CW$4+2))","v":{"$error":"#REF!"}},{"$f":"IF(INDIRECT($C$2&$C36&\"!\"&DB$5&$CW$4+2)=\"\",\"★\",INDIRECT($C$2&$C36&\"!\"&DB$5&$CW$4+2))","v":{"$error":"#REF!"}},null,null,null,null,{"$f":"IF(INDIRECT($C$2&$C36&\"!\"&DG$5&$DG$4+2)=\"\",\"★\",INDIRECT($C$2&$C36&\"!\"&DG$5&$DG$4+2))","v":{"$error":"#REF!"}},{"$f":"IF(INDIRECT($C$2&$C36&\"!\"&DH$5&$DG$4+2)=\"\",\"★\",INDIRECT($C$2&$C36&\"!\"&DH$5&$DG$4+2))","v":{"$error":"#REF!"}},{"$f":"IF(INDIRECT($C$2&$C36&\"!\"&DI$5&$DG$4+2)=\"\",\"★\",INDIRECT($C$2&$C36&\"!\"&DI$5&$DG$4+2))","v":{"$error":"#REF!"}},{"$f":"IF(INDIRECT($C$2&$C36&\"!\"&DJ$5&$DG$4+2)=\"\",\"★\",INDIRECT($C$2&$C36&\"!\"&DJ$5&$DG$4+2))","v":{"$error":"#REF!"}},{"$f":"IF(INDIRECT($C$2&$C36&\"!\"&DK$5&$DG$4+2)=\"\",\"★\",INDIRECT($C$2&$C36&\"!\"&DK$5&$DG$4+2))","v":{"$error":"#REF!"}},{"$f":"IF(INDIRECT($C$2&$C36&\"!\"&DL$5&$DG$4+2)=\"\",\"★\",INDIRECT($C$2&$C36&\"!\"&DL$5&$DG$4+2))","v":{"$error":"#REF!"}}]
[null,null,"★",null,null,null,null,null,null,null,null,{"$f":"$C37&\"-4\"","v":"★-4"},{"$f":"IF(INDIRECT($C$2&$C37&\"!\"&M$5&$M$4+3)=\"\",\"★\",INDIRECT($C$2&$C37&\"!\"&M$5&$M$4+3))","v":{"$error":"#REF!"}},{"$f":"IF(INDIRECT($C$2&$C37&\"!\"&N$5&$M$4+3)=\"\",\"★\",INDIRECT($C$2&$C37&\"!\"&N$5&$M$4+3))","v":{"$error":"#REF!"}},{"$f":"IF(INDIRECT($C$2&$C37&\"!\"&O$5&$M$4+3)=\"\",\"★\",INDIRECT($C$2&$C37&\"!\"&O$5&$M$4+3))","v":{"$error":"#REF!"}},{"$f":"IF(INDIRECT($C$2&$C37&\"!\"&P$5&$M$4+3)=\"\",\"★\",INDIRECT($C$2&$C37&\"!\"&P$5&$M$4+3))","v":{"$error":"#REF!"}},{"$f":"IF(INDIRECT($C$2&$C37&\"!\"&Q$5&$M$4+3)=\"\",\"★\",INDIRECT($C$2&$C37&\"!\"&Q$5&$M$4+3))","v":{"$error":"#REF!"}},{"$f":"IF(INDIRECT($C$2&$C37&\"!\"&R$5&$M$4+3)=\"\",\"★\",INDIRECT($C$2&$C37&\"!\"&R$5&$M$4+3))","v":{"$error":"#REF!"}},{"$f":"IF(INDIRECT($C$2&$C37&\"!\"&S$5&$M$4+3)=\"\",\"★\",INDIRECT($C$2&$C37&\"!\"&S$5&$M$4+3))","v":{"$error":"#REF!"}},{"$f":"IF(INDIRECT($C$2&$C37&\"!\"&T$5&$M$4+3)=\"\",\"★\",INDIRECT($C$2&$C37&\"!\"&T$5&$M$4+3))","v":{"$error":"#REF!"}},null,{"$f":"IF(INDIRECT($C$2&$C37&\"!\"&V$5&$V$4+3)=\"\",\"★\",INDIRECT($C$2&$C37&\"!\"&V$5&$V$4+3))","v":{"$error":"#REF!"}},{"$f":"IF(INDIRECT($C$2&$C37&\"!\"&W$5&$V$4+3)=\"\",\"★\",INDIRECT($C$2&$C37&\"!\"&W$5&$V$4+3))","v":{"$error":"#REF!"}},{"$f":"IF(INDIRECT($C$2&$C37&\"!\"&X$5&$V$4+3)=\"\",\"★\",INDIRECT($C$2&$C37&\"!\"&X$5&$V$4+3))","v":{"$error":"#REF!"}},{"$f":"IF(INDIRECT($C$2&$C37&\"!\"&Y$5&$V$4+3)=\"\",\"★\",INDIRECT($C$2&$C37&\"!\"&Y$5&$V$4+3))","v":{"$error":"#REF!"}},{"$f":"IF(INDIRECT($C$2&$C37&\"!\"&Z$5&$V$4+3)=\"\",\"★\",INDIRECT($C$2&$C37&\"!\"&Z$5&$V$4+3))","v":{"$error":"#REF!"}},{"$f":"IF(INDIRECT($C$2&$C37&\"!\"&AA$5&$V$4+3)=\"\",\"★\",INDIRECT($C$2&$C37&\"!\"&AA$5&$V$4+3))","v":{"$error":"#REF!"}},{"$f":"IF(INDIRECT($C$2&$C37&\"!\"&AB$5&$V$4+3)=\"\",\"★\",INDIRECT($C$2&$C37&\"!\"&AB$5&$V$4+3))","v":{"$error":"#REF!"}},{"$f":"IF(INDIRECT($C$2&$C37&\"!\"&AC$5&$V$4+3)=\"\",\"★\",INDIRECT($C$2&$C37&\"!\"&AC$5&$V$4+3))","v":{"$error":"#REF!"}},null,null,null,null,null,null,null,null,null,null,{"$f":"IF(INDIRECT($C$2&$C37&\"!\"&AN$5&$AN$4+3)=\"\",\"★\",INDIRECT($C$2&$C37&\"!\"&AN$5&$AN$4+3))","v":{"$error":"#REF!"}},{"$f":"IF(INDIRECT($C$2&$C37&\"!\"&AO$5&$AN$4+3)=\"\",\"★\",INDIRECT($C$2&$C37&\"!\"&AO$5&$AN$4+3))","v":{"$error":"#REF!"}},{"$f":"IF(INDIRECT($C$2&$C37&\"!\"&AP$5&$AN$4+3)=\"\",\"★\",INDIRECT($C$2&$C37&\"!\"&AP$5&$AN$4+3))","v":{"$error":"#REF!"}},{"$f":"IF(INDIRECT($C$2&$C37&\"!\"&AQ$5&$AN$4+3)=\"\",\"★\",INDIRECT($C$2&$C37&\"!\"&AQ$5&$AN$4+3))","v":{"$error":"#REF!"}},{"$f":"IF(INDIRECT($C$2&$C37&\"!\"&AR$5&$AN$4+3)=\"\",\"★\",INDIRECT($C$2&$C37&\"!\"&AR$5&$AN$4+3))","v":{"$error":"#REF!"}},{"$f":"IF(INDIRECT($C$2&$C37&\"!\"&AS$5&$AN$4+3)=\"\",\"★\",INDIRECT($C$2&$C37&\"!\"&AS$5&$AN$4+3))","v":{"$error":"#REF!"}},{"$f":"IF(INDIRECT($C$2&$C37&\"!\"&AT$5&$AN$4+3)=\"\",\"★\",INDIRECT($C$2&$C37&\"!\"&AT$5&$AN$4+3))","v":{"$error":"#REF!"}},{"$f":"IF(INDIRECT($C$2&$C37&\"!\"&AU$5&$AN$4+3)=\"\",\"★\",INDIRECT($C$2&$C37&\"!\"&AU$5&$AN$4+3))","v":{"$error":"#REF!"}},null,null,null,null,{"$f":"IF(INDIRECT($C$2&$C37&\"!\"&AZ$5&$AZ$4+3)=\"\",\"★\",INDIRECT($C$2&$C37&\"!\"&AZ$5&$AZ$4+3))","v":{"$error":"#REF!"}},{"$f":"IF(INDIRECT($C$2&$C37&\"!\"&BA$5&$AZ$4+3)=\"\",\"★\",INDIRECT($C$2&$C37&\"!\"&BA$5&$AZ$4+3))","v":{"$error":"#REF!"}},{"$f":"IF(INDIRECT($C$2&$C37&\"!\"&BB$5&$AZ$4+3)=\"\",\"★\",INDIRECT($C$2&$C37&\"!\"&BB$5&$AZ$4+3))","v":{"$error":"#REF!"}},{"$f":"IF(INDIRECT($C$2&$C37&\"!\"&BC$5&$AZ$4+3)=\"\",\"★\",INDIRECT($C$2&$C37&\"!\"&BC$5&$AZ$4+3))","v":{"$error":"#REF!"}},{"$f":"IF(INDIRECT($C$2&$C37&\"!\"&BD$5&$AZ$4+3)=\"\",\"★\",INDIRECT($C$2&$C37&\"!\"&BD$5&$AZ$4+3))","v":{"$error":"#REF!"}},{"$f":"IF(INDIRECT($C$2&$C37&\"!\"&BE$5&$AZ$4+3)=\"\",\"★\",INDIRECT($C$2&$C37&\"!\"&BE$5&$AZ$4+3))","v":{"$error":"#REF!"}},{"$f":"IF(INDIRECT($C$2&$C37&\"!\"&BF$5&$AZ$4+3)=\"\",\"★\",INDIRECT($C$2&$C37&\"!\"&BF$5&$AZ$4+3))","v":{"$error":"#REF!"}},{"$f":"IF(INDIRECT($C$2&$C37&\"!\"&BG$5&$AZ$4+3)=\"\",\"★\",INDIRECT($C$2&$C37&\"!\"&BG$5&$AZ$4+3))","v":{"$error":"#REF!"}},null,null,null,null,{"$f":"IF(INDIRECT($C$2&$C37&\"!\"&BL$5&$BL$4+3)=\"\",\"★\",INDIRECT($C$2&$C37&\"!\"&BL$5&$BL$4+3))","v":{"$error":"#REF!"}},{"$f":"IF(INDIRECT($C$2&$C37&\"!\"&BM$5&$BL$4+3)=\"\",\"★\",INDIRECT($C$2&$C37&\"!\"&BM$5&$BL$4+3))","v":{"$error":"#REF!"}},{"$f":"IF(INDIRECT($C$2&$C37&\"!\"&BN$5&$BL$4+3)=\"\",\"★\",INDIRECT($C$2&$C37&\"!\"&BN$5&$BL$4+3))","v":{"$error":"#REF!"}},{"$f":"IF(INDIRECT($C$2&$C37&\"!\"&BO$5&$BL$4+3)=\"\",\"★\",INDIRECT($C$2&$C37&\"!\"&BO$5&$BL$4+3))","v":{"$error":"#REF!"}},{"$f":"IF(INDIRECT($C$2&$C37&\"!\"&BP$5&$BL$4+3)=\"\",\"★\",INDIRECT($C$2&$C37&\"!\"&BP$5&$BL$4+3))","v":{"$error":"#REF!"}},{"$f":"IF(INDIRECT($C$2&$C37&\"!\"&BQ$5&$BL$4+3)=\"\",\"★\",INDIRECT($C$2&$C37&\"!\"&BQ$5&$BL$4+3))","v":{"$error":"#REF!"}},{"$f":"IF(INDIRECT($C$2&$C37&\"!\"&BR$5&$BL$4+3)=\"\",\"★\",INDIRECT($C$2&$C37&\"!\"&BR$5&$BL$4+3))","v":{"$error":"#REF!"}},{"$f":"IF(INDIRECT($C$2&$C37&\"!\"&BS$5&$BL$4+3)=\"\",\"★\",INDIRECT($C$2&$C37&\"!\"&BS$5&$BL$4+3))","v":{"$error":"#REF!"}},null,null,{"$f":"IF(INDIRECT($C$2&$C37&\"!\"&BV$5&$BV$4+3)=\"\",\"★\",INDIRECT($C$2&$C37&\"!\"&BV$5&$BV$4+3))","v":{"$error":"#REF!"}},{"$f":"IF(INDIRECT($C$2&$C37&\"!\"&BW$5&$BV$4+3)=\"\",\"★\",INDIRECT($C$2&$C37&\"!\"&BW$5&$BV$4+3))","v":{"$error":"#REF!"}},{"$f":"IF(INDIRECT($C$2&$C37&\"!\"&BX$5&$BV$4+3)=\"\",\"★\",INDIRECT($C$2&$C37&\"!\"&BX$5&$BV$4+3))","v":{"$error":"#REF!"}},{"$f":"IF(INDIRECT($C$2&$C37&\"!\"&BY$5&$BV$4+3)=\"\",\"★\",INDIRECT($C$2&$C37&\"!\"&BY$5&$BV$4+3))","v":{"$error":"#REF!"}},{"$f":"IF(INDIRECT($C$2&$C37&\"!\"&BZ$5&$BV$4+3)=\"\",\"★\",INDIRECT($C$2&$C37&\"!\"&BZ$5&$BV$4+3))","v":{"$error":"#REF!"}},{"$f":"IF(INDIRECT($C$2&$C37&\"!\"&CA$5&$BV$4+3)=\"\",\"★\",INDIRECT($C$2&$C37&\"!\"&CA$5&$BV$4+3))","v":{"$error":"#REF!"}},null,{"$f":"IF(INDIRECT($C$2&$C37&\"!\"&CC$5&$CC$4+3)=\"\",\"★\",INDIRECT($C$2&$C37&\"!\"&CC$5&$CC$4+3))","v":{"$error":"#REF!"}},{"$f":"IF(INDIRECT($C$2&$C37&\"!\"&CD$5&$CC$4+3)=\"\",\"★\",INDIRECT($C$2&$C37&\"!\"&CD$5&$CC$4+3))","v":{"$error":"#REF!"}},{"$f":"IF(INDIRECT($C$2&$C37&\"!\"&CE$5&$CC$4+3)=\"\",\"★\",INDIRECT($C$2&$C37&\"!\"&CE$5&$CC$4+3))","v":{"$error":"#REF!"}},{"$f":"IF(INDIRECT($C$2&$C37&\"!\"&CF$5&$CC$4+3)=\"\",\"★\",INDIRECT($C$2&$C37&\"!\"&CF$5&$CC$4+3))","v":{"$error":"#REF!"}},{"$f":"IF(INDIRECT($C$2&$C37&\"!\"&CG$5&$CC$4+3)=\"\",\"★\",INDIRECT($C$2&$C37&\"!\"&CG$5&$CC$4+3))","v":{"$error":"#REF!"}},{"$f":"IF(INDIRECT($C$2&$C37&\"!\"&CH$5&$CC$4+3)=\"\",\"★\",INDIRECT($C$2&$C37&\"!\"&CH$5&$CC$4+3))","v":{"$error":"#REF!"}},null,null,null,null,{"$f":"IF(INDIRECT($C$2&$C37&\"!\"&CM$5&$CM$4+3)=\"\",\"★\",INDIRECT($C$2&$C37&\"!\"&CM$5&$CM$4+3))","v":{"$error":"#REF!"}},{"$f":"IF(INDIRECT($C$2&$C37&\"!\"&CN$5&$CM$4+3)=\"\",\"★\",INDIRECT($C$2&$C37&\"!\"&CN$5&$CM$4+3))","v":{"$error":"#REF!"}},{"$f":"IF(INDIRECT($C$2&$C37&\"!\"&CO$5&$CM$4+3)=\"\",\"★\",INDIRECT($C$2&$C37&\"!\"&CO$5&$CM$4+3))","v":{"$error":"#REF!"}},{"$f":"IF(INDIRECT($C$2&$C37&\"!\"&CP$5&$CM$4+3)=\"\",\"★\",INDIRECT($C$2&$C37&\"!\"&CP$5&$CM$4+3))","v":{"$error":"#REF!"}},{"$f":"IF(INDIRECT($C$2&$C37&\"!\"&CQ$5&$CM$4+3)=\"\",\"★\",INDIRECT($C$2&$C37&\"!\"&CQ$5&$CM$4+3))","v":{"$error":"#REF!"}},{"$f":"IF(INDIRECT($C$2&$C37&\"!\"&CR$5&$CM$4+3)=\"\",\"★\",INDIRECT($C$2&$C37&\"!\"&CR$5&$CM$4+3))","v":{"$error":"#REF!"}},null,null,null,null,{"$f":"IF(INDIRECT($C$2&$C37&\"!\"&CW$5&$CW$4+3)=\"\",\"★\",INDIRECT($C$2&$C37&\"!\"&CW$5&$CW$4+3))","v":{"$error":"#REF!"}},{"$f":"IF(INDIRECT($C$2&$C37&\"!\"&CX$5&$CW$4+3)=\"\",\"★\",INDIRECT($C$2&$C37&\"!\"&CX$5&$CW$4+3))","v":{"$error":"#REF!"}},{"$f":"IF(INDIRECT($C$2&$C37&\"!\"&CY$5&$CW$4+3)=\"\",\"★\",INDIRECT($C$2&$C37&\"!\"&CY$5&$CW$4+3))","v":{"$error":"#REF!"}},{"$f":"IF(INDIRECT($C$2&$C37&\"!\"&CZ$5&$CW$4+3)=\"\",\"★\",INDIRECT($C$2&$C37&\"!\"&CZ$5&$CW$4+3))","v":{"$error":"#REF!"}},{"$f":"IF(INDIRECT($C$2&$C37&\"!\"&DA$5&$CW$4+3)=\"\",\"★\",INDIRECT($C$2&$C37&\"!\"&DA$5&$CW$4+3))","v":{"$error":"#REF!"}},{"$f":"IF(INDIRECT($C$2&$C37&\"!\"&DB$5&$CW$4+3)=\"\",\"★\",INDIRECT($C$2&$C37&\"!\"&DB$5&$CW$4+3))","v":{"$error":"#REF!"}},null,null,null,null,{"$f":"IF(INDIRECT($C$2&$C37&\"!\"&DG$5&$DG$4+3)=\"\",\"★\",INDIRECT($C$2&$C37&\"!\"&DG$5&$DG$4+3))","v":{"$error":"#REF!"}},{"$f":"IF(INDIRECT($C$2&$C37&\"!\"&DH$5&$DG$4+3)=\"\",\"★\",INDIRECT($C$2&$C37&\"!\"&DH$5&$DG$4+3))","v":{"$error":"#REF!"}},{"$f":"IF(INDIRECT($C$2&$C37&\"!\"&DI$5&$DG$4+3)=\"\",\"★\",INDIRECT($C$2&$C37&\"!\"&DI$5&$DG$4+3))","v":{"$error":"#REF!"}},{"$f":"IF(INDIRECT($C$2&$C37&\"!\"&DJ$5&$DG$4+3)=\"\",\"★\",INDIRECT($C$2&$C37&\"!\"&DJ$5&$DG$4+3))","v":{"$error":"#REF!"}},{"$f":"IF(INDIRECT($C$2&$C37&\"!\"&DK$5&$DG$4+3)=\"\",\"★\",INDIRECT($C$2&$C37&\"!\"&DK$5&$DG$4+3))","v":{"$error":"#REF!"}},{"$f":"IF(INDIRECT($C$2&$C37&\"!\"&DL$5&$DG$4+3)=\"\",\"★\",INDIRECT($C$2&$C37&\"!\"&DL$5&$DG$4+3))","v":{"$error":"#REF!"}}]
[null,null,{"$f":"IF(INDIRECT($B$2&\"B28\")=\"\",\"★\",INDIRECT($B$2&\"B28\"))","v":"★"},{"$f":"IF(INDIRECT($C$2&$C38&\"!K12\")=\"\",\"★\",INDIRECT($C$2&$C38&\"!K12\"))","v":{"$error":"#REF!"}},{"$f":"IF(INDIRECT($C$2&$C38&\"!L12\")=\"\",\"★\",INDIRECT($C$2&$C38&\"!L12\"))","v":{"$error":"#REF!"}},{"$f":"IF(INDIRECT($C$2&$C38&\"!D13\")=\"\",\"★\",INDIRECT($C$2&$C38&\"!D13\"))","v":{"$error":"#REF!"}},{"$f":"IF(INDIRECT($C$2&$C38&\"!D14\")=\"\",\"★\",INDIRECT($C$2&$C38&\"!D14\"))","v":{"$error":"#REF!"}},{"$f":"IF(INDIRECT($C$2&$C38&\"!D15\")=\"\",\"★\",INDIRECT($C$2&$C38&\"!D15\"))","v":{"$error":"#REF!"}},{"$f":"IF(INDIRECT($C$2&$C38&\"!D16\")=\"\",\"★\",INDIRECT($C$2&$C38&\"!D16\"))","v":{"$error":"#REF!"}},{"$f":"IF(INDIRECT($C$2&$C38&\"!D17\")=\"\",\"★\",INDIRECT($C$2&$C38&\"!D17\"))","v":{"$error":"#REF!"}},{"$f":"IF(INDIRECT($C$2&$C38&\"!D18\")=\"\",\"★\",INDIRECT($C$2&$C38&\"!D18\"))","v":{"$error":"#REF!"}},{"$f":"$C38&\"-1\"","v":"★-1"},{"$f":"IF(INDIRECT($C$2&$C38&\"!\"&M$5&$M$4)=\"\",\"★\",INDIRECT($C$2&$C38&\"!\"&M$5&$M$4))","v":{"$error":"#REF!"}},{"$f":"IF(INDIRECT($C$2&$C38&\"!\"&N$5&$M$4)=\"\",\"★\",INDIRECT($C$2&$C38&\"!\"&N$5&$M$4))","v":{"$error":"#REF!"}},{"$f":"IF(INDIRECT($C$2&$C38&\"!\"&O$5&$M$4)=\"\",\"★\",INDIRECT($C$2&$C38&\"!\"&O$5&$M$4))","v":{"$error":"#REF!"}},{"$f":"IF(INDIRECT($C$2&$C38&\"!\"&P$5&$M$4)=\"\",\"★\",INDIRECT($C$2&$C38&\"!\"&P$5&$M$4))","v":{"$error":"#REF!"}},{"$f":"IF(INDIRECT($C$2&$C38&\"!\"&Q$5&$M$4)=\"\",\"★\",INDIRECT($C$2&$C38&\"!\"&Q$5&$M$4))","v":{"$error":"#REF!"}},{"$f":"IF(INDIRECT($C$2&$C38&\"!\"&R$5&$M$4)=\"\",\"★\",INDIRECT($C$2&$C38&\"!\"&R$5&$M$4))","v":{"$error":"#REF!"}},{"$f":"IF(INDIRECT($C$2&$C38&\"!\"&S$5&$M$4)=\"\",\"★\",INDIRECT($C$2&$C38&\"!\"&S$5&$M$4))","v":{"$error":"#REF!"}},{"$f":"IF(INDIRECT($C$2&$C38&\"!\"&T$5&$M$4)=\"\",\"★\",INDIRECT($C$2&$C38&\"!\"&T$5&$M$4))","v":{"$error":"#REF!"}},{"$f":"IF(INDIRECT($C$2&$C38&\"!\"&U$5&$M$4)=\"\",\"★\",INDIRECT($C$2&$C38&\"!\"&U$5&$M$4))","v":{"$error":"#REF!"}},{"$f":"IF(INDIRECT($C$2&$C38&\"!\"&V$5&$V$4)=\"\",\"★\",INDIRECT($C$2&$C38&\"!\"&V$5&$V$4))","v":{"$error":"#REF!"}},{"$f":"IF(INDIRECT($C$2&$C38&\"!\"&W$5&$V$4)=\"\",\"★\",INDIRECT($C$2&$C38&\"!\"&W$5&$V$4))","v":{"$error":"#REF!"}},{"$f":"IF(INDIRECT($C$2&$C38&\"!\"&X$5&$V$4)=\"\",\"★\",INDIRECT($C$2&$C38&\"!\"&X$5&$V$4))","v":{"$error":"#REF!"}},{"$f":"IF(INDIRECT($C$2&$C38&\"!\"&Y$5&$V$4)=\"\",\"★\",INDIRECT($C$2&$C38&\"!\"&Y$5&$V$4))","v":{"$error":"#REF!"}},{"$f":"IF(INDIRECT($C$2&$C38&\"!\"&Z$5&$V$4)=\"\",\"★\",INDIRECT($C$2&$C38&\"!\"&Z$5&$V$4))","v":{"$error":"#REF!"}},{"$f":"IF(INDIRECT($C$2&$C38&\"!\"&AA$5&$V$4)=\"\",\"★\",INDIRECT($C$2&$C38&\"!\"&AA$5&$V$4))","v":{"$error":"#REF!"}},{"$f":"IF(INDIRECT($C$2&$C38&\"!\"&AB$5&$V$4)=\"\",\"★\",INDIRECT($C$2&$C38&\"!\"&AB$5&$V$4))","v":{"$error":"#REF!"}},{"$f":"IF(INDIRECT($C$2&$C38&\"!\"&AC$5&$V$4)=\"\",\"★\",INDIRECT($C$2&$C38&\"!\"&AC$5&$V$4))","v":{"$error":"#REF!"}},{"$f":"IF(INDIRECT($C$2&$C38&\"!\"&AD$5&$V$4)=\"\",\"★\",INDIRECT($C$2&$C38&\"!\"&AD$5&$V$4))","v":{"$error":"#REF!"}},{"$f":"IF(INDIRECT($C$2&$C38&\"!\"&AE$5&$V$4)=\"\",\"★\",INDIRECT($C$2&$C38&\"!\"&AE$5&$V$4))","v":{"$error":"#REF!"}},{"$f":"IF(INDIRECT($C$2&$C38&\"!\"&AF$5&$AF$4)=\"\",\"★\",INDIRECT($C$2&$C38&\"!\"&AF$5&$AF$4))","v":{"$error":"#REF!"}},{"$f":"IF(INDIRECT($C$2&$C38&\"!\"&AG$5&$AF$4)=\"\",\"★\",INDIRECT($C$2&$C38&\"!\"&AG$5&$AF$4))","v":{"$error":"#REF!"}},{"$f":"IF(INDIRECT($C$2&$C38&\"!\"&AH$5&$AH$4)=\"\",\"★\",INDIRECT($C$2&$C38&\"!\"&AH$5&$AH$4))","v":{"$error":"#REF!"}},{"$f":"IF(INDIRECT($C$2&$C38&\"!\"&AI$5&$AH$4)=\"\",\"★\",INDIRECT($C$2&$C38&\"!\"&AI$5&$AH$4))","v":{"$error":"#REF!"}},{"$f":"IF(INDIRECT($C$2&$C38&\"!\"&AJ$5&$AJ$4)=\"\",\"★\",INDIRECT($C$2&$C38&\"!\"&AJ$5&$AJ$4))","v":{"$error":"#REF!"}},{"$f":"IF(INDIRECT($C$2&$C38&\"!\"&AK$5&$AJ$4)=\"\",\"★\",INDIRECT($C$2&$C38&\"!\"&AK$5&$AJ$4))","v":{"$error":"#REF!"}},{"$f":"$AF38","v":{"$error":"#REF!"}},{"$f":"$AG38","v":{"$error":"#REF!"}},{"$f":"IF(INDIRECT($C$2&$C38&\"!\"&AN$5&$AN$4)=\"\",\"★\",INDIRECT($C$2&$C38&\"!\"&AN$5&$AN$4))","v":{"$error":"#REF!"}},{"$f":"IF(INDIRECT($C$2&$C38&\"!\"&AO$5&$AN$4)=\"\",\"★\",INDIRECT($C$2&$C38&\"!\"&AO$5&$AN$4))","v":{"$error":"#REF!"}},{"$f":"IF(INDIRECT($C$2&$C38&\"!\"&AP$5&$AN$4)=\"\",\"★\",INDIRECT($C$2&$C38&\"!\"&AP$5&$AN$4))","v":{"$error":"#REF!"}},{"$f":"IF(INDIRECT($C$2&$C38&\"!\"&AQ$5&$AN$4)=\"\",\"★\",INDIRECT($C$2&$C38&\"!\"&AQ$5&$AN$4))","v":{"$error":"#REF!"}},{"$f":"IF(INDIRECT($C$2&$C38&\"!\"&AR$5&$AN$4)=\"\",\"★\",INDIRECT($C$2&$C38&\"!\"&AR$5&$AN$4))","v":{"$error":"#REF!"}},{"$f":"IF(INDIRECT($C$2&$C38&\"!\"&AS$5&$AN$4)=\"\",\"★\",INDIRECT($C$2&$C38&\"!\"&AS$5&$AN$4))","v":{"$error":"#REF!"}},{"$f":"IF(INDIRECT($C$2&$C38&\"!\"&AT$5&$AN$4)=\"\",\"★\",INDIRECT($C$2&$C38&\"!\"&AT$5&$AN$4))","v":{"$error":"#REF!"}},{"$f":"IF(INDIRECT($C$2&$C38&\"!\"&AU$5&$AN$4)=\"\",\"★\",INDIRECT($C$2&$C38&\"!\"&AU$5&$AN$4))","v":{"$error":"#REF!"}},{"$f":"IF(INDIRECT($C$2&$C38&\"!\"&AV$5&$AN$4)=\"\",\"★\",INDIRECT($C$2&$C38&\"!\"&AV$5&$AN$4))","v":{"$error":"#REF!"}},{"$f":"IF(INDIRECT($C$2&$C38&\"!\"&AW$5&$AN$4)=\"\",\"★\",INDIRECT($C$2&$C38&\"!\"&AW$5&$AN$4))","v":{"$error":"#REF!"}},{"$f":"$AH38","v":{"$error":"#REF!"}},{"$f":"$AI38","v":{"$error":"#REF!"}},{"$f":"IF(INDIRECT($C$2&$C38&\"!\"&AZ$5&$AZ$4)=\"\",\"★\",INDIRECT($C$2&$C38&\"!\"&AZ$5&$AZ$4))","v":{"$error":"#REF!"}},{"$f":"IF(INDIRECT($C$2&$C38&\"!\"&BA$5&$AZ$4)=\"\",\"★\",INDIRECT($C$2&$C38&\"!\"&BA$5&$AZ$4))","v":{"$error":"#REF!"}},{"$f":"IF(INDIRECT($C$2&$C38&\"!\"&BB$5&$AZ$4)=\"\",\"★\",INDIRECT($C$2&$C38&\"!\"&BB$5&$AZ$4))","v":{"$error":"#REF!"}},{"$f":"IF(INDIRECT($C$2&$C38&\"!\"&BC$5&$AZ$4)=\"\",\"★\",INDIRECT($C$2&$C38&\"!\"&BC$5&$AZ$4))","v":{"$error":"#REF!"}},{"$f":"IF(INDIRECT($C$2&$C38&\"!\"&BD$5&$AZ$4)=\"\",\"★\",INDIRECT($C$2&$C38&\"!\"&BD$5&$AZ$4))","v":{"$error":"#REF!"}},{"$f":"IF(INDIRECT($C$2&$C38&\"!\"&BE$5&$AZ$4)=\"\",\"★\",INDIRECT($C$2&$C38&\"!\"&BE$5&$AZ$4))","v":{"$error":"#REF!"}},{"$f":"IF(INDIRECT($C$2&$C38&\"!\"&BF$5&$AZ$4)=\"\",\"★\",INDIRECT($C$2&$C38&\"!\"&BF$5&$AZ$4))","v":{"$error":"#REF!"}},{"$f":"IF(INDIRECT($C$2&$C38&\"!\"&BG$5&$AZ$4)=\"\",\"★\",INDIRECT($C$2&$C38&\"!\"&BG$5&$AZ$4))","v":{"$error":"#REF!"}},{"$f":"IF(INDIRECT($C$2&$C38&\"!\"&BH$5&$AZ$4)=\"\",\"★\",INDIRECT($C$2&$C38&\"!\"&BH$5&$AZ$4))","v":{"$error":"#REF!"}},{"$f":"IF(INDIRECT($C$2&$C38&\"!\"&BI$5&$AZ$4)=\"\",\"★\",INDIRECT($C$2&$C38&\"!\"&BI$5&$AZ$4))","v":{"$error":"#REF!"}},{"$f":"$AJ38","v":{"$error":"#REF!"}},{"$f":"$AK38","v":{"$error":"#REF!"}},{"$f":"IF(INDIRECT($C$2&$C38&\"!\"&BL$5&$BL$4)=\"\",\"★\",INDIRECT($C$2&$C38&\"!\"&BL$5&$BL$4))","v":{"$error":"#REF!"}},{"$f":"IF(INDIRECT($C$2&$C38&\"!\"&BM$5&$BL$4)=\"\",\"★\",INDIRECT($C$2&$C38&\"!\"&BM$5&$BL$4))","v":{"$error":"#REF!"}},{"$f":"IF(INDIRECT($C$2&$C38&\"!\"&BN$5&$BL$4)=\"\",\"★\",INDIRECT($C$2&$C38&\"!\"&BN$5&$BL$4))","v":{"$error":"#REF!"}},{"$f":"IF(INDIRECT($C$2&$C38&\"!\"&BO$5&$BL$4)=\"\",\"★\",INDIRECT($C$2&$C38&\"!\"&BO$5&$BL$4))","v":{"$error":"#REF!"}},{"$f":"IF(INDIRECT($C$2&$C38&\"!\"&BP$5&$BL$4)=\"\",\"★\",INDIRECT($C$2&$C38&\"!\"&BP$5&$BL$4))","v":{"$error":"#REF!"}},{"$f":"IF(INDIRECT($C$2&$C38&\"!\"&BQ$5&$BL$4)=\"\",\"★\",INDIRECT($C$2&$C38&\"!\"&BQ$5&$BL$4))","v":{"$error":"#REF!"}},{"$f":"IF(INDIRECT($C$2&$C38&\"!\"&BR$5&$BL$4)=\"\",\"★\",INDIRECT($C$2&$C38&\"!\"&BR$5&$BL$4))","v":{"$error":"#REF!"}},{"$f":"IF(INDIRECT($C$2&$C38&\"!\"&BS$5&$BL$4)=\"\",\"★\",INDIRECT($C$2&$C38&\"!\"&BS$5&$BL$4))","v":{"$error":"#REF!"}},{"$f":"IF(INDIRECT($C$2&$C38&\"!\"&BT$5&$BL$4)=\"\",\"★\",INDIRECT($C$2&$C38&\"!\"&BT$5&$BL$4))","v":{"$error":"#REF!"}},{"$f":"IF(INDIRECT($C$2&$C38&\"!\"&BU$5&$BL$4)=\"\",\"★\",INDIRECT($C$2&$C38&\"!\"&BU$5&$BL$4))","v":{"$error":"#REF!"}},{"$f":"IF(INDIRECT($C$2&$C38&\"!\"&BV$5&$BV$4)=\"\",\"★\",INDIRECT($C$2&$C38&\"!\"&BV$5&$BV$4))","v":{"$error":"#REF!"}},{"$f":"IF(INDIRECT($C$2&$C38&\"!\"&BW$5&$BV$4)=\"\",\"★\",INDIRECT($C$2&$C38&\"!\"&BW$5&$BV$4))","v":{"$error":"#REF!"}},{"$f":"IF(INDIRECT($C$2&$C38&\"!\"&BX$5&$BV$4)=\"\",\"★\",INDIRECT($C$2&$C38&\"!\"&BX$5&$BV$4))","v":{"$error":"#REF!"}},{"$f":"IF(INDIRECT($C$2&$C38&\"!\"&BY$5&$BV$4)=\"\",\"★\",INDIRECT($C$2&$C38&\"!\"&BY$5&$BV$4))","v":{"$error":"#REF!"}},{"$f":"IF(INDIRECT($C$2&$C38&\"!\"&BZ$5&$BV$4)=\"\",\"★\",INDIRECT($C$2&$C38&\"!\"&BZ$5&$BV$4))","v":{"$error":"#REF!"}},{"$f":"IF(INDIRECT($C$2&$C38&\"!\"&CA$5&$BV$4)=\"\",\"★\",INDIRECT($C$2&$C38&\"!\"&CA$5&$BV$4))","v":{"$error":"#REF!"}},{"$f":"IF(INDIRECT($C$2&$C38&\"!\"&CB$5&$BV$4)=\"\",\"★\",INDIRECT($C$2&$C38&\"!\"&CB$5&$BV$4))","v":{"$error":"#REF!"}},{"$f":"IF(INDIRECT($C$2&$C38&\"!\"&CC$5&$CC$4)=\"\",\"★\",INDIRECT($C$2&$C38&\"!\"&CC$5&$CC$4))","v":{"$error":"#REF!"}},{"$f":"IF(INDIRECT($C$2&$C38&\"!\"&CD$5&$CC$4)=\"\",\"★\",INDIRECT($C$2&$C38&\"!\"&CD$5&$CC$4))","v":{"$error":"#REF!"}},{"$f":"IF(INDIRECT($C$2&$C38&\"!\"&CE$5&$CC$4)=\"\",\"★\",INDIRECT($C$2&$C38&\"!\"&CE$5&$CC$4))","v":{"$error":"#REF!"}},{"$f":"IF(INDIRECT($C$2&$C38&\"!\"&CF$5&$CC$4)=\"\",\"★\",INDIRECT($C$2&$C38&\"!\"&CF$5&$CC$4))","v":{"$error":"#REF!"}},{"$f":"IF(INDIRECT($C$2&$C38&\"!\"&CG$5&$CC$4)=\"\",\"★\",INDIRECT($C$2&$C38&\"!\"&CG$5&$CC$4))","v":{"$error":"#REF!"}},{"$f":"IF(INDIRECT($C$2&$C38&\"!\"&CH$5&$CC$4)=\"\",\"★\",INDIRECT($C$2&$C38&\"!\"&CH$5&$CC$4))","v":{"$error":"#REF!"}},{"$f":"IF(INDIRECT($C$2&$C38&\"!\"&CI$5&$CC$4)=\"\",\"★\",INDIRECT($C$2&$C38&\"!\"&CI$5&$CC$4))","v":{"$error":"#REF!"}},{"$f":"IF(INDIRECT($C$2&$C38&\"!\"&CJ$5&$CC$4)=\"\",\"★\",INDIRECT($C$2&$C38&\"!\"&CJ$5&$CC$4))","v":{"$error":"#REF!"}},{"$f":"$AF38","v":{"$error":"#REF!"}},{"$f":"$AG38","v":{"$error":"#REF!"}},{"$f":"IF(INDIRECT($C$2&$C38&\"!\"&CM$5&$CM$4)=\"\",\"★\",INDIRECT($C$2&$C38&\"!\"&CM$5&$CM$4))","v":{"$error":"#REF!"}},{"$f":"IF(INDIRECT($C$2&$C38&\"!\"&CN$5&$CM$4)=\"\",\"★\",INDIRECT($C$2&$C38&\"!\"&CN$5&$CM$4))","v":{"$error":"#REF!"}},{"$f":"IF(INDIRECT($C$2&$C38&\"!\"&CO$5&$CM$4)=\"\",\"★\",INDIRECT($C$2&$C38&\"!\"&CO$5&$CM$4))","v":{"$error":"#REF!"}},{"$f":"IF(INDIRECT($C$2&$C38&\"!\"&CP$5&$CM$4)=\"\",\"★\",INDIRECT($C$2&$C38&\"!\"&CP$5&$CM$4))","v":{"$error":"#REF!"}},{"$f":"IF(INDIRECT($C$2&$C38&\"!\"&CQ$5&$CM$4)=\"\",\"★\",INDIRECT($C$2&$C38&\"!\"&CQ$5&$CM$4))","v":{"$error":"#REF!"}},{"$f":"IF(INDIRECT($C$2&$C38&\"!\"&CR$5&$CM$4)=\"\",\"★\",INDIRECT($C$2&$C38&\"!\"&CR$5&$CM$4))","v":{"$error":"#REF!"}},{"$f":"IF(INDIRECT($C$2&$C38&\"!\"&CS$5&$CM$4)=\"\",\"★\",INDIRECT($C$2&$C38&\"!\"&CS$5&$CM$4))","v":{"$error":"#REF!"}},{"$f":"IF(INDIRECT($C$2&$C38&\"!\"&CT$5&$CM$4)=\"\",\"★\",INDIRECT($C$2&$C38&\"!\"&CT$5&$CM$4))","v":{"$error":"#REF!"}},{"$f":"$AH38","v":{"$error":"#REF!"}},{"$f":"$AI38","v":{"$error":"#REF!"}},{"$f":"IF(INDIRECT($C$2&$C38&\"!\"&CW$5&$CW$4)=\"\",\"★\",INDIRECT($C$2&$C38&\"!\"&CW$5&$CW$4))","v":{"$error":"#REF!"}},{"$f":"IF(INDIRECT($C$2&$C38&\"!\"&CX$5&$CW$4)=\"\",\"★\",INDIRECT($C$2&$C38&\"!\"&CX$5&$CW$4))","v":{"$error":"#REF!"}},{"$f":"IF(INDIRECT($C$2&$C38&\"!\"&CY$5&$CW$4)=\"\",\"★\",INDIRECT($C$2&$C38&\"!\"&CY$5&$CW$4))","v":{"$error":"#REF!"}},{"$f":"IF(INDIRECT($C$2&$C38&\"!\"&CZ$5&$CW$4)=\"\",\"★\",INDIRECT($C$2&$C38&\"!\"&CZ$5&$CW$4))","v":{"$error":"#REF!"}},{"$f":"IF(INDIRECT($C$2&$C38&\"!\"&DA$5&$CW$4)=\"\",\"★\",INDIRECT($C$2&$C38&\"!\"&DA$5&$CW$4))","v":{"$error":"#REF!"}},{"$f":"IF(INDIRECT($C$2&$C38&\"!\"&DB$5&$CW$4)=\"\",\"★\",INDIRECT($C$2&$C38&\"!\"&DB$5&$CW$4))","v":{"$error":"#REF!"}},{"$f":"IF(INDIRECT($C$2&$C38&\"!\"&DC$5&$CW$4)=\"\",\"★\",INDIRECT($C$2&$C38&\"!\"&DC$5&$CW$4))","v":{"$error":"#REF!"}},{"$f":"IF(INDIRECT($C$2&$C38&\"!\"&DD$5&$CW$4)=\"\",\"★\",INDIRECT($C$2&$C38&\"!\"&DD$5&$CW$4))","v":{"$error":"#REF!"}},{"$f":"$AJ38","v":{"$error":"#REF!"}},{"$f":"$AK38","v":{"$error":"#REF!"}},{"$f":"IF(INDIRECT($C$2&$C38&\"!\"&DG$5&$DG$4)=\"\",\"★\",INDIRECT($C$2&$C38&\"!\"&DG$5&$DG$4))","v":{"$error":"#REF!"}},{"$f":"IF(INDIRECT($C$2&$C38&\"!\"&DH$5&$DG$4)=\"\",\"★\",INDIRECT($C$2&$C38&\"!\"&DH$5&$DG$4))","v":{"$error":"#REF!"}},{"$f":"IF(INDIRECT($C$2&$C38&\"!\"&DI$5&$DG$4)=\"\",\"★\",INDIRECT($C$2&$C38&\"!\"&DI$5&$DG$4))","v":{"$error":"#REF!"}},{"$f":"IF(INDIRECT($C$2&$C38&\"!\"&DJ$5&$DG$4)=\"\",\"★\",INDIRECT($C$2&$C38&\"!\"&DJ$5&$DG$4))","v":{"$error":"#REF!"}},{"$f":"IF(INDIRECT($C$2&$C38&\"!\"&DK$5&$DG$4)=\"\",\"★\",INDIRECT($C$2&$C38&\"!\"&DK$5&$DG$4))","v":{"$error":"#REF!"}},{"$f":"IF(INDIRECT($C$2&$C38&\"!\"&DL$5&$DG$4)=\"\",\"★\",INDIRECT($C$2&$C38&\"!\"&DL$5&$DG$4))","v":{"$error":"#REF!"}},{"$f":"IF(INDIRECT($C$2&$C38&\"!\"&DM$5&$DG$4)=\"\",\"★\",INDIRECT($C$2&$C38&\"!\"&DM$5&$DG$4))","v":{"$error":"#REF!"}},{"$f":"IF(INDIRECT($C$2&$C38&\"!\"&DN$5&$DG$4)=\"\",\"★\",INDIRECT($C$2&$C38&\"!\"&DN$5&$DG$4))","v":{"$error":"#REF!"}},{"$f":"IF(INDIRECT($C$2&$C38&\"!B57\")=\"\",\"★\",INDIRECT($C$2&$C38&\"!B57\"))","v":{"$error":"#REF!"}},{"$f":"IF(INDIRECT($C$2&$C38&\"!B100\")=\"\",\"★\",INDIRECT($C$2&$C38&\"!B100\"))","v":{"$error":"#REF!"}},{"$f":"IF(INDIRECT($C$2&$C38&\"!B112\")=\"\",\"★\",INDIRECT($C$2&$C38&\"!B112\"))","v":{"$error":"#REF!"}},{"$f":"IF(INDIRECT($C$2&$C38&\"!B155\")=\"\",\"★\",INDIRECT($C$2&$C38&\"!B155\"))","v":{"$error":"#REF!"}},{"$f":"IF(INDIRECT($C$2&$C38&\"!B167\")=\"\",\"★\",INDIRECT($C$2&$C38&\"!B167\"))","v":{"$error":"#REF!"}},{"$f":"IF(INDIRECT($C$2&$C38&\"!B210\")=\"\",\"★\",INDIRECT($C$2&$C38&\"!B210\"))","v":{"$error":"#REF!"}}]
[null,null,{"$f":"C38","v":"★"},null,null,null,null,null,null,null,null,{"$f":"$C39&\"-2\"","v":"★-2"},{"$f":"IF(INDIRECT($C$2&$C39&\"!\"&M$5&$M$4+1)=\"\",\"★\",INDIRECT($C$2&$C39&\"!\"&M$5&$M$4+1))","v":{"$error":"#REF!"}},{"$f":"IF(INDIRECT($C$2&$C39&\"!\"&N$5&$M$4+1)=\"\",\"★\",INDIRECT($C$2&$C39&\"!\"&N$5&$M$4+1))","v":{"$error":"#REF!"}},{"$f":"IF(INDIRECT($C$2&$C39&\"!\"&O$5&$M$4+1)=\"\",\"★\",INDIRECT($C$2&$C39&\"!\"&O$5&$M$4+1))","v":{"$error":"#REF!"}},{"$f":"IF(INDIRECT($C$2&$C39&\"!\"&P$5&$M$4+1)=\"\",\"★\",INDIRECT($C$2&$C39&\"!\"&P$5&$M$4+1))","v":{"$error":"#REF!"}},{"$f":"IF(INDIRECT($C$2&$C39&\"!\"&Q$5&$M$4+1)=\"\",\"★\",INDIRECT($C$2&$C39&\"!\"&Q$5&$M$4+1))","v":{"$error":"#REF!"}},{"$f":"IF(INDIRECT($C$2&$C39&\"!\"&R$5&$M$4+1)=\"\",\"★\",INDIRECT($C$2&$C39&\"!\"&R$5&$M$4+1))","v":{"$error":"#REF!"}},{"$f":"IF(INDIRECT($C$2&$C39&\"!\"&S$5&$M$4+1)=\"\",\"★\",INDIRECT($C$2&$C39&\"!\"&S$5&$M$4+1))","v":{"$error":"#REF!"}},{"$f":"IF(INDIRECT($C$2&$C39&\"!\"&T$5&$M$4+1)=\"\",\"★\",INDIRECT($C$2&$C39&\"!\"&T$5&$M$4+1))","v":{"$error":"#REF!"}},null,{"$f":"IF(INDIRECT($C$2&$C39&\"!\"&V$5&$V$4+1)=\"\",\"★\",INDIRECT($C$2&$C39&\"!\"&V$5&$V$4+1))","v":{"$error":"#REF!"}},{"$f":"IF(INDIRECT($C$2&$C39&\"!\"&W$5&$V$4+1)=\"\",\"★\",INDIRECT($C$2&$C39&\"!\"&W$5&$V$4+1))","v":{"$error":"#REF!"}},{"$f":"IF(INDIRECT($C$2&$C39&\"!\"&X$5&$V$4+1)=\"\",\"★\",INDIRECT($C$2&$C39&\"!\"&X$5&$V$4+1))","v":{"$error":"#REF!"}},{"$f":"IF(INDIRECT($C$2&$C39&\"!\"&Y$5&$V$4+1)=\"\",\"★\",INDIRECT($C$2&$C39&\"!\"&Y$5&$V$4+1))","v":{"$error":"#REF!"}},{"$f":"IF(INDIRECT($C$2&$C39&\"!\"&Z$5&$V$4+1)=\"\",\"★\",INDIRECT($C$2&$C39&\"!\"&Z$5&$V$4+1))","v":{"$error":"#REF!"}},{"$f":"IF(INDIRECT($C$2&$C39&\"!\"&AA$5&$V$4+1)=\"\",\"★\",INDIRECT($C$2&$C39&\"!\"&AA$5&$V$4+1))","v":{"$error":"#REF!"}},{"$f":"IF(INDIRECT($C$2&$C39&\"!\"&AB$5&$V$4+1)=\"\",\"★\",INDIRECT($C$2&$C39&\"!\"&AB$5&$V$4+1))","v":{"$error":"#REF!"}},{"$f":"IF(INDIRECT($C$2&$C39&\"!\"&AC$5&$V$4+1)=\"\",\"★\",INDIRECT($C$2&$C39&\"!\"&AC$5&$V$4+1))","v":{"$error":"#REF!"}},null,null,null,null,null,null,null,null,null,null,{"$f":"IF(INDIRECT($C$2&$C39&\"!\"&AN$5&$AN$4+1)=\"\",\"★\",INDIRECT($C$2&$C39&\"!\"&AN$5&$AN$4+1))","v":{"$error":"#REF!"}},{"$f":"IF(INDIRECT($C$2&$C39&\"!\"&AO$5&$AN$4+1)=\"\",\"★\",INDIRECT($C$2&$C39&\"!\"&AO$5&$AN$4+1))","v":{"$error":"#REF!"}},{"$f":"IF(INDIRECT($C$2&$C39&\"!\"&AP$5&$AN$4+1)=\"\",\"★\",INDIRECT($C$2&$C39&\"!\"&AP$5&$AN$4+1))","v":{"$error":"#REF!"}},{"$f":"IF(INDIRECT($C$2&$C39&\"!\"&AQ$5&$AN$4+1)=\"\",\"★\",INDIRECT($C$2&$C39&\"!\"&AQ$5&$AN$4+1))","v":{"$error":"#REF!"}},{"$f":"IF(INDIRECT($C$2&$C39&\"!\"&AR$5&$AN$4+1)=\"\",\"★\",INDIRECT($C$2&$C39&\"!\"&AR$5&$AN$4+1))","v":{"$error":"#REF!"}},{"$f":"IF(INDIRECT($C$2&$C39&\"!\"&AS$5&$AN$4+1)=\"\",\"★\",INDIRECT($C$2&$C39&\"!\"&AS$5&$AN$4+1))","v":{"$error":"#REF!"}},{"$f":"IF(INDIRECT($C$2&$C39&\"!\"&AT$5&$AN$4+1)=\"\",\"★\",INDIRECT($C$2&$C39&\"!\"&AT$5&$AN$4+1))","v":{"$error":"#REF!"}},{"$f":"IF(INDIRECT($C$2&$C39&\"!\"&AU$5&$AN$4+1)=\"\",\"★\",INDIRECT($C$2&$C39&\"!\"&AU$5&$AN$4+1))","v":{"$error":"#REF!"}},null,null,null,null,{"$f":"IF(INDIRECT($C$2&$C39&\"!\"&AZ$5&$AZ$4+1)=\"\",\"★\",INDIRECT($C$2&$C39&\"!\"&AZ$5&$AZ$4+1))","v":{"$error":"#REF!"}},{"$f":"IF(INDIRECT($C$2&$C39&\"!\"&BA$5&$AZ$4+1)=\"\",\"★\",INDIRECT($C$2&$C39&\"!\"&BA$5&$AZ$4+1))","v":{"$error":"#REF!"}},{"$f":"IF(INDIRECT($C$2&$C39&\"!\"&BB$5&$AZ$4+1)=\"\",\"★\",INDIRECT($C$2&$C39&\"!\"&BB$5&$AZ$4+1))","v":{"$error":"#REF!"}},{"$f":"IF(INDIRECT($C$2&$C39&\"!\"&BC$5&$AZ$4+1)=\"\",\"★\",INDIRECT($C$2&$C39&\"!\"&BC$5&$AZ$4+1))","v":{"$error":"#REF!"}},{"$f":"IF(INDIRECT($C$2&$C39&\"!\"&BD$5&$AZ$4+1)=\"\",\"★\",INDIRECT($C$2&$C39&\"!\"&BD$5&$AZ$4+1))","v":{"$error":"#REF!"}},{"$f":"IF(INDIRECT($C$2&$C39&\"!\"&BE$5&$AZ$4+1)=\"\",\"★\",INDIRECT($C$2&$C39&\"!\"&BE$5&$AZ$4+1))","v":{"$error":"#REF!"}},{"$f":"IF(INDIRECT($C$2&$C39&\"!\"&BF$5&$AZ$4+1)=\"\",\"★\",INDIRECT($C$2&$C39&\"!\"&BF$5&$AZ$4+1))","v":{"$error":"#REF!"}},{"$f":"IF(INDIRECT($C$2&$C39&\"!\"&BG$5&$AZ$4+1)=\"\",\"★\",INDIRECT($C$2&$C39&\"!\"&BG$5&$AZ$4+1))","v":{"$error":"#REF!"}},null,null,null,null,{"$f":"IF(INDIRECT($C$2&$C39&\"!\"&BL$5&$BL$4+1)=\"\",\"★\",INDIRECT($C$2&$C39&\"!\"&BL$5&$BL$4+1))","v":{"$error":"#REF!"}},{"$f":"IF(INDIRECT($C$2&$C39&\"!\"&BM$5&$BL$4+1)=\"\",\"★\",INDIRECT($C$2&$C39&\"!\"&BM$5&$BL$4+1))","v":{"$error":"#REF!"}},{"$f":"IF(INDIRECT($C$2&$C39&\"!\"&BN$5&$BL$4+1)=\"\",\"★\",INDIRECT($C$2&$C39&\"!\"&BN$5&$BL$4+1))","v":{"$error":"#REF!"}},{"$f":"IF(INDIRECT($C$2&$C39&\"!\"&BO$5&$BL$4+1)=\"\",\"★\",INDIRECT($C$2&$C39&\"!\"&BO$5&$BL$4+1))","v":{"$error":"#REF!"}},{"$f":"IF(INDIRECT($C$2&$C39&\"!\"&BP$5&$BL$4+1)=\"\",\"★\",INDIRECT($C$2&$C39&\"!\"&BP$5&$BL$4+1))","v":{"$error":"#REF!"}},{"$f":"IF(INDIRECT($C$2&$C39&\"!\"&BQ$5&$BL$4+1)=\"\",\"★\",INDIRECT($C$2&$C39&\"!\"&BQ$5&$BL$4+1))","v":{"$error":"#REF!"}},{"$f":"IF(INDIRECT($C$2&$C39&\"!\"&BR$5&$BL$4+1)=\"\",\"★\",INDIRECT($C$2&$C39&\"!\"&BR$5&$BL$4+1))","v":{"$error":"#REF!"}},{"$f":"IF(INDIRECT($C$2&$C39&\"!\"&BS$5&$BL$4+1)=\"\",\"★\",INDIRECT($C$2&$C39&\"!\"&BS$5&$BL$4+1))","v":{"$error":"#REF!"}},null,null,{"$f":"IF(INDIRECT($C$2&$C39&\"!\"&BV$5&$BV$4+1)=\"\",\"★\",INDIRECT($C$2&$C39&\"!\"&BV$5&$BV$4+1))","v":{"$error":"#REF!"}},{"$f":"IF(INDIRECT($C$2&$C39&\"!\"&BW$5&$BV$4+1)=\"\",\"★\",INDIRECT($C$2&$C39&\"!\"&BW$5&$BV$4+1))","v":{"$error":"#REF!"}},{"$f":"IF(INDIRECT($C$2&$C39&\"!\"&BX$5&$BV$4+1)=\"\",\"★\",INDIRECT($C$2&$C39&\"!\"&BX$5&$BV$4+1))","v":{"$error":"#REF!"}},{"$f":"IF(INDIRECT($C$2&$C39&\"!\"&BY$5&$BV$4+1)=\"\",\"★\",INDIRECT($C$2&$C39&\"!\"&BY$5&$BV$4+1))","v":{"$error":"#REF!"}},{"$f":"IF(INDIRECT($C$2&$C39&\"!\"&BZ$5&$BV$4+1)=\"\",\"★\",INDIRECT($C$2&$C39&\"!\"&BZ$5&$BV$4+1))","v":{"$error":"#REF!"}},{"$f":"IF(INDIRECT($C$2&$C39&\"!\"&CA$5&$BV$4+1)=\"\",\"★\",INDIRECT($C$2&$C39&\"!\"&CA$5&$BV$4+1))","v":{"$error":"#REF!"}},null,{"$f":"IF(INDIRECT($C$2&$C39&\"!\"&CC$5&$CC$4+1)=\"\",\"★\",INDIRECT($C$2&$C39&\"!\"&CC$5&$CC$4+1))","v":{"$error":"#REF!"}},{"$f":"IF(INDIRECT($C$2&$C39&\"!\"&CD$5&$CC$4+1)=\"\",\"★\",INDIRECT($C$2&$C39&\"!\"&CD$5&$CC$4+1))","v":{"$error":"#REF!"}},{"$f":"IF(INDIRECT($C$2&$C39&\"!\"&CE$5&$CC$4+1)=\"\",\"★\",INDIRECT($C$2&$C39&\"!\"&CE$5&$CC$4+1))","v":{"$error":"#REF!"}},{"$f":"IF(INDIRECT($C$2&$C39&\"!\"&CF$5&$CC$4+1)=\"\",\"★\",INDIRECT($C$2&$C39&\"!\"&CF$5&$CC$4+1))","v":{"$error":"#REF!"}},{"$f":"IF(INDIRECT($C$2&$C39&\"!\"&CG$5&$CC$4+1)=\"\",\"★\",INDIRECT($C$2&$C39&\"!\"&CG$5&$CC$4+1))","v":{"$error":"#REF!"}},{"$f":"IF(INDIRECT($C$2&$C39&\"!\"&CH$5&$CC$4+1)=\"\",\"★\",INDIRECT($C$2&$C39&\"!\"&CH$5&$CC$4+1))","v":{"$error":"#REF!"}},null,null,null,null,{"$f":"IF(INDIRECT($C$2&$C39&\"!\"&CM$5&$CM$4+1)=\"\",\"★\",INDIRECT($C$2&$C39&\"!\"&CM$5&$CM$4+1))","v":{"$error":"#REF!"}},{"$f":"IF(INDIRECT($C$2&$C39&\"!\"&CN$5&$CM$4+1)=\"\",\"★\",INDIRECT($C$2&$C39&\"!\"&CN$5&$CM$4+1))","v":{"$error":"#REF!"}},{"$f":"IF(INDIRECT($C$2&$C39&\"!\"&CO$5&$CM$4+1)=\"\",\"★\",INDIRECT($C$2&$C39&\"!\"&CO$5&$CM$4+1))","v":{"$error":"#REF!"}},{"$f":"IF(INDIRECT($C$2&$C39&\"!\"&CP$5&$CM$4+1)=\"\",\"★\",INDIRECT($C$2&$C39&\"!\"&CP$5&$CM$4+1))","v":{"$error":"#REF!"}},{"$f":"IF(INDIRECT($C$2&$C39&\"!\"&CQ$5&$CM$4+1)=\"\",\"★\",INDIRECT($C$2&$C39&\"!\"&CQ$5&$CM$4+1))","v":{"$error":"#REF!"}},{"$f":"IF(INDIRECT($C$2&$C39&\"!\"&CR$5&$CM$4+1)=\"\",\"★\",INDIRECT($C$2&$C39&\"!\"&CR$5&$CM$4+1))","v":{"$error":"#REF!"}},null,null,null,null,{"$f":"IF(INDIRECT($C$2&$C39&\"!\"&CW$5&$CW$4+1)=\"\",\"★\",INDIRECT($C$2&$C39&\"!\"&CW$5&$CW$4+1))","v":{"$error":"#REF!"}},{"$f":"IF(INDIRECT($C$2&$C39&\"!\"&CX$5&$CW$4+1)=\"\",\"★\",INDIRECT($C$2&$C39&\"!\"&CX$5&$CW$4+1))","v":{"$error":"#REF!"}},{"$f":"IF(INDIRECT($C$2&$C39&\"!\"&CY$5&$CW$4+1)=\"\",\"★\",INDIRECT($C$2&$C39&\"!\"&CY$5&$CW$4+1))","v":{"$error":"#REF!"}},{"$f":"IF(INDIRECT($C$2&$C39&\"!\"&CZ$5&$CW$4+1)=\"\",\"★\",INDIRECT($C$2&$C39&\"!\"&CZ$5&$CW$4+1))","v":{"$error":"#REF!"}},{"$f":"IF(INDIRECT($C$2&$C39&\"!\"&DA$5&$CW$4+1)=\"\",\"★\",INDIRECT($C$2&$C39&\"!\"&DA$5&$CW$4+1))","v":{"$error":"#REF!"}},{"$f":"IF(INDIRECT($C$2&$C39&\"!\"&DB$5&$CW$4+1)=\"\",\"★\",INDIRECT($C$2&$C39&\"!\"&DB$5&$CW$4+1))","v":{"$error":"#REF!"}},null,null,null,null,{"$f":"IF(INDIRECT($C$2&$C39&\"!\"&DG$5&$DG$4+1)=\"\",\"★\",INDIRECT($C$2&$C39&\"!\"&DG$5&$DG$4+1))","v":{"$error":"#REF!"}},{"$f":"IF(INDIRECT($C$2&$C39&\"!\"&DH$5&$DG$4+1)=\"\",\"★\",INDIRECT($C$2&$C39&\"!\"&DH$5&$DG$4+1))","v":{"$error":"#REF!"}},{"$f":"IF(INDIRECT($C$2&$C39&\"!\"&DI$5&$DG$4+1)=\"\",\"★\",INDIRECT($C$2&$C39&\"!\"&DI$5&$DG$4+1))","v":{"$error":"#REF!"}},{"$f":"IF(INDIRECT($C$2&$C39&\"!\"&DJ$5&$DG$4+1)=\"\",\"★\",INDIRECT($C$2&$C39&\"!\"&DJ$5&$DG$4+1))","v":{"$error":"#REF!"}},{"$f":"IF(INDIRECT($C$2&$C39&\"!\"&DK$5&$DG$4+1)=\"\",\"★\",INDIRECT($C$2&$C39&\"!\"&DK$5&$DG$4+1))","v":{"$error":"#REF!"}},{"$f":"IF(INDIRECT($C$2&$C39&\"!\"&DL$5&$DG$4+1)=\"\",\"★\",INDIRECT($C$2&$C39&\"!\"&DL$5&$DG$4+1))","v":{"$error":"#REF!"}}]
[null,null,{"$f":"C39","v":"★"},null,null,null,null,null,null,null,null,{"$f":"$C40&\"-3\"","v":"★-3"},{"$f":"IF(INDIRECT($C$2&$C40&\"!\"&M$5&$M$4+2)=\"\",\"★\",INDIRECT($C$2&$C40&\"!\"&M$5&$M$4+2))","v":{"$error":"#REF!"}},{"$f":"IF(INDIRECT($C$2&$C40&\"!\"&N$5&$M$4+2)=\"\",\"★\",INDIRECT($C$2&$C40&\"!\"&N$5&$M$4+2))","v":{"$error":"#REF!"}},{"$f":"IF(INDIRECT($C$2&$C40&\"!\"&O$5&$M$4+2)=\"\",\"★\",INDIRECT($C$2&$C40&\"!\"&O$5&$M$4+2))","v":{"$error":"#REF!"}},{"$f":"IF(INDIRECT($C$2&$C40&\"!\"&P$5&$M$4+2)=\"\",\"★\",INDIRECT($C$2&$C40&\"!\"&P$5&$M$4+2))","v":{"$error":"#REF!"}},{"$f":"IF(INDIRECT($C$2&$C40&\"!\"&Q$5&$M$4+2)=\"\",\"★\",INDIRECT($C$2&$C40&\"!\"&Q$5&$M$4+2))","v":{"$error":"#REF!"}},{"$f":"IF(INDIRECT($C$2&$C40&\"!\"&R$5&$M$4+2)=\"\",\"★\",INDIRECT($C$2&$C40&\"!\"&R$5&$M$4+2))","v":{"$error":"#REF!"}},{"$f":"IF(INDIRECT($C$2&$C40&\"!\"&S$5&$M$4+2)=\"\",\"★\",INDIRECT($C$2&$C40&\"!\"&S$5&$M$4+2))","v":{"$error":"#REF!"}},{"$f":"IF(INDIRECT($C$2&$C40&\"!\"&T$5&$M$4+2)=\"\",\"★\",INDIRECT($C$2&$C40&\"!\"&T$5&$M$4+2))","v":{"$error":"#REF!"}},null,{"$f":"IF(INDIRECT($C$2&$C40&\"!\"&V$5&$V$4+2)=\"\",\"★\",INDIRECT($C$2&$C40&\"!\"&V$5&$V$4+2))","v":{"$error":"#REF!"}},{"$f":"IF(INDIRECT($C$2&$C40&\"!\"&W$5&$V$4+2)=\"\",\"★\",INDIRECT($C$2&$C40&\"!\"&W$5&$V$4+2))","v":{"$error":"#REF!"}},{"$f":"IF(INDIRECT($C$2&$C40&\"!\"&X$5&$V$4+2)=\"\",\"★\",INDIRECT($C$2&$C40&\"!\"&X$5&$V$4+2))","v":{"$error":"#REF!"}},{"$f":"IF(INDIRECT($C$2&$C40&\"!\"&Y$5&$V$4+2)=\"\",\"★\",INDIRECT($C$2&$C40&\"!\"&Y$5&$V$4+2))","v":{"$error":"#REF!"}},{"$f":"IF(INDIRECT($C$2&$C40&\"!\"&Z$5&$V$4+2)=\"\",\"★\",INDIRECT($C$2&$C40&\"!\"&Z$5&$V$4+2))","v":{"$error":"#REF!"}},{"$f":"IF(INDIRECT($C$2&$C40&\"!\"&AA$5&$V$4+2)=\"\",\"★\",INDIRECT($C$2&$C40&\"!\"&AA$5&$V$4+2))","v":{"$error":"#REF!"}},{"$f":"IF(INDIRECT($C$2&$C40&\"!\"&AB$5&$V$4+2)=\"\",\"★\",INDIRECT($C$2&$C40&\"!\"&AB$5&$V$4+2))","v":{"$error":"#REF!"}},{"$f":"IF(INDIRECT($C$2&$C40&\"!\"&AC$5&$V$4+2)=\"\",\"★\",INDIRECT($C$2&$C40&\"!\"&AC$5&$V$4+2))","v":{"$error":"#REF!"}},null,null,null,null,null,null,null,null,null,null,{"$f":"IF(INDIRECT($C$2&$C40&\"!\"&AN$5&$AN$4+2)=\"\",\"★\",INDIRECT($C$2&$C40&\"!\"&AN$5&$AN$4+2))","v":{"$error":"#REF!"}},{"$f":"IF(INDIRECT($C$2&$C40&\"!\"&AO$5&$AN$4+2)=\"\",\"★\",INDIRECT($C$2&$C40&\"!\"&AO$5&$AN$4+2))","v":{"$error":"#REF!"}},{"$f":"IF(INDIRECT($C$2&$C40&\"!\"&AP$5&$AN$4+2)=\"\",\"★\",INDIRECT($C$2&$C40&\"!\"&AP$5&$AN$4+2))","v":{"$error":"#REF!"}},{"$f":"IF(INDIRECT($C$2&$C40&\"!\"&AQ$5&$AN$4+2)=\"\",\"★\",INDIRECT($C$2&$C40&\"!\"&AQ$5&$AN$4+2))","v":{"$error":"#REF!"}},{"$f":"IF(INDIRECT($C$2&$C40&\"!\"&AR$5&$AN$4+2)=\"\",\"★\",INDIRECT($C$2&$C40&\"!\"&AR$5&$AN$4+2))","v":{"$error":"#REF!"}},{"$f":"IF(INDIRECT($C$2&$C40&\"!\"&AS$5&$AN$4+2)=\"\",\"★\",INDIRECT($C$2&$C40&\"!\"&AS$5&$AN$4+2))","v":{"$error":"#REF!"}},{"$f":"IF(INDIRECT($C$2&$C40&\"!\"&AT$5&$AN$4+2)=\"\",\"★\",INDIRECT($C$2&$C40&\"!\"&AT$5&$AN$4+2))","v":{"$error":"#REF!"}},{"$f":"IF(INDIRECT($C$2&$C40&\"!\"&AU$5&$AN$4+2)=\"\",\"★\",INDIRECT($C$2&$C40&\"!\"&AU$5&$AN$4+2))","v":{"$error":"#REF!"}},null,null,null,null,{"$f":"IF(INDIRECT($C$2&$C40&\"!\"&AZ$5&$AZ$4+2)=\"\",\"★\",INDIRECT($C$2&$C40&\"!\"&AZ$5&$AZ$4+2))","v":{"$error":"#REF!"}},{"$f":"IF(INDIRECT($C$2&$C40&\"!\"&BA$5&$AZ$4+2)=\"\",\"★\",INDIRECT($C$2&$C40&\"!\"&BA$5&$AZ$4+2))","v":{"$error":"#REF!"}},{"$f":"IF(INDIRECT($C$2&$C40&\"!\"&BB$5&$AZ$4+2)=\"\",\"★\",INDIRECT($C$2&$C40&\"!\"&BB$5&$AZ$4+2))","v":{"$error":"#REF!"}},{"$f":"IF(INDIRECT($C$2&$C40&\"!\"&BC$5&$AZ$4+2)=\"\",\"★\",INDIRECT($C$2&$C40&\"!\"&BC$5&$AZ$4+2))","v":{"$error":"#REF!"}},{"$f":"IF(INDIRECT($C$2&$C40&\"!\"&BD$5&$AZ$4+2)=\"\",\"★\",INDIRECT($C$2&$C40&\"!\"&BD$5&$AZ$4+2))","v":{"$error":"#REF!"}},{"$f":"IF(INDIRECT($C$2&$C40&\"!\"&BE$5&$AZ$4+2)=\"\",\"★\",INDIRECT($C$2&$C40&\"!\"&BE$5&$AZ$4+2))","v":{"$error":"#REF!"}},{"$f":"IF(INDIRECT($C$2&$C40&\"!\"&BF$5&$AZ$4+2)=\"\",\"★\",INDIRECT($C$2&$C40&\"!\"&BF$5&$AZ$4+2))","v":{"$error":"#REF!"}},{"$f":"IF(INDIRECT($C$2&$C40&\"!\"&BG$5&$AZ$4+2)=\"\",\"★\",INDIRECT($C$2&$C40&\"!\"&BG$5&$AZ$4+2))","v":{"$error":"#REF!"}},null,null,null,null,{"$f":"IF(INDIRECT($C$2&$C40&\"!\"&BL$5&$BL$4+2)=\"\",\"★\",INDIRECT($C$2&$C40&\"!\"&BL$5&$BL$4+2))","v":{"$error":"#REF!"}},{"$f":"IF(INDIRECT($C$2&$C40&\"!\"&BM$5&$BL$4+2)=\"\",\"★\",INDIRECT($C$2&$C40&\"!\"&BM$5&$BL$4+2))","v":{"$error":"#REF!"}},{"$f":"IF(INDIRECT($C$2&$C40&\"!\"&BN$5&$BL$4+2)=\"\",\"★\",INDIRECT($C$2&$C40&\"!\"&BN$5&$BL$4+2))","v":{"$error":"#REF!"}},{"$f":"IF(INDIRECT($C$2&$C40&\"!\"&BO$5&$BL$4+2)=\"\",\"★\",INDIRECT($C$2&$C40&\"!\"&BO$5&$BL$4+2))","v":{"$error":"#REF!"}},{"$f":"IF(INDIRECT($C$2&$C40&\"!\"&BP$5&$BL$4+2)=\"\",\"★\",INDIRECT($C$2&$C40&\"!\"&BP$5&$BL$4+2))","v":{"$error":"#REF!"}},{"$f":"IF(INDIRECT($C$2&$C40&\"!\"&BQ$5&$BL$4+2)=\"\",\"★\",INDIRECT($C$2&$C40&\"!\"&BQ$5&$BL$4+2))","v":{"$error":"#REF!"}},{"$f":"IF(INDIRECT($C$2&$C40&\"!\"&BR$5&$BL$4+2)=\"\",\"★\",INDIRECT($C$2&$C40&\"!\"&BR$5&$BL$4+2))","v":{"$error":"#REF!"}},{"$f":"IF(INDIRECT($C$2&$C40&\"!\"&BS$5&$BL$4+2)=\"\",\"★\",INDIRECT($C$2&$C40&\"!\"&BS$5&$BL$4+2))","v":{"$error":"#REF!"}},null,null,{"$f":"IF(INDIRECT($C$2&$C40&\"!\"&BV$5&$BV$4+2)=\"\",\"★\",INDIRECT($C$2&$C40&\"!\"&BV$5&$BV$4+2))","v":{"$error":"#REF!"}},{"$f":"IF(INDIRECT($C$2&$C40&\"!\"&BW$5&$BV$4+2)=\"\",\"★\",INDIRECT($C$2&$C40&\"!\"&BW$5&$BV$4+2))","v":{"$error":"#REF!"}},{"$f":"IF(INDIRECT($C$2&$C40&\"!\"&BX$5&$BV$4+2)=\"\",\"★\",INDIRECT($C$2&$C40&\"!\"&BX$5&$BV$4+2))","v":{"$error":"#REF!"}},{"$f":"IF(INDIRECT($C$2&$C40&\"!\"&BY$5&$BV$4+2)=\"\",\"★\",INDIRECT($C$2&$C40&\"!\"&BY$5&$BV$4+2))","v":{"$error":"#REF!"}},{"$f":"IF(INDIRECT($C$2&$C40&\"!\"&BZ$5&$BV$4+2)=\"\",\"★\",INDIRECT($C$2&$C40&\"!\"&BZ$5&$BV$4+2))","v":{"$error":"#REF!"}},{"$f":"IF(INDIRECT($C$2&$C40&\"!\"&CA$5&$BV$4+2)=\"\",\"★\",INDIRECT($C$2&$C40&\"!\"&CA$5&$BV$4+2))","v":{"$error":"#REF!"}},null,{"$f":"IF(INDIRECT($C$2&$C40&\"!\"&CC$5&$CC$4+2)=\"\",\"★\",INDIRECT($C$2&$C40&\"!\"&CC$5&$CC$4+2))","v":{"$error":"#REF!"}},{"$f":"IF(INDIRECT($C$2&$C40&\"!\"&CD$5&$CC$4+2)=\"\",\"★\",INDIRECT($C$2&$C40&\"!\"&CD$5&$CC$4+2))","v":{"$error":"#REF!"}},{"$f":"IF(INDIRECT($C$2&$C40&\"!\"&CE$5&$CC$4+2)=\"\",\"★\",INDIRECT($C$2&$C40&\"!\"&CE$5&$CC$4+2))","v":{"$error":"#REF!"}},{"$f":"IF(INDIRECT($C$2&$C40&\"!\"&CF$5&$CC$4+2)=\"\",\"★\",INDIRECT($C$2&$C40&\"!\"&CF$5&$CC$4+2))","v":{"$error":"#REF!"}},{"$f":"IF(INDIRECT($C$2&$C40&\"!\"&CG$5&$CC$4+2)=\"\",\"★\",INDIRECT($C$2&$C40&\"!\"&CG$5&$CC$4+2))","v":{"$error":"#REF!"}},{"$f":"IF(INDIRECT($C$2&$C40&\"!\"&CH$5&$CC$4+2)=\"\",\"★\",INDIRECT($C$2&$C40&\"!\"&CH$5&$CC$4+2))","v":{"$error":"#REF!"}},null,null,null,null,{"$f":"IF(INDIRECT($C$2&$C40&\"!\"&CM$5&$CM$4+2)=\"\",\"★\",INDIRECT($C$2&$C40&\"!\"&CM$5&$CM$4+2))","v":{"$error":"#REF!"}},{"$f":"IF(INDIRECT($C$2&$C40&\"!\"&CN$5&$CM$4+2)=\"\",\"★\",INDIRECT($C$2&$C40&\"!\"&CN$5&$CM$4+2))","v":{"$error":"#REF!"}},{"$f":"IF(INDIRECT($C$2&$C40&\"!\"&CO$5&$CM$4+2)=\"\",\"★\",INDIRECT($C$2&$C40&\"!\"&CO$5&$CM$4+2))","v":{"$error":"#REF!"}},{"$f":"IF(INDIRECT($C$2&$C40&\"!\"&CP$5&$CM$4+2)=\"\",\"★\",INDIRECT($C$2&$C40&\"!\"&CP$5&$CM$4+2))","v":{"$error":"#REF!"}},{"$f":"IF(INDIRECT($C$2&$C40&\"!\"&CQ$5&$CM$4+2)=\"\",\"★\",INDIRECT($C$2&$C40&\"!\"&CQ$5&$CM$4+2))","v":{"$error":"#REF!"}},{"$f":"IF(INDIRECT($C$2&$C40&\"!\"&CR$5&$CM$4+2)=\"\",\"★\",INDIRECT($C$2&$C40&\"!\"&CR$5&$CM$4+2))","v":{"$error":"#REF!"}},null,null,null,null,{"$f":"IF(INDIRECT($C$2&$C40&\"!\"&CW$5&$CW$4+2)=\"\",\"★\",INDIRECT($C$2&$C40&\"!\"&CW$5&$CW$4+2))","v":{"$error":"#REF!"}},{"$f":"IF(INDIRECT($C$2&$C40&\"!\"&CX$5&$CW$4+2)=\"\",\"★\",INDIRECT($C$2&$C40&\"!\"&CX$5&$CW$4+2))","v":{"$error":"#REF!"}},{"$f":"IF(INDIRECT($C$2&$C40&\"!\"&CY$5&$CW$4+2)=\"\",\"★\",INDIRECT($C$2&$C40&\"!\"&CY$5&$CW$4+2))","v":{"$error":"#REF!"}},{"$f":"IF(INDIRECT($C$2&$C40&\"!\"&CZ$5&$CW$4+2)=\"\",\"★\",INDIRECT($C$2&$C40&\"!\"&CZ$5&$CW$4+2))","v":{"$error":"#REF!"}},{"$f":"IF(INDIRECT($C$2&$C40&\"!\"&DA$5&$CW$4+2)=\"\",\"★\",INDIRECT($C$2&$C40&\"!\"&DA$5&$CW$4+2))","v":{"$error":"#REF!"}},{"$f":"IF(INDIRECT($C$2&$C40&\"!\"&DB$5&$CW$4+2)=\"\",\"★\",INDIRECT($C$2&$C40&\"!\"&DB$5&$CW$4+2))","v":{"$error":"#REF!"}},null,null,null,null,{"$f":"IF(INDIRECT($C$2&$C40&\"!\"&DG$5&$DG$4+2)=\"\",\"★\",INDIRECT($C$2&$C40&\"!\"&DG$5&$DG$4+2))","v":{"$error":"#REF!"}},{"$f":"IF(INDIRECT($C$2&$C40&\"!\"&DH$5&$DG$4+2)=\"\",\"★\",INDIRECT($C$2&$C40&\"!\"&DH$5&$DG$4+2))","v":{"$error":"#REF!"}},{"$f":"IF(INDIRECT($C$2&$C40&\"!\"&DI$5&$DG$4+2)=\"\",\"★\",INDIRECT($C$2&$C40&\"!\"&DI$5&$DG$4+2))","v":{"$error":"#REF!"}},{"$f":"IF(INDIRECT($C$2&$C40&\"!\"&DJ$5&$DG$4+2)=\"\",\"★\",INDIRECT($C$2&$C40&\"!\"&DJ$5&$DG$4+2))","v":{"$error":"#REF!"}},{"$f":"IF(INDIRECT($C$2&$C40&\"!\"&DK$5&$DG$4+2)=\"\",\"★\",INDIRECT($C$2&$C40&\"!\"&DK$5&$DG$4+2))","v":{"$error":"#REF!"}},{"$f":"IF(INDIRECT($C$2&$C40&\"!\"&DL$5&$DG$4+2)=\"\",\"★\",INDIRECT($C$2&$C40&\"!\"&DL$5&$DG$4+2))","v":{"$error":"#REF!"}}]
[null,null,"★",null,null,null,null,null,null,null,null,{"$f":"$C41&\"-4\"","v":"★-4"},{"$f":"IF(INDIRECT($C$2&$C41&\"!\"&M$5&$M$4+3)=\"\",\"★\",INDIRECT($C$2&$C41&\"!\"&M$5&$M$4+3))","v":{"$error":"#REF!"}},{"$f":"IF(INDIRECT($C$2&$C41&\"!\"&N$5&$M$4+3)=\"\",\"★\",INDIRECT($C$2&$C41&\"!\"&N$5&$M$4+3))","v":{"$error":"#REF!"}},{"$f":"IF(INDIRECT($C$2&$C41&\"!\"&O$5&$M$4+3)=\"\",\"★\",INDIRECT($C$2&$C41&\"!\"&O$5&$M$4+3))","v":{"$error":"#REF!"}},{"$f":"IF(INDIRECT($C$2&$C41&\"!\"&P$5&$M$4+3)=\"\",\"★\",INDIRECT($C$2&$C41&\"!\"&P$5&$M$4+3))","v":{"$error":"#REF!"}},{"$f":"IF(INDIRECT($C$2&$C41&\"!\"&Q$5&$M$4+3)=\"\",\"★\",INDIRECT($C$2&$C41&\"!\"&Q$5&$M$4+3))","v":{"$error":"#REF!"}},{"$f":"IF(INDIRECT($C$2&$C41&\"!\"&R$5&$M$4+3)=\"\",\"★\",INDIRECT($C$2&$C41&\"!\"&R$5&$M$4+3))","v":{"$error":"#REF!"}},{"$f":"IF(INDIRECT($C$2&$C41&\"!\"&S$5&$M$4+3)=\"\",\"★\",INDIRECT($C$2&$C41&\"!\"&S$5&$M$4+3))","v":{"$error":"#REF!"}},{"$f":"IF(INDIRECT($C$2&$C41&\"!\"&T$5&$M$4+3)=\"\",\"★\",INDIRECT($C$2&$C41&\"!\"&T$5&$M$4+3))","v":{"$error":"#REF!"}},null,{"$f":"IF(INDIRECT($C$2&$C41&\"!\"&V$5&$V$4+3)=\"\",\"★\",INDIRECT($C$2&$C41&\"!\"&V$5&$V$4+3))","v":{"$error":"#REF!"}},{"$f":"IF(INDIRECT($C$2&$C41&\"!\"&W$5&$V$4+3)=\"\",\"★\",INDIRECT($C$2&$C41&\"!\"&W$5&$V$4+3))","v":{"$error":"#REF!"}},{"$f":"IF(INDIRECT($C$2&$C41&\"!\"&X$5&$V$4+3)=\"\",\"★\",INDIRECT($C$2&$C41&\"!\"&X$5&$V$4+3))","v":{"$error":"#REF!"}},{"$f":"IF(INDIRECT($C$2&$C41&\"!\"&Y$5&$V$4+3)=\"\",\"★\",INDIRECT($C$2&$C41&\"!\"&Y$5&$V$4+3))","v":{"$error":"#REF!"}},{"$f":"IF(INDIRECT($C$2&$C41&\"!\"&Z$5&$V$4+3)=\"\",\"★\",INDIRECT($C$2&$C41&\"!\"&Z$5&$V$4+3))","v":{"$error":"#REF!"}},{"$f":"IF(INDIRECT($C$2&$C41&\"!\"&AA$5&$V$4+3)=\"\",\"★\",INDIRECT($C$2&$C41&\"!\"&AA$5&$V$4+3))","v":{"$error":"#REF!"}},{"$f":"IF(INDIRECT($C$2&$C41&\"!\"&AB$5&$V$4+3)=\"\",\"★\",INDIRECT($C$2&$C41&\"!\"&AB$5&$V$4+3))","v":{"$error":"#REF!"}},{"$f":"IF(INDIRECT($C$2&$C41&\"!\"&AC$5&$V$4+3)=\"\",\"★\",INDIRECT($C$2&$C41&\"!\"&AC$5&$V$4+3))","v":{"$error":"#REF!"}},null,null,null,null,null,null,null,null,null,null,{"$f":"IF(INDIRECT($C$2&$C41&\"!\"&AN$5&$AN$4+3)=\"\",\"★\",INDIRECT($C$2&$C41&\"!\"&AN$5&$AN$4+3))","v":{"$error":"#REF!"}},{"$f":"IF(INDIRECT($C$2&$C41&\"!\"&AO$5&$AN$4+3)=\"\",\"★\",INDIRECT($C$2&$C41&\"!\"&AO$5&$AN$4+3))","v":{"$error":"#REF!"}},{"$f":"IF(INDIRECT($C$2&$C41&\"!\"&AP$5&$AN$4+3)=\"\",\"★\",INDIRECT($C$2&$C41&\"!\"&AP$5&$AN$4+3))","v":{"$error":"#REF!"}},{"$f":"IF(INDIRECT($C$2&$C41&\"!\"&AQ$5&$AN$4+3)=\"\",\"★\",INDIRECT($C$2&$C41&\"!\"&AQ$5&$AN$4+3))","v":{"$error":"#REF!"}},{"$f":"IF(INDIRECT($C$2&$C41&\"!\"&AR$5&$AN$4+3)=\"\",\"★\",INDIRECT($C$2&$C41&\"!\"&AR$5&$AN$4+3))","v":{"$error":"#REF!"}},{"$f":"IF(INDIRECT($C$2&$C41&\"!\"&AS$5&$AN$4+3)=\"\",\"★\",INDIRECT($C$2&$C41&\"!\"&AS$5&$AN$4+3))","v":{"$error":"#REF!"}},{"$f":"IF(INDIRECT($C$2&$C41&\"!\"&AT$5&$AN$4+3)=\"\",\"★\",INDIRECT($C$2&$C41&\"!\"&AT$5&$AN$4+3))","v":{"$error":"#REF!"}},{"$f":"IF(INDIRECT($C$2&$C41&\"!\"&AU$5&$AN$4+3)=\"\",\"★\",INDIRECT($C$2&$C41&\"!\"&AU$5&$AN$4+3))","v":{"$error":"#REF!"}},null,null,null,null,{"$f":"IF(INDIRECT($C$2&$C41&\"!\"&AZ$5&$AZ$4+3)=\"\",\"★\",INDIRECT($C$2&$C41&\"!\"&AZ$5&$AZ$4+3))","v":{"$error":"#REF!"}},{"$f":"IF(INDIRECT($C$2&$C41&\"!\"&BA$5&$AZ$4+3)=\"\",\"★\",INDIRECT($C$2&$C41&\"!\"&BA$5&$AZ$4+3))","v":{"$error":"#REF!"}},{"$f":"IF(INDIRECT($C$2&$C41&\"!\"&BB$5&$AZ$4+3)=\"\",\"★\",INDIRECT($C$2&$C41&\"!\"&BB$5&$AZ$4+3))","v":{"$error":"#REF!"}},{"$f":"IF(INDIRECT($C$2&$C41&\"!\"&BC$5&$AZ$4+3)=\"\",\"★\",INDIRECT($C$2&$C41&\"!\"&BC$5&$AZ$4+3))","v":{"$error":"#REF!"}},{"$f":"IF(INDIRECT($C$2&$C41&\"!\"&BD$5&$AZ$4+3)=\"\",\"★\",INDIRECT($C$2&$C41&\"!\"&BD$5&$AZ$4+3))","v":{"$error":"#REF!"}},{"$f":"IF(INDIRECT($C$2&$C41&\"!\"&BE$5&$AZ$4+3)=\"\",\"★\",INDIRECT($C$2&$C41&\"!\"&BE$5&$AZ$4+3))","v":{"$error":"#REF!"}},{"$f":"IF(INDIRECT($C$2&$C41&\"!\"&BF$5&$AZ$4+3)=\"\",\"★\",INDIRECT($C$2&$C41&\"!\"&BF$5&$AZ$4+3))","v":{"$error":"#REF!"}},{"$f":"IF(INDIRECT($C$2&$C41&\"!\"&BG$5&$AZ$4+3)=\"\",\"★\",INDIRECT($C$2&$C41&\"!\"&BG$5&$AZ$4+3))","v":{"$error":"#REF!"}},null,null,null,null,{"$f":"IF(INDIRECT($C$2&$C41&\"!\"&BL$5&$BL$4+3)=\"\",\"★\",INDIRECT($C$2&$C41&\"!\"&BL$5&$BL$4+3))","v":{"$error":"#REF!"}},{"$f":"IF(INDIRECT($C$2&$C41&\"!\"&BM$5&$BL$4+3)=\"\",\"★\",INDIRECT($C$2&$C41&\"!\"&BM$5&$BL$4+3))","v":{"$error":"#REF!"}},{"$f":"IF(INDIRECT($C$2&$C41&\"!\"&BN$5&$BL$4+3)=\"\",\"★\",INDIRECT($C$2&$C41&\"!\"&BN$5&$BL$4+3))","v":{"$error":"#REF!"}},{"$f":"IF(INDIRECT($C$2&$C41&\"!\"&BO$5&$BL$4+3)=\"\",\"★\",INDIRECT($C$2&$C41&\"!\"&BO$5&$BL$4+3))","v":{"$error":"#REF!"}},{"$f":"IF(INDIRECT($C$2&$C41&\"!\"&BP$5&$BL$4+3)=\"\",\"★\",INDIRECT($C$2&$C41&\"!\"&BP$5&$BL$4+3))","v":{"$error":"#REF!"}},{"$f":"IF(INDIRECT($C$2&$C41&\"!\"&BQ$5&$BL$4+3)=\"\",\"★\",INDIRECT($C$2&$C41&\"!\"&BQ$5&$BL$4+3))","v":{"$error":"#REF!"}},{"$f":"IF(INDIRECT($C$2&$C41&\"!\"&BR$5&$BL$4+3)=\"\",\"★\",INDIRECT($C$2&$C41&\"!\"&BR$5&$BL$4+3))","v":{"$error":"#REF!"}},{"$f":"IF(INDIRECT($C$2&$C41&\"!\"&BS$5&$BL$4+3)=\"\",\"★\",INDIRECT($C$2&$C41&\"!\"&BS$5&$BL$4+3))","v":{"$error":"#REF!"}},null,null,{"$f":"IF(INDIRECT($C$2&$C41&\"!\"&BV$5&$BV$4+3)=\"\",\"★\",INDIRECT($C$2&$C41&\"!\"&BV$5&$BV$4+3))","v":{"$error":"#REF!"}},{"$f":"IF(INDIRECT($C$2&$C41&\"!\"&BW$5&$BV$4+3)=\"\",\"★\",INDIRECT($C$2&$C41&\"!\"&BW$5&$BV$4+3))","v":{"$error":"#REF!"}},{"$f":"IF(INDIRECT($C$2&$C41&\"!\"&BX$5&$BV$4+3)=\"\",\"★\",INDIRECT($C$2&$C41&\"!\"&BX$5&$BV$4+3))","v":{"$error":"#REF!"}},{"$f":"IF(INDIRECT($C$2&$C41&\"!\"&BY$5&$BV$4+3)=\"\",\"★\",INDIRECT($C$2&$C41&\"!\"&BY$5&$BV$4+3))","v":{"$error":"#REF!"}},{"$f":"IF(INDIRECT($C$2&$C41&\"!\"&BZ$5&$BV$4+3)=\"\",\"★\",INDIRECT($C$2&$C41&\"!\"&BZ$5&$BV$4+3))","v":{"$error":"#REF!"}},{"$f":"IF(INDIRECT($C$2&$C41&\"!\"&CA$5&$BV$4+3)=\"\",\"★\",INDIRECT($C$2&$C41&\"!\"&CA$5&$BV$4+3))","v":{"$error":"#REF!"}},null,{"$f":"IF(INDIRECT($C$2&$C41&\"!\"&CC$5&$CC$4+3)=\"\",\"★\",INDIRECT($C$2&$C41&\"!\"&CC$5&$CC$4+3))","v":{"$error":"#REF!"}},{"$f":"IF(INDIRECT($C$2&$C41&\"!\"&CD$5&$CC$4+3)=\"\",\"★\",INDIRECT($C$2&$C41&\"!\"&CD$5&$CC$4+3))","v":{"$error":"#REF!"}},{"$f":"IF(INDIRECT($C$2&$C41&\"!\"&CE$5&$CC$4+3)=\"\",\"★\",INDIRECT($C$2&$C41&\"!\"&CE$5&$CC$4+3))","v":{"$error":"#REF!"}},{"$f":"IF(INDIRECT($C$2&$C41&\"!\"&CF$5&$CC$4+3)=\"\",\"★\",INDIRECT($C$2&$C41&\"!\"&CF$5&$CC$4+3))","v":{"$error":"#REF!"}},{"$f":"IF(INDIRECT($C$2&$C41&\"!\"&CG$5&$CC$4+3)=\"\",\"★\",INDIRECT($C$2&$C41&\"!\"&CG$5&$CC$4+3))","v":{"$error":"#REF!"}},{"$f":"IF(INDIRECT($C$2&$C41&\"!\"&CH$5&$CC$4+3)=\"\",\"★\",INDIRECT($C$2&$C41&\"!\"&CH$5&$CC$4+3))","v":{"$error":"#REF!"}},null,null,null,null,{"$f":"IF(INDIRECT($C$2&$C41&\"!\"&CM$5&$CM$4+3)=\"\",\"★\",INDIRECT($C$2&$C41&\"!\"&CM$5&$CM$4+3))","v":{"$error":"#REF!"}},{"$f":"IF(INDIRECT($C$2&$C41&\"!\"&CN$5&$CM$4+3)=\"\",\"★\",INDIRECT($C$2&$C41&\"!\"&CN$5&$CM$4+3))","v":{"$error":"#REF!"}},{"$f":"IF(INDIRECT($C$2&$C41&\"!\"&CO$5&$CM$4+3)=\"\",\"★\",INDIRECT($C$2&$C41&\"!\"&CO$5&$CM$4+3))","v":{"$error":"#REF!"}},{"$f":"IF(INDIRECT($C$2&$C41&\"!\"&CP$5&$CM$4+3)=\"\",\"★\",INDIRECT($C$2&$C41&\"!\"&CP$5&$CM$4+3))","v":{"$error":"#REF!"}},{"$f":"IF(INDIRECT($C$2&$C41&\"!\"&CQ$5&$CM$4+3)=\"\",\"★\",INDIRECT($C$2&$C41&\"!\"&CQ$5&$CM$4+3))","v":{"$error":"#REF!"}},{"$f":"IF(INDIRECT($C$2&$C41&\"!\"&CR$5&$CM$4+3)=\"\",\"★\",INDIRECT($C$2&$C41&\"!\"&CR$5&$CM$4+3))","v":{"$error":"#REF!"}},null,null,null,null,{"$f":"IF(INDIRECT($C$2&$C41&\"!\"&CW$5&$CW$4+3)=\"\",\"★\",INDIRECT($C$2&$C41&\"!\"&CW$5&$CW$4+3))","v":{"$error":"#REF!"}},{"$f":"IF(INDIRECT($C$2&$C41&\"!\"&CX$5&$CW$4+3)=\"\",\"★\",INDIRECT($C$2&$C41&\"!\"&CX$5&$CW$4+3))","v":{"$error":"#REF!"}},{"$f":"IF(INDIRECT($C$2&$C41&\"!\"&CY$5&$CW$4+3)=\"\",\"★\",INDIRECT($C$2&$C41&\"!\"&CY$5&$CW$4+3))","v":{"$error":"#REF!"}},{"$f":"IF(INDIRECT($C$2&$C41&\"!\"&CZ$5&$CW$4+3)=\"\",\"★\",INDIRECT($C$2&$C41&\"!\"&CZ$5&$CW$4+3))","v":{"$error":"#REF!"}},{"$f":"IF(INDIRECT($C$2&$C41&\"!\"&DA$5&$CW$4+3)=\"\",\"★\",INDIRECT($C$2&$C41&\"!\"&DA$5&$CW$4+3))","v":{"$error":"#REF!"}},{"$f":"IF(INDIRECT($C$2&$C41&\"!\"&DB$5&$CW$4+3)=\"\",\"★\",INDIRECT($C$2&$C41&\"!\"&DB$5&$CW$4+3))","v":{"$error":"#REF!"}},null,null,null,null,{"$f":"IF(INDIRECT($C$2&$C41&\"!\"&DG$5&$DG$4+3)=\"\",\"★\",INDIRECT($C$2&$C41&\"!\"&DG$5&$DG$4+3))","v":{"$error":"#REF!"}},{"$f":"IF(INDIRECT($C$2&$C41&\"!\"&DH$5&$DG$4+3)=\"\",\"★\",INDIRECT($C$2&$C41&\"!\"&DH$5&$DG$4+3))","v":{"$error":"#REF!"}},{"$f":"IF(INDIRECT($C$2&$C41&\"!\"&DI$5&$DG$4+3)=\"\",\"★\",INDIRECT($C$2&$C41&\"!\"&DI$5&$DG$4+3))","v":{"$error":"#REF!"}},{"$f":"IF(INDIRECT($C$2&$C41&\"!\"&DJ$5&$DG$4+3)=\"\",\"★\",INDIRECT($C$2&$C41&\"!\"&DJ$5&$DG$4+3))","v":{"$error":"#REF!"}},{"$f":"IF(INDIRECT($C$2&$C41&\"!\"&DK$5&$DG$4+3)=\"\",\"★\",INDIRECT($C$2&$C41&\"!\"&DK$5&$DG$4+3))","v":{"$error":"#REF!"}},{"$f":"IF(INDIRECT($C$2&$C41&\"!\"&DL$5&$DG$4+3)=\"\",\"★\",INDIRECT($C$2&$C41&\"!\"&DL$5&$DG$4+3))","v":{"$error":"#REF!"}}]
[null,null,{"$f":"IF(INDIRECT($B$2&\"B29\")=\"\",\"★\",INDIRECT($B$2&\"B29\"))","v":"★"},{"$f":"IF(INDIRECT($C$2&$C42&\"!K12\")=\"\",\"★\",INDIRECT($C$2&$C42&\"!K12\"))","v":{"$error":"#REF!"}},{"$f":"IF(INDIRECT($C$2&$C42&\"!L12\")=\"\",\"★\",INDIRECT($C$2&$C42&\"!L12\"))","v":{"$error":"#REF!"}},{"$f":"IF(INDIRECT($C$2&$C42&\"!D13\")=\"\",\"★\",INDIRECT($C$2&$C42&\"!D13\"))","v":{"$error":"#REF!"}},{"$f":"IF(INDIRECT($C$2&$C42&\"!D14\")=\"\",\"★\",INDIRECT($C$2&$C42&\"!D14\"))","v":{"$error":"#REF!"}},{"$f":"IF(INDIRECT($C$2&$C42&\"!D15\")=\"\",\"★\",INDIRECT($C$2&$C42&\"!D15\"))","v":{"$error":"#REF!"}},{"$f":"IF(INDIRECT($C$2&$C42&\"!D16\")=\"\",\"★\",INDIRECT($C$2&$C42&\"!D16\"))","v":{"$error":"#REF!"}},{"$f":"IF(INDIRECT($C$2&$C42&\"!D17\")=\"\",\"★\",INDIRECT($C$2&$C42&\"!D17\"))","v":{"$error":"#REF!"}},{"$f":"IF(INDIRECT($C$2&$C42&\"!D18\")=\"\",\"★\",INDIRECT($C$2&$C42&\"!D18\"))","v":{"$error":"#REF!"}},{"$f":"$C42&\"-1\"","v":"★-1"},{"$f":"IF(INDIRECT($C$2&$C42&\"!\"&M$5&$M$4)=\"\",\"★\",INDIRECT($C$2&$C42&\"!\"&M$5&$M$4))","v":{"$error":"#REF!"}},{"$f":"IF(INDIRECT($C$2&$C42&\"!\"&N$5&$M$4)=\"\",\"★\",INDIRECT($C$2&$C42&\"!\"&N$5&$M$4))","v":{"$error":"#REF!"}},{"$f":"IF(INDIRECT($C$2&$C42&\"!\"&O$5&$M$4)=\"\",\"★\",INDIRECT($C$2&$C42&\"!\"&O$5&$M$4))","v":{"$error":"#REF!"}},{"$f":"IF(INDIRECT($C$2&$C42&\"!\"&P$5&$M$4)=\"\",\"★\",INDIRECT($C$2&$C42&\"!\"&P$5&$M$4))","v":{"$error":"#REF!"}},{"$f":"IF(INDIRECT($C$2&$C42&\"!\"&Q$5&$M$4)=\"\",\"★\",INDIRECT($C$2&$C42&\"!\"&Q$5&$M$4))","v":{"$error":"#REF!"}},{"$f":"IF(INDIRECT($C$2&$C42&\"!\"&R$5&$M$4)=\"\",\"★\",INDIRECT($C$2&$C42&\"!\"&R$5&$M$4))","v":{"$error":"#REF!"}},{"$f":"IF(INDIRECT($C$2&$C42&\"!\"&S$5&$M$4)=\"\",\"★\",INDIRECT($C$2&$C42&\"!\"&S$5&$M$4))","v":{"$error":"#REF!"}},{"$f":"IF(INDIRECT($C$2&$C42&\"!\"&T$5&$M$4)=\"\",\"★\",INDIRECT($C$2&$C42&\"!\"&T$5&$M$4))","v":{"$error":"#REF!"}},{"$f":"IF(INDIRECT($C$2&$C42&\"!\"&U$5&$M$4)=\"\",\"★\",INDIRECT($C$2&$C42&\"!\"&U$5&$M$4))","v":{"$error":"#REF!"}},{"$f":"IF(INDIRECT($C$2&$C42&\"!\"&V$5&$V$4)=\"\",\"★\",INDIRECT($C$2&$C42&\"!\"&V$5&$V$4))","v":{"$error":"#REF!"}},{"$f":"IF(INDIRECT($C$2&$C42&\"!\"&W$5&$V$4)=\"\",\"★\",INDIRECT($C$2&$C42&\"!\"&W$5&$V$4))","v":{"$error":"#REF!"}},{"$f":"IF(INDIRECT($C$2&$C42&\"!\"&X$5&$V$4)=\"\",\"★\",INDIRECT($C$2&$C42&\"!\"&X$5&$V$4))","v":{"$error":"#REF!"}},{"$f":"IF(INDIRECT($C$2&$C42&\"!\"&Y$5&$V$4)=\"\",\"★\",INDIRECT($C$2&$C42&\"!\"&Y$5&$V$4))","v":{"$error":"#REF!"}},{"$f":"IF(INDIRECT($C$2&$C42&\"!\"&Z$5&$V$4)=\"\",\"★\",INDIRECT($C$2&$C42&\"!\"&Z$5&$V$4))","v":{"$error":"#REF!"}},{"$f":"IF(INDIRECT($C$2&$C42&\"!\"&AA$5&$V$4)=\"\",\"★\",INDIRECT($C$2&$C42&\"!\"&AA$5&$V$4))","v":{"$error":"#REF!"}},{"$f":"IF(INDIRECT($C$2&$C42&\"!\"&AB$5&$V$4)=\"\",\"★\",INDIRECT($C$2&$C42&\"!\"&AB$5&$V$4))","v":{"$error":"#REF!"}},{"$f":"IF(INDIRECT($C$2&$C42&\"!\"&AC$5&$V$4)=\"\",\"★\",INDIRECT($C$2&$C42&\"!\"&AC$5&$V$4))","v":{"$error":"#REF!"}},{"$f":"IF(INDIRECT($C$2&$C42&\"!\"&AD$5&$V$4)=\"\",\"★\",INDIRECT($C$2&$C42&\"!\"&AD$5&$V$4))","v":{"$error":"#REF!"}},{"$f":"IF(INDIRECT($C$2&$C42&\"!\"&AE$5&$V$4)=\"\",\"★\",INDIRECT($C$2&$C42&\"!\"&AE$5&$V$4))","v":{"$error":"#REF!"}},{"$f":"IF(INDIRECT($C$2&$C42&\"!\"&AF$5&$AF$4)=\"\",\"★\",INDIRECT($C$2&$C42&\"!\"&AF$5&$AF$4))","v":{"$error":"#REF!"}},{"$f":"IF(INDIRECT($C$2&$C42&\"!\"&AG$5&$AF$4)=\"\",\"★\",INDIRECT($C$2&$C42&\"!\"&AG$5&$AF$4))","v":{"$error":"#REF!"}},{"$f":"IF(INDIRECT($C$2&$C42&\"!\"&AH$5&$AH$4)=\"\",\"★\",INDIRECT($C$2&$C42&\"!\"&AH$5&$AH$4))","v":{"$error":"#REF!"}},{"$f":"IF(INDIRECT($C$2&$C42&\"!\"&AI$5&$AH$4)=\"\",\"★\",INDIRECT($C$2&$C42&\"!\"&AI$5&$AH$4))","v":{"$error":"#REF!"}},{"$f":"IF(INDIRECT($C$2&$C42&\"!\"&AJ$5&$AJ$4)=\"\",\"★\",INDIRECT($C$2&$C42&\"!\"&AJ$5&$AJ$4))","v":{"$error":"#REF!"}},{"$f":"IF(INDIRECT($C$2&$C42&\"!\"&AK$5&$AJ$4)=\"\",\"★\",INDIRECT($C$2&$C42&\"!\"&AK$5&$AJ$4))","v":{"$error":"#REF!"}},{"$f":"$AF42","v":{"$error":"#REF!"}},{"$f":"$AG42","v":{"$error":"#REF!"}},{"$f":"IF(INDIRECT($C$2&$C42&\"!\"&AN$5&$AN$4)=\"\",\"★\",INDIRECT($C$2&$C42&\"!\"&AN$5&$AN$4))","v":{"$error":"#REF!"}},{"$f":"IF(INDIRECT($C$2&$C42&\"!\"&AO$5&$AN$4)=\"\",\"★\",INDIRECT($C$2&$C42&\"!\"&AO$5&$AN$4))","v":{"$error":"#REF!"}},{"$f":"IF(INDIRECT($C$2&$C42&\"!\"&AP$5&$AN$4)=\"\",\"★\",INDIRECT($C$2&$C42&\"!\"&AP$5&$AN$4))","v":{"$error":"#REF!"}},{"$f":"IF(INDIRECT($C$2&$C42&\"!\"&AQ$5&$AN$4)=\"\",\"★\",INDIRECT($C$2&$C42&\"!\"&AQ$5&$AN$4))","v":{"$error":"#REF!"}},{"$f":"IF(INDIRECT($C$2&$C42&\"!\"&AR$5&$AN$4)=\"\",\"★\",INDIRECT($C$2&$C42&\"!\"&AR$5&$AN$4))","v":{"$error":"#REF!"}},{"$f":"IF(INDIRECT($C$2&$C42&\"!\"&AS$5&$AN$4)=\"\",\"★\",INDIRECT($C$2&$C42&\"!\"&AS$5&$AN$4))","v":{"$error":"#REF!"}},{"$f":"IF(INDIRECT($C$2&$C42&\"!\"&AT$5&$AN$4)=\"\",\"★\",INDIRECT($C$2&$C42&\"!\"&AT$5&$AN$4))","v":{"$error":"#REF!"}},{"$f":"IF(INDIRECT($C$2&$C42&\"!\"&AU$5&$AN$4)=\"\",\"★\",INDIRECT($C$2&$C42&\"!\"&AU$5&$AN$4))","v":{"$error":"#REF!"}},{"$f":"IF(INDIRECT($C$2&$C42&\"!\"&AV$5&$AN$4)=\"\",\"★\",INDIRECT($C$2&$C42&\"!\"&AV$5&$AN$4))","v":{"$error":"#REF!"}},{"$f":"IF(INDIRECT($C$2&$C42&\"!\"&AW$5&$AN$4)=\"\",\"★\",INDIRECT($C$2&$C42&\"!\"&AW$5&$AN$4))","v":{"$error":"#REF!"}},{"$f":"$AH42","v":{"$error":"#REF!"}},{"$f":"$AI42","v":{"$error":"#REF!"}},{"$f":"IF(INDIRECT($C$2&$C42&\"!\"&AZ$5&$AZ$4)=\"\",\"★\",INDIRECT($C$2&$C42&\"!\"&AZ$5&$AZ$4))","v":{"$error":"#REF!"}},{"$f":"IF(INDIRECT($C$2&$C42&\"!\"&BA$5&$AZ$4)=\"\",\"★\",INDIRECT($C$2&$C42&\"!\"&BA$5&$AZ$4))","v":{"$error":"#REF!"}},{"$f":"IF(INDIRECT($C$2&$C42&\"!\"&BB$5&$AZ$4)=\"\",\"★\",INDIRECT($C$2&$C42&\"!\"&BB$5&$AZ$4))","v":{"$error":"#REF!"}},{"$f":"IF(INDIRECT($C$2&$C42&\"!\"&BC$5&$AZ$4)=\"\",\"★\",INDIRECT($C$2&$C42&\"!\"&BC$5&$AZ$4))","v":{"$error":"#REF!"}},{"$f":"IF(INDIRECT($C$2&$C42&\"!\"&BD$5&$AZ$4)=\"\",\"★\",INDIRECT($C$2&$C42&\"!\"&BD$5&$AZ$4))","v":{"$error":"#REF!"}},{"$f":"IF(INDIRECT($C$2&$C42&\"!\"&BE$5&$AZ$4)=\"\",\"★\",INDIRECT($C$2&$C42&\"!\"&BE$5&$AZ$4))","v":{"$error":"#REF!"}},{"$f":"IF(INDIRECT($C$2&$C42&\"!\"&BF$5&$AZ$4)=\"\",\"★\",INDIRECT($C$2&$C42&\"!\"&BF$5&$AZ$4))","v":{"$error":"#REF!"}},{"$f":"IF(INDIRECT($C$2&$C42&\"!\"&BG$5&$AZ$4)=\"\",\"★\",INDIRECT($C$2&$C42&\"!\"&BG$5&$AZ$4))","v":{"$error":"#REF!"}},{"$f":"IF(INDIRECT($C$2&$C42&\"!\"&BH$5&$AZ$4)=\"\",\"★\",INDIRECT($C$2&$C42&\"!\"&BH$5&$AZ$4))","v":{"$error":"#REF!"}},{"$f":"IF(INDIRECT($C$2&$C42&\"!\"&BI$5&$AZ$4)=\"\",\"★\",INDIRECT($C$2&$C42&\"!\"&BI$5&$AZ$4))","v":{"$error":"#REF!"}},{"$f":"$AJ42","v":{"$error":"#REF!"}},{"$f":"$AK42","v":{"$error":"#REF!"}},{"$f":"IF(INDIRECT($C$2&$C42&\"!\"&BL$5&$BL$4)=\"\",\"★\",INDIRECT($C$2&$C42&\"!\"&BL$5&$BL$4))","v":{"$error":"#REF!"}},{"$f":"IF(INDIRECT($C$2&$C42&\"!\"&BM$5&$BL$4)=\"\",\"★\",INDIRECT($C$2&$C42&\"!\"&BM$5&$BL$4))","v":{"$error":"#REF!"}},{"$f":"IF(INDIRECT($C$2&$C42&\"!\"&BN$5&$BL$4)=\"\",\"★\",INDIRECT($C$2&$C42&\"!\"&BN$5&$BL$4))","v":{"$error":"#REF!"}},{"$f":"IF(INDIRECT($C$2&$C42&\"!\"&BO$5&$BL$4)=\"\",\"★\",INDIRECT($C$2&$C42&\"!\"&BO$5&$BL$4))","v":{"$error":"#REF!"}},{"$f":"IF(INDIRECT($C$2&$C42&\"!\"&BP$5&$BL$4)=\"\",\"★\",INDIRECT($C$2&$C42&\"!\"&BP$5&$BL$4))","v":{"$error":"#REF!"}},{"$f":"IF(INDIRECT($C$2&$C42&\"!\"&BQ$5&$BL$4)=\"\",\"★\",INDIRECT($C$2&$C42&\"!\"&BQ$5&$BL$4))","v":{"$error":"#REF!"}},{"$f":"IF(INDIRECT($C$2&$C42&\"!\"&BR$5&$BL$4)=\"\",\"★\",INDIRECT($C$2&$C42&\"!\"&BR$5&$BL$4))","v":{"$error":"#REF!"}},{"$f":"IF(INDIRECT($C$2&$C42&\"!\"&BS$5&$BL$4)=\"\",\"★\",INDIRECT($C$2&$C42&\"!\"&BS$5&$BL$4))","v":{"$error":"#REF!"}},{"$f":"IF(INDIRECT($C$2&$C42&\"!\"&BT$5&$BL$4)=\"\",\"★\",INDIRECT($C$2&$C42&\"!\"&BT$5&$BL$4))","v":{"$error":"#REF!"}},{"$f":"IF(INDIRECT($C$2&$C42&\"!\"&BU$5&$BL$4)=\"\",\"★\",INDIRECT($C$2&$C42&\"!\"&BU$5&$BL$4))","v":{"$error":"#REF!"}},{"$f":"IF(INDIRECT($C$2&$C42&\"!\"&BV$5&$BV$4)=\"\",\"★\",INDIRECT($C$2&$C42&\"!\"&BV$5&$BV$4))","v":{"$error":"#REF!"}},{"$f":"IF(INDIRECT($C$2&$C42&\"!\"&BW$5&$BV$4)=\"\",\"★\",INDIRECT($C$2&$C42&\"!\"&BW$5&$BV$4))","v":{"$error":"#REF!"}},{"$f":"IF(INDIRECT($C$2&$C42&\"!\"&BX$5&$BV$4)=\"\",\"★\",INDIRECT($C$2&$C42&\"!\"&BX$5&$BV$4))","v":{"$error":"#REF!"}},{"$f":"IF(INDIRECT($C$2&$C42&\"!\"&BY$5&$BV$4)=\"\",\"★\",INDIRECT($C$2&$C42&\"!\"&BY$5&$BV$4))","v":{"$error":"#REF!"}},{"$f":"IF(INDIRECT($C$2&$C42&\"!\"&BZ$5&$BV$4)=\"\",\"★\",INDIRECT($C$2&$C42&\"!\"&BZ$5&$BV$4))","v":{"$error":"#REF!"}},{"$f":"IF(INDIRECT($C$2&$C42&\"!\"&CA$5&$BV$4)=\"\",\"★\",INDIRECT($C$2&$C42&\"!\"&CA$5&$BV$4))","v":{"$error":"#REF!"}},{"$f":"IF(INDIRECT($C$2&$C42&\"!\"&CB$5&$BV$4)=\"\",\"★\",INDIRECT($C$2&$C42&\"!\"&CB$5&$BV$4))","v":{"$error":"#REF!"}},{"$f":"IF(INDIRECT($C$2&$C42&\"!\"&CC$5&$CC$4)=\"\",\"★\",INDIRECT($C$2&$C42&\"!\"&CC$5&$CC$4))","v":{"$error":"#REF!"}},{"$f":"IF(INDIRECT($C$2&$C42&\"!\"&CD$5&$CC$4)=\"\",\"★\",INDIRECT($C$2&$C42&\"!\"&CD$5&$CC$4))","v":{"$error":"#REF!"}},{"$f":"IF(INDIRECT($C$2&$C42&\"!\"&CE$5&$CC$4)=\"\",\"★\",INDIRECT($C$2&$C42&\"!\"&CE$5&$CC$4))","v":{"$error":"#REF!"}},{"$f":"IF(INDIRECT($C$2&$C42&\"!\"&CF$5&$CC$4)=\"\",\"★\",INDIRECT($C$2&$C42&\"!\"&CF$5&$CC$4))","v":{"$error":"#REF!"}},{"$f":"IF(INDIRECT($C$2&$C42&\"!\"&CG$5&$CC$4)=\"\",\"★\",INDIRECT($C$2&$C42&\"!\"&CG$5&$CC$4))","v":{"$error":"#REF!"}},{"$f":"IF(INDIRECT($C$2&$C42&\"!\"&CH$5&$CC$4)=\"\",\"★\",INDIRECT($C$2&$C42&\"!\"&CH$5&$CC$4))","v":{"$error":"#REF!"}},{"$f":"IF(INDIRECT($C$2&$C42&\"!\"&CI$5&$CC$4)=\"\",\"★\",INDIRECT($C$2&$C42&\"!\"&CI$5&$CC$4))","v":{"$error":"#REF!"}},{"$f":"IF(INDIRECT($C$2&$C42&\"!\"&CJ$5&$CC$4)=\"\",\"★\",INDIRECT($C$2&$C42&\"!\"&CJ$5&$CC$4))","v":{"$error":"#REF!"}},{"$f":"$AF42","v":{"$error":"#REF!"}},{"$f":"$AG42","v":{"$error":"#REF!"}},{"$f":"IF(INDIRECT($C$2&$C42&\"!\"&CM$5&$CM$4)=\"\",\"★\",INDIRECT($C$2&$C42&\"!\"&CM$5&$CM$4))","v":{"$error":"#REF!"}},{"$f":"IF(INDIRECT($C$2&$C42&\"!\"&CN$5&$CM$4)=\"\",\"★\",INDIRECT($C$2&$C42&\"!\"&CN$5&$CM$4))","v":{"$error":"#REF!"}},{"$f":"IF(INDIRECT($C$2&$C42&\"!\"&CO$5&$CM$4)=\"\",\"★\",INDIRECT($C$2&$C42&\"!\"&CO$5&$CM$4))","v":{"$error":"#REF!"}},{"$f":"IF(INDIRECT($C$2&$C42&\"!\"&CP$5&$CM$4)=\"\",\"★\",INDIRECT($C$2&$C42&\"!\"&CP$5&$CM$4))","v":{"$error":"#REF!"}},{"$f":"IF(INDIRECT($C$2&$C42&\"!\"&CQ$5&$CM$4)=\"\",\"★\",INDIRECT($C$2&$C42&\"!\"&CQ$5&$CM$4))","v":{"$error":"#REF!"}},{"$f":"IF(INDIRECT($C$2&$C42&\"!\"&CR$5&$CM$4)=\"\",\"★\",INDIRECT($C$2&$C42&\"!\"&CR$5&$CM$4))","v":{"$error":"#REF!"}},{"$f":"IF(INDIRECT($C$2&$C42&\"!\"&CS$5&$CM$4)=\"\",\"★\",INDIRECT($C$2&$C42&\"!\"&CS$5&$CM$4))","v":{"$error":"#REF!"}},{"$f":"IF(INDIRECT($C$2&$C42&\"!\"&CT$5&$CM$4)=\"\",\"★\",INDIRECT($C$2&$C42&\"!\"&CT$5&$CM$4))","v":{"$error":"#REF!"}},{"$f":"$AH42","v":{"$error":"#REF!"}},{"$f":"$AI42","v":{"$error":"#REF!"}},{"$f":"IF(INDIRECT($C$2&$C42&\"!\"&CW$5&$CW$4)=\"\",\"★\",INDIRECT($C$2&$C42&\"!\"&CW$5&$CW$4))","v":{"$error":"#REF!"}},{"$f":"IF(INDIRECT($C$2&$C42&\"!\"&CX$5&$CW$4)=\"\",\"★\",INDIRECT($C$2&$C42&\"!\"&CX$5&$CW$4))","v":{"$error":"#REF!"}},{"$f":"IF(INDIRECT($C$2&$C42&\"!\"&CY$5&$CW$4)=\"\",\"★\",INDIRECT($C$2&$C42&\"!\"&CY$5&$CW$4))","v":{"$error":"#REF!"}},{"$f":"IF(INDIRECT($C$2&$C42&\"!\"&CZ$5&$CW$4)=\"\",\"★\",INDIRECT($C$2&$C42&\"!\"&CZ$5&$CW$4))","v":{"$error":"#REF!"}},{"$f":"IF(INDIRECT($C$2&$C42&\"!\"&DA$5&$CW$4)=\"\",\"★\",INDIRECT($C$2&$C42&\"!\"&DA$5&$CW$4))","v":{"$error":"#REF!"}},{"$f":"IF(INDIRECT($C$2&$C42&\"!\"&DB$5&$CW$4)=\"\",\"★\",INDIRECT($C$2&$C42&\"!\"&DB$5&$CW$4))","v":{"$error":"#REF!"}},{"$f":"IF(INDIRECT($C$2&$C42&\"!\"&DC$5&$CW$4)=\"\",\"★\",INDIRECT($C$2&$C42&\"!\"&DC$5&$CW$4))","v":{"$error":"#REF!"}},{"$f":"IF(INDIRECT($C$2&$C42&\"!\"&DD$5&$CW$4)=\"\",\"★\",INDIRECT($C$2&$C42&\"!\"&DD$5&$CW$4))","v":{"$error":"#REF!"}},{"$f":"$AJ42","v":{"$error":"#REF!"}},{"$f":"$AK42","v":{"$error":"#REF!"}},{"$f":"IF(INDIRECT($C$2&$C42&\"!\"&DG$5&$DG$4)=\"\",\"★\",INDIRECT($C$2&$C42&\"!\"&DG$5&$DG$4))","v":{"$error":"#REF!"}},{"$f":"IF(INDIRECT($C$2&$C42&\"!\"&DH$5&$DG$4)=\"\",\"★\",INDIRECT($C$2&$C42&\"!\"&DH$5&$DG$4))","v":{"$error":"#REF!"}},{"$f":"IF(INDIRECT($C$2&$C42&\"!\"&DI$5&$DG$4)=\"\",\"★\",INDIRECT($C$2&$C42&\"!\"&DI$5&$DG$4))","v":{"$error":"#REF!"}},{"$f":"IF(INDIRECT($C$2&$C42&\"!\"&DJ$5&$DG$4)=\"\",\"★\",INDIRECT($C$2&$C42&\"!\"&DJ$5&$DG$4))","v":{"$error":"#REF!"}},{"$f":"IF(INDIRECT($C$2&$C42&\"!\"&DK$5&$DG$4)=\"\",\"★\",INDIRECT($C$2&$C42&\"!\"&DK$5&$DG$4))","v":{"$error":"#REF!"}},{"$f":"IF(INDIRECT($C$2&$C42&\"!\"&DL$5&$DG$4)=\"\",\"★\",INDIRECT($C$2&$C42&\"!\"&DL$5&$DG$4))","v":{"$error":"#REF!"}},{"$f":"IF(INDIRECT($C$2&$C42&\"!\"&DM$5&$DG$4)=\"\",\"★\",INDIRECT($C$2&$C42&\"!\"&DM$5&$DG$4))","v":{"$error":"#REF!"}},{"$f":"IF(INDIRECT($C$2&$C42&\"!\"&DN$5&$DG$4)=\"\",\"★\",INDIRECT($C$2&$C42&\"!\"&DN$5&$DG$4))","v":{"$error":"#REF!"}},{"$f":"IF(INDIRECT($C$2&$C42&\"!B57\")=\"\",\"★\",INDIRECT($C$2&$C42&\"!B57\"))","v":{"$error":"#REF!"}},{"$f":"IF(INDIRECT($C$2&$C42&\"!B100\")=\"\",\"★\",INDIRECT($C$2&$C42&\"!B100\"))","v":{"$error":"#REF!"}},{"$f":"IF(INDIRECT($C$2&$C42&\"!B112\")=\"\",\"★\",INDIRECT($C$2&$C42&\"!B112\"))","v":{"$error":"#REF!"}},{"$f":"IF(INDIRECT($C$2&$C42&\"!B155\")=\"\",\"★\",INDIRECT($C$2&$C42&\"!B155\"))","v":{"$error":"#REF!"}},{"$f":"IF(INDIRECT($C$2&$C42&\"!B167\")=\"\",\"★\",INDIRECT($C$2&$C42&\"!B167\"))","v":{"$error":"#REF!"}},{"$f":"IF(INDIRECT($C$2&$C42&\"!B210\")=\"\",\"★\",INDIRECT($C$2&$C42&\"!B210\"))","v":{"$error":"#REF!"}}]
[null,null,{"$f":"C42","v":"★"},null,null,null,null,null,null,null,null,{"$f":"$C43&\"-2\"","v":"★-2"},{"$f":"IF(INDIRECT($C$2&$C43&\"!\"&M$5&$M$4+1)=\"\",\"★\",INDIRECT($C$2&$C43&\"!\"&M$5&$M$4+1))","v":{"$error":"#REF!"}},{"$f":"IF(INDIRECT($C$2&$C43&\"!\"&N$5&$M$4+1)=\"\",\"★\",INDIRECT($C$2&$C43&\"!\"&N$5&$M$4+1))","v":{"$error":"#REF!"}},{"$f":"IF(INDIRECT($C$2&$C43&\"!\"&O$5&$M$4+1)=\"\",\"★\",INDIRECT($C$2&$C43&\"!\"&O$5&$M$4+1))","v":{"$error":"#REF!"}},{"$f":"IF(INDIRECT($C$2&$C43&\"!\"&P$5&$M$4+1)=\"\",\"★\",INDIRECT($C$2&$C43&\"!\"&P$5&$M$4+1))","v":{"$error":"#REF!"}},{"$f":"IF(INDIRECT($C$2&$C43&\"!\"&Q$5&$M$4+1)=\"\",\"★\",INDIRECT($C$2&$C43&\"!\"&Q$5&$M$4+1))","v":{"$error":"#REF!"}},{"$f":"IF(INDIRECT($C$2&$C43&\"!\"&R$5&$M$4+1)=\"\",\"★\",INDIRECT($C$2&$C43&\"!\"&R$5&$M$4+1))","v":{"$error":"#REF!"}},{"$f":"IF(INDIRECT($C$2&$C43&\"!\"&S$5&$M$4+1)=\"\",\"★\",INDIRECT($C$2&$C43&\"!\"&S$5&$M$4+1))","v":{"$error":"#REF!"}},{"$f":"IF(INDIRECT($C$2&$C43&\"!\"&T$5&$M$4+1)=\"\",\"★\",INDIRECT($C$2&$C43&\"!\"&T$5&$M$4+1))","v":{"$error":"#REF!"}},null,{"$f":"IF(INDIRECT($C$2&$C43&\"!\"&V$5&$V$4+1)=\"\",\"★\",INDIRECT($C$2&$C43&\"!\"&V$5&$V$4+1))","v":{"$error":"#REF!"}},{"$f":"IF(INDIRECT($C$2&$C43&\"!\"&W$5&$V$4+1)=\"\",\"★\",INDIRECT($C$2&$C43&\"!\"&W$5&$V$4+1))","v":{"$error":"#REF!"}},{"$f":"IF(INDIRECT($C$2&$C43&\"!\"&X$5&$V$4+1)=\"\",\"★\",INDIRECT($C$2&$C43&\"!\"&X$5&$V$4+1))","v":{"$error":"#REF!"}},{"$f":"IF(INDIRECT($C$2&$C43&\"!\"&Y$5&$V$4+1)=\"\",\"★\",INDIRECT($C$2&$C43&\"!\"&Y$5&$V$4+1))","v":{"$error":"#REF!"}},{"$f":"IF(INDIRECT($C$2&$C43&\"!\"&Z$5&$V$4+1)=\"\",\"★\",INDIRECT($C$2&$C43&\"!\"&Z$5&$V$4+1))","v":{"$error":"#REF!"}},{"$f":"IF(INDIRECT($C$2&$C43&\"!\"&AA$5&$V$4+1)=\"\",\"★\",INDIRECT($C$2&$C43&\"!\"&AA$5&$V$4+1))","v":{"$error":"#REF!"}},{"$f":"IF(INDIRECT($C$2&$C43&\"!\"&AB$5&$V$4+1)=\"\",\"★\",INDIRECT($C$2&$C43&\"!\"&AB$5&$V$4+1))","v":{"$error":"#REF!"}},{"$f":"IF(INDIRECT($C$2&$C43&\"!\"&AC$5&$V$4+1)=\"\",\"★\",INDIRECT($C$2&$C43&\"!\"&AC$5&$V$4+1))","v":{"$error":"#REF!"}},null,null,null,null,null,null,null,null,null,null,{"$f":"IF(INDIRECT($C$2&$C43&\"!\"&AN$5&$AN$4+1)=\"\",\"★\",INDIRECT($C$2&$C43&\"!\"&AN$5&$AN$4+1))","v":{"$error":"#REF!"}},{"$f":"IF(INDIRECT($C$2&$C43&\"!\"&AO$5&$AN$4+1)=\"\",\"★\",INDIRECT($C$2&$C43&\"!\"&AO$5&$AN$4+1))","v":{"$error":"#REF!"}},{"$f":"IF(INDIRECT($C$2&$C43&\"!\"&AP$5&$AN$4+1)=\"\",\"★\",INDIRECT($C$2&$C43&\"!\"&AP$5&$AN$4+1))","v":{"$error":"#REF!"}},{"$f":"IF(INDIRECT($C$2&$C43&\"!\"&AQ$5&$AN$4+1)=\"\",\"★\",INDIRECT($C$2&$C43&\"!\"&AQ$5&$AN$4+1))","v":{"$error":"#REF!"}},{"$f":"IF(INDIRECT($C$2&$C43&\"!\"&AR$5&$AN$4+1)=\"\",\"★\",INDIRECT($C$2&$C43&\"!\"&AR$5&$AN$4+1))","v":{"$error":"#REF!"}},{"$f":"IF(INDIRECT($C$2&$C43&\"!\"&AS$5&$AN$4+1)=\"\",\"★\",INDIRECT($C$2&$C43&\"!\"&AS$5&$AN$4+1))","v":{"$error":"#REF!"}},{"$f":"IF(INDIRECT($C$2&$C43&\"!\"&AT$5&$AN$4+1)=\"\",\"★\",INDIRECT($C$2&$C43&\"!\"&AT$5&$AN$4+1))","v":{"$error":"#REF!"}},{"$f":"IF(INDIRECT($C$2&$C43&\"!\"&AU$5&$AN$4+1)=\"\",\"★\",INDIRECT($C$2&$C43&\"!\"&AU$5&$AN$4+1))","v":{"$error":"#REF!"}},null,null,null,null,{"$f":"IF(INDIRECT($C$2&$C43&\"!\"&AZ$5&$AZ$4+1)=\"\",\"★\",INDIRECT($C$2&$C43&\"!\"&AZ$5&$AZ$4+1))","v":{"$error":"#REF!"}},{"$f":"IF(INDIRECT($C$2&$C43&\"!\"&BA$5&$AZ$4+1)=\"\",\"★\",INDIRECT($C$2&$C43&\"!\"&BA$5&$AZ$4+1))","v":{"$error":"#REF!"}},{"$f":"IF(INDIRECT($C$2&$C43&\"!\"&BB$5&$AZ$4+1)=\"\",\"★\",INDIRECT($C$2&$C43&\"!\"&BB$5&$AZ$4+1))","v":{"$error":"#REF!"}},{"$f":"IF(INDIRECT($C$2&$C43&\"!\"&BC$5&$AZ$4+1)=\"\",\"★\",INDIRECT($C$2&$C43&\"!\"&BC$5&$AZ$4+1))","v":{"$error":"#REF!"}},{"$f":"IF(INDIRECT($C$2&$C43&\"!\"&BD$5&$AZ$4+1)=\"\",\"★\",INDIRECT($C$2&$C43&\"!\"&BD$5&$AZ$4+1))","v":{"$error":"#REF!"}},{"$f":"IF(INDIRECT($C$2&$C43&\"!\"&BE$5&$AZ$4+1)=\"\",\"★\",INDIRECT($C$2&$C43&\"!\"&BE$5&$AZ$4+1))","v":{"$error":"#REF!"}},{"$f":"IF(INDIRECT($C$2&$C43&\"!\"&BF$5&$AZ$4+1)=\"\",\"★\",INDIRECT($C$2&$C43&\"!\"&BF$5&$AZ$4+1))","v":{"$error":"#REF!"}},{"$f":"IF(INDIRECT($C$2&$C43&\"!\"&BG$5&$AZ$4+1)=\"\",\"★\",INDIRECT($C$2&$C43&\"!\"&BG$5&$AZ$4+1))","v":{"$error":"#REF!"}},null,null,null,null,{"$f":"IF(INDIRECT($C$2&$C43&\"!\"&BL$5&$BL$4+1)=\"\",\"★\",INDIRECT($C$2&$C43&\"!\"&BL$5&$BL$4+1))","v":{"$error":"#REF!"}},{"$f":"IF(INDIRECT($C$2&$C43&\"!\"&BM$5&$BL$4+1)=\"\",\"★\",INDIRECT($C$2&$C43&\"!\"&BM$5&$BL$4+1))","v":{"$error":"#REF!"}},{"$f":"IF(INDIRECT($C$2&$C43&\"!\"&BN$5&$BL$4+1)=\"\",\"★\",INDIRECT($C$2&$C43&\"!\"&BN$5&$BL$4+1))","v":{"$error":"#REF!"}},{"$f":"IF(INDIRECT($C$2&$C43&\"!\"&BO$5&$BL$4+1)=\"\",\"★\",INDIRECT($C$2&$C43&\"!\"&BO$5&$BL$4+1))","v":{"$error":"#REF!"}},{"$f":"IF(INDIRECT($C$2&$C43&\"!\"&BP$5&$BL$4+1)=\"\",\"★\",INDIRECT($C$2&$C43&\"!\"&BP$5&$BL$4+1))","v":{"$error":"#REF!"}},{"$f":"IF(INDIRECT($C$2&$C43&\"!\"&BQ$5&$BL$4+1)=\"\",\"★\",INDIRECT($C$2&$C43&\"!\"&BQ$5&$BL$4+1))","v":{"$error":"#REF!"}},{"$f":"IF(INDIRECT($C$2&$C43&\"!\"&BR$5&$BL$4+1)=\"\",\"★\",INDIRECT($C$2&$C43&\"!\"&BR$5&$BL$4+1))","v":{"$error":"#REF!"}},{"$f":"IF(INDIRECT($C$2&$C43&\"!\"&BS$5&$BL$4+1)=\"\",\"★\",INDIRECT($C$2&$C43&\"!\"&BS$5&$BL$4+1))","v":{"$error":"#REF!"}},null,null,{"$f":"IF(INDIRECT($C$2&$C43&\"!\"&BV$5&$BV$4+1)=\"\",\"★\",INDIRECT($C$2&$C43&\"!\"&BV$5&$BV$4+1))","v":{"$error":"#REF!"}},{"$f":"IF(INDIRECT($C$2&$C43&\"!\"&BW$5&$BV$4+1)=\"\",\"★\",INDIRECT($C$2&$C43&\"!\"&BW$5&$BV$4+1))","v":{"$error":"#REF!"}},{"$f":"IF(INDIRECT($C$2&$C43&\"!\"&BX$5&$BV$4+1)=\"\",\"★\",INDIRECT($C$2&$C43&\"!\"&BX$5&$BV$4+1))","v":{"$error":"#REF!"}},{"$f":"IF(INDIRECT($C$2&$C43&\"!\"&BY$5&$BV$4+1)=\"\",\"★\",INDIRECT($C$2&$C43&\"!\"&BY$5&$BV$4+1))","v":{"$error":"#REF!"}},{"$f":"IF(INDIRECT($C$2&$C43&\"!\"&BZ$5&$BV$4+1)=\"\",\"★\",INDIRECT($C$2&$C43&\"!\"&BZ$5&$BV$4+1))","v":{"$error":"#REF!"}},{"$f":"IF(INDIRECT($C$2&$C43&\"!\"&CA$5&$BV$4+1)=\"\",\"★\",INDIRECT($C$2&$C43&\"!\"&CA$5&$BV$4+1))","v":{"$error":"#REF!"}},null,{"$f":"IF(INDIRECT($C$2&$C43&\"!\"&CC$5&$CC$4+1)=\"\",\"★\",INDIRECT($C$2&$C43&\"!\"&CC$5&$CC$4+1))","v":{"$error":"#REF!"}},{"$f":"IF(INDIRECT($C$2&$C43&\"!\"&CD$5&$CC$4+1)=\"\",\"★\",INDIRECT($C$2&$C43&\"!\"&CD$5&$CC$4+1))","v":{"$error":"#REF!"}},{"$f":"IF(INDIRECT($C$2&$C43&\"!\"&CE$5&$CC$4+1)=\"\",\"★\",INDIRECT($C$2&$C43&\"!\"&CE$5&$CC$4+1))","v":{"$error":"#REF!"}},{"$f":"IF(INDIRECT($C$2&$C43&\"!\"&CF$5&$CC$4+1)=\"\",\"★\",INDIRECT($C$2&$C43&\"!\"&CF$5&$CC$4+1))","v":{"$error":"#REF!"}},{"$f":"IF(INDIRECT($C$2&$C43&\"!\"&CG$5&$CC$4+1)=\"\",\"★\",INDIRECT($C$2&$C43&\"!\"&CG$5&$CC$4+1))","v":{"$error":"#REF!"}},{"$f":"IF(INDIRECT($C$2&$C43&\"!\"&CH$5&$CC$4+1)=\"\",\"★\",INDIRECT($C$2&$C43&\"!\"&CH$5&$CC$4+1))","v":{"$error":"#REF!"}},null,null,null,null,{"$f":"IF(INDIRECT($C$2&$C43&\"!\"&CM$5&$CM$4+1)=\"\",\"★\",INDIRECT($C$2&$C43&\"!\"&CM$5&$CM$4+1))","v":{"$error":"#REF!"}},{"$f":"IF(INDIRECT($C$2&$C43&\"!\"&CN$5&$CM$4+1)=\"\",\"★\",INDIRECT($C$2&$C43&\"!\"&CN$5&$CM$4+1))","v":{"$error":"#REF!"}},{"$f":"IF(INDIRECT($C$2&$C43&\"!\"&CO$5&$CM$4+1)=\"\",\"★\",INDIRECT($C$2&$C43&\"!\"&CO$5&$CM$4+1))","v":{"$error":"#REF!"}},{"$f":"IF(INDIRECT($C$2&$C43&\"!\"&CP$5&$CM$4+1)=\"\",\"★\",INDIRECT($C$2&$C43&\"!\"&CP$5&$CM$4+1))","v":{"$error":"#REF!"}},{"$f":"IF(INDIRECT($C$2&$C43&\"!\"&CQ$5&$CM$4+1)=\"\",\"★\",INDIRECT($C$2&$C43&\"!\"&CQ$5&$CM$4+1))","v":{"$error":"#REF!"}},{"$f":"IF(INDIRECT($C$2&$C43&\"!\"&CR$5&$CM$4+1)=\"\",\"★\",INDIRECT($C$2&$C43&\"!\"&CR$5&$CM$4+1))","v":{"$error":"#REF!"}},null,null,null,null,{"$f":"IF(INDIRECT($C$2&$C43&\"!\"&CW$5&$CW$4+1)=\"\",\"★\",INDIRECT($C$2&$C43&\"!\"&CW$5&$CW$4+1))","v":{"$error":"#REF!"}},{"$f":"IF(INDIRECT($C$2&$C43&\"!\"&CX$5&$CW$4+1)=\"\",\"★\",INDIRECT($C$2&$C43&\"!\"&CX$5&$CW$4+1))","v":{"$error":"#REF!"}},{"$f":"IF(INDIRECT($C$2&$C43&\"!\"&CY$5&$CW$4+1)=\"\",\"★\",INDIRECT($C$2&$C43&\"!\"&CY$5&$CW$4+1))","v":{"$error":"#REF!"}},{"$f":"IF(INDIRECT($C$2&$C43&\"!\"&CZ$5&$CW$4+1)=\"\",\"★\",INDIRECT($C$2&$C43&\"!\"&CZ$5&$CW$4+1))","v":{"$error":"#REF!"}},{"$f":"IF(INDIRECT($C$2&$C43&\"!\"&DA$5&$CW$4+1)=\"\",\"★\",INDIRECT($C$2&$C43&\"!\"&DA$5&$CW$4+1))","v":{"$error":"#REF!"}},{"$f":"IF(INDIRECT($C$2&$C43&\"!\"&DB$5&$CW$4+1)=\"\",\"★\",INDIRECT($C$2&$C43&\"!\"&DB$5&$CW$4+1))","v":{"$error":"#REF!"}},null,null,null,null,{"$f":"IF(INDIRECT($C$2&$C43&\"!\"&DG$5&$DG$4+1)=\"\",\"★\",INDIRECT($C$2&$C43&\"!\"&DG$5&$DG$4+1))","v":{"$error":"#REF!"}},{"$f":"IF(INDIRECT($C$2&$C43&\"!\"&DH$5&$DG$4+1)=\"\",\"★\",INDIRECT($C$2&$C43&\"!\"&DH$5&$DG$4+1))","v":{"$error":"#REF!"}},{"$f":"IF(INDIRECT($C$2&$C43&\"!\"&DI$5&$DG$4+1)=\"\",\"★\",INDIRECT($C$2&$C43&\"!\"&DI$5&$DG$4+1))","v":{"$error":"#REF!"}},{"$f":"IF(INDIRECT($C$2&$C43&\"!\"&DJ$5&$DG$4+1)=\"\",\"★\",INDIRECT($C$2&$C43&\"!\"&DJ$5&$DG$4+1))","v":{"$error":"#REF!"}},{"$f":"IF(INDIRECT($C$2&$C43&\"!\"&DK$5&$DG$4+1)=\"\",\"★\",INDIRECT($C$2&$C43&\"!\"&DK$5&$DG$4+1))","v":{"$error":"#REF!"}},{"$f":"IF(INDIRECT($C$2&$C43&\"!\"&DL$5&$DG$4+1)=\"\",\"★\",INDIRECT($C$2&$C43&\"!\"&DL$5&$DG$4+1))","v":{"$error":"#REF!"}}]
[null,null,{"$f":"C43","v":"★"},null,null,null,null,null,null,null,null,{"$f":"$C44&\"-3\"","v":"★-3"},{"$f":"IF(INDIRECT($C$2&$C44&\"!\"&M$5&$M$4+2)=\"\",\"★\",INDIRECT($C$2&$C44&\"!\"&M$5&$M$4+2))","v":{"$error":"#REF!"}},{"$f":"IF(INDIRECT($C$2&$C44&\"!\"&N$5&$M$4+2)=\"\",\"★\",INDIRECT($C$2&$C44&\"!\"&N$5&$M$4+2))","v":{"$error":"#REF!"}},{"$f":"IF(INDIRECT($C$2&$C44&\"!\"&O$5&$M$4+2)=\"\",\"★\",INDIRECT($C$2&$C44&\"!\"&O$5&$M$4+2))","v":{"$error":"#REF!"}},{"$f":"IF(INDIRECT($C$2&$C44&\"!\"&P$5&$M$4+2)=\"\",\"★\",INDIRECT($C$2&$C44&\"!\"&P$5&$M$4+2))","v":{"$error":"#REF!"}},{"$f":"IF(INDIRECT($C$2&$C44&\"!\"&Q$5&$M$4+2)=\"\",\"★\",INDIRECT($C$2&$C44&\"!\"&Q$5&$M$4+2))","v":{"$error":"#REF!"}},{"$f":"IF(INDIRECT($C$2&$C44&\"!\"&R$5&$M$4+2)=\"\",\"★\",INDIRECT($C$2&$C44&\"!\"&R$5&$M$4+2))","v":{"$error":"#REF!"}},{"$f":"IF(INDIRECT($C$2&$C44&\"!\"&S$5&$M$4+2)=\"\",\"★\",INDIRECT($C$2&$C44&\"!\"&S$5&$M$4+2))","v":{"$error":"#REF!"}},{"$f":"IF(INDIRECT($C$2&$C44&\"!\"&T$5&$M$4+2)=\"\",\"★\",INDIRECT($C$2&$C44&\"!\"&T$5&$M$4+2))","v":{"$error":"#REF!"}},null,{"$f":"IF(INDIRECT($C$2&$C44&\"!\"&V$5&$V$4+2)=\"\",\"★\",INDIRECT($C$2&$C44&\"!\"&V$5&$V$4+2))","v":{"$error":"#REF!"}},{"$f":"IF(INDIRECT($C$2&$C44&\"!\"&W$5&$V$4+2)=\"\",\"★\",INDIRECT($C$2&$C44&\"!\"&W$5&$V$4+2))","v":{"$error":"#REF!"}},{"$f":"IF(INDIRECT($C$2&$C44&\"!\"&X$5&$V$4+2)=\"\",\"★\",INDIRECT($C$2&$C44&\"!\"&X$5&$V$4+2))","v":{"$error":"#REF!"}},{"$f":"IF(INDIRECT($C$2&$C44&\"!\"&Y$5&$V$4+2)=\"\",\"★\",INDIRECT($C$2&$C44&\"!\"&Y$5&$V$4+2))","v":{"$error":"#REF!"}},{"$f":"IF(INDIRECT($C$2&$C44&\"!\"&Z$5&$V$4+2)=\"\",\"★\",INDIRECT($C$2&$C44&\"!\"&Z$5&$V$4+2))","v":{"$error":"#REF!"}},{"$f":"IF(INDIRECT($C$2&$C44&\"!\"&AA$5&$V$4+2)=\"\",\"★\",INDIRECT($C$2&$C44&\"!\"&AA$5&$V$4+2))","v":{"$error":"#REF!"}},{"$f":"IF(INDIRECT($C$2&$C44&\"!\"&AB$5&$V$4+2)=\"\",\"★\",INDIRECT($C$2&$C44&\"!\"&AB$5&$V$4+2))","v":{"$error":"#REF!"}},{"$f":"IF(INDIRECT($C$2&$C44&\"!\"&AC$5&$V$4+2)=\"\",\"★\",INDIRECT($C$2&$C44&\"!\"&AC$5&$V$4+2))","v":{"$error":"#REF!"}},null,null,null,null,null,null,null,null,null,null,{"$f":"IF(INDIRECT($C$2&$C44&\"!\"&AN$5&$AN$4+2)=\"\",\"★\",INDIRECT($C$2&$C44&\"!\"&AN$5&$AN$4+2))","v":{"$error":"#REF!"}},{"$f":"IF(INDIRECT($C$2&$C44&\"!\"&AO$5&$AN$4+2)=\"\",\"★\",INDIRECT($C$2&$C44&\"!\"&AO$5&$AN$4+2))","v":{"$error":"#REF!"}},{"$f":"IF(INDIRECT($C$2&$C44&\"!\"&AP$5&$AN$4+2)=\"\",\"★\",INDIRECT($C$2&$C44&\"!\"&AP$5&$AN$4+2))","v":{"$error":"#REF!"}},{"$f":"IF(INDIRECT($C$2&$C44&\"!\"&AQ$5&$AN$4+2)=\"\",\"★\",INDIRECT($C$2&$C44&\"!\"&AQ$5&$AN$4+2))","v":{"$error":"#REF!"}},{"$f":"IF(INDIRECT($C$2&$C44&\"!\"&AR$5&$AN$4+2)=\"\",\"★\",INDIRECT($C$2&$C44&\"!\"&AR$5&$AN$4+2))","v":{"$error":"#REF!"}},{"$f":"IF(INDIRECT($C$2&$C44&\"!\"&AS$5&$AN$4+2)=\"\",\"★\",INDIRECT($C$2&$C44&\"!\"&AS$5&$AN$4+2))","v":{"$error":"#REF!"}},{"$f":"IF(INDIRECT($C$2&$C44&\"!\"&AT$5&$AN$4+2)=\"\",\"★\",INDIRECT($C$2&$C44&\"!\"&AT$5&$AN$4+2))","v":{"$error":"#REF!"}},{"$f":"IF(INDIRECT($C$2&$C44&\"!\"&AU$5&$AN$4+2)=\"\",\"★\",INDIRECT($C$2&$C44&\"!\"&AU$5&$AN$4+2))","v":{"$error":"#REF!"}},null,null,null,null,{"$f":"IF(INDIRECT($C$2&$C44&\"!\"&AZ$5&$AZ$4+2)=\"\",\"★\",INDIRECT($C$2&$C44&\"!\"&AZ$5&$AZ$4+2))","v":{"$error":"#REF!"}},{"$f":"IF(INDIRECT($C$2&$C44&\"!\"&BA$5&$AZ$4+2)=\"\",\"★\",INDIRECT($C$2&$C44&\"!\"&BA$5&$AZ$4+2))","v":{"$error":"#REF!"}},{"$f":"IF(INDIRECT($C$2&$C44&\"!\"&BB$5&$AZ$4+2)=\"\",\"★\",INDIRECT($C$2&$C44&\"!\"&BB$5&$AZ$4+2))","v":{"$error":"#REF!"}},{"$f":"IF(INDIRECT($C$2&$C44&\"!\"&BC$5&$AZ$4+2)=\"\",\"★\",INDIRECT($C$2&$C44&\"!\"&BC$5&$AZ$4+2))","v":{"$error":"#REF!"}},{"$f":"IF(INDIRECT($C$2&$C44&\"!\"&BD$5&$AZ$4+2)=\"\",\"★\",INDIRECT($C$2&$C44&\"!\"&BD$5&$AZ$4+2))","v":{"$error":"#REF!"}},{"$f":"IF(INDIRECT($C$2&$C44&\"!\"&BE$5&$AZ$4+2)=\"\",\"★\",INDIRECT($C$2&$C44&\"!\"&BE$5&$AZ$4+2))","v":{"$error":"#REF!"}},{"$f":"IF(INDIRECT($C$2&$C44&\"!\"&BF$5&$AZ$4+2)=\"\",\"★\",INDIRECT($C$2&$C44&\"!\"&BF$5&$AZ$4+2))","v":{"$error":"#REF!"}},{"$f":"IF(INDIRECT($C$2&$C44&\"!\"&BG$5&$AZ$4+2)=\"\",\"★\",INDIRECT($C$2&$C44&\"!\"&BG$5&$AZ$4+2))","v":{"$error":"#REF!"}},null,null,null,null,{"$f":"IF(INDIRECT($C$2&$C44&\"!\"&BL$5&$BL$4+2)=\"\",\"★\",INDIRECT($C$2&$C44&\"!\"&BL$5&$BL$4+2))","v":{"$error":"#REF!"}},{"$f":"IF(INDIRECT($C$2&$C44&\"!\"&BM$5&$BL$4+2)=\"\",\"★\",INDIRECT($C$2&$C44&\"!\"&BM$5&$BL$4+2))","v":{"$error":"#REF!"}},{"$f":"IF(INDIRECT($C$2&$C44&\"!\"&BN$5&$BL$4+2)=\"\",\"★\",INDIRECT($C$2&$C44&\"!\"&BN$5&$BL$4+2))","v":{"$error":"#REF!"}},{"$f":"IF(INDIRECT($C$2&$C44&\"!\"&BO$5&$BL$4+2)=\"\",\"★\",INDIRECT($C$2&$C44&\"!\"&BO$5&$BL$4+2))","v":{"$error":"#REF!"}},{"$f":"IF(INDIRECT($C$2&$C44&\"!\"&BP$5&$BL$4+2)=\"\",\"★\",INDIRECT($C$2&$C44&\"!\"&BP$5&$BL$4+2))","v":{"$error":"#REF!"}},{"$f":"IF(INDIRECT($C$2&$C44&\"!\"&BQ$5&$BL$4+2)=\"\",\"★\",INDIRECT($C$2&$C44&\"!\"&BQ$5&$BL$4+2))","v":{"$error":"#REF!"}},{"$f":"IF(INDIRECT($C$2&$C44&\"!\"&BR$5&$BL$4+2)=\"\",\"★\",INDIRECT($C$2&$C44&\"!\"&BR$5&$BL$4+2))","v":{"$error":"#REF!"}},{"$f":"IF(INDIRECT($C$2&$C44&\"!\"&BS$5&$BL$4+2)=\"\",\"★\",INDIRECT($C$2&$C44&\"!\"&BS$5&$BL$4+2))","v":{"$error":"#REF!"}},null,null,{"$f":"IF(INDIRECT($C$2&$C44&\"!\"&BV$5&$BV$4+2)=\"\",\"★\",INDIRECT($C$2&$C44&\"!\"&BV$5&$BV$4+2))","v":{"$error":"#REF!"}},{"$f":"IF(INDIRECT($C$2&$C44&\"!\"&BW$5&$BV$4+2)=\"\",\"★\",INDIRECT($C$2&$C44&\"!\"&BW$5&$BV$4+2))","v":{"$error":"#REF!"}},{"$f":"IF(INDIRECT($C$2&$C44&\"!\"&BX$5&$BV$4+2)=\"\",\"★\",INDIRECT($C$2&$C44&\"!\"&BX$5&$BV$4+2))","v":{"$error":"#REF!"}},{"$f":"IF(INDIRECT($C$2&$C44&\"!\"&BY$5&$BV$4+2)=\"\",\"★\",INDIRECT($C$2&$C44&\"!\"&BY$5&$BV$4+2))","v":{"$error":"#REF!"}},{"$f":"IF(INDIRECT($C$2&$C44&\"!\"&BZ$5&$BV$4+2)=\"\",\"★\",INDIRECT($C$2&$C44&\"!\"&BZ$5&$BV$4+2))","v":{"$error":"#REF!"}},{"$f":"IF(INDIRECT($C$2&$C44&\"!\"&CA$5&$BV$4+2)=\"\",\"★\",INDIRECT($C$2&$C44&\"!\"&CA$5&$BV$4+2))","v":{"$error":"#REF!"}},null,{"$f":"IF(INDIRECT($C$2&$C44&\"!\"&CC$5&$CC$4+2)=\"\",\"★\",INDIRECT($C$2&$C44&\"!\"&CC$5&$CC$4+2))","v":{"$error":"#REF!"}},{"$f":"IF(INDIRECT($C$2&$C44&\"!\"&CD$5&$CC$4+2)=\"\",\"★\",INDIRECT($C$2&$C44&\"!\"&CD$5&$CC$4+2))","v":{"$error":"#REF!"}},{"$f":"IF(INDIRECT($C$2&$C44&\"!\"&CE$5&$CC$4+2)=\"\",\"★\",INDIRECT($C$2&$C44&\"!\"&CE$5&$CC$4+2))","v":{"$error":"#REF!"}},{"$f":"IF(INDIRECT($C$2&$C44&\"!\"&CF$5&$CC$4+2)=\"\",\"★\",INDIRECT($C$2&$C44&\"!\"&CF$5&$CC$4+2))","v":{"$error":"#REF!"}},{"$f":"IF(INDIRECT($C$2&$C44&\"!\"&CG$5&$CC$4+2)=\"\",\"★\",INDIRECT($C$2&$C44&\"!\"&CG$5&$CC$4+2))","v":{"$error":"#REF!"}},{"$f":"IF(INDIRECT($C$2&$C44&\"!\"&CH$5&$CC$4+2)=\"\",\"★\",INDIRECT($C$2&$C44&\"!\"&CH$5&$CC$4+2))","v":{"$error":"#REF!"}},null,null,null,null,{"$f":"IF(INDIRECT($C$2&$C44&\"!\"&CM$5&$CM$4+2)=\"\",\"★\",INDIRECT($C$2&$C44&\"!\"&CM$5&$CM$4+2))","v":{"$error":"#REF!"}},{"$f":"IF(INDIRECT($C$2&$C44&\"!\"&CN$5&$CM$4+2)=\"\",\"★\",INDIRECT($C$2&$C44&\"!\"&CN$5&$CM$4+2))","v":{"$error":"#REF!"}},{"$f":"IF(INDIRECT($C$2&$C44&\"!\"&CO$5&$CM$4+2)=\"\",\"★\",INDIRECT($C$2&$C44&\"!\"&CO$5&$CM$4+2))","v":{"$error":"#REF!"}},{"$f":"IF(INDIRECT($C$2&$C44&\"!\"&CP$5&$CM$4+2)=\"\",\"★\",INDIRECT($C$2&$C44&\"!\"&CP$5&$CM$4+2))","v":{"$error":"#REF!"}},{"$f":"IF(INDIRECT($C$2&$C44&\"!\"&CQ$5&$CM$4+2)=\"\",\"★\",INDIRECT($C$2&$C44&\"!\"&CQ$5&$CM$4+2))","v":{"$error":"#REF!"}},{"$f":"IF(INDIRECT($C$2&$C44&\"!\"&CR$5&$CM$4+2)=\"\",\"★\",INDIRECT($C$2&$C44&\"!\"&CR$5&$CM$4+2))","v":{"$error":"#REF!"}},null,null,null,null,{"$f":"IF(INDIRECT($C$2&$C44&\"!\"&CW$5&$CW$4+2)=\"\",\"★\",INDIRECT($C$2&$C44&\"!\"&CW$5&$CW$4+2))","v":{"$error":"#REF!"}},{"$f":"IF(INDIRECT($C$2&$C44&\"!\"&CX$5&$CW$4+2)=\"\",\"★\",INDIRECT($C$2&$C44&\"!\"&CX$5&$CW$4+2))","v":{"$error":"#REF!"}},{"$f":"IF(INDIRECT($C$2&$C44&\"!\"&CY$5&$CW$4+2)=\"\",\"★\",INDIRECT($C$2&$C44&\"!\"&CY$5&$CW$4+2))","v":{"$error":"#REF!"}},{"$f":"IF(INDIRECT($C$2&$C44&\"!\"&CZ$5&$CW$4+2)=\"\",\"★\",INDIRECT($C$2&$C44&\"!\"&CZ$5&$CW$4+2))","v":{"$error":"#REF!"}},{"$f":"IF(INDIRECT($C$2&$C44&\"!\"&DA$5&$CW$4+2)=\"\",\"★\",INDIRECT($C$2&$C44&\"!\"&DA$5&$CW$4+2))","v":{"$error":"#REF!"}},{"$f":"IF(INDIRECT($C$2&$C44&\"!\"&DB$5&$CW$4+2)=\"\",\"★\",INDIRECT($C$2&$C44&\"!\"&DB$5&$CW$4+2))","v":{"$error":"#REF!"}},null,null,null,null,{"$f":"IF(INDIRECT($C$2&$C44&\"!\"&DG$5&$DG$4+2)=\"\",\"★\",INDIRECT($C$2&$C44&\"!\"&DG$5&$DG$4+2))","v":{"$error":"#REF!"}},{"$f":"IF(INDIRECT($C$2&$C44&\"!\"&DH$5&$DG$4+2)=\"\",\"★\",INDIRECT($C$2&$C44&\"!\"&DH$5&$DG$4+2))","v":{"$error":"#REF!"}},{"$f":"IF(INDIRECT($C$2&$C44&\"!\"&DI$5&$DG$4+2)=\"\",\"★\",INDIRECT($C$2&$C44&\"!\"&DI$5&$DG$4+2))","v":{"$error":"#REF!"}},{"$f":"IF(INDIRECT($C$2&$C44&\"!\"&DJ$5&$DG$4+2)=\"\",\"★\",INDIRECT($C$2&$C44&\"!\"&DJ$5&$DG$4+2))","v":{"$error":"#REF!"}},{"$f":"IF(INDIRECT($C$2&$C44&\"!\"&DK$5&$DG$4+2)=\"\",\"★\",INDIRECT($C$2&$C44&\"!\"&DK$5&$DG$4+2))","v":{"$error":"#REF!"}},{"$f":"IF(INDIRECT($C$2&$C44&\"!\"&DL$5&$DG$4+2)=\"\",\"★\",INDIRECT($C$2&$C44&\"!\"&DL$5&$DG$4+2))","v":{"$error":"#REF!"}}]
[null,null,"★",null,null,null,null,null,null,null,null,{"$f":"$C45&\"-4\"","v":"★-4"},{"$f":"IF(INDIRECT($C$2&$C45&\"!\"&M$5&$M$4+3)=\"\",\"★\",INDIRECT($C$2&$C45&\"!\"&M$5&$M$4+3))","v":{"$error":"#REF!"}},{"$f":"IF(INDIRECT($C$2&$C45&\"!\"&N$5&$M$4+3)=\"\",\"★\",INDIRECT($C$2&$C45&\"!\"&N$5&$M$4+3))","v":{"$error":"#REF!"}},{"$f":"IF(INDIRECT($C$2&$C45&\"!\"&O$5&$M$4+3)=\"\",\"★\",INDIRECT($C$2&$C45&\"!\"&O$5&$M$4+3))","v":{"$error":"#REF!"}},{"$f":"IF(INDIRECT($C$2&$C45&\"!\"&P$5&$M$4+3)=\"\",\"★\",INDIRECT($C$2&$C45&\"!\"&P$5&$M$4+3))","v":{"$error":"#REF!"}},{"$f":"IF(INDIRECT($C$2&$C45&\"!\"&Q$5&$M$4+3)=\"\",\"★\",INDIRECT($C$2&$C45&\"!\"&Q$5&$M$4+3))","v":{"$error":"#REF!"}},{"$f":"IF(INDIRECT($C$2&$C45&\"!\"&R$5&$M$4+3)=\"\",\"★\",INDIRECT($C$2&$C45&\"!\"&R$5&$M$4+3))","v":{"$error":"#REF!"}},{"$f":"IF(INDIRECT($C$2&$C45&\"!\"&S$5&$M$4+3)=\"\",\"★\",INDIRECT($C$2&$C45&\"!\"&S$5&$M$4+3))","v":{"$error":"#REF!"}},{"$f":"IF(INDIRECT($C$2&$C45&\"!\"&T$5&$M$4+3)=\"\",\"★\",INDIRECT($C$2&$C45&\"!\"&T$5&$M$4+3))","v":{"$error":"#REF!"}},null,{"$f":"IF(INDIRECT($C$2&$C45&\"!\"&V$5&$V$4+3)=\"\",\"★\",INDIRECT($C$2&$C45&\"!\"&V$5&$V$4+3))","v":{"$error":"#REF!"}},{"$f":"IF(INDIRECT($C$2&$C45&\"!\"&W$5&$V$4+3)=\"\",\"★\",INDIRECT($C$2&$C45&\"!\"&W$5&$V$4+3))","v":{"$error":"#REF!"}},{"$f":"IF(INDIRECT($C$2&$C45&\"!\"&X$5&$V$4+3)=\"\",\"★\",INDIRECT($C$2&$C45&\"!\"&X$5&$V$4+3))","v":{"$error":"#REF!"}},{"$f":"IF(INDIRECT($C$2&$C45&\"!\"&Y$5&$V$4+3)=\"\",\"★\",INDIRECT($C$2&$C45&\"!\"&Y$5&$V$4+3))","v":{"$error":"#REF!"}},{"$f":"IF(INDIRECT($C$2&$C45&\"!\"&Z$5&$V$4+3)=\"\",\"★\",INDIRECT($C$2&$C45&\"!\"&Z$5&$V$4+3))","v":{"$error":"#REF!"}},{"$f":"IF(INDIRECT($C$2&$C45&\"!\"&AA$5&$V$4+3)=\"\",\"★\",INDIRECT($C$2&$C45&\"!\"&AA$5&$V$4+3))","v":{"$error":"#REF!"}},{"$f":"IF(INDIRECT($C$2&$C45&\"!\"&AB$5&$V$4+3)=\"\",\"★\",INDIRECT($C$2&$C45&\"!\"&AB$5&$V$4+3))","v":{"$error":"#REF!"}},{"$f":"IF(INDIRECT($C$2&$C45&\"!\"&AC$5&$V$4+3)=\"\",\"★\",INDIRECT($C$2&$C45&\"!\"&AC$5&$V$4+3))","v":{"$error":"#REF!"}},null,null,null,null,null,null,null,null,null,null,{"$f":"IF(INDIRECT($C$2&$C45&\"!\"&AN$5&$AN$4+3)=\"\",\"★\",INDIRECT($C$2&$C45&\"!\"&AN$5&$AN$4+3))","v":{"$error":"#REF!"}},{"$f":"IF(INDIRECT($C$2&$C45&\"!\"&AO$5&$AN$4+3)=\"\",\"★\",INDIRECT($C$2&$C45&\"!\"&AO$5&$AN$4+3))","v":{"$error":"#REF!"}},{"$f":"IF(INDIRECT($C$2&$C45&\"!\"&AP$5&$AN$4+3)=\"\",\"★\",INDIRECT($C$2&$C45&\"!\"&AP$5&$AN$4+3))","v":{"$error":"#REF!"}},{"$f":"IF(INDIRECT($C$2&$C45&\"!\"&AQ$5&$AN$4+3)=\"\",\"★\",INDIRECT($C$2&$C45&\"!\"&AQ$5&$AN$4+3))","v":{"$error":"#REF!"}},{"$f":"IF(INDIRECT($C$2&$C45&\"!\"&AR$5&$AN$4+3)=\"\",\"★\",INDIRECT($C$2&$C45&\"!\"&AR$5&$AN$4+3))","v":{"$error":"#REF!"}},{"$f":"IF(INDIRECT($C$2&$C45&\"!\"&AS$5&$AN$4+3)=\"\",\"★\",INDIRECT($C$2&$C45&\"!\"&AS$5&$AN$4+3))","v":{"$error":"#REF!"}},{"$f":"IF(INDIRECT($C$2&$C45&\"!\"&AT$5&$AN$4+3)=\"\",\"★\",INDIRECT($C$2&$C45&\"!\"&AT$5&$AN$4+3))","v":{"$error":"#REF!"}},{"$f":"IF(INDIRECT($C$2&$C45&\"!\"&AU$5&$AN$4+3)=\"\",\"★\",INDIRECT($C$2&$C45&\"!\"&AU$5&$AN$4+3))","v":{"$error":"#REF!"}},null,null,null,null,{"$f":"IF(INDIRECT($C$2&$C45&\"!\"&AZ$5&$AZ$4+3)=\"\",\"★\",INDIRECT($C$2&$C45&\"!\"&AZ$5&$AZ$4+3))","v":{"$error":"#REF!"}},{"$f":"IF(INDIRECT($C$2&$C45&\"!\"&BA$5&$AZ$4+3)=\"\",\"★\",INDIRECT($C$2&$C45&\"!\"&BA$5&$AZ$4+3))","v":{"$error":"#REF!"}},{"$f":"IF(INDIRECT($C$2&$C45&\"!\"&BB$5&$AZ$4+3)=\"\",\"★\",INDIRECT($C$2&$C45&\"!\"&BB$5&$AZ$4+3))","v":{"$error":"#REF!"}},{"$f":"IF(INDIRECT($C$2&$C45&\"!\"&BC$5&$AZ$4+3)=\"\",\"★\",INDIRECT($C$2&$C45&\"!\"&BC$5&$AZ$4+3))","v":{"$error":"#REF!"}},{"$f":"IF(INDIRECT($C$2&$C45&\"!\"&BD$5&$AZ$4+3)=\"\",\"★\",INDIRECT($C$2&$C45&\"!\"&BD$5&$AZ$4+3))","v":{"$error":"#REF!"}},{"$f":"IF(INDIRECT($C$2&$C45&\"!\"&BE$5&$AZ$4+3)=\"\",\"★\",INDIRECT($C$2&$C45&\"!\"&BE$5&$AZ$4+3))","v":{"$error":"#REF!"}},{"$f":"IF(INDIRECT($C$2&$C45&\"!\"&BF$5&$AZ$4+3)=\"\",\"★\",INDIRECT($C$2&$C45&\"!\"&BF$5&$AZ$4+3))","v":{"$error":"#REF!"}},{"$f":"IF(INDIRECT($C$2&$C45&\"!\"&BG$5&$AZ$4+3)=\"\",\"★\",INDIRECT($C$2&$C45&\"!\"&BG$5&$AZ$4+3))","v":{"$error":"#REF!"}},null,null,null,null,{"$f":"IF(INDIRECT($C$2&$C45&\"!\"&BL$5&$BL$4+3)=\"\",\"★\",INDIRECT($C$2&$C45&\"!\"&BL$5&$BL$4+3))","v":{"$error":"#REF!"}},{"$f":"IF(INDIRECT($C$2&$C45&\"!\"&BM$5&$BL$4+3)=\"\",\"★\",INDIRECT($C$2&$C45&\"!\"&BM$5&$BL$4+3))","v":{"$error":"#REF!"}},{"$f":"IF(INDIRECT($C$2&$C45&\"!\"&BN$5&$BL$4+3)=\"\",\"★\",INDIRECT($C$2&$C45&\"!\"&BN$5&$BL$4+3))","v":{"$error":"#REF!"}},{"$f":"IF(INDIRECT($C$2&$C45&\"!\"&BO$5&$BL$4+3)=\"\",\"★\",INDIRECT($C$2&$C45&\"!\"&BO$5&$BL$4+3))","v":{"$error":"#REF!"}},{"$f":"IF(INDIRECT($C$2&$C45&\"!\"&BP$5&$BL$4+3)=\"\",\"★\",INDIRECT($C$2&$C45&\"!\"&BP$5&$BL$4+3))","v":{"$error":"#REF!"}},{"$f":"IF(INDIRECT($C$2&$C45&\"!\"&BQ$5&$BL$4+3)=\"\",\"★\",INDIRECT($C$2&$C45&\"!\"&BQ$5&$BL$4+3))","v":{"$error":"#REF!"}},{"$f":"IF(INDIRECT($C$2&$C45&\"!\"&BR$5&$BL$4+3)=\"\",\"★\",INDIRECT($C$2&$C45&\"!\"&BR$5&$BL$4+3))","v":{"$error":"#REF!"}},{"$f":"IF(INDIRECT($C$2&$C45&\"!\"&BS$5&$BL$4+3)=\"\",\"★\",INDIRECT($C$2&$C45&\"!\"&BS$5&$BL$4+3))","v":{"$error":"#REF!"}},null,null,{"$f":"IF(INDIRECT($C$2&$C45&\"!\"&BV$5&$BV$4+3)=\"\",\"★\",INDIRECT($C$2&$C45&\"!\"&BV$5&$BV$4+3))","v":{"$error":"#REF!"}},{"$f":"IF(INDIRECT($C$2&$C45&\"!\"&BW$5&$BV$4+3)=\"\",\"★\",INDIRECT($C$2&$C45&\"!\"&BW$5&$BV$4+3))","v":{"$error":"#REF!"}},{"$f":"IF(INDIRECT($C$2&$C45&\"!\"&BX$5&$BV$4+3)=\"\",\"★\",INDIRECT($C$2&$C45&\"!\"&BX$5&$BV$4+3))","v":{"$error":"#REF!"}},{"$f":"IF(INDIRECT($C$2&$C45&\"!\"&BY$5&$BV$4+3)=\"\",\"★\",INDIRECT($C$2&$C45&\"!\"&BY$5&$BV$4+3))","v":{"$error":"#REF!"}},{"$f":"IF(INDIRECT($C$2&$C45&\"!\"&BZ$5&$BV$4+3)=\"\",\"★\",INDIRECT($C$2&$C45&\"!\"&BZ$5&$BV$4+3))","v":{"$error":"#REF!"}},{"$f":"IF(INDIRECT($C$2&$C45&\"!\"&CA$5&$BV$4+3)=\"\",\"★\",INDIRECT($C$2&$C45&\"!\"&CA$5&$BV$4+3))","v":{"$error":"#REF!"}},null,{"$f":"IF(INDIRECT($C$2&$C45&\"!\"&CC$5&$CC$4+3)=\"\",\"★\",INDIRECT($C$2&$C45&\"!\"&CC$5&$CC$4+3))","v":{"$error":"#REF!"}},{"$f":"IF(INDIRECT($C$2&$C45&\"!\"&CD$5&$CC$4+3)=\"\",\"★\",INDIRECT($C$2&$C45&\"!\"&CD$5&$CC$4+3))","v":{"$error":"#REF!"}},{"$f":"IF(INDIRECT($C$2&$C45&\"!\"&CE$5&$CC$4+3)=\"\",\"★\",INDIRECT($C$2&$C45&\"!\"&CE$5&$CC$4+3))","v":{"$error":"#REF!"}},{"$f":"IF(INDIRECT($C$2&$C45&\"!\"&CF$5&$CC$4+3)=\"\",\"★\",INDIRECT($C$2&$C45&\"!\"&CF$5&$CC$4+3))","v":{"$error":"#REF!"}},{"$f":"IF(INDIRECT($C$2&$C45&\"!\"&CG$5&$CC$4+3)=\"\",\"★\",INDIRECT($C$2&$C45&\"!\"&CG$5&$CC$4+3))","v":{"$error":"#REF!"}},{"$f":"IF(INDIRECT($C$2&$C45&\"!\"&CH$5&$CC$4+3)=\"\",\"★\",INDIRECT($C$2&$C45&\"!\"&CH$5&$CC$4+3))","v":{"$error":"#REF!"}},null,null,null,null,{"$f":"IF(INDIRECT($C$2&$C45&\"!\"&CM$5&$CM$4+3)=\"\",\"★\",INDIRECT($C$2&$C45&\"!\"&CM$5&$CM$4+3))","v":{"$error":"#REF!"}},{"$f":"IF(INDIRECT($C$2&$C45&\"!\"&CN$5&$CM$4+3)=\"\",\"★\",INDIRECT($C$2&$C45&\"!\"&CN$5&$CM$4+3))","v":{"$error":"#REF!"}},{"$f":"IF(INDIRECT($C$2&$C45&\"!\"&CO$5&$CM$4+3)=\"\",\"★\",INDIRECT($C$2&$C45&\"!\"&CO$5&$CM$4+3))","v":{"$error":"#REF!"}},{"$f":"IF(INDIRECT($C$2&$C45&\"!\"&CP$5&$CM$4+3)=\"\",\"★\",INDIRECT($C$2&$C45&\"!\"&CP$5&$CM$4+3))","v":{"$error":"#REF!"}},{"$f":"IF(INDIRECT($C$2&$C45&\"!\"&CQ$5&$CM$4+3)=\"\",\"★\",INDIRECT($C$2&$C45&\"!\"&CQ$5&$CM$4+3))","v":{"$error":"#REF!"}},{"$f":"IF(INDIRECT($C$2&$C45&\"!\"&CR$5&$CM$4+3)=\"\",\"★\",INDIRECT($C$2&$C45&\"!\"&CR$5&$CM$4+3))","v":{"$error":"#REF!"}},null,null,null,null,{"$f":"IF(INDIRECT($C$2&$C45&\"!\"&CW$5&$CW$4+3)=\"\",\"★\",INDIRECT($C$2&$C45&\"!\"&CW$5&$CW$4+3))","v":{"$error":"#REF!"}},{"$f":"IF(INDIRECT($C$2&$C45&\"!\"&CX$5&$CW$4+3)=\"\",\"★\",INDIRECT($C$2&$C45&\"!\"&CX$5&$CW$4+3))","v":{"$error":"#REF!"}},{"$f":"IF(INDIRECT($C$2&$C45&\"!\"&CY$5&$CW$4+3)=\"\",\"★\",INDIRECT($C$2&$C45&\"!\"&CY$5&$CW$4+3))","v":{"$error":"#REF!"}},{"$f":"IF(INDIRECT($C$2&$C45&\"!\"&CZ$5&$CW$4+3)=\"\",\"★\",INDIRECT($C$2&$C45&\"!\"&CZ$5&$CW$4+3))","v":{"$error":"#REF!"}},{"$f":"IF(INDIRECT($C$2&$C45&\"!\"&DA$5&$CW$4+3)=\"\",\"★\",INDIRECT($C$2&$C45&\"!\"&DA$5&$CW$4+3))","v":{"$error":"#REF!"}},{"$f":"IF(INDIRECT($C$2&$C45&\"!\"&DB$5&$CW$4+3)=\"\",\"★\",INDIRECT($C$2&$C45&\"!\"&DB$5&$CW$4+3))","v":{"$error":"#REF!"}},null,null,null,null,{"$f":"IF(INDIRECT($C$2&$C45&\"!\"&DG$5&$DG$4+3)=\"\",\"★\",INDIRECT($C$2&$C45&\"!\"&DG$5&$DG$4+3))","v":{"$error":"#REF!"}},{"$f":"IF(INDIRECT($C$2&$C45&\"!\"&DH$5&$DG$4+3)=\"\",\"★\",INDIRECT($C$2&$C45&\"!\"&DH$5&$DG$4+3))","v":{"$error":"#REF!"}},{"$f":"IF(INDIRECT($C$2&$C45&\"!\"&DI$5&$DG$4+3)=\"\",\"★\",INDIRECT($C$2&$C45&\"!\"&DI$5&$DG$4+3))","v":{"$error":"#REF!"}},{"$f":"IF(INDIRECT($C$2&$C45&\"!\"&DJ$5&$DG$4+3)=\"\",\"★\",INDIRECT($C$2&$C45&\"!\"&DJ$5&$DG$4+3))","v":{"$error":"#REF!"}},{"$f":"IF(INDIRECT($C$2&$C45&\"!\"&DK$5&$DG$4+3)=\"\",\"★\",INDIRECT($C$2&$C45&\"!\"&DK$5&$DG$4+3))","v":{"$error":"#REF!"}},{"$f":"IF(INDIRECT($C$2&$C45&\"!\"&DL$5&$DG$4+3)=\"\",\"★\",INDIRECT($C$2&$C45&\"!\"&DL$5&$DG$4+3))","v":{"$error":"#REF!"}}]
[null,null,{"$f":"IF(INDIRECT($B$2&\"B30\")=\"\",\"★\",INDIRECT($B$2&\"B30\"))","v":"★"},{"$f":"IF(INDIRECT($C$2&$C46&\"!K12\")=\"\",\"★\",INDIRECT($C$2&$C46&\"!K12\"))","v":{"$error":"#REF!"}},{"$f":"IF(INDIRECT($C$2&$C46&\"!L12\")=\"\",\"★\",INDIRECT($C$2&$C46&\"!L12\"))","v":{"$error":"#REF!"}},{"$f":"IF(INDIRECT($C$2&$C46&\"!D13\")=\"\",\"★\",INDIRECT($C$2&$C46&\"!D13\"))","v":{"$error":"#REF!"}},{"$f":"IF(INDIRECT($C$2&$C46&\"!D14\")=\"\",\"★\",INDIRECT($C$2&$C46&\"!D14\"))","v":{"$error":"#REF!"}},{"$f":"IF(INDIRECT($C$2&$C46&\"!D15\")=\"\",\"★\",INDIRECT($C$2&$C46&\"!D15\"))","v":{"$error":"#REF!"}},{"$f":"IF(INDIRECT($C$2&$C46&\"!D16\")=\"\",\"★\",INDIRECT($C$2&$C46&\"!D16\"))","v":{"$error":"#REF!"}},{"$f":"IF(INDIRECT($C$2&$C46&\"!D17\")=\"\",\"★\",INDIRECT($C$2&$C46&\"!D17\"))","v":{"$error":"#REF!"}},{"$f":"IF(INDIRECT($C$2&$C46&\"!D18\")=\"\",\"★\",INDIRECT($C$2&$C46&\"!D18\"))","v":{"$error":"#REF!"}},{"$f":"$C46&\"-1\"","v":"★-1"},{"$f":"IF(INDIRECT($C$2&$C46&\"!\"&M$5&$M$4)=\"\",\"★\",INDIRECT($C$2&$C46&\"!\"&M$5&$M$4))","v":{"$error":"#REF!"}},{"$f":"IF(INDIRECT($C$2&$C46&\"!\"&N$5&$M$4)=\"\",\"★\",INDIRECT($C$2&$C46&\"!\"&N$5&$M$4))","v":{"$error":"#REF!"}},{"$f":"IF(INDIRECT($C$2&$C46&\"!\"&O$5&$M$4)=\"\",\"★\",INDIRECT($C$2&$C46&\"!\"&O$5&$M$4))","v":{"$error":"#REF!"}},{"$f":"IF(INDIRECT($C$2&$C46&\"!\"&P$5&$M$4)=\"\",\"★\",INDIRECT($C$2&$C46&\"!\"&P$5&$M$4))","v":{"$error":"#REF!"}},{"$f":"IF(INDIRECT($C$2&$C46&\"!\"&Q$5&$M$4)=\"\",\"★\",INDIRECT($C$2&$C46&\"!\"&Q$5&$M$4))","v":{"$error":"#REF!"}},{"$f":"IF(INDIRECT($C$2&$C46&\"!\"&R$5&$M$4)=\"\",\"★\",INDIRECT($C$2&$C46&\"!\"&R$5&$M$4))","v":{"$error":"#REF!"}},{"$f":"IF(INDIRECT($C$2&$C46&\"!\"&S$5&$M$4)=\"\",\"★\",INDIRECT($C$2&$C46&\"!\"&S$5&$M$4))","v":{"$error":"#REF!"}},{"$f":"IF(INDIRECT($C$2&$C46&\"!\"&T$5&$M$4)=\"\",\"★\",INDIRECT($C$2&$C46&\"!\"&T$5&$M$4))","v":{"$error":"#REF!"}},{"$f":"IF(INDIRECT($C$2&$C46&\"!\"&U$5&$M$4)=\"\",\"★\",INDIRECT($C$2&$C46&\"!\"&U$5&$M$4))","v":{"$error":"#REF!"}},{"$f":"IF(INDIRECT($C$2&$C46&\"!\"&V$5&$V$4)=\"\",\"★\",INDIRECT($C$2&$C46&\"!\"&V$5&$V$4))","v":{"$error":"#REF!"}},{"$f":"IF(INDIRECT($C$2&$C46&\"!\"&W$5&$V$4)=\"\",\"★\",INDIRECT($C$2&$C46&\"!\"&W$5&$V$4))","v":{"$error":"#REF!"}},{"$f":"IF(INDIRECT($C$2&$C46&\"!\"&X$5&$V$4)=\"\",\"★\",INDIRECT($C$2&$C46&\"!\"&X$5&$V$4))","v":{"$error":"#REF!"}},{"$f":"IF(INDIRECT($C$2&$C46&\"!\"&Y$5&$V$4)=\"\",\"★\",INDIRECT($C$2&$C46&\"!\"&Y$5&$V$4))","v":{"$error":"#REF!"}},{"$f":"IF(INDIRECT($C$2&$C46&\"!\"&Z$5&$V$4)=\"\",\"★\",INDIRECT($C$2&$C46&\"!\"&Z$5&$V$4))","v":{"$error":"#REF!"}},{"$f":"IF(INDIRECT($C$2&$C46&\"!\"&AA$5&$V$4)=\"\",\"★\",INDIRECT($C$2&$C46&\"!\"&AA$5&$V$4))","v":{"$error":"#REF!"}},{"$f":"IF(INDIRECT($C$2&$C46&\"!\"&AB$5&$V$4)=\"\",\"★\",INDIRECT($C$2&$C46&\"!\"&AB$5&$V$4))","v":{"$error":"#REF!"}},{"$f":"IF(INDIRECT($C$2&$C46&\"!\"&AC$5&$V$4)=\"\",\"★\",INDIRECT($C$2&$C46&\"!\"&AC$5&$V$4))","v":{"$error":"#REF!"}},{"$f":"IF(INDIRECT($C$2&$C46&\"!\"&AD$5&$V$4)=\"\",\"★\",INDIRECT($C$2&$C46&\"!\"&AD$5&$V$4))","v":{"$error":"#REF!"}},{"$f":"IF(INDIRECT($C$2&$C46&\"!\"&AE$5&$V$4)=\"\",\"★\",INDIRECT($C$2&$C46&\"!\"&AE$5&$V$4))","v":{"$error":"#REF!"}},{"$f":"IF(INDIRECT($C$2&$C46&\"!\"&AF$5&$AF$4)=\"\",\"★\",INDIRECT($C$2&$C46&\"!\"&AF$5&$AF$4))","v":{"$error":"#REF!"}},{"$f":"IF(INDIRECT($C$2&$C46&\"!\"&AG$5&$AF$4)=\"\",\"★\",INDIRECT($C$2&$C46&\"!\"&AG$5&$AF$4))","v":{"$error":"#REF!"}},{"$f":"IF(INDIRECT($C$2&$C46&\"!\"&AH$5&$AH$4)=\"\",\"★\",INDIRECT($C$2&$C46&\"!\"&AH$5&$AH$4))","v":{"$error":"#REF!"}},{"$f":"IF(INDIRECT($C$2&$C46&\"!\"&AI$5&$AH$4)=\"\",\"★\",INDIRECT($C$2&$C46&\"!\"&AI$5&$AH$4))","v":{"$error":"#REF!"}},{"$f":"IF(INDIRECT($C$2&$C46&\"!\"&AJ$5&$AJ$4)=\"\",\"★\",INDIRECT($C$2&$C46&\"!\"&AJ$5&$AJ$4))","v":{"$error":"#REF!"}},{"$f":"IF(INDIRECT($C$2&$C46&\"!\"&AK$5&$AJ$4)=\"\",\"★\",INDIRECT($C$2&$C46&\"!\"&AK$5&$AJ$4))","v":{"$error":"#REF!"}},{"$f":"$AF46","v":{"$error":"#REF!"}},{"$f":"$AG46","v":{"$error":"#REF!"}},{"$f":"IF(INDIRECT($C$2&$C46&\"!\"&AN$5&$AN$4)=\"\",\"★\",INDIRECT($C$2&$C46&\"!\"&AN$5&$AN$4))","v":{"$error":"#REF!"}},{"$f":"IF(INDIRECT($C$2&$C46&\"!\"&AO$5&$AN$4)=\"\",\"★\",INDIRECT($C$2&$C46&\"!\"&AO$5&$AN$4))","v":{"$error":"#REF!"}},{"$f":"IF(INDIRECT($C$2&$C46&\"!\"&AP$5&$AN$4)=\"\",\"★\",INDIRECT($C$2&$C46&\"!\"&AP$5&$AN$4))","v":{"$error":"#REF!"}},{"$f":"IF(INDIRECT($C$2&$C46&\"!\"&AQ$5&$AN$4)=\"\",\"★\",INDIRECT($C$2&$C46&\"!\"&AQ$5&$AN$4))","v":{"$error":"#REF!"}},{"$f":"IF(INDIRECT($C$2&$C46&\"!\"&AR$5&$AN$4)=\"\",\"★\",INDIRECT($C$2&$C46&\"!\"&AR$5&$AN$4))","v":{"$error":"#REF!"}},{"$f":"IF(INDIRECT($C$2&$C46&\"!\"&AS$5&$AN$4)=\"\",\"★\",INDIRECT($C$2&$C46&\"!\"&AS$5&$AN$4))","v":{"$error":"#REF!"}},{"$f":"IF(INDIRECT($C$2&$C46&\"!\"&AT$5&$AN$4)=\"\",\"★\",INDIRECT($C$2&$C46&\"!\"&AT$5&$AN$4))","v":{"$error":"#REF!"}},{"$f":"IF(INDIRECT($C$2&$C46&\"!\"&AU$5&$AN$4)=\"\",\"★\",INDIRECT($C$2&$C46&\"!\"&AU$5&$AN$4))","v":{"$error":"#REF!"}},{"$f":"IF(INDIRECT($C$2&$C46&\"!\"&AV$5&$AN$4)=\"\",\"★\",INDIRECT($C$2&$C46&\"!\"&AV$5&$AN$4))","v":{"$error":"#REF!"}},{"$f":"IF(INDIRECT($C$2&$C46&\"!\"&AW$5&$AN$4)=\"\",\"★\",INDIRECT($C$2&$C46&\"!\"&AW$5&$AN$4))","v":{"$error":"#REF!"}},{"$f":"$AH46","v":{"$error":"#REF!"}},{"$f":"$AI46","v":{"$error":"#REF!"}},{"$f":"IF(INDIRECT($C$2&$C46&\"!\"&AZ$5&$AZ$4)=\"\",\"★\",INDIRECT($C$2&$C46&\"!\"&AZ$5&$AZ$4))","v":{"$error":"#REF!"}},{"$f":"IF(INDIRECT($C$2&$C46&\"!\"&BA$5&$AZ$4)=\"\",\"★\",INDIRECT($C$2&$C46&\"!\"&BA$5&$AZ$4))","v":{"$error":"#REF!"}},{"$f":"IF(INDIRECT($C$2&$C46&\"!\"&BB$5&$AZ$4)=\"\",\"★\",INDIRECT($C$2&$C46&\"!\"&BB$5&$AZ$4))","v":{"$error":"#REF!"}},{"$f":"IF(INDIRECT($C$2&$C46&\"!\"&BC$5&$AZ$4)=\"\",\"★\",INDIRECT($C$2&$C46&\"!\"&BC$5&$AZ$4))","v":{"$error":"#REF!"}},{"$f":"IF(INDIRECT($C$2&$C46&\"!\"&BD$5&$AZ$4)=\"\",\"★\",INDIRECT($C$2&$C46&\"!\"&BD$5&$AZ$4))","v":{"$error":"#REF!"}},{"$f":"IF(INDIRECT($C$2&$C46&\"!\"&BE$5&$AZ$4)=\"\",\"★\",INDIRECT($C$2&$C46&\"!\"&BE$5&$AZ$4))","v":{"$error":"#REF!"}},{"$f":"IF(INDIRECT($C$2&$C46&\"!\"&BF$5&$AZ$4)=\"\",\"★\",INDIRECT($C$2&$C46&\"!\"&BF$5&$AZ$4))","v":{"$error":"#REF!"}},{"$f":"IF(INDIRECT($C$2&$C46&\"!\"&BG$5&$AZ$4)=\"\",\"★\",INDIRECT($C$2&$C46&\"!\"&BG$5&$AZ$4))","v":{"$error":"#REF!"}},{"$f":"IF(INDIRECT($C$2&$C46&\"!\"&BH$5&$AZ$4)=\"\",\"★\",INDIRECT($C$2&$C46&\"!\"&BH$5&$AZ$4))","v":{"$error":"#REF!"}},{"$f":"IF(INDIRECT($C$2&$C46&\"!\"&BI$5&$AZ$4)=\"\",\"★\",INDIRECT($C$2&$C46&\"!\"&BI$5&$AZ$4))","v":{"$error":"#REF!"}},{"$f":"$AJ46","v":{"$error":"#REF!"}},{"$f":"$AK46","v":{"$error":"#REF!"}},{"$f":"IF(INDIRECT($C$2&$C46&\"!\"&BL$5&$BL$4)=\"\",\"★\",INDIRECT($C$2&$C46&\"!\"&BL$5&$BL$4))","v":{"$error":"#REF!"}},{"$f":"IF(INDIRECT($C$2&$C46&\"!\"&BM$5&$BL$4)=\"\",\"★\",INDIRECT($C$2&$C46&\"!\"&BM$5&$BL$4))","v":{"$error":"#REF!"}},{"$f":"IF(INDIRECT($C$2&$C46&\"!\"&BN$5&$BL$4)=\"\",\"★\",INDIRECT($C$2&$C46&\"!\"&BN$5&$BL$4))","v":{"$error":"#REF!"}},{"$f":"IF(INDIRECT($C$2&$C46&\"!\"&BO$5&$BL$4)=\"\",\"★\",INDIRECT($C$2&$C46&\"!\"&BO$5&$BL$4))","v":{"$error":"#REF!"}},{"$f":"IF(INDIRECT($C$2&$C46&\"!\"&BP$5&$BL$4)=\"\",\"★\",INDIRECT($C$2&$C46&\"!\"&BP$5&$BL$4))","v":{"$error":"#REF!"}},{"$f":"IF(INDIRECT($C$2&$C46&\"!\"&BQ$5&$BL$4)=\"\",\"★\",INDIRECT($C$2&$C46&\"!\"&BQ$5&$BL$4))","v":{"$error":"#REF!"}},{"$f":"IF(INDIRECT($C$2&$C46&\"!\"&BR$5&$BL$4)=\"\",\"★\",INDIRECT($C$2&$C46&\"!\"&BR$5&$BL$4))","v":{"$error":"#REF!"}},{"$f":"IF(INDIRECT($C$2&$C46&\"!\"&BS$5&$BL$4)=\"\",\"★\",INDIRECT($C$2&$C46&\"!\"&BS$5&$BL$4))","v":{"$error":"#REF!"}},{"$f":"IF(INDIRECT($C$2&$C46&\"!\"&BT$5&$BL$4)=\"\",\"★\",INDIRECT($C$2&$C46&\"!\"&BT$5&$BL$4))","v":{"$error":"#REF!"}},{"$f":"IF(INDIRECT($C$2&$C46&\"!\"&BU$5&$BL$4)=\"\",\"★\",INDIRECT($C$2&$C46&\"!\"&BU$5&$BL$4))","v":{"$error":"#REF!"}},{"$f":"IF(INDIRECT($C$2&$C46&\"!\"&BV$5&$BV$4)=\"\",\"★\",INDIRECT($C$2&$C46&\"!\"&BV$5&$BV$4))","v":{"$error":"#REF!"}},{"$f":"IF(INDIRECT($C$2&$C46&\"!\"&BW$5&$BV$4)=\"\",\"★\",INDIRECT($C$2&$C46&\"!\"&BW$5&$BV$4))","v":{"$error":"#REF!"}},{"$f":"IF(INDIRECT($C$2&$C46&\"!\"&BX$5&$BV$4)=\"\",\"★\",INDIRECT($C$2&$C46&\"!\"&BX$5&$BV$4))","v":{"$error":"#REF!"}},{"$f":"IF(INDIRECT($C$2&$C46&\"!\"&BY$5&$BV$4)=\"\",\"★\",INDIRECT($C$2&$C46&\"!\"&BY$5&$BV$4))","v":{"$error":"#REF!"}},{"$f":"IF(INDIRECT($C$2&$C46&\"!\"&BZ$5&$BV$4)=\"\",\"★\",INDIRECT($C$2&$C46&\"!\"&BZ$5&$BV$4))","v":{"$error":"#REF!"}},{"$f":"IF(INDIRECT($C$2&$C46&\"!\"&CA$5&$BV$4)=\"\",\"★\",INDIRECT($C$2&$C46&\"!\"&CA$5&$BV$4))","v":{"$error":"#REF!"}},{"$f":"IF(INDIRECT($C$2&$C46&\"!\"&CB$5&$BV$4)=\"\",\"★\",INDIRECT($C$2&$C46&\"!\"&CB$5&$BV$4))","v":{"$error":"#REF!"}},{"$f":"IF(INDIRECT($C$2&$C46&\"!\"&CC$5&$CC$4)=\"\",\"★\",INDIRECT($C$2&$C46&\"!\"&CC$5&$CC$4))","v":{"$error":"#REF!"}},{"$f":"IF(INDIRECT($C$2&$C46&\"!\"&CD$5&$CC$4)=\"\",\"★\",INDIRECT($C$2&$C46&\"!\"&CD$5&$CC$4))","v":{"$error":"#REF!"}},{"$f":"IF(INDIRECT($C$2&$C46&\"!\"&CE$5&$CC$4)=\"\",\"★\",INDIRECT($C$2&$C46&\"!\"&CE$5&$CC$4))","v":{"$error":"#REF!"}},{"$f":"IF(INDIRECT($C$2&$C46&\"!\"&CF$5&$CC$4)=\"\",\"★\",INDIRECT($C$2&$C46&\"!\"&CF$5&$CC$4))","v":{"$error":"#REF!"}},{"$f":"IF(INDIRECT($C$2&$C46&\"!\"&CG$5&$CC$4)=\"\",\"★\",INDIRECT($C$2&$C46&\"!\"&CG$5&$CC$4))","v":{"$error":"#REF!"}},{"$f":"IF(INDIRECT($C$2&$C46&\"!\"&CH$5&$CC$4)=\"\",\"★\",INDIRECT($C$2&$C46&\"!\"&CH$5&$CC$4))","v":{"$error":"#REF!"}},{"$f":"IF(INDIRECT($C$2&$C46&\"!\"&CI$5&$CC$4)=\"\",\"★\",INDIRECT($C$2&$C46&\"!\"&CI$5&$CC$4))","v":{"$error":"#REF!"}},{"$f":"IF(INDIRECT($C$2&$C46&\"!\"&CJ$5&$CC$4)=\"\",\"★\",INDIRECT($C$2&$C46&\"!\"&CJ$5&$CC$4))","v":{"$error":"#REF!"}},{"$f":"$AF46","v":{"$error":"#REF!"}},{"$f":"$AG46","v":{"$error":"#REF!"}},{"$f":"IF(INDIRECT($C$2&$C46&\"!\"&CM$5&$CM$4)=\"\",\"★\",INDIRECT($C$2&$C46&\"!\"&CM$5&$CM$4))","v":{"$error":"#REF!"}},{"$f":"IF(INDIRECT($C$2&$C46&\"!\"&CN$5&$CM$4)=\"\",\"★\",INDIRECT($C$2&$C46&\"!\"&CN$5&$CM$4))","v":{"$error":"#REF!"}},{"$f":"IF(INDIRECT($C$2&$C46&\"!\"&CO$5&$CM$4)=\"\",\"★\",INDIRECT($C$2&$C46&\"!\"&CO$5&$CM$4))","v":{"$error":"#REF!"}},{"$f":"IF(INDIRECT($C$2&$C46&\"!\"&CP$5&$CM$4)=\"\",\"★\",INDIRECT($C$2&$C46&\"!\"&CP$5&$CM$4))","v":{"$error":"#REF!"}},{"$f":"IF(INDIRECT($C$2&$C46&\"!\"&CQ$5&$CM$4)=\"\",\"★\",INDIRECT($C$2&$C46&\"!\"&CQ$5&$CM$4))","v":{"$error":"#REF!"}},{"$f":"IF(INDIRECT($C$2&$C46&\"!\"&CR$5&$CM$4)=\"\",\"★\",INDIRECT($C$2&$C46&\"!\"&CR$5&$CM$4))","v":{"$error":"#REF!"}},{"$f":"IF(INDIRECT($C$2&$C46&\"!\"&CS$5&$CM$4)=\"\",\"★\",INDIRECT($C$2&$C46&\"!\"&CS$5&$CM$4))","v":{"$error":"#REF!"}},{"$f":"IF(INDIRECT($C$2&$C46&\"!\"&CT$5&$CM$4)=\"\",\"★\",INDIRECT($C$2&$C46&\"!\"&CT$5&$CM$4))","v":{"$error":"#REF!"}},{"$f":"$AH46","v":{"$error":"#REF!"}},{"$f":"$AI46","v":{"$error":"#REF!"}},{"$f":"IF(INDIRECT($C$2&$C46&\"!\"&CW$5&$CW$4)=\"\",\"★\",INDIRECT($C$2&$C46&\"!\"&CW$5&$CW$4))","v":{"$error":"#REF!"}},{"$f":"IF(INDIRECT($C$2&$C46&\"!\"&CX$5&$CW$4)=\"\",\"★\",INDIRECT($C$2&$C46&\"!\"&CX$5&$CW$4))","v":{"$error":"#REF!"}},{"$f":"IF(INDIRECT($C$2&$C46&\"!\"&CY$5&$CW$4)=\"\",\"★\",INDIRECT($C$2&$C46&\"!\"&CY$5&$CW$4))","v":{"$error":"#REF!"}},{"$f":"IF(INDIRECT($C$2&$C46&\"!\"&CZ$5&$CW$4)=\"\",\"★\",INDIRECT($C$2&$C46&\"!\"&CZ$5&$CW$4))","v":{"$error":"#REF!"}},{"$f":"IF(INDIRECT($C$2&$C46&\"!\"&DA$5&$CW$4)=\"\",\"★\",INDIRECT($C$2&$C46&\"!\"&DA$5&$CW$4))","v":{"$error":"#REF!"}},{"$f":"IF(INDIRECT($C$2&$C46&\"!\"&DB$5&$CW$4)=\"\",\"★\",INDIRECT($C$2&$C46&\"!\"&DB$5&$CW$4))","v":{"$error":"#REF!"}},{"$f":"IF(INDIRECT($C$2&$C46&\"!\"&DC$5&$CW$4)=\"\",\"★\",INDIRECT($C$2&$C46&\"!\"&DC$5&$CW$4))","v":{"$error":"#REF!"}},{"$f":"IF(INDIRECT($C$2&$C46&\"!\"&DD$5&$CW$4)=\"\",\"★\",INDIRECT($C$2&$C46&\"!\"&DD$5&$CW$4))","v":{"$error":"#REF!"}},{"$f":"$AJ46","v":{"$error":"#REF!"}},{"$f":"$AK46","v":{"$error":"#REF!"}},{"$f":"IF(INDIRECT($C$2&$C46&\"!\"&DG$5&$DG$4)=\"\",\"★\",INDIRECT($C$2&$C46&\"!\"&DG$5&$DG$4))","v":{"$error":"#REF!"}},{"$f":"IF(INDIRECT($C$2&$C46&\"!\"&DH$5&$DG$4)=\"\",\"★\",INDIRECT($C$2&$C46&\"!\"&DH$5&$DG$4))","v":{"$error":"#REF!"}},{"$f":"IF(INDIRECT($C$2&$C46&\"!\"&DI$5&$DG$4)=\"\",\"★\",INDIRECT($C$2&$C46&\"!\"&DI$5&$DG$4))","v":{"$error":"#REF!"}},{"$f":"IF(INDIRECT($C$2&$C46&\"!\"&DJ$5&$DG$4)=\"\",\"★\",INDIRECT($C$2&$C46&\"!\"&DJ$5&$DG$4))","v":{"$error":"#REF!"}},{"$f":"IF(INDIRECT($C$2&$C46&\"!\"&DK$5&$DG$4)=\"\",\"★\",INDIRECT($C$2&$C46&\"!\"&DK$5&$DG$4))","v":{"$error":"#REF!"}},{"$f":"IF(INDIRECT($C$2&$C46&\"!\"&DL$5&$DG$4)=\"\",\"★\",INDIRECT($C$2&$C46&\"!\"&DL$5&$DG$4))","v":{"$error":"#REF!"}},{"$f":"IF(INDIRECT($C$2&$C46&\"!\"&DM$5&$DG$4)=\"\",\"★\",INDIRECT($C$2&$C46&\"!\"&DM$5&$DG$4))","v":{"$error":"#REF!"}},{"$f":"IF(INDIRECT($C$2&$C46&\"!\"&DN$5&$DG$4)=\"\",\"★\",INDIRECT($C$2&$C46&\"!\"&DN$5&$DG$4))","v":{"$error":"#REF!"}},{"$f":"IF(INDIRECT($C$2&$C46&\"!B57\")=\"\",\"★\",INDIRECT($C$2&$C46&\"!B57\"))","v":{"$error":"#REF!"}},{"$f":"IF(INDIRECT($C$2&$C46&\"!B100\")=\"\",\"★\",INDIRECT($C$2&$C46&\"!B100\"))","v":{"$error":"#REF!"}},{"$f":"IF(INDIRECT($C$2&$C46&\"!B112\")=\"\",\"★\",INDIRECT($C$2&$C46&\"!B112\"))","v":{"$error":"#REF!"}},{"$f":"IF(INDIRECT($C$2&$C46&\"!B155\")=\"\",\"★\",INDIRECT($C$2&$C46&\"!B155\"))","v":{"$error":"#REF!"}},{"$f":"IF(INDIRECT($C$2&$C46&\"!B167\")=\"\",\"★\",INDIRECT($C$2&$C46&\"!B167\"))","v":{"$error":"#REF!"}},{"$f":"IF(INDIRECT($C$2&$C46&\"!B210\")=\"\",\"★\",INDIRECT($C$2&$C46&\"!B210\"))","v":{"$error":"#REF!"}}]
[null,null,{"$f":"C46","v":"★"},null,null,null,null,null,null,null,null,{"$f":"$C47&\"-2\"","v":"★-2"},{"$f":"IF(INDIRECT($C$2&$C47&\"!\"&M$5&$M$4+1)=\"\",\"★\",INDIRECT($C$2&$C47&\"!\"&M$5&$M$4+1))","v":{"$error":"#REF!"}},{"$f":"IF(INDIRECT($C$2&$C47&\"!\"&N$5&$M$4+1)=\"\",\"★\",INDIRECT($C$2&$C47&\"!\"&N$5&$M$4+1))","v":{"$error":"#REF!"}},{"$f":"IF(INDIRECT($C$2&$C47&\"!\"&O$5&$M$4+1)=\"\",\"★\",INDIRECT($C$2&$C47&\"!\"&O$5&$M$4+1))","v":{"$error":"#REF!"}},{"$f":"IF(INDIRECT($C$2&$C47&\"!\"&P$5&$M$4+1)=\"\",\"★\",INDIRECT($C$2&$C47&\"!\"&P$5&$M$4+1))","v":{"$error":"#REF!"}},{"$f":"IF(INDIRECT($C$2&$C47&\"!\"&Q$5&$M$4+1)=\"\",\"★\",INDIRECT($C$2&$C47&\"!\"&Q$5&$M$4+1))","v":{"$error":"#REF!"}},{"$f":"IF(INDIRECT($C$2&$C47&\"!\"&R$5&$M$4+1)=\"\",\"★\",INDIRECT($C$2&$C47&\"!\"&R$5&$M$4+1))","v":{"$error":"#REF!"}},{"$f":"IF(INDIRECT($C$2&$C47&\"!\"&S$5&$M$4+1)=\"\",\"★\",INDIRECT($C$2&$C47&\"!\"&S$5&$M$4+1))","v":{"$error":"#REF!"}},{"$f":"IF(INDIRECT($C$2&$C47&\"!\"&T$5&$M$4+1)=\"\",\"★\",INDIRECT($C$2&$C47&\"!\"&T$5&$M$4+1))","v":{"$error":"#REF!"}},null,{"$f":"IF(INDIRECT($C$2&$C47&\"!\"&V$5&$V$4+1)=\"\",\"★\",INDIRECT($C$2&$C47&\"!\"&V$5&$V$4+1))","v":{"$error":"#REF!"}},{"$f":"IF(INDIRECT($C$2&$C47&\"!\"&W$5&$V$4+1)=\"\",\"★\",INDIRECT($C$2&$C47&\"!\"&W$5&$V$4+1))","v":{"$error":"#REF!"}},{"$f":"IF(INDIRECT($C$2&$C47&\"!\"&X$5&$V$4+1)=\"\",\"★\",INDIRECT($C$2&$C47&\"!\"&X$5&$V$4+1))","v":{"$error":"#REF!"}},{"$f":"IF(INDIRECT($C$2&$C47&\"!\"&Y$5&$V$4+1)=\"\",\"★\",INDIRECT($C$2&$C47&\"!\"&Y$5&$V$4+1))","v":{"$error":"#REF!"}},{"$f":"IF(INDIRECT($C$2&$C47&\"!\"&Z$5&$V$4+1)=\"\",\"★\",INDIRECT($C$2&$C47&\"!\"&Z$5&$V$4+1))","v":{"$error":"#REF!"}},{"$f":"IF(INDIRECT($C$2&$C47&\"!\"&AA$5&$V$4+1)=\"\",\"★\",INDIRECT($C$2&$C47&\"!\"&AA$5&$V$4+1))","v":{"$error":"#REF!"}},{"$f":"IF(INDIRECT($C$2&$C47&\"!\"&AB$5&$V$4+1)=\"\",\"★\",INDIRECT($C$2&$C47&\"!\"&AB$5&$V$4+1))","v":{"$error":"#REF!"}},{"$f":"IF(INDIRECT($C$2&$C47&\"!\"&AC$5&$V$4+1)=\"\",\"★\",INDIRECT($C$2&$C47&\"!\"&AC$5&$V$4+1))","v":{"$error":"#REF!"}},null,null,null,null,null,null,null,null,null,null,{"$f":"IF(INDIRECT($C$2&$C47&\"!\"&AN$5&$AN$4+1)=\"\",\"★\",INDIRECT($C$2&$C47&\"!\"&AN$5&$AN$4+1))","v":{"$error":"#REF!"}},{"$f":"IF(INDIRECT($C$2&$C47&\"!\"&AO$5&$AN$4+1)=\"\",\"★\",INDIRECT($C$2&$C47&\"!\"&AO$5&$AN$4+1))","v":{"$error":"#REF!"}},{"$f":"IF(INDIRECT($C$2&$C47&\"!\"&AP$5&$AN$4+1)=\"\",\"★\",INDIRECT($C$2&$C47&\"!\"&AP$5&$AN$4+1))","v":{"$error":"#REF!"}},{"$f":"IF(INDIRECT($C$2&$C47&\"!\"&AQ$5&$AN$4+1)=\"\",\"★\",INDIRECT($C$2&$C47&\"!\"&AQ$5&$AN$4+1))","v":{"$error":"#REF!"}},{"$f":"IF(INDIRECT($C$2&$C47&\"!\"&AR$5&$AN$4+1)=\"\",\"★\",INDIRECT($C$2&$C47&\"!\"&AR$5&$AN$4+1))","v":{"$error":"#REF!"}},{"$f":"IF(INDIRECT($C$2&$C47&\"!\"&AS$5&$AN$4+1)=\"\",\"★\",INDIRECT($C$2&$C47&\"!\"&AS$5&$AN$4+1))","v":{"$error":"#REF!"}},{"$f":"IF(INDIRECT($C$2&$C47&\"!\"&AT$5&$AN$4+1)=\"\",\"★\",INDIRECT($C$2&$C47&\"!\"&AT$5&$AN$4+1))","v":{"$error":"#REF!"}},{"$f":"IF(INDIRECT($C$2&$C47&\"!\"&AU$5&$AN$4+1)=\"\",\"★\",INDIRECT($C$2&$C47&\"!\"&AU$5&$AN$4+1))","v":{"$error":"#REF!"}},null,null,null,null,{"$f":"IF(INDIRECT($C$2&$C47&\"!\"&AZ$5&$AZ$4+1)=\"\",\"★\",INDIRECT($C$2&$C47&\"!\"&AZ$5&$AZ$4+1))","v":{"$error":"#REF!"}},{"$f":"IF(INDIRECT($C$2&$C47&\"!\"&BA$5&$AZ$4+1)=\"\",\"★\",INDIRECT($C$2&$C47&\"!\"&BA$5&$AZ$4+1))","v":{"$error":"#REF!"}},{"$f":"IF(INDIRECT($C$2&$C47&\"!\"&BB$5&$AZ$4+1)=\"\",\"★\",INDIRECT($C$2&$C47&\"!\"&BB$5&$AZ$4+1))","v":{"$error":"#REF!"}},{"$f":"IF(INDIRECT($C$2&$C47&\"!\"&BC$5&$AZ$4+1)=\"\",\"★\",INDIRECT($C$2&$C47&\"!\"&BC$5&$AZ$4+1))","v":{"$error":"#REF!"}},{"$f":"IF(INDIRECT($C$2&$C47&\"!\"&BD$5&$AZ$4+1)=\"\",\"★\",INDIRECT($C$2&$C47&\"!\"&BD$5&$AZ$4+1))","v":{"$error":"#REF!"}},{"$f":"IF(INDIRECT($C$2&$C47&\"!\"&BE$5&$AZ$4+1)=\"\",\"★\",INDIRECT($C$2&$C47&\"!\"&BE$5&$AZ$4+1))","v":{"$error":"#REF!"}},{"$f":"IF(INDIRECT($C$2&$C47&\"!\"&BF$5&$AZ$4+1)=\"\",\"★\",INDIRECT($C$2&$C47&\"!\"&BF$5&$AZ$4+1))","v":{"$error":"#REF!"}},{"$f":"IF(INDIRECT($C$2&$C47&\"!\"&BG$5&$AZ$4+1)=\"\",\"★\",INDIRECT($C$2&$C47&\"!\"&BG$5&$AZ$4+1))","v":{"$error":"#REF!"}},null,null,null,null,{"$f":"IF(INDIRECT($C$2&$C47&\"!\"&BL$5&$BL$4+1)=\"\",\"★\",INDIRECT($C$2&$C47&\"!\"&BL$5&$BL$4+1))","v":{"$error":"#REF!"}},{"$f":"IF(INDIRECT($C$2&$C47&\"!\"&BM$5&$BL$4+1)=\"\",\"★\",INDIRECT($C$2&$C47&\"!\"&BM$5&$BL$4+1))","v":{"$error":"#REF!"}},{"$f":"IF(INDIRECT($C$2&$C47&\"!\"&BN$5&$BL$4+1)=\"\",\"★\",INDIRECT($C$2&$C47&\"!\"&BN$5&$BL$4+1))","v":{"$error":"#REF!"}},{"$f":"IF(INDIRECT($C$2&$C47&\"!\"&BO$5&$BL$4+1)=\"\",\"★\",INDIRECT($C$2&$C47&\"!\"&BO$5&$BL$4+1))","v":{"$error":"#REF!"}},{"$f":"IF(INDIRECT($C$2&$C47&\"!\"&BP$5&$BL$4+1)=\"\",\"★\",INDIRECT($C$2&$C47&\"!\"&BP$5&$BL$4+1))","v":{"$error":"#REF!"}},{"$f":"IF(INDIRECT($C$2&$C47&\"!\"&BQ$5&$BL$4+1)=\"\",\"★\",INDIRECT($C$2&$C47&\"!\"&BQ$5&$BL$4+1))","v":{"$error":"#REF!"}},{"$f":"IF(INDIRECT($C$2&$C47&\"!\"&BR$5&$BL$4+1)=\"\",\"★\",INDIRECT($C$2&$C47&\"!\"&BR$5&$BL$4+1))","v":{"$error":"#REF!"}},{"$f":"IF(INDIRECT($C$2&$C47&\"!\"&BS$5&$BL$4+1)=\"\",\"★\",INDIRECT($C$2&$C47&\"!\"&BS$5&$BL$4+1))","v":{"$error":"#REF!"}},null,null,{"$f":"IF(INDIRECT($C$2&$C47&\"!\"&BV$5&$BV$4+1)=\"\",\"★\",INDIRECT($C$2&$C47&\"!\"&BV$5&$BV$4+1))","v":{"$error":"#REF!"}},{"$f":"IF(INDIRECT($C$2&$C47&\"!\"&BW$5&$BV$4+1)=\"\",\"★\",INDIRECT($C$2&$C47&\"!\"&BW$5&$BV$4+1))","v":{"$error":"#REF!"}},{"$f":"IF(INDIRECT($C$2&$C47&\"!\"&BX$5&$BV$4+1)=\"\",\"★\",INDIRECT($C$2&$C47&\"!\"&BX$5&$BV$4+1))","v":{"$error":"#REF!"}},{"$f":"IF(INDIRECT($C$2&$C47&\"!\"&BY$5&$BV$4+1)=\"\",\"★\",INDIRECT($C$2&$C47&\"!\"&BY$5&$BV$4+1))","v":{"$error":"#REF!"}},{"$f":"IF(INDIRECT($C$2&$C47&\"!\"&BZ$5&$BV$4+1)=\"\",\"★\",INDIRECT($C$2&$C47&\"!\"&BZ$5&$BV$4+1))","v":{"$error":"#REF!"}},{"$f":"IF(INDIRECT($C$2&$C47&\"!\"&CA$5&$BV$4+1)=\"\",\"★\",INDIRECT($C$2&$C47&\"!\"&CA$5&$BV$4+1))","v":{"$error":"#REF!"}},null,{"$f":"IF(INDIRECT($C$2&$C47&\"!\"&CC$5&$CC$4+1)=\"\",\"★\",INDIRECT($C$2&$C47&\"!\"&CC$5&$CC$4+1))","v":{"$error":"#REF!"}},{"$f":"IF(INDIRECT($C$2&$C47&\"!\"&CD$5&$CC$4+1)=\"\",\"★\",INDIRECT($C$2&$C47&\"!\"&CD$5&$CC$4+1))","v":{"$error":"#REF!"}},{"$f":"IF(INDIRECT($C$2&$C47&\"!\"&CE$5&$CC$4+1)=\"\",\"★\",INDIRECT($C$2&$C47&\"!\"&CE$5&$CC$4+1))","v":{"$error":"#REF!"}},{"$f":"IF(INDIRECT($C$2&$C47&\"!\"&CF$5&$CC$4+1)=\"\",\"★\",INDIRECT($C$2&$C47&\"!\"&CF$5&$CC$4+1))","v":{"$error":"#REF!"}},{"$f":"IF(INDIRECT($C$2&$C47&\"!\"&CG$5&$CC$4+1)=\"\",\"★\",INDIRECT($C$2&$C47&\"!\"&CG$5&$CC$4+1))","v":{"$error":"#REF!"}},{"$f":"IF(INDIRECT($C$2&$C47&\"!\"&CH$5&$CC$4+1)=\"\",\"★\",INDIRECT($C$2&$C47&\"!\"&CH$5&$CC$4+1))","v":{"$error":"#REF!"}},null,null,null,null,{"$f":"IF(INDIRECT($C$2&$C47&\"!\"&CM$5&$CM$4+1)=\"\",\"★\",INDIRECT($C$2&$C47&\"!\"&CM$5&$CM$4+1))","v":{"$error":"#REF!"}},{"$f":"IF(INDIRECT($C$2&$C47&\"!\"&CN$5&$CM$4+1)=\"\",\"★\",INDIRECT($C$2&$C47&\"!\"&CN$5&$CM$4+1))","v":{"$error":"#REF!"}},{"$f":"IF(INDIRECT($C$2&$C47&\"!\"&CO$5&$CM$4+1)=\"\",\"★\",INDIRECT($C$2&$C47&\"!\"&CO$5&$CM$4+1))","v":{"$error":"#REF!"}},{"$f":"IF(INDIRECT($C$2&$C47&\"!\"&CP$5&$CM$4+1)=\"\",\"★\",INDIRECT($C$2&$C47&\"!\"&CP$5&$CM$4+1))","v":{"$error":"#REF!"}},{"$f":"IF(INDIRECT($C$2&$C47&\"!\"&CQ$5&$CM$4+1)=\"\",\"★\",INDIRECT($C$2&$C47&\"!\"&CQ$5&$CM$4+1))","v":{"$error":"#REF!"}},{"$f":"IF(INDIRECT($C$2&$C47&\"!\"&CR$5&$CM$4+1)=\"\",\"★\",INDIRECT($C$2&$C47&\"!\"&CR$5&$CM$4+1))","v":{"$error":"#REF!"}},null,null,null,null,{"$f":"IF(INDIRECT($C$2&$C47&\"!\"&CW$5&$CW$4+1)=\"\",\"★\",INDIRECT($C$2&$C47&\"!\"&CW$5&$CW$4+1))","v":{"$error":"#REF!"}},{"$f":"IF(INDIRECT($C$2&$C47&\"!\"&CX$5&$CW$4+1)=\"\",\"★\",INDIRECT($C$2&$C47&\"!\"&CX$5&$CW$4+1))","v":{"$error":"#REF!"}},{"$f":"IF(INDIRECT($C$2&$C47&\"!\"&CY$5&$CW$4+1)=\"\",\"★\",INDIRECT($C$2&$C47&\"!\"&CY$5&$CW$4+1))","v":{"$error":"#REF!"}},{"$f":"IF(INDIRECT($C$2&$C47&\"!\"&CZ$5&$CW$4+1)=\"\",\"★\",INDIRECT($C$2&$C47&\"!\"&CZ$5&$CW$4+1))","v":{"$error":"#REF!"}},{"$f":"IF(INDIRECT($C$2&$C47&\"!\"&DA$5&$CW$4+1)=\"\",\"★\",INDIRECT($C$2&$C47&\"!\"&DA$5&$CW$4+1))","v":{"$error":"#REF!"}},{"$f":"IF(INDIRECT($C$2&$C47&\"!\"&DB$5&$CW$4+1)=\"\",\"★\",INDIRECT($C$2&$C47&\"!\"&DB$5&$CW$4+1))","v":{"$error":"#REF!"}},null,null,null,null,{"$f":"IF(INDIRECT($C$2&$C47&\"!\"&DG$5&$DG$4+1)=\"\",\"★\",INDIRECT($C$2&$C47&\"!\"&DG$5&$DG$4+1))","v":{"$error":"#REF!"}},{"$f":"IF(INDIRECT($C$2&$C47&\"!\"&DH$5&$DG$4+1)=\"\",\"★\",INDIRECT($C$2&$C47&\"!\"&DH$5&$DG$4+1))","v":{"$error":"#REF!"}},{"$f":"IF(INDIRECT($C$2&$C47&\"!\"&DI$5&$DG$4+1)=\"\",\"★\",INDIRECT($C$2&$C47&\"!\"&DI$5&$DG$4+1))","v":{"$error":"#REF!"}},{"$f":"IF(INDIRECT($C$2&$C47&\"!\"&DJ$5&$DG$4+1)=\"\",\"★\",INDIRECT($C$2&$C47&\"!\"&DJ$5&$DG$4+1))","v":{"$error":"#REF!"}},{"$f":"IF(INDIRECT($C$2&$C47&\"!\"&DK$5&$DG$4+1)=\"\",\"★\",INDIRECT($C$2&$C47&\"!\"&DK$5&$DG$4+1))","v":{"$error":"#REF!"}},{"$f":"IF(INDIRECT($C$2&$C47&\"!\"&DL$5&$DG$4+1)=\"\",\"★\",INDIRECT($C$2&$C47&\"!\"&DL$5&$DG$4+1))","v":{"$error":"#REF!"}}]
[null,null,{"$f":"C47","v":"★"},null,null,null,null,null,null,null,null,{"$f":"$C48&\"-3\"","v":"★-3"},{"$f":"IF(INDIRECT($C$2&$C48&\"!\"&M$5&$M$4+2)=\"\",\"★\",INDIRECT($C$2&$C48&\"!\"&M$5&$M$4+2))","v":{"$error":"#REF!"}},{"$f":"IF(INDIRECT($C$2&$C48&\"!\"&N$5&$M$4+2)=\"\",\"★\",INDIRECT($C$2&$C48&\"!\"&N$5&$M$4+2))","v":{"$error":"#REF!"}},{"$f":"IF(INDIRECT($C$2&$C48&\"!\"&O$5&$M$4+2)=\"\",\"★\",INDIRECT($C$2&$C48&\"!\"&O$5&$M$4+2))","v":{"$error":"#REF!"}},{"$f":"IF(INDIRECT($C$2&$C48&\"!\"&P$5&$M$4+2)=\"\",\"★\",INDIRECT($C$2&$C48&\"!\"&P$5&$M$4+2))","v":{"$error":"#REF!"}},{"$f":"IF(INDIRECT($C$2&$C48&\"!\"&Q$5&$M$4+2)=\"\",\"★\",INDIRECT($C$2&$C48&\"!\"&Q$5&$M$4+2))","v":{"$error":"#REF!"}},{"$f":"IF(INDIRECT($C$2&$C48&\"!\"&R$5&$M$4+2)=\"\",\"★\",INDIRECT($C$2&$C48&\"!\"&R$5&$M$4+2))","v":{"$error":"#REF!"}},{"$f":"IF(INDIRECT($C$2&$C48&\"!\"&S$5&$M$4+2)=\"\",\"★\",INDIRECT($C$2&$C48&\"!\"&S$5&$M$4+2))","v":{"$error":"#REF!"}},{"$f":"IF(INDIRECT($C$2&$C48&\"!\"&T$5&$M$4+2)=\"\",\"★\",INDIRECT($C$2&$C48&\"!\"&T$5&$M$4+2))","v":{"$error":"#REF!"}},null,{"$f":"IF(INDIRECT($C$2&$C48&\"!\"&V$5&$V$4+2)=\"\",\"★\",INDIRECT($C$2&$C48&\"!\"&V$5&$V$4+2))","v":{"$error":"#REF!"}},{"$f":"IF(INDIRECT($C$2&$C48&\"!\"&W$5&$V$4+2)=\"\",\"★\",INDIRECT($C$2&$C48&\"!\"&W$5&$V$4+2))","v":{"$error":"#REF!"}},{"$f":"IF(INDIRECT($C$2&$C48&\"!\"&X$5&$V$4+2)=\"\",\"★\",INDIRECT($C$2&$C48&\"!\"&X$5&$V$4+2))","v":{"$error":"#REF!"}},{"$f":"IF(INDIRECT($C$2&$C48&\"!\"&Y$5&$V$4+2)=\"\",\"★\",INDIRECT($C$2&$C48&\"!\"&Y$5&$V$4+2))","v":{"$error":"#REF!"}},{"$f":"IF(INDIRECT($C$2&$C48&\"!\"&Z$5&$V$4+2)=\"\",\"★\",INDIRECT($C$2&$C48&\"!\"&Z$5&$V$4+2))","v":{"$error":"#REF!"}},{"$f":"IF(INDIRECT($C$2&$C48&\"!\"&AA$5&$V$4+2)=\"\",\"★\",INDIRECT($C$2&$C48&\"!\"&AA$5&$V$4+2))","v":{"$error":"#REF!"}},{"$f":"IF(INDIRECT($C$2&$C48&\"!\"&AB$5&$V$4+2)=\"\",\"★\",INDIRECT($C$2&$C48&\"!\"&AB$5&$V$4+2))","v":{"$error":"#REF!"}},{"$f":"IF(INDIRECT($C$2&$C48&\"!\"&AC$5&$V$4+2)=\"\",\"★\",INDIRECT($C$2&$C48&\"!\"&AC$5&$V$4+2))","v":{"$error":"#REF!"}},null,null,null,null,null,null,null,null,null,null,{"$f":"IF(INDIRECT($C$2&$C48&\"!\"&AN$5&$AN$4+2)=\"\",\"★\",INDIRECT($C$2&$C48&\"!\"&AN$5&$AN$4+2))","v":{"$error":"#REF!"}},{"$f":"IF(INDIRECT($C$2&$C48&\"!\"&AO$5&$AN$4+2)=\"\",\"★\",INDIRECT($C$2&$C48&\"!\"&AO$5&$AN$4+2))","v":{"$error":"#REF!"}},{"$f":"IF(INDIRECT($C$2&$C48&\"!\"&AP$5&$AN$4+2)=\"\",\"★\",INDIRECT($C$2&$C48&\"!\"&AP$5&$AN$4+2))","v":{"$error":"#REF!"}},{"$f":"IF(INDIRECT($C$2&$C48&\"!\"&AQ$5&$AN$4+2)=\"\",\"★\",INDIRECT($C$2&$C48&\"!\"&AQ$5&$AN$4+2))","v":{"$error":"#REF!"}},{"$f":"IF(INDIRECT($C$2&$C48&\"!\"&AR$5&$AN$4+2)=\"\",\"★\",INDIRECT($C$2&$C48&\"!\"&AR$5&$AN$4+2))","v":{"$error":"#REF!"}},{"$f":"IF(INDIRECT($C$2&$C48&\"!\"&AS$5&$AN$4+2)=\"\",\"★\",INDIRECT($C$2&$C48&\"!\"&AS$5&$AN$4+2))","v":{"$error":"#REF!"}},{"$f":"IF(INDIRECT($C$2&$C48&\"!\"&AT$5&$AN$4+2)=\"\",\"★\",INDIRECT($C$2&$C48&\"!\"&AT$5&$AN$4+2))","v":{"$error":"#REF!"}},{"$f":"IF(INDIRECT($C$2&$C48&\"!\"&AU$5&$AN$4+2)=\"\",\"★\",INDIRECT($C$2&$C48&\"!\"&AU$5&$AN$4+2))","v":{"$error":"#REF!"}},null,null,null,null,{"$f":"IF(INDIRECT($C$2&$C48&\"!\"&AZ$5&$AZ$4+2)=\"\",\"★\",INDIRECT($C$2&$C48&\"!\"&AZ$5&$AZ$4+2))","v":{"$error":"#REF!"}},{"$f":"IF(INDIRECT($C$2&$C48&\"!\"&BA$5&$AZ$4+2)=\"\",\"★\",INDIRECT($C$2&$C48&\"!\"&BA$5&$AZ$4+2))","v":{"$error":"#REF!"}},{"$f":"IF(INDIRECT($C$2&$C48&\"!\"&BB$5&$AZ$4+2)=\"\",\"★\",INDIRECT($C$2&$C48&\"!\"&BB$5&$AZ$4+2))","v":{"$error":"#REF!"}},{"$f":"IF(INDIRECT($C$2&$C48&\"!\"&BC$5&$AZ$4+2)=\"\",\"★\",INDIRECT($C$2&$C48&\"!\"&BC$5&$AZ$4+2))","v":{"$error":"#REF!"}},{"$f":"IF(INDIRECT($C$2&$C48&\"!\"&BD$5&$AZ$4+2)=\"\",\"★\",INDIRECT($C$2&$C48&\"!\"&BD$5&$AZ$4+2))","v":{"$error":"#REF!"}},{"$f":"IF(INDIRECT($C$2&$C48&\"!\"&BE$5&$AZ$4+2)=\"\",\"★\",INDIRECT($C$2&$C48&\"!\"&BE$5&$AZ$4+2))","v":{"$error":"#REF!"}},{"$f":"IF(INDIRECT($C$2&$C48&\"!\"&BF$5&$AZ$4+2)=\"\",\"★\",INDIRECT($C$2&$C48&\"!\"&BF$5&$AZ$4+2))","v":{"$error":"#REF!"}},{"$f":"IF(INDIRECT($C$2&$C48&\"!\"&BG$5&$AZ$4+2)=\"\",\"★\",INDIRECT($C$2&$C48&\"!\"&BG$5&$AZ$4+2))","v":{"$error":"#REF!"}},null,null,null,null,{"$f":"IF(INDIRECT($C$2&$C48&\"!\"&BL$5&$BL$4+2)=\"\",\"★\",INDIRECT($C$2&$C48&\"!\"&BL$5&$BL$4+2))","v":{"$error":"#REF!"}},{"$f":"IF(INDIRECT($C$2&$C48&\"!\"&BM$5&$BL$4+2)=\"\",\"★\",INDIRECT($C$2&$C48&\"!\"&BM$5&$BL$4+2))","v":{"$error":"#REF!"}},{"$f":"IF(INDIRECT($C$2&$C48&\"!\"&BN$5&$BL$4+2)=\"\",\"★\",INDIRECT($C$2&$C48&\"!\"&BN$5&$BL$4+2))","v":{"$error":"#REF!"}},{"$f":"IF(INDIRECT($C$2&$C48&\"!\"&BO$5&$BL$4+2)=\"\",\"★\",INDIRECT($C$2&$C48&\"!\"&BO$5&$BL$4+2))","v":{"$error":"#REF!"}},{"$f":"IF(INDIRECT($C$2&$C48&\"!\"&BP$5&$BL$4+2)=\"\",\"★\",INDIRECT($C$2&$C48&\"!\"&BP$5&$BL$4+2))","v":{"$error":"#REF!"}},{"$f":"IF(INDIRECT($C$2&$C48&\"!\"&BQ$5&$BL$4+2)=\"\",\"★\",INDIRECT($C$2&$C48&\"!\"&BQ$5&$BL$4+2))","v":{"$error":"#REF!"}},{"$f":"IF(INDIRECT($C$2&$C48&\"!\"&BR$5&$BL$4+2)=\"\",\"★\",INDIRECT($C$2&$C48&\"!\"&BR$5&$BL$4+2))","v":{"$error":"#REF!"}},{"$f":"IF(INDIRECT($C$2&$C48&\"!\"&BS$5&$BL$4+2)=\"\",\"★\",INDIRECT($C$2&$C48&\"!\"&BS$5&$BL$4+2))","v":{"$error":"#REF!"}},null,null,{"$f":"IF(INDIRECT($C$2&$C48&\"!\"&BV$5&$BV$4+2)=\"\",\"★\",INDIRECT($C$2&$C48&\"!\"&BV$5&$BV$4+2))","v":{"$error":"#REF!"}},{"$f":"IF(INDIRECT($C$2&$C48&\"!\"&BW$5&$BV$4+2)=\"\",\"★\",INDIRECT($C$2&$C48&\"!\"&BW$5&$BV$4+2))","v":{"$error":"#REF!"}},{"$f":"IF(INDIRECT($C$2&$C48&\"!\"&BX$5&$BV$4+2)=\"\",\"★\",INDIRECT($C$2&$C48&\"!\"&BX$5&$BV$4+2))","v":{"$error":"#REF!"}},{"$f":"IF(INDIRECT($C$2&$C48&\"!\"&BY$5&$BV$4+2)=\"\",\"★\",INDIRECT($C$2&$C48&\"!\"&BY$5&$BV$4+2))","v":{"$error":"#REF!"}},{"$f":"IF(INDIRECT($C$2&$C48&\"!\"&BZ$5&$BV$4+2)=\"\",\"★\",INDIRECT($C$2&$C48&\"!\"&BZ$5&$BV$4+2))","v":{"$error":"#REF!"}},{"$f":"IF(INDIRECT($C$2&$C48&\"!\"&CA$5&$BV$4+2)=\"\",\"★\",INDIRECT($C$2&$C48&\"!\"&CA$5&$BV$4+2))","v":{"$error":"#REF!"}},null,{"$f":"IF(INDIRECT($C$2&$C48&\"!\"&CC$5&$CC$4+2)=\"\",\"★\",INDIRECT($C$2&$C48&\"!\"&CC$5&$CC$4+2))","v":{"$error":"#REF!"}},{"$f":"IF(INDIRECT($C$2&$C48&\"!\"&CD$5&$CC$4+2)=\"\",\"★\",INDIRECT($C$2&$C48&\"!\"&CD$5&$CC$4+2))","v":{"$error":"#REF!"}},{"$f":"IF(INDIRECT($C$2&$C48&\"!\"&CE$5&$CC$4+2)=\"\",\"★\",INDIRECT($C$2&$C48&\"!\"&CE$5&$CC$4+2))","v":{"$error":"#REF!"}},{"$f":"IF(INDIRECT($C$2&$C48&\"!\"&CF$5&$CC$4+2)=\"\",\"★\",INDIRECT($C$2&$C48&\"!\"&CF$5&$CC$4+2))","v":{"$error":"#REF!"}},{"$f":"IF(INDIRECT($C$2&$C48&\"!\"&CG$5&$CC$4+2)=\"\",\"★\",INDIRECT($C$2&$C48&\"!\"&CG$5&$CC$4+2))","v":{"$error":"#REF!"}},{"$f":"IF(INDIRECT($C$2&$C48&\"!\"&CH$5&$CC$4+2)=\"\",\"★\",INDIRECT($C$2&$C48&\"!\"&CH$5&$CC$4+2))","v":{"$error":"#REF!"}},null,null,null,null,{"$f":"IF(INDIRECT($C$2&$C48&\"!\"&CM$5&$CM$4+2)=\"\",\"★\",INDIRECT($C$2&$C48&\"!\"&CM$5&$CM$4+2))","v":{"$error":"#REF!"}},{"$f":"IF(INDIRECT($C$2&$C48&\"!\"&CN$5&$CM$4+2)=\"\",\"★\",INDIRECT($C$2&$C48&\"!\"&CN$5&$CM$4+2))","v":{"$error":"#REF!"}},{"$f":"IF(INDIRECT($C$2&$C48&\"!\"&CO$5&$CM$4+2)=\"\",\"★\",INDIRECT($C$2&$C48&\"!\"&CO$5&$CM$4+2))","v":{"$error":"#REF!"}},{"$f":"IF(INDIRECT($C$2&$C48&\"!\"&CP$5&$CM$4+2)=\"\",\"★\",INDIRECT($C$2&$C48&\"!\"&CP$5&$CM$4+2))","v":{"$error":"#REF!"}},{"$f":"IF(INDIRECT($C$2&$C48&\"!\"&CQ$5&$CM$4+2)=\"\",\"★\",INDIRECT($C$2&$C48&\"!\"&CQ$5&$CM$4+2))","v":{"$error":"#REF!"}},{"$f":"IF(INDIRECT($C$2&$C48&\"!\"&CR$5&$CM$4+2)=\"\",\"★\",INDIRECT($C$2&$C48&\"!\"&CR$5&$CM$4+2))","v":{"$error":"#REF!"}},null,null,null,null,{"$f":"IF(INDIRECT($C$2&$C48&\"!\"&CW$5&$CW$4+2)=\"\",\"★\",INDIRECT($C$2&$C48&\"!\"&CW$5&$CW$4+2))","v":{"$error":"#REF!"}},{"$f":"IF(INDIRECT($C$2&$C48&\"!\"&CX$5&$CW$4+2)=\"\",\"★\",INDIRECT($C$2&$C48&\"!\"&CX$5&$CW$4+2))","v":{"$error":"#REF!"}},{"$f":"IF(INDIRECT($C$2&$C48&\"!\"&CY$5&$CW$4+2)=\"\",\"★\",INDIRECT($C$2&$C48&\"!\"&CY$5&$CW$4+2))","v":{"$error":"#REF!"}},{"$f":"IF(INDIRECT($C$2&$C48&\"!\"&CZ$5&$CW$4+2)=\"\",\"★\",INDIRECT($C$2&$C48&\"!\"&CZ$5&$CW$4+2))","v":{"$error":"#REF!"}},{"$f":"IF(INDIRECT($C$2&$C48&\"!\"&DA$5&$CW$4+2)=\"\",\"★\",INDIRECT($C$2&$C48&\"!\"&DA$5&$CW$4+2))","v":{"$error":"#REF!"}},{"$f":"IF(INDIRECT($C$2&$C48&\"!\"&DB$5&$CW$4+2)=\"\",\"★\",INDIRECT($C$2&$C48&\"!\"&DB$5&$CW$4+2))","v":{"$error":"#REF!"}},null,null,null,null,{"$f":"IF(INDIRECT($C$2&$C48&\"!\"&DG$5&$DG$4+2)=\"\",\"★\",INDIRECT($C$2&$C48&\"!\"&DG$5&$DG$4+2))","v":{"$error":"#REF!"}},{"$f":"IF(INDIRECT($C$2&$C48&\"!\"&DH$5&$DG$4+2)=\"\",\"★\",INDIRECT($C$2&$C48&\"!\"&DH$5&$DG$4+2))","v":{"$error":"#REF!"}},{"$f":"IF(INDIRECT($C$2&$C48&\"!\"&DI$5&$DG$4+2)=\"\",\"★\",INDIRECT($C$2&$C48&\"!\"&DI$5&$DG$4+2))","v":{"$error":"#REF!"}},{"$f":"IF(INDIRECT($C$2&$C48&\"!\"&DJ$5&$DG$4+2)=\"\",\"★\",INDIRECT($C$2&$C48&\"!\"&DJ$5&$DG$4+2))","v":{"$error":"#REF!"}},{"$f":"IF(INDIRECT($C$2&$C48&\"!\"&DK$5&$DG$4+2)=\"\",\"★\",INDIRECT($C$2&$C48&\"!\"&DK$5&$DG$4+2))","v":{"$error":"#REF!"}},{"$f":"IF(INDIRECT($C$2&$C48&\"!\"&DL$5&$DG$4+2)=\"\",\"★\",INDIRECT($C$2&$C48&\"!\"&DL$5&$DG$4+2))","v":{"$error":"#REF!"}}]
[null,null,"★",null,null,null,null,null,null,null,null,{"$f":"$C49&\"-4\"","v":"★-4"},{"$f":"IF(INDIRECT($C$2&$C49&\"!\"&M$5&$M$4+3)=\"\",\"★\",INDIRECT($C$2&$C49&\"!\"&M$5&$M$4+3))","v":{"$error":"#REF!"}},{"$f":"IF(INDIRECT($C$2&$C49&\"!\"&N$5&$M$4+3)=\"\",\"★\",INDIRECT($C$2&$C49&\"!\"&N$5&$M$4+3))","v":{"$error":"#REF!"}},{"$f":"IF(INDIRECT($C$2&$C49&\"!\"&O$5&$M$4+3)=\"\",\"★\",INDIRECT($C$2&$C49&\"!\"&O$5&$M$4+3))","v":{"$error":"#REF!"}},{"$f":"IF(INDIRECT($C$2&$C49&\"!\"&P$5&$M$4+3)=\"\",\"★\",INDIRECT($C$2&$C49&\"!\"&P$5&$M$4+3))","v":{"$error":"#REF!"}},{"$f":"IF(INDIRECT($C$2&$C49&\"!\"&Q$5&$M$4+3)=\"\",\"★\",INDIRECT($C$2&$C49&\"!\"&Q$5&$M$4+3))","v":{"$error":"#REF!"}},{"$f":"IF(INDIRECT($C$2&$C49&\"!\"&R$5&$M$4+3)=\"\",\"★\",INDIRECT($C$2&$C49&\"!\"&R$5&$M$4+3))","v":{"$error":"#REF!"}},{"$f":"IF(INDIRECT($C$2&$C49&\"!\"&S$5&$M$4+3)=\"\",\"★\",INDIRECT($C$2&$C49&\"!\"&S$5&$M$4+3))","v":{"$error":"#REF!"}},{"$f":"IF(INDIRECT($C$2&$C49&\"!\"&T$5&$M$4+3)=\"\",\"★\",INDIRECT($C$2&$C49&\"!\"&T$5&$M$4+3))","v":{"$error":"#REF!"}},null,{"$f":"IF(INDIRECT($C$2&$C49&\"!\"&V$5&$V$4+3)=\"\",\"★\",INDIRECT($C$2&$C49&\"!\"&V$5&$V$4+3))","v":{"$error":"#REF!"}},{"$f":"IF(INDIRECT($C$2&$C49&\"!\"&W$5&$V$4+3)=\"\",\"★\",INDIRECT($C$2&$C49&\"!\"&W$5&$V$4+3))","v":{"$error":"#REF!"}},{"$f":"IF(INDIRECT($C$2&$C49&\"!\"&X$5&$V$4+3)=\"\",\"★\",INDIRECT($C$2&$C49&\"!\"&X$5&$V$4+3))","v":{"$error":"#REF!"}},{"$f":"IF(INDIRECT($C$2&$C49&\"!\"&Y$5&$V$4+3)=\"\",\"★\",INDIRECT($C$2&$C49&\"!\"&Y$5&$V$4+3))","v":{"$error":"#REF!"}},{"$f":"IF(INDIRECT($C$2&$C49&\"!\"&Z$5&$V$4+3)=\"\",\"★\",INDIRECT($C$2&$C49&\"!\"&Z$5&$V$4+3))","v":{"$error":"#REF!"}},{"$f":"IF(INDIRECT($C$2&$C49&\"!\"&AA$5&$V$4+3)=\"\",\"★\",INDIRECT($C$2&$C49&\"!\"&AA$5&$V$4+3))","v":{"$error":"#REF!"}},{"$f":"IF(INDIRECT($C$2&$C49&\"!\"&AB$5&$V$4+3)=\"\",\"★\",INDIRECT($C$2&$C49&\"!\"&AB$5&$V$4+3))","v":{"$error":"#REF!"}},{"$f":"IF(INDIRECT($C$2&$C49&\"!\"&AC$5&$V$4+3)=\"\",\"★\",INDIRECT($C$2&$C49&\"!\"&AC$5&$V$4+3))","v":{"$error":"#REF!"}},null,null,null,null,null,null,null,null,null,null,{"$f":"IF(INDIRECT($C$2&$C49&\"!\"&AN$5&$AN$4+3)=\"\",\"★\",INDIRECT($C$2&$C49&\"!\"&AN$5&$AN$4+3))","v":{"$error":"#REF!"}},{"$f":"IF(INDIRECT($C$2&$C49&\"!\"&AO$5&$AN$4+3)=\"\",\"★\",INDIRECT($C$2&$C49&\"!\"&AO$5&$AN$4+3))","v":{"$error":"#REF!"}},{"$f":"IF(INDIRECT($C$2&$C49&\"!\"&AP$5&$AN$4+3)=\"\",\"★\",INDIRECT($C$2&$C49&\"!\"&AP$5&$AN$4+3))","v":{"$error":"#REF!"}},{"$f":"IF(INDIRECT($C$2&$C49&\"!\"&AQ$5&$AN$4+3)=\"\",\"★\",INDIRECT($C$2&$C49&\"!\"&AQ$5&$AN$4+3))","v":{"$error":"#REF!"}},{"$f":"IF(INDIRECT($C$2&$C49&\"!\"&AR$5&$AN$4+3)=\"\",\"★\",INDIRECT($C$2&$C49&\"!\"&AR$5&$AN$4+3))","v":{"$error":"#REF!"}},{"$f":"IF(INDIRECT($C$2&$C49&\"!\"&AS$5&$AN$4+3)=\"\",\"★\",INDIRECT($C$2&$C49&\"!\"&AS$5&$AN$4+3))","v":{"$error":"#REF!"}},{"$f":"IF(INDIRECT($C$2&$C49&\"!\"&AT$5&$AN$4+3)=\"\",\"★\",INDIRECT($C$2&$C49&\"!\"&AT$5&$AN$4+3))","v":{"$error":"#REF!"}},{"$f":"IF(INDIRECT($C$2&$C49&\"!\"&AU$5&$AN$4+3)=\"\",\"★\",INDIRECT($C$2&$C49&\"!\"&AU$5&$AN$4+3))","v":{"$error":"#REF!"}},null,null,null,null,{"$f":"IF(INDIRECT($C$2&$C49&\"!\"&AZ$5&$AZ$4+3)=\"\",\"★\",INDIRECT($C$2&$C49&\"!\"&AZ$5&$AZ$4+3))","v":{"$error":"#REF!"}},{"$f":"IF(INDIRECT($C$2&$C49&\"!\"&BA$5&$AZ$4+3)=\"\",\"★\",INDIRECT($C$2&$C49&\"!\"&BA$5&$AZ$4+3))","v":{"$error":"#REF!"}},{"$f":"IF(INDIRECT($C$2&$C49&\"!\"&BB$5&$AZ$4+3)=\"\",\"★\",INDIRECT($C$2&$C49&\"!\"&BB$5&$AZ$4+3))","v":{"$error":"#REF!"}},{"$f":"IF(INDIRECT($C$2&$C49&\"!\"&BC$5&$AZ$4+3)=\"\",\"★\",INDIRECT($C$2&$C49&\"!\"&BC$5&$AZ$4+3))","v":{"$error":"#REF!"}},{"$f":"IF(INDIRECT($C$2&$C49&\"!\"&BD$5&$AZ$4+3)=\"\",\"★\",INDIRECT($C$2&$C49&\"!\"&BD$5&$AZ$4+3))","v":{"$error":"#REF!"}},{"$f":"IF(INDIRECT($C$2&$C49&\"!\"&BE$5&$AZ$4+3)=\"\",\"★\",INDIRECT($C$2&$C49&\"!\"&BE$5&$AZ$4+3))","v":{"$error":"#REF!"}},{"$f":"IF(INDIRECT($C$2&$C49&\"!\"&BF$5&$AZ$4+3)=\"\",\"★\",INDIRECT($C$2&$C49&\"!\"&BF$5&$AZ$4+3))","v":{"$error":"#REF!"}},{"$f":"IF(INDIRECT($C$2&$C49&\"!\"&BG$5&$AZ$4+3)=\"\",\"★\",INDIRECT($C$2&$C49&\"!\"&BG$5&$AZ$4+3))","v":{"$error":"#REF!"}},null,null,null,null,{"$f":"IF(INDIRECT($C$2&$C49&\"!\"&BL$5&$BL$4+3)=\"\",\"★\",INDIRECT($C$2&$C49&\"!\"&BL$5&$BL$4+3))","v":{"$error":"#REF!"}},{"$f":"IF(INDIRECT($C$2&$C49&\"!\"&BM$5&$BL$4+3)=\"\",\"★\",INDIRECT($C$2&$C49&\"!\"&BM$5&$BL$4+3))","v":{"$error":"#REF!"}},{"$f":"IF(INDIRECT($C$2&$C49&\"!\"&BN$5&$BL$4+3)=\"\",\"★\",INDIRECT($C$2&$C49&\"!\"&BN$5&$BL$4+3))","v":{"$error":"#REF!"}},{"$f":"IF(INDIRECT($C$2&$C49&\"!\"&BO$5&$BL$4+3)=\"\",\"★\",INDIRECT($C$2&$C49&\"!\"&BO$5&$BL$4+3))","v":{"$error":"#REF!"}},{"$f":"IF(INDIRECT($C$2&$C49&\"!\"&BP$5&$BL$4+3)=\"\",\"★\",INDIRECT($C$2&$C49&\"!\"&BP$5&$BL$4+3))","v":{"$error":"#REF!"}},{"$f":"IF(INDIRECT($C$2&$C49&\"!\"&BQ$5&$BL$4+3)=\"\",\"★\",INDIRECT($C$2&$C49&\"!\"&BQ$5&$BL$4+3))","v":{"$error":"#REF!"}},{"$f":"IF(INDIRECT($C$2&$C49&\"!\"&BR$5&$BL$4+3)=\"\",\"★\",INDIRECT($C$2&$C49&\"!\"&BR$5&$BL$4+3))","v":{"$error":"#REF!"}},{"$f":"IF(INDIRECT($C$2&$C49&\"!\"&BS$5&$BL$4+3)=\"\",\"★\",INDIRECT($C$2&$C49&\"!\"&BS$5&$BL$4+3))","v":{"$error":"#REF!"}},null,null,{"$f":"IF(INDIRECT($C$2&$C49&\"!\"&BV$5&$BV$4+3)=\"\",\"★\",INDIRECT($C$2&$C49&\"!\"&BV$5&$BV$4+3))","v":{"$error":"#REF!"}},{"$f":"IF(INDIRECT($C$2&$C49&\"!\"&BW$5&$BV$4+3)=\"\",\"★\",INDIRECT($C$2&$C49&\"!\"&BW$5&$BV$4+3))","v":{"$error":"#REF!"}},{"$f":"IF(INDIRECT($C$2&$C49&\"!\"&BX$5&$BV$4+3)=\"\",\"★\",INDIRECT($C$2&$C49&\"!\"&BX$5&$BV$4+3))","v":{"$error":"#REF!"}},{"$f":"IF(INDIRECT($C$2&$C49&\"!\"&BY$5&$BV$4+3)=\"\",\"★\",INDIRECT($C$2&$C49&\"!\"&BY$5&$BV$4+3))","v":{"$error":"#REF!"}},{"$f":"IF(INDIRECT($C$2&$C49&\"!\"&BZ$5&$BV$4+3)=\"\",\"★\",INDIRECT($C$2&$C49&\"!\"&BZ$5&$BV$4+3))","v":{"$error":"#REF!"}},{"$f":"IF(INDIRECT($C$2&$C49&\"!\"&CA$5&$BV$4+3)=\"\",\"★\",INDIRECT($C$2&$C49&\"!\"&CA$5&$BV$4+3))","v":{"$error":"#REF!"}},null,{"$f":"IF(INDIRECT($C$2&$C49&\"!\"&CC$5&$CC$4+3)=\"\",\"★\",INDIRECT($C$2&$C49&\"!\"&CC$5&$CC$4+3))","v":{"$error":"#REF!"}},{"$f":"IF(INDIRECT($C$2&$C49&\"!\"&CD$5&$CC$4+3)=\"\",\"★\",INDIRECT($C$2&$C49&\"!\"&CD$5&$CC$4+3))","v":{"$error":"#REF!"}},{"$f":"IF(INDIRECT($C$2&$C49&\"!\"&CE$5&$CC$4+3)=\"\",\"★\",INDIRECT($C$2&$C49&\"!\"&CE$5&$CC$4+3))","v":{"$error":"#REF!"}},{"$f":"IF(INDIRECT($C$2&$C49&\"!\"&CF$5&$CC$4+3)=\"\",\"★\",INDIRECT($C$2&$C49&\"!\"&CF$5&$CC$4+3))","v":{"$error":"#REF!"}},{"$f":"IF(INDIRECT($C$2&$C49&\"!\"&CG$5&$CC$4+3)=\"\",\"★\",INDIRECT($C$2&$C49&\"!\"&CG$5&$CC$4+3))","v":{"$error":"#REF!"}},{"$f":"IF(INDIRECT($C$2&$C49&\"!\"&CH$5&$CC$4+3)=\"\",\"★\",INDIRECT($C$2&$C49&\"!\"&CH$5&$CC$4+3))","v":{"$error":"#REF!"}},null,null,null,null,{"$f":"IF(INDIRECT($C$2&$C49&\"!\"&CM$5&$CM$4+3)=\"\",\"★\",INDIRECT($C$2&$C49&\"!\"&CM$5&$CM$4+3))","v":{"$error":"#REF!"}},{"$f":"IF(INDIRECT($C$2&$C49&\"!\"&CN$5&$CM$4+3)=\"\",\"★\",INDIRECT($C$2&$C49&\"!\"&CN$5&$CM$4+3))","v":{"$error":"#REF!"}},{"$f":"IF(INDIRECT($C$2&$C49&\"!\"&CO$5&$CM$4+3)=\"\",\"★\",INDIRECT($C$2&$C49&\"!\"&CO$5&$CM$4+3))","v":{"$error":"#REF!"}},{"$f":"IF(INDIRECT($C$2&$C49&\"!\"&CP$5&$CM$4+3)=\"\",\"★\",INDIRECT($C$2&$C49&\"!\"&CP$5&$CM$4+3))","v":{"$error":"#REF!"}},{"$f":"IF(INDIRECT($C$2&$C49&\"!\"&CQ$5&$CM$4+3)=\"\",\"★\",INDIRECT($C$2&$C49&\"!\"&CQ$5&$CM$4+3))","v":{"$error":"#REF!"}},{"$f":"IF(INDIRECT($C$2&$C49&\"!\"&CR$5&$CM$4+3)=\"\",\"★\",INDIRECT($C$2&$C49&\"!\"&CR$5&$CM$4+3))","v":{"$error":"#REF!"}},null,null,null,null,{"$f":"IF(INDIRECT($C$2&$C49&\"!\"&CW$5&$CW$4+3)=\"\",\"★\",INDIRECT($C$2&$C49&\"!\"&CW$5&$CW$4+3))","v":{"$error":"#REF!"}},{"$f":"IF(INDIRECT($C$2&$C49&\"!\"&CX$5&$CW$4+3)=\"\",\"★\",INDIRECT($C$2&$C49&\"!\"&CX$5&$CW$4+3))","v":{"$error":"#REF!"}},{"$f":"IF(INDIRECT($C$2&$C49&\"!\"&CY$5&$CW$4+3)=\"\",\"★\",INDIRECT($C$2&$C49&\"!\"&CY$5&$CW$4+3))","v":{"$error":"#REF!"}},{"$f":"IF(INDIRECT($C$2&$C49&\"!\"&CZ$5&$CW$4+3)=\"\",\"★\",INDIRECT($C$2&$C49&\"!\"&CZ$5&$CW$4+3))","v":{"$error":"#REF!"}},{"$f":"IF(INDIRECT($C$2&$C49&\"!\"&DA$5&$CW$4+3)=\"\",\"★\",INDIRECT($C$2&$C49&\"!\"&DA$5&$CW$4+3))","v":{"$error":"#REF!"}},{"$f":"IF(INDIRECT($C$2&$C49&\"!\"&DB$5&$CW$4+3)=\"\",\"★\",INDIRECT($C$2&$C49&\"!\"&DB$5&$CW$4+3))","v":{"$error":"#REF!"}},null,null,null,null,{"$f":"IF(INDIRECT($C$2&$C49&\"!\"&DG$5&$DG$4+3)=\"\",\"★\",INDIRECT($C$2&$C49&\"!\"&DG$5&$DG$4+3))","v":{"$error":"#REF!"}},{"$f":"IF(INDIRECT($C$2&$C49&\"!\"&DH$5&$DG$4+3)=\"\",\"★\",INDIRECT($C$2&$C49&\"!\"&DH$5&$DG$4+3))","v":{"$error":"#REF!"}},{"$f":"IF(INDIRECT($C$2&$C49&\"!\"&DI$5&$DG$4+3)=\"\",\"★\",INDIRECT($C$2&$C49&\"!\"&DI$5&$DG$4+3))","v":{"$error":"#REF!"}},{"$f":"IF(INDIRECT($C$2&$C49&\"!\"&DJ$5&$DG$4+3)=\"\",\"★\",INDIRECT($C$2&$C49&\"!\"&DJ$5&$DG$4+3))","v":{"$error":"#REF!"}},{"$f":"IF(INDIRECT($C$2&$C49&\"!\"&DK$5&$DG$4+3)=\"\",\"★\",INDIRECT($C$2&$C49&\"!\"&DK$5&$DG$4+3))","v":{"$error":"#REF!"}},{"$f":"IF(INDIRECT($C$2&$C49&\"!\"&DL$5&$DG$4+3)=\"\",\"★\",INDIRECT($C$2&$C49&\"!\"&DL$5&$DG$4+3))","v":{"$error":"#REF!"}}]

{"sheet":"集計用4_別紙2","index":16,"n_rows":83,"n_cols":77,"rows_kept":83,"cut":false,"hidden":true,"merged":[[8,73,8,76],[7,1,7,76],[8,6,8,9],[8,10,8,12],[8,15,8,18],[8,19,8,20],[8,21,8,22],[8,23,8,25],[8,28,8,42],[8,43,8,57],[8,58,8,72]]}
[]
[null,{"$f":"\"'\"&MID(CELL(\"filename\",別紙2_CO2排出量_全体!A1),FIND(\"]\",CELL(\"filename\",別紙2_CO2排出量_全体!A1))+1,LEN(CELL(\"filename\",別紙2_CO2排出量_全体!A1)))&\"'!\"","v":"'別紙2_CO2排出量_全体'!"},null,null,null,null,null,null,null,null,null,null,null,null,{"$f":"MID(CELL(\"address\",別紙2_CO2排出量_全体!D8),FIND(\"!\",CELL(\"address\",別紙2_CO2排出量_全体!D8))+2,1)","v":"D"},{"$f":"MID(CELL(\"address\",別紙2_CO2排出量_全体!E8),FIND(\"!\",CELL(\"address\",別紙2_CO2排出量_全体!E8))+2,1)","v":"E"},{"$f":"MID(CELL(\"address\",別紙2_CO2排出量_全体!F8),FIND(\"!\",CELL(\"address\",別紙2_CO2排出量_全体!F8))+2,1)","v":"F"},{"$f":"MID(CELL(\"address\",別紙2_CO2排出量_全体!G8),FIND(\"!\",CELL(\"address\",別紙2_CO2排出量_全体!G8))+2,1)","v":"G"},{"$f":"MID(CELL(\"address\",別紙2_CO2排出量_全体!H8),FIND(\"!\",CELL(\"address\",別紙2_CO2排出量_全体!H8))+2,1)","v":"H"},{"$f":"MID(CELL(\"address\",別紙2_CO2排出量_全体!I8),FIND(\"!\",CELL(\"address\",別紙2_CO2排出量_全体!I8))+2,1)","v":"I"},{"$f":"MID(CELL(\"address\",別紙2_CO2排出量_全体!J8),FIND(\"!\",CELL(\"address\",別紙2_CO2排出量_全体!J8))+2,1)","v":"J"},{"$f":"MID(CELL(\"address\",別紙2_CO2排出量_全体!K8),FIND(\"!\",CELL(\"address\",別紙2_CO2排出量_全体!K8))+2,1)","v":"K"},{"$f":"MID(CELL(\"address\",別紙2_CO2排出量_全体!L8),FIND(\"!\",CELL(\"address\",別紙2_CO2排出量_全体!L8))+2,1)","v":"L"},{"$f":"MID(CELL(\"address\",別紙2_CO2排出量_全体!M8),FIND(\"!\",CELL(\"address\",別紙2_CO2排出量_全体!M8))+2,1)","v":"M"},{"$f":"MID(CELL(\"address\",別紙2_CO2排出量_全体!N8),FIND(\"!\",CELL(\"address\",別紙2_CO2排出量_全体!N8))+2,1)","v":"N"},{"$f":"MID(CELL(\"address\",別紙2_CO2排出量_全体!O8),FIND(\"!\",CELL(\"address\",別紙2_CO2排出量_全体!O8))+2,1)","v":"O"},{"$f":"MID(CELL(\"address\",別紙2_CO2排出量_全体!P8),FIND(\"!\",CELL(\"address\",別紙2_CO2排出量_全体!P8))+2,1)","v":"P"},{"$f":"MID(CELL(\"address\",別紙2_CO2排出量_全体!Q8),FIND(\"!\",CELL(\"address\",別紙2_CO2排出量_全体!Q8))+2,1)","v":"Q"},{"$f":"MID(CELL(\"address\",別紙2_CO2排出量_全体!R8),FIND(\"!\",CELL(\"address\",別紙2_CO2排出量_全体!R8))+2,1)","v":"R"},{"$f":"MID(CELL(\"address\",別紙2_CO2排出量_全体!S8),FIND(\"!\",CELL(\"address\",別紙2_CO2排出量_全体!S8))+2,1)","v":"S"},{"$f":"MID(CELL(\"address\",別紙2_CO2排出量_全体!T8),FIND(\"!\",CELL(\"address\",別紙2_CO2排出量_全体!T8))+2,1)","v":"T"},{"$f":"MID(CELL(\"address\",別紙2_CO2排出量_全体!U8),FIND(\"!\",CELL(\"address\",別紙2_CO2排出量_全体!U8))+2,1)","v":"U"},{"$f":"MID(CELL(\"address\",別紙2_CO2排出量_全体!V8),FIND(\"!\",CELL(\"address\",別紙2_CO2排出量_全体!V8))+2,1)","v":"V"},{"$f":"MID(CELL(\"address\",別紙2_CO2排出量_全体!W8),FIND(\"!\",CELL(\"address\",別紙2_CO2排出量_全体!W8))+2,1)","v":"W"},{"$f":"MID(CELL(\"address\",別紙2_CO2排出量_全体!X8),FIND(\"!\",CELL(\"address\",別紙2_CO2排出量_全体!X8))+2,1)","v":"X"},{"$f":"MID(CELL(\"address\",別紙2_CO2排出量_全体!Y8),FIND(\"!\",CELL(\"address\",別紙2_CO2排出量_全体!Y8))+2,1)","v":"Y"},{"$f":"MID(CELL(\"address\",別紙2_CO2排出量_全体!Z8),FIND(\"!\",CELL(\"address\",別紙2_CO2排出量_全体!Z8))+2,1)","v":"Z"},{"$f":"MID(CELL(\"address\",別紙2_CO2排出量_全体!AA8),FIND(\"!\",CELL(\"address\",別紙2_CO2排出量_全体!AA8))+2,2)","v":"AA"},{"$f":"MID(CELL(\"address\",別紙2_CO2排出量_全体!AB8),FIND(\"!\",CELL(\"address\",別紙2_CO2排出量_全体!AB8))+2,2)","v":"AB"},{"$f":"MID(CELL(\"address\",別紙2_CO2排出量_全体!AC8),FIND(\"!\",CELL(\"address\",別紙2_CO2排出量_全体!AC8))+2,2)","v":"AC"},{"$f":"MID(CELL(\"address\",別紙2_CO2排出量_全体!AD8),FIND(\"!\",CELL(\"address\",別紙2_CO2排出量_全体!AD8))+2,2)","v":"AD"},{"$f":"MID(CELL(\"address\",別紙2_CO2排出量_全体!AE8),FIND(\"!\",CELL(\"address\",別紙2_CO2排出量_全体!AE8))+2,2)","v":"AE"},{"$f":"MID(CELL(\"address\",別紙2_CO2排出量_全体!AF8),FIND(\"!\",CELL(\"address\",別紙2_CO2排出量_全体!AF8))+2,2)","v":"AF"},{"$f":"MID(CELL(\"address\",別紙2_CO2排出量_全体!AG8),FIND(\"!\",CELL(\"address\",別紙2_CO2排出量_全体!AG8))+2,2)","v":"AG"},{"$f":"MID(CELL(\"address\",別紙2_CO2排出量_全体!AH8),FIND(\"!\",CELL(\"address\",別紙2_CO2排出量_全体!AH8))+2,2)","v":"AH"},{"$f":"MID(CELL(\"address\",別紙2_CO2排出量_全体!AI8),FIND(\"!\",CELL(\"address\",別紙2_CO2排出量_全体!AI8))+2,2)","v":"AI"},{"$f":"MID(CELL(\"address\",別紙2_CO2排出量_全体!AJ8),FIND(\"!\",CELL(\"address\",別紙2_CO2排出量_全体!AJ8))+2,2)","v":"AJ"},{"$f":"MID(CELL(\"address\",別紙2_CO2排出量_全体!AK8),FIND(\"!\",CELL(\"address\",別紙2_CO2排出量_全体!AK8))+2,2)","v":"AK"},{"$f":"MID(CELL(\"address\",別紙2_CO2排出量_全体!AL8),FIND(\"!\",CELL(\"address\",別紙2_CO2排出量_全体!AL8))+2,2)","v":"AL"},{"$f":"MID(CELL(\"address\",別紙2_CO2排出量_全体!AM8),FIND(\"!\",CELL(\"address\",別紙2_CO2排出量_全体!AM8))+2,2)","v":"AM"},{"$f":"MID(CELL(\"address\",別紙2_CO2排出量_全体!AN8),FIND(\"!\",CELL(\"address\",別紙2_CO2排出量_全体!AN8))+2,2)","v":"AN"},{"$f":"MID(CELL(\"address\",別紙2_CO2排出量_全体!AO8),FIND(\"!\",CELL(\"address\",別紙2_CO2排出量_全体!AO8))+2,2)","v":"AO"},{"$f":"MID(CELL(\"address\",別紙2_CO2排出量_全体!AP8),FIND(\"!\",CELL(\"address\",別紙2_CO2排出量_全体!AP8))+2,2)","v":"AP"},{"$f":"MID(CELL(\"address\",別紙2_CO2排出量_全体!AQ8),FIND(\"!\",CELL(\"address\",別紙2_CO2排出量_全体!AQ8))+2,2)","v":"AQ"},{"$f":"MID(CELL(\"address\",別紙2_CO2排出量_全体!AR8),FIND(\"!\",CELL(\"address\",別紙2_CO2排出量_全体!AR8))+2,2)","v":"AR"},{"$f":"MID(CELL(\"address\",別紙2_CO2排出量_全体!AS8),FIND(\"!\",CELL(\"address\",別紙2_CO2排出量_全体!AS8))+2,2)","v":"AS"},{"$f":"MID(CELL(\"address\",別紙2_CO2排出量_全体!AT8),FIND(\"!\",CELL(\"address\",別紙2_CO2排出量_全体!AT8))+2,2)","v":"AT"},{"$f":"MID(CELL(\"address\",別紙2_CO2排出量_全体!AU8),FIND(\"!\",CELL(\"address\",別紙2_CO2排出量_全体!AU8))+2,2)","v":"AU"},{"$f":"MID(CELL(\"address\",別紙2_CO2排出量_全体!AV8),FIND(\"!\",CELL(\"address\",別紙2_CO2排出量_全体!AV8))+2,2)","v":"AV"},{"$f":"MID(CELL(\"address\",別紙2_CO2排出量_全体!AW8),FIND(\"!\",CELL(\"address\",別紙2_CO2排出量_全体!AW8))+2,2)","v":"AW"},{"$f":"MID(CELL(\"address\",別紙2_CO2排出量_全体!AX8),FIND(\"!\",CELL(\"address\",別紙2_CO2排出量_全体!AX8))+2,2)","v":"AX"},{"$f":"MID(CELL(\"address\",別紙2_CO2排出量_全体!AY8),FIND(\"!\",CELL(\"address\",別紙2_CO2排出量_全体!AY8))+2,2)","v":"AY"},{"$f":"MID(CELL(\"address\",別紙2_CO2排出量_全体!AZ8),FIND(\"!\",CELL(\"address\",別紙2_CO2排出量_全体!AZ8))+2,2)","v":"AZ"},{"$f":"MID(CELL(\"address\",別紙2_CO2排出量_全体!BA8),FIND(\"!\",CELL(\"address\",別紙2_CO2排出量_全体!BA8))+2,2)","v":"BA"},{"$f":"MID(CELL(\"address\",別紙2_CO2排出量_全体!BB8),FIND(\"!\",CELL(\"address\",別紙2_CO2排出量_全体!BB8))+2,2)","v":"BB"},{"$f":"MID(CELL(\"address\",別紙2_CO2排出量_全体!BC8),FIND(\"!\",CELL(\"address\",別紙2_CO2排出量_全体!BC8))+2,2)","v":"BC"},{"$f":"MID(CELL(\"address\",別紙2_CO2排出量_全体!BD8),FIND(\"!\",CELL(\"address\",別紙2_CO2排出量_全体!BD8))+2,2)","v":"BD"},{"$f":"MID(CELL(\"address\",別紙2_CO2排出量_全体!BE8),FIND(\"!\",CELL(\"address\",別紙2_CO2排出量_全体!BE8))+2,2)","v":"BE"},{"$f":"MID(CELL(\"address\",別紙2_CO2排出量_全体!BF8),FIND(\"!\",CELL(\"address\",別紙2_CO2排出量_全体!BF8))+2,2)","v":"BF"},{"$f":"MID(CELL(\"address\",別紙2_CO2排出量_全体!BG8),FIND(\"!\",CELL(\"address\",別紙2_CO2排出量_全体!BG8))+2,2)","v":"BG"},{"$f":"MID(CELL(\"address\",別紙2_CO2排出量_全体!BH8),FIND(\"!\",CELL(\"address\",別紙2_CO2排出量_全体!BH8))+2,2)","v":"BH"},{"$f":"MID(CELL(\"address\",別紙2_CO2排出量_全体!BI8),FIND(\"!\",CELL(\"address\",別紙2_CO2排出量_全体!BI8))+2,2)","v":"BI"},{"$f":"MID(CELL(\"address\",別紙2_CO2排出量_全体!BJ8),FIND(\"!\",CELL(\"address\",別紙2_CO2排出量_全体!BJ8))+2,2)","v":"BJ"},{"$f":"MID(CELL(\"address\",別紙2_CO2排出量_全体!BK8),FIND(\"!\",CELL(\"address\",別紙2_CO2排出量_全体!BK8))+2,2)","v":"BK"},{"$f":"MID(CELL(\"address\",別紙2_CO2排出量_全体!BL8),FIND(\"!\",CELL(\"address\",別紙2_CO2排出量_全体!BL8))+2,2)","v":"BL"},{"$f":"MID(CELL(\"address\",別紙2_CO2排出量_全体!BM8),FIND(\"!\",CELL(\"address\",別紙2_CO2排出量_全体!BM8))+2,2)","v":"BM"},{"$f":"MID(CELL(\"address\",別紙2_CO2排出量_全体!BN8),FIND(\"!\",CELL(\"address\",別紙2_CO2排出量_全体!BN8))+2,2)","v":"BN"}]
[]
[]
[]
[null,"別紙2_CO2排出量_全体"]
[]
[null,"工場・事業場全体のエネルギー起源CO2排出量等の推移"]
[null,null,null,null,null,null,"エネルギー起源CO2排出量等",null,null,null,"CO2排出量",null,null,null,null,"活動量",null,null,null,"単位発熱量",null,"CO2排出係数",null,"CO2排出量[t-CO2]",null,null,null,"活動量",{"$f":"\"事業報告年度1:\"&H11","v":"事業報告年度1:令和6年度"},null,null,null,null,null,null,null,null,null,null,null,null,null,null,{"$f":"\"事業報告年度2:\"&I11","v":"事業報告年度2:令和7年度"},null,null,null,null,null,null,null,null,null,null,null,null,null,null,{"$f":"\"事業報告年度3:\"&J11","v":"事業報告年度3:令和8年度"},null,null,null,null,null,null,null,null,null,null,null,null,null,null,"GJ換算量"]
[null,"事業者名（法人名）","工場・事業場名",null,null,null,"基準年度","事業報告年度1","事業報告年度2","事業報告年度3","事業報告年度1","事業報告年度2","事業報告年度3",null,"活動種別","事業報告年度1","事業報告年度2","事業報告年度3","単位","係数","単位","係数","単位","事業報告年度1","事業報告年度2","事業報告年度3","備考","把握対象","年度開始\n時点の\n在庫量","４月","５月","６月","７月","８月","９月","１０月","１１月","１２月","１月","２月","３月","年度終了\n時点の\n在庫量","製品中への注入量","年度開始\n時点の\n在庫量","４月","５月","６月","７月","８月","９月","１０月","１１月","１２月","１月","２月","３月","年度終了\n時点の\n在庫量","製品中への注入量","年度開始\n時点の\n在庫量","４月","５月","６月","７月","８月","９月","１０月","１１月","１２月","１月","２月","３月","年度終了\n時点の\n在庫量","製品中への注入量","対象","事業報告年度1","事業報告年度2","事業報告年度3"]
[30,{"$f":"IF(INDIRECT($B$2&$O$2&\"8\")=\"\",\"★\",INDIRECT($B$2&$O$2&\"8\"))","v":"○○株式会社"},{"$f":"IF(INDIRECT($B$2&$O$2&\"9\")=\"\",\"★\",INDIRECT($B$2&$O$2&\"9\"))","v":"○○工場"},null,1,"事業報告年度",null,{"$f":"IF(INDIRECT($B$2&$P$2&\"14\")=\"\",\"★\",INDIRECT($B$2&$P$2&\"14\"))","v":"令和6年度"},{"$f":"IF(INDIRECT($B$2&$Q$2&\"14\")=\"\",\"★\",INDIRECT($B$2&$Q$2&\"14\"))","v":"令和7年度"},{"$f":"IF(INDIRECT($B$2&$R$2&\"14\")=\"\",\"★\",INDIRECT($B$2&$R$2&\"14\"))","v":"令和8年度"},null,null,null,1,{"$f":"IF(INDIRECT($B$2&$O$2&$A11)=\"\",\"★\",INDIRECT($B$2&$O$2&$A11))","v":"系統電力"},{"$f":"IF(INDIRECT($B$2&$P$2&$A11)=\"\",\"★\",INDIRECT($B$2&$P$2&$A11))","v":319899.96000000014},{"$f":"IF(INDIRECT($B$2&$Q$2&$A11)=\"\",\"★\",INDIRECT($B$2&$Q$2&$A11))","v":0},{"$f":"IF(INDIRECT($B$2&$R$2&$A11)=\"\",\"★\",INDIRECT($B$2&$R$2&$A11))","v":0},{"$f":"IF(INDIRECT($B$2&$S$2&$A11)=\"\",\"★\",INDIRECT($B$2&$S$2&$A11))","v":"kWh"},{"$f":"IF(INDIRECT($B$2&$T$2&$A11)=\"\",\"★\",INDIRECT($B$2&$T$2&$A11))","v":"★"},{"$f":"IF(INDIRECT($B$2&$U$2&$A11)=\"\",\"★\",INDIRECT($B$2&$U$2&$A11))","v":"---"},{"$f":"IF(INDIRECT($B$2&$V$2&$A11)=\"\",\"★\",INDIRECT($B$2&$V$2&$A11))","v":4.3600000000000003E-4},{"$f":"IF(INDIRECT($B$2&$W$2&$A11)=\"\",\"★\",INDIRECT($B$2&$W$2&$A11))","v":"t-CO2/kWh"},{"$f":"IF(INDIRECT($B$2&$X$2&$A11)=\"\",\"★\",INDIRECT($B$2&$X$2&$A11))","v":139.47638256000008},{"$f":"IF(INDIRECT($B$2&$Y$2&$A11)=\"\",\"★\",INDIRECT($B$2&$Y$2&$A11))","v":0},{"$f":"IF(INDIRECT($B$2&$Z$2&$A11)=\"\",\"★\",INDIRECT($B$2&$Z$2&$A11))","v":0},{"$f":"IF(INDIRECT($B$2&$AA$2&$A11)=\"\",\"★\",INDIRECT($B$2&$AA$2&$A11))","v":"★"},{"$f":"IF(INDIRECT($B$2&$AB$2&$A11)=\"\",\"★\",INDIRECT($B$2&$AB$2&$A11))","v":"使用量"},{"$f":"IF(INDIRECT($B$2&AC$2&$A11)=\"\",\"★\",INDIRECT($B$2&AC$2&$A11))","v":"★"},{"$f":"IF(INDIRECT($B$2&AD$2&$A11)=\"\",\"★\",INDIRECT($B$2&AD$2&$A11))","v":26658.33},{"$f":"IF(INDIRECT($B$2&AE$2&$A11)=\"\",\"★\",INDIRECT($B$2&AE$2&$A11))","v":26658.33},{"$f":"IF(INDIRECT($B$2&AF$2&$A11)=\"\",\"★\",INDIRECT($B$2&AF$2&$A11))","v":26658.33},{"$f":"IF(INDIRECT($B$2&AG$2&$A11)=\"\",\"★\",INDIRECT($B$2&AG$2&$A11))","v":26658.33},{"$f":"IF(INDIRECT($B$2&AH$2&$A11)=\"\",\"★\",INDIRECT($B$2&AH$2&$A11))","v":26658.33},{"$f":"IF(INDIRECT($B$2&AI$2&$A11)=\"\",\"★\",INDIRECT($B$2&AI$2&$A11))","v":26658.33},{"$f":"IF(INDIRECT($B$2&AJ$2&$A11)=\"\",\"★\",INDIRECT($B$2&AJ$2&$A11))","v":26658.33},{"$f":"IF(INDIRECT($B$2&AK$2&$A11)=\"\",\"★\",INDIRECT($B$2&AK$2&$A11))","v":26658.33},{"$f":"IF(INDIRECT($B$2&AL$2&$A11)=\"\",\"★\",INDIRECT($B$2&AL$2&$A11))","v":26658.33},{"$f":"IF(INDIRECT($B$2&AM$2&$A11)=\"\",\"★\",INDIRECT($B$2&AM$2&$A11))","v":26658.33},{"$f":"IF(INDIRECT($B$2&AN$2&$A11)=\"\",\"★\",INDIRECT($B$2&AN$2&$A11))","v":26658.33},{"$f":"IF(INDIRECT($B$2&AO$2&$A11)=\"\",\"★\",INDIRECT($B$2&AO$2&$A11))","v":26658.33},{"$f":"IF(INDIRECT($B$2&AP$2&$A11)=\"\",\"★\",INDIRECT($B$2&AP$2&$A11))","v":"★"},{"$f":"IF(INDIRECT($B$2&AQ$2&$A11)=\"\",\"★\",INDIRECT($B$2&AQ$2&$A11))","v":"★"},{"$f":"IF(INDIRECT($B$2&AR$2&$A11)=\"\",\"★\",INDIRECT($B$2&AR$2&$A11))","v":0},{"$f":"IF(INDIRECT($B$2&AS$2&$A11)=\"\",\"★\",INDIRECT($B$2&AS$2&$A11))","v":"★"},{"$f":"IF(INDIRECT($B$2&AT$2&$A11)=\"\",\"★\",INDIRECT($B$2&AT$2&$A11))","v":"★"},{"$f":"IF(INDIRECT($B$2&AU$2&$A11)=\"\",\"★\",INDIRECT($B$2&AU$2&$A11))","v":"★"},{"$f":"IF(INDIRECT($B$2&AV$2&$A11)=\"\",\"★\",INDIRECT($B$2&AV$2&$A11))","v":"★"},{"$f":"IF(INDIRECT($B$2&AW$2&$A11)=\"\",\"★\",INDIRECT($B$2&AW$2&$A11))","v":"★"},{"$f":"IF(INDIRECT($B$2&AX$2&$A11)=\"\",\"★\",INDIRECT($B$2&AX$2&$A11))","v":"★"},{"$f":"IF(INDIRECT($B$2&AY$2&$A11)=\"\",\"★\",INDIRECT($B$2&AY$2&$A11))","v":"★"},{"$f":"IF(INDIRECT($B$2&AZ$2&$A11)=\"\",\"★\",INDIRECT($B$2&AZ$2&$A11))","v":"★"},{"$f":"IF(INDIRECT($B$2&BA$2&$A11)=\"\",\"★\",INDIRECT($B$2&BA$2&$A11))","v":"★"},{"$f":"IF(INDIRECT($B$2&BB$2&$A11)=\"\",\"★\",INDIRECT($B$2&BB$2&$A11))","v":"★"},{"$f":"IF(INDIRECT($B$2&BC$2&$A11)=\"\",\"★\",INDIRECT($B$2&BC$2&$A11))","v":"★"},{"$f":"IF(INDIRECT($B$2&BD$2&$A11)=\"\",\"★\",INDIRECT($B$2&BD$2&$A11))","v":"★"},{"$f":"IF(INDIRECT($B$2&BE$2&$A11)=\"\",\"★\",INDIRECT($B$2&BE$2&$A11))","v":"★"},{"$f":"IF(INDIRECT($B$2&BF$2&$A11)=\"\",\"★\",INDIRECT($B$2&BF$2&$A11))","v":"★"},{"$f":"IF(INDIRECT($B$2&BG$2&$A11)=\"\",\"★\",INDIRECT($B$2&BG$2&$A11))","v":0},{"$f":"IF(INDIRECT($B$2&BH$2&$A11)=\"\",\"★\",INDIRECT($B$2&BH$2&$A11))","v":"★"},{"$f":"IF(INDIRECT($B$2&BI$2&$A11)=\"\",\"★\",INDIRECT($B$2&BI$2&$A11))","v":"★"},{"$f":"IF(INDIRECT($B$2&BJ$2&$A11)=\"\",\"★\",INDIRECT($B$2&BJ$2&$A11))","v":"★"},{"$f":"IF(INDIRECT($B$2&BK$2&$A11)=\"\",\"★\",INDIRECT($B$2&BK$2&$A11))","v":"★"},{"$f":"IF(INDIRECT($B$2&BL$2&$A11)=\"\",\"★\",INDIRECT($B$2&BL$2&$A11))","v":"★"},{"$f":"IF(INDIRECT($B$2&BM$2&$A11)=\"\",\"★\",INDIRECT($B$2&BM$2&$A11))","v":"★"},{"$f":"IF(INDIRECT($B$2&BN$2&$A11)=\"\",\"★\",INDIRECT($B$2&BN$2&$A11))","v":"★"},{"$f":"IF(INDIRECT($B$2&BO$2&$A11)=\"\",\"★\",INDIRECT($B$2&BO$2&$A11))","v":"★"},{"$f":"IF(INDIRECT($B$2&BP$2&$A11)=\"\",\"★\",INDIRECT($B$2&BP$2&$A11))","v":"★"},{"$f":"IF(INDIRECT($B$2&BQ$2&$A11)=\"\",\"★\",INDIRECT($B$2&BQ$2&$A11))","v":"★"},{"$f":"IF(INDIRECT($B$2&BR$2&$A11)=\"\",\"★\",INDIRECT($B$2&BR$2&$A11))","v":"★"},{"$f":"IF(INDIRECT($B$2&BS$2&$A11)=\"\",\"★\",INDIRECT($B$2&BS$2&$A11))","v":"★"},{"$f":"IF(INDIRECT($B$2&BT$2&$A11)=\"\",\"★\",INDIRECT($B$2&BT$2&$A11))","v":"★"},{"$f":"IF(INDIRECT($B$2&BU$2&$A11)=\"\",\"★\",INDIRECT($B$2&BU$2&$A11))","v":"★"},{"$f":"IF(INDIRECT($B$2&BV$2&$A11)=\"\",\"★\",INDIRECT($B$2&BV$2&$A11))","v":"対象"},{"$f":"IF(INDIRECT($B$2&BW$2&$A11)=\"\",\"★\",INDIRECT($B$2&BW$2&$A11))","v":3122.2236096000011},{"$f":"IF(INDIRECT($B$2&BX$2&$A11)=\"\",\"★\",INDIRECT($B$2&BX$2&$A11))","v":0},{"$f":"IF(INDIRECT($B$2&BY$2&$A11)=\"\",\"★\",INDIRECT($B$2&BY$2&$A11))","v":0}]
[{"$f":"A11+1","v":31},null,null,null,2,"CO2排出量(t-CO2)",{"$f":"IF(INDIRECT($B$2&$O$2&\"15\")=\"\",\"★\",INDIRECT($B$2&$O$2&\"15\"))","v":500.26612},{"$f":"IF(INDIRECT($B$2&$P$2&\"15\")=\"\",\"★\",INDIRECT($B$2&$P$2&\"15\"))","v":391.16444256000011},{"$f":"IF(INDIRECT($B$2&$Q$2&\"15\")=\"\",\"★\",INDIRECT($B$2&$Q$2&\"15\"))","v":0},{"$f":"IF(INDIRECT($B$2&$R$2&\"15\")=\"\",\"★\",INDIRECT($B$2&$R$2&\"15\"))","v":0},{"$f":"IF(INDIRECT($B$2&$X$2&\"55\")=\"\",\"★\",INDIRECT($B$2&$X$2&\"55\"))","v":391.16444256000011},{"$f":"IF(INDIRECT($B$2&$Y$2&\"55\")=\"\",\"★\",INDIRECT($B$2&$Y$2&\"55\"))","v":0},{"$f":"IF(INDIRECT($B$2&$Z$2&\"55\")=\"\",\"★\",INDIRECT($B$2&$Z$2&\"55\"))","v":0},2,{"$f":"IF(INDIRECT($B$2&$O$2&$A12)=\"\",\"★\",INDIRECT($B$2&$O$2&$A12))","v":"都市ガス"},{"$f":"IF(INDIRECT($B$2&$P$2&$A12)=\"\",\"★\",INDIRECT($B$2&$P$2&$A12))","v":111},{"$f":"IF(INDIRECT($B$2&$Q$2&$A12)=\"\",\"★\",INDIRECT($B$2&$Q$2&$A12))","v":0},{"$f":"IF(INDIRECT($B$2&$R$2&$A12)=\"\",\"★\",INDIRECT($B$2&$R$2&$A12))","v":0},{"$f":"IF(INDIRECT($B$2&$S$2&$A12)=\"\",\"★\",INDIRECT($B$2&$S$2&$A12))","v":"千Nm3"},{"$f":"IF(INDIRECT($B$2&$T$2&$A12)=\"\",\"★\",INDIRECT($B$2&$T$2&$A12))","v":44.2},{"$f":"IF(INDIRECT($B$2&$U$2&$A12)=\"\",\"★\",INDIRECT($B$2&$U$2&$A12))","v":"GJ/千Nm3"},{"$f":"IF(INDIRECT($B$2&$V$2&$A12)=\"\",\"★\",INDIRECT($B$2&$V$2&$A12))","v":5.1299999999999998E-2},{"$f":"IF(INDIRECT($B$2&$W$2&$A12)=\"\",\"★\",INDIRECT($B$2&$W$2&$A12))","v":"t-CO2/GJ"},{"$f":"IF(INDIRECT($B$2&$X$2&$A12)=\"\",\"★\",INDIRECT($B$2&$X$2&$A12))","v":251.68806000000004},{"$f":"IF(INDIRECT($B$2&$Y$2&$A12)=\"\",\"★\",INDIRECT($B$2&$Y$2&$A12))","v":0},{"$f":"IF(INDIRECT($B$2&$Z$2&$A12)=\"\",\"★\",INDIRECT($B$2&$Z$2&$A12))","v":0},{"$f":"IF(INDIRECT($B$2&$AA$2&$A12)=\"\",\"★\",INDIRECT($B$2&$AA$2&$A12))","v":"★"},{"$f":"IF(INDIRECT($B$2&$AB$2&$A12)=\"\",\"★\",INDIRECT($B$2&$AB$2&$A12))","v":"使用量"},{"$f":"IF(INDIRECT($B$2&AC$2&$A12)=\"\",\"★\",INDIRECT($B$2&AC$2&$A12))","v":"★"},{"$f":"IF(INDIRECT($B$2&AD$2&$A12)=\"\",\"★\",INDIRECT($B$2&AD$2&$A12))","v":9.25},{"$f":"IF(INDIRECT($B$2&AE$2&$A12)=\"\",\"★\",INDIRECT($B$2&AE$2&$A12))","v":9.25},{"$f":"IF(INDIRECT($B$2&AF$2&$A12)=\"\",\"★\",INDIRECT($B$2&AF$2&$A12))","v":9.25},{"$f":"IF(INDIRECT($B$2&AG$2&$A12)=\"\",\"★\",INDIRECT($B$2&AG$2&$A12))","v":9.25},{"$f":"IF(INDIRECT($B$2&AH$2&$A12)=\"\",\"★\",INDIRECT($B$2&AH$2&$A12))","v":9.25},{"$f":"IF(INDIRECT($B$2&AI$2&$A12)=\"\",\"★\",INDIRECT($B$2&AI$2&$A12))","v":9.25},{"$f":"IF(INDIRECT($B$2&AJ$2&$A12)=\"\",\"★\",INDIRECT($B$2&AJ$2&$A12))","v":9.25},{"$f":"IF(INDIRECT($B$2&AK$2&$A12)=\"\",\"★\",INDIRECT($B$2&AK$2&$A12))","v":9.25},{"$f":"IF(INDIRECT($B$2&AL$2&$A12)=\"\",\"★\",INDIRECT($B$2&AL$2&$A12))","v":9.25},{"$f":"IF(INDIRECT($B$2&AM$2&$A12)=\"\",\"★\",INDIRECT($B$2&AM$2&$A12))","v":9.25},{"$f":"IF(INDIRECT($B$2&AN$2&$A12)=\"\",\"★\",INDIRECT($B$2&AN$2&$A12))","v":9.25},{"$f":"IF(INDIRECT($B$2&AO$2&$A12)=\"\",\"★\",INDIRECT($B$2&AO$2&$A12))","v":9.25},{"$f":"IF(INDIRECT($B$2&AP$2&$A12)=\"\",\"★\",INDIRECT($B$2&AP$2&$A12))","v":"★"},{"$f":"IF(INDIRECT($B$2&AQ$2&$A12)=\"\",\"★\",INDIRECT($B$2&AQ$2&$A12))","v":"★"},{"$f":"IF(INDIRECT($B$2&AR$2&$A12)=\"\",\"★\",INDIRECT($B$2&AR$2&$A12))","v":0},{"$f":"IF(INDIRECT($B$2&AS$2&$A12)=\"\",\"★\",INDIRECT($B$2&AS$2&$A12))","v":"★"},{"$f":"IF(INDIRECT($B$2&AT$2&$A12)=\"\",\"★\",INDIRECT($B$2&AT$2&$A12))","v":"★"},{"$f":"IF(INDIRECT($B$2&AU$2&$A12)=\"\",\"★\",INDIRECT($B$2&AU$2&$A12))","v":"★"},{"$f":"IF(INDIRECT($B$2&AV$2&$A12)=\"\",\"★\",INDIRECT($B$2&AV$2&$A12))","v":"★"},{"$f":"IF(INDIRECT($B$2&AW$2&$A12)=\"\",\"★\",INDIRECT($B$2&AW$2&$A12))","v":"★"},{"$f":"IF(INDIRECT($B$2&AX$2&$A12)=\"\",\"★\",INDIRECT($B$2&AX$2&$A12))","v":"★"},{"$f":"IF(INDIRECT($B$2&AY$2&$A12)=\"\",\"★\",INDIRECT($B$2&AY$2&$A12))","v":"★"},{"$f":"IF(INDIRECT($B$2&AZ$2&$A12)=\"\",\"★\",INDIRECT($B$2&AZ$2&$A12))","v":"★"},{"$f":"IF(INDIRECT($B$2&BA$2&$A12)=\"\",\"★\",INDIRECT($B$2&BA$2&$A12))","v":"★"},{"$f":"IF(INDIRECT($B$2&BB$2&$A12)=\"\",\"★\",INDIRECT($B$2&BB$2&$A12))","v":"★"},{"$f":"IF(INDIRECT($B$2&BC$2&$A12)=\"\",\"★\",INDIRECT($B$2&BC$2&$A12))","v":"★"},{"$f":"IF(INDIRECT($B$2&BD$2&$A12)=\"\",\"★\",INDIRECT($B$2&BD$2&$A12))","v":"★"},{"$f":"IF(INDIRECT($B$2&BE$2&$A12)=\"\",\"★\",INDIRECT($B$2&BE$2&$A12))","v":"★"},{"$f":"IF(INDIRECT($B$2&BF$2&$A12)=\"\",\"★\",INDIRECT($B$2&BF$2&$A12))","v":"★"},{"$f":"IF(INDIRECT($B$2&BG$2&$A12)=\"\",\"★\",INDIRECT($B$2&BG$2&$A12))","v":0},{"$f":"IF(INDIRECT($B$2&BH$2&$A12)=\"\",\"★\",INDIRECT($B$2&BH$2&$A12))","v":"★"},{"$f":"IF(INDIRECT($B$2&BI$2&$A12)=\"\",\"★\",INDIRECT($B$2&BI$2&$A12))","v":"★"},{"$f":"IF(INDIRECT($B$2&BJ$2&$A12)=\"\",\"★\",INDIRECT($B$2&BJ$2&$A12))","v":"★"},{"$f":"IF(INDIRECT($B$2&BK$2&$A12)=\"\",\"★\",INDIRECT($B$2&BK$2&$A12))","v":"★"},{"$f":"IF(INDIRECT($B$2&BL$2&$A12)=\"\",\"★\",INDIRECT($B$2&BL$2&$A12))","v":"★"},{"$f":"IF(INDIRECT($B$2&BM$2&$A12)=\"\",\"★\",INDIRECT($B$2&BM$2&$A12))","v":"★"},{"$f":"IF(INDIRECT($B$2&BN$2&$A12)=\"\",\"★\",INDIRECT($B$2&BN$2&$A12))","v":"★"},{"$f":"IF(INDIRECT($B$2&BO$2&$A12)=\"\",\"★\",INDIRECT($B$2&BO$2&$A12))","v":"★"},{"$f":"IF(INDIRECT($B$2&BP$2&$A12)=\"\",\"★\",INDIRECT($B$2&BP$2&$A12))","v":"★"},{"$f":"IF(INDIRECT($B$2&BQ$2&$A12)=\"\",\"★\",INDIRECT($B$2&BQ$2&$A12))","v":"★"},{"$f":"IF(INDIRECT($B$2&BR$2&$A12)=\"\",\"★\",INDIRECT($B$2&BR$2&$A12))","v":"★"},{"$f":"IF(INDIRECT($B$2&BS$2&$A12)=\"\",\"★\",INDIRECT($B$2&BS$2&$A12))","v":"★"},{"$f":"IF(INDIRECT($B$2&BT$2&$A12)=\"\",\"★\",INDIRECT($B$2&BT$2&$A12))","v":"★"},{"$f":"IF(INDIRECT($B$2&BU$2&$A12)=\"\",\"★\",INDIRECT($B$2&BU$2&$A12))","v":"★"},{"$f":"IF(INDIRECT($B$2&BV$2&$A12)=\"\",\"★\",INDIRECT($B$2&BV$2&$A12))","v":"対象"},{"$f":"IF(INDIRECT($B$2&BW$2&$A12)=\"\",\"★\",INDIRECT($B$2&BW$2&$A12))","v":4906.2000000000007},{"$f":"IF(INDIRECT($B$2&BX$2&$A12)=\"\",\"★\",INDIRECT($B$2&BX$2&$A12))","v":0},{"$f":"IF(INDIRECT($B$2&BY$2&$A12)=\"\",\"★\",INDIRECT($B$2&BY$2&$A12))","v":0}]
[{"$f":"A12+1","v":32},null,null,null,3,"エネルギー使用量(GJ)",{"$f":"IF(INDIRECT($B$2&$O$2&\"16\")=\"\",\"★\",INDIRECT($B$2&$O$2&\"16\"))","v":8218.1239999999998},{"$f":"IF(INDIRECT($B$2&$P$2&\"16\")=\"\",\"★\",INDIRECT($B$2&$P$2&\"16\"))","v":8028.4236096000022},{"$f":"IF(INDIRECT($B$2&$Q$2&\"16\")=\"\",\"★\",INDIRECT($B$2&$Q$2&\"16\"))","v":0},{"$f":"IF(INDIRECT($B$2&$R$2&\"16\")=\"\",\"★\",INDIRECT($B$2&$R$2&\"16\"))","v":0},null,null,null,3,{"$f":"IF(INDIRECT($B$2&$O$2&$A13)=\"\",\"★\",INDIRECT($B$2&$O$2&$A13))","v":"★"},{"$f":"IF(INDIRECT($B$2&$P$2&$A13)=\"\",\"★\",INDIRECT($B$2&$P$2&$A13))","v":0},{"$f":"IF(INDIRECT($B$2&$Q$2&$A13)=\"\",\"★\",INDIRECT($B$2&$Q$2&$A13))","v":0},{"$f":"IF(INDIRECT($B$2&$R$2&$A13)=\"\",\"★\",INDIRECT($B$2&$R$2&$A13))","v":0},{"$f":"IF(INDIRECT($B$2&$S$2&$A13)=\"\",\"★\",INDIRECT($B$2&$S$2&$A13))","v":"★"},{"$f":"IF(INDIRECT($B$2&$T$2&$A13)=\"\",\"★\",INDIRECT($B$2&$T$2&$A13))","v":"★"},{"$f":"IF(INDIRECT($B$2&$U$2&$A13)=\"\",\"★\",INDIRECT($B$2&$U$2&$A13))","v":"★"},{"$f":"IF(INDIRECT($B$2&$V$2&$A13)=\"\",\"★\",INDIRECT($B$2&$V$2&$A13))","v":"★"},{"$f":"IF(INDIRECT($B$2&$W$2&$A13)=\"\",\"★\",INDIRECT($B$2&$W$2&$A13))","v":"★"},{"$f":"IF(INDIRECT($B$2&$X$2&$A13)=\"\",\"★\",INDIRECT($B$2&$X$2&$A13))","v":"★"},{"$f":"IF(INDIRECT($B$2&$Y$2&$A13)=\"\",\"★\",INDIRECT($B$2&$Y$2&$A13))","v":"★"},{"$f":"IF(INDIRECT($B$2&$Z$2&$A13)=\"\",\"★\",INDIRECT($B$2&$Z$2&$A13))","v":"★"},{"$f":"IF(INDIRECT($B$2&$AA$2&$A13)=\"\",\"★\",INDIRECT($B$2&$AA$2&$A13))","v":"★"},{"$f":"IF(INDIRECT($B$2&$AB$2&$A13)=\"\",\"★\",INDIRECT($B$2&$AB$2&$A13))","v":"★"},{"$f":"IF(INDIRECT($B$2&AC$2&$A13)=\"\",\"★\",INDIRECT($B$2&AC$2&$A13))","v":"★"},{"$f":"IF(INDIRECT($B$2&AD$2&$A13)=\"\",\"★\",INDIRECT($B$2&AD$2&$A13))","v":"★"},{"$f":"IF(INDIRECT($B$2&AE$2&$A13)=\"\",\"★\",INDIRECT($B$2&AE$2&$A13))","v":"★"},{"$f":"IF(INDIRECT($B$2&AF$2&$A13)=\"\",\"★\",INDIRECT($B$2&AF$2&$A13))","v":"★"},{"$f":"IF(INDIRECT($B$2&AG$2&$A13)=\"\",\"★\",INDIRECT($B$2&AG$2&$A13))","v":"★"},{"$f":"IF(INDIRECT($B$2&AH$2&$A13)=\"\",\"★\",INDIRECT($B$2&AH$2&$A13))","v":"★"},{"$f":"IF(INDIRECT($B$2&AI$2&$A13)=\"\",\"★\",INDIRECT($B$2&AI$2&$A13))","v":"★"},{"$f":"IF(INDIRECT($B$2&AJ$2&$A13)=\"\",\"★\",INDIRECT($B$2&AJ$2&$A13))","v":"★"},{"$f":"IF(INDIRECT($B$2&AK$2&$A13)=\"\",\"★\",INDIRECT($B$2&AK$2&$A13))","v":"★"},{"$f":"IF(INDIRECT($B$2&AL$2&$A13)=\"\",\"★\",INDIRECT($B$2&AL$2&$A13))","v":"★"},{"$f":"IF(INDIRECT($B$2&AM$2&$A13)=\"\",\"★\",INDIRECT($B$2&AM$2&$A13))","v":"★"},{"$f":"IF(INDIRECT($B$2&AN$2&$A13)=\"\",\"★\",INDIRECT($B$2&AN$2&$A13))","v":"★"},{"$f":"IF(INDIRECT($B$2&AO$2&$A13)=\"\",\"★\",INDIRECT($B$2&AO$2&$A13))","v":"★"},{"$f":"IF(INDIRECT($B$2&AP$2&$A13)=\"\",\"★\",INDIRECT($B$2&AP$2&$A13))","v":"★"},{"$f":"IF(INDIRECT($B$2&AQ$2&$A13)=\"\",\"★\",INDIRECT($B$2&AQ$2&$A13))","v":"★"},{"$f":"IF(INDIRECT($B$2&AR$2&$A13)=\"\",\"★\",INDIRECT($B$2&AR$2&$A13))","v":0},{"$f":"IF(INDIRECT($B$2&AS$2&$A13)=\"\",\"★\",INDIRECT($B$2&AS$2&$A13))","v":"★"},{"$f":"IF(INDIRECT($B$2&AT$2&$A13)=\"\",\"★\",INDIRECT($B$2&AT$2&$A13))","v":"★"},{"$f":"IF(INDIRECT($B$2&AU$2&$A13)=\"\",\"★\",INDIRECT($B$2&AU$2&$A13))","v":"★"},{"$f":"IF(INDIRECT($B$2&AV$2&$A13)=\"\",\"★\",INDIRECT($B$2&AV$2&$A13))","v":"★"},{"$f":"IF(INDIRECT($B$2&AW$2&$A13)=\"\",\"★\",INDIRECT($B$2&AW$2&$A13))","v":"★"},{"$f":"IF(INDIRECT($B$2&AX$2&$A13)=\"\",\"★\",INDIRECT($B$2&AX$2&$A13))","v":"★"},{"$f":"IF(INDIRECT($B$2&AY$2&$A13)=\"\",\"★\",INDIRECT($B$2&AY$2&$A13))","v":"★"},{"$f":"IF(INDIRECT($B$2&AZ$2&$A13)=\"\",\"★\",INDIRECT($B$2&AZ$2&$A13))","v":"★"},{"$f":"IF(INDIRECT($B$2&BA$2&$A13)=\"\",\"★\",INDIRECT($B$2&BA$2&$A13))","v":"★"},{"$f":"IF(INDIRECT($B$2&BB$2&$A13)=\"\",\"★\",INDIRECT($B$2&BB$2&$A13))","v":"★"},{"$f":"IF(INDIRECT($B$2&BC$2&$A13)=\"\",\"★\",INDIRECT($B$2&BC$2&$A13))","v":"★"},{"$f":"IF(INDIRECT($B$2&BD$2&$A13)=\"\",\"★\",INDIRECT($B$2&BD$2&$A13))","v":"★"},{"$f":"IF(INDIRECT($B$2&BE$2&$A13)=\"\",\"★\",INDIRECT($B$2&BE$2&$A13))","v":"★"},{"$f":"IF(INDIRECT($B$2&BF$2&$A13)=\"\",\"★\",INDIRECT($B$2&BF$2&$A13))","v":"★"},{"$f":"IF(INDIRECT($B$2&BG$2&$A13)=\"\",\"★\",INDIRECT($B$2&BG$2&$A13))","v":0},{"$f":"IF(INDIRECT($B$2&BH$2&$A13)=\"\",\"★\",INDIRECT($B$2&BH$2&$A13))","v":"★"},{"$f":"IF(INDIRECT($B$2&BI$2&$A13)=\"\",\"★\",INDIRECT($B$2&BI$2&$A13))","v":"★"},{"$f":"IF(INDIRECT($B$2&BJ$2&$A13)=\"\",\"★\",INDIRECT($B$2&BJ$2&$A13))","v":"★"},{"$f":"IF(INDIRECT($B$2&BK$2&$A13)=\"\",\"★\",INDIRECT($B$2&BK$2&$A13))","v":"★"},{"$f":"IF(INDIRECT($B$2&BL$2&$A13)=\"\",\"★\",INDIRECT($B$2&BL$2&$A13))","v":"★"},{"$f":"IF(INDIRECT($B$2&BM$2&$A13)=\"\",\"★\",INDIRECT($B$2&BM$2&$A13))","v":"★"},{"$f":"IF(INDIRECT($B$2&BN$2&$A13)=\"\",\"★\",INDIRECT($B$2&BN$2&$A13))","v":"★"},{"$f":"IF(INDIRECT($B$2&BO$2&$A13)=\"\",\"★\",INDIRECT($B$2&BO$2&$A13))","v":"★"},{"$f":"IF(INDIRECT($B$2&BP$2&$A13)=\"\",\"★\",INDIRECT($B$2&BP$2&$A13))","v":"★"},{"$f":"IF(INDIRECT($B$2&BQ$2&$A13)=\"\",\"★\",INDIRECT($B$2&BQ$2&$A13))","v":"★"},{"$f":"IF(INDIRECT($B$2&BR$2&$A13)=\"\",\"★\",INDIRECT($B$2&BR$2&$A13))","v":"★"},{"$f":"IF(INDIRECT($B$2&BS$2&$A13)=\"\",\"★\",INDIRECT($B$2&BS$2&$A13))","v":"★"},{"$f":"IF(INDIRECT($B$2&BT$2&$A13)=\"\",\"★\",INDIRECT($B$2&BT$2&$A13))","v":"★"},{"$f":"IF(INDIRECT($B$2&BU$2&$A13)=\"\",\"★\",INDIRECT($B$2&BU$2&$A13))","v":"★"},{"$f":"IF(INDIRECT($B$2&BV$2&$A13)=\"\",\"★\",INDIRECT($B$2&BV$2&$A13))","v":"★"},{"$f":"IF(INDIRECT($B$2&BW$2&$A13)=\"\",\"★\",INDIRECT($B$2&BW$2&$A13))","v":"★"},{"$f":"IF(INDIRECT($B$2&BX$2&$A13)=\"\",\"★\",INDIRECT($B$2&BX$2&$A13))","v":"★"},{"$f":"IF(INDIRECT($B$2&BY$2&$A13)=\"\",\"★\",INDIRECT($B$2&BY$2&$A13))","v":"★"}]
[33,null,null,null,4,"脱炭素化指標(t-CO2/GJ)",{"$f":"IF(INDIRECT($B$2&$O$2&\"17\")=\"\",\"★\",INDIRECT($B$2&$O$2&\"17\"))","v":6.0873518092450299E-2},{"$f":"IF(INDIRECT($B$2&$P$2&\"17\")=\"\",\"★\",INDIRECT($B$2&$P$2&\"17\"))","v":4.8722446844018608E-2},{"$f":"IF(INDIRECT($B$2&$Q$2&\"17\")=\"\",\"★\",INDIRECT($B$2&$Q$2&\"17\"))","v":"---"},{"$f":"IF(INDIRECT($B$2&$R$2&\"17\")=\"\",\"★\",INDIRECT($B$2&$R$2&\"17\"))","v":"---"},null,null,null,4,{"$f":"IF(INDIRECT($B$2&$O$2&$A14)=\"\",\"★\",INDIRECT($B$2&$O$2&$A14))","v":"★"},{"$f":"IF(INDIRECT($B$2&$P$2&$A14)=\"\",\"★\",INDIRECT($B$2&$P$2&$A14))","v":0},{"$f":"IF(INDIRECT($B$2&$Q$2&$A14)=\"\",\"★\",INDIRECT($B$2&$Q$2&$A14))","v":0},{"$f":"IF(INDIRECT($B$2&$R$2&$A14)=\"\",\"★\",INDIRECT($B$2&$R$2&$A14))","v":0},{"$f":"IF(INDIRECT($B$2&$S$2&$A14)=\"\",\"★\",INDIRECT($B$2&$S$2&$A14))","v":"★"},{"$f":"IF(INDIRECT($B$2&$T$2&$A14)=\"\",\"★\",INDIRECT($B$2&$T$2&$A14))","v":"★"},{"$f":"IF(INDIRECT($B$2&$U$2&$A14)=\"\",\"★\",INDIRECT($B$2&$U$2&$A14))","v":"★"},{"$f":"IF(INDIRECT($B$2&$V$2&$A14)=\"\",\"★\",INDIRECT($B$2&$V$2&$A14))","v":"★"},{"$f":"IF(INDIRECT($B$2&$W$2&$A14)=\"\",\"★\",INDIRECT($B$2&$W$2&$A14))","v":"★"},{"$f":"IF(INDIRECT($B$2&$X$2&$A14)=\"\",\"★\",INDIRECT($B$2&$X$2&$A14))","v":"★"},{"$f":"IF(INDIRECT($B$2&$Y$2&$A14)=\"\",\"★\",INDIRECT($B$2&$Y$2&$A14))","v":"★"},{"$f":"IF(INDIRECT($B$2&$Z$2&$A14)=\"\",\"★\",INDIRECT($B$2&$Z$2&$A14))","v":"★"},{"$f":"IF(INDIRECT($B$2&$AA$2&$A14)=\"\",\"★\",INDIRECT($B$2&$AA$2&$A14))","v":"★"},{"$f":"IF(INDIRECT($B$2&$AB$2&$A14)=\"\",\"★\",INDIRECT($B$2&$AB$2&$A14))","v":"★"},{"$f":"IF(INDIRECT($B$2&AC$2&$A14)=\"\",\"★\",INDIRECT($B$2&AC$2&$A14))","v":"★"},{"$f":"IF(INDIRECT($B$2&AD$2&$A14)=\"\",\"★\",INDIRECT($B$2&AD$2&$A14))","v":"★"},{"$f":"IF(INDIRECT($B$2&AE$2&$A14)=\"\",\"★\",INDIRECT($B$2&AE$2&$A14))","v":"★"},{"$f":"IF(INDIRECT($B$2&AF$2&$A14)=\"\",\"★\",INDIRECT($B$2&AF$2&$A14))","v":"★"},{"$f":"IF(INDIRECT($B$2&AG$2&$A14)=\"\",\"★\",INDIRECT($B$2&AG$2&$A14))","v":"★"},{"$f":"IF(INDIRECT($B$2&AH$2&$A14)=\"\",\"★\",INDIRECT($B$2&AH$2&$A14))","v":"★"},{"$f":"IF(INDIRECT($B$2&AI$2&$A14)=\"\",\"★\",INDIRECT($B$2&AI$2&$A14))","v":"★"},{"$f":"IF(INDIRECT($B$2&AJ$2&$A14)=\"\",\"★\",INDIRECT($B$2&AJ$2&$A14))","v":"★"},{"$f":"IF(INDIRECT($B$2&AK$2&$A14)=\"\",\"★\",INDIRECT($B$2&AK$2&$A14))","v":"★"},{"$f":"IF(INDIRECT($B$2&AL$2&$A14)=\"\",\"★\",INDIRECT($B$2&AL$2&$A14))","v":"★"},{"$f":"IF(INDIRECT($B$2&AM$2&$A14)=\"\",\"★\",INDIRECT($B$2&AM$2&$A14))","v":"★"},{"$f":"IF(INDIRECT($B$2&AN$2&$A14)=\"\",\"★\",INDIRECT($B$2&AN$2&$A14))","v":"★"},{"$f":"IF(INDIRECT($B$2&AO$2&$A14)=\"\",\"★\",INDIRECT($B$2&AO$2&$A14))","v":"★"},{"$f":"IF(INDIRECT($B$2&AP$2&$A14)=\"\",\"★\",INDIRECT($B$2&AP$2&$A14))","v":"★"},{"$f":"IF(INDIRECT($B$2&AQ$2&$A14)=\"\",\"★\",INDIRECT($B$2&AQ$2&$A14))","v":"★"},{"$f":"IF(INDIRECT($B$2&AR$2&$A14)=\"\",\"★\",INDIRECT($B$2&AR$2&$A14))","v":0},{"$f":"IF(INDIRECT($B$2&AS$2&$A14)=\"\",\"★\",INDIRECT($B$2&AS$2&$A14))","v":"★"},{"$f":"IF(INDIRECT($B$2&AT$2&$A14)=\"\",\"★\",INDIRECT($B$2&AT$2&$A14))","v":"★"},{"$f":"IF(INDIRECT($B$2&AU$2&$A14)=\"\",\"★\",INDIRECT($B$2&AU$2&$A14))","v":"★"},{"$f":"IF(INDIRECT($B$2&AV$2&$A14)=\"\",\"★\",INDIRECT($B$2&AV$2&$A14))","v":"★"},{"$f":"IF(INDIRECT($B$2&AW$2&$A14)=\"\",\"★\",INDIRECT($B$2&AW$2&$A14))","v":"★"},{"$f":"IF(INDIRECT($B$2&AX$2&$A14)=\"\",\"★\",INDIRECT($B$2&AX$2&$A14))","v":"★"},{"$f":"IF(INDIRECT($B$2&AY$2&$A14)=\"\",\"★\",INDIRECT($B$2&AY$2&$A14))","v":"★"},{"$f":"IF(INDIRECT($B$2&AZ$2&$A14)=\"\",\"★\",INDIRECT($B$2&AZ$2&$A14))","v":"★"},{"$f":"IF(INDIRECT($B$2&BA$2&$A14)=\"\",\"★\",INDIRECT($B$2&BA$2&$A14))","v":"★"},{"$f":"IF(INDIRECT($B$2&BB$2&$A14)=\"\",\"★\",INDIRECT($B$2&BB$2&$A14))","v":"★"},{"$f":"IF(INDIRECT($B$2&BC$2&$A14)=\"\",\"★\",INDIRECT($B$2&BC$2&$A14))","v":"★"},{"$f":"IF(INDIRECT($B$2&BD$2&$A14)=\"\",\"★\",INDIRECT($B$2&BD$2&$A14))","v":"★"},{"$f":"IF(INDIRECT($B$2&BE$2&$A14)=\"\",\"★\",INDIRECT($B$2&BE$2&$A14))","v":"★"},{"$f":"IF(INDIRECT($B$2&BF$2&$A14)=\"\",\"★\",INDIRECT($B$2&BF$2&$A14))","v":"★"},{"$f":"IF(INDIRECT($B$2&BG$2&$A14)=\"\",\"★\",INDIRECT($B$2&BG$2&$A14))","v":0},{"$f":"IF(INDIRECT($B$2&BH$2&$A14)=\"\",\"★\",INDIRECT($B$2&BH$2&$A14))","v":"★"},{"$f":"IF(INDIRECT($B$2&BI$2&$A14)=\"\",\"★\",INDIRECT($B$2&BI$2&$A14))","v":"★"},{"$f":"IF(INDIRECT($B$2&BJ$2&$A14)=\"\",\"★\",INDIRECT($B$2&BJ$2&$A14))","v":"★"},{"$f":"IF(INDIRECT($B$2&BK$2&$A14)=\"\",\"★\",INDIRECT($B$2&BK$2&$A14))","v":"★"},{"$f":"IF(INDIRECT($B$2&BL$2&$A14)=\"\",\"★\",INDIRECT($B$2&BL$2&$A14))","v":"★"},{"$f":"IF(INDIRECT($B$2&BM$2&$A14)=\"\",\"★\",INDIRECT($B$2&BM$2&$A14))","v":"★"},{"$f":"IF(INDIRECT($B$2&BN$2&$A14)=\"\",\"★\",INDIRECT($B$2&BN$2&$A14))","v":"★"},{"$f":"IF(INDIRECT($B$2&BO$2&$A14)=\"\",\"★\",INDIRECT($B$2&BO$2&$A14))","v":"★"},{"$f":"IF(INDIRECT($B$2&BP$2&$A14)=\"\",\"★\",INDIRECT($B$2&BP$2&$A14))","v":"★"},{"$f":"IF(INDIRECT($B$2&BQ$2&$A14)=\"\",\"★\",INDIRECT($B$2&BQ$2&$A14))","v":"★"},{"$f":"IF(INDIRECT($B$2&BR$2&$A14)=\"\",\"★\",INDIRECT($B$2&BR$2&$A14))","v":"★"},{"$f":"IF(INDIRECT($B$2&BS$2&$A14)=\"\",\"★\",INDIRECT($B$2&BS$2&$A14))","v":"★"},{"$f":"IF(INDIRECT($B$2&BT$2&$A14)=\"\",\"★\",INDIRECT($B$2&BT$2&$A14))","v":"★"},{"$f":"IF(INDIRECT($B$2&BU$2&$A14)=\"\",\"★\",INDIRECT($B$2&BU$2&$A14))","v":"★"},{"$f":"IF(INDIRECT($B$2&BV$2&$A14)=\"\",\"★\",INDIRECT($B$2&BV$2&$A14))","v":"★"},{"$f":"IF(INDIRECT($B$2&BW$2&$A14)=\"\",\"★\",INDIRECT($B$2&BW$2&$A14))","v":"★"},{"$f":"IF(INDIRECT($B$2&BX$2&$A14)=\"\",\"★\",INDIRECT($B$2&BX$2&$A14))","v":"★"},{"$f":"IF(INDIRECT($B$2&BY$2&$A14)=\"\",\"★\",INDIRECT($B$2&BY$2&$A14))","v":"★"}]
[34,null,null,null,null,null,null,null,null,null,null,null,null,5,{"$f":"IF(INDIRECT($B$2&$O$2&$A15)=\"\",\"★\",INDIRECT($B$2&$O$2&$A15))","v":"★"},{"$f":"IF(INDIRECT($B$2&$P$2&$A15)=\"\",\"★\",INDIRECT($B$2&$P$2&$A15))","v":0},{"$f":"IF(INDIRECT($B$2&$Q$2&$A15)=\"\",\"★\",INDIRECT($B$2&$Q$2&$A15))","v":0},{"$f":"IF(INDIRECT($B$2&$R$2&$A15)=\"\",\"★\",INDIRECT($B$2&$R$2&$A15))","v":0},{"$f":"IF(INDIRECT($B$2&$S$2&$A15)=\"\",\"★\",INDIRECT($B$2&$S$2&$A15))","v":"★"},{"$f":"IF(INDIRECT($B$2&$T$2&$A15)=\"\",\"★\",INDIRECT($B$2&$T$2&$A15))","v":"★"},{"$f":"IF(INDIRECT($B$2&$U$2&$A15)=\"\",\"★\",INDIRECT($B$2&$U$2&$A15))","v":"★"},{"$f":"IF(INDIRECT($B$2&$V$2&$A15)=\"\",\"★\",INDIRECT($B$2&$V$2&$A15))","v":"★"},{"$f":"IF(INDIRECT($B$2&$W$2&$A15)=\"\",\"★\",INDIRECT($B$2&$W$2&$A15))","v":"★"},{"$f":"IF(INDIRECT($B$2&$X$2&$A15)=\"\",\"★\",INDIRECT($B$2&$X$2&$A15))","v":"★"},{"$f":"IF(INDIRECT($B$2&$Y$2&$A15)=\"\",\"★\",INDIRECT($B$2&$Y$2&$A15))","v":"★"},{"$f":"IF(INDIRECT($B$2&$Z$2&$A15)=\"\",\"★\",INDIRECT($B$2&$Z$2&$A15))","v":"★"},{"$f":"IF(INDIRECT($B$2&$AA$2&$A15)=\"\",\"★\",INDIRECT($B$2&$AA$2&$A15))","v":"★"},{"$f":"IF(INDIRECT($B$2&$AB$2&$A15)=\"\",\"★\",INDIRECT($B$2&$AB$2&$A15))","v":"★"},{"$f":"IF(INDIRECT($B$2&AC$2&$A15)=\"\",\"★\",INDIRECT($B$2&AC$2&$A15))","v":"★"},{"$f":"IF(INDIRECT($B$2&AD$2&$A15)=\"\",\"★\",INDIRECT($B$2&AD$2&$A15))","v":"★"},{"$f":"IF(INDIRECT($B$2&AE$2&$A15)=\"\",\"★\",INDIRECT($B$2&AE$2&$A15))","v":"★"},{"$f":"IF(INDIRECT($B$2&AF$2&$A15)=\"\",\"★\",INDIRECT($B$2&AF$2&$A15))","v":"★"},{"$f":"IF(INDIRECT($B$2&AG$2&$A15)=\"\",\"★\",INDIRECT($B$2&AG$2&$A15))","v":"★"},{"$f":"IF(INDIRECT($B$2&AH$2&$A15)=\"\",\"★\",INDIRECT($B$2&AH$2&$A15))","v":"★"},{"$f":"IF(INDIRECT($B$2&AI$2&$A15)=\"\",\"★\",INDIRECT($B$2&AI$2&$A15))","v":"★"},{"$f":"IF(INDIRECT($B$2&AJ$2&$A15)=\"\",\"★\",INDIRECT($B$2&AJ$2&$A15))","v":"★"},{"$f":"IF(INDIRECT($B$2&AK$2&$A15)=\"\",\"★\",INDIRECT($B$2&AK$2&$A15))","v":"★"},{"$f":"IF(INDIRECT($B$2&AL$2&$A15)=\"\",\"★\",INDIRECT($B$2&AL$2&$A15))","v":"★"},{"$f":"IF(INDIRECT($B$2&AM$2&$A15)=\"\",\"★\",INDIRECT($B$2&AM$2&$A15))","v":"★"},{"$f":"IF(INDIRECT($B$2&AN$2&$A15)=\"\",\"★\",INDIRECT($B$2&AN$2&$A15))","v":"★"},{"$f":"IF(INDIRECT($B$2&AO$2&$A15)=\"\",\"★\",INDIRECT($B$2&AO$2&$A15))","v":"★"},{"$f":"IF(INDIRECT($B$2&AP$2&$A15)=\"\",\"★\",INDIRECT($B$2&AP$2&$A15))","v":"★"},{"$f":"IF(INDIRECT($B$2&AQ$2&$A15)=\"\",\"★\",INDIRECT($B$2&AQ$2&$A15))","v":"★"},{"$f":"IF(INDIRECT($B$2&AR$2&$A15)=\"\",\"★\",INDIRECT($B$2&AR$2&$A15))","v":0},{"$f":"IF(INDIRECT($B$2&AS$2&$A15)=\"\",\"★\",INDIRECT($B$2&AS$2&$A15))","v":"★"},{"$f":"IF(INDIRECT($B$2&AT$2&$A15)=\"\",\"★\",INDIRECT($B$2&AT$2&$A15))","v":"★"},{"$f":"IF(INDIRECT($B$2&AU$2&$A15)=\"\",\"★\",INDIRECT($B$2&AU$2&$A15))","v":"★"},{"$f":"IF(INDIRECT($B$2&AV$2&$A15)=\"\",\"★\",INDIRECT($B$2&AV$2&$A15))","v":"★"},{"$f":"IF(INDIRECT($B$2&AW$2&$A15)=\"\",\"★\",INDIRECT($B$2&AW$2&$A15))","v":"★"},{"$f":"IF(INDIRECT($B$2&AX$2&$A15)=\"\",\"★\",INDIRECT($B$2&AX$2&$A15))","v":"★"},{"$f":"IF(INDIRECT($B$2&AY$2&$A15)=\"\",\"★\",INDIRECT($B$2&AY$2&$A15))","v":"★"},{"$f":"IF(INDIRECT($B$2&AZ$2&$A15)=\"\",\"★\",INDIRECT($B$2&AZ$2&$A15))","v":"★"},{"$f":"IF(INDIRECT($B$2&BA$2&$A15)=\"\",\"★\",INDIRECT($B$2&BA$2&$A15))","v":"★"},{"$f":"IF(INDIRECT($B$2&BB$2&$A15)=\"\",\"★\",INDIRECT($B$2&BB$2&$A15))","v":"★"},{"$f":"IF(INDIRECT($B$2&BC$2&$A15)=\"\",\"★\",INDIRECT($B$2&BC$2&$A15))","v":"★"},{"$f":"IF(INDIRECT($B$2&BD$2&$A15)=\"\",\"★\",INDIRECT($B$2&BD$2&$A15))","v":"★"},{"$f":"IF(INDIRECT($B$2&BE$2&$A15)=\"\",\"★\",INDIRECT($B$2&BE$2&$A15))","v":"★"},{"$f":"IF(INDIRECT($B$2&BF$2&$A15)=\"\",\"★\",INDIRECT($B$2&BF$2&$A15))","v":"★"},{"$f":"IF(INDIRECT($B$2&BG$2&$A15)=\"\",\"★\",INDIRECT($B$2&BG$2&$A15))","v":0},{"$f":"IF(INDIRECT($B$2&BH$2&$A15)=\"\",\"★\",INDIRECT($B$2&BH$2&$A15))","v":"★"},{"$f":"IF(INDIRECT($B$2&BI$2&$A15)=\"\",\"★\",INDIRECT($B$2&BI$2&$A15))","v":"★"},{"$f":"IF(INDIRECT($B$2&BJ$2&$A15)=\"\",\"★\",INDIRECT($B$2&BJ$2&$A15))","v":"★"},{"$f":"IF(INDIRECT($B$2&BK$2&$A15)=\"\",\"★\",INDIRECT($B$2&BK$2&$A15))","v":"★"},{"$f":"IF(INDIRECT($B$2&BL$2&$A15)=\"\",\"★\",INDIRECT($B$2&BL$2&$A15))","v":"★"},{"$f":"IF(INDIRECT($B$2&BM$2&$A15)=\"\",\"★\",INDIRECT($B$2&BM$2&$A15))","v":"★"},{"$f":"IF(INDIRECT($B$2&BN$2&$A15)=\"\",\"★\",INDIRECT($B$2&BN$2&$A15))","v":"★"},{"$f":"IF(INDIRECT($B$2&BO$2&$A15)=\"\",\"★\",INDIRECT($B$2&BO$2&$A15))","v":"★"},{"$f":"IF(INDIRECT($B$2&BP$2&$A15)=\"\",\"★\",INDIRECT($B$2&BP$2&$A15))","v":"★"},{"$f":"IF(INDIRECT($B$2&BQ$2&$A15)=\"\",\"★\",INDIRECT($B$2&BQ$2&$A15))","v":"★"},{"$f":"IF(INDIRECT($B$2&BR$2&$A15)=\"\",\"★\",INDIRECT($B$2&BR$2&$A15))","v":"★"},{"$f":"IF(INDIRECT($B$2&BS$2&$A15)=\"\",\"★\",INDIRECT($B$2&BS$2&$A15))","v":"★"},{"$f":"IF(INDIRECT($B$2&BT$2&$A15)=\"\",\"★\",INDIRECT($B$2&BT$2&$A15))","v":"★"},{"$f":"IF(INDIRECT($B$2&BU$2&$A15)=\"\",\"★\",INDIRECT($B$2&BU$2&$A15))","v":"★"},{"$f":"IF(INDIRECT($B$2&BV$2&$A15)=\"\",\"★\",INDIRECT($B$2&BV$2&$A15))","v":"★"},{"$f":"IF(INDIRECT($B$2&BW$2&$A15)=\"\",\"★\",INDIRECT($B$2&BW$2&$A15))","v":"★"},{"$f":"IF(INDIRECT($B$2&BX$2&$A15)=\"\",\"★\",INDIRECT($B$2&BX$2&$A15))","v":"★"},{"$f":"IF(INDIRECT($B$2&BY$2&$A15)=\"\",\"★\",INDIRECT($B$2&BY$2&$A15))","v":"★"}]
[35,null,null,null,null,null,null,null,null,null,null,null,null,6,{"$f":"IF(INDIRECT($B$2&$O$2&$A16)=\"\",\"★\",INDIRECT($B$2&$O$2&$A16))","v":"★"},{"$f":"IF(INDIRECT($B$2&$P$2&$A16)=\"\",\"★\",INDIRECT($B$2&$P$2&$A16))","v":0},{"$f":"IF(INDIRECT($B$2&$Q$2&$A16)=\"\",\"★\",INDIRECT($B$2&$Q$2&$A16))","v":0},{"$f":"IF(INDIRECT($B$2&$R$2&$A16)=\"\",\"★\",INDIRECT($B$2&$R$2&$A16))","v":0},{"$f":"IF(INDIRECT($B$2&$S$2&$A16)=\"\",\"★\",INDIRECT($B$2&$S$2&$A16))","v":"★"},{"$f":"IF(INDIRECT($B$2&$T$2&$A16)=\"\",\"★\",INDIRECT($B$2&$T$2&$A16))","v":"★"},{"$f":"IF(INDIRECT($B$2&$U$2&$A16)=\"\",\"★\",INDIRECT($B$2&$U$2&$A16))","v":"★"},{"$f":"IF(INDIRECT($B$2&$V$2&$A16)=\"\",\"★\",INDIRECT($B$2&$V$2&$A16))","v":"★"},{"$f":"IF(INDIRECT($B$2&$W$2&$A16)=\"\",\"★\",INDIRECT($B$2&$W$2&$A16))","v":"★"},{"$f":"IF(INDIRECT($B$2&$X$2&$A16)=\"\",\"★\",INDIRECT($B$2&$X$2&$A16))","v":"★"},{"$f":"IF(INDIRECT($B$2&$Y$2&$A16)=\"\",\"★\",INDIRECT($B$2&$Y$2&$A16))","v":"★"},{"$f":"IF(INDIRECT($B$2&$Z$2&$A16)=\"\",\"★\",INDIRECT($B$2&$Z$2&$A16))","v":"★"},{"$f":"IF(INDIRECT($B$2&$AA$2&$A16)=\"\",\"★\",INDIRECT($B$2&$AA$2&$A16))","v":"★"},{"$f":"IF(INDIRECT($B$2&$AB$2&$A16)=\"\",\"★\",INDIRECT($B$2&$AB$2&$A16))","v":"★"},{"$f":"IF(INDIRECT($B$2&AC$2&$A16)=\"\",\"★\",INDIRECT($B$2&AC$2&$A16))","v":"★"},{"$f":"IF(INDIRECT($B$2&AD$2&$A16)=\"\",\"★\",INDIRECT($B$2&AD$2&$A16))","v":"★"},{"$f":"IF(INDIRECT($B$2&AE$2&$A16)=\"\",\"★\",INDIRECT($B$2&AE$2&$A16))","v":"★"},{"$f":"IF(INDIRECT($B$2&AF$2&$A16)=\"\",\"★\",INDIRECT($B$2&AF$2&$A16))","v":"★"},{"$f":"IF(INDIRECT($B$2&AG$2&$A16)=\"\",\"★\",INDIRECT($B$2&AG$2&$A16))","v":"★"},{"$f":"IF(INDIRECT($B$2&AH$2&$A16)=\"\",\"★\",INDIRECT($B$2&AH$2&$A16))","v":"★"},{"$f":"IF(INDIRECT($B$2&AI$2&$A16)=\"\",\"★\",INDIRECT($B$2&AI$2&$A16))","v":"★"},{"$f":"IF(INDIRECT($B$2&AJ$2&$A16)=\"\",\"★\",INDIRECT($B$2&AJ$2&$A16))","v":"★"},{"$f":"IF(INDIRECT($B$2&AK$2&$A16)=\"\",\"★\",INDIRECT($B$2&AK$2&$A16))","v":"★"},{"$f":"IF(INDIRECT($B$2&AL$2&$A16)=\"\",\"★\",INDIRECT($B$2&AL$2&$A16))","v":"★"},{"$f":"IF(INDIRECT($B$2&AM$2&$A16)=\"\",\"★\",INDIRECT($B$2&AM$2&$A16))","v":"★"},{"$f":"IF(INDIRECT($B$2&AN$2&$A16)=\"\",\"★\",INDIRECT($B$2&AN$2&$A16))","v":"★"},{"$f":"IF(INDIRECT($B$2&AO$2&$A16)=\"\",\"★\",INDIRECT($B$2&AO$2&$A16))","v":"★"},{"$f":"IF(INDIRECT($B$2&AP$2&$A16)=\"\",\"★\",INDIRECT($B$2&AP$2&$A16))","v":"★"},{"$f":"IF(INDIRECT($B$2&AQ$2&$A16)=\"\",\"★\",INDIRECT($B$2&AQ$2&$A16))","v":"★"},{"$f":"IF(INDIRECT($B$2&AR$2&$A16)=\"\",\"★\",INDIRECT($B$2&AR$2&$A16))","v":0},{"$f":"IF(INDIRECT($B$2&AS$2&$A16)=\"\",\"★\",INDIRECT($B$2&AS$2&$A16))","v":"★"},{"$f":"IF(INDIRECT($B$2&AT$2&$A16)=\"\",\"★\",INDIRECT($B$2&AT$2&$A16))","v":"★"},{"$f":"IF(INDIRECT($B$2&AU$2&$A16)=\"\",\"★\",INDIRECT($B$2&AU$2&$A16))","v":"★"},{"$f":"IF(INDIRECT($B$2&AV$2&$A16)=\"\",\"★\",INDIRECT($B$2&AV$2&$A16))","v":"★"},{"$f":"IF(INDIRECT($B$2&AW$2&$A16)=\"\",\"★\",INDIRECT($B$2&AW$2&$A16))","v":"★"},{"$f":"IF(INDIRECT($B$2&AX$2&$A16)=\"\",\"★\",INDIRECT($B$2&AX$2&$A16))","v":"★"},{"$f":"IF(INDIRECT($B$2&AY$2&$A16)=\"\",\"★\",INDIRECT($B$2&AY$2&$A16))","v":"★"},{"$f":"IF(INDIRECT($B$2&AZ$2&$A16)=\"\",\"★\",INDIRECT($B$2&AZ$2&$A16))","v":"★"},{"$f":"IF(INDIRECT($B$2&BA$2&$A16)=\"\",\"★\",INDIRECT($B$2&BA$2&$A16))","v":"★"},{"$f":"IF(INDIRECT($B$2&BB$2&$A16)=\"\",\"★\",INDIRECT($B$2&BB$2&$A16))","v":"★"},{"$f":"IF(INDIRECT($B$2&BC$2&$A16)=\"\",\"★\",INDIRECT($B$2&BC$2&$A16))","v":"★"},{"$f":"IF(INDIRECT($B$2&BD$2&$A16)=\"\",\"★\",INDIRECT($B$2&BD$2&$A16))","v":"★"},{"$f":"IF(INDIRECT($B$2&BE$2&$A16)=\"\",\"★\",INDIRECT($B$2&BE$2&$A16))","v":"★"},{"$f":"IF(INDIRECT($B$2&BF$2&$A16)=\"\",\"★\",INDIRECT($B$2&BF$2&$A16))","v":"★"},{"$f":"IF(INDIRECT($B$2&BG$2&$A16)=\"\",\"★\",INDIRECT($B$2&BG$2&$A16))","v":0},{"$f":"IF(INDIRECT($B$2&BH$2&$A16)=\"\",\"★\",INDIRECT($B$2&BH$2&$A16))","v":"★"},{"$f":"IF(INDIRECT($B$2&BI$2&$A16)=\"\",\"★\",INDIRECT($B$2&BI$2&$A16))","v":"★"},{"$f":"IF(INDIRECT($B$2&BJ$2&$A16)=\"\",\"★\",INDIRECT($B$2&BJ$2&$A16))","v":"★"},{"$f":"IF(INDIRECT($B$2&BK$2&$A16)=\"\",\"★\",INDIRECT($B$2&BK$2&$A16))","v":"★"},{"$f":"IF(INDIRECT($B$2&BL$2&$A16)=\"\",\"★\",INDIRECT($B$2&BL$2&$A16))","v":"★"},{"$f":"IF(INDIRECT($B$2&BM$2&$A16)=\"\",\"★\",INDIRECT($B$2&BM$2&$A16))","v":"★"},{"$f":"IF(INDIRECT($B$2&BN$2&$A16)=\"\",\"★\",INDIRECT($B$2&BN$2&$A16))","v":"★"},{"$f":"IF(INDIRECT($B$2&BO$2&$A16)=\"\",\"★\",INDIRECT($B$2&BO$2&$A16))","v":"★"},{"$f":"IF(INDIRECT($B$2&BP$2&$A16)=\"\",\"★\",INDIRECT($B$2&BP$2&$A16))","v":"★"},{"$f":"IF(INDIRECT($B$2&BQ$2&$A16)=\"\",\"★\",INDIRECT($B$2&BQ$2&$A16))","v":"★"},{"$f":"IF(INDIRECT($B$2&BR$2&$A16)=\"\",\"★\",INDIRECT($B$2&BR$2&$A16))","v":"★"},{"$f":"IF(INDIRECT($B$2&BS$2&$A16)=\"\",\"★\",INDIRECT($B$2&BS$2&$A16))","v":"★"},{"$f":"IF(INDIRECT($B$2&BT$2&$A16)=\"\",\"★\",INDIRECT($B$2&BT$2&$A16))","v":"★"},{"$f":"IF(INDIRECT($B$2&BU$2&$A16)=\"\",\"★\",INDIRECT($B$2&BU$2&$A16))","v":"★"},{"$f":"IF(INDIRECT($B$2&BV$2&$A16)=\"\",\"★\",INDIRECT($B$2&BV$2&$A16))","v":"★"},{"$f":"IF(INDIRECT($B$2&BW$2&$A16)=\"\",\"★\",INDIRECT($B$2&BW$2&$A16))","v":"★"},{"$f":"IF(INDIRECT($B$2&BX$2&$A16)=\"\",\"★\",INDIRECT($B$2&BX$2&$A16))","v":"★"},{"$f":"IF(INDIRECT($B$2&BY$2&$A16)=\"\",\"★\",INDIRECT($B$2&BY$2&$A16))","v":"★"}]
[36,null,null,null,null,null,null,null,null,null,null,null,null,7,{"$f":"IF(INDIRECT($B$2&$O$2&$A17)=\"\",\"★\",INDIRECT($B$2&$O$2&$A17))","v":"★"},{"$f":"IF(INDIRECT($B$2&$P$2&$A17)=\"\",\"★\",INDIRECT($B$2&$P$2&$A17))","v":0},{"$f":"IF(INDIRECT($B$2&$Q$2&$A17)=\"\",\"★\",INDIRECT($B$2&$Q$2&$A17))","v":0},{"$f":"IF(INDIRECT($B$2&$R$2&$A17)=\"\",\"★\",INDIRECT($B$2&$R$2&$A17))","v":0},{"$f":"IF(INDIRECT($B$2&$S$2&$A17)=\"\",\"★\",INDIRECT($B$2&$S$2&$A17))","v":"★"},{"$f":"IF(INDIRECT($B$2&$T$2&$A17)=\"\",\"★\",INDIRECT($B$2&$T$2&$A17))","v":"★"},{"$f":"IF(INDIRECT($B$2&$U$2&$A17)=\"\",\"★\",INDIRECT($B$2&$U$2&$A17))","v":"★"},{"$f":"IF(INDIRECT($B$2&$V$2&$A17)=\"\",\"★\",INDIRECT($B$2&$V$2&$A17))","v":"★"},{"$f":"IF(INDIRECT($B$2&$W$2&$A17)=\"\",\"★\",INDIRECT($B$2&$W$2&$A17))","v":"★"},{"$f":"IF(INDIRECT($B$2&$X$2&$A17)=\"\",\"★\",INDIRECT($B$2&$X$2&$A17))","v":"★"},{"$f":"IF(INDIRECT($B$2&$Y$2&$A17)=\"\",\"★\",INDIRECT($B$2&$Y$2&$A17))","v":"★"},{"$f":"IF(INDIRECT($B$2&$Z$2&$A17)=\"\",\"★\",INDIRECT($B$2&$Z$2&$A17))","v":"★"},{"$f":"IF(INDIRECT($B$2&$AA$2&$A17)=\"\",\"★\",INDIRECT($B$2&$AA$2&$A17))","v":"★"},{"$f":"IF(INDIRECT($B$2&$AB$2&$A17)=\"\",\"★\",INDIRECT($B$2&$AB$2&$A17))","v":"★"},{"$f":"IF(INDIRECT($B$2&AC$2&$A17)=\"\",\"★\",INDIRECT($B$2&AC$2&$A17))","v":"★"},{"$f":"IF(INDIRECT($B$2&AD$2&$A17)=\"\",\"★\",INDIRECT($B$2&AD$2&$A17))","v":"★"},{"$f":"IF(INDIRECT($B$2&AE$2&$A17)=\"\",\"★\",INDIRECT($B$2&AE$2&$A17))","v":"★"},{"$f":"IF(INDIRECT($B$2&AF$2&$A17)=\"\",\"★\",INDIRECT($B$2&AF$2&$A17))","v":"★"},{"$f":"IF(INDIRECT($B$2&AG$2&$A17)=\"\",\"★\",INDIRECT($B$2&AG$2&$A17))","v":"★"},{"$f":"IF(INDIRECT($B$2&AH$2&$A17)=\"\",\"★\",INDIRECT($B$2&AH$2&$A17))","v":"★"},{"$f":"IF(INDIRECT($B$2&AI$2&$A17)=\"\",\"★\",INDIRECT($B$2&AI$2&$A17))","v":"★"},{"$f":"IF(INDIRECT($B$2&AJ$2&$A17)=\"\",\"★\",INDIRECT($B$2&AJ$2&$A17))","v":"★"},{"$f":"IF(INDIRECT($B$2&AK$2&$A17)=\"\",\"★\",INDIRECT($B$2&AK$2&$A17))","v":"★"},{"$f":"IF(INDIRECT($B$2&AL$2&$A17)=\"\",\"★\",INDIRECT($B$2&AL$2&$A17))","v":"★"},{"$f":"IF(INDIRECT($B$2&AM$2&$A17)=\"\",\"★\",INDIRECT($B$2&AM$2&$A17))","v":"★"},{"$f":"IF(INDIRECT($B$2&AN$2&$A17)=\"\",\"★\",INDIRECT($B$2&AN$2&$A17))","v":"★"},{"$f":"IF(INDIRECT($B$2&AO$2&$A17)=\"\",\"★\",INDIRECT($B$2&AO$2&$A17))","v":"★"},{"$f":"IF(INDIRECT($B$2&AP$2&$A17)=\"\",\"★\",INDIRECT($B$2&AP$2&$A17))","v":"★"},{"$f":"IF(INDIRECT($B$2&AQ$2&$A17)=\"\",\"★\",INDIRECT($B$2&AQ$2&$A17))","v":"★"},{"$f":"IF(INDIRECT($B$2&AR$2&$A17)=\"\",\"★\",INDIRECT($B$2&AR$2&$A17))","v":0},{"$f":"IF(INDIRECT($B$2&AS$2&$A17)=\"\",\"★\",INDIRECT($B$2&AS$2&$A17))","v":"★"},{"$f":"IF(INDIRECT($B$2&AT$2&$A17)=\"\",\"★\",INDIRECT($B$2&AT$2&$A17))","v":"★"},{"$f":"IF(INDIRECT($B$2&AU$2&$A17)=\"\",\"★\",INDIRECT($B$2&AU$2&$A17))","v":"★"},{"$f":"IF(INDIRECT($B$2&AV$2&$A17)=\"\",\"★\",INDIRECT($B$2&AV$2&$A17))","v":"★"},{"$f":"IF(INDIRECT($B$2&AW$2&$A17)=\"\",\"★\",INDIRECT($B$2&AW$2&$A17))","v":"★"},{"$f":"IF(INDIRECT($B$2&AX$2&$A17)=\"\",\"★\",INDIRECT($B$2&AX$2&$A17))","v":"★"},{"$f":"IF(INDIRECT($B$2&AY$2&$A17)=\"\",\"★\",INDIRECT($B$2&AY$2&$A17))","v":"★"},{"$f":"IF(INDIRECT($B$2&AZ$2&$A17)=\"\",\"★\",INDIRECT($B$2&AZ$2&$A17))","v":"★"},{"$f":"IF(INDIRECT($B$2&BA$2&$A17)=\"\",\"★\",INDIRECT($B$2&BA$2&$A17))","v":"★"},{"$f":"IF(INDIRECT($B$2&BB$2&$A17)=\"\",\"★\",INDIRECT($B$2&BB$2&$A17))","v":"★"},{"$f":"IF(INDIRECT($B$2&BC$2&$A17)=\"\",\"★\",INDIRECT($B$2&BC$2&$A17))","v":"★"},{"$f":"IF(INDIRECT($B$2&BD$2&$A17)=\"\",\"★\",INDIRECT($B$2&BD$2&$A17))","v":"★"},{"$f":"IF(INDIRECT($B$2&BE$2&$A17)=\"\",\"★\",INDIRECT($B$2&BE$2&$A17))","v":"★"},{"$f":"IF(INDIRECT($B$2&BF$2&$A17)=\"\",\"★\",INDIRECT($B$2&BF$2&$A17))","v":"★"},{"$f":"IF(INDIRECT($B$2&BG$2&$A17)=\"\",\"★\",INDIRECT($B$2&BG$2&$A17))","v":0},{"$f":"IF(INDIRECT($B$2&BH$2&$A17)=\"\",\"★\",INDIRECT($B$2&BH$2&$A17))","v":"★"},{"$f":"IF(INDIRECT($B$2&BI$2&$A17)=\"\",\"★\",INDIRECT($B$2&BI$2&$A17))","v":"★"},{"$f":"IF(INDIRECT($B$2&BJ$2&$A17)=\"\",\"★\",INDIRECT($B$2&BJ$2&$A17))","v":"★"},{"$f":"IF(INDIRECT($B$2&BK$2&$A17)=\"\",\"★\",INDIRECT($B$2&BK$2&$A17))","v":"★"},{"$f":"IF(INDIRECT($B$2&BL$2&$A17)=\"\",\"★\",INDIRECT($B$2&BL$2&$A17))","v":"★"},{"$f":"IF(INDIRECT($B$2&BM$2&$A17)=\"\",\"★\",INDIRECT($B$2&BM$2&$A17))","v":"★"},{"$f":"IF(INDIRECT($B$2&BN$2&$A17)=\"\",\"★\",INDIRECT($B$2&BN$2&$A17))","v":"★"},{"$f":"IF(INDIRECT($B$2&BO$2&$A17)=\"\",\"★\",INDIRECT($B$2&BO$2&$A17))","v":"★"},{"$f":"IF(INDIRECT($B$2&BP$2&$A17)=\"\",\"★\",INDIRECT($B$2&BP$2&$A17))","v":"★"},{"$f":"IF(INDIRECT($B$2&BQ$2&$A17)=\"\",\"★\",INDIRECT($B$2&BQ$2&$A17))","v":"★"},{"$f":"IF(INDIRECT($B$2&BR$2&$A17)=\"\",\"★\",INDIRECT($B$2&BR$2&$A17))","v":"★"},{"$f":"IF(INDIRECT($B$2&BS$2&$A17)=\"\",\"★\",INDIRECT($B$2&BS$2&$A17))","v":"★"},{"$f":"IF(INDIRECT($B$2&BT$2&$A17)=\"\",\"★\",INDIRECT($B$2&BT$2&$A17))","v":"★"},{"$f":"IF(INDIRECT($B$2&BU$2&$A17)=\"\",\"★\",INDIRECT($B$2&BU$2&$A17))","v":"★"},{"$f":"IF(INDIRECT($B$2&BV$2&$A17)=\"\",\"★\",INDIRECT($B$2&BV$2&$A17))","v":"★"},{"$f":"IF(INDIRECT($B$2&BW$2&$A17)=\"\",\"★\",INDIRECT($B$2&BW$2&$A17))","v":"★"},{"$f":"IF(INDIRECT($B$2&BX$2&$A17)=\"\",\"★\",INDIRECT($B$2&BX$2&$A17))","v":"★"},{"$f":"IF(INDIRECT($B$2&BY$2&$A17)=\"\",\"★\",INDIRECT($B$2&BY$2&$A17))","v":"★"}]
[37,null,null,null,null,null,null,null,null,null,null,null,null,8,{"$f":"IF(INDIRECT($B$2&$O$2&$A18)=\"\",\"★\",INDIRECT($B$2&$O$2&$A18))","v":"★"},{"$f":"IF(INDIRECT($B$2&$P$2&$A18)=\"\",\"★\",INDIRECT($B$2&$P$2&$A18))","v":0},{"$f":"IF(INDIRECT($B$2&$Q$2&$A18)=\"\",\"★\",INDIRECT($B$2&$Q$2&$A18))","v":0},{"$f":"IF(INDIRECT($B$2&$R$2&$A18)=\"\",\"★\",INDIRECT($B$2&$R$2&$A18))","v":0},{"$f":"IF(INDIRECT($B$2&$S$2&$A18)=\"\",\"★\",INDIRECT($B$2&$S$2&$A18))","v":"★"},{"$f":"IF(INDIRECT($B$2&$T$2&$A18)=\"\",\"★\",INDIRECT($B$2&$T$2&$A18))","v":"★"},{"$f":"IF(INDIRECT($B$2&$U$2&$A18)=\"\",\"★\",INDIRECT($B$2&$U$2&$A18))","v":"★"},{"$f":"IF(INDIRECT($B$2&$V$2&$A18)=\"\",\"★\",INDIRECT($B$2&$V$2&$A18))","v":"★"},{"$f":"IF(INDIRECT($B$2&$W$2&$A18)=\"\",\"★\",INDIRECT($B$2&$W$2&$A18))","v":"★"},{"$f":"IF(INDIRECT($B$2&$X$2&$A18)=\"\",\"★\",INDIRECT($B$2&$X$2&$A18))","v":"★"},{"$f":"IF(INDIRECT($B$2&$Y$2&$A18)=\"\",\"★\",INDIRECT($B$2&$Y$2&$A18))","v":"★"},{"$f":"IF(INDIRECT($B$2&$Z$2&$A18)=\"\",\"★\",INDIRECT($B$2&$Z$2&$A18))","v":"★"},{"$f":"IF(INDIRECT($B$2&$AA$2&$A18)=\"\",\"★\",INDIRECT($B$2&$AA$2&$A18))","v":"★"},{"$f":"IF(INDIRECT($B$2&$AB$2&$A18)=\"\",\"★\",INDIRECT($B$2&$AB$2&$A18))","v":"★"},{"$f":"IF(INDIRECT($B$2&AC$2&$A18)=\"\",\"★\",INDIRECT($B$2&AC$2&$A18))","v":"★"},{"$f":"IF(INDIRECT($B$2&AD$2&$A18)=\"\",\"★\",INDIRECT($B$2&AD$2&$A18))","v":"★"},{"$f":"IF(INDIRECT($B$2&AE$2&$A18)=\"\",\"★\",INDIRECT($B$2&AE$2&$A18))","v":"★"},{"$f":"IF(INDIRECT($B$2&AF$2&$A18)=\"\",\"★\",INDIRECT($B$2&AF$2&$A18))","v":"★"},{"$f":"IF(INDIRECT($B$2&AG$2&$A18)=\"\",\"★\",INDIRECT($B$2&AG$2&$A18))","v":"★"},{"$f":"IF(INDIRECT($B$2&AH$2&$A18)=\"\",\"★\",INDIRECT($B$2&AH$2&$A18))","v":"★"},{"$f":"IF(INDIRECT($B$2&AI$2&$A18)=\"\",\"★\",INDIRECT($B$2&AI$2&$A18))","v":"★"},{"$f":"IF(INDIRECT($B$2&AJ$2&$A18)=\"\",\"★\",INDIRECT($B$2&AJ$2&$A18))","v":"★"},{"$f":"IF(INDIRECT($B$2&AK$2&$A18)=\"\",\"★\",INDIRECT($B$2&AK$2&$A18))","v":"★"},{"$f":"IF(INDIRECT($B$2&AL$2&$A18)=\"\",\"★\",INDIRECT($B$2&AL$2&$A18))","v":"★"},{"$f":"IF(INDIRECT($B$2&AM$2&$A18)=\"\",\"★\",INDIRECT($B$2&AM$2&$A18))","v":"★"},{"$f":"IF(INDIRECT($B$2&AN$2&$A18)=\"\",\"★\",INDIRECT($B$2&AN$2&$A18))","v":"★"},{"$f":"IF(INDIRECT($B$2&AO$2&$A18)=\"\",\"★\",INDIRECT($B$2&AO$2&$A18))","v":"★"},{"$f":"IF(INDIRECT($B$2&AP$2&$A18)=\"\",\"★\",INDIRECT($B$2&AP$2&$A18))","v":"★"},{"$f":"IF(INDIRECT($B$2&AQ$2&$A18)=\"\",\"★\",INDIRECT($B$2&AQ$2&$A18))","v":"★"},{"$f":"IF(INDIRECT($B$2&AR$2&$A18)=\"\",\"★\",INDIRECT($B$2&AR$2&$A18))","v":0},{"$f":"IF(INDIRECT($B$2&AS$2&$A18)=\"\",\"★\",INDIRECT($B$2&AS$2&$A18))","v":"★"},{"$f":"IF(INDIRECT($B$2&AT$2&$A18)=\"\",\"★\",INDIRECT($B$2&AT$2&$A18))","v":"★"},{"$f":"IF(INDIRECT($B$2&AU$2&$A18)=\"\",\"★\",INDIRECT($B$2&AU$2&$A18))","v":"★"},{"$f":"IF(INDIRECT($B$2&AV$2&$A18)=\"\",\"★\",INDIRECT($B$2&AV$2&$A18))","v":"★"},{"$f":"IF(INDIRECT($B$2&AW$2&$A18)=\"\",\"★\",INDIRECT($B$2&AW$2&$A18))","v":"★"},{"$f":"IF(INDIRECT($B$2&AX$2&$A18)=\"\",\"★\",INDIRECT($B$2&AX$2&$A18))","v":"★"},{"$f":"IF(INDIRECT($B$2&AY$2&$A18)=\"\",\"★\",INDIRECT($B$2&AY$2&$A18))","v":"★"},{"$f":"IF(INDIRECT($B$2&AZ$2&$A18)=\"\",\"★\",INDIRECT($B$2&AZ$2&$A18))","v":"★"},{"$f":"IF(INDIRECT($B$2&BA$2&$A18)=\"\",\"★\",INDIRECT($B$2&BA$2&$A18))","v":"★"},{"$f":"IF(INDIRECT($B$2&BB$2&$A18)=\"\",\"★\",INDIRECT($B$2&BB$2&$A18))","v":"★"},{"$f":"IF(INDIRECT($B$2&BC$2&$A18)=\"\",\"★\",INDIRECT($B$2&BC$2&$A18))","v":"★"},{"$f":"IF(INDIRECT($B$2&BD$2&$A18)=\"\",\"★\",INDIRECT($B$2&BD$2&$A18))","v":"★"},{"$f":"IF(INDIRECT($B$2&BE$2&$A18)=\"\",\"★\",INDIRECT($B$2&BE$2&$A18))","v":"★"},{"$f":"IF(INDIRECT($B$2&BF$2&$A18)=\"\",\"★\",INDIRECT($B$2&BF$2&$A18))","v":"★"},{"$f":"IF(INDIRECT($B$2&BG$2&$A18)=\"\",\"★\",INDIRECT($B$2&BG$2&$A18))","v":0},{"$f":"IF(INDIRECT($B$2&BH$2&$A18)=\"\",\"★\",INDIRECT($B$2&BH$2&$A18))","v":"★"},{"$f":"IF(INDIRECT($B$2&BI$2&$A18)=\"\",\"★\",INDIRECT($B$2&BI$2&$A18))","v":"★"},{"$f":"IF(INDIRECT($B$2&BJ$2&$A18)=\"\",\"★\",INDIRECT($B$2&BJ$2&$A18))","v":"★"},{"$f":"IF(INDIRECT($B$2&BK$2&$A18)=\"\",\"★\",INDIRECT($B$2&BK$2&$A18))","v":"★"},{"$f":"IF(INDIRECT($B$2&BL$2&$A18)=\"\",\"★\",INDIRECT($B$2&BL$2&$A18))","v":"★"},{"$f":"IF(INDIRECT($B$2&BM$2&$A18)=\"\",\"★\",INDIRECT($B$2&BM$2&$A18))","v":"★"},{"$f":"IF(INDIRECT($B$2&BN$2&$A18)=\"\",\"★\",INDIRECT($B$2&BN$2&$A18))","v":"★"},{"$f":"IF(INDIRECT($B$2&BO$2&$A18)=\"\",\"★\",INDIRECT($B$2&BO$2&$A18))","v":"★"},{"$f":"IF(INDIRECT($B$2&BP$2&$A18)=\"\",\"★\",INDIRECT($B$2&BP$2&$A18))","v":"★"},{"$f":"IF(INDIRECT($B$2&BQ$2&$A18)=\"\",\"★\",INDIRECT($B$2&BQ$2&$A18))","v":"★"},{"$f":"IF(INDIRECT($B$2&BR$2&$A18)=\"\",\"★\",INDIRECT($B$2&BR$2&$A18))","v":"★"},{"$f":"IF(INDIRECT($B$2&BS$2&$A18)=\"\",\"★\",INDIRECT($B$2&BS$2&$A18))","v":"★"},{"$f":"IF(INDIRECT($B$2&BT$2&$A18)=\"\",\"★\",INDIRECT($B$2&BT$2&$A18))","v":"★"},{"$f":"IF(INDIRECT($B$2&BU$2&$A18)=\"\",\"★\",INDIRECT($B$2&BU$2&$A18))","v":"★"},{"$f":"IF(INDIRECT($B$2&BV$2&$A18)=\"\",\"★\",INDIRECT($B$2&BV$2&$A18))","v":"★"},{"$f":"IF(INDIRECT($B$2&BW$2&$A18)=\"\",\"★\",INDIRECT($B$2&BW$2&$A18))","v":"★"},{"$f":"IF(INDIRECT($B$2&BX$2&$A18)=\"\",\"★\",INDIRECT($B$2&BX$2&$A18))","v":"★"},{"$f":"IF(INDIRECT($B$2&BY$2&$A18)=\"\",\"★\",INDIRECT($B$2&BY$2&$A18))","v":"★"}]
[38,null,null,null,null,null,null,null,null,null,null,null,null,9,{"$f":"IF(INDIRECT($B$2&$O$2&$A19)=\"\",\"★\",INDIRECT($B$2&$O$2&$A19))","v":"★"},{"$f":"IF(INDIRECT($B$2&$P$2&$A19)=\"\",\"★\",INDIRECT($B$2&$P$2&$A19))","v":0},{"$f":"IF(INDIRECT($B$2&$Q$2&$A19)=\"\",\"★\",INDIRECT($B$2&$Q$2&$A19))","v":0},{"$f":"IF(INDIRECT($B$2&$R$2&$A19)=\"\",\"★\",INDIRECT($B$2&$R$2&$A19))","v":0},{"$f":"IF(INDIRECT($B$2&$S$2&$A19)=\"\",\"★\",INDIRECT($B$2&$S$2&$A19))","v":"★"},{"$f":"IF(INDIRECT($B$2&$T$2&$A19)=\"\",\"★\",INDIRECT($B$2&$T$2&$A19))","v":"★"},{"$f":"IF(INDIRECT($B$2&$U$2&$A19)=\"\",\"★\",INDIRECT($B$2&$U$2&$A19))","v":"★"},{"$f":"IF(INDIRECT($B$2&$V$2&$A19)=\"\",\"★\",INDIRECT($B$2&$V$2&$A19))","v":"★"},{"$f":"IF(INDIRECT($B$2&$W$2&$A19)=\"\",\"★\",INDIRECT($B$2&$W$2&$A19))","v":"★"},{"$f":"IF(INDIRECT($B$2&$X$2&$A19)=\"\",\"★\",INDIRECT($B$2&$X$2&$A19))","v":"★"},{"$f":"IF(INDIRECT($B$2&$Y$2&$A19)=\"\",\"★\",INDIRECT($B$2&$Y$2&$A19))","v":"★"},{"$f":"IF(INDIRECT($B$2&$Z$2&$A19)=\"\",\"★\",INDIRECT($B$2&$Z$2&$A19))","v":"★"},{"$f":"IF(INDIRECT($B$2&$AA$2&$A19)=\"\",\"★\",INDIRECT($B$2&$AA$2&$A19))","v":"★"},{"$f":"IF(INDIRECT($B$2&$AB$2&$A19)=\"\",\"★\",INDIRECT($B$2&$AB$2&$A19))","v":"★"},{"$f":"IF(INDIRECT($B$2&AC$2&$A19)=\"\",\"★\",INDIRECT($B$2&AC$2&$A19))","v":"★"},{"$f":"IF(INDIRECT($B$2&AD$2&$A19)=\"\",\"★\",INDIRECT($B$2&AD$2&$A19))","v":"★"},{"$f":"IF(INDIRECT($B$2&AE$2&$A19)=\"\",\"★\",INDIRECT($B$2&AE$2&$A19))","v":"★"},{"$f":"IF(INDIRECT($B$2&AF$2&$A19)=\"\",\"★\",INDIRECT($B$2&AF$2&$A19))","v":"★"},{"$f":"IF(INDIRECT($B$2&AG$2&$A19)=\"\",\"★\",INDIRECT($B$2&AG$2&$A19))","v":"★"},{"$f":"IF(INDIRECT($B$2&AH$2&$A19)=\"\",\"★\",INDIRECT($B$2&AH$2&$A19))","v":"★"},{"$f":"IF(INDIRECT($B$2&AI$2&$A19)=\"\",\"★\",INDIRECT($B$2&AI$2&$A19))","v":"★"},{"$f":"IF(INDIRECT($B$2&AJ$2&$A19)=\"\",\"★\",INDIRECT($B$2&AJ$2&$A19))","v":"★"},{"$f":"IF(INDIRECT($B$2&AK$2&$A19)=\"\",\"★\",INDIRECT($B$2&AK$2&$A19))","v":"★"},{"$f":"IF(INDIRECT($B$2&AL$2&$A19)=\"\",\"★\",INDIRECT($B$2&AL$2&$A19))","v":"★"},{"$f":"IF(INDIRECT($B$2&AM$2&$A19)=\"\",\"★\",INDIRECT($B$2&AM$2&$A19))","v":"★"},{"$f":"IF(INDIRECT($B$2&AN$2&$A19)=\"\",\"★\",INDIRECT($B$2&AN$2&$A19))","v":"★"},{"$f":"IF(INDIRECT($B$2&AO$2&$A19)=\"\",\"★\",INDIRECT($B$2&AO$2&$A19))","v":"★"},{"$f":"IF(INDIRECT($B$2&AP$2&$A19)=\"\",\"★\",INDIRECT($B$2&AP$2&$A19))","v":"★"},{"$f":"IF(INDIRECT($B$2&AQ$2&$A19)=\"\",\"★\",INDIRECT($B$2&AQ$2&$A19))","v":"★"},{"$f":"IF(INDIRECT($B$2&AR$2&$A19)=\"\",\"★\",INDIRECT($B$2&AR$2&$A19))","v":0},{"$f":"IF(INDIRECT($B$2&AS$2&$A19)=\"\",\"★\",INDIRECT($B$2&AS$2&$A19))","v":"★"},{"$f":"IF(INDIRECT($B$2&AT$2&$A19)=\"\",\"★\",INDIRECT($B$2&AT$2&$A19))","v":"★"},{"$f":"IF(INDIRECT($B$2&AU$2&$A19)=\"\",\"★\",INDIRECT($B$2&AU$2&$A19))","v":"★"},{"$f":"IF(INDIRECT($B$2&AV$2&$A19)=\"\",\"★\",INDIRECT($B$2&AV$2&$A19))","v":"★"},{"$f":"IF(INDIRECT($B$2&AW$2&$A19)=\"\",\"★\",INDIRECT($B$2&AW$2&$A19))","v":"★"},{"$f":"IF(INDIRECT($B$2&AX$2&$A19)=\"\",\"★\",INDIRECT($B$2&AX$2&$A19))","v":"★"},{"$f":"IF(INDIRECT($B$2&AY$2&$A19)=\"\",\"★\",INDIRECT($B$2&AY$2&$A19))","v":"★"},{"$f":"IF(INDIRECT($B$2&AZ$2&$A19)=\"\",\"★\",INDIRECT($B$2&AZ$2&$A19))","v":"★"},{"$f":"IF(INDIRECT($B$2&BA$2&$A19)=\"\",\"★\",INDIRECT($B$2&BA$2&$A19))","v":"★"},{"$f":"IF(INDIRECT($B$2&BB$2&$A19)=\"\",\"★\",INDIRECT($B$2&BB$2&$A19))","v":"★"},{"$f":"IF(INDIRECT($B$2&BC$2&$A19)=\"\",\"★\",INDIRECT($B$2&BC$2&$A19))","v":"★"},{"$f":"IF(INDIRECT($B$2&BD$2&$A19)=\"\",\"★\",INDIRECT($B$2&BD$2&$A19))","v":"★"},{"$f":"IF(INDIRECT($B$2&BE$2&$A19)=\"\",\"★\",INDIRECT($B$2&BE$2&$A19))","v":"★"},{"$f":"IF(INDIRECT($B$2&BF$2&$A19)=\"\",\"★\",INDIRECT($B$2&BF$2&$A19))","v":"★"},{"$f":"IF(INDIRECT($B$2&BG$2&$A19)=\"\",\"★\",INDIRECT($B$2&BG$2&$A19))","v":0},{"$f":"IF(INDIRECT($B$2&BH$2&$A19)=\"\",\"★\",INDIRECT($B$2&BH$2&$A19))","v":"★"},{"$f":"IF(INDIRECT($B$2&BI$2&$A19)=\"\",\"★\",INDIRECT($B$2&BI$2&$A19))","v":"★"},{"$f":"IF(INDIRECT($B$2&BJ$2&$A19)=\"\",\"★\",INDIRECT($B$2&BJ$2&$A19))","v":"★"},{"$f":"IF(INDIRECT($B$2&BK$2&$A19)=\"\",\"★\",INDIRECT($B$2&BK$2&$A19))","v":"★"},{"$f":"IF(INDIRECT($B$2&BL$2&$A19)=\"\",\"★\",INDIRECT($B$2&BL$2&$A19))","v":"★"},{"$f":"IF(INDIRECT($B$2&BM$2&$A19)=\"\",\"★\",INDIRECT($B$2&BM$2&$A19))","v":"★"},{"$f":"IF(INDIRECT($B$2&BN$2&$A19)=\"\",\"★\",INDIRECT($B$2&BN$2&$A19))","v":"★"},{"$f":"IF(INDIRECT($B$2&BO$2&$A19)=\"\",\"★\",INDIRECT($B$2&BO$2&$A19))","v":"★"},{"$f":"IF(INDIRECT($B$2&BP$2&$A19)=\"\",\"★\",INDIRECT($B$2&BP$2&$A19))","v":"★"},{"$f":"IF(INDIRECT($B$2&BQ$2&$A19)=\"\",\"★\",INDIRECT($B$2&BQ$2&$A19))","v":"★"},{"$f":"IF(INDIRECT($B$2&BR$2&$A19)=\"\",\"★\",INDIRECT($B$2&BR$2&$A19))","v":"★"},{"$f":"IF(INDIRECT($B$2&BS$2&$A19)=\"\",\"★\",INDIRECT($B$2&BS$2&$A19))","v":"★"},{"$f":"IF(INDIRECT($B$2&BT$2&$A19)=\"\",\"★\",INDIRECT($B$2&BT$2&$A19))","v":"★"},{"$f":"IF(INDIRECT($B$2&BU$2&$A19)=\"\",\"★\",INDIRECT($B$2&BU$2&$A19))","v":"★"},{"$f":"IF(INDIRECT($B$2&BV$2&$A19)=\"\",\"★\",INDIRECT($B$2&BV$2&$A19))","v":"★"},{"$f":"IF(INDIRECT($B$2&BW$2&$A19)=\"\",\"★\",INDIRECT($B$2&BW$2&$A19))","v":"★"},{"$f":"IF(INDIRECT($B$2&BX$2&$A19)=\"\",\"★\",INDIRECT($B$2&BX$2&$A19))","v":"★"},{"$f":"IF(INDIRECT($B$2&BY$2&$A19)=\"\",\"★\",INDIRECT($B$2&BY$2&$A19))","v":"★"}]
[39,null,null,null,null,null,null,null,null,null,null,null,null,10,{"$f":"IF(INDIRECT($B$2&$O$2&$A20)=\"\",\"★\",INDIRECT($B$2&$O$2&$A20))","v":"★"},{"$f":"IF(INDIRECT($B$2&$P$2&$A20)=\"\",\"★\",INDIRECT($B$2&$P$2&$A20))","v":0},{"$f":"IF(INDIRECT($B$2&$Q$2&$A20)=\"\",\"★\",INDIRECT($B$2&$Q$2&$A20))","v":0},{"$f":"IF(INDIRECT($B$2&$R$2&$A20)=\"\",\"★\",INDIRECT($B$2&$R$2&$A20))","v":0},{"$f":"IF(INDIRECT($B$2&$S$2&$A20)=\"\",\"★\",INDIRECT($B$2&$S$2&$A20))","v":"★"},{"$f":"IF(INDIRECT($B$2&$T$2&$A20)=\"\",\"★\",INDIRECT($B$2&$T$2&$A20))","v":"★"},{"$f":"IF(INDIRECT($B$2&$U$2&$A20)=\"\",\"★\",INDIRECT($B$2&$U$2&$A20))","v":"★"},{"$f":"IF(INDIRECT($B$2&$V$2&$A20)=\"\",\"★\",INDIRECT($B$2&$V$2&$A20))","v":"★"},{"$f":"IF(INDIRECT($B$2&$W$2&$A20)=\"\",\"★\",INDIRECT($B$2&$W$2&$A20))","v":"★"},{"$f":"IF(INDIRECT($B$2&$X$2&$A20)=\"\",\"★\",INDIRECT($B$2&$X$2&$A20))","v":"★"},{"$f":"IF(INDIRECT($B$2&$Y$2&$A20)=\"\",\"★\",INDIRECT($B$2&$Y$2&$A20))","v":"★"},{"$f":"IF(INDIRECT($B$2&$Z$2&$A20)=\"\",\"★\",INDIRECT($B$2&$Z$2&$A20))","v":"★"},{"$f":"IF(INDIRECT($B$2&$AA$2&$A20)=\"\",\"★\",INDIRECT($B$2&$AA$2&$A20))","v":"★"},{"$f":"IF(INDIRECT($B$2&$AB$2&$A20)=\"\",\"★\",INDIRECT($B$2&$AB$2&$A20))","v":"★"},{"$f":"IF(INDIRECT($B$2&AC$2&$A20)=\"\",\"★\",INDIRECT($B$2&AC$2&$A20))","v":"★"},{"$f":"IF(INDIRECT($B$2&AD$2&$A20)=\"\",\"★\",INDIRECT($B$2&AD$2&$A20))","v":"★"},{"$f":"IF(INDIRECT($B$2&AE$2&$A20)=\"\",\"★\",INDIRECT($B$2&AE$2&$A20))","v":"★"},{"$f":"IF(INDIRECT($B$2&AF$2&$A20)=\"\",\"★\",INDIRECT($B$2&AF$2&$A20))","v":"★"},{"$f":"IF(INDIRECT($B$2&AG$2&$A20)=\"\",\"★\",INDIRECT($B$2&AG$2&$A20))","v":"★"},{"$f":"IF(INDIRECT($B$2&AH$2&$A20)=\"\",\"★\",INDIRECT($B$2&AH$2&$A20))","v":"★"},{"$f":"IF(INDIRECT($B$2&AI$2&$A20)=\"\",\"★\",INDIRECT($B$2&AI$2&$A20))","v":"★"},{"$f":"IF(INDIRECT($B$2&AJ$2&$A20)=\"\",\"★\",INDIRECT($B$2&AJ$2&$A20))","v":"★"},{"$f":"IF(INDIRECT($B$2&AK$2&$A20)=\"\",\"★\",INDIRECT($B$2&AK$2&$A20))","v":"★"},{"$f":"IF(INDIRECT($B$2&AL$2&$A20)=\"\",\"★\",INDIRECT($B$2&AL$2&$A20))","v":"★"},{"$f":"IF(INDIRECT($B$2&AM$2&$A20)=\"\",\"★\",INDIRECT($B$2&AM$2&$A20))","v":"★"},{"$f":"IF(INDIRECT($B$2&AN$2&$A20)=\"\",\"★\",INDIRECT($B$2&AN$2&$A20))","v":"★"},{"$f":"IF(INDIRECT($B$2&AO$2&$A20)=\"\",\"★\",INDIRECT($B$2&AO$2&$A20))","v":"★"},{"$f":"IF(INDIRECT($B$2&AP$2&$A20)=\"\",\"★\",INDIRECT($B$2&AP$2&$A20))","v":"★"},{"$f":"IF(INDIRECT($B$2&AQ$2&$A20)=\"\",\"★\",INDIRECT($B$2&AQ$2&$A20))","v":"★"},{"$f":"IF(INDIRECT($B$2&AR$2&$A20)=\"\",\"★\",INDIRECT($B$2&AR$2&$A20))","v":0},{"$f":"IF(INDIRECT($B$2&AS$2&$A20)=\"\",\"★\",INDIRECT($B$2&AS$2&$A20))","v":"★"},{"$f":"IF(INDIRECT($B$2&AT$2&$A20)=\"\",\"★\",INDIRECT($B$2&AT$2&$A20))","v":"★"},{"$f":"IF(INDIRECT($B$2&AU$2&$A20)=\"\",\"★\",INDIRECT($B$2&AU$2&$A20))","v":"★"},{"$f":"IF(INDIRECT($B$2&AV$2&$A20)=\"\",\"★\",INDIRECT($B$2&AV$2&$A20))","v":"★"},{"$f":"IF(INDIRECT($B$2&AW$2&$A20)=\"\",\"★\",INDIRECT($B$2&AW$2&$A20))","v":"★"},{"$f":"IF(INDIRECT($B$2&AX$2&$A20)=\"\",\"★\",INDIRECT($B$2&AX$2&$A20))","v":"★"},{"$f":"IF(INDIRECT($B$2&AY$2&$A20)=\"\",\"★\",INDIRECT($B$2&AY$2&$A20))","v":"★"},{"$f":"IF(INDIRECT($B$2&AZ$2&$A20)=\"\",\"★\",INDIRECT($B$2&AZ$2&$A20))","v":"★"},{"$f":"IF(INDIRECT($B$2&BA$2&$A20)=\"\",\"★\",INDIRECT($B$2&BA$2&$A20))","v":"★"},{"$f":"IF(INDIRECT($B$2&BB$2&$A20)=\"\",\"★\",INDIRECT($B$2&BB$2&$A20))","v":"★"},{"$f":"IF(INDIRECT($B$2&BC$2&$A20)=\"\",\"★\",INDIRECT($B$2&BC$2&$A20))","v":"★"},{"$f":"IF(INDIRECT($B$2&BD$2&$A20)=\"\",\"★\",INDIRECT($B$2&BD$2&$A20))","v":"★"},{"$f":"IF(INDIRECT($B$2&BE$2&$A20)=\"\",\"★\",INDIRECT($B$2&BE$2&$A20))","v":"★"},{"$f":"IF(INDIRECT($B$2&BF$2&$A20)=\"\",\"★\",INDIRECT($B$2&BF$2&$A20))","v":"★"},{"$f":"IF(INDIRECT($B$2&BG$2&$A20)=\"\",\"★\",INDIRECT($B$2&BG$2&$A20))","v":0},{"$f":"IF(INDIRECT($B$2&BH$2&$A20)=\"\",\"★\",INDIRECT($B$2&BH$2&$A20))","v":"★"},{"$f":"IF(INDIRECT($B$2&BI$2&$A20)=\"\",\"★\",INDIRECT($B$2&BI$2&$A20))","v":"★"},{"$f":"IF(INDIRECT($B$2&BJ$2&$A20)=\"\",\"★\",INDIRECT($B$2&BJ$2&$A20))","v":"★"},{"$f":"IF(INDIRECT($B$2&BK$2&$A20)=\"\",\"★\",INDIRECT($B$2&BK$2&$A20))","v":"★"},{"$f":"IF(INDIRECT($B$2&BL$2&$A20)=\"\",\"★\",INDIRECT($B$2&BL$2&$A20))","v":"★"},{"$f":"IF(INDIRECT($B$2&BM$2&$A20)=\"\",\"★\",INDIRECT($B$2&BM$2&$A20))","v":"★"},{"$f":"IF(INDIRECT($B$2&BN$2&$A20)=\"\",\"★\",INDIRECT($B$2&BN$2&$A20))","v":"★"},{"$f":"IF(INDIRECT($B$2&BO$2&$A20)=\"\",\"★\",INDIRECT($B$2&BO$2&$A20))","v":"★"},{"$f":"IF(INDIRECT($B$2&BP$2&$A20)=\"\",\"★\",INDIRECT($B$2&BP$2&$A20))","v":"★"},{"$f":"IF(INDIRECT($B$2&BQ$2&$A20)=\"\",\"★\",INDIRECT($B$2&BQ$2&$A20))","v":"★"},{"$f":"IF(INDIRECT($B$2&BR$2&$A20)=\"\",\"★\",INDIRECT($B$2&BR$2&$A20))","v":"★"},{"$f":"IF(INDIRECT($B$2&BS$2&$A20)=\"\",\"★\",INDIRECT($B$2&BS$2&$A20))","v":"★"},{"$f":"IF(INDIRECT($B$2&BT$2&$A20)=\"\",\"★\",INDIRECT($B$2&BT$2&$A20))","v":"★"},{"$f":"IF(INDIRECT($B$2&BU$2&$A20)=\"\",\"★\",INDIRECT($B$2&BU$2&$A20))","v":"★"},{"$f":"IF(INDIRECT($B$2&BV$2&$A20)=\"\",\"★\",INDIRECT($B$2&BV$2&$A20))","v":"★"},{"$f":"IF(INDIRECT($B$2&BW$2&$A20)=\"\",\"★\",INDIRECT($B$2&BW$2&$A20))","v":"★"},{"$f":"IF(INDIRECT($B$2&BX$2&$A20)=\"\",\"★\",INDIRECT($B$2&BX$2&$A20))","v":"★"},{"$f":"IF(INDIRECT($B$2&BY$2&$A20)=\"\",\"★\",INDIRECT($B$2&BY$2&$A20))","v":"★"}]
[40,null,null,null,null,null,null,null,null,null,null,null,null,11,{"$f":"IF(INDIRECT($B$2&$O$2&$A21)=\"\",\"★\",INDIRECT($B$2&$O$2&$A21))","v":"★"},{"$f":"IF(INDIRECT($B$2&$P$2&$A21)=\"\",\"★\",INDIRECT($B$2&$P$2&$A21))","v":0},{"$f":"IF(INDIRECT($B$2&$Q$2&$A21)=\"\",\"★\",INDIRECT($B$2&$Q$2&$A21))","v":0},{"$f":"IF(INDIRECT($B$2&$R$2&$A21)=\"\",\"★\",INDIRECT($B$2&$R$2&$A21))","v":0},{"$f":"IF(INDIRECT($B$2&$S$2&$A21)=\"\",\"★\",INDIRECT($B$2&$S$2&$A21))","v":"★"},{"$f":"IF(INDIRECT($B$2&$T$2&$A21)=\"\",\"★\",INDIRECT($B$2&$T$2&$A21))","v":"★"},{"$f":"IF(INDIRECT($B$2&$U$2&$A21)=\"\",\"★\",INDIRECT($B$2&$U$2&$A21))","v":"★"},{"$f":"IF(INDIRECT($B$2&$V$2&$A21)=\"\",\"★\",INDIRECT($B$2&$V$2&$A21))","v":"★"},{"$f":"IF(INDIRECT($B$2&$W$2&$A21)=\"\",\"★\",INDIRECT($B$2&$W$2&$A21))","v":"★"},{"$f":"IF(INDIRECT($B$2&$X$2&$A21)=\"\",\"★\",INDIRECT($B$2&$X$2&$A21))","v":"★"},{"$f":"IF(INDIRECT($B$2&$Y$2&$A21)=\"\",\"★\",INDIRECT($B$2&$Y$2&$A21))","v":"★"},{"$f":"IF(INDIRECT($B$2&$Z$2&$A21)=\"\",\"★\",INDIRECT($B$2&$Z$2&$A21))","v":"★"},{"$f":"IF(INDIRECT($B$2&$AA$2&$A21)=\"\",\"★\",INDIRECT($B$2&$AA$2&$A21))","v":"★"},{"$f":"IF(INDIRECT($B$2&$AB$2&$A21)=\"\",\"★\",INDIRECT($B$2&$AB$2&$A21))","v":"★"},{"$f":"IF(INDIRECT($B$2&AC$2&$A21)=\"\",\"★\",INDIRECT($B$2&AC$2&$A21))","v":"★"},{"$f":"IF(INDIRECT($B$2&AD$2&$A21)=\"\",\"★\",INDIRECT($B$2&AD$2&$A21))","v":"★"},{"$f":"IF(INDIRECT($B$2&AE$2&$A21)=\"\",\"★\",INDIRECT($B$2&AE$2&$A21))","v":"★"},{"$f":"IF(INDIRECT($B$2&AF$2&$A21)=\"\",\"★\",INDIRECT($B$2&AF$2&$A21))","v":"★"},{"$f":"IF(INDIRECT($B$2&AG$2&$A21)=\"\",\"★\",INDIRECT($B$2&AG$2&$A21))","v":"★"},{"$f":"IF(INDIRECT($B$2&AH$2&$A21)=\"\",\"★\",INDIRECT($B$2&AH$2&$A21))","v":"★"},{"$f":"IF(INDIRECT($B$2&AI$2&$A21)=\"\",\"★\",INDIRECT($B$2&AI$2&$A21))","v":"★"},{"$f":"IF(INDIRECT($B$2&AJ$2&$A21)=\"\",\"★\",INDIRECT($B$2&AJ$2&$A21))","v":"★"},{"$f":"IF(INDIRECT($B$2&AK$2&$A21)=\"\",\"★\",INDIRECT($B$2&AK$2&$A21))","v":"★"},{"$f":"IF(INDIRECT($B$2&AL$2&$A21)=\"\",\"★\",INDIRECT($B$2&AL$2&$A21))","v":"★"},{"$f":"IF(INDIRECT($B$2&AM$2&$A21)=\"\",\"★\",INDIRECT($B$2&AM$2&$A21))","v":"★"},{"$f":"IF(INDIRECT($B$2&AN$2&$A21)=\"\",\"★\",INDIRECT($B$2&AN$2&$A21))","v":"★"},{"$f":"IF(INDIRECT($B$2&AO$2&$A21)=\"\",\"★\",INDIRECT($B$2&AO$2&$A21))","v":"★"},{"$f":"IF(INDIRECT($B$2&AP$2&$A21)=\"\",\"★\",INDIRECT($B$2&AP$2&$A21))","v":"★"},{"$f":"IF(INDIRECT($B$2&AQ$2&$A21)=\"\",\"★\",INDIRECT($B$2&AQ$2&$A21))","v":"★"},{"$f":"IF(INDIRECT($B$2&AR$2&$A21)=\"\",\"★\",INDIRECT($B$2&AR$2&$A21))","v":0},{"$f":"IF(INDIRECT($B$2&AS$2&$A21)=\"\",\"★\",INDIRECT($B$2&AS$2&$A21))","v":"★"},{"$f":"IF(INDIRECT($B$2&AT$2&$A21)=\"\",\"★\",INDIRECT($B$2&AT$2&$A21))","v":"★"},{"$f":"IF(INDIRECT($B$2&AU$2&$A21)=\"\",\"★\",INDIRECT($B$2&AU$2&$A21))","v":"★"},{"$f":"IF(INDIRECT($B$2&AV$2&$A21)=\"\",\"★\",INDIRECT($B$2&AV$2&$A21))","v":"★"},{"$f":"IF(INDIRECT($B$2&AW$2&$A21)=\"\",\"★\",INDIRECT($B$2&AW$2&$A21))","v":"★"},{"$f":"IF(INDIRECT($B$2&AX$2&$A21)=\"\",\"★\",INDIRECT($B$2&AX$2&$A21))","v":"★"},{"$f":"IF(INDIRECT($B$2&AY$2&$A21)=\"\",\"★\",INDIRECT($B$2&AY$2&$A21))","v":"★"},{"$f":"IF(INDIRECT($B$2&AZ$2&$A21)=\"\",\"★\",INDIRECT($B$2&AZ$2&$A21))","v":"★"},{"$f":"IF(INDIRECT($B$2&BA$2&$A21)=\"\",\"★\",INDIRECT($B$2&BA$2&$A21))","v":"★"},{"$f":"IF(INDIRECT($B$2&BB$2&$A21)=\"\",\"★\",INDIRECT($B$2&BB$2&$A21))","v":"★"},{"$f":"IF(INDIRECT($B$2&BC$2&$A21)=\"\",\"★\",INDIRECT($B$2&BC$2&$A21))","v":"★"},{"$f":"IF(INDIRECT($B$2&BD$2&$A21)=\"\",\"★\",INDIRECT($B$2&BD$2&$A21))","v":"★"},{"$f":"IF(INDIRECT($B$2&BE$2&$A21)=\"\",\"★\",INDIRECT($B$2&BE$2&$A21))","v":"★"},{"$f":"IF(INDIRECT($B$2&BF$2&$A21)=\"\",\"★\",INDIRECT($B$2&BF$2&$A21))","v":"★"},{"$f":"IF(INDIRECT($B$2&BG$2&$A21)=\"\",\"★\",INDIRECT($B$2&BG$2&$A21))","v":0},{"$f":"IF(INDIRECT($B$2&BH$2&$A21)=\"\",\"★\",INDIRECT($B$2&BH$2&$A21))","v":"★"},{"$f":"IF(INDIRECT($B$2&BI$2&$A21)=\"\",\"★\",INDIRECT($B$2&BI$2&$A21))","v":"★"},{"$f":"IF(INDIRECT($B$2&BJ$2&$A21)=\"\",\"★\",INDIRECT($B$2&BJ$2&$A21))","v":"★"},{"$f":"IF(INDIRECT($B$2&BK$2&$A21)=\"\",\"★\",INDIRECT($B$2&BK$2&$A21))","v":"★"},{"$f":"IF(INDIRECT($B$2&BL$2&$A21)=\"\",\"★\",INDIRECT($B$2&BL$2&$A21))","v":"★"},{"$f":"IF(INDIRECT($B$2&BM$2&$A21)=\"\",\"★\",INDIRECT($B$2&BM$2&$A21))","v":"★"},{"$f":"IF(INDIRECT($B$2&BN$2&$A21)=\"\",\"★\",INDIRECT($B$2&BN$2&$A21))","v":"★"},{"$f":"IF(INDIRECT($B$2&BO$2&$A21)=\"\",\"★\",INDIRECT($B$2&BO$2&$A21))","v":"★"},{"$f":"IF(INDIRECT($B$2&BP$2&$A21)=\"\",\"★\",INDIRECT($B$2&BP$2&$A21))","v":"★"},{"$f":"IF(INDIRECT($B$2&BQ$2&$A21)=\"\",\"★\",INDIRECT($B$2&BQ$2&$A21))","v":"★"},{"$f":"IF(INDIRECT($B$2&BR$2&$A21)=\"\",\"★\",INDIRECT($B$2&BR$2&$A21))","v":"★"},{"$f":"IF(INDIRECT($B$2&BS$2&$A21)=\"\",\"★\",INDIRECT($B$2&BS$2&$A21))","v":"★"},{"$f":"IF(INDIRECT($B$2&BT$2&$A21)=\"\",\"★\",INDIRECT($B$2&BT$2&$A21))","v":"★"},{"$f":"IF(INDIRECT($B$2&BU$2&$A21)=\"\",\"★\",INDIRECT($B$2&BU$2&$A21))","v":"★"},{"$f":"IF(INDIRECT($B$2&BV$2&$A21)=\"\",\"★\",INDIRECT($B$2&BV$2&$A21))","v":"★"},{"$f":"IF(INDIRECT($B$2&BW$2&$A21)=\"\",\"★\",INDIRECT($B$2&BW$2&$A21))","v":"★"},{"$f":"IF(INDIRECT($B$2&BX$2&$A21)=\"\",\"★\",INDIRECT($B$2&BX$2&$A21))","v":"★"},{"$f":"IF(INDIRECT($B$2&BY$2&$A21)=\"\",\"★\",INDIRECT($B$2&BY$2&$A21))","v":"★"}]
[41,null,null,null,null,null,null,null,null,null,null,null,null,12,{"$f":"IF(INDIRECT($B$2&$O$2&$A22)=\"\",\"★\",INDIRECT($B$2&$O$2&$A22))","v":"★"},{"$f":"IF(INDIRECT($B$2&$P$2&$A22)=\"\",\"★\",INDIRECT($B$2&$P$2&$A22))","v":0},{"$f":"IF(INDIRECT($B$2&$Q$2&$A22)=\"\",\"★\",INDIRECT($B$2&$Q$2&$A22))","v":0},{"$f":"IF(INDIRECT($B$2&$R$2&$A22)=\"\",\"★\",INDIRECT($B$2&$R$2&$A22))","v":0},{"$f":"IF(INDIRECT($B$2&$S$2&$A22)=\"\",\"★\",INDIRECT($B$2&$S$2&$A22))","v":"★"},{"$f":"IF(INDIRECT($B$2&$T$2&$A22)=\"\",\"★\",INDIRECT($B$2&$T$2&$A22))","v":"★"},{"$f":"IF(INDIRECT($B$2&$U$2&$A22)=\"\",\"★\",INDIRECT($B$2&$U$2&$A22))","v":"★"},{"$f":"IF(INDIRECT($B$2&$V$2&$A22)=\"\",\"★\",INDIRECT($B$2&$V$2&$A22))","v":"★"},{"$f":"IF(INDIRECT($B$2&$W$2&$A22)=\"\",\"★\",INDIRECT($B$2&$W$2&$A22))","v":"★"},{"$f":"IF(INDIRECT($B$2&$X$2&$A22)=\"\",\"★\",INDIRECT($B$2&$X$2&$A22))","v":"★"},{"$f":"IF(INDIRECT($B$2&$Y$2&$A22)=\"\",\"★\",INDIRECT($B$2&$Y$2&$A22))","v":"★"},{"$f":"IF(INDIRECT($B$2&$Z$2&$A22)=\"\",\"★\",INDIRECT($B$2&$Z$2&$A22))","v":"★"},{"$f":"IF(INDIRECT($B$2&$AA$2&$A22)=\"\",\"★\",INDIRECT($B$2&$AA$2&$A22))","v":"★"},{"$f":"IF(INDIRECT($B$2&$AB$2&$A22)=\"\",\"★\",INDIRECT($B$2&$AB$2&$A22))","v":"★"},{"$f":"IF(INDIRECT($B$2&AC$2&$A22)=\"\",\"★\",INDIRECT($B$2&AC$2&$A22))","v":"★"},{"$f":"IF(INDIRECT($B$2&AD$2&$A22)=\"\",\"★\",INDIRECT($B$2&AD$2&$A22))","v":"★"},{"$f":"IF(INDIRECT($B$2&AE$2&$A22)=\"\",\"★\",INDIRECT($B$2&AE$2&$A22))","v":"★"},{"$f":"IF(INDIRECT($B$2&AF$2&$A22)=\"\",\"★\",INDIRECT($B$2&AF$2&$A22))","v":"★"},{"$f":"IF(INDIRECT($B$2&AG$2&$A22)=\"\",\"★\",INDIRECT($B$2&AG$2&$A22))","v":"★"},{"$f":"IF(INDIRECT($B$2&AH$2&$A22)=\"\",\"★\",INDIRECT($B$2&AH$2&$A22))","v":"★"},{"$f":"IF(INDIRECT($B$2&AI$2&$A22)=\"\",\"★\",INDIRECT($B$2&AI$2&$A22))","v":"★"},{"$f":"IF(INDIRECT($B$2&AJ$2&$A22)=\"\",\"★\",INDIRECT($B$2&AJ$2&$A22))","v":"★"},{"$f":"IF(INDIRECT($B$2&AK$2&$A22)=\"\",\"★\",INDIRECT($B$2&AK$2&$A22))","v":"★"},{"$f":"IF(INDIRECT($B$2&AL$2&$A22)=\"\",\"★\",INDIRECT($B$2&AL$2&$A22))","v":"★"},{"$f":"IF(INDIRECT($B$2&AM$2&$A22)=\"\",\"★\",INDIRECT($B$2&AM$2&$A22))","v":"★"},{"$f":"IF(INDIRECT($B$2&AN$2&$A22)=\"\",\"★\",INDIRECT($B$2&AN$2&$A22))","v":"★"},{"$f":"IF(INDIRECT($B$2&AO$2&$A22)=\"\",\"★\",INDIRECT($B$2&AO$2&$A22))","v":"★"},{"$f":"IF(INDIRECT($B$2&AP$2&$A22)=\"\",\"★\",INDIRECT($B$2&AP$2&$A22))","v":"★"},{"$f":"IF(INDIRECT($B$2&AQ$2&$A22)=\"\",\"★\",INDIRECT($B$2&AQ$2&$A22))","v":"★"},{"$f":"IF(INDIRECT($B$2&AR$2&$A22)=\"\",\"★\",INDIRECT($B$2&AR$2&$A22))","v":0},{"$f":"IF(INDIRECT($B$2&AS$2&$A22)=\"\",\"★\",INDIRECT($B$2&AS$2&$A22))","v":"★"},{"$f":"IF(INDIRECT($B$2&AT$2&$A22)=\"\",\"★\",INDIRECT($B$2&AT$2&$A22))","v":"★"},{"$f":"IF(INDIRECT($B$2&AU$2&$A22)=\"\",\"★\",INDIRECT($B$2&AU$2&$A22))","v":"★"},{"$f":"IF(INDIRECT($B$2&AV$2&$A22)=\"\",\"★\",INDIRECT($B$2&AV$2&$A22))","v":"★"},{"$f":"IF(INDIRECT($B$2&AW$2&$A22)=\"\",\"★\",INDIRECT($B$2&AW$2&$A22))","v":"★"},{"$f":"IF(INDIRECT($B$2&AX$2&$A22)=\"\",\"★\",INDIRECT($B$2&AX$2&$A22))","v":"★"},{"$f":"IF(INDIRECT($B$2&AY$2&$A22)=\"\",\"★\",INDIRECT($B$2&AY$2&$A22))","v":"★"},{"$f":"IF(INDIRECT($B$2&AZ$2&$A22)=\"\",\"★\",INDIRECT($B$2&AZ$2&$A22))","v":"★"},{"$f":"IF(INDIRECT($B$2&BA$2&$A22)=\"\",\"★\",INDIRECT($B$2&BA$2&$A22))","v":"★"},{"$f":"IF(INDIRECT($B$2&BB$2&$A22)=\"\",\"★\",INDIRECT($B$2&BB$2&$A22))","v":"★"},{"$f":"IF(INDIRECT($B$2&BC$2&$A22)=\"\",\"★\",INDIRECT($B$2&BC$2&$A22))","v":"★"},{"$f":"IF(INDIRECT($B$2&BD$2&$A22)=\"\",\"★\",INDIRECT($B$2&BD$2&$A22))","v":"★"},{"$f":"IF(INDIRECT($B$2&BE$2&$A22)=\"\",\"★\",INDIRECT($B$2&BE$2&$A22))","v":"★"},{"$f":"IF(INDIRECT($B$2&BF$2&$A22)=\"\",\"★\",INDIRECT($B$2&BF$2&$A22))","v":"★"},{"$f":"IF(INDIRECT($B$2&BG$2&$A22)=\"\",\"★\",INDIRECT($B$2&BG$2&$A22))","v":0},{"$f":"IF(INDIRECT($B$2&BH$2&$A22)=\"\",\"★\",INDIRECT($B$2&BH$2&$A22))","v":"★"},{"$f":"IF(INDIRECT($B$2&BI$2&$A22)=\"\",\"★\",INDIRECT($B$2&BI$2&$A22))","v":"★"},{"$f":"IF(INDIRECT($B$2&BJ$2&$A22)=\"\",\"★\",INDIRECT($B$2&BJ$2&$A22))","v":"★"},{"$f":"IF(INDIRECT($B$2&BK$2&$A22)=\"\",\"★\",INDIRECT($B$2&BK$2&$A22))","v":"★"},{"$f":"IF(INDIRECT($B$2&BL$2&$A22)=\"\",\"★\",INDIRECT($B$2&BL$2&$A22))","v":"★"},{"$f":"IF(INDIRECT($B$2&BM$2&$A22)=\"\",\"★\",INDIRECT($B$2&BM$2&$A22))","v":"★"},{"$f":"IF(INDIRECT($B$2&BN$2&$A22)=\"\",\"★\",INDIRECT($B$2&BN$2&$A22))","v":"★"},{"$f":"IF(INDIRECT($B$2&BO$2&$A22)=\"\",\"★\",INDIRECT($B$2&BO$2&$A22))","v":"★"},{"$f":"IF(INDIRECT($B$2&BP$2&$A22)=\"\",\"★\",INDIRECT($B$2&BP$2&$A22))","v":"★"},{"$f":"IF(INDIRECT($B$2&BQ$2&$A22)=\"\",\"★\",INDIRECT($B$2&BQ$2&$A22))","v":"★"},{"$f":"IF(INDIRECT($B$2&BR$2&$A22)=\"\",\"★\",INDIRECT($B$2&BR$2&$A22))","v":"★"},{"$f":"IF(INDIRECT($B$2&BS$2&$A22)=\"\",\"★\",INDIRECT($B$2&BS$2&$A22))","v":"★"},{"$f":"IF(INDIRECT($B$2&BT$2&$A22)=\"\",\"★\",INDIRECT($B$2&BT$2&$A22))","v":"★"},{"$f":"IF(INDIRECT($B$2&BU$2&$A22)=\"\",\"★\",INDIRECT($B$2&BU$2&$A22))","v":"★"},{"$f":"IF(INDIRECT($B$2&BV$2&$A22)=\"\",\"★\",INDIRECT($B$2&BV$2&$A22))","v":"★"},{"$f":"IF(INDIRECT($B$2&BW$2&$A22)=\"\",\"★\",INDIRECT($B$2&BW$2&$A22))","v":"★"},{"$f":"IF(INDIRECT($B$2&BX$2&$A22)=\"\",\"★\",INDIRECT($B$2&BX$2&$A22))","v":"★"},{"$f":"IF(INDIRECT($B$2&BY$2&$A22)=\"\",\"★\",INDIRECT($B$2&BY$2&$A22))","v":"★"}]
[42,null,null,null,null,null,null,null,null,null,null,null,null,13,{"$f":"IF(INDIRECT($B$2&$O$2&$A23)=\"\",\"★\",INDIRECT($B$2&$O$2&$A23))","v":"★"},{"$f":"IF(INDIRECT($B$2&$P$2&$A23)=\"\",\"★\",INDIRECT($B$2&$P$2&$A23))","v":0},{"$f":"IF(INDIRECT($B$2&$Q$2&$A23)=\"\",\"★\",INDIRECT($B$2&$Q$2&$A23))","v":0},{"$f":"IF(INDIRECT($B$2&$R$2&$A23)=\"\",\"★\",INDIRECT($B$2&$R$2&$A23))","v":0},{"$f":"IF(INDIRECT($B$2&$S$2&$A23)=\"\",\"★\",INDIRECT($B$2&$S$2&$A23))","v":"★"},{"$f":"IF(INDIRECT($B$2&$T$2&$A23)=\"\",\"★\",INDIRECT($B$2&$T$2&$A23))","v":"★"},{"$f":"IF(INDIRECT($B$2&$U$2&$A23)=\"\",\"★\",INDIRECT($B$2&$U$2&$A23))","v":"★"},{"$f":"IF(INDIRECT($B$2&$V$2&$A23)=\"\",\"★\",INDIRECT($B$2&$V$2&$A23))","v":"★"},{"$f":"IF(INDIRECT($B$2&$W$2&$A23)=\"\",\"★\",INDIRECT($B$2&$W$2&$A23))","v":"★"},{"$f":"IF(INDIRECT($B$2&$X$2&$A23)=\"\",\"★\",INDIRECT($B$2&$X$2&$A23))","v":"★"},{"$f":"IF(INDIRECT($B$2&$Y$2&$A23)=\"\",\"★\",INDIRECT($B$2&$Y$2&$A23))","v":"★"},{"$f":"IF(INDIRECT($B$2&$Z$2&$A23)=\"\",\"★\",INDIRECT($B$2&$Z$2&$A23))","v":"★"},{"$f":"IF(INDIRECT($B$2&$AA$2&$A23)=\"\",\"★\",INDIRECT($B$2&$AA$2&$A23))","v":"★"},{"$f":"IF(INDIRECT($B$2&$AB$2&$A23)=\"\",\"★\",INDIRECT($B$2&$AB$2&$A23))","v":"★"},{"$f":"IF(INDIRECT($B$2&AC$2&$A23)=\"\",\"★\",INDIRECT($B$2&AC$2&$A23))","v":"★"},{"$f":"IF(INDIRECT($B$2&AD$2&$A23)=\"\",\"★\",INDIRECT($B$2&AD$2&$A23))","v":"★"},{"$f":"IF(INDIRECT($B$2&AE$2&$A23)=\"\",\"★\",INDIRECT($B$2&AE$2&$A23))","v":"★"},{"$f":"IF(INDIRECT($B$2&AF$2&$A23)=\"\",\"★\",INDIRECT($B$2&AF$2&$A23))","v":"★"},{"$f":"IF(INDIRECT($B$2&AG$2&$A23)=\"\",\"★\",INDIRECT($B$2&AG$2&$A23))","v":"★"},{"$f":"IF(INDIRECT($B$2&AH$2&$A23)=\"\",\"★\",INDIRECT($B$2&AH$2&$A23))","v":"★"},{"$f":"IF(INDIRECT($B$2&AI$2&$A23)=\"\",\"★\",INDIRECT($B$2&AI$2&$A23))","v":"★"},{"$f":"IF(INDIRECT($B$2&AJ$2&$A23)=\"\",\"★\",INDIRECT($B$2&AJ$2&$A23))","v":"★"},{"$f":"IF(INDIRECT($B$2&AK$2&$A23)=\"\",\"★\",INDIRECT($B$2&AK$2&$A23))","v":"★"},{"$f":"IF(INDIRECT($B$2&AL$2&$A23)=\"\",\"★\",INDIRECT($B$2&AL$2&$A23))","v":"★"},{"$f":"IF(INDIRECT($B$2&AM$2&$A23)=\"\",\"★\",INDIRECT($B$2&AM$2&$A23))","v":"★"},{"$f":"IF(INDIRECT($B$2&AN$2&$A23)=\"\",\"★\",INDIRECT($B$2&AN$2&$A23))","v":"★"},{"$f":"IF(INDIRECT($B$2&AO$2&$A23)=\"\",\"★\",INDIRECT($B$2&AO$2&$A23))","v":"★"},{"$f":"IF(INDIRECT($B$2&AP$2&$A23)=\"\",\"★\",INDIRECT($B$2&AP$2&$A23))","v":"★"},{"$f":"IF(INDIRECT($B$2&AQ$2&$A23)=\"\",\"★\",INDIRECT($B$2&AQ$2&$A23))","v":"★"},{"$f":"IF(INDIRECT($B$2&AR$2&$A23)=\"\",\"★\",INDIRECT($B$2&AR$2&$A23))","v":0},{"$f":"IF(INDIRECT($B$2&AS$2&$A23)=\"\",\"★\",INDIRECT($B$2&AS$2&$A23))","v":"★"},{"$f":"IF(INDIRECT($B$2&AT$2&$A23)=\"\",\"★\",INDIRECT($B$2&AT$2&$A23))","v":"★"},{"$f":"IF(INDIRECT($B$2&AU$2&$A23)=\"\",\"★\",INDIRECT($B$2&AU$2&$A23))","v":"★"},{"$f":"IF(INDIRECT($B$2&AV$2&$A23)=\"\",\"★\",INDIRECT($B$2&AV$2&$A23))","v":"★"},{"$f":"IF(INDIRECT($B$2&AW$2&$A23)=\"\",\"★\",INDIRECT($B$2&AW$2&$A23))","v":"★"},{"$f":"IF(INDIRECT($B$2&AX$2&$A23)=\"\",\"★\",INDIRECT($B$2&AX$2&$A23))","v":"★"},{"$f":"IF(INDIRECT($B$2&AY$2&$A23)=\"\",\"★\",INDIRECT($B$2&AY$2&$A23))","v":"★"},{"$f":"IF(INDIRECT($B$2&AZ$2&$A23)=\"\",\"★\",INDIRECT($B$2&AZ$2&$A23))","v":"★"},{"$f":"IF(INDIRECT($B$2&BA$2&$A23)=\"\",\"★\",INDIRECT($B$2&BA$2&$A23))","v":"★"},{"$f":"IF(INDIRECT($B$2&BB$2&$A23)=\"\",\"★\",INDIRECT($B$2&BB$2&$A23))","v":"★"},{"$f":"IF(INDIRECT($B$2&BC$2&$A23)=\"\",\"★\",INDIRECT($B$2&BC$2&$A23))","v":"★"},{"$f":"IF(INDIRECT($B$2&BD$2&$A23)=\"\",\"★\",INDIRECT($B$2&BD$2&$A23))","v":"★"},{"$f":"IF(INDIRECT($B$2&BE$2&$A23)=\"\",\"★\",INDIRECT($B$2&BE$2&$A23))","v":"★"},{"$f":"IF(INDIRECT($B$2&BF$2&$A23)=\"\",\"★\",INDIRECT($B$2&BF$2&$A23))","v":"★"},{"$f":"IF(INDIRECT($B$2&BG$2&$A23)=\"\",\"★\",INDIRECT($B$2&BG$2&$A23))","v":0},{"$f":"IF(INDIRECT($B$2&BH$2&$A23)=\"\",\"★\",INDIRECT($B$2&BH$2&$A23))","v":"★"},{"$f":"IF(INDIRECT($B$2&BI$2&$A23)=\"\",\"★\",INDIRECT($B$2&BI$2&$A23))","v":"★"},{"$f":"IF(INDIRECT($B$2&BJ$2&$A23)=\"\",\"★\",INDIRECT($B$2&BJ$2&$A23))","v":"★"},{"$f":"IF(INDIRECT($B$2&BK$2&$A23)=\"\",\"★\",INDIRECT($B$2&BK$2&$A23))","v":"★"},{"$f":"IF(INDIRECT($B$2&BL$2&$A23)=\"\",\"★\",INDIRECT($B$2&BL$2&$A23))","v":"★"},{"$f":"IF(INDIRECT($B$2&BM$2&$A23)=\"\",\"★\",INDIRECT($B$2&BM$2&$A23))","v":"★"},{"$f":"IF(INDIRECT($B$2&BN$2&$A23)=\"\",\"★\",INDIRECT($B$2&BN$2&$A23))","v":"★"},{"$f":"IF(INDIRECT($B$2&BO$2&$A23)=\"\",\"★\",INDIRECT($B$2&BO$2&$A23))","v":"★"},{"$f":"IF(INDIRECT($B$2&BP$2&$A23)=\"\",\"★\",INDIRECT($B$2&BP$2&$A23))","v":"★"},{"$f":"IF(INDIRECT($B$2&BQ$2&$A23)=\"\",\"★\",INDIRECT($B$2&BQ$2&$A23))","v":"★"},{"$f":"IF(INDIRECT($B$2&BR$2&$A23)=\"\",\"★\",INDIRECT($B$2&BR$2&$A23))","v":"★"},{"$f":"IF(INDIRECT($B$2&BS$2&$A23)=\"\",\"★\",INDIRECT($B$2&BS$2&$A23))","v":"★"},{"$f":"IF(INDIRECT($B$2&BT$2&$A23)=\"\",\"★\",INDIRECT($B$2&BT$2&$A23))","v":"★"},{"$f":"IF(INDIRECT($B$2&BU$2&$A23)=\"\",\"★\",INDIRECT($B$2&BU$2&$A23))","v":"★"},{"$f":"IF(INDIRECT($B$2&BV$2&$A23)=\"\",\"★\",INDIRECT($B$2&BV$2&$A23))","v":"★"},{"$f":"IF(INDIRECT($B$2&BW$2&$A23)=\"\",\"★\",INDIRECT($B$2&BW$2&$A23))","v":"★"},{"$f":"IF(INDIRECT($B$2&BX$2&$A23)=\"\",\"★\",INDIRECT($B$2&BX$2&$A23))","v":"★"},{"$f":"IF(INDIRECT($B$2&BY$2&$A23)=\"\",\"★\",INDIRECT($B$2&BY$2&$A23))","v":"★"}]
[43,null,null,null,null,null,null,null,null,null,null,null,null,14,{"$f":"IF(INDIRECT($B$2&$O$2&$A24)=\"\",\"★\",INDIRECT($B$2&$O$2&$A24))","v":"★"},{"$f":"IF(INDIRECT($B$2&$P$2&$A24)=\"\",\"★\",INDIRECT($B$2&$P$2&$A24))","v":0},{"$f":"IF(INDIRECT($B$2&$Q$2&$A24)=\"\",\"★\",INDIRECT($B$2&$Q$2&$A24))","v":0},{"$f":"IF(INDIRECT($B$2&$R$2&$A24)=\"\",\"★\",INDIRECT($B$2&$R$2&$A24))","v":0},{"$f":"IF(INDIRECT($B$2&$S$2&$A24)=\"\",\"★\",INDIRECT($B$2&$S$2&$A24))","v":"★"},{"$f":"IF(INDIRECT($B$2&$T$2&$A24)=\"\",\"★\",INDIRECT($B$2&$T$2&$A24))","v":"★"},{"$f":"IF(INDIRECT($B$2&$U$2&$A24)=\"\",\"★\",INDIRECT($B$2&$U$2&$A24))","v":"★"},{"$f":"IF(INDIRECT($B$2&$V$2&$A24)=\"\",\"★\",INDIRECT($B$2&$V$2&$A24))","v":"★"},{"$f":"IF(INDIRECT($B$2&$W$2&$A24)=\"\",\"★\",INDIRECT($B$2&$W$2&$A24))","v":"★"},{"$f":"IF(INDIRECT($B$2&$X$2&$A24)=\"\",\"★\",INDIRECT($B$2&$X$2&$A24))","v":"★"},{"$f":"IF(INDIRECT($B$2&$Y$2&$A24)=\"\",\"★\",INDIRECT($B$2&$Y$2&$A24))","v":"★"},{"$f":"IF(INDIRECT($B$2&$Z$2&$A24)=\"\",\"★\",INDIRECT($B$2&$Z$2&$A24))","v":"★"},{"$f":"IF(INDIRECT($B$2&$AA$2&$A24)=\"\",\"★\",INDIRECT($B$2&$AA$2&$A24))","v":"★"},{"$f":"IF(INDIRECT($B$2&$AB$2&$A24)=\"\",\"★\",INDIRECT($B$2&$AB$2&$A24))","v":"★"},{"$f":"IF(INDIRECT($B$2&AC$2&$A24)=\"\",\"★\",INDIRECT($B$2&AC$2&$A24))","v":"★"},{"$f":"IF(INDIRECT($B$2&AD$2&$A24)=\"\",\"★\",INDIRECT($B$2&AD$2&$A24))","v":"★"},{"$f":"IF(INDIRECT($B$2&AE$2&$A24)=\"\",\"★\",INDIRECT($B$2&AE$2&$A24))","v":"★"},{"$f":"IF(INDIRECT($B$2&AF$2&$A24)=\"\",\"★\",INDIRECT($B$2&AF$2&$A24))","v":"★"},{"$f":"IF(INDIRECT($B$2&AG$2&$A24)=\"\",\"★\",INDIRECT($B$2&AG$2&$A24))","v":"★"},{"$f":"IF(INDIRECT($B$2&AH$2&$A24)=\"\",\"★\",INDIRECT($B$2&AH$2&$A24))","v":"★"},{"$f":"IF(INDIRECT($B$2&AI$2&$A24)=\"\",\"★\",INDIRECT($B$2&AI$2&$A24))","v":"★"},{"$f":"IF(INDIRECT($B$2&AJ$2&$A24)=\"\",\"★\",INDIRECT($B$2&AJ$2&$A24))","v":"★"},{"$f":"IF(INDIRECT($B$2&AK$2&$A24)=\"\",\"★\",INDIRECT($B$2&AK$2&$A24))","v":"★"},{"$f":"IF(INDIRECT($B$2&AL$2&$A24)=\"\",\"★\",INDIRECT($B$2&AL$2&$A24))","v":"★"},{"$f":"IF(INDIRECT($B$2&AM$2&$A24)=\"\",\"★\",INDIRECT($B$2&AM$2&$A24))","v":"★"},{"$f":"IF(INDIRECT($B$2&AN$2&$A24)=\"\",\"★\",INDIRECT($B$2&AN$2&$A24))","v":"★"},{"$f":"IF(INDIRECT($B$2&AO$2&$A24)=\"\",\"★\",INDIRECT($B$2&AO$2&$A24))","v":"★"},{"$f":"IF(INDIRECT($B$2&AP$2&$A24)=\"\",\"★\",INDIRECT($B$2&AP$2&$A24))","v":"★"},{"$f":"IF(INDIRECT($B$2&AQ$2&$A24)=\"\",\"★\",INDIRECT($B$2&AQ$2&$A24))","v":"★"},{"$f":"IF(INDIRECT($B$2&AR$2&$A24)=\"\",\"★\",INDIRECT($B$2&AR$2&$A24))","v":0},{"$f":"IF(INDIRECT($B$2&AS$2&$A24)=\"\",\"★\",INDIRECT($B$2&AS$2&$A24))","v":"★"},{"$f":"IF(INDIRECT($B$2&AT$2&$A24)=\"\",\"★\",INDIRECT($B$2&AT$2&$A24))","v":"★"},{"$f":"IF(INDIRECT($B$2&AU$2&$A24)=\"\",\"★\",INDIRECT($B$2&AU$2&$A24))","v":"★"},{"$f":"IF(INDIRECT($B$2&AV$2&$A24)=\"\",\"★\",INDIRECT($B$2&AV$2&$A24))","v":"★"},{"$f":"IF(INDIRECT($B$2&AW$2&$A24)=\"\",\"★\",INDIRECT($B$2&AW$2&$A24))","v":"★"},{"$f":"IF(INDIRECT($B$2&AX$2&$A24)=\"\",\"★\",INDIRECT($B$2&AX$2&$A24))","v":"★"},{"$f":"IF(INDIRECT($B$2&AY$2&$A24)=\"\",\"★\",INDIRECT($B$2&AY$2&$A24))","v":"★"},{"$f":"IF(INDIRECT($B$2&AZ$2&$A24)=\"\",\"★\",INDIRECT($B$2&AZ$2&$A24))","v":"★"},{"$f":"IF(INDIRECT($B$2&BA$2&$A24)=\"\",\"★\",INDIRECT($B$2&BA$2&$A24))","v":"★"},{"$f":"IF(INDIRECT($B$2&BB$2&$A24)=\"\",\"★\",INDIRECT($B$2&BB$2&$A24))","v":"★"},{"$f":"IF(INDIRECT($B$2&BC$2&$A24)=\"\",\"★\",INDIRECT($B$2&BC$2&$A24))","v":"★"},{"$f":"IF(INDIRECT($B$2&BD$2&$A24)=\"\",\"★\",INDIRECT($B$2&BD$2&$A24))","v":"★"},{"$f":"IF(INDIRECT($B$2&BE$2&$A24)=\"\",\"★\",INDIRECT($B$2&BE$2&$A24))","v":"★"},{"$f":"IF(INDIRECT($B$2&BF$2&$A24)=\"\",\"★\",INDIRECT($B$2&BF$2&$A24))","v":"★"},{"$f":"IF(INDIRECT($B$2&BG$2&$A24)=\"\",\"★\",INDIRECT($B$2&BG$2&$A24))","v":0},{"$f":"IF(INDIRECT($B$2&BH$2&$A24)=\"\",\"★\",INDIRECT($B$2&BH$2&$A24))","v":"★"},{"$f":"IF(INDIRECT($B$2&BI$2&$A24)=\"\",\"★\",INDIRECT($B$2&BI$2&$A24))","v":"★"},{"$f":"IF(INDIRECT($B$2&BJ$2&$A24)=\"\",\"★\",INDIRECT($B$2&BJ$2&$A24))","v":"★"},{"$f":"IF(INDIRECT($B$2&BK$2&$A24)=\"\",\"★\",INDIRECT($B$2&BK$2&$A24))","v":"★"},{"$f":"IF(INDIRECT($B$2&BL$2&$A24)=\"\",\"★\",INDIRECT($B$2&BL$2&$A24))","v":"★"},{"$f":"IF(INDIRECT($B$2&BM$2&$A24)=\"\",\"★\",INDIRECT($B$2&BM$2&$A24))","v":"★"},{"$f":"IF(INDIRECT($B$2&BN$2&$A24)=\"\",\"★\",INDIRECT($B$2&BN$2&$A24))","v":"★"},{"$f":"IF(INDIRECT($B$2&BO$2&$A24)=\"\",\"★\",INDIRECT($B$2&BO$2&$A24))","v":"★"},{"$f":"IF(INDIRECT($B$2&BP$2&$A24)=\"\",\"★\",INDIRECT($B$2&BP$2&$A24))","v":"★"},{"$f":"IF(INDIRECT($B$2&BQ$2&$A24)=\"\",\"★\",INDIRECT($B$2&BQ$2&$A24))","v":"★"},{"$f":"IF(INDIRECT($B$2&BR$2&$A24)=\"\",\"★\",INDIRECT($B$2&BR$2&$A24))","v":"★"},{"$f":"IF(INDIRECT($B$2&BS$2&$A24)=\"\",\"★\",INDIRECT($B$2&BS$2&$A24))","v":"★"},{"$f":"IF(INDIRECT($B$2&BT$2&$A24)=\"\",\"★\",INDIRECT($B$2&BT$2&$A24))","v":"★"},{"$f":"IF(INDIRECT($B$2&BU$2&$A24)=\"\",\"★\",INDIRECT($B$2&BU$2&$A24))","v":"★"},{"$f":"IF(INDIRECT($B$2&BV$2&$A24)=\"\",\"★\",INDIRECT($B$2&BV$2&$A24))","v":"★"},{"$f":"IF(INDIRECT($B$2&BW$2&$A24)=\"\",\"★\",INDIRECT($B$2&BW$2&$A24))","v":"★"},{"$f":"IF(INDIRECT($B$2&BX$2&$A24)=\"\",\"★\",INDIRECT($B$2&BX$2&$A24))","v":"★"},{"$f":"IF(INDIRECT($B$2&BY$2&$A24)=\"\",\"★\",INDIRECT($B$2&BY$2&$A24))","v":"★"}]
[44,null,null,null,null,null,null,null,null,null,null,null,null,15,{"$f":"IF(INDIRECT($B$2&$O$2&$A25)=\"\",\"★\",INDIRECT($B$2&$O$2&$A25))","v":"★"},{"$f":"IF(INDIRECT($B$2&$P$2&$A25)=\"\",\"★\",INDIRECT($B$2&$P$2&$A25))","v":0},{"$f":"IF(INDIRECT($B$2&$Q$2&$A25)=\"\",\"★\",INDIRECT($B$2&$Q$2&$A25))","v":0},{"$f":"IF(INDIRECT($B$2&$R$2&$A25)=\"\",\"★\",INDIRECT($B$2&$R$2&$A25))","v":0},{"$f":"IF(INDIRECT($B$2&$S$2&$A25)=\"\",\"★\",INDIRECT($B$2&$S$2&$A25))","v":"★"},{"$f":"IF(INDIRECT($B$2&$T$2&$A25)=\"\",\"★\",INDIRECT($B$2&$T$2&$A25))","v":"★"},{"$f":"IF(INDIRECT($B$2&$U$2&$A25)=\"\",\"★\",INDIRECT($B$2&$U$2&$A25))","v":"★"},{"$f":"IF(INDIRECT($B$2&$V$2&$A25)=\"\",\"★\",INDIRECT($B$2&$V$2&$A25))","v":"★"},{"$f":"IF(INDIRECT($B$2&$W$2&$A25)=\"\",\"★\",INDIRECT($B$2&$W$2&$A25))","v":"★"},{"$f":"IF(INDIRECT($B$2&$X$2&$A25)=\"\",\"★\",INDIRECT($B$2&$X$2&$A25))","v":"★"},{"$f":"IF(INDIRECT($B$2&$Y$2&$A25)=\"\",\"★\",INDIRECT($B$2&$Y$2&$A25))","v":"★"},{"$f":"IF(INDIRECT($B$2&$Z$2&$A25)=\"\",\"★\",INDIRECT($B$2&$Z$2&$A25))","v":"★"},{"$f":"IF(INDIRECT($B$2&$AA$2&$A25)=\"\",\"★\",INDIRECT($B$2&$AA$2&$A25))","v":"★"},{"$f":"IF(INDIRECT($B$2&$AB$2&$A25)=\"\",\"★\",INDIRECT($B$2&$AB$2&$A25))","v":"★"},{"$f":"IF(INDIRECT($B$2&AC$2&$A25)=\"\",\"★\",INDIRECT($B$2&AC$2&$A25))","v":"★"},{"$f":"IF(INDIRECT($B$2&AD$2&$A25)=\"\",\"★\",INDIRECT($B$2&AD$2&$A25))","v":"★"},{"$f":"IF(INDIRECT($B$2&AE$2&$A25)=\"\",\"★\",INDIRECT($B$2&AE$2&$A25))","v":"★"},{"$f":"IF(INDIRECT($B$2&AF$2&$A25)=\"\",\"★\",INDIRECT($B$2&AF$2&$A25))","v":"★"},{"$f":"IF(INDIRECT($B$2&AG$2&$A25)=\"\",\"★\",INDIRECT($B$2&AG$2&$A25))","v":"★"},{"$f":"IF(INDIRECT($B$2&AH$2&$A25)=\"\",\"★\",INDIRECT($B$2&AH$2&$A25))","v":"★"},{"$f":"IF(INDIRECT($B$2&AI$2&$A25)=\"\",\"★\",INDIRECT($B$2&AI$2&$A25))","v":"★"},{"$f":"IF(INDIRECT($B$2&AJ$2&$A25)=\"\",\"★\",INDIRECT($B$2&AJ$2&$A25))","v":"★"},{"$f":"IF(INDIRECT($B$2&AK$2&$A25)=\"\",\"★\",INDIRECT($B$2&AK$2&$A25))","v":"★"},{"$f":"IF(INDIRECT($B$2&AL$2&$A25)=\"\",\"★\",INDIRECT($B$2&AL$2&$A25))","v":"★"},{"$f":"IF(INDIRECT($B$2&AM$2&$A25)=\"\",\"★\",INDIRECT($B$2&AM$2&$A25))","v":"★"},{"$f":"IF(INDIRECT($B$2&AN$2&$A25)=\"\",\"★\",INDIRECT($B$2&AN$2&$A25))","v":"★"},{"$f":"IF(INDIRECT($B$2&AO$2&$A25)=\"\",\"★\",INDIRECT($B$2&AO$2&$A25))","v":"★"},{"$f":"IF(INDIRECT($B$2&AP$2&$A25)=\"\",\"★\",INDIRECT($B$2&AP$2&$A25))","v":"★"},{"$f":"IF(INDIRECT($B$2&AQ$2&$A25)=\"\",\"★\",INDIRECT($B$2&AQ$2&$A25))","v":"★"},{"$f":"IF(INDIRECT($B$2&AR$2&$A25)=\"\",\"★\",INDIRECT($B$2&AR$2&$A25))","v":0},{"$f":"IF(INDIRECT($B$2&AS$2&$A25)=\"\",\"★\",INDIRECT($B$2&AS$2&$A25))","v":"★"},{"$f":"IF(INDIRECT($B$2&AT$2&$A25)=\"\",\"★\",INDIRECT($B$2&AT$2&$A25))","v":"★"},{"$f":"IF(INDIRECT($B$2&AU$2&$A25)=\"\",\"★\",INDIRECT($B$2&AU$2&$A25))","v":"★"},{"$f":"IF(INDIRECT($B$2&AV$2&$A25)=\"\",\"★\",INDIRECT($B$2&AV$2&$A25))","v":"★"},{"$f":"IF(INDIRECT($B$2&AW$2&$A25)=\"\",\"★\",INDIRECT($B$2&AW$2&$A25))","v":"★"},{"$f":"IF(INDIRECT($B$2&AX$2&$A25)=\"\",\"★\",INDIRECT($B$2&AX$2&$A25))","v":"★"},{"$f":"IF(INDIRECT($B$2&AY$2&$A25)=\"\",\"★\",INDIRECT($B$2&AY$2&$A25))","v":"★"},{"$f":"IF(INDIRECT($B$2&AZ$2&$A25)=\"\",\"★\",INDIRECT($B$2&AZ$2&$A25))","v":"★"},{"$f":"IF(INDIRECT($B$2&BA$2&$A25)=\"\",\"★\",INDIRECT($B$2&BA$2&$A25))","v":"★"},{"$f":"IF(INDIRECT($B$2&BB$2&$A25)=\"\",\"★\",INDIRECT($B$2&BB$2&$A25))","v":"★"},{"$f":"IF(INDIRECT($B$2&BC$2&$A25)=\"\",\"★\",INDIRECT($B$2&BC$2&$A25))","v":"★"},{"$f":"IF(INDIRECT($B$2&BD$2&$A25)=\"\",\"★\",INDIRECT($B$2&BD$2&$A25))","v":"★"},{"$f":"IF(INDIRECT($B$2&BE$2&$A25)=\"\",\"★\",INDIRECT($B$2&BE$2&$A25))","v":"★"},{"$f":"IF(INDIRECT($B$2&BF$2&$A25)=\"\",\"★\",INDIRECT($B$2&BF$2&$A25))","v":"★"},{"$f":"IF(INDIRECT($B$2&BG$2&$A25)=\"\",\"★\",INDIRECT($B$2&BG$2&$A25))","v":0},{"$f":"IF(INDIRECT($B$2&BH$2&$A25)=\"\",\"★\",INDIRECT($B$2&BH$2&$A25))","v":"★"},{"$f":"IF(INDIRECT($B$2&BI$2&$A25)=\"\",\"★\",INDIRECT($B$2&BI$2&$A25))","v":"★"},{"$f":"IF(INDIRECT($B$2&BJ$2&$A25)=\"\",\"★\",INDIRECT($B$2&BJ$2&$A25))","v":"★"},{"$f":"IF(INDIRECT($B$2&BK$2&$A25)=\"\",\"★\",INDIRECT($B$2&BK$2&$A25))","v":"★"},{"$f":"IF(INDIRECT($B$2&BL$2&$A25)=\"\",\"★\",INDIRECT($B$2&BL$2&$A25))","v":"★"},{"$f":"IF(INDIRECT($B$2&BM$2&$A25)=\"\",\"★\",INDIRECT($B$2&BM$2&$A25))","v":"★"},{"$f":"IF(INDIRECT($B$2&BN$2&$A25)=\"\",\"★\",INDIRECT($B$2&BN$2&$A25))","v":"★"},{"$f":"IF(INDIRECT($B$2&BO$2&$A25)=\"\",\"★\",INDIRECT($B$2&BO$2&$A25))","v":"★"},{"$f":"IF(INDIRECT($B$2&BP$2&$A25)=\"\",\"★\",INDIRECT($B$2&BP$2&$A25))","v":"★"},{"$f":"IF(INDIRECT($B$2&BQ$2&$A25)=\"\",\"★\",INDIRECT($B$2&BQ$2&$A25))","v":"★"},{"$f":"IF(INDIRECT($B$2&BR$2&$A25)=\"\",\"★\",INDIRECT($B$2&BR$2&$A25))","v":"★"},{"$f":"IF(INDIRECT($B$2&BS$2&$A25)=\"\",\"★\",INDIRECT($B$2&BS$2&$A25))","v":"★"},{"$f":"IF(INDIRECT($B$2&BT$2&$A25)=\"\",\"★\",INDIRECT($B$2&BT$2&$A25))","v":"★"},{"$f":"IF(INDIRECT($B$2&BU$2&$A25)=\"\",\"★\",INDIRECT($B$2&BU$2&$A25))","v":"★"},{"$f":"IF(INDIRECT($B$2&BV$2&$A25)=\"\",\"★\",INDIRECT($B$2&BV$2&$A25))","v":"★"},{"$f":"IF(INDIRECT($B$2&BW$2&$A25)=\"\",\"★\",INDIRECT($B$2&BW$2&$A25))","v":"★"},{"$f":"IF(INDIRECT($B$2&BX$2&$A25)=\"\",\"★\",INDIRECT($B$2&BX$2&$A25))","v":"★"},{"$f":"IF(INDIRECT($B$2&BY$2&$A25)=\"\",\"★\",INDIRECT($B$2&BY$2&$A25))","v":"★"}]
[45,null,null,null,null,null,null,null,null,null,null,null,null,16,{"$f":"IF(INDIRECT($B$2&$O$2&$A26)=\"\",\"★\",INDIRECT($B$2&$O$2&$A26))","v":"その他（要：備考欄への詳細記載）"},{"$f":"IF(INDIRECT($B$2&$P$2&$A26)=\"\",\"★\",INDIRECT($B$2&$P$2&$A26))","v":0},{"$f":"IF(INDIRECT($B$2&$Q$2&$A26)=\"\",\"★\",INDIRECT($B$2&$Q$2&$A26))","v":0},{"$f":"IF(INDIRECT($B$2&$R$2&$A26)=\"\",\"★\",INDIRECT($B$2&$R$2&$A26))","v":0},{"$f":"IF(INDIRECT($B$2&$S$2&$A26)=\"\",\"★\",INDIRECT($B$2&$S$2&$A26))","v":"★"},{"$f":"IF(INDIRECT($B$2&$T$2&$A26)=\"\",\"★\",INDIRECT($B$2&$T$2&$A26))","v":"★"},{"$f":"IF(INDIRECT($B$2&$U$2&$A26)=\"\",\"★\",INDIRECT($B$2&$U$2&$A26))","v":"★"},{"$f":"IF(INDIRECT($B$2&$V$2&$A26)=\"\",\"★\",INDIRECT($B$2&$V$2&$A26))","v":"★"},{"$f":"IF(INDIRECT($B$2&$W$2&$A26)=\"\",\"★\",INDIRECT($B$2&$W$2&$A26))","v":"★"},{"$f":"IF(INDIRECT($B$2&$X$2&$A26)=\"\",\"★\",INDIRECT($B$2&$X$2&$A26))","v":0},{"$f":"IF(INDIRECT($B$2&$Y$2&$A26)=\"\",\"★\",INDIRECT($B$2&$Y$2&$A26))","v":0},{"$f":"IF(INDIRECT($B$2&$Z$2&$A26)=\"\",\"★\",INDIRECT($B$2&$Z$2&$A26))","v":0},{"$f":"IF(INDIRECT($B$2&$AA$2&$A26)=\"\",\"★\",INDIRECT($B$2&$AA$2&$A26))","v":"★"},{"$f":"IF(INDIRECT($B$2&$AB$2&$A26)=\"\",\"★\",INDIRECT($B$2&$AB$2&$A26))","v":"★"},{"$f":"IF(INDIRECT($B$2&AC$2&$A26)=\"\",\"★\",INDIRECT($B$2&AC$2&$A26))","v":"★"},{"$f":"IF(INDIRECT($B$2&AD$2&$A26)=\"\",\"★\",INDIRECT($B$2&AD$2&$A26))","v":"★"},{"$f":"IF(INDIRECT($B$2&AE$2&$A26)=\"\",\"★\",INDIRECT($B$2&AE$2&$A26))","v":"★"},{"$f":"IF(INDIRECT($B$2&AF$2&$A26)=\"\",\"★\",INDIRECT($B$2&AF$2&$A26))","v":"★"},{"$f":"IF(INDIRECT($B$2&AG$2&$A26)=\"\",\"★\",INDIRECT($B$2&AG$2&$A26))","v":"★"},{"$f":"IF(INDIRECT($B$2&AH$2&$A26)=\"\",\"★\",INDIRECT($B$2&AH$2&$A26))","v":"★"},{"$f":"IF(INDIRECT($B$2&AI$2&$A26)=\"\",\"★\",INDIRECT($B$2&AI$2&$A26))","v":"★"},{"$f":"IF(INDIRECT($B$2&AJ$2&$A26)=\"\",\"★\",INDIRECT($B$2&AJ$2&$A26))","v":"★"},{"$f":"IF(INDIRECT($B$2&AK$2&$A26)=\"\",\"★\",INDIRECT($B$2&AK$2&$A26))","v":"★"},{"$f":"IF(INDIRECT($B$2&AL$2&$A26)=\"\",\"★\",INDIRECT($B$2&AL$2&$A26))","v":"★"},{"$f":"IF(INDIRECT($B$2&AM$2&$A26)=\"\",\"★\",INDIRECT($B$2&AM$2&$A26))","v":"★"},{"$f":"IF(INDIRECT($B$2&AN$2&$A26)=\"\",\"★\",INDIRECT($B$2&AN$2&$A26))","v":"★"},{"$f":"IF(INDIRECT($B$2&AO$2&$A26)=\"\",\"★\",INDIRECT($B$2&AO$2&$A26))","v":"★"},{"$f":"IF(INDIRECT($B$2&AP$2&$A26)=\"\",\"★\",INDIRECT($B$2&AP$2&$A26))","v":"★"},{"$f":"IF(INDIRECT($B$2&AQ$2&$A26)=\"\",\"★\",INDIRECT($B$2&AQ$2&$A26))","v":"★"},{"$f":"IF(INDIRECT($B$2&AR$2&$A26)=\"\",\"★\",INDIRECT($B$2&AR$2&$A26))","v":0},{"$f":"IF(INDIRECT($B$2&AS$2&$A26)=\"\",\"★\",INDIRECT($B$2&AS$2&$A26))","v":"★"},{"$f":"IF(INDIRECT($B$2&AT$2&$A26)=\"\",\"★\",INDIRECT($B$2&AT$2&$A26))","v":"★"},{"$f":"IF(INDIRECT($B$2&AU$2&$A26)=\"\",\"★\",INDIRECT($B$2&AU$2&$A26))","v":"★"},{"$f":"IF(INDIRECT($B$2&AV$2&$A26)=\"\",\"★\",INDIRECT($B$2&AV$2&$A26))","v":"★"},{"$f":"IF(INDIRECT($B$2&AW$2&$A26)=\"\",\"★\",INDIRECT($B$2&AW$2&$A26))","v":"★"},{"$f":"IF(INDIRECT($B$2&AX$2&$A26)=\"\",\"★\",INDIRECT($B$2&AX$2&$A26))","v":"★"},{"$f":"IF(INDIRECT($B$2&AY$2&$A26)=\"\",\"★\",INDIRECT($B$2&AY$2&$A26))","v":"★"},{"$f":"IF(INDIRECT($B$2&AZ$2&$A26)=\"\",\"★\",INDIRECT($B$2&AZ$2&$A26))","v":"★"},{"$f":"IF(INDIRECT($B$2&BA$2&$A26)=\"\",\"★\",INDIRECT($B$2&BA$2&$A26))","v":"★"},{"$f":"IF(INDIRECT($B$2&BB$2&$A26)=\"\",\"★\",INDIRECT($B$2&BB$2&$A26))","v":"★"},{"$f":"IF(INDIRECT($B$2&BC$2&$A26)=\"\",\"★\",INDIRECT($B$2&BC$2&$A26))","v":"★"},{"$f":"IF(INDIRECT($B$2&BD$2&$A26)=\"\",\"★\",INDIRECT($B$2&BD$2&$A26))","v":"★"},{"$f":"IF(INDIRECT($B$2&BE$2&$A26)=\"\",\"★\",INDIRECT($B$2&BE$2&$A26))","v":"★"},{"$f":"IF(INDIRECT($B$2&BF$2&$A26)=\"\",\"★\",INDIRECT($B$2&BF$2&$A26))","v":"★"},{"$f":"IF(INDIRECT($B$2&BG$2&$A26)=\"\",\"★\",INDIRECT($B$2&BG$2&$A26))","v":0},{"$f":"IF(INDIRECT($B$2&BH$2&$A26)=\"\",\"★\",INDIRECT($B$2&BH$2&$A26))","v":"★"},{"$f":"IF(INDIRECT($B$2&BI$2&$A26)=\"\",\"★\",INDIRECT($B$2&BI$2&$A26))","v":"★"},{"$f":"IF(INDIRECT($B$2&BJ$2&$A26)=\"\",\"★\",INDIRECT($B$2&BJ$2&$A26))","v":"★"},{"$f":"IF(INDIRECT($B$2&BK$2&$A26)=\"\",\"★\",INDIRECT($B$2&BK$2&$A26))","v":"★"},{"$f":"IF(INDIRECT($B$2&BL$2&$A26)=\"\",\"★\",INDIRECT($B$2&BL$2&$A26))","v":"★"},{"$f":"IF(INDIRECT($B$2&BM$2&$A26)=\"\",\"★\",INDIRECT($B$2&BM$2&$A26))","v":"★"},{"$f":"IF(INDIRECT($B$2&BN$2&$A26)=\"\",\"★\",INDIRECT($B$2&BN$2&$A26))","v":"★"},{"$f":"IF(INDIRECT($B$2&BO$2&$A26)=\"\",\"★\",INDIRECT($B$2&BO$2&$A26))","v":"★"},{"$f":"IF(INDIRECT($B$2&BP$2&$A26)=\"\",\"★\",INDIRECT($B$2&BP$2&$A26))","v":"★"},{"$f":"IF(INDIRECT($B$2&BQ$2&$A26)=\"\",\"★\",INDIRECT($B$2&BQ$2&$A26))","v":"★"},{"$f":"IF(INDIRECT($B$2&BR$2&$A26)=\"\",\"★\",INDIRECT($B$2&BR$2&$A26))","v":"★"},{"$f":"IF(INDIRECT($B$2&BS$2&$A26)=\"\",\"★\",INDIRECT($B$2&BS$2&$A26))","v":"★"},{"$f":"IF(INDIRECT($B$2&BT$2&$A26)=\"\",\"★\",INDIRECT($B$2&BT$2&$A26))","v":"★"},{"$f":"IF(INDIRECT($B$2&BU$2&$A26)=\"\",\"★\",INDIRECT($B$2&BU$2&$A26))","v":"★"},{"$f":"IF(INDIRECT($B$2&BV$2&$A26)=\"\",\"★\",INDIRECT($B$2&BV$2&$A26))","v":"★"},{"$f":"IF(INDIRECT($B$2&BW$2&$A26)=\"\",\"★\",INDIRECT($B$2&BW$2&$A26))","v":"---"},{"$f":"IF(INDIRECT($B$2&BX$2&$A26)=\"\",\"★\",INDIRECT($B$2&BX$2&$A26))","v":"---"},{"$f":"IF(INDIRECT($B$2&BY$2&$A26)=\"\",\"★\",INDIRECT($B$2&BY$2&$A26))","v":"---"}]
[46,null,null,null,null,null,null,null,null,null,null,null,null,17,{"$f":"IF(INDIRECT($B$2&$O$2&$A27)=\"\",\"★\",INDIRECT($B$2&$O$2&$A27))","v":"その他（要：備考欄への詳細記載）"},{"$f":"IF(INDIRECT($B$2&$P$2&$A27)=\"\",\"★\",INDIRECT($B$2&$P$2&$A27))","v":0},{"$f":"IF(INDIRECT($B$2&$Q$2&$A27)=\"\",\"★\",INDIRECT($B$2&$Q$2&$A27))","v":0},{"$f":"IF(INDIRECT($B$2&$R$2&$A27)=\"\",\"★\",INDIRECT($B$2&$R$2&$A27))","v":0},{"$f":"IF(INDIRECT($B$2&$S$2&$A27)=\"\",\"★\",INDIRECT($B$2&$S$2&$A27))","v":"★"},{"$f":"IF(INDIRECT($B$2&$T$2&$A27)=\"\",\"★\",INDIRECT($B$2&$T$2&$A27))","v":"★"},{"$f":"IF(INDIRECT($B$2&$U$2&$A27)=\"\",\"★\",INDIRECT($B$2&$U$2&$A27))","v":"★"},{"$f":"IF(INDIRECT($B$2&$V$2&$A27)=\"\",\"★\",INDIRECT($B$2&$V$2&$A27))","v":"★"},{"$f":"IF(INDIRECT($B$2&$W$2&$A27)=\"\",\"★\",INDIRECT($B$2&$W$2&$A27))","v":"★"},{"$f":"IF(INDIRECT($B$2&$X$2&$A27)=\"\",\"★\",INDIRECT($B$2&$X$2&$A27))","v":0},{"$f":"IF(INDIRECT($B$2&$Y$2&$A27)=\"\",\"★\",INDIRECT($B$2&$Y$2&$A27))","v":0},{"$f":"IF(INDIRECT($B$2&$Z$2&$A27)=\"\",\"★\",INDIRECT($B$2&$Z$2&$A27))","v":0},{"$f":"IF(INDIRECT($B$2&$AA$2&$A27)=\"\",\"★\",INDIRECT($B$2&$AA$2&$A27))","v":"★"},{"$f":"IF(INDIRECT($B$2&$AB$2&$A27)=\"\",\"★\",INDIRECT($B$2&$AB$2&$A27))","v":"★"},{"$f":"IF(INDIRECT($B$2&AC$2&$A27)=\"\",\"★\",INDIRECT($B$2&AC$2&$A27))","v":"★"},{"$f":"IF(INDIRECT($B$2&AD$2&$A27)=\"\",\"★\",INDIRECT($B$2&AD$2&$A27))","v":"★"},{"$f":"IF(INDIRECT($B$2&AE$2&$A27)=\"\",\"★\",INDIRECT($B$2&AE$2&$A27))","v":"★"},{"$f":"IF(INDIRECT($B$2&AF$2&$A27)=\"\",\"★\",INDIRECT($B$2&AF$2&$A27))","v":"★"},{"$f":"IF(INDIRECT($B$2&AG$2&$A27)=\"\",\"★\",INDIRECT($B$2&AG$2&$A27))","v":"★"},{"$f":"IF(INDIRECT($B$2&AH$2&$A27)=\"\",\"★\",INDIRECT($B$2&AH$2&$A27))","v":"★"},{"$f":"IF(INDIRECT($B$2&AI$2&$A27)=\"\",\"★\",INDIRECT($B$2&AI$2&$A27))","v":"★"},{"$f":"IF(INDIRECT($B$2&AJ$2&$A27)=\"\",\"★\",INDIRECT($B$2&AJ$2&$A27))","v":"★"},{"$f":"IF(INDIRECT($B$2&AK$2&$A27)=\"\",\"★\",INDIRECT($B$2&AK$2&$A27))","v":"★"},{"$f":"IF(INDIRECT($B$2&AL$2&$A27)=\"\",\"★\",INDIRECT($B$2&AL$2&$A27))","v":"★"},{"$f":"IF(INDIRECT($B$2&AM$2&$A27)=\"\",\"★\",INDIRECT($B$2&AM$2&$A27))","v":"★"},{"$f":"IF(INDIRECT($B$2&AN$2&$A27)=\"\",\"★\",INDIRECT($B$2&AN$2&$A27))","v":"★"},{"$f":"IF(INDIRECT($B$2&AO$2&$A27)=\"\",\"★\",INDIRECT($B$2&AO$2&$A27))","v":"★"},{"$f":"IF(INDIRECT($B$2&AP$2&$A27)=\"\",\"★\",INDIRECT($B$2&AP$2&$A27))","v":"★"},{"$f":"IF(INDIRECT($B$2&AQ$2&$A27)=\"\",\"★\",INDIRECT($B$2&AQ$2&$A27))","v":"★"},{"$f":"IF(INDIRECT($B$2&AR$2&$A27)=\"\",\"★\",INDIRECT($B$2&AR$2&$A27))","v":0},{"$f":"IF(INDIRECT($B$2&AS$2&$A27)=\"\",\"★\",INDIRECT($B$2&AS$2&$A27))","v":"★"},{"$f":"IF(INDIRECT($B$2&AT$2&$A27)=\"\",\"★\",INDIRECT($B$2&AT$2&$A27))","v":"★"},{"$f":"IF(INDIRECT($B$2&AU$2&$A27)=\"\",\"★\",INDIRECT($B$2&AU$2&$A27))","v":"★"},{"$f":"IF(INDIRECT($B$2&AV$2&$A27)=\"\",\"★\",INDIRECT($B$2&AV$2&$A27))","v":"★"},{"$f":"IF(INDIRECT($B$2&AW$2&$A27)=\"\",\"★\",INDIRECT($B$2&AW$2&$A27))","v":"★"},{"$f":"IF(INDIRECT($B$2&AX$2&$A27)=\"\",\"★\",INDIRECT($B$2&AX$2&$A27))","v":"★"},{"$f":"IF(INDIRECT($B$2&AY$2&$A27)=\"\",\"★\",INDIRECT($B$2&AY$2&$A27))","v":"★"},{"$f":"IF(INDIRECT($B$2&AZ$2&$A27)=\"\",\"★\",INDIRECT($B$2&AZ$2&$A27))","v":"★"},{"$f":"IF(INDIRECT($B$2&BA$2&$A27)=\"\",\"★\",INDIRECT($B$2&BA$2&$A27))","v":"★"},{"$f":"IF(INDIRECT($B$2&BB$2&$A27)=\"\",\"★\",INDIRECT($B$2&BB$2&$A27))","v":"★"},{"$f":"IF(INDIRECT($B$2&BC$2&$A27)=\"\",\"★\",INDIRECT($B$2&BC$2&$A27))","v":"★"},{"$f":"IF(INDIRECT($B$2&BD$2&$A27)=\"\",\"★\",INDIRECT($B$2&BD$2&$A27))","v":"★"},{"$f":"IF(INDIRECT($B$2&BE$2&$A27)=\"\",\"★\",INDIRECT($B$2&BE$2&$A27))","v":"★"},{"$f":"IF(INDIRECT($B$2&BF$2&$A27)=\"\",\"★\",INDIRECT($B$2&BF$2&$A27))","v":"★"},{"$f":"IF(INDIRECT($B$2&BG$2&$A27)=\"\",\"★\",INDIRECT($B$2&BG$2&$A27))","v":0},{"$f":"IF(INDIRECT($B$2&BH$2&$A27)=\"\",\"★\",INDIRECT($B$2&BH$2&$A27))","v":"★"},{"$f":"IF(INDIRECT($B$2&BI$2&$A27)=\"\",\"★\",INDIRECT($B$2&BI$2&$A27))","v":"★"},{"$f":"IF(INDIRECT($B$2&BJ$2&$A27)=\"\",\"★\",INDIRECT($B$2&BJ$2&$A27))","v":"★"},{"$f":"IF(INDIRECT($B$2&BK$2&$A27)=\"\",\"★\",INDIRECT($B$2&BK$2&$A27))","v":"★"},{"$f":"IF(INDIRECT($B$2&BL$2&$A27)=\"\",\"★\",INDIRECT($B$2&BL$2&$A27))","v":"★"},{"$f":"IF(INDIRECT($B$2&BM$2&$A27)=\"\",\"★\",INDIRECT($B$2&BM$2&$A27))","v":"★"},{"$f":"IF(INDIRECT($B$2&BN$2&$A27)=\"\",\"★\",INDIRECT($B$2&BN$2&$A27))","v":"★"},{"$f":"IF(INDIRECT($B$2&BO$2&$A27)=\"\",\"★\",INDIRECT($B$2&BO$2&$A27))","v":"★"},{"$f":"IF(INDIRECT($B$2&BP$2&$A27)=\"\",\"★\",INDIRECT($B$2&BP$2&$A27))","v":"★"},{"$f":"IF(INDIRECT($B$2&BQ$2&$A27)=\"\",\"★\",INDIRECT($B$2&BQ$2&$A27))","v":"★"},{"$f":"IF(INDIRECT($B$2&BR$2&$A27)=\"\",\"★\",INDIRECT($B$2&BR$2&$A27))","v":"★"},{"$f":"IF(INDIRECT($B$2&BS$2&$A27)=\"\",\"★\",INDIRECT($B$2&BS$2&$A27))","v":"★"},{"$f":"IF(INDIRECT($B$2&BT$2&$A27)=\"\",\"★\",INDIRECT($B$2&BT$2&$A27))","v":"★"},{"$f":"IF(INDIRECT($B$2&BU$2&$A27)=\"\",\"★\",INDIRECT($B$2&BU$2&$A27))","v":"★"},{"$f":"IF(INDIRECT($B$2&BV$2&$A27)=\"\",\"★\",INDIRECT($B$2&BV$2&$A27))","v":"★"},{"$f":"IF(INDIRECT($B$2&BW$2&$A27)=\"\",\"★\",INDIRECT($B$2&BW$2&$A27))","v":"---"},{"$f":"IF(INDIRECT($B$2&BX$2&$A27)=\"\",\"★\",INDIRECT($B$2&BX$2&$A27))","v":"---"},{"$f":"IF(INDIRECT($B$2&BY$2&$A27)=\"\",\"★\",INDIRECT($B$2&BY$2&$A27))","v":"---"}]
[47,null,null,null,null,null,null,null,null,null,null,null,null,18,{"$f":"IF(INDIRECT($B$2&$O$2&$A28)=\"\",\"★\",INDIRECT($B$2&$O$2&$A28))","v":"その他（要：備考欄への詳細記載）"},{"$f":"IF(INDIRECT($B$2&$P$2&$A28)=\"\",\"★\",INDIRECT($B$2&$P$2&$A28))","v":0},{"$f":"IF(INDIRECT($B$2&$Q$2&$A28)=\"\",\"★\",INDIRECT($B$2&$Q$2&$A28))","v":0},{"$f":"IF(INDIRECT($B$2&$R$2&$A28)=\"\",\"★\",INDIRECT($B$2&$R$2&$A28))","v":0},{"$f":"IF(INDIRECT($B$2&$S$2&$A28)=\"\",\"★\",INDIRECT($B$2&$S$2&$A28))","v":"★"},{"$f":"IF(INDIRECT($B$2&$T$2&$A28)=\"\",\"★\",INDIRECT($B$2&$T$2&$A28))","v":"★"},{"$f":"IF(INDIRECT($B$2&$U$2&$A28)=\"\",\"★\",INDIRECT($B$2&$U$2&$A28))","v":"★"},{"$f":"IF(INDIRECT($B$2&$V$2&$A28)=\"\",\"★\",INDIRECT($B$2&$V$2&$A28))","v":"★"},{"$f":"IF(INDIRECT($B$2&$W$2&$A28)=\"\",\"★\",INDIRECT($B$2&$W$2&$A28))","v":"★"},{"$f":"IF(INDIRECT($B$2&$X$2&$A28)=\"\",\"★\",INDIRECT($B$2&$X$2&$A28))","v":0},{"$f":"IF(INDIRECT($B$2&$Y$2&$A28)=\"\",\"★\",INDIRECT($B$2&$Y$2&$A28))","v":0},{"$f":"IF(INDIRECT($B$2&$Z$2&$A28)=\"\",\"★\",INDIRECT($B$2&$Z$2&$A28))","v":0},{"$f":"IF(INDIRECT($B$2&$AA$2&$A28)=\"\",\"★\",INDIRECT($B$2&$AA$2&$A28))","v":"★"},{"$f":"IF(INDIRECT($B$2&$AB$2&$A28)=\"\",\"★\",INDIRECT($B$2&$AB$2&$A28))","v":"★"},{"$f":"IF(INDIRECT($B$2&AC$2&$A28)=\"\",\"★\",INDIRECT($B$2&AC$2&$A28))","v":"★"},{"$f":"IF(INDIRECT($B$2&AD$2&$A28)=\"\",\"★\",INDIRECT($B$2&AD$2&$A28))","v":"★"},{"$f":"IF(INDIRECT($B$2&AE$2&$A28)=\"\",\"★\",INDIRECT($B$2&AE$2&$A28))","v":"★"},{"$f":"IF(INDIRECT($B$2&AF$2&$A28)=\"\",\"★\",INDIRECT($B$2&AF$2&$A28))","v":"★"},{"$f":"IF(INDIRECT($B$2&AG$2&$A28)=\"\",\"★\",INDIRECT($B$2&AG$2&$A28))","v":"★"},{"$f":"IF(INDIRECT($B$2&AH$2&$A28)=\"\",\"★\",INDIRECT($B$2&AH$2&$A28))","v":"★"},{"$f":"IF(INDIRECT($B$2&AI$2&$A28)=\"\",\"★\",INDIRECT($B$2&AI$2&$A28))","v":"★"},{"$f":"IF(INDIRECT($B$2&AJ$2&$A28)=\"\",\"★\",INDIRECT($B$2&AJ$2&$A28))","v":"★"},{"$f":"IF(INDIRECT($B$2&AK$2&$A28)=\"\",\"★\",INDIRECT($B$2&AK$2&$A28))","v":"★"},{"$f":"IF(INDIRECT($B$2&AL$2&$A28)=\"\",\"★\",INDIRECT($B$2&AL$2&$A28))","v":"★"},{"$f":"IF(INDIRECT($B$2&AM$2&$A28)=\"\",\"★\",INDIRECT($B$2&AM$2&$A28))","v":"★"},{"$f":"IF(INDIRECT($B$2&AN$2&$A28)=\"\",\"★\",INDIRECT($B$2&AN$2&$A28))","v":"★"},{"$f":"IF(INDIRECT($B$2&AO$2&$A28)=\"\",\"★\",INDIRECT($B$2&AO$2&$A28))","v":"★"},{"$f":"IF(INDIRECT($B$2&AP$2&$A28)=\"\",\"★\",INDIRECT($B$2&AP$2&$A28))","v":"★"},{"$f":"IF(INDIRECT($B$2&AQ$2&$A28)=\"\",\"★\",INDIRECT($B$2&AQ$2&$A28))","v":"★"},{"$f":"IF(INDIRECT($B$2&AR$2&$A28)=\"\",\"★\",INDIRECT($B$2&AR$2&$A28))","v":0},{"$f":"IF(INDIRECT($B$2&AS$2&$A28)=\"\",\"★\",INDIRECT($B$2&AS$2&$A28))","v":"★"},{"$f":"IF(INDIRECT($B$2&AT$2&$A28)=\"\",\"★\",INDIRECT($B$2&AT$2&$A28))","v":"★"},{"$f":"IF(INDIRECT($B$2&AU$2&$A28)=\"\",\"★\",INDIRECT($B$2&AU$2&$A28))","v":"★"},{"$f":"IF(INDIRECT($B$2&AV$2&$A28)=\"\",\"★\",INDIRECT($B$2&AV$2&$A28))","v":"★"},{"$f":"IF(INDIRECT($B$2&AW$2&$A28)=\"\",\"★\",INDIRECT($B$2&AW$2&$A28))","v":"★"},{"$f":"IF(INDIRECT($B$2&AX$2&$A28)=\"\",\"★\",INDIRECT($B$2&AX$2&$A28))","v":"★"},{"$f":"IF(INDIRECT($B$2&AY$2&$A28)=\"\",\"★\",INDIRECT($B$2&AY$2&$A28))","v":"★"},{"$f":"IF(INDIRECT($B$2&AZ$2&$A28)=\"\",\"★\",INDIRECT($B$2&AZ$2&$A28))","v":"★"},{"$f":"IF(INDIRECT($B$2&BA$2&$A28)=\"\",\"★\",INDIRECT($B$2&BA$2&$A28))","v":"★"},{"$f":"IF(INDIRECT($B$2&BB$2&$A28)=\"\",\"★\",INDIRECT($B$2&BB$2&$A28))","v":"★"},{"$f":"IF(INDIRECT($B$2&BC$2&$A28)=\"\",\"★\",INDIRECT($B$2&BC$2&$A28))","v":"★"},{"$f":"IF(INDIRECT($B$2&BD$2&$A28)=\"\",\"★\",INDIRECT($B$2&BD$2&$A28))","v":"★"},{"$f":"IF(INDIRECT($B$2&BE$2&$A28)=\"\",\"★\",INDIRECT($B$2&BE$2&$A28))","v":"★"},{"$f":"IF(INDIRECT($B$2&BF$2&$A28)=\"\",\"★\",INDIRECT($B$2&BF$2&$A28))","v":"★"},{"$f":"IF(INDIRECT($B$2&BG$2&$A28)=\"\",\"★\",INDIRECT($B$2&BG$2&$A28))","v":0},{"$f":"IF(INDIRECT($B$2&BH$2&$A28)=\"\",\"★\",INDIRECT($B$2&BH$2&$A28))","v":"★"},{"$f":"IF(INDIRECT($B$2&BI$2&$A28)=\"\",\"★\",INDIRECT($B$2&BI$2&$A28))","v":"★"},{"$f":"IF(INDIRECT($B$2&BJ$2&$A28)=\"\",\"★\",INDIRECT($B$2&BJ$2&$A28))","v":"★"},{"$f":"IF(INDIRECT($B$2&BK$2&$A28)=\"\",\"★\",INDIRECT($B$2&BK$2&$A28))","v":"★"},{"$f":"IF(INDIRECT($B$2&BL$2&$A28)=\"\",\"★\",INDIRECT($B$2&BL$2&$A28))","v":"★"},{"$f":"IF(INDIRECT($B$2&BM$2&$A28)=\"\",\"★\",INDIRECT($B$2&BM$2&$A28))","v":"★"},{"$f":"IF(INDIRECT($B$2&BN$2&$A28)=\"\",\"★\",INDIRECT($B$2&BN$2&$A28))","v":"★"},{"$f":"IF(INDIRECT($B$2&BO$2&$A28)=\"\",\"★\",INDIRECT($B$2&BO$2&$A28))","v":"★"},{"$f":"IF(INDIRECT($B$2&BP$2&$A28)=\"\",\"★\",INDIRECT($B$2&BP$2&$A28))","v":"★"},{"$f":"IF(INDIRECT($B$2&BQ$2&$A28)=\"\",\"★\",INDIRECT($B$2&BQ$2&$A28))","v":"★"},{"$f":"IF(INDIRECT($B$2&BR$2&$A28)=\"\",\"★\",INDIRECT($B$2&BR$2&$A28))","v":"★"},{"$f":"IF(INDIRECT($B$2&BS$2&$A28)=\"\",\"★\",INDIRECT($B$2&BS$2&$A28))","v":"★"},{"$f":"IF(INDIRECT($B$2&BT$2&$A28)=\"\",\"★\",INDIRECT($B$2&BT$2&$A28))","v":"★"},{"$f":"IF(INDIRECT($B$2&BU$2&$A28)=\"\",\"★\",INDIRECT($B$2&BU$2&$A28))","v":"★"},{"$f":"IF(INDIRECT($B$2&BV$2&$A28)=\"\",\"★\",INDIRECT($B$2&BV$2&$A28))","v":"★"},{"$f":"IF(INDIRECT($B$2&BW$2&$A28)=\"\",\"★\",INDIRECT($B$2&BW$2&$A28))","v":"---"},{"$f":"IF(INDIRECT($B$2&BX$2&$A28)=\"\",\"★\",INDIRECT($B$2&BX$2&$A28))","v":"---"},{"$f":"IF(INDIRECT($B$2&BY$2&$A28)=\"\",\"★\",INDIRECT($B$2&BY$2&$A28))","v":"---"}]
[48,null,null,null,null,null,null,null,null,null,null,null,null,19,{"$f":"IF(INDIRECT($B$2&$O$2&$A29)=\"\",\"★\",INDIRECT($B$2&$O$2&$A29))","v":"その他（要：備考欄への詳細記載）"},{"$f":"IF(INDIRECT($B$2&$P$2&$A29)=\"\",\"★\",INDIRECT($B$2&$P$2&$A29))","v":0},{"$f":"IF(INDIRECT($B$2&$Q$2&$A29)=\"\",\"★\",INDIRECT($B$2&$Q$2&$A29))","v":0},{"$f":"IF(INDIRECT($B$2&$R$2&$A29)=\"\",\"★\",INDIRECT($B$2&$R$2&$A29))","v":0},{"$f":"IF(INDIRECT($B$2&$S$2&$A29)=\"\",\"★\",INDIRECT($B$2&$S$2&$A29))","v":"★"},{"$f":"IF(INDIRECT($B$2&$T$2&$A29)=\"\",\"★\",INDIRECT($B$2&$T$2&$A29))","v":"★"},{"$f":"IF(INDIRECT($B$2&$U$2&$A29)=\"\",\"★\",INDIRECT($B$2&$U$2&$A29))","v":"★"},{"$f":"IF(INDIRECT($B$2&$V$2&$A29)=\"\",\"★\",INDIRECT($B$2&$V$2&$A29))","v":"★"},{"$f":"IF(INDIRECT($B$2&$W$2&$A29)=\"\",\"★\",INDIRECT($B$2&$W$2&$A29))","v":"★"},{"$f":"IF(INDIRECT($B$2&$X$2&$A29)=\"\",\"★\",INDIRECT($B$2&$X$2&$A29))","v":0},{"$f":"IF(INDIRECT($B$2&$Y$2&$A29)=\"\",\"★\",INDIRECT($B$2&$Y$2&$A29))","v":0},{"$f":"IF(INDIRECT($B$2&$Z$2&$A29)=\"\",\"★\",INDIRECT($B$2&$Z$2&$A29))","v":0},{"$f":"IF(INDIRECT($B$2&$AA$2&$A29)=\"\",\"★\",INDIRECT($B$2&$AA$2&$A29))","v":"★"},{"$f":"IF(INDIRECT($B$2&$AB$2&$A29)=\"\",\"★\",INDIRECT($B$2&$AB$2&$A29))","v":"★"},{"$f":"IF(INDIRECT($B$2&AC$2&$A29)=\"\",\"★\",INDIRECT($B$2&AC$2&$A29))","v":"★"},{"$f":"IF(INDIRECT($B$2&AD$2&$A29)=\"\",\"★\",INDIRECT($B$2&AD$2&$A29))","v":"★"},{"$f":"IF(INDIRECT($B$2&AE$2&$A29)=\"\",\"★\",INDIRECT($B$2&AE$2&$A29))","v":"★"},{"$f":"IF(INDIRECT($B$2&AF$2&$A29)=\"\",\"★\",INDIRECT($B$2&AF$2&$A29))","v":"★"},{"$f":"IF(INDIRECT($B$2&AG$2&$A29)=\"\",\"★\",INDIRECT($B$2&AG$2&$A29))","v":"★"},{"$f":"IF(INDIRECT($B$2&AH$2&$A29)=\"\",\"★\",INDIRECT($B$2&AH$2&$A29))","v":"★"},{"$f":"IF(INDIRECT($B$2&AI$2&$A29)=\"\",\"★\",INDIRECT($B$2&AI$2&$A29))","v":"★"},{"$f":"IF(INDIRECT($B$2&AJ$2&$A29)=\"\",\"★\",INDIRECT($B$2&AJ$2&$A29))","v":"★"},{"$f":"IF(INDIRECT($B$2&AK$2&$A29)=\"\",\"★\",INDIRECT($B$2&AK$2&$A29))","v":"★"},{"$f":"IF(INDIRECT($B$2&AL$2&$A29)=\"\",\"★\",INDIRECT($B$2&AL$2&$A29))","v":"★"},{"$f":"IF(INDIRECT($B$2&AM$2&$A29)=\"\",\"★\",INDIRECT($B$2&AM$2&$A29))","v":"★"},{"$f":"IF(INDIRECT($B$2&AN$2&$A29)=\"\",\"★\",INDIRECT($B$2&AN$2&$A29))","v":"★"},{"$f":"IF(INDIRECT($B$2&AO$2&$A29)=\"\",\"★\",INDIRECT($B$2&AO$2&$A29))","v":"★"},{"$f":"IF(INDIRECT($B$2&AP$2&$A29)=\"\",\"★\",INDIRECT($B$2&AP$2&$A29))","v":"★"},{"$f":"IF(INDIRECT($B$2&AQ$2&$A29)=\"\",\"★\",INDIRECT($B$2&AQ$2&$A29))","v":"★"},{"$f":"IF(INDIRECT($B$2&AR$2&$A29)=\"\",\"★\",INDIRECT($B$2&AR$2&$A29))","v":0},{"$f":"IF(INDIRECT($B$2&AS$2&$A29)=\"\",\"★\",INDIRECT($B$2&AS$2&$A29))","v":"★"},{"$f":"IF(INDIRECT($B$2&AT$2&$A29)=\"\",\"★\",INDIRECT($B$2&AT$2&$A29))","v":"★"},{"$f":"IF(INDIRECT($B$2&AU$2&$A29)=\"\",\"★\",INDIRECT($B$2&AU$2&$A29))","v":"★"},{"$f":"IF(INDIRECT($B$2&AV$2&$A29)=\"\",\"★\",INDIRECT($B$2&AV$2&$A29))","v":"★"},{"$f":"IF(INDIRECT($B$2&AW$2&$A29)=\"\",\"★\",INDIRECT($B$2&AW$2&$A29))","v":"★"},{"$f":"IF(INDIRECT($B$2&AX$2&$A29)=\"\",\"★\",INDIRECT($B$2&AX$2&$A29))","v":"★"},{"$f":"IF(INDIRECT($B$2&AY$2&$A29)=\"\",\"★\",INDIRECT($B$2&AY$2&$A29))","v":"★"},{"$f":"IF(INDIRECT($B$2&AZ$2&$A29)=\"\",\"★\",INDIRECT($B$2&AZ$2&$A29))","v":"★"},{"$f":"IF(INDIRECT($B$2&BA$2&$A29)=\"\",\"★\",INDIRECT($B$2&BA$2&$A29))","v":"★"},{"$f":"IF(INDIRECT($B$2&BB$2&$A29)=\"\",\"★\",INDIRECT($B$2&BB$2&$A29))","v":"★"},{"$f":"IF(INDIRECT($B$2&BC$2&$A29)=\"\",\"★\",INDIRECT($B$2&BC$2&$A29))","v":"★"},{"$f":"IF(INDIRECT($B$2&BD$2&$A29)=\"\",\"★\",INDIRECT($B$2&BD$2&$A29))","v":"★"},{"$f":"IF(INDIRECT($B$2&BE$2&$A29)=\"\",\"★\",INDIRECT($B$2&BE$2&$A29))","v":"★"},{"$f":"IF(INDIRECT($B$2&BF$2&$A29)=\"\",\"★\",INDIRECT($B$2&BF$2&$A29))","v":"★"},{"$f":"IF(INDIRECT($B$2&BG$2&$A29)=\"\",\"★\",INDIRECT($B$2&BG$2&$A29))","v":0},{"$f":"IF(INDIRECT($B$2&BH$2&$A29)=\"\",\"★\",INDIRECT($B$2&BH$2&$A29))","v":"★"},{"$f":"IF(INDIRECT($B$2&BI$2&$A29)=\"\",\"★\",INDIRECT($B$2&BI$2&$A29))","v":"★"},{"$f":"IF(INDIRECT($B$2&BJ$2&$A29)=\"\",\"★\",INDIRECT($B$2&BJ$2&$A29))","v":"★"},{"$f":"IF(INDIRECT($B$2&BK$2&$A29)=\"\",\"★\",INDIRECT($B$2&BK$2&$A29))","v":"★"},{"$f":"IF(INDIRECT($B$2&BL$2&$A29)=\"\",\"★\",INDIRECT($B$2&BL$2&$A29))","v":"★"},{"$f":"IF(INDIRECT($B$2&BM$2&$A29)=\"\",\"★\",INDIRECT($B$2&BM$2&$A29))","v":"★"},{"$f":"IF(INDIRECT($B$2&BN$2&$A29)=\"\",\"★\",INDIRECT($B$2&BN$2&$A29))","v":"★"},{"$f":"IF(INDIRECT($B$2&BO$2&$A29)=\"\",\"★\",INDIRECT($B$2&BO$2&$A29))","v":"★"},{"$f":"IF(INDIRECT($B$2&BP$2&$A29)=\"\",\"★\",INDIRECT($B$2&BP$2&$A29))","v":"★"},{"$f":"IF(INDIRECT($B$2&BQ$2&$A29)=\"\",\"★\",INDIRECT($B$2&BQ$2&$A29))","v":"★"},{"$f":"IF(INDIRECT($B$2&BR$2&$A29)=\"\",\"★\",INDIRECT($B$2&BR$2&$A29))","v":"★"},{"$f":"IF(INDIRECT($B$2&BS$2&$A29)=\"\",\"★\",INDIRECT($B$2&BS$2&$A29))","v":"★"},{"$f":"IF(INDIRECT($B$2&BT$2&$A29)=\"\",\"★\",INDIRECT($B$2&BT$2&$A29))","v":"★"},{"$f":"IF(INDIRECT($B$2&BU$2&$A29)=\"\",\"★\",INDIRECT($B$2&BU$2&$A29))","v":"★"},{"$f":"IF(INDIRECT($B$2&BV$2&$A29)=\"\",\"★\",INDIRECT($B$2&BV$2&$A29))","v":"★"},{"$f":"IF(INDIRECT($B$2&BW$2&$A29)=\"\",\"★\",INDIRECT($B$2&BW$2&$A29))","v":"---"},{"$f":"IF(INDIRECT($B$2&BX$2&$A29)=\"\",\"★\",INDIRECT($B$2&BX$2&$A29))","v":"---"},{"$f":"IF(INDIRECT($B$2&BY$2&$A29)=\"\",\"★\",INDIRECT($B$2&BY$2&$A29))","v":"---"}]
[49,null,null,null,null,null,null,null,null,null,null,null,null,20,{"$f":"IF(INDIRECT($B$2&$O$2&$A30)=\"\",\"★\",INDIRECT($B$2&$O$2&$A30))","v":"その他（要：備考欄への詳細記載）"},{"$f":"IF(INDIRECT($B$2&$P$2&$A30)=\"\",\"★\",INDIRECT($B$2&$P$2&$A30))","v":0},{"$f":"IF(INDIRECT($B$2&$Q$2&$A30)=\"\",\"★\",INDIRECT($B$2&$Q$2&$A30))","v":0},{"$f":"IF(INDIRECT($B$2&$R$2&$A30)=\"\",\"★\",INDIRECT($B$2&$R$2&$A30))","v":0},{"$f":"IF(INDIRECT($B$2&$S$2&$A30)=\"\",\"★\",INDIRECT($B$2&$S$2&$A30))","v":"★"},{"$f":"IF(INDIRECT($B$2&$T$2&$A30)=\"\",\"★\",INDIRECT($B$2&$T$2&$A30))","v":"★"},{"$f":"IF(INDIRECT($B$2&$U$2&$A30)=\"\",\"★\",INDIRECT($B$2&$U$2&$A30))","v":"★"},{"$f":"IF(INDIRECT($B$2&$V$2&$A30)=\"\",\"★\",INDIRECT($B$2&$V$2&$A30))","v":"★"},{"$f":"IF(INDIRECT($B$2&$W$2&$A30)=\"\",\"★\",INDIRECT($B$2&$W$2&$A30))","v":"★"},{"$f":"IF(INDIRECT($B$2&$X$2&$A30)=\"\",\"★\",INDIRECT($B$2&$X$2&$A30))","v":0},{"$f":"IF(INDIRECT($B$2&$Y$2&$A30)=\"\",\"★\",INDIRECT($B$2&$Y$2&$A30))","v":0},{"$f":"IF(INDIRECT($B$2&$Z$2&$A30)=\"\",\"★\",INDIRECT($B$2&$Z$2&$A30))","v":0},{"$f":"IF(INDIRECT($B$2&$AA$2&$A30)=\"\",\"★\",INDIRECT($B$2&$AA$2&$A30))","v":"★"},{"$f":"IF(INDIRECT($B$2&$AB$2&$A30)=\"\",\"★\",INDIRECT($B$2&$AB$2&$A30))","v":"★"},{"$f":"IF(INDIRECT($B$2&AC$2&$A30)=\"\",\"★\",INDIRECT($B$2&AC$2&$A30))","v":"★"},{"$f":"IF(INDIRECT($B$2&AD$2&$A30)=\"\",\"★\",INDIRECT($B$2&AD$2&$A30))","v":"★"},{"$f":"IF(INDIRECT($B$2&AE$2&$A30)=\"\",\"★\",INDIRECT($B$2&AE$2&$A30))","v":"★"},{"$f":"IF(INDIRECT($B$2&AF$2&$A30)=\"\",\"★\",INDIRECT($B$2&AF$2&$A30))","v":"★"},{"$f":"IF(INDIRECT($B$2&AG$2&$A30)=\"\",\"★\",INDIRECT($B$2&AG$2&$A30))","v":"★"},{"$f":"IF(INDIRECT($B$2&AH$2&$A30)=\"\",\"★\",INDIRECT($B$2&AH$2&$A30))","v":"★"},{"$f":"IF(INDIRECT($B$2&AI$2&$A30)=\"\",\"★\",INDIRECT($B$2&AI$2&$A30))","v":"★"},{"$f":"IF(INDIRECT($B$2&AJ$2&$A30)=\"\",\"★\",INDIRECT($B$2&AJ$2&$A30))","v":"★"},{"$f":"IF(INDIRECT($B$2&AK$2&$A30)=\"\",\"★\",INDIRECT($B$2&AK$2&$A30))","v":"★"},{"$f":"IF(INDIRECT($B$2&AL$2&$A30)=\"\",\"★\",INDIRECT($B$2&AL$2&$A30))","v":"★"},{"$f":"IF(INDIRECT($B$2&AM$2&$A30)=\"\",\"★\",INDIRECT($B$2&AM$2&$A30))","v":"★"},{"$f":"IF(INDIRECT($B$2&AN$2&$A30)=\"\",\"★\",INDIRECT($B$2&AN$2&$A30))","v":"★"},{"$f":"IF(INDIRECT($B$2&AO$2&$A30)=\"\",\"★\",INDIRECT($B$2&AO$2&$A30))","v":"★"},{"$f":"IF(INDIRECT($B$2&AP$2&$A30)=\"\",\"★\",INDIRECT($B$2&AP$2&$A30))","v":"★"},{"$f":"IF(INDIRECT($B$2&AQ$2&$A30)=\"\",\"★\",INDIRECT($B$2&AQ$2&$A30))","v":"★"},{"$f":"IF(INDIRECT($B$2&AR$2&$A30)=\"\",\"★\",INDIRECT($B$2&AR$2&$A30))","v":0},{"$f":"IF(INDIRECT($B$2&AS$2&$A30)=\"\",\"★\",INDIRECT($B$2&AS$2&$A30))","v":"★"},{"$f":"IF(INDIRECT($B$2&AT$2&$A30)=\"\",\"★\",INDIRECT($B$2&AT$2&$A30))","v":"★"},{"$f":"IF(INDIRECT($B$2&AU$2&$A30)=\"\",\"★\",INDIRECT($B$2&AU$2&$A30))","v":"★"},{"$f":"IF(INDIRECT($B$2&AV$2&$A30)=\"\",\"★\",INDIRECT($B$2&AV$2&$A30))","v":"★"},{"$f":"IF(INDIRECT($B$2&AW$2&$A30)=\"\",\"★\",INDIRECT($B$2&AW$2&$A30))","v":"★"},{"$f":"IF(INDIRECT($B$2&AX$2&$A30)=\"\",\"★\",INDIRECT($B$2&AX$2&$A30))","v":"★"},{"$f":"IF(INDIRECT($B$2&AY$2&$A30)=\"\",\"★\",INDIRECT($B$2&AY$2&$A30))","v":"★"},{"$f":"IF(INDIRECT($B$2&AZ$2&$A30)=\"\",\"★\",INDIRECT($B$2&AZ$2&$A30))","v":"★"},{"$f":"IF(INDIRECT($B$2&BA$2&$A30)=\"\",\"★\",INDIRECT($B$2&BA$2&$A30))","v":"★"},{"$f":"IF(INDIRECT($B$2&BB$2&$A30)=\"\",\"★\",INDIRECT($B$2&BB$2&$A30))","v":"★"},{"$f":"IF(INDIRECT($B$2&BC$2&$A30)=\"\",\"★\",INDIRECT($B$2&BC$2&$A30))","v":"★"},{"$f":"IF(INDIRECT($B$2&BD$2&$A30)=\"\",\"★\",INDIRECT($B$2&BD$2&$A30))","v":"★"},{"$f":"IF(INDIRECT($B$2&BE$2&$A30)=\"\",\"★\",INDIRECT($B$2&BE$2&$A30))","v":"★"},{"$f":"IF(INDIRECT($B$2&BF$2&$A30)=\"\",\"★\",INDIRECT($B$2&BF$2&$A30))","v":"★"},{"$f":"IF(INDIRECT($B$2&BG$2&$A30)=\"\",\"★\",INDIRECT($B$2&BG$2&$A30))","v":0},{"$f":"IF(INDIRECT($B$2&BH$2&$A30)=\"\",\"★\",INDIRECT($B$2&BH$2&$A30))","v":"★"},{"$f":"IF(INDIRECT($B$2&BI$2&$A30)=\"\",\"★\",INDIRECT($B$2&BI$2&$A30))","v":"★"},{"$f":"IF(INDIRECT($B$2&BJ$2&$A30)=\"\",\"★\",INDIRECT($B$2&BJ$2&$A30))","v":"★"},{"$f":"IF(INDIRECT($B$2&BK$2&$A30)=\"\",\"★\",INDIRECT($B$2&BK$2&$A30))","v":"★"},{"$f":"IF(INDIRECT($B$2&BL$2&$A30)=\"\",\"★\",INDIRECT($B$2&BL$2&$A30))","v":"★"},{"$f":"IF(INDIRECT($B$2&BM$2&$A30)=\"\",\"★\",INDIRECT($B$2&BM$2&$A30))","v":"★"},{"$f":"IF(INDIRECT($B$2&BN$2&$A30)=\"\",\"★\",INDIRECT($B$2&BN$2&$A30))","v":"★"},{"$f":"IF(INDIRECT($B$2&BO$2&$A30)=\"\",\"★\",INDIRECT($B$2&BO$2&$A30))","v":"★"},{"$f":"IF(INDIRECT($B$2&BP$2&$A30)=\"\",\"★\",INDIRECT($B$2&BP$2&$A30))","v":"★"},{"$f":"IF(INDIRECT($B$2&BQ$2&$A30)=\"\",\"★\",INDIRECT($B$2&BQ$2&$A30))","v":"★"},{"$f":"IF(INDIRECT($B$2&BR$2&$A30)=\"\",\"★\",INDIRECT($B$2&BR$2&$A30))","v":"★"},{"$f":"IF(INDIRECT($B$2&BS$2&$A30)=\"\",\"★\",INDIRECT($B$2&BS$2&$A30))","v":"★"},{"$f":"IF(INDIRECT($B$2&BT$2&$A30)=\"\",\"★\",INDIRECT($B$2&BT$2&$A30))","v":"★"},{"$f":"IF(INDIRECT($B$2&BU$2&$A30)=\"\",\"★\",INDIRECT($B$2&BU$2&$A30))","v":"★"},{"$f":"IF(INDIRECT($B$2&BV$2&$A30)=\"\",\"★\",INDIRECT($B$2&BV$2&$A30))","v":"★"},{"$f":"IF(INDIRECT($B$2&BW$2&$A30)=\"\",\"★\",INDIRECT($B$2&BW$2&$A30))","v":"---"},{"$f":"IF(INDIRECT($B$2&BX$2&$A30)=\"\",\"★\",INDIRECT($B$2&BX$2&$A30))","v":"---"},{"$f":"IF(INDIRECT($B$2&BY$2&$A30)=\"\",\"★\",INDIRECT($B$2&BY$2&$A30))","v":"---"}]
[50,null,null,null,null,null,null,null,null,null,null,null,null,21,{"$f":"IF(INDIRECT($B$2&$O$2&$A31)=\"\",\"★\",INDIRECT($B$2&$O$2&$A31))","v":"その他（要：備考欄への詳細記載）"},{"$f":"IF(INDIRECT($B$2&$P$2&$A31)=\"\",\"★\",INDIRECT($B$2&$P$2&$A31))","v":0},{"$f":"IF(INDIRECT($B$2&$Q$2&$A31)=\"\",\"★\",INDIRECT($B$2&$Q$2&$A31))","v":0},{"$f":"IF(INDIRECT($B$2&$R$2&$A31)=\"\",\"★\",INDIRECT($B$2&$R$2&$A31))","v":0},{"$f":"IF(INDIRECT($B$2&$S$2&$A31)=\"\",\"★\",INDIRECT($B$2&$S$2&$A31))","v":"★"},{"$f":"IF(INDIRECT($B$2&$T$2&$A31)=\"\",\"★\",INDIRECT($B$2&$T$2&$A31))","v":"★"},{"$f":"IF(INDIRECT($B$2&$U$2&$A31)=\"\",\"★\",INDIRECT($B$2&$U$2&$A31))","v":"★"},{"$f":"IF(INDIRECT($B$2&$V$2&$A31)=\"\",\"★\",INDIRECT($B$2&$V$2&$A31))","v":"★"},{"$f":"IF(INDIRECT($B$2&$W$2&$A31)=\"\",\"★\",INDIRECT($B$2&$W$2&$A31))","v":"★"},{"$f":"IF(INDIRECT($B$2&$X$2&$A31)=\"\",\"★\",INDIRECT($B$2&$X$2&$A31))","v":0},{"$f":"IF(INDIRECT($B$2&$Y$2&$A31)=\"\",\"★\",INDIRECT($B$2&$Y$2&$A31))","v":0},{"$f":"IF(INDIRECT($B$2&$Z$2&$A31)=\"\",\"★\",INDIRECT($B$2&$Z$2&$A31))","v":0},{"$f":"IF(INDIRECT($B$2&$AA$2&$A31)=\"\",\"★\",INDIRECT($B$2&$AA$2&$A31))","v":"★"},{"$f":"IF(INDIRECT($B$2&$AB$2&$A31)=\"\",\"★\",INDIRECT($B$2&$AB$2&$A31))","v":"★"},{"$f":"IF(INDIRECT($B$2&AC$2&$A31)=\"\",\"★\",INDIRECT($B$2&AC$2&$A31))","v":"★"},{"$f":"IF(INDIRECT($B$2&AD$2&$A31)=\"\",\"★\",INDIRECT($B$2&AD$2&$A31))","v":"★"},{"$f":"IF(INDIRECT($B$2&AE$2&$A31)=\"\",\"★\",INDIRECT($B$2&AE$2&$A31))","v":"★"},{"$f":"IF(INDIRECT($B$2&AF$2&$A31)=\"\",\"★\",INDIRECT($B$2&AF$2&$A31))","v":"★"},{"$f":"IF(INDIRECT($B$2&AG$2&$A31)=\"\",\"★\",INDIRECT($B$2&AG$2&$A31))","v":"★"},{"$f":"IF(INDIRECT($B$2&AH$2&$A31)=\"\",\"★\",INDIRECT($B$2&AH$2&$A31))","v":"★"},{"$f":"IF(INDIRECT($B$2&AI$2&$A31)=\"\",\"★\",INDIRECT($B$2&AI$2&$A31))","v":"★"},{"$f":"IF(INDIRECT($B$2&AJ$2&$A31)=\"\",\"★\",INDIRECT($B$2&AJ$2&$A31))","v":"★"},{"$f":"IF(INDIRECT($B$2&AK$2&$A31)=\"\",\"★\",INDIRECT($B$2&AK$2&$A31))","v":"★"},{"$f":"IF(INDIRECT($B$2&AL$2&$A31)=\"\",\"★\",INDIRECT($B$2&AL$2&$A31))","v":"★"},{"$f":"IF(INDIRECT($B$2&AM$2&$A31)=\"\",\"★\",INDIRECT($B$2&AM$2&$A31))","v":"★"},{"$f":"IF(INDIRECT($B$2&AN$2&$A31)=\"\",\"★\",INDIRECT($B$2&AN$2&$A31))","v":"★"},{"$f":"IF(INDIRECT($B$2&AO$2&$A31)=\"\",\"★\",INDIRECT($B$2&AO$2&$A31))","v":"★"},{"$f":"IF(INDIRECT($B$2&AP$2&$A31)=\"\",\"★\",INDIRECT($B$2&AP$2&$A31))","v":"★"},{"$f":"IF(INDIRECT($B$2&AQ$2&$A31)=\"\",\"★\",INDIRECT($B$2&AQ$2&$A31))","v":"★"},{"$f":"IF(INDIRECT($B$2&AR$2&$A31)=\"\",\"★\",INDIRECT($B$2&AR$2&$A31))","v":0},{"$f":"IF(INDIRECT($B$2&AS$2&$A31)=\"\",\"★\",INDIRECT($B$2&AS$2&$A31))","v":"★"},{"$f":"IF(INDIRECT($B$2&AT$2&$A31)=\"\",\"★\",INDIRECT($B$2&AT$2&$A31))","v":"★"},{"$f":"IF(INDIRECT($B$2&AU$2&$A31)=\"\",\"★\",INDIRECT($B$2&AU$2&$A31))","v":"★"},{"$f":"IF(INDIRECT($B$2&AV$2&$A31)=\"\",\"★\",INDIRECT($B$2&AV$2&$A31))","v":"★"},{"$f":"IF(INDIRECT($B$2&AW$2&$A31)=\"\",\"★\",INDIRECT($B$2&AW$2&$A31))","v":"★"},{"$f":"IF(INDIRECT($B$2&AX$2&$A31)=\"\",\"★\",INDIRECT($B$2&AX$2&$A31))","v":"★"},{"$f":"IF(INDIRECT($B$2&AY$2&$A31)=\"\",\"★\",INDIRECT($B$2&AY$2&$A31))","v":"★"},{"$f":"IF(INDIRECT($B$2&AZ$2&$A31)=\"\",\"★\",INDIRECT($B$2&AZ$2&$A31))","v":"★"},{"$f":"IF(INDIRECT($B$2&BA$2&$A31)=\"\",\"★\",INDIRECT($B$2&BA$2&$A31))","v":"★"},{"$f":"IF(INDIRECT($B$2&BB$2&$A31)=\"\",\"★\",INDIRECT($B$2&BB$2&$A31))","v":"★"},{"$f":"IF(INDIRECT($B$2&BC$2&$A31)=\"\",\"★\",INDIRECT($B$2&BC$2&$A31))","v":"★"},{"$f":"IF(INDIRECT($B$2&BD$2&$A31)=\"\",\"★\",INDIRECT($B$2&BD$2&$A31))","v":"★"},{"$f":"IF(INDIRECT($B$2&BE$2&$A31)=\"\",\"★\",INDIRECT($B$2&BE$2&$A31))","v":"★"},{"$f":"IF(INDIRECT($B$2&BF$2&$A31)=\"\",\"★\",INDIRECT($B$2&BF$2&$A31))","v":"★"},{"$f":"IF(INDIRECT($B$2&BG$2&$A31)=\"\",\"★\",INDIRECT($B$2&BG$2&$A31))","v":0},{"$f":"IF(INDIRECT($B$2&BH$2&$A31)=\"\",\"★\",INDIRECT($B$2&BH$2&$A31))","v":"★"},{"$f":"IF(INDIRECT($B$2&BI$2&$A31)=\"\",\"★\",INDIRECT($B$2&BI$2&$A31))","v":"★"},{"$f":"IF(INDIRECT($B$2&BJ$2&$A31)=\"\",\"★\",INDIRECT($B$2&BJ$2&$A31))","v":"★"},{"$f":"IF(INDIRECT($B$2&BK$2&$A31)=\"\",\"★\",INDIRECT($B$2&BK$2&$A31))","v":"★"},{"$f":"IF(INDIRECT($B$2&BL$2&$A31)=\"\",\"★\",INDIRECT($B$2&BL$2&$A31))","v":"★"},{"$f":"IF(INDIRECT($B$2&BM$2&$A31)=\"\",\"★\",INDIRECT($B$2&BM$2&$A31))","v":"★"},{"$f":"IF(INDIRECT($B$2&BN$2&$A31)=\"\",\"★\",INDIRECT($B$2&BN$2&$A31))","v":"★"},{"$f":"IF(INDIRECT($B$2&BO$2&$A31)=\"\",\"★\",INDIRECT($B$2&BO$2&$A31))","v":"★"},{"$f":"IF(INDIRECT($B$2&BP$2&$A31)=\"\",\"★\",INDIRECT($B$2&BP$2&$A31))","v":"★"},{"$f":"IF(INDIRECT($B$2&BQ$2&$A31)=\"\",\"★\",INDIRECT($B$2&BQ$2&$A31))","v":"★"},{"$f":"IF(INDIRECT($B$2&BR$2&$A31)=\"\",\"★\",INDIRECT($B$2&BR$2&$A31))","v":"★"},{"$f":"IF(INDIRECT($B$2&BS$2&$A31)=\"\",\"★\",INDIRECT($B$2&BS$2&$A31))","v":"★"},{"$f":"IF(INDIRECT($B$2&BT$2&$A31)=\"\",\"★\",INDIRECT($B$2&BT$2&$A31))","v":"★"},{"$f":"IF(INDIRECT($B$2&BU$2&$A31)=\"\",\"★\",INDIRECT($B$2&BU$2&$A31))","v":"★"},{"$f":"IF(INDIRECT($B$2&BV$2&$A31)=\"\",\"★\",INDIRECT($B$2&BV$2&$A31))","v":"★"},{"$f":"IF(INDIRECT($B$2&BW$2&$A31)=\"\",\"★\",INDIRECT($B$2&BW$2&$A31))","v":"---"},{"$f":"IF(INDIRECT($B$2&BX$2&$A31)=\"\",\"★\",INDIRECT($B$2&BX$2&$A31))","v":"---"},{"$f":"IF(INDIRECT($B$2&BY$2&$A31)=\"\",\"★\",INDIRECT($B$2&BY$2&$A31))","v":"---"}]
[51,null,null,null,null,null,null,null,null,null,null,null,null,22,{"$f":"IF(INDIRECT($B$2&$O$2&$A32)=\"\",\"★\",INDIRECT($B$2&$O$2&$A32))","v":"その他（要：備考欄への詳細記載）"},{"$f":"IF(INDIRECT($B$2&$P$2&$A32)=\"\",\"★\",INDIRECT($B$2&$P$2&$A32))","v":0},{"$f":"IF(INDIRECT($B$2&$Q$2&$A32)=\"\",\"★\",INDIRECT($B$2&$Q$2&$A32))","v":0},{"$f":"IF(INDIRECT($B$2&$R$2&$A32)=\"\",\"★\",INDIRECT($B$2&$R$2&$A32))","v":0},{"$f":"IF(INDIRECT($B$2&$S$2&$A32)=\"\",\"★\",INDIRECT($B$2&$S$2&$A32))","v":"★"},{"$f":"IF(INDIRECT($B$2&$T$2&$A32)=\"\",\"★\",INDIRECT($B$2&$T$2&$A32))","v":"★"},{"$f":"IF(INDIRECT($B$2&$U$2&$A32)=\"\",\"★\",INDIRECT($B$2&$U$2&$A32))","v":"★"},{"$f":"IF(INDIRECT($B$2&$V$2&$A32)=\"\",\"★\",INDIRECT($B$2&$V$2&$A32))","v":"★"},{"$f":"IF(INDIRECT($B$2&$W$2&$A32)=\"\",\"★\",INDIRECT($B$2&$W$2&$A32))","v":"★"},{"$f":"IF(INDIRECT($B$2&$X$2&$A32)=\"\",\"★\",INDIRECT($B$2&$X$2&$A32))","v":0},{"$f":"IF(INDIRECT($B$2&$Y$2&$A32)=\"\",\"★\",INDIRECT($B$2&$Y$2&$A32))","v":0},{"$f":"IF(INDIRECT($B$2&$Z$2&$A32)=\"\",\"★\",INDIRECT($B$2&$Z$2&$A32))","v":0},{"$f":"IF(INDIRECT($B$2&$AA$2&$A32)=\"\",\"★\",INDIRECT($B$2&$AA$2&$A32))","v":"★"},{"$f":"IF(INDIRECT($B$2&$AB$2&$A32)=\"\",\"★\",INDIRECT($B$2&$AB$2&$A32))","v":"★"},{"$f":"IF(INDIRECT($B$2&AC$2&$A32)=\"\",\"★\",INDIRECT($B$2&AC$2&$A32))","v":"★"},{"$f":"IF(INDIRECT($B$2&AD$2&$A32)=\"\",\"★\",INDIRECT($B$2&AD$2&$A32))","v":"★"},{"$f":"IF(INDIRECT($B$2&AE$2&$A32)=\"\",\"★\",INDIRECT($B$2&AE$2&$A32))","v":"★"},{"$f":"IF(INDIRECT($B$2&AF$2&$A32)=\"\",\"★\",INDIRECT($B$2&AF$2&$A32))","v":"★"},{"$f":"IF(INDIRECT($B$2&AG$2&$A32)=\"\",\"★\",INDIRECT($B$2&AG$2&$A32))","v":"★"},{"$f":"IF(INDIRECT($B$2&AH$2&$A32)=\"\",\"★\",INDIRECT($B$2&AH$2&$A32))","v":"★"},{"$f":"IF(INDIRECT($B$2&AI$2&$A32)=\"\",\"★\",INDIRECT($B$2&AI$2&$A32))","v":"★"},{"$f":"IF(INDIRECT($B$2&AJ$2&$A32)=\"\",\"★\",INDIRECT($B$2&AJ$2&$A32))","v":"★"},{"$f":"IF(INDIRECT($B$2&AK$2&$A32)=\"\",\"★\",INDIRECT($B$2&AK$2&$A32))","v":"★"},{"$f":"IF(INDIRECT($B$2&AL$2&$A32)=\"\",\"★\",INDIRECT($B$2&AL$2&$A32))","v":"★"},{"$f":"IF(INDIRECT($B$2&AM$2&$A32)=\"\",\"★\",INDIRECT($B$2&AM$2&$A32))","v":"★"},{"$f":"IF(INDIRECT($B$2&AN$2&$A32)=\"\",\"★\",INDIRECT($B$2&AN$2&$A32))","v":"★"},{"$f":"IF(INDIRECT($B$2&AO$2&$A32)=\"\",\"★\",INDIRECT($B$2&AO$2&$A32))","v":"★"},{"$f":"IF(INDIRECT($B$2&AP$2&$A32)=\"\",\"★\",INDIRECT($B$2&AP$2&$A32))","v":"★"},{"$f":"IF(INDIRECT($B$2&AQ$2&$A32)=\"\",\"★\",INDIRECT($B$2&AQ$2&$A32))","v":"★"},{"$f":"IF(INDIRECT($B$2&AR$2&$A32)=\"\",\"★\",INDIRECT($B$2&AR$2&$A32))","v":0},{"$f":"IF(INDIRECT($B$2&AS$2&$A32)=\"\",\"★\",INDIRECT($B$2&AS$2&$A32))","v":"★"},{"$f":"IF(INDIRECT($B$2&AT$2&$A32)=\"\",\"★\",INDIRECT($B$2&AT$2&$A32))","v":"★"},{"$f":"IF(INDIRECT($B$2&AU$2&$A32)=\"\",\"★\",INDIRECT($B$2&AU$2&$A32))","v":"★"},{"$f":"IF(INDIRECT($B$2&AV$2&$A32)=\"\",\"★\",INDIRECT($B$2&AV$2&$A32))","v":"★"},{"$f":"IF(INDIRECT($B$2&AW$2&$A32)=\"\",\"★\",INDIRECT($B$2&AW$2&$A32))","v":"★"},{"$f":"IF(INDIRECT($B$2&AX$2&$A32)=\"\",\"★\",INDIRECT($B$2&AX$2&$A32))","v":"★"},{"$f":"IF(INDIRECT($B$2&AY$2&$A32)=\"\",\"★\",INDIRECT($B$2&AY$2&$A32))","v":"★"},{"$f":"IF(INDIRECT($B$2&AZ$2&$A32)=\"\",\"★\",INDIRECT($B$2&AZ$2&$A32))","v":"★"},{"$f":"IF(INDIRECT($B$2&BA$2&$A32)=\"\",\"★\",INDIRECT($B$2&BA$2&$A32))","v":"★"},{"$f":"IF(INDIRECT($B$2&BB$2&$A32)=\"\",\"★\",INDIRECT($B$2&BB$2&$A32))","v":"★"},{"$f":"IF(INDIRECT($B$2&BC$2&$A32)=\"\",\"★\",INDIRECT($B$2&BC$2&$A32))","v":"★"},{"$f":"IF(INDIRECT($B$2&BD$2&$A32)=\"\",\"★\",INDIRECT($B$2&BD$2&$A32))","v":"★"},{"$f":"IF(INDIRECT($B$2&BE$2&$A32)=\"\",\"★\",INDIRECT($B$2&BE$2&$A32))","v":"★"},{"$f":"IF(INDIRECT($B$2&BF$2&$A32)=\"\",\"★\",INDIRECT($B$2&BF$2&$A32))","v":"★"},{"$f":"IF(INDIRECT($B$2&BG$2&$A32)=\"\",\"★\",INDIRECT($B$2&BG$2&$A32))","v":0},{"$f":"IF(INDIRECT($B$2&BH$2&$A32)=\"\",\"★\",INDIRECT($B$2&BH$2&$A32))","v":"★"},{"$f":"IF(INDIRECT($B$2&BI$2&$A32)=\"\",\"★\",INDIRECT($B$2&BI$2&$A32))","v":"★"},{"$f":"IF(INDIRECT($B$2&BJ$2&$A32)=\"\",\"★\",INDIRECT($B$2&BJ$2&$A32))","v":"★"},{"$f":"IF(INDIRECT($B$2&BK$2&$A32)=\"\",\"★\",INDIRECT($B$2&BK$2&$A32))","v":"★"},{"$f":"IF(INDIRECT($B$2&BL$2&$A32)=\"\",\"★\",INDIRECT($B$2&BL$2&$A32))","v":"★"},{"$f":"IF(INDIRECT($B$2&BM$2&$A32)=\"\",\"★\",INDIRECT($B$2&BM$2&$A32))","v":"★"},{"$f":"IF(INDIRECT($B$2&BN$2&$A32)=\"\",\"★\",INDIRECT($B$2&BN$2&$A32))","v":"★"},{"$f":"IF(INDIRECT($B$2&BO$2&$A32)=\"\",\"★\",INDIRECT($B$2&BO$2&$A32))","v":"★"},{"$f":"IF(INDIRECT($B$2&BP$2&$A32)=\"\",\"★\",INDIRECT($B$2&BP$2&$A32))","v":"★"},{"$f":"IF(INDIRECT($B$2&BQ$2&$A32)=\"\",\"★\",INDIRECT($B$2&BQ$2&$A32))","v":"★"},{"$f":"IF(INDIRECT($B$2&BR$2&$A32)=\"\",\"★\",INDIRECT($B$2&BR$2&$A32))","v":"★"},{"$f":"IF(INDIRECT($B$2&BS$2&$A32)=\"\",\"★\",INDIRECT($B$2&BS$2&$A32))","v":"★"},{"$f":"IF(INDIRECT($B$2&BT$2&$A32)=\"\",\"★\",INDIRECT($B$2&BT$2&$A32))","v":"★"},{"$f":"IF(INDIRECT($B$2&BU$2&$A32)=\"\",\"★\",INDIRECT($B$2&BU$2&$A32))","v":"★"},{"$f":"IF(INDIRECT($B$2&BV$2&$A32)=\"\",\"★\",INDIRECT($B$2&BV$2&$A32))","v":"★"},{"$f":"IF(INDIRECT($B$2&BW$2&$A32)=\"\",\"★\",INDIRECT($B$2&BW$2&$A32))","v":"---"},{"$f":"IF(INDIRECT($B$2&BX$2&$A32)=\"\",\"★\",INDIRECT($B$2&BX$2&$A32))","v":"---"},{"$f":"IF(INDIRECT($B$2&BY$2&$A32)=\"\",\"★\",INDIRECT($B$2&BY$2&$A32))","v":"---"}]
[52,null,null,null,null,null,null,null,null,null,null,null,null,23,{"$f":"IF(INDIRECT($B$2&$O$2&$A33)=\"\",\"★\",INDIRECT($B$2&$O$2&$A33))","v":"その他（要：備考欄への詳細記載）"},{"$f":"IF(INDIRECT($B$2&$P$2&$A33)=\"\",\"★\",INDIRECT($B$2&$P$2&$A33))","v":0},{"$f":"IF(INDIRECT($B$2&$Q$2&$A33)=\"\",\"★\",INDIRECT($B$2&$Q$2&$A33))","v":0},{"$f":"IF(INDIRECT($B$2&$R$2&$A33)=\"\",\"★\",INDIRECT($B$2&$R$2&$A33))","v":0},{"$f":"IF(INDIRECT($B$2&$S$2&$A33)=\"\",\"★\",INDIRECT($B$2&$S$2&$A33))","v":"★"},{"$f":"IF(INDIRECT($B$2&$T$2&$A33)=\"\",\"★\",INDIRECT($B$2&$T$2&$A33))","v":"★"},{"$f":"IF(INDIRECT($B$2&$U$2&$A33)=\"\",\"★\",INDIRECT($B$2&$U$2&$A33))","v":"★"},{"$f":"IF(INDIRECT($B$2&$V$2&$A33)=\"\",\"★\",INDIRECT($B$2&$V$2&$A33))","v":"★"},{"$f":"IF(INDIRECT($B$2&$W$2&$A33)=\"\",\"★\",INDIRECT($B$2&$W$2&$A33))","v":"★"},{"$f":"IF(INDIRECT($B$2&$X$2&$A33)=\"\",\"★\",INDIRECT($B$2&$X$2&$A33))","v":0},{"$f":"IF(INDIRECT($B$2&$Y$2&$A33)=\"\",\"★\",INDIRECT($B$2&$Y$2&$A33))","v":0},{"$f":"IF(INDIRECT($B$2&$Z$2&$A33)=\"\",\"★\",INDIRECT($B$2&$Z$2&$A33))","v":0},{"$f":"IF(INDIRECT($B$2&$AA$2&$A33)=\"\",\"★\",INDIRECT($B$2&$AA$2&$A33))","v":"★"},{"$f":"IF(INDIRECT($B$2&$AB$2&$A33)=\"\",\"★\",INDIRECT($B$2&$AB$2&$A33))","v":"★"},{"$f":"IF(INDIRECT($B$2&AC$2&$A33)=\"\",\"★\",INDIRECT($B$2&AC$2&$A33))","v":"★"},{"$f":"IF(INDIRECT($B$2&AD$2&$A33)=\"\",\"★\",INDIRECT($B$2&AD$2&$A33))","v":"★"},{"$f":"IF(INDIRECT($B$2&AE$2&$A33)=\"\",\"★\",INDIRECT($B$2&AE$2&$A33))","v":"★"},{"$f":"IF(INDIRECT($B$2&AF$2&$A33)=\"\",\"★\",INDIRECT($B$2&AF$2&$A33))","v":"★"},{"$f":"IF(INDIRECT($B$2&AG$2&$A33)=\"\",\"★\",INDIRECT($B$2&AG$2&$A33))","v":"★"},{"$f":"IF(INDIRECT($B$2&AH$2&$A33)=\"\",\"★\",INDIRECT($B$2&AH$2&$A33))","v":"★"},{"$f":"IF(INDIRECT($B$2&AI$2&$A33)=\"\",\"★\",INDIRECT($B$2&AI$2&$A33))","v":"★"},{"$f":"IF(INDIRECT($B$2&AJ$2&$A33)=\"\",\"★\",INDIRECT($B$2&AJ$2&$A33))","v":"★"},{"$f":"IF(INDIRECT($B$2&AK$2&$A33)=\"\",\"★\",INDIRECT($B$2&AK$2&$A33))","v":"★"},{"$f":"IF(INDIRECT($B$2&AL$2&$A33)=\"\",\"★\",INDIRECT($B$2&AL$2&$A33))","v":"★"},{"$f":"IF(INDIRECT($B$2&AM$2&$A33)=\"\",\"★\",INDIRECT($B$2&AM$2&$A33))","v":"★"},{"$f":"IF(INDIRECT($B$2&AN$2&$A33)=\"\",\"★\",INDIRECT($B$2&AN$2&$A33))","v":"★"},{"$f":"IF(INDIRECT($B$2&AO$2&$A33)=\"\",\"★\",INDIRECT($B$2&AO$2&$A33))","v":"★"},{"$f":"IF(INDIRECT($B$2&AP$2&$A33)=\"\",\"★\",INDIRECT($B$2&AP$2&$A33))","v":"★"},{"$f":"IF(INDIRECT($B$2&AQ$2&$A33)=\"\",\"★\",INDIRECT($B$2&AQ$2&$A33))","v":"★"},{"$f":"IF(INDIRECT($B$2&AR$2&$A33)=\"\",\"★\",INDIRECT($B$2&AR$2&$A33))","v":0},{"$f":"IF(INDIRECT($B$2&AS$2&$A33)=\"\",\"★\",INDIRECT($B$2&AS$2&$A33))","v":"★"},{"$f":"IF(INDIRECT($B$2&AT$2&$A33)=\"\",\"★\",INDIRECT($B$2&AT$2&$A33))","v":"★"},{"$f":"IF(INDIRECT($B$2&AU$2&$A33)=\"\",\"★\",INDIRECT($B$2&AU$2&$A33))","v":"★"},{"$f":"IF(INDIRECT($B$2&AV$2&$A33)=\"\",\"★\",INDIRECT($B$2&AV$2&$A33))","v":"★"},{"$f":"IF(INDIRECT($B$2&AW$2&$A33)=\"\",\"★\",INDIRECT($B$2&AW$2&$A33))","v":"★"},{"$f":"IF(INDIRECT($B$2&AX$2&$A33)=\"\",\"★\",INDIRECT($B$2&AX$2&$A33))","v":"★"},{"$f":"IF(INDIRECT($B$2&AY$2&$A33)=\"\",\"★\",INDIRECT($B$2&AY$2&$A33))","v":"★"},{"$f":"IF(INDIRECT($B$2&AZ$2&$A33)=\"\",\"★\",INDIRECT($B$2&AZ$2&$A33))","v":"★"},{"$f":"IF(INDIRECT($B$2&BA$2&$A33)=\"\",\"★\",INDIRECT($B$2&BA$2&$A33))","v":"★"},{"$f":"IF(INDIRECT($B$2&BB$2&$A33)=\"\",\"★\",INDIRECT($B$2&BB$2&$A33))","v":"★"},{"$f":"IF(INDIRECT($B$2&BC$2&$A33)=\"\",\"★\",INDIRECT($B$2&BC$2&$A33))","v":"★"},{"$f":"IF(INDIRECT($B$2&BD$2&$A33)=\"\",\"★\",INDIRECT($B$2&BD$2&$A33))","v":"★"},{"$f":"IF(INDIRECT($B$2&BE$2&$A33)=\"\",\"★\",INDIRECT($B$2&BE$2&$A33))","v":"★"},{"$f":"IF(INDIRECT($B$2&BF$2&$A33)=\"\",\"★\",INDIRECT($B$2&BF$2&$A33))","v":"★"},{"$f":"IF(INDIRECT($B$2&BG$2&$A33)=\"\",\"★\",INDIRECT($B$2&BG$2&$A33))","v":0},{"$f":"IF(INDIRECT($B$2&BH$2&$A33)=\"\",\"★\",INDIRECT($B$2&BH$2&$A33))","v":"★"},{"$f":"IF(INDIRECT($B$2&BI$2&$A33)=\"\",\"★\",INDIRECT($B$2&BI$2&$A33))","v":"★"},{"$f":"IF(INDIRECT($B$2&BJ$2&$A33)=\"\",\"★\",INDIRECT($B$2&BJ$2&$A33))","v":"★"},{"$f":"IF(INDIRECT($B$2&BK$2&$A33)=\"\",\"★\",INDIRECT($B$2&BK$2&$A33))","v":"★"},{"$f":"IF(INDIRECT($B$2&BL$2&$A33)=\"\",\"★\",INDIRECT($B$2&BL$2&$A33))","v":"★"},{"$f":"IF(INDIRECT($B$2&BM$2&$A33)=\"\",\"★\",INDIRECT($B$2&BM$2&$A33))","v":"★"},{"$f":"IF(INDIRECT($B$2&BN$2&$A33)=\"\",\"★\",INDIRECT($B$2&BN$2&$A33))","v":"★"},{"$f":"IF(INDIRECT($B$2&BO$2&$A33)=\"\",\"★\",INDIRECT($B$2&BO$2&$A33))","v":"★"},{"$f":"IF(INDIRECT($B$2&BP$2&$A33)=\"\",\"★\",INDIRECT($B$2&BP$2&$A33))","v":"★"},{"$f":"IF(INDIRECT($B$2&BQ$2&$A33)=\"\",\"★\",INDIRECT($B$2&BQ$2&$A33))","v":"★"},{"$f":"IF(INDIRECT($B$2&BR$2&$A33)=\"\",\"★\",INDIRECT($B$2&BR$2&$A33))","v":"★"},{"$f":"IF(INDIRECT($B$2&BS$2&$A33)=\"\",\"★\",INDIRECT($B$2&BS$2&$A33))","v":"★"},{"$f":"IF(INDIRECT($B$2&BT$2&$A33)=\"\",\"★\",INDIRECT($B$2&BT$2&$A33))","v":"★"},{"$f":"IF(INDIRECT($B$2&BU$2&$A33)=\"\",\"★\",INDIRECT($B$2&BU$2&$A33))","v":"★"},{"$f":"IF(INDIRECT($B$2&BV$2&$A33)=\"\",\"★\",INDIRECT($B$2&BV$2&$A33))","v":"★"},{"$f":"IF(INDIRECT($B$2&BW$2&$A33)=\"\",\"★\",INDIRECT($B$2&BW$2&$A33))","v":"---"},{"$f":"IF(INDIRECT($B$2&BX$2&$A33)=\"\",\"★\",INDIRECT($B$2&BX$2&$A33))","v":"---"},{"$f":"IF(INDIRECT($B$2&BY$2&$A33)=\"\",\"★\",INDIRECT($B$2&BY$2&$A33))","v":"---"}]
[53,null,null,null,null,null,null,null,null,null,null,null,null,24,{"$f":"IF(INDIRECT($B$2&$O$2&$A34)=\"\",\"★\",INDIRECT($B$2&$O$2&$A34))","v":"その他（要：備考欄への詳細記載）"},{"$f":"IF(INDIRECT($B$2&$P$2&$A34)=\"\",\"★\",INDIRECT($B$2&$P$2&$A34))","v":0},{"$f":"IF(INDIRECT($B$2&$Q$2&$A34)=\"\",\"★\",INDIRECT($B$2&$Q$2&$A34))","v":0},{"$f":"IF(INDIRECT($B$2&$R$2&$A34)=\"\",\"★\",INDIRECT($B$2&$R$2&$A34))","v":0},{"$f":"IF(INDIRECT($B$2&$S$2&$A34)=\"\",\"★\",INDIRECT($B$2&$S$2&$A34))","v":"★"},{"$f":"IF(INDIRECT($B$2&$T$2&$A34)=\"\",\"★\",INDIRECT($B$2&$T$2&$A34))","v":"★"},{"$f":"IF(INDIRECT($B$2&$U$2&$A34)=\"\",\"★\",INDIRECT($B$2&$U$2&$A34))","v":"★"},{"$f":"IF(INDIRECT($B$2&$V$2&$A34)=\"\",\"★\",INDIRECT($B$2&$V$2&$A34))","v":"★"},{"$f":"IF(INDIRECT($B$2&$W$2&$A34)=\"\",\"★\",INDIRECT($B$2&$W$2&$A34))","v":"★"},{"$f":"IF(INDIRECT($B$2&$X$2&$A34)=\"\",\"★\",INDIRECT($B$2&$X$2&$A34))","v":0},{"$f":"IF(INDIRECT($B$2&$Y$2&$A34)=\"\",\"★\",INDIRECT($B$2&$Y$2&$A34))","v":0},{"$f":"IF(INDIRECT($B$2&$Z$2&$A34)=\"\",\"★\",INDIRECT($B$2&$Z$2&$A34))","v":0},{"$f":"IF(INDIRECT($B$2&$AA$2&$A34)=\"\",\"★\",INDIRECT($B$2&$AA$2&$A34))","v":"★"},{"$f":"IF(INDIRECT($B$2&$AB$2&$A34)=\"\",\"★\",INDIRECT($B$2&$AB$2&$A34))","v":"★"},{"$f":"IF(INDIRECT($B$2&AC$2&$A34)=\"\",\"★\",INDIRECT($B$2&AC$2&$A34))","v":"★"},{"$f":"IF(INDIRECT($B$2&AD$2&$A34)=\"\",\"★\",INDIRECT($B$2&AD$2&$A34))","v":"★"},{"$f":"IF(INDIRECT($B$2&AE$2&$A34)=\"\",\"★\",INDIRECT($B$2&AE$2&$A34))","v":"★"},{"$f":"IF(INDIRECT($B$2&AF$2&$A34)=\"\",\"★\",INDIRECT($B$2&AF$2&$A34))","v":"★"},{"$f":"IF(INDIRECT($B$2&AG$2&$A34)=\"\",\"★\",INDIRECT($B$2&AG$2&$A34))","v":"★"},{"$f":"IF(INDIRECT($B$2&AH$2&$A34)=\"\",\"★\",INDIRECT($B$2&AH$2&$A34))","v":"★"},{"$f":"IF(INDIRECT($B$2&AI$2&$A34)=\"\",\"★\",INDIRECT($B$2&AI$2&$A34))","v":"★"},{"$f":"IF(INDIRECT($B$2&AJ$2&$A34)=\"\",\"★\",INDIRECT($B$2&AJ$2&$A34))","v":"★"},{"$f":"IF(INDIRECT($B$2&AK$2&$A34)=\"\",\"★\",INDIRECT($B$2&AK$2&$A34))","v":"★"},{"$f":"IF(INDIRECT($B$2&AL$2&$A34)=\"\",\"★\",INDIRECT($B$2&AL$2&$A34))","v":"★"},{"$f":"IF(INDIRECT($B$2&AM$2&$A34)=\"\",\"★\",INDIRECT($B$2&AM$2&$A34))","v":"★"},{"$f":"IF(INDIRECT($B$2&AN$2&$A34)=\"\",\"★\",INDIRECT($B$2&AN$2&$A34))","v":"★"},{"$f":"IF(INDIRECT($B$2&AO$2&$A34)=\"\",\"★\",INDIRECT($B$2&AO$2&$A34))","v":"★"},{"$f":"IF(INDIRECT($B$2&AP$2&$A34)=\"\",\"★\",INDIRECT($B$2&AP$2&$A34))","v":"★"},{"$f":"IF(INDIRECT($B$2&AQ$2&$A34)=\"\",\"★\",INDIRECT($B$2&AQ$2&$A34))","v":"★"},{"$f":"IF(INDIRECT($B$2&AR$2&$A34)=\"\",\"★\",INDIRECT($B$2&AR$2&$A34))","v":0},{"$f":"IF(INDIRECT($B$2&AS$2&$A34)=\"\",\"★\",INDIRECT($B$2&AS$2&$A34))","v":"★"},{"$f":"IF(INDIRECT($B$2&AT$2&$A34)=\"\",\"★\",INDIRECT($B$2&AT$2&$A34))","v":"★"},{"$f":"IF(INDIRECT($B$2&AU$2&$A34)=\"\",\"★\",INDIRECT($B$2&AU$2&$A34))","v":"★"},{"$f":"IF(INDIRECT($B$2&AV$2&$A34)=\"\",\"★\",INDIRECT($B$2&AV$2&$A34))","v":"★"},{"$f":"IF(INDIRECT($B$2&AW$2&$A34)=\"\",\"★\",INDIRECT($B$2&AW$2&$A34))","v":"★"},{"$f":"IF(INDIRECT($B$2&AX$2&$A34)=\"\",\"★\",INDIRECT($B$2&AX$2&$A34))","v":"★"},{"$f":"IF(INDIRECT($B$2&AY$2&$A34)=\"\",\"★\",INDIRECT($B$2&AY$2&$A34))","v":"★"},{"$f":"IF(INDIRECT($B$2&AZ$2&$A34)=\"\",\"★\",INDIRECT($B$2&AZ$2&$A34))","v":"★"},{"$f":"IF(INDIRECT($B$2&BA$2&$A34)=\"\",\"★\",INDIRECT($B$2&BA$2&$A34))","v":"★"},{"$f":"IF(INDIRECT($B$2&BB$2&$A34)=\"\",\"★\",INDIRECT($B$2&BB$2&$A34))","v":"★"},{"$f":"IF(INDIRECT($B$2&BC$2&$A34)=\"\",\"★\",INDIRECT($B$2&BC$2&$A34))","v":"★"},{"$f":"IF(INDIRECT($B$2&BD$2&$A34)=\"\",\"★\",INDIRECT($B$2&BD$2&$A34))","v":"★"},{"$f":"IF(INDIRECT($B$2&BE$2&$A34)=\"\",\"★\",INDIRECT($B$2&BE$2&$A34))","v":"★"},{"$f":"IF(INDIRECT($B$2&BF$2&$A34)=\"\",\"★\",INDIRECT($B$2&BF$2&$A34))","v":"★"},{"$f":"IF(INDIRECT($B$2&BG$2&$A34)=\"\",\"★\",INDIRECT($B$2&BG$2&$A34))","v":0},{"$f":"IF(INDIRECT($B$2&BH$2&$A34)=\"\",\"★\",INDIRECT($B$2&BH$2&$A34))","v":"★"},{"$f":"IF(INDIRECT($B$2&BI$2&$A34)=\"\",\"★\",INDIRECT($B$2&BI$2&$A34))","v":"★"},{"$f":"IF(INDIRECT($B$2&BJ$2&$A34)=\"\",\"★\",INDIRECT($B$2&BJ$2&$A34))","v":"★"},{"$f":"IF(INDIRECT($B$2&BK$2&$A34)=\"\",\"★\",INDIRECT($B$2&BK$2&$A34))","v":"★"},{"$f":"IF(INDIRECT($B$2&BL$2&$A34)=\"\",\"★\",INDIRECT($B$2&BL$2&$A34))","v":"★"},{"$f":"IF(INDIRECT($B$2&BM$2&$A34)=\"\",\"★\",INDIRECT($B$2&BM$2&$A34))","v":"★"},{"$f":"IF(INDIRECT($B$2&BN$2&$A34)=\"\",\"★\",INDIRECT($B$2&BN$2&$A34))","v":"★"},{"$f":"IF(INDIRECT($B$2&BO$2&$A34)=\"\",\"★\",INDIRECT($B$2&BO$2&$A34))","v":"★"},{"$f":"IF(INDIRECT($B$2&BP$2&$A34)=\"\",\"★\",INDIRECT($B$2&BP$2&$A34))","v":"★"},{"$f":"IF(INDIRECT($B$2&BQ$2&$A34)=\"\",\"★\",INDIRECT($B$2&BQ$2&$A34))","v":"★"},{"$f":"IF(INDIRECT($B$2&BR$2&$A34)=\"\",\"★\",INDIRECT($B$2&BR$2&$A34))","v":"★"},{"$f":"IF(INDIRECT($B$2&BS$2&$A34)=\"\",\"★\",INDIRECT($B$2&BS$2&$A34))","v":"★"},{"$f":"IF(INDIRECT($B$2&BT$2&$A34)=\"\",\"★\",INDIRECT($B$2&BT$2&$A34))","v":"★"},{"$f":"IF(INDIRECT($B$2&BU$2&$A34)=\"\",\"★\",INDIRECT($B$2&BU$2&$A34))","v":"★"},{"$f":"IF(INDIRECT($B$2&BV$2&$A34)=\"\",\"★\",INDIRECT($B$2&BV$2&$A34))","v":"★"},{"$f":"IF(INDIRECT($B$2&BW$2&$A34)=\"\",\"★\",INDIRECT($B$2&BW$2&$A34))","v":"---"},{"$f":"IF(INDIRECT($B$2&BX$2&$A34)=\"\",\"★\",INDIRECT($B$2&BX$2&$A34))","v":"---"},{"$f":"IF(INDIRECT($B$2&BY$2&$A34)=\"\",\"★\",INDIRECT($B$2&BY$2&$A34))","v":"---"}]
[54,null,null,null,null,null,null,null,null,null,null,null,null,25,{"$f":"IF(INDIRECT($B$2&$O$2&$A35)=\"\",\"★\",INDIRECT($B$2&$O$2&$A35))","v":"その他（要：備考欄への詳細記載）"},{"$f":"IF(INDIRECT($B$2&$P$2&$A35)=\"\",\"★\",INDIRECT($B$2&$P$2&$A35))","v":0},{"$f":"IF(INDIRECT($B$2&$Q$2&$A35)=\"\",\"★\",INDIRECT($B$2&$Q$2&$A35))","v":0},{"$f":"IF(INDIRECT($B$2&$R$2&$A35)=\"\",\"★\",INDIRECT($B$2&$R$2&$A35))","v":0},{"$f":"IF(INDIRECT($B$2&$S$2&$A35)=\"\",\"★\",INDIRECT($B$2&$S$2&$A35))","v":"★"},{"$f":"IF(INDIRECT($B$2&$T$2&$A35)=\"\",\"★\",INDIRECT($B$2&$T$2&$A35))","v":"★"},{"$f":"IF(INDIRECT($B$2&$U$2&$A35)=\"\",\"★\",INDIRECT($B$2&$U$2&$A35))","v":"★"},{"$f":"IF(INDIRECT($B$2&$V$2&$A35)=\"\",\"★\",INDIRECT($B$2&$V$2&$A35))","v":"★"},{"$f":"IF(INDIRECT($B$2&$W$2&$A35)=\"\",\"★\",INDIRECT($B$2&$W$2&$A35))","v":"★"},{"$f":"IF(INDIRECT($B$2&$X$2&$A35)=\"\",\"★\",INDIRECT($B$2&$X$2&$A35))","v":0},{"$f":"IF(INDIRECT($B$2&$Y$2&$A35)=\"\",\"★\",INDIRECT($B$2&$Y$2&$A35))","v":0},{"$f":"IF(INDIRECT($B$2&$Z$2&$A35)=\"\",\"★\",INDIRECT($B$2&$Z$2&$A35))","v":0},{"$f":"IF(INDIRECT($B$2&$AA$2&$A35)=\"\",\"★\",INDIRECT($B$2&$AA$2&$A35))","v":"★"},{"$f":"IF(INDIRECT($B$2&$AB$2&$A35)=\"\",\"★\",INDIRECT($B$2&$AB$2&$A35))","v":"★"},{"$f":"IF(INDIRECT($B$2&AC$2&$A35)=\"\",\"★\",INDIRECT($B$2&AC$2&$A35))","v":"★"},{"$f":"IF(INDIRECT($B$2&AD$2&$A35)=\"\",\"★\",INDIRECT($B$2&AD$2&$A35))","v":"★"},{"$f":"IF(INDIRECT($B$2&AE$2&$A35)=\"\",\"★\",INDIRECT($B$2&AE$2&$A35))","v":"★"},{"$f":"IF(INDIRECT($B$2&AF$2&$A35)=\"\",\"★\",INDIRECT($B$2&AF$2&$A35))","v":"★"},{"$f":"IF(INDIRECT($B$2&AG$2&$A35)=\"\",\"★\",INDIRECT($B$2&AG$2&$A35))","v":"★"},{"$f":"IF(INDIRECT($B$2&AH$2&$A35)=\"\",\"★\",INDIRECT($B$2&AH$2&$A35))","v":"★"},{"$f":"IF(INDIRECT($B$2&AI$2&$A35)=\"\",\"★\",INDIRECT($B$2&AI$2&$A35))","v":"★"},{"$f":"IF(INDIRECT($B$2&AJ$2&$A35)=\"\",\"★\",INDIRECT($B$2&AJ$2&$A35))","v":"★"},{"$f":"IF(INDIRECT($B$2&AK$2&$A35)=\"\",\"★\",INDIRECT($B$2&AK$2&$A35))","v":"★"},{"$f":"IF(INDIRECT($B$2&AL$2&$A35)=\"\",\"★\",INDIRECT($B$2&AL$2&$A35))","v":"★"},{"$f":"IF(INDIRECT($B$2&AM$2&$A35)=\"\",\"★\",INDIRECT($B$2&AM$2&$A35))","v":"★"},{"$f":"IF(INDIRECT($B$2&AN$2&$A35)=\"\",\"★\",INDIRECT($B$2&AN$2&$A35))","v":"★"},{"$f":"IF(INDIRECT($B$2&AO$2&$A35)=\"\",\"★\",INDIRECT($B$2&AO$2&$A35))","v":"★"},{"$f":"IF(INDIRECT($B$2&AP$2&$A35)=\"\",\"★\",INDIRECT($B$2&AP$2&$A35))","v":"★"},{"$f":"IF(INDIRECT($B$2&AQ$2&$A35)=\"\",\"★\",INDIRECT($B$2&AQ$2&$A35))","v":"★"},{"$f":"IF(INDIRECT($B$2&AR$2&$A35)=\"\",\"★\",INDIRECT($B$2&AR$2&$A35))","v":0},{"$f":"IF(INDIRECT($B$2&AS$2&$A35)=\"\",\"★\",INDIRECT($B$2&AS$2&$A35))","v":"★"},{"$f":"IF(INDIRECT($B$2&AT$2&$A35)=\"\",\"★\",INDIRECT($B$2&AT$2&$A35))","v":"★"},{"$f":"IF(INDIRECT($B$2&AU$2&$A35)=\"\",\"★\",INDIRECT($B$2&AU$2&$A35))","v":"★"},{"$f":"IF(INDIRECT($B$2&AV$2&$A35)=\"\",\"★\",INDIRECT($B$2&AV$2&$A35))","v":"★"},{"$f":"IF(INDIRECT($B$2&AW$2&$A35)=\"\",\"★\",INDIRECT($B$2&AW$2&$A35))","v":"★"},{"$f":"IF(INDIRECT($B$2&AX$2&$A35)=\"\",\"★\",INDIRECT($B$2&AX$2&$A35))","v":"★"},{"$f":"IF(INDIRECT($B$2&AY$2&$A35)=\"\",\"★\",INDIRECT($B$2&AY$2&$A35))","v":"★"},{"$f":"IF(INDIRECT($B$2&AZ$2&$A35)=\"\",\"★\",INDIRECT($B$2&AZ$2&$A35))","v":"★"},{"$f":"IF(INDIRECT($B$2&BA$2&$A35)=\"\",\"★\",INDIRECT($B$2&BA$2&$A35))","v":"★"},{"$f":"IF(INDIRECT($B$2&BB$2&$A35)=\"\",\"★\",INDIRECT($B$2&BB$2&$A35))","v":"★"},{"$f":"IF(INDIRECT($B$2&BC$2&$A35)=\"\",\"★\",INDIRECT($B$2&BC$2&$A35))","v":"★"},{"$f":"IF(INDIRECT($B$2&BD$2&$A35)=\"\",\"★\",INDIRECT($B$2&BD$2&$A35))","v":"★"},{"$f":"IF(INDIRECT($B$2&BE$2&$A35)=\"\",\"★\",INDIRECT($B$2&BE$2&$A35))","v":"★"},{"$f":"IF(INDIRECT($B$2&BF$2&$A35)=\"\",\"★\",INDIRECT($B$2&BF$2&$A35))","v":"★"},{"$f":"IF(INDIRECT($B$2&BG$2&$A35)=\"\",\"★\",INDIRECT($B$2&BG$2&$A35))","v":0},{"$f":"IF(INDIRECT($B$2&BH$2&$A35)=\"\",\"★\",INDIRECT($B$2&BH$2&$A35))","v":"★"},{"$f":"IF(INDIRECT($B$2&BI$2&$A35)=\"\",\"★\",INDIRECT($B$2&BI$2&$A35))","v":"★"},{"$f":"IF(INDIRECT($B$2&BJ$2&$A35)=\"\",\"★\",INDIRECT($B$2&BJ$2&$A35))","v":"★"},{"$f":"IF(INDIRECT($B$2&BK$2&$A35)=\"\",\"★\",INDIRECT($B$2&BK$2&$A35))","v":"★"},{"$f":"IF(INDIRECT($B$2&BL$2&$A35)=\"\",\"★\",INDIRECT($B$2&BL$2&$A35))","v":"★"},{"$f":"IF(INDIRECT($B$2&BM$2&$A35)=\"\",\"★\",INDIRECT($B$2&BM$2&$A35))","v":"★"},{"$f":"IF(INDIRECT($B$2&BN$2&$A35)=\"\",\"★\",INDIRECT($B$2&BN$2&$A35))","v":"★"},{"$f":"IF(INDIRECT($B$2&BO$2&$A35)=\"\",\"★\",INDIRECT($B$2&BO$2&$A35))","v":"★"},{"$f":"IF(INDIRECT($B$2&BP$2&$A35)=\"\",\"★\",INDIRECT($B$2&BP$2&$A35))","v":"★"},{"$f":"IF(INDIRECT($B$2&BQ$2&$A35)=\"\",\"★\",INDIRECT($B$2&BQ$2&$A35))","v":"★"},{"$f":"IF(INDIRECT($B$2&BR$2&$A35)=\"\",\"★\",INDIRECT($B$2&BR$2&$A35))","v":"★"},{"$f":"IF(INDIRECT($B$2&BS$2&$A35)=\"\",\"★\",INDIRECT($B$2&BS$2&$A35))","v":"★"},{"$f":"IF(INDIRECT($B$2&BT$2&$A35)=\"\",\"★\",INDIRECT($B$2&BT$2&$A35))","v":"★"},{"$f":"IF(INDIRECT($B$2&BU$2&$A35)=\"\",\"★\",INDIRECT($B$2&BU$2&$A35))","v":"★"},{"$f":"IF(INDIRECT($B$2&BV$2&$A35)=\"\",\"★\",INDIRECT($B$2&BV$2&$A35))","v":"★"},{"$f":"IF(INDIRECT($B$2&BW$2&$A35)=\"\",\"★\",INDIRECT($B$2&BW$2&$A35))","v":"---"},{"$f":"IF(INDIRECT($B$2&BX$2&$A35)=\"\",\"★\",INDIRECT($B$2&BX$2&$A35))","v":"---"},{"$f":"IF(INDIRECT($B$2&BY$2&$A35)=\"\",\"★\",INDIRECT($B$2&BY$2&$A35))","v":"---"}]
[62,null,null,null,null,null,null,null,null,null,null,null,null,26,{"$f":"IF(INDIRECT($B$2&$O$2&$A36)=\"\",\"★\",INDIRECT($B$2&$O$2&$A36))","v":"★"},{"$f":"IF(INDIRECT($B$2&$P$2&$A36)=\"\",\"★\",INDIRECT($B$2&$P$2&$A36))","v":0},{"$f":"IF(INDIRECT($B$2&$Q$2&$A36)=\"\",\"★\",INDIRECT($B$2&$Q$2&$A36))","v":0},{"$f":"IF(INDIRECT($B$2&$R$2&$A36)=\"\",\"★\",INDIRECT($B$2&$R$2&$A36))","v":0},{"$f":"IF(INDIRECT($B$2&$S$2&$A36)=\"\",\"★\",INDIRECT($B$2&$S$2&$A36))","v":"★"},{"$f":"IF(INDIRECT($B$2&$T$2&$A36)=\"\",\"★\",INDIRECT($B$2&$T$2&$A36))","v":"★"},{"$f":"IF(INDIRECT($B$2&$U$2&$A36)=\"\",\"★\",INDIRECT($B$2&$U$2&$A36))","v":"★"},{"$f":"IF(INDIRECT($B$2&$V$2&$A36)=\"\",\"★\",INDIRECT($B$2&$V$2&$A36))","v":"★"},{"$f":"IF(INDIRECT($B$2&$W$2&$A36)=\"\",\"★\",INDIRECT($B$2&$W$2&$A36))","v":"★"},{"$f":"IF(INDIRECT($B$2&$X$2&$A36)=\"\",\"★\",INDIRECT($B$2&$X$2&$A36))","v":"★"},{"$f":"IF(INDIRECT($B$2&$Y$2&$A36)=\"\",\"★\",INDIRECT($B$2&$Y$2&$A36))","v":"★"},{"$f":"IF(INDIRECT($B$2&$Z$2&$A36)=\"\",\"★\",INDIRECT($B$2&$Z$2&$A36))","v":"★"},{"$f":"IF(INDIRECT($B$2&$AA$2&$A36)=\"\",\"★\",INDIRECT($B$2&$AA$2&$A36))","v":"★"},{"$f":"IF(INDIRECT($B$2&$AB$2&$A36)=\"\",\"★\",INDIRECT($B$2&$AB$2&$A36))","v":"★"},{"$f":"IF(INDIRECT($B$2&AC$2&$A36)=\"\",\"★\",INDIRECT($B$2&AC$2&$A36))","v":"★"},{"$f":"IF(INDIRECT($B$2&AD$2&$A36)=\"\",\"★\",INDIRECT($B$2&AD$2&$A36))","v":"★"},{"$f":"IF(INDIRECT($B$2&AE$2&$A36)=\"\",\"★\",INDIRECT($B$2&AE$2&$A36))","v":"★"},{"$f":"IF(INDIRECT($B$2&AF$2&$A36)=\"\",\"★\",INDIRECT($B$2&AF$2&$A36))","v":"★"},{"$f":"IF(INDIRECT($B$2&AG$2&$A36)=\"\",\"★\",INDIRECT($B$2&AG$2&$A36))","v":"★"},{"$f":"IF(INDIRECT($B$2&AH$2&$A36)=\"\",\"★\",INDIRECT($B$2&AH$2&$A36))","v":"★"},{"$f":"IF(INDIRECT($B$2&AI$2&$A36)=\"\",\"★\",INDIRECT($B$2&AI$2&$A36))","v":"★"},{"$f":"IF(INDIRECT($B$2&AJ$2&$A36)=\"\",\"★\",INDIRECT($B$2&AJ$2&$A36))","v":"★"},{"$f":"IF(INDIRECT($B$2&AK$2&$A36)=\"\",\"★\",INDIRECT($B$2&AK$2&$A36))","v":"★"},{"$f":"IF(INDIRECT($B$2&AL$2&$A36)=\"\",\"★\",INDIRECT($B$2&AL$2&$A36))","v":"★"},{"$f":"IF(INDIRECT($B$2&AM$2&$A36)=\"\",\"★\",INDIRECT($B$2&AM$2&$A36))","v":"★"},{"$f":"IF(INDIRECT($B$2&AN$2&$A36)=\"\",\"★\",INDIRECT($B$2&AN$2&$A36))","v":"★"},{"$f":"IF(INDIRECT($B$2&AO$2&$A36)=\"\",\"★\",INDIRECT($B$2&AO$2&$A36))","v":"★"},{"$f":"IF(INDIRECT($B$2&AP$2&$A36)=\"\",\"★\",INDIRECT($B$2&AP$2&$A36))","v":"★"},{"$f":"IF(INDIRECT($B$2&AQ$2&$A36)=\"\",\"★\",INDIRECT($B$2&AQ$2&$A36))","v":"★"},{"$f":"IF(INDIRECT($B$2&AR$2&$A36)=\"\",\"★\",INDIRECT($B$2&AR$2&$A36))","v":0},{"$f":"IF(INDIRECT($B$2&AS$2&$A36)=\"\",\"★\",INDIRECT($B$2&AS$2&$A36))","v":"★"},{"$f":"IF(INDIRECT($B$2&AT$2&$A36)=\"\",\"★\",INDIRECT($B$2&AT$2&$A36))","v":"★"},{"$f":"IF(INDIRECT($B$2&AU$2&$A36)=\"\",\"★\",INDIRECT($B$2&AU$2&$A36))","v":"★"},{"$f":"IF(INDIRECT($B$2&AV$2&$A36)=\"\",\"★\",INDIRECT($B$2&AV$2&$A36))","v":"★"},{"$f":"IF(INDIRECT($B$2&AW$2&$A36)=\"\",\"★\",INDIRECT($B$2&AW$2&$A36))","v":"★"},{"$f":"IF(INDIRECT($B$2&AX$2&$A36)=\"\",\"★\",INDIRECT($B$2&AX$2&$A36))","v":"★"},{"$f":"IF(INDIRECT($B$2&AY$2&$A36)=\"\",\"★\",INDIRECT($B$2&AY$2&$A36))","v":"★"},{"$f":"IF(INDIRECT($B$2&AZ$2&$A36)=\"\",\"★\",INDIRECT($B$2&AZ$2&$A36))","v":"★"},{"$f":"IF(INDIRECT($B$2&BA$2&$A36)=\"\",\"★\",INDIRECT($B$2&BA$2&$A36))","v":"★"},{"$f":"IF(INDIRECT($B$2&BB$2&$A36)=\"\",\"★\",INDIRECT($B$2&BB$2&$A36))","v":"★"},{"$f":"IF(INDIRECT($B$2&BC$2&$A36)=\"\",\"★\",INDIRECT($B$2&BC$2&$A36))","v":"★"},{"$f":"IF(INDIRECT($B$2&BD$2&$A36)=\"\",\"★\",INDIRECT($B$2&BD$2&$A36))","v":"★"},{"$f":"IF(INDIRECT($B$2&BE$2&$A36)=\"\",\"★\",INDIRECT($B$2&BE$2&$A36))","v":"★"},{"$f":"IF(INDIRECT($B$2&BF$2&$A36)=\"\",\"★\",INDIRECT($B$2&BF$2&$A36))","v":"★"},{"$f":"IF(INDIRECT($B$2&BG$2&$A36)=\"\",\"★\",INDIRECT($B$2&BG$2&$A36))","v":0},{"$f":"IF(INDIRECT($B$2&BH$2&$A36)=\"\",\"★\",INDIRECT($B$2&BH$2&$A36))","v":"★"},{"$f":"IF(INDIRECT($B$2&BI$2&$A36)=\"\",\"★\",INDIRECT($B$2&BI$2&$A36))","v":"★"},{"$f":"IF(INDIRECT($B$2&BJ$2&$A36)=\"\",\"★\",INDIRECT($B$2&BJ$2&$A36))","v":"★"},{"$f":"IF(INDIRECT($B$2&BK$2&$A36)=\"\",\"★\",INDIRECT($B$2&BK$2&$A36))","v":"★"},{"$f":"IF(INDIRECT($B$2&BL$2&$A36)=\"\",\"★\",INDIRECT($B$2&BL$2&$A36))","v":"★"},{"$f":"IF(INDIRECT($B$2&BM$2&$A36)=\"\",\"★\",INDIRECT($B$2&BM$2&$A36))","v":"★"},{"$f":"IF(INDIRECT($B$2&BN$2&$A36)=\"\",\"★\",INDIRECT($B$2&BN$2&$A36))","v":"★"},{"$f":"IF(INDIRECT($B$2&BO$2&$A36)=\"\",\"★\",INDIRECT($B$2&BO$2&$A36))","v":"★"},{"$f":"IF(INDIRECT($B$2&BP$2&$A36)=\"\",\"★\",INDIRECT($B$2&BP$2&$A36))","v":"★"},{"$f":"IF(INDIRECT($B$2&BQ$2&$A36)=\"\",\"★\",INDIRECT($B$2&BQ$2&$A36))","v":"★"},{"$f":"IF(INDIRECT($B$2&BR$2&$A36)=\"\",\"★\",INDIRECT($B$2&BR$2&$A36))","v":"★"},{"$f":"IF(INDIRECT($B$2&BS$2&$A36)=\"\",\"★\",INDIRECT($B$2&BS$2&$A36))","v":"★"},{"$f":"IF(INDIRECT($B$2&BT$2&$A36)=\"\",\"★\",INDIRECT($B$2&BT$2&$A36))","v":"★"},{"$f":"IF(INDIRECT($B$2&BU$2&$A36)=\"\",\"★\",INDIRECT($B$2&BU$2&$A36))","v":"★"},{"$f":"IF(INDIRECT($B$2&BV$2&$A36)=\"\",\"★\",INDIRECT($B$2&BV$2&$A36))","v":"★"},{"$f":"IF(INDIRECT($B$2&BW$2&$A36)=\"\",\"★\",INDIRECT($B$2&BW$2&$A36))","v":"★"},{"$f":"IF(INDIRECT($B$2&BX$2&$A36)=\"\",\"★\",INDIRECT($B$2&BX$2&$A36))","v":"★"},{"$f":"IF(INDIRECT($B$2&BY$2&$A36)=\"\",\"★\",INDIRECT($B$2&BY$2&$A36))","v":"★"}]
[{"$f":"A36+1","v":63},null,null,null,null,null,null,null,null,null,null,null,null,27,{"$f":"IF(INDIRECT($B$2&$O$2&$A37)=\"\",\"★\",INDIRECT($B$2&$O$2&$A37))","v":"★"},{"$f":"IF(INDIRECT($B$2&$P$2&$A37)=\"\",\"★\",INDIRECT($B$2&$P$2&$A37))","v":0},{"$f":"IF(INDIRECT($B$2&$Q$2&$A37)=\"\",\"★\",INDIRECT($B$2&$Q$2&$A37))","v":0},{"$f":"IF(INDIRECT($B$2&$R$2&$A37)=\"\",\"★\",INDIRECT($B$2&$R$2&$A37))","v":0},{"$f":"IF(INDIRECT($B$2&$S$2&$A37)=\"\",\"★\",INDIRECT($B$2&$S$2&$A37))","v":"★"},{"$f":"IF(INDIRECT($B$2&$T$2&$A37)=\"\",\"★\",INDIRECT($B$2&$T$2&$A37))","v":"★"},{"$f":"IF(INDIRECT($B$2&$U$2&$A37)=\"\",\"★\",INDIRECT($B$2&$U$2&$A37))","v":"★"},{"$f":"IF(INDIRECT($B$2&$V$2&$A37)=\"\",\"★\",INDIRECT($B$2&$V$2&$A37))","v":"★"},{"$f":"IF(INDIRECT($B$2&$W$2&$A37)=\"\",\"★\",INDIRECT($B$2&$W$2&$A37))","v":"★"},{"$f":"IF(INDIRECT($B$2&$X$2&$A37)=\"\",\"★\",INDIRECT($B$2&$X$2&$A37))","v":"★"},{"$f":"IF(INDIRECT($B$2&$Y$2&$A37)=\"\",\"★\",INDIRECT($B$2&$Y$2&$A37))","v":"★"},{"$f":"IF(INDIRECT($B$2&$Z$2&$A37)=\"\",\"★\",INDIRECT($B$2&$Z$2&$A37))","v":"★"},{"$f":"IF(INDIRECT($B$2&$AA$2&$A37)=\"\",\"★\",INDIRECT($B$2&$AA$2&$A37))","v":"★"},{"$f":"IF(INDIRECT($B$2&$AB$2&$A37)=\"\",\"★\",INDIRECT($B$2&$AB$2&$A37))","v":"★"},{"$f":"IF(INDIRECT($B$2&AC$2&$A37)=\"\",\"★\",INDIRECT($B$2&AC$2&$A37))","v":"★"},{"$f":"IF(INDIRECT($B$2&AD$2&$A37)=\"\",\"★\",INDIRECT($B$2&AD$2&$A37))","v":"★"},{"$f":"IF(INDIRECT($B$2&AE$2&$A37)=\"\",\"★\",INDIRECT($B$2&AE$2&$A37))","v":"★"},{"$f":"IF(INDIRECT($B$2&AF$2&$A37)=\"\",\"★\",INDIRECT($B$2&AF$2&$A37))","v":"★"},{"$f":"IF(INDIRECT($B$2&AG$2&$A37)=\"\",\"★\",INDIRECT($B$2&AG$2&$A37))","v":"★"},{"$f":"IF(INDIRECT($B$2&AH$2&$A37)=\"\",\"★\",INDIRECT($B$2&AH$2&$A37))","v":"★"},{"$f":"IF(INDIRECT($B$2&AI$2&$A37)=\"\",\"★\",INDIRECT($B$2&AI$2&$A37))","v":"★"},{"$f":"IF(INDIRECT($B$2&AJ$2&$A37)=\"\",\"★\",INDIRECT($B$2&AJ$2&$A37))","v":"★"},{"$f":"IF(INDIRECT($B$2&AK$2&$A37)=\"\",\"★\",INDIRECT($B$2&AK$2&$A37))","v":"★"},{"$f":"IF(INDIRECT($B$2&AL$2&$A37)=\"\",\"★\",INDIRECT($B$2&AL$2&$A37))","v":"★"},{"$f":"IF(INDIRECT($B$2&AM$2&$A37)=\"\",\"★\",INDIRECT($B$2&AM$2&$A37))","v":"★"},{"$f":"IF(INDIRECT($B$2&AN$2&$A37)=\"\",\"★\",INDIRECT($B$2&AN$2&$A37))","v":"★"},{"$f":"IF(INDIRECT($B$2&AO$2&$A37)=\"\",\"★\",INDIRECT($B$2&AO$2&$A37))","v":"★"},{"$f":"IF(INDIRECT($B$2&AP$2&$A37)=\"\",\"★\",INDIRECT($B$2&AP$2&$A37))","v":"★"},{"$f":"IF(INDIRECT($B$2&AQ$2&$A37)=\"\",\"★\",INDIRECT($B$2&AQ$2&$A37))","v":"★"},{"$f":"IF(INDIRECT($B$2&AR$2&$A37)=\"\",\"★\",INDIRECT($B$2&AR$2&$A37))","v":0},{"$f":"IF(INDIRECT($B$2&AS$2&$A37)=\"\",\"★\",INDIRECT($B$2&AS$2&$A37))","v":"★"},{"$f":"IF(INDIRECT($B$2&AT$2&$A37)=\"\",\"★\",INDIRECT($B$2&AT$2&$A37))","v":"★"},{"$f":"IF(INDIRECT($B$2&AU$2&$A37)=\"\",\"★\",INDIRECT($B$2&AU$2&$A37))","v":"★"},{"$f":"IF(INDIRECT($B$2&AV$2&$A37)=\"\",\"★\",INDIRECT($B$2&AV$2&$A37))","v":"★"},{"$f":"IF(INDIRECT($B$2&AW$2&$A37)=\"\",\"★\",INDIRECT($B$2&AW$2&$A37))","v":"★"},{"$f":"IF(INDIRECT($B$2&AX$2&$A37)=\"\",\"★\",INDIRECT($B$2&AX$2&$A37))","v":"★"},{"$f":"IF(INDIRECT($B$2&AY$2&$A37)=\"\",\"★\",INDIRECT($B$2&AY$2&$A37))","v":"★"},{"$f":"IF(INDIRECT($B$2&AZ$2&$A37)=\"\",\"★\",INDIRECT($B$2&AZ$2&$A37))","v":"★"},{"$f":"IF(INDIRECT($B$2&BA$2&$A37)=\"\",\"★\",INDIRECT($B$2&BA$2&$A37))","v":"★"},{"$f":"IF(INDIRECT($B$2&BB$2&$A37)=\"\",\"★\",INDIRECT($B$2&BB$2&$A37))","v":"★"},{"$f":"IF(INDIRECT($B$2&BC$2&$A37)=\"\",\"★\",INDIRECT($B$2&BC$2&$A37))","v":"★"},{"$f":"IF(INDIRECT($B$2&BD$2&$A37)=\"\",\"★\",INDIRECT($B$2&BD$2&$A37))","v":"★"},{"$f":"IF(INDIRECT($B$2&BE$2&$A37)=\"\",\"★\",INDIRECT($B$2&BE$2&$A37))","v":"★"},{"$f":"IF(INDIRECT($B$2&BF$2&$A37)=\"\",\"★\",INDIRECT($B$2&BF$2&$A37))","v":"★"},{"$f":"IF(INDIRECT($B$2&BG$2&$A37)=\"\",\"★\",INDIRECT($B$2&BG$2&$A37))","v":0},{"$f":"IF(INDIRECT($B$2&BH$2&$A37)=\"\",\"★\",INDIRECT($B$2&BH$2&$A37))","v":"★"},{"$f":"IF(INDIRECT($B$2&BI$2&$A37)=\"\",\"★\",INDIRECT($B$2&BI$2&$A37))","v":"★"},{"$f":"IF(INDIRECT($B$2&BJ$2&$A37)=\"\",\"★\",INDIRECT($B$2&BJ$2&$A37))","v":"★"},{"$f":"IF(INDIRECT($B$2&BK$2&$A37)=\"\",\"★\",INDIRECT($B$2&BK$2&$A37))","v":"★"},{"$f":"IF(INDIRECT($B$2&BL$2&$A37)=\"\",\"★\",INDIRECT($B$2&BL$2&$A37))","v":"★"},{"$f":"IF(INDIRECT($B$2&BM$2&$A37)=\"\",\"★\",INDIRECT($B$2&BM$2&$A37))","v":"★"},{"$f":"IF(INDIRECT($B$2&BN$2&$A37)=\"\",\"★\",INDIRECT($B$2&BN$2&$A37))","v":"★"},{"$f":"IF(INDIRECT($B$2&BO$2&$A37)=\"\",\"★\",INDIRECT($B$2&BO$2&$A37))","v":"★"},{"$f":"IF(INDIRECT($B$2&BP$2&$A37)=\"\",\"★\",INDIRECT($B$2&BP$2&$A37))","v":"★"},{"$f":"IF(INDIRECT($B$2&BQ$2&$A37)=\"\",\"★\",INDIRECT($B$2&BQ$2&$A37))","v":"★"},{"$f":"IF(INDIRECT($B$2&BR$2&$A37)=\"\",\"★\",INDIRECT($B$2&BR$2&$A37))","v":"★"},{"$f":"IF(INDIRECT($B$2&BS$2&$A37)=\"\",\"★\",INDIRECT($B$2&BS$2&$A37))","v":"★"},{"$f":"IF(INDIRECT($B$2&BT$2&$A37)=\"\",\"★\",INDIRECT($B$2&BT$2&$A37))","v":"★"},{"$f":"IF(INDIRECT($B$2&BU$2&$A37)=\"\",\"★\",INDIRECT($B$2&BU$2&$A37))","v":"★"},{"$f":"IF(INDIRECT($B$2&BV$2&$A37)=\"\",\"★\",INDIRECT($B$2&BV$2&$A37))","v":"★"},{"$f":"IF(INDIRECT($B$2&BW$2&$A37)=\"\",\"★\",INDIRECT($B$2&BW$2&$A37))","v":"★"},{"$f":"IF(INDIRECT($B$2&BX$2&$A37)=\"\",\"★\",INDIRECT($B$2&BX$2&$A37))","v":"★"},{"$f":"IF(INDIRECT($B$2&BY$2&$A37)=\"\",\"★\",INDIRECT($B$2&BY$2&$A37))","v":"★"}]
[64,null,null,null,null,null,null,null,null,null,null,null,null,28,{"$f":"IF(INDIRECT($B$2&$O$2&$A38)=\"\",\"★\",INDIRECT($B$2&$O$2&$A38))","v":"★"},{"$f":"IF(INDIRECT($B$2&$P$2&$A38)=\"\",\"★\",INDIRECT($B$2&$P$2&$A38))","v":0},{"$f":"IF(INDIRECT($B$2&$Q$2&$A38)=\"\",\"★\",INDIRECT($B$2&$Q$2&$A38))","v":0},{"$f":"IF(INDIRECT($B$2&$R$2&$A38)=\"\",\"★\",INDIRECT($B$2&$R$2&$A38))","v":0},{"$f":"IF(INDIRECT($B$2&$S$2&$A38)=\"\",\"★\",INDIRECT($B$2&$S$2&$A38))","v":"★"},{"$f":"IF(INDIRECT($B$2&$T$2&$A38)=\"\",\"★\",INDIRECT($B$2&$T$2&$A38))","v":"★"},{"$f":"IF(INDIRECT($B$2&$U$2&$A38)=\"\",\"★\",INDIRECT($B$2&$U$2&$A38))","v":"★"},{"$f":"IF(INDIRECT($B$2&$V$2&$A38)=\"\",\"★\",INDIRECT($B$2&$V$2&$A38))","v":"★"},{"$f":"IF(INDIRECT($B$2&$W$2&$A38)=\"\",\"★\",INDIRECT($B$2&$W$2&$A38))","v":"★"},{"$f":"IF(INDIRECT($B$2&$X$2&$A38)=\"\",\"★\",INDIRECT($B$2&$X$2&$A38))","v":"★"},{"$f":"IF(INDIRECT($B$2&$Y$2&$A38)=\"\",\"★\",INDIRECT($B$2&$Y$2&$A38))","v":"★"},{"$f":"IF(INDIRECT($B$2&$Z$2&$A38)=\"\",\"★\",INDIRECT($B$2&$Z$2&$A38))","v":"★"},{"$f":"IF(INDIRECT($B$2&$AA$2&$A38)=\"\",\"★\",INDIRECT($B$2&$AA$2&$A38))","v":"★"},{"$f":"IF(INDIRECT($B$2&$AB$2&$A38)=\"\",\"★\",INDIRECT($B$2&$AB$2&$A38))","v":"★"},{"$f":"IF(INDIRECT($B$2&AC$2&$A38)=\"\",\"★\",INDIRECT($B$2&AC$2&$A38))","v":"★"},{"$f":"IF(INDIRECT($B$2&AD$2&$A38)=\"\",\"★\",INDIRECT($B$2&AD$2&$A38))","v":"★"},{"$f":"IF(INDIRECT($B$2&AE$2&$A38)=\"\",\"★\",INDIRECT($B$2&AE$2&$A38))","v":"★"},{"$f":"IF(INDIRECT($B$2&AF$2&$A38)=\"\",\"★\",INDIRECT($B$2&AF$2&$A38))","v":"★"},{"$f":"IF(INDIRECT($B$2&AG$2&$A38)=\"\",\"★\",INDIRECT($B$2&AG$2&$A38))","v":"★"},{"$f":"IF(INDIRECT($B$2&AH$2&$A38)=\"\",\"★\",INDIRECT($B$2&AH$2&$A38))","v":"★"},{"$f":"IF(INDIRECT($B$2&AI$2&$A38)=\"\",\"★\",INDIRECT($B$2&AI$2&$A38))","v":"★"},{"$f":"IF(INDIRECT($B$2&AJ$2&$A38)=\"\",\"★\",INDIRECT($B$2&AJ$2&$A38))","v":"★"},{"$f":"IF(INDIRECT($B$2&AK$2&$A38)=\"\",\"★\",INDIRECT($B$2&AK$2&$A38))","v":"★"},{"$f":"IF(INDIRECT($B$2&AL$2&$A38)=\"\",\"★\",INDIRECT($B$2&AL$2&$A38))","v":"★"},{"$f":"IF(INDIRECT($B$2&AM$2&$A38)=\"\",\"★\",INDIRECT($B$2&AM$2&$A38))","v":"★"},{"$f":"IF(INDIRECT($B$2&AN$2&$A38)=\"\",\"★\",INDIRECT($B$2&AN$2&$A38))","v":"★"},{"$f":"IF(INDIRECT($B$2&AO$2&$A38)=\"\",\"★\",INDIRECT($B$2&AO$2&$A38))","v":"★"},{"$f":"IF(INDIRECT($B$2&AP$2&$A38)=\"\",\"★\",INDIRECT($B$2&AP$2&$A38))","v":"★"},{"$f":"IF(INDIRECT($B$2&AQ$2&$A38)=\"\",\"★\",INDIRECT($B$2&AQ$2&$A38))","v":"★"},{"$f":"IF(INDIRECT($B$2&AR$2&$A38)=\"\",\"★\",INDIRECT($B$2&AR$2&$A38))","v":0},{"$f":"IF(INDIRECT($B$2&AS$2&$A38)=\"\",\"★\",INDIRECT($B$2&AS$2&$A38))","v":"★"},{"$f":"IF(INDIRECT($B$2&AT$2&$A38)=\"\",\"★\",INDIRECT($B$2&AT$2&$A38))","v":"★"},{"$f":"IF(INDIRECT($B$2&AU$2&$A38)=\"\",\"★\",INDIRECT($B$2&AU$2&$A38))","v":"★"},{"$f":"IF(INDIRECT($B$2&AV$2&$A38)=\"\",\"★\",INDIRECT($B$2&AV$2&$A38))","v":"★"},{"$f":"IF(INDIRECT($B$2&AW$2&$A38)=\"\",\"★\",INDIRECT($B$2&AW$2&$A38))","v":"★"},{"$f":"IF(INDIRECT($B$2&AX$2&$A38)=\"\",\"★\",INDIRECT($B$2&AX$2&$A38))","v":"★"},{"$f":"IF(INDIRECT($B$2&AY$2&$A38)=\"\",\"★\",INDIRECT($B$2&AY$2&$A38))","v":"★"},{"$f":"IF(INDIRECT($B$2&AZ$2&$A38)=\"\",\"★\",INDIRECT($B$2&AZ$2&$A38))","v":"★"},{"$f":"IF(INDIRECT($B$2&BA$2&$A38)=\"\",\"★\",INDIRECT($B$2&BA$2&$A38))","v":"★"},{"$f":"IF(INDIRECT($B$2&BB$2&$A38)=\"\",\"★\",INDIRECT($B$2&BB$2&$A38))","v":"★"},{"$f":"IF(INDIRECT($B$2&BC$2&$A38)=\"\",\"★\",INDIRECT($B$2&BC$2&$A38))","v":"★"},{"$f":"IF(INDIRECT($B$2&BD$2&$A38)=\"\",\"★\",INDIRECT($B$2&BD$2&$A38))","v":"★"},{"$f":"IF(INDIRECT($B$2&BE$2&$A38)=\"\",\"★\",INDIRECT($B$2&BE$2&$A38))","v":"★"},{"$f":"IF(INDIRECT($B$2&BF$2&$A38)=\"\",\"★\",INDIRECT($B$2&BF$2&$A38))","v":"★"},{"$f":"IF(INDIRECT($B$2&BG$2&$A38)=\"\",\"★\",INDIRECT($B$2&BG$2&$A38))","v":0},{"$f":"IF(INDIRECT($B$2&BH$2&$A38)=\"\",\"★\",INDIRECT($B$2&BH$2&$A38))","v":"★"},{"$f":"IF(INDIRECT($B$2&BI$2&$A38)=\"\",\"★\",INDIRECT($B$2&BI$2&$A38))","v":"★"},{"$f":"IF(INDIRECT($B$2&BJ$2&$A38)=\"\",\"★\",INDIRECT($B$2&BJ$2&$A38))","v":"★"},{"$f":"IF(INDIRECT($B$2&BK$2&$A38)=\"\",\"★\",INDIRECT($B$2&BK$2&$A38))","v":"★"},{"$f":"IF(INDIRECT($B$2&BL$2&$A38)=\"\",\"★\",INDIRECT($B$2&BL$2&$A38))","v":"★"},{"$f":"IF(INDIRECT($B$2&BM$2&$A38)=\"\",\"★\",INDIRECT($B$2&BM$2&$A38))","v":"★"},{"$f":"IF(INDIRECT($B$2&BN$2&$A38)=\"\",\"★\",INDIRECT($B$2&BN$2&$A38))","v":"★"},{"$f":"IF(INDIRECT($B$2&BO$2&$A38)=\"\",\"★\",INDIRECT($B$2&BO$2&$A38))","v":"★"},{"$f":"IF(INDIRECT($B$2&BP$2&$A38)=\"\",\"★\",INDIRECT($B$2&BP$2&$A38))","v":"★"},{"$f":"IF(INDIRECT($B$2&BQ$2&$A38)=\"\",\"★\",INDIRECT($B$2&BQ$2&$A38))","v":"★"},{"$f":"IF(INDIRECT($B$2&BR$2&$A38)=\"\",\"★\",INDIRECT($B$2&BR$2&$A38))","v":"★"},{"$f":"IF(INDIRECT($B$2&BS$2&$A38)=\"\",\"★\",INDIRECT($B$2&BS$2&$A38))","v":"★"},{"$f":"IF(INDIRECT($B$2&BT$2&$A38)=\"\",\"★\",INDIRECT($B$2&BT$2&$A38))","v":"★"},{"$f":"IF(INDIRECT($B$2&BU$2&$A38)=\"\",\"★\",INDIRECT($B$2&BU$2&$A38))","v":"★"},{"$f":"IF(INDIRECT($B$2&BV$2&$A38)=\"\",\"★\",INDIRECT($B$2&BV$2&$A38))","v":"★"},{"$f":"IF(INDIRECT($B$2&BW$2&$A38)=\"\",\"★\",INDIRECT($B$2&BW$2&$A38))","v":"★"},{"$f":"IF(INDIRECT($B$2&BX$2&$A38)=\"\",\"★\",INDIRECT($B$2&BX$2&$A38))","v":"★"},{"$f":"IF(INDIRECT($B$2&BY$2&$A38)=\"\",\"★\",INDIRECT($B$2&BY$2&$A38))","v":"★"}]
[65,null,null,null,null,null,null,null,null,null,null,null,null,29,{"$f":"IF(INDIRECT($B$2&$O$2&$A39)=\"\",\"★\",INDIRECT($B$2&$O$2&$A39))","v":"★"},{"$f":"IF(INDIRECT($B$2&$P$2&$A39)=\"\",\"★\",INDIRECT($B$2&$P$2&$A39))","v":0},{"$f":"IF(INDIRECT($B$2&$Q$2&$A39)=\"\",\"★\",INDIRECT($B$2&$Q$2&$A39))","v":0},{"$f":"IF(INDIRECT($B$2&$R$2&$A39)=\"\",\"★\",INDIRECT($B$2&$R$2&$A39))","v":0},{"$f":"IF(INDIRECT($B$2&$S$2&$A39)=\"\",\"★\",INDIRECT($B$2&$S$2&$A39))","v":"★"},{"$f":"IF(INDIRECT($B$2&$T$2&$A39)=\"\",\"★\",INDIRECT($B$2&$T$2&$A39))","v":"★"},{"$f":"IF(INDIRECT($B$2&$U$2&$A39)=\"\",\"★\",INDIRECT($B$2&$U$2&$A39))","v":"★"},{"$f":"IF(INDIRECT($B$2&$V$2&$A39)=\"\",\"★\",INDIRECT($B$2&$V$2&$A39))","v":"★"},{"$f":"IF(INDIRECT($B$2&$W$2&$A39)=\"\",\"★\",INDIRECT($B$2&$W$2&$A39))","v":"★"},{"$f":"IF(INDIRECT($B$2&$X$2&$A39)=\"\",\"★\",INDIRECT($B$2&$X$2&$A39))","v":"★"},{"$f":"IF(INDIRECT($B$2&$Y$2&$A39)=\"\",\"★\",INDIRECT($B$2&$Y$2&$A39))","v":"★"},{"$f":"IF(INDIRECT($B$2&$Z$2&$A39)=\"\",\"★\",INDIRECT($B$2&$Z$2&$A39))","v":"★"},{"$f":"IF(INDIRECT($B$2&$AA$2&$A39)=\"\",\"★\",INDIRECT($B$2&$AA$2&$A39))","v":"★"},{"$f":"IF(INDIRECT($B$2&$AB$2&$A39)=\"\",\"★\",INDIRECT($B$2&$AB$2&$A39))","v":"★"},{"$f":"IF(INDIRECT($B$2&AC$2&$A39)=\"\",\"★\",INDIRECT($B$2&AC$2&$A39))","v":"★"},{"$f":"IF(INDIRECT($B$2&AD$2&$A39)=\"\",\"★\",INDIRECT($B$2&AD$2&$A39))","v":"★"},{"$f":"IF(INDIRECT($B$2&AE$2&$A39)=\"\",\"★\",INDIRECT($B$2&AE$2&$A39))","v":"★"},{"$f":"IF(INDIRECT($B$2&AF$2&$A39)=\"\",\"★\",INDIRECT($B$2&AF$2&$A39))","v":"★"},{"$f":"IF(INDIRECT($B$2&AG$2&$A39)=\"\",\"★\",INDIRECT($B$2&AG$2&$A39))","v":"★"},{"$f":"IF(INDIRECT($B$2&AH$2&$A39)=\"\",\"★\",INDIRECT($B$2&AH$2&$A39))","v":"★"},{"$f":"IF(INDIRECT($B$2&AI$2&$A39)=\"\",\"★\",INDIRECT($B$2&AI$2&$A39))","v":"★"},{"$f":"IF(INDIRECT($B$2&AJ$2&$A39)=\"\",\"★\",INDIRECT($B$2&AJ$2&$A39))","v":"★"},{"$f":"IF(INDIRECT($B$2&AK$2&$A39)=\"\",\"★\",INDIRECT($B$2&AK$2&$A39))","v":"★"},{"$f":"IF(INDIRECT($B$2&AL$2&$A39)=\"\",\"★\",INDIRECT($B$2&AL$2&$A39))","v":"★"},{"$f":"IF(INDIRECT($B$2&AM$2&$A39)=\"\",\"★\",INDIRECT($B$2&AM$2&$A39))","v":"★"},{"$f":"IF(INDIRECT($B$2&AN$2&$A39)=\"\",\"★\",INDIRECT($B$2&AN$2&$A39))","v":"★"},{"$f":"IF(INDIRECT($B$2&AO$2&$A39)=\"\",\"★\",INDIRECT($B$2&AO$2&$A39))","v":"★"},{"$f":"IF(INDIRECT($B$2&AP$2&$A39)=\"\",\"★\",INDIRECT($B$2&AP$2&$A39))","v":"★"},{"$f":"IF(INDIRECT($B$2&AQ$2&$A39)=\"\",\"★\",INDIRECT($B$2&AQ$2&$A39))","v":"★"},{"$f":"IF(INDIRECT($B$2&AR$2&$A39)=\"\",\"★\",INDIRECT($B$2&AR$2&$A39))","v":0},{"$f":"IF(INDIRECT($B$2&AS$2&$A39)=\"\",\"★\",INDIRECT($B$2&AS$2&$A39))","v":"★"},{"$f":"IF(INDIRECT($B$2&AT$2&$A39)=\"\",\"★\",INDIRECT($B$2&AT$2&$A39))","v":"★"},{"$f":"IF(INDIRECT($B$2&AU$2&$A39)=\"\",\"★\",INDIRECT($B$2&AU$2&$A39))","v":"★"},{"$f":"IF(INDIRECT($B$2&AV$2&$A39)=\"\",\"★\",INDIRECT($B$2&AV$2&$A39))","v":"★"},{"$f":"IF(INDIRECT($B$2&AW$2&$A39)=\"\",\"★\",INDIRECT($B$2&AW$2&$A39))","v":"★"},{"$f":"IF(INDIRECT($B$2&AX$2&$A39)=\"\",\"★\",INDIRECT($B$2&AX$2&$A39))","v":"★"},{"$f":"IF(INDIRECT($B$2&AY$2&$A39)=\"\",\"★\",INDIRECT($B$2&AY$2&$A39))","v":"★"},{"$f":"IF(INDIRECT($B$2&AZ$2&$A39)=\"\",\"★\",INDIRECT($B$2&AZ$2&$A39))","v":"★"},{"$f":"IF(INDIRECT($B$2&BA$2&$A39)=\"\",\"★\",INDIRECT($B$2&BA$2&$A39))","v":"★"},{"$f":"IF(INDIRECT($B$2&BB$2&$A39)=\"\",\"★\",INDIRECT($B$2&BB$2&$A39))","v":"★"},{"$f":"IF(INDIRECT($B$2&BC$2&$A39)=\"\",\"★\",INDIRECT($B$2&BC$2&$A39))","v":"★"},{"$f":"IF(INDIRECT($B$2&BD$2&$A39)=\"\",\"★\",INDIRECT($B$2&BD$2&$A39))","v":"★"},{"$f":"IF(INDIRECT($B$2&BE$2&$A39)=\"\",\"★\",INDIRECT($B$2&BE$2&$A39))","v":"★"},{"$f":"IF(INDIRECT($B$2&BF$2&$A39)=\"\",\"★\",INDIRECT($B$2&BF$2&$A39))","v":"★"},{"$f":"IF(INDIRECT($B$2&BG$2&$A39)=\"\",\"★\",INDIRECT($B$2&BG$2&$A39))","v":0},{"$f":"IF(INDIRECT($B$2&BH$2&$A39)=\"\",\"★\",INDIRECT($B$2&BH$2&$A39))","v":"★"},{"$f":"IF(INDIRECT($B$2&BI$2&$A39)=\"\",\"★\",INDIRECT($B$2&BI$2&$A39))","v":"★"},{"$f":"IF(INDIRECT($B$2&BJ$2&$A39)=\"\",\"★\",INDIRECT($B$2&BJ$2&$A39))","v":"★"},{"$f":"IF(INDIRECT($B$2&BK$2&$A39)=\"\",\"★\",INDIRECT($B$2&BK$2&$A39))","v":"★"},{"$f":"IF(INDIRECT($B$2&BL$2&$A39)=\"\",\"★\",INDIRECT($B$2&BL$2&$A39))","v":"★"},{"$f":"IF(INDIRECT($B$2&BM$2&$A39)=\"\",\"★\",INDIRECT($B$2&BM$2&$A39))","v":"★"},{"$f":"IF(INDIRECT($B$2&BN$2&$A39)=\"\",\"★\",INDIRECT($B$2&BN$2&$A39))","v":"★"},{"$f":"IF(INDIRECT($B$2&BO$2&$A39)=\"\",\"★\",INDIRECT($B$2&BO$2&$A39))","v":"★"},{"$f":"IF(INDIRECT($B$2&BP$2&$A39)=\"\",\"★\",INDIRECT($B$2&BP$2&$A39))","v":"★"},{"$f":"IF(INDIRECT($B$2&BQ$2&$A39)=\"\",\"★\",INDIRECT($B$2&BQ$2&$A39))","v":"★"},{"$f":"IF(INDIRECT($B$2&BR$2&$A39)=\"\",\"★\",INDIRECT($B$2&BR$2&$A39))","v":"★"},{"$f":"IF(INDIRECT($B$2&BS$2&$A39)=\"\",\"★\",INDIRECT($B$2&BS$2&$A39))","v":"★"},{"$f":"IF(INDIRECT($B$2&BT$2&$A39)=\"\",\"★\",INDIRECT($B$2&BT$2&$A39))","v":"★"},{"$f":"IF(INDIRECT($B$2&BU$2&$A39)=\"\",\"★\",INDIRECT($B$2&BU$2&$A39))","v":"★"},{"$f":"IF(INDIRECT($B$2&BV$2&$A39)=\"\",\"★\",INDIRECT($B$2&BV$2&$A39))","v":"★"},{"$f":"IF(INDIRECT($B$2&BW$2&$A39)=\"\",\"★\",INDIRECT($B$2&BW$2&$A39))","v":"★"},{"$f":"IF(INDIRECT($B$2&BX$2&$A39)=\"\",\"★\",INDIRECT($B$2&BX$2&$A39))","v":"★"},{"$f":"IF(INDIRECT($B$2&BY$2&$A39)=\"\",\"★\",INDIRECT($B$2&BY$2&$A39))","v":"★"}]
[66,null,null,null,null,null,null,null,null,null,null,null,null,30,{"$f":"IF(INDIRECT($B$2&$O$2&$A40)=\"\",\"★\",INDIRECT($B$2&$O$2&$A40))","v":"★"},{"$f":"IF(INDIRECT($B$2&$P$2&$A40)=\"\",\"★\",INDIRECT($B$2&$P$2&$A40))","v":0},{"$f":"IF(INDIRECT($B$2&$Q$2&$A40)=\"\",\"★\",INDIRECT($B$2&$Q$2&$A40))","v":0},{"$f":"IF(INDIRECT($B$2&$R$2&$A40)=\"\",\"★\",INDIRECT($B$2&$R$2&$A40))","v":0},{"$f":"IF(INDIRECT($B$2&$S$2&$A40)=\"\",\"★\",INDIRECT($B$2&$S$2&$A40))","v":"★"},{"$f":"IF(INDIRECT($B$2&$T$2&$A40)=\"\",\"★\",INDIRECT($B$2&$T$2&$A40))","v":"★"},{"$f":"IF(INDIRECT($B$2&$U$2&$A40)=\"\",\"★\",INDIRECT($B$2&$U$2&$A40))","v":"★"},{"$f":"IF(INDIRECT($B$2&$V$2&$A40)=\"\",\"★\",INDIRECT($B$2&$V$2&$A40))","v":"★"},{"$f":"IF(INDIRECT($B$2&$W$2&$A40)=\"\",\"★\",INDIRECT($B$2&$W$2&$A40))","v":"★"},{"$f":"IF(INDIRECT($B$2&$X$2&$A40)=\"\",\"★\",INDIRECT($B$2&$X$2&$A40))","v":"★"},{"$f":"IF(INDIRECT($B$2&$Y$2&$A40)=\"\",\"★\",INDIRECT($B$2&$Y$2&$A40))","v":"★"},{"$f":"IF(INDIRECT($B$2&$Z$2&$A40)=\"\",\"★\",INDIRECT($B$2&$Z$2&$A40))","v":"★"},{"$f":"IF(INDIRECT($B$2&$AA$2&$A40)=\"\",\"★\",INDIRECT($B$2&$AA$2&$A40))","v":"★"},{"$f":"IF(INDIRECT($B$2&$AB$2&$A40)=\"\",\"★\",INDIRECT($B$2&$AB$2&$A40))","v":"★"},{"$f":"IF(INDIRECT($B$2&AC$2&$A40)=\"\",\"★\",INDIRECT($B$2&AC$2&$A40))","v":"★"},{"$f":"IF(INDIRECT($B$2&AD$2&$A40)=\"\",\"★\",INDIRECT($B$2&AD$2&$A40))","v":"★"},{"$f":"IF(INDIRECT($B$2&AE$2&$A40)=\"\",\"★\",INDIRECT($B$2&AE$2&$A40))","v":"★"},{"$f":"IF(INDIRECT($B$2&AF$2&$A40)=\"\",\"★\",INDIRECT($B$2&AF$2&$A40))","v":"★"},{"$f":"IF(INDIRECT($B$2&AG$2&$A40)=\"\",\"★\",INDIRECT($B$2&AG$2&$A40))","v":"★"},{"$f":"IF(INDIRECT($B$2&AH$2&$A40)=\"\",\"★\",INDIRECT($B$2&AH$2&$A40))","v":"★"},{"$f":"IF(INDIRECT($B$2&AI$2&$A40)=\"\",\"★\",INDIRECT($B$2&AI$2&$A40))","v":"★"},{"$f":"IF(INDIRECT($B$2&AJ$2&$A40)=\"\",\"★\",INDIRECT($B$2&AJ$2&$A40))","v":"★"},{"$f":"IF(INDIRECT($B$2&AK$2&$A40)=\"\",\"★\",INDIRECT($B$2&AK$2&$A40))","v":"★"},{"$f":"IF(INDIRECT($B$2&AL$2&$A40)=\"\",\"★\",INDIRECT($B$2&AL$2&$A40))","v":"★"},{"$f":"IF(INDIRECT($B$2&AM$2&$A40)=\"\",\"★\",INDIRECT($B$2&AM$2&$A40))","v":"★"},{"$f":"IF(INDIRECT($B$2&AN$2&$A40)=\"\",\"★\",INDIRECT($B$2&AN$2&$A40))","v":"★"},{"$f":"IF(INDIRECT($B$2&AO$2&$A40)=\"\",\"★\",INDIRECT($B$2&AO$2&$A40))","v":"★"},{"$f":"IF(INDIRECT($B$2&AP$2&$A40)=\"\",\"★\",INDIRECT($B$2&AP$2&$A40))","v":"★"},{"$f":"IF(INDIRECT($B$2&AQ$2&$A40)=\"\",\"★\",INDIRECT($B$2&AQ$2&$A40))","v":"★"},{"$f":"IF(INDIRECT($B$2&AR$2&$A40)=\"\",\"★\",INDIRECT($B$2&AR$2&$A40))","v":0},{"$f":"IF(INDIRECT($B$2&AS$2&$A40)=\"\",\"★\",INDIRECT($B$2&AS$2&$A40))","v":"★"},{"$f":"IF(INDIRECT($B$2&AT$2&$A40)=\"\",\"★\",INDIRECT($B$2&AT$2&$A40))","v":"★"},{"$f":"IF(INDIRECT($B$2&AU$2&$A40)=\"\",\"★\",INDIRECT($B$2&AU$2&$A40))","v":"★"},{"$f":"IF(INDIRECT($B$2&AV$2&$A40)=\"\",\"★\",INDIRECT($B$2&AV$2&$A40))","v":"★"},{"$f":"IF(INDIRECT($B$2&AW$2&$A40)=\"\",\"★\",INDIRECT($B$2&AW$2&$A40))","v":"★"},{"$f":"IF(INDIRECT($B$2&AX$2&$A40)=\"\",\"★\",INDIRECT($B$2&AX$2&$A40))","v":"★"},{"$f":"IF(INDIRECT($B$2&AY$2&$A40)=\"\",\"★\",INDIRECT($B$2&AY$2&$A40))","v":"★"},{"$f":"IF(INDIRECT($B$2&AZ$2&$A40)=\"\",\"★\",INDIRECT($B$2&AZ$2&$A40))","v":"★"},{"$f":"IF(INDIRECT($B$2&BA$2&$A40)=\"\",\"★\",INDIRECT($B$2&BA$2&$A40))","v":"★"},{"$f":"IF(INDIRECT($B$2&BB$2&$A40)=\"\",\"★\",INDIRECT($B$2&BB$2&$A40))","v":"★"},{"$f":"IF(INDIRECT($B$2&BC$2&$A40)=\"\",\"★\",INDIRECT($B$2&BC$2&$A40))","v":"★"},{"$f":"IF(INDIRECT($B$2&BD$2&$A40)=\"\",\"★\",INDIRECT($B$2&BD$2&$A40))","v":"★"},{"$f":"IF(INDIRECT($B$2&BE$2&$A40)=\"\",\"★\",INDIRECT($B$2&BE$2&$A40))","v":"★"},{"$f":"IF(INDIRECT($B$2&BF$2&$A40)=\"\",\"★\",INDIRECT($B$2&BF$2&$A40))","v":"★"},{"$f":"IF(INDIRECT($B$2&BG$2&$A40)=\"\",\"★\",INDIRECT($B$2&BG$2&$A40))","v":0},{"$f":"IF(INDIRECT($B$2&BH$2&$A40)=\"\",\"★\",INDIRECT($B$2&BH$2&$A40))","v":"★"},{"$f":"IF(INDIRECT($B$2&BI$2&$A40)=\"\",\"★\",INDIRECT($B$2&BI$2&$A40))","v":"★"},{"$f":"IF(INDIRECT($B$2&BJ$2&$A40)=\"\",\"★\",INDIRECT($B$2&BJ$2&$A40))","v":"★"},{"$f":"IF(INDIRECT($B$2&BK$2&$A40)=\"\",\"★\",INDIRECT($B$2&BK$2&$A40))","v":"★"},{"$f":"IF(INDIRECT($B$2&BL$2&$A40)=\"\",\"★\",INDIRECT($B$2&BL$2&$A40))","v":"★"},{"$f":"IF(INDIRECT($B$2&BM$2&$A40)=\"\",\"★\",INDIRECT($B$2&BM$2&$A40))","v":"★"},{"$f":"IF(INDIRECT($B$2&BN$2&$A40)=\"\",\"★\",INDIRECT($B$2&BN$2&$A40))","v":"★"},{"$f":"IF(INDIRECT($B$2&BO$2&$A40)=\"\",\"★\",INDIRECT($B$2&BO$2&$A40))","v":"★"},{"$f":"IF(INDIRECT($B$2&BP$2&$A40)=\"\",\"★\",INDIRECT($B$2&BP$2&$A40))","v":"★"},{"$f":"IF(INDIRECT($B$2&BQ$2&$A40)=\"\",\"★\",INDIRECT($B$2&BQ$2&$A40))","v":"★"},{"$f":"IF(INDIRECT($B$2&BR$2&$A40)=\"\",\"★\",INDIRECT($B$2&BR$2&$A40))","v":"★"},{"$f":"IF(INDIRECT($B$2&BS$2&$A40)=\"\",\"★\",INDIRECT($B$2&BS$2&$A40))","v":"★"},{"$f":"IF(INDIRECT($B$2&BT$2&$A40)=\"\",\"★\",INDIRECT($B$2&BT$2&$A40))","v":"★"},{"$f":"IF(INDIRECT($B$2&BU$2&$A40)=\"\",\"★\",INDIRECT($B$2&BU$2&$A40))","v":"★"},{"$f":"IF(INDIRECT($B$2&BV$2&$A40)=\"\",\"★\",INDIRECT($B$2&BV$2&$A40))","v":"★"},{"$f":"IF(INDIRECT($B$2&BW$2&$A40)=\"\",\"★\",INDIRECT($B$2&BW$2&$A40))","v":"★"},{"$f":"IF(INDIRECT($B$2&BX$2&$A40)=\"\",\"★\",INDIRECT($B$2&BX$2&$A40))","v":"★"},{"$f":"IF(INDIRECT($B$2&BY$2&$A40)=\"\",\"★\",INDIRECT($B$2&BY$2&$A40))","v":"★"}]
[67,null,null,null,null,null,null,null,null,null,null,null,null,31,{"$f":"IF(INDIRECT($B$2&$O$2&$A41)=\"\",\"★\",INDIRECT($B$2&$O$2&$A41))","v":"★"},{"$f":"IF(INDIRECT($B$2&$P$2&$A41)=\"\",\"★\",INDIRECT($B$2&$P$2&$A41))","v":0},{"$f":"IF(INDIRECT($B$2&$Q$2&$A41)=\"\",\"★\",INDIRECT($B$2&$Q$2&$A41))","v":0},{"$f":"IF(INDIRECT($B$2&$R$2&$A41)=\"\",\"★\",INDIRECT($B$2&$R$2&$A41))","v":0},{"$f":"IF(INDIRECT($B$2&$S$2&$A41)=\"\",\"★\",INDIRECT($B$2&$S$2&$A41))","v":"★"},{"$f":"IF(INDIRECT($B$2&$T$2&$A41)=\"\",\"★\",INDIRECT($B$2&$T$2&$A41))","v":"★"},{"$f":"IF(INDIRECT($B$2&$U$2&$A41)=\"\",\"★\",INDIRECT($B$2&$U$2&$A41))","v":"★"},{"$f":"IF(INDIRECT($B$2&$V$2&$A41)=\"\",\"★\",INDIRECT($B$2&$V$2&$A41))","v":"★"},{"$f":"IF(INDIRECT($B$2&$W$2&$A41)=\"\",\"★\",INDIRECT($B$2&$W$2&$A41))","v":"★"},{"$f":"IF(INDIRECT($B$2&$X$2&$A41)=\"\",\"★\",INDIRECT($B$2&$X$2&$A41))","v":"★"},{"$f":"IF(INDIRECT($B$2&$Y$2&$A41)=\"\",\"★\",INDIRECT($B$2&$Y$2&$A41))","v":"★"},{"$f":"IF(INDIRECT($B$2&$Z$2&$A41)=\"\",\"★\",INDIRECT($B$2&$Z$2&$A41))","v":"★"},{"$f":"IF(INDIRECT($B$2&$AA$2&$A41)=\"\",\"★\",INDIRECT($B$2&$AA$2&$A41))","v":"★"},{"$f":"IF(INDIRECT($B$2&$AB$2&$A41)=\"\",\"★\",INDIRECT($B$2&$AB$2&$A41))","v":"★"},{"$f":"IF(INDIRECT($B$2&AC$2&$A41)=\"\",\"★\",INDIRECT($B$2&AC$2&$A41))","v":"★"},{"$f":"IF(INDIRECT($B$2&AD$2&$A41)=\"\",\"★\",INDIRECT($B$2&AD$2&$A41))","v":"★"},{"$f":"IF(INDIRECT($B$2&AE$2&$A41)=\"\",\"★\",INDIRECT($B$2&AE$2&$A41))","v":"★"},{"$f":"IF(INDIRECT($B$2&AF$2&$A41)=\"\",\"★\",INDIRECT($B$2&AF$2&$A41))","v":"★"},{"$f":"IF(INDIRECT($B$2&AG$2&$A41)=\"\",\"★\",INDIRECT($B$2&AG$2&$A41))","v":"★"},{"$f":"IF(INDIRECT($B$2&AH$2&$A41)=\"\",\"★\",INDIRECT($B$2&AH$2&$A41))","v":"★"},{"$f":"IF(INDIRECT($B$2&AI$2&$A41)=\"\",\"★\",INDIRECT($B$2&AI$2&$A41))","v":"★"},{"$f":"IF(INDIRECT($B$2&AJ$2&$A41)=\"\",\"★\",INDIRECT($B$2&AJ$2&$A41))","v":"★"},{"$f":"IF(INDIRECT($B$2&AK$2&$A41)=\"\",\"★\",INDIRECT($B$2&AK$2&$A41))","v":"★"},{"$f":"IF(INDIRECT($B$2&AL$2&$A41)=\"\",\"★\",INDIRECT($B$2&AL$2&$A41))","v":"★"},{"$f":"IF(INDIRECT($B$2&AM$2&$A41)=\"\",\"★\",INDIRECT($B$2&AM$2&$A41))","v":"★"},{"$f":"IF(INDIRECT($B$2&AN$2&$A41)=\"\",\"★\",INDIRECT($B$2&AN$2&$A41))","v":"★"},{"$f":"IF(INDIRECT($B$2&AO$2&$A41)=\"\",\"★\",INDIRECT($B$2&AO$2&$A41))","v":"★"},{"$f":"IF(INDIRECT($B$2&AP$2&$A41)=\"\",\"★\",INDIRECT($B$2&AP$2&$A41))","v":"★"},{"$f":"IF(INDIRECT($B$2&AQ$2&$A41)=\"\",\"★\",INDIRECT($B$2&AQ$2&$A41))","v":"★"},{"$f":"IF(INDIRECT($B$2&AR$2&$A41)=\"\",\"★\",INDIRECT($B$2&AR$2&$A41))","v":0},{"$f":"IF(INDIRECT($B$2&AS$2&$A41)=\"\",\"★\",INDIRECT($B$2&AS$2&$A41))","v":"★"},{"$f":"IF(INDIRECT($B$2&AT$2&$A41)=\"\",\"★\",INDIRECT($B$2&AT$2&$A41))","v":"★"},{"$f":"IF(INDIRECT($B$2&AU$2&$A41)=\"\",\"★\",INDIRECT($B$2&AU$2&$A41))","v":"★"},{"$f":"IF(INDIRECT($B$2&AV$2&$A41)=\"\",\"★\",INDIRECT($B$2&AV$2&$A41))","v":"★"},{"$f":"IF(INDIRECT($B$2&AW$2&$A41)=\"\",\"★\",INDIRECT($B$2&AW$2&$A41))","v":"★"},{"$f":"IF(INDIRECT($B$2&AX$2&$A41)=\"\",\"★\",INDIRECT($B$2&AX$2&$A41))","v":"★"},{"$f":"IF(INDIRECT($B$2&AY$2&$A41)=\"\",\"★\",INDIRECT($B$2&AY$2&$A41))","v":"★"},{"$f":"IF(INDIRECT($B$2&AZ$2&$A41)=\"\",\"★\",INDIRECT($B$2&AZ$2&$A41))","v":"★"},{"$f":"IF(INDIRECT($B$2&BA$2&$A41)=\"\",\"★\",INDIRECT($B$2&BA$2&$A41))","v":"★"},{"$f":"IF(INDIRECT($B$2&BB$2&$A41)=\"\",\"★\",INDIRECT($B$2&BB$2&$A41))","v":"★"},{"$f":"IF(INDIRECT($B$2&BC$2&$A41)=\"\",\"★\",INDIRECT($B$2&BC$2&$A41))","v":"★"},{"$f":"IF(INDIRECT($B$2&BD$2&$A41)=\"\",\"★\",INDIRECT($B$2&BD$2&$A41))","v":"★"},{"$f":"IF(INDIRECT($B$2&BE$2&$A41)=\"\",\"★\",INDIRECT($B$2&BE$2&$A41))","v":"★"},{"$f":"IF(INDIRECT($B$2&BF$2&$A41)=\"\",\"★\",INDIRECT($B$2&BF$2&$A41))","v":"★"},{"$f":"IF(INDIRECT($B$2&BG$2&$A41)=\"\",\"★\",INDIRECT($B$2&BG$2&$A41))","v":0},{"$f":"IF(INDIRECT($B$2&BH$2&$A41)=\"\",\"★\",INDIRECT($B$2&BH$2&$A41))","v":"★"},{"$f":"IF(INDIRECT($B$2&BI$2&$A41)=\"\",\"★\",INDIRECT($B$2&BI$2&$A41))","v":"★"},{"$f":"IF(INDIRECT($B$2&BJ$2&$A41)=\"\",\"★\",INDIRECT($B$2&BJ$2&$A41))","v":"★"},{"$f":"IF(INDIRECT($B$2&BK$2&$A41)=\"\",\"★\",INDIRECT($B$2&BK$2&$A41))","v":"★"},{"$f":"IF(INDIRECT($B$2&BL$2&$A41)=\"\",\"★\",INDIRECT($B$2&BL$2&$A41))","v":"★"},{"$f":"IF(INDIRECT($B$2&BM$2&$A41)=\"\",\"★\",INDIRECT($B$2&BM$2&$A41))","v":"★"},{"$f":"IF(INDIRECT($B$2&BN$2&$A41)=\"\",\"★\",INDIRECT($B$2&BN$2&$A41))","v":"★"},{"$f":"IF(INDIRECT($B$2&BO$2&$A41)=\"\",\"★\",INDIRECT($B$2&BO$2&$A41))","v":"★"},{"$f":"IF(INDIRECT($B$2&BP$2&$A41)=\"\",\"★\",INDIRECT($B$2&BP$2&$A41))","v":"★"},{"$f":"IF(INDIRECT($B$2&BQ$2&$A41)=\"\",\"★\",INDIRECT($B$2&BQ$2&$A41))","v":"★"},{"$f":"IF(INDIRECT($B$2&BR$2&$A41)=\"\",\"★\",INDIRECT($B$2&BR$2&$A41))","v":"★"},{"$f":"IF(INDIRECT($B$2&BS$2&$A41)=\"\",\"★\",INDIRECT($B$2&BS$2&$A41))","v":"★"},{"$f":"IF(INDIRECT($B$2&BT$2&$A41)=\"\",\"★\",INDIRECT($B$2&BT$2&$A41))","v":"★"},{"$f":"IF(INDIRECT($B$2&BU$2&$A41)=\"\",\"★\",INDIRECT($B$2&BU$2&$A41))","v":"★"},{"$f":"IF(INDIRECT($B$2&BV$2&$A41)=\"\",\"★\",INDIRECT($B$2&BV$2&$A41))","v":"★"},{"$f":"IF(INDIRECT($B$2&BW$2&$A41)=\"\",\"★\",INDIRECT($B$2&BW$2&$A41))","v":"★"},{"$f":"IF(INDIRECT($B$2&BX$2&$A41)=\"\",\"★\",INDIRECT($B$2&BX$2&$A41))","v":"★"},{"$f":"IF(INDIRECT($B$2&BY$2&$A41)=\"\",\"★\",INDIRECT($B$2&BY$2&$A41))","v":"★"}]
[68,null,null,null,null,null,null,null,null,null,null,null,null,32,{"$f":"IF(INDIRECT($B$2&$O$2&$A42)=\"\",\"★\",INDIRECT($B$2&$O$2&$A42))","v":"★"},{"$f":"IF(INDIRECT($B$2&$P$2&$A42)=\"\",\"★\",INDIRECT($B$2&$P$2&$A42))","v":0},{"$f":"IF(INDIRECT($B$2&$Q$2&$A42)=\"\",\"★\",INDIRECT($B$2&$Q$2&$A42))","v":0},{"$f":"IF(INDIRECT($B$2&$R$2&$A42)=\"\",\"★\",INDIRECT($B$2&$R$2&$A42))","v":0},{"$f":"IF(INDIRECT($B$2&$S$2&$A42)=\"\",\"★\",INDIRECT($B$2&$S$2&$A42))","v":"★"},{"$f":"IF(INDIRECT($B$2&$T$2&$A42)=\"\",\"★\",INDIRECT($B$2&$T$2&$A42))","v":"★"},{"$f":"IF(INDIRECT($B$2&$U$2&$A42)=\"\",\"★\",INDIRECT($B$2&$U$2&$A42))","v":"★"},{"$f":"IF(INDIRECT($B$2&$V$2&$A42)=\"\",\"★\",INDIRECT($B$2&$V$2&$A42))","v":"★"},{"$f":"IF(INDIRECT($B$2&$W$2&$A42)=\"\",\"★\",INDIRECT($B$2&$W$2&$A42))","v":"★"},{"$f":"IF(INDIRECT($B$2&$X$2&$A42)=\"\",\"★\",INDIRECT($B$2&$X$2&$A42))","v":"★"},{"$f":"IF(INDIRECT($B$2&$Y$2&$A42)=\"\",\"★\",INDIRECT($B$2&$Y$2&$A42))","v":"★"},{"$f":"IF(INDIRECT($B$2&$Z$2&$A42)=\"\",\"★\",INDIRECT($B$2&$Z$2&$A42))","v":"★"},{"$f":"IF(INDIRECT($B$2&$AA$2&$A42)=\"\",\"★\",INDIRECT($B$2&$AA$2&$A42))","v":"★"},{"$f":"IF(INDIRECT($B$2&$AB$2&$A42)=\"\",\"★\",INDIRECT($B$2&$AB$2&$A42))","v":"★"},{"$f":"IF(INDIRECT($B$2&AC$2&$A42)=\"\",\"★\",INDIRECT($B$2&AC$2&$A42))","v":"★"},{"$f":"IF(INDIRECT($B$2&AD$2&$A42)=\"\",\"★\",INDIRECT($B$2&AD$2&$A42))","v":"★"},{"$f":"IF(INDIRECT($B$2&AE$2&$A42)=\"\",\"★\",INDIRECT($B$2&AE$2&$A42))","v":"★"},{"$f":"IF(INDIRECT($B$2&AF$2&$A42)=\"\",\"★\",INDIRECT($B$2&AF$2&$A42))","v":"★"},{"$f":"IF(INDIRECT($B$2&AG$2&$A42)=\"\",\"★\",INDIRECT($B$2&AG$2&$A42))","v":"★"},{"$f":"IF(INDIRECT($B$2&AH$2&$A42)=\"\",\"★\",INDIRECT($B$2&AH$2&$A42))","v":"★"},{"$f":"IF(INDIRECT($B$2&AI$2&$A42)=\"\",\"★\",INDIRECT($B$2&AI$2&$A42))","v":"★"},{"$f":"IF(INDIRECT($B$2&AJ$2&$A42)=\"\",\"★\",INDIRECT($B$2&AJ$2&$A42))","v":"★"},{"$f":"IF(INDIRECT($B$2&AK$2&$A42)=\"\",\"★\",INDIRECT($B$2&AK$2&$A42))","v":"★"},{"$f":"IF(INDIRECT($B$2&AL$2&$A42)=\"\",\"★\",INDIRECT($B$2&AL$2&$A42))","v":"★"},{"$f":"IF(INDIRECT($B$2&AM$2&$A42)=\"\",\"★\",INDIRECT($B$2&AM$2&$A42))","v":"★"},{"$f":"IF(INDIRECT($B$2&AN$2&$A42)=\"\",\"★\",INDIRECT($B$2&AN$2&$A42))","v":"★"},{"$f":"IF(INDIRECT($B$2&AO$2&$A42)=\"\",\"★\",INDIRECT($B$2&AO$2&$A42))","v":"★"},{"$f":"IF(INDIRECT($B$2&AP$2&$A42)=\"\",\"★\",INDIRECT($B$2&AP$2&$A42))","v":"★"},{"$f":"IF(INDIRECT($B$2&AQ$2&$A42)=\"\",\"★\",INDIRECT($B$2&AQ$2&$A42))","v":"★"},{"$f":"IF(INDIRECT($B$2&AR$2&$A42)=\"\",\"★\",INDIRECT($B$2&AR$2&$A42))","v":0},{"$f":"IF(INDIRECT($B$2&AS$2&$A42)=\"\",\"★\",INDIRECT($B$2&AS$2&$A42))","v":"★"},{"$f":"IF(INDIRECT($B$2&AT$2&$A42)=\"\",\"★\",INDIRECT($B$2&AT$2&$A42))","v":"★"},{"$f":"IF(INDIRECT($B$2&AU$2&$A42)=\"\",\"★\",INDIRECT($B$2&AU$2&$A42))","v":"★"},{"$f":"IF(INDIRECT($B$2&AV$2&$A42)=\"\",\"★\",INDIRECT($B$2&AV$2&$A42))","v":"★"},{"$f":"IF(INDIRECT($B$2&AW$2&$A42)=\"\",\"★\",INDIRECT($B$2&AW$2&$A42))","v":"★"},{"$f":"IF(INDIRECT($B$2&AX$2&$A42)=\"\",\"★\",INDIRECT($B$2&AX$2&$A42))","v":"★"},{"$f":"IF(INDIRECT($B$2&AY$2&$A42)=\"\",\"★\",INDIRECT($B$2&AY$2&$A42))","v":"★"},{"$f":"IF(INDIRECT($B$2&AZ$2&$A42)=\"\",\"★\",INDIRECT($B$2&AZ$2&$A42))","v":"★"},{"$f":"IF(INDIRECT($B$2&BA$2&$A42)=\"\",\"★\",INDIRECT($B$2&BA$2&$A42))","v":"★"},{"$f":"IF(INDIRECT($B$2&BB$2&$A42)=\"\",\"★\",INDIRECT($B$2&BB$2&$A42))","v":"★"},{"$f":"IF(INDIRECT($B$2&BC$2&$A42)=\"\",\"★\",INDIRECT($B$2&BC$2&$A42))","v":"★"},{"$f":"IF(INDIRECT($B$2&BD$2&$A42)=\"\",\"★\",INDIRECT($B$2&BD$2&$A42))","v":"★"},{"$f":"IF(INDIRECT($B$2&BE$2&$A42)=\"\",\"★\",INDIRECT($B$2&BE$2&$A42))","v":"★"},{"$f":"IF(INDIRECT($B$2&BF$2&$A42)=\"\",\"★\",INDIRECT($B$2&BF$2&$A42))","v":"★"},{"$f":"IF(INDIRECT($B$2&BG$2&$A42)=\"\",\"★\",INDIRECT($B$2&BG$2&$A42))","v":0},{"$f":"IF(INDIRECT($B$2&BH$2&$A42)=\"\",\"★\",INDIRECT($B$2&BH$2&$A42))","v":"★"},{"$f":"IF(INDIRECT($B$2&BI$2&$A42)=\"\",\"★\",INDIRECT($B$2&BI$2&$A42))","v":"★"},{"$f":"IF(INDIRECT($B$2&BJ$2&$A42)=\"\",\"★\",INDIRECT($B$2&BJ$2&$A42))","v":"★"},{"$f":"IF(INDIRECT($B$2&BK$2&$A42)=\"\",\"★\",INDIRECT($B$2&BK$2&$A42))","v":"★"},{"$f":"IF(INDIRECT($B$2&BL$2&$A42)=\"\",\"★\",INDIRECT($B$2&BL$2&$A42))","v":"★"},{"$f":"IF(INDIRECT($B$2&BM$2&$A42)=\"\",\"★\",INDIRECT($B$2&BM$2&$A42))","v":"★"},{"$f":"IF(INDIRECT($B$2&BN$2&$A42)=\"\",\"★\",INDIRECT($B$2&BN$2&$A42))","v":"★"},{"$f":"IF(INDIRECT($B$2&BO$2&$A42)=\"\",\"★\",INDIRECT($B$2&BO$2&$A42))","v":"★"},{"$f":"IF(INDIRECT($B$2&BP$2&$A42)=\"\",\"★\",INDIRECT($B$2&BP$2&$A42))","v":"★"},{"$f":"IF(INDIRECT($B$2&BQ$2&$A42)=\"\",\"★\",INDIRECT($B$2&BQ$2&$A42))","v":"★"},{"$f":"IF(INDIRECT($B$2&BR$2&$A42)=\"\",\"★\",INDIRECT($B$2&BR$2&$A42))","v":"★"},{"$f":"IF(INDIRECT($B$2&BS$2&$A42)=\"\",\"★\",INDIRECT($B$2&BS$2&$A42))","v":"★"},{"$f":"IF(INDIRECT($B$2&BT$2&$A42)=\"\",\"★\",INDIRECT($B$2&BT$2&$A42))","v":"★"},{"$f":"IF(INDIRECT($B$2&BU$2&$A42)=\"\",\"★\",INDIRECT($B$2&BU$2&$A42))","v":"★"},{"$f":"IF(INDIRECT($B$2&BV$2&$A42)=\"\",\"★\",INDIRECT($B$2&BV$2&$A42))","v":"★"},{"$f":"IF(INDIRECT($B$2&BW$2&$A42)=\"\",\"★\",INDIRECT($B$2&BW$2&$A42))","v":"★"},{"$f":"IF(INDIRECT($B$2&BX$2&$A42)=\"\",\"★\",INDIRECT($B$2&BX$2&$A42))","v":"★"},{"$f":"IF(INDIRECT($B$2&BY$2&$A42)=\"\",\"★\",INDIRECT($B$2&BY$2&$A42))","v":"★"}]
[69,null,null,null,null,null,null,null,null,null,null,null,null,33,{"$f":"IF(INDIRECT($B$2&$O$2&$A43)=\"\",\"★\",INDIRECT($B$2&$O$2&$A43))","v":"★"},{"$f":"IF(INDIRECT($B$2&$P$2&$A43)=\"\",\"★\",INDIRECT($B$2&$P$2&$A43))","v":0},{"$f":"IF(INDIRECT($B$2&$Q$2&$A43)=\"\",\"★\",INDIRECT($B$2&$Q$2&$A43))","v":0},{"$f":"IF(INDIRECT($B$2&$R$2&$A43)=\"\",\"★\",INDIRECT($B$2&$R$2&$A43))","v":0},{"$f":"IF(INDIRECT($B$2&$S$2&$A43)=\"\",\"★\",INDIRECT($B$2&$S$2&$A43))","v":"★"},{"$f":"IF(INDIRECT($B$2&$T$2&$A43)=\"\",\"★\",INDIRECT($B$2&$T$2&$A43))","v":"★"},{"$f":"IF(INDIRECT($B$2&$U$2&$A43)=\"\",\"★\",INDIRECT($B$2&$U$2&$A43))","v":"★"},{"$f":"IF(INDIRECT($B$2&$V$2&$A43)=\"\",\"★\",INDIRECT($B$2&$V$2&$A43))","v":"★"},{"$f":"IF(INDIRECT($B$2&$W$2&$A43)=\"\",\"★\",INDIRECT($B$2&$W$2&$A43))","v":"★"},{"$f":"IF(INDIRECT($B$2&$X$2&$A43)=\"\",\"★\",INDIRECT($B$2&$X$2&$A43))","v":"★"},{"$f":"IF(INDIRECT($B$2&$Y$2&$A43)=\"\",\"★\",INDIRECT($B$2&$Y$2&$A43))","v":"★"},{"$f":"IF(INDIRECT($B$2&$Z$2&$A43)=\"\",\"★\",INDIRECT($B$2&$Z$2&$A43))","v":"★"},{"$f":"IF(INDIRECT($B$2&$AA$2&$A43)=\"\",\"★\",INDIRECT($B$2&$AA$2&$A43))","v":"★"},{"$f":"IF(INDIRECT($B$2&$AB$2&$A43)=\"\",\"★\",INDIRECT($B$2&$AB$2&$A43))","v":"★"},{"$f":"IF(INDIRECT($B$2&AC$2&$A43)=\"\",\"★\",INDIRECT($B$2&AC$2&$A43))","v":"★"},{"$f":"IF(INDIRECT($B$2&AD$2&$A43)=\"\",\"★\",INDIRECT($B$2&AD$2&$A43))","v":"★"},{"$f":"IF(INDIRECT($B$2&AE$2&$A43)=\"\",\"★\",INDIRECT($B$2&AE$2&$A43))","v":"★"},{"$f":"IF(INDIRECT($B$2&AF$2&$A43)=\"\",\"★\",INDIRECT($B$2&AF$2&$A43))","v":"★"},{"$f":"IF(INDIRECT($B$2&AG$2&$A43)=\"\",\"★\",INDIRECT($B$2&AG$2&$A43))","v":"★"},{"$f":"IF(INDIRECT($B$2&AH$2&$A43)=\"\",\"★\",INDIRECT($B$2&AH$2&$A43))","v":"★"},{"$f":"IF(INDIRECT($B$2&AI$2&$A43)=\"\",\"★\",INDIRECT($B$2&AI$2&$A43))","v":"★"},{"$f":"IF(INDIRECT($B$2&AJ$2&$A43)=\"\",\"★\",INDIRECT($B$2&AJ$2&$A43))","v":"★"},{"$f":"IF(INDIRECT($B$2&AK$2&$A43)=\"\",\"★\",INDIRECT($B$2&AK$2&$A43))","v":"★"},{"$f":"IF(INDIRECT($B$2&AL$2&$A43)=\"\",\"★\",INDIRECT($B$2&AL$2&$A43))","v":"★"},{"$f":"IF(INDIRECT($B$2&AM$2&$A43)=\"\",\"★\",INDIRECT($B$2&AM$2&$A43))","v":"★"},{"$f":"IF(INDIRECT($B$2&AN$2&$A43)=\"\",\"★\",INDIRECT($B$2&AN$2&$A43))","v":"★"},{"$f":"IF(INDIRECT($B$2&AO$2&$A43)=\"\",\"★\",INDIRECT($B$2&AO$2&$A43))","v":"★"},{"$f":"IF(INDIRECT($B$2&AP$2&$A43)=\"\",\"★\",INDIRECT($B$2&AP$2&$A43))","v":"★"},{"$f":"IF(INDIRECT($B$2&AQ$2&$A43)=\"\",\"★\",INDIRECT($B$2&AQ$2&$A43))","v":"★"},{"$f":"IF(INDIRECT($B$2&AR$2&$A43)=\"\",\"★\",INDIRECT($B$2&AR$2&$A43))","v":0},{"$f":"IF(INDIRECT($B$2&AS$2&$A43)=\"\",\"★\",INDIRECT($B$2&AS$2&$A43))","v":"★"},{"$f":"IF(INDIRECT($B$2&AT$2&$A43)=\"\",\"★\",INDIRECT($B$2&AT$2&$A43))","v":"★"},{"$f":"IF(INDIRECT($B$2&AU$2&$A43)=\"\",\"★\",INDIRECT($B$2&AU$2&$A43))","v":"★"},{"$f":"IF(INDIRECT($B$2&AV$2&$A43)=\"\",\"★\",INDIRECT($B$2&AV$2&$A43))","v":"★"},{"$f":"IF(INDIRECT($B$2&AW$2&$A43)=\"\",\"★\",INDIRECT($B$2&AW$2&$A43))","v":"★"},{"$f":"IF(INDIRECT($B$2&AX$2&$A43)=\"\",\"★\",INDIRECT($B$2&AX$2&$A43))","v":"★"},{"$f":"IF(INDIRECT($B$2&AY$2&$A43)=\"\",\"★\",INDIRECT($B$2&AY$2&$A43))","v":"★"},{"$f":"IF(INDIRECT($B$2&AZ$2&$A43)=\"\",\"★\",INDIRECT($B$2&AZ$2&$A43))","v":"★"},{"$f":"IF(INDIRECT($B$2&BA$2&$A43)=\"\",\"★\",INDIRECT($B$2&BA$2&$A43))","v":"★"},{"$f":"IF(INDIRECT($B$2&BB$2&$A43)=\"\",\"★\",INDIRECT($B$2&BB$2&$A43))","v":"★"},{"$f":"IF(INDIRECT($B$2&BC$2&$A43)=\"\",\"★\",INDIRECT($B$2&BC$2&$A43))","v":"★"},{"$f":"IF(INDIRECT($B$2&BD$2&$A43)=\"\",\"★\",INDIRECT($B$2&BD$2&$A43))","v":"★"},{"$f":"IF(INDIRECT($B$2&BE$2&$A43)=\"\",\"★\",INDIRECT($B$2&BE$2&$A43))","v":"★"},{"$f":"IF(INDIRECT($B$2&BF$2&$A43)=\"\",\"★\",INDIRECT($B$2&BF$2&$A43))","v":"★"},{"$f":"IF(INDIRECT($B$2&BG$2&$A43)=\"\",\"★\",INDIRECT($B$2&BG$2&$A43))","v":0},{"$f":"IF(INDIRECT($B$2&BH$2&$A43)=\"\",\"★\",INDIRECT($B$2&BH$2&$A43))","v":"★"},{"$f":"IF(INDIRECT($B$2&BI$2&$A43)=\"\",\"★\",INDIRECT($B$2&BI$2&$A43))","v":"★"},{"$f":"IF(INDIRECT($B$2&BJ$2&$A43)=\"\",\"★\",INDIRECT($B$2&BJ$2&$A43))","v":"★"},{"$f":"IF(INDIRECT($B$2&BK$2&$A43)=\"\",\"★\",INDIRECT($B$2&BK$2&$A43))","v":"★"},{"$f":"IF(INDIRECT($B$2&BL$2&$A43)=\"\",\"★\",INDIRECT($B$2&BL$2&$A43))","v":"★"},{"$f":"IF(INDIRECT($B$2&BM$2&$A43)=\"\",\"★\",INDIRECT($B$2&BM$2&$A43))","v":"★"},{"$f":"IF(INDIRECT($B$2&BN$2&$A43)=\"\",\"★\",INDIRECT($B$2&BN$2&$A43))","v":"★"},{"$f":"IF(INDIRECT($B$2&BO$2&$A43)=\"\",\"★\",INDIRECT($B$2&BO$2&$A43))","v":"★"},{"$f":"IF(INDIRECT($B$2&BP$2&$A43)=\"\",\"★\",INDIRECT($B$2&BP$2&$A43))","v":"★"},{"$f":"IF(INDIRECT($B$2&BQ$2&$A43)=\"\",\"★\",INDIRECT($B$2&BQ$2&$A43))","v":"★"},{"$f":"IF(INDIRECT($B$2&BR$2&$A43)=\"\",\"★\",INDIRECT($B$2&BR$2&$A43))","v":"★"},{"$f":"IF(INDIRECT($B$2&BS$2&$A43)=\"\",\"★\",INDIRECT($B$2&BS$2&$A43))","v":"★"},{"$f":"IF(INDIRECT($B$2&BT$2&$A43)=\"\",\"★\",INDIRECT($B$2&BT$2&$A43))","v":"★"},{"$f":"IF(INDIRECT($B$2&BU$2&$A43)=\"\",\"★\",INDIRECT($B$2&BU$2&$A43))","v":"★"},{"$f":"IF(INDIRECT($B$2&BV$2&$A43)=\"\",\"★\",INDIRECT($B$2&BV$2&$A43))","v":"★"},{"$f":"IF(INDIRECT($B$2&BW$2&$A43)=\"\",\"★\",INDIRECT($B$2&BW$2&$A43))","v":"★"},{"$f":"IF(INDIRECT($B$2&BX$2&$A43)=\"\",\"★\",INDIRECT($B$2&BX$2&$A43))","v":"★"},{"$f":"IF(INDIRECT($B$2&BY$2&$A43)=\"\",\"★\",INDIRECT($B$2&BY$2&$A43))","v":"★"}]
[70,null,null,null,null,null,null,null,null,null,null,null,null,34,{"$f":"IF(INDIRECT($B$2&$O$2&$A44)=\"\",\"★\",INDIRECT($B$2&$O$2&$A44))","v":"★"},{"$f":"IF(INDIRECT($B$2&$P$2&$A44)=\"\",\"★\",INDIRECT($B$2&$P$2&$A44))","v":0},{"$f":"IF(INDIRECT($B$2&$Q$2&$A44)=\"\",\"★\",INDIRECT($B$2&$Q$2&$A44))","v":0},{"$f":"IF(INDIRECT($B$2&$R$2&$A44)=\"\",\"★\",INDIRECT($B$2&$R$2&$A44))","v":0},{"$f":"IF(INDIRECT($B$2&$S$2&$A44)=\"\",\"★\",INDIRECT($B$2&$S$2&$A44))","v":"★"},{"$f":"IF(INDIRECT($B$2&$T$2&$A44)=\"\",\"★\",INDIRECT($B$2&$T$2&$A44))","v":"★"},{"$f":"IF(INDIRECT($B$2&$U$2&$A44)=\"\",\"★\",INDIRECT($B$2&$U$2&$A44))","v":"★"},{"$f":"IF(INDIRECT($B$2&$V$2&$A44)=\"\",\"★\",INDIRECT($B$2&$V$2&$A44))","v":"★"},{"$f":"IF(INDIRECT($B$2&$W$2&$A44)=\"\",\"★\",INDIRECT($B$2&$W$2&$A44))","v":"★"},{"$f":"IF(INDIRECT($B$2&$X$2&$A44)=\"\",\"★\",INDIRECT($B$2&$X$2&$A44))","v":"★"},{"$f":"IF(INDIRECT($B$2&$Y$2&$A44)=\"\",\"★\",INDIRECT($B$2&$Y$2&$A44))","v":"★"},{"$f":"IF(INDIRECT($B$2&$Z$2&$A44)=\"\",\"★\",INDIRECT($B$2&$Z$2&$A44))","v":"★"},{"$f":"IF(INDIRECT($B$2&$AA$2&$A44)=\"\",\"★\",INDIRECT($B$2&$AA$2&$A44))","v":"★"},{"$f":"IF(INDIRECT($B$2&$AB$2&$A44)=\"\",\"★\",INDIRECT($B$2&$AB$2&$A44))","v":"★"},{"$f":"IF(INDIRECT($B$2&AC$2&$A44)=\"\",\"★\",INDIRECT($B$2&AC$2&$A44))","v":"★"},{"$f":"IF(INDIRECT($B$2&AD$2&$A44)=\"\",\"★\",INDIRECT($B$2&AD$2&$A44))","v":"★"},{"$f":"IF(INDIRECT($B$2&AE$2&$A44)=\"\",\"★\",INDIRECT($B$2&AE$2&$A44))","v":"★"},{"$f":"IF(INDIRECT($B$2&AF$2&$A44)=\"\",\"★\",INDIRECT($B$2&AF$2&$A44))","v":"★"},{"$f":"IF(INDIRECT($B$2&AG$2&$A44)=\"\",\"★\",INDIRECT($B$2&AG$2&$A44))","v":"★"},{"$f":"IF(INDIRECT($B$2&AH$2&$A44)=\"\",\"★\",INDIRECT($B$2&AH$2&$A44))","v":"★"},{"$f":"IF(INDIRECT($B$2&AI$2&$A44)=\"\",\"★\",INDIRECT($B$2&AI$2&$A44))","v":"★"},{"$f":"IF(INDIRECT($B$2&AJ$2&$A44)=\"\",\"★\",INDIRECT($B$2&AJ$2&$A44))","v":"★"},{"$f":"IF(INDIRECT($B$2&AK$2&$A44)=\"\",\"★\",INDIRECT($B$2&AK$2&$A44))","v":"★"},{"$f":"IF(INDIRECT($B$2&AL$2&$A44)=\"\",\"★\",INDIRECT($B$2&AL$2&$A44))","v":"★"},{"$f":"IF(INDIRECT($B$2&AM$2&$A44)=\"\",\"★\",INDIRECT($B$2&AM$2&$A44))","v":"★"},{"$f":"IF(INDIRECT($B$2&AN$2&$A44)=\"\",\"★\",INDIRECT($B$2&AN$2&$A44))","v":"★"},{"$f":"IF(INDIRECT($B$2&AO$2&$A44)=\"\",\"★\",INDIRECT($B$2&AO$2&$A44))","v":"★"},{"$f":"IF(INDIRECT($B$2&AP$2&$A44)=\"\",\"★\",INDIRECT($B$2&AP$2&$A44))","v":"★"},{"$f":"IF(INDIRECT($B$2&AQ$2&$A44)=\"\",\"★\",INDIRECT($B$2&AQ$2&$A44))","v":"★"},{"$f":"IF(INDIRECT($B$2&AR$2&$A44)=\"\",\"★\",INDIRECT($B$2&AR$2&$A44))","v":0},{"$f":"IF(INDIRECT($B$2&AS$2&$A44)=\"\",\"★\",INDIRECT($B$2&AS$2&$A44))","v":"★"},{"$f":"IF(INDIRECT($B$2&AT$2&$A44)=\"\",\"★\",INDIRECT($B$2&AT$2&$A44))","v":"★"},{"$f":"IF(INDIRECT($B$2&AU$2&$A44)=\"\",\"★\",INDIRECT($B$2&AU$2&$A44))","v":"★"},{"$f":"IF(INDIRECT($B$2&AV$2&$A44)=\"\",\"★\",INDIRECT($B$2&AV$2&$A44))","v":"★"},{"$f":"IF(INDIRECT($B$2&AW$2&$A44)=\"\",\"★\",INDIRECT($B$2&AW$2&$A44))","v":"★"},{"$f":"IF(INDIRECT($B$2&AX$2&$A44)=\"\",\"★\",INDIRECT($B$2&AX$2&$A44))","v":"★"},{"$f":"IF(INDIRECT($B$2&AY$2&$A44)=\"\",\"★\",INDIRECT($B$2&AY$2&$A44))","v":"★"},{"$f":"IF(INDIRECT($B$2&AZ$2&$A44)=\"\",\"★\",INDIRECT($B$2&AZ$2&$A44))","v":"★"},{"$f":"IF(INDIRECT($B$2&BA$2&$A44)=\"\",\"★\",INDIRECT($B$2&BA$2&$A44))","v":"★"},{"$f":"IF(INDIRECT($B$2&BB$2&$A44)=\"\",\"★\",INDIRECT($B$2&BB$2&$A44))","v":"★"},{"$f":"IF(INDIRECT($B$2&BC$2&$A44)=\"\",\"★\",INDIRECT($B$2&BC$2&$A44))","v":"★"},{"$f":"IF(INDIRECT($B$2&BD$2&$A44)=\"\",\"★\",INDIRECT($B$2&BD$2&$A44))","v":"★"},{"$f":"IF(INDIRECT($B$2&BE$2&$A44)=\"\",\"★\",INDIRECT($B$2&BE$2&$A44))","v":"★"},{"$f":"IF(INDIRECT($B$2&BF$2&$A44)=\"\",\"★\",INDIRECT($B$2&BF$2&$A44))","v":"★"},{"$f":"IF(INDIRECT($B$2&BG$2&$A44)=\"\",\"★\",INDIRECT($B$2&BG$2&$A44))","v":0},{"$f":"IF(INDIRECT($B$2&BH$2&$A44)=\"\",\"★\",INDIRECT($B$2&BH$2&$A44))","v":"★"},{"$f":"IF(INDIRECT($B$2&BI$2&$A44)=\"\",\"★\",INDIRECT($B$2&BI$2&$A44))","v":"★"},{"$f":"IF(INDIRECT($B$2&BJ$2&$A44)=\"\",\"★\",INDIRECT($B$2&BJ$2&$A44))","v":"★"},{"$f":"IF(INDIRECT($B$2&BK$2&$A44)=\"\",\"★\",INDIRECT($B$2&BK$2&$A44))","v":"★"},{"$f":"IF(INDIRECT($B$2&BL$2&$A44)=\"\",\"★\",INDIRECT($B$2&BL$2&$A44))","v":"★"},{"$f":"IF(INDIRECT($B$2&BM$2&$A44)=\"\",\"★\",INDIRECT($B$2&BM$2&$A44))","v":"★"},{"$f":"IF(INDIRECT($B$2&BN$2&$A44)=\"\",\"★\",INDIRECT($B$2&BN$2&$A44))","v":"★"},{"$f":"IF(INDIRECT($B$2&BO$2&$A44)=\"\",\"★\",INDIRECT($B$2&BO$2&$A44))","v":"★"},{"$f":"IF(INDIRECT($B$2&BP$2&$A44)=\"\",\"★\",INDIRECT($B$2&BP$2&$A44))","v":"★"},{"$f":"IF(INDIRECT($B$2&BQ$2&$A44)=\"\",\"★\",INDIRECT($B$2&BQ$2&$A44))","v":"★"},{"$f":"IF(INDIRECT($B$2&BR$2&$A44)=\"\",\"★\",INDIRECT($B$2&BR$2&$A44))","v":"★"},{"$f":"IF(INDIRECT($B$2&BS$2&$A44)=\"\",\"★\",INDIRECT($B$2&BS$2&$A44))","v":"★"},{"$f":"IF(INDIRECT($B$2&BT$2&$A44)=\"\",\"★\",INDIRECT($B$2&BT$2&$A44))","v":"★"},{"$f":"IF(INDIRECT($B$2&BU$2&$A44)=\"\",\"★\",INDIRECT($B$2&BU$2&$A44))","v":"★"},{"$f":"IF(INDIRECT($B$2&BV$2&$A44)=\"\",\"★\",INDIRECT($B$2&BV$2&$A44))","v":"★"},{"$f":"IF(INDIRECT($B$2&BW$2&$A44)=\"\",\"★\",INDIRECT($B$2&BW$2&$A44))","v":"★"},{"$f":"IF(INDIRECT($B$2&BX$2&$A44)=\"\",\"★\",INDIRECT($B$2&BX$2&$A44))","v":"★"},{"$f":"IF(INDIRECT($B$2&BY$2&$A44)=\"\",\"★\",INDIRECT($B$2&BY$2&$A44))","v":"★"}]
[71,null,null,null,null,null,null,null,null,null,null,null,null,35,{"$f":"IF(INDIRECT($B$2&$O$2&$A45)=\"\",\"★\",INDIRECT($B$2&$O$2&$A45))","v":"★"},{"$f":"IF(INDIRECT($B$2&$P$2&$A45)=\"\",\"★\",INDIRECT($B$2&$P$2&$A45))","v":0},{"$f":"IF(INDIRECT($B$2&$Q$2&$A45)=\"\",\"★\",INDIRECT($B$2&$Q$2&$A45))","v":0},{"$f":"IF(INDIRECT($B$2&$R$2&$A45)=\"\",\"★\",INDIRECT($B$2&$R$2&$A45))","v":0},{"$f":"IF(INDIRECT($B$2&$S$2&$A45)=\"\",\"★\",INDIRECT($B$2&$S$2&$A45))","v":"★"},{"$f":"IF(INDIRECT($B$2&$T$2&$A45)=\"\",\"★\",INDIRECT($B$2&$T$2&$A45))","v":"★"},{"$f":"IF(INDIRECT($B$2&$U$2&$A45)=\"\",\"★\",INDIRECT($B$2&$U$2&$A45))","v":"★"},{"$f":"IF(INDIRECT($B$2&$V$2&$A45)=\"\",\"★\",INDIRECT($B$2&$V$2&$A45))","v":"★"},{"$f":"IF(INDIRECT($B$2&$W$2&$A45)=\"\",\"★\",INDIRECT($B$2&$W$2&$A45))","v":"★"},{"$f":"IF(INDIRECT($B$2&$X$2&$A45)=\"\",\"★\",INDIRECT($B$2&$X$2&$A45))","v":"★"},{"$f":"IF(INDIRECT($B$2&$Y$2&$A45)=\"\",\"★\",INDIRECT($B$2&$Y$2&$A45))","v":"★"},{"$f":"IF(INDIRECT($B$2&$Z$2&$A45)=\"\",\"★\",INDIRECT($B$2&$Z$2&$A45))","v":"★"},{"$f":"IF(INDIRECT($B$2&$AA$2&$A45)=\"\",\"★\",INDIRECT($B$2&$AA$2&$A45))","v":"★"},{"$f":"IF(INDIRECT($B$2&$AB$2&$A45)=\"\",\"★\",INDIRECT($B$2&$AB$2&$A45))","v":"★"},{"$f":"IF(INDIRECT($B$2&AC$2&$A45)=\"\",\"★\",INDIRECT($B$2&AC$2&$A45))","v":"★"},{"$f":"IF(INDIRECT($B$2&AD$2&$A45)=\"\",\"★\",INDIRECT($B$2&AD$2&$A45))","v":"★"},{"$f":"IF(INDIRECT($B$2&AE$2&$A45)=\"\",\"★\",INDIRECT($B$2&AE$2&$A45))","v":"★"},{"$f":"IF(INDIRECT($B$2&AF$2&$A45)=\"\",\"★\",INDIRECT($B$2&AF$2&$A45))","v":"★"},{"$f":"IF(INDIRECT($B$2&AG$2&$A45)=\"\",\"★\",INDIRECT($B$2&AG$2&$A45))","v":"★"},{"$f":"IF(INDIRECT($B$2&AH$2&$A45)=\"\",\"★\",INDIRECT($B$2&AH$2&$A45))","v":"★"},{"$f":"IF(INDIRECT($B$2&AI$2&$A45)=\"\",\"★\",INDIRECT($B$2&AI$2&$A45))","v":"★"},{"$f":"IF(INDIRECT($B$2&AJ$2&$A45)=\"\",\"★\",INDIRECT($B$2&AJ$2&$A45))","v":"★"},{"$f":"IF(INDIRECT($B$2&AK$2&$A45)=\"\",\"★\",INDIRECT($B$2&AK$2&$A45))","v":"★"},{"$f":"IF(INDIRECT($B$2&AL$2&$A45)=\"\",\"★\",INDIRECT($B$2&AL$2&$A45))","v":"★"},{"$f":"IF(INDIRECT($B$2&AM$2&$A45)=\"\",\"★\",INDIRECT($B$2&AM$2&$A45))","v":"★"},{"$f":"IF(INDIRECT($B$2&AN$2&$A45)=\"\",\"★\",INDIRECT($B$2&AN$2&$A45))","v":"★"},{"$f":"IF(INDIRECT($B$2&AO$2&$A45)=\"\",\"★\",INDIRECT($B$2&AO$2&$A45))","v":"★"},{"$f":"IF(INDIRECT($B$2&AP$2&$A45)=\"\",\"★\",INDIRECT($B$2&AP$2&$A45))","v":"★"},{"$f":"IF(INDIRECT($B$2&AQ$2&$A45)=\"\",\"★\",INDIRECT($B$2&AQ$2&$A45))","v":"★"},{"$f":"IF(INDIRECT($B$2&AR$2&$A45)=\"\",\"★\",INDIRECT($B$2&AR$2&$A45))","v":0},{"$f":"IF(INDIRECT($B$2&AS$2&$A45)=\"\",\"★\",INDIRECT($B$2&AS$2&$A45))","v":"★"},{"$f":"IF(INDIRECT($B$2&AT$2&$A45)=\"\",\"★\",INDIRECT($B$2&AT$2&$A45))","v":"★"},{"$f":"IF(INDIRECT($B$2&AU$2&$A45)=\"\",\"★\",INDIRECT($B$2&AU$2&$A45))","v":"★"},{"$f":"IF(INDIRECT($B$2&AV$2&$A45)=\"\",\"★\",INDIRECT($B$2&AV$2&$A45))","v":"★"},{"$f":"IF(INDIRECT($B$2&AW$2&$A45)=\"\",\"★\",INDIRECT($B$2&AW$2&$A45))","v":"★"},{"$f":"IF(INDIRECT($B$2&AX$2&$A45)=\"\",\"★\",INDIRECT($B$2&AX$2&$A45))","v":"★"},{"$f":"IF(INDIRECT($B$2&AY$2&$A45)=\"\",\"★\",INDIRECT($B$2&AY$2&$A45))","v":"★"},{"$f":"IF(INDIRECT($B$2&AZ$2&$A45)=\"\",\"★\",INDIRECT($B$2&AZ$2&$A45))","v":"★"},{"$f":"IF(INDIRECT($B$2&BA$2&$A45)=\"\",\"★\",INDIRECT($B$2&BA$2&$A45))","v":"★"},{"$f":"IF(INDIRECT($B$2&BB$2&$A45)=\"\",\"★\",INDIRECT($B$2&BB$2&$A45))","v":"★"},{"$f":"IF(INDIRECT($B$2&BC$2&$A45)=\"\",\"★\",INDIRECT($B$2&BC$2&$A45))","v":"★"},{"$f":"IF(INDIRECT($B$2&BD$2&$A45)=\"\",\"★\",INDIRECT($B$2&BD$2&$A45))","v":"★"},{"$f":"IF(INDIRECT($B$2&BE$2&$A45)=\"\",\"★\",INDIRECT($B$2&BE$2&$A45))","v":"★"},{"$f":"IF(INDIRECT($B$2&BF$2&$A45)=\"\",\"★\",INDIRECT($B$2&BF$2&$A45))","v":"★"},{"$f":"IF(INDIRECT($B$2&BG$2&$A45)=\"\",\"★\",INDIRECT($B$2&BG$2&$A45))","v":0},{"$f":"IF(INDIRECT($B$2&BH$2&$A45)=\"\",\"★\",INDIRECT($B$2&BH$2&$A45))","v":"★"},{"$f":"IF(INDIRECT($B$2&BI$2&$A45)=\"\",\"★\",INDIRECT($B$2&BI$2&$A45))","v":"★"},{"$f":"IF(INDIRECT($B$2&BJ$2&$A45)=\"\",\"★\",INDIRECT($B$2&BJ$2&$A45))","v":"★"},{"$f":"IF(INDIRECT($B$2&BK$2&$A45)=\"\",\"★\",INDIRECT($B$2&BK$2&$A45))","v":"★"},{"$f":"IF(INDIRECT($B$2&BL$2&$A45)=\"\",\"★\",INDIRECT($B$2&BL$2&$A45))","v":"★"},{"$f":"IF(INDIRECT($B$2&BM$2&$A45)=\"\",\"★\",INDIRECT($B$2&BM$2&$A45))","v":"★"},{"$f":"IF(INDIRECT($B$2&BN$2&$A45)=\"\",\"★\",INDIRECT($B$2&BN$2&$A45))","v":"★"},{"$f":"IF(INDIRECT($B$2&BO$2&$A45)=\"\",\"★\",INDIRECT($B$2&BO$2&$A45))","v":"★"},{"$f":"IF(INDIRECT($B$2&BP$2&$A45)=\"\",\"★\",INDIRECT($B$2&BP$2&$A45))","v":"★"},{"$f":"IF(INDIRECT($B$2&BQ$2&$A45)=\"\",\"★\",INDIRECT($B$2&BQ$2&$A45))","v":"★"},{"$f":"IF(INDIRECT($B$2&BR$2&$A45)=\"\",\"★\",INDIRECT($B$2&BR$2&$A45))","v":"★"},{"$f":"IF(INDIRECT($B$2&BS$2&$A45)=\"\",\"★\",INDIRECT($B$2&BS$2&$A45))","v":"★"},{"$f":"IF(INDIRECT($B$2&BT$2&$A45)=\"\",\"★\",INDIRECT($B$2&BT$2&$A45))","v":"★"},{"$f":"IF(INDIRECT($B$2&BU$2&$A45)=\"\",\"★\",INDIRECT($B$2&BU$2&$A45))","v":"★"},{"$f":"IF(INDIRECT($B$2&BV$2&$A45)=\"\",\"★\",INDIRECT($B$2&BV$2&$A45))","v":"★"},{"$f":"IF(INDIRECT($B$2&BW$2&$A45)=\"\",\"★\",INDIRECT($B$2&BW$2&$A45))","v":"★"},{"$f":"IF(INDIRECT($B$2&BX$2&$A45)=\"\",\"★\",INDIRECT($B$2&BX$2&$A45))","v":"★"},{"$f":"IF(INDIRECT($B$2&BY$2&$A45)=\"\",\"★\",INDIRECT($B$2&BY$2&$A45))","v":"★"}]
[72,null,null,null,null,null,null,null,null,null,null,null,null,36,{"$f":"IF(INDIRECT($B$2&$O$2&$A46)=\"\",\"★\",INDIRECT($B$2&$O$2&$A46))","v":"★"},{"$f":"IF(INDIRECT($B$2&$P$2&$A46)=\"\",\"★\",INDIRECT($B$2&$P$2&$A46))","v":0},{"$f":"IF(INDIRECT($B$2&$Q$2&$A46)=\"\",\"★\",INDIRECT($B$2&$Q$2&$A46))","v":0},{"$f":"IF(INDIRECT($B$2&$R$2&$A46)=\"\",\"★\",INDIRECT($B$2&$R$2&$A46))","v":0},{"$f":"IF(INDIRECT($B$2&$S$2&$A46)=\"\",\"★\",INDIRECT($B$2&$S$2&$A46))","v":"★"},{"$f":"IF(INDIRECT($B$2&$T$2&$A46)=\"\",\"★\",INDIRECT($B$2&$T$2&$A46))","v":"★"},{"$f":"IF(INDIRECT($B$2&$U$2&$A46)=\"\",\"★\",INDIRECT($B$2&$U$2&$A46))","v":"★"},{"$f":"IF(INDIRECT($B$2&$V$2&$A46)=\"\",\"★\",INDIRECT($B$2&$V$2&$A46))","v":"★"},{"$f":"IF(INDIRECT($B$2&$W$2&$A46)=\"\",\"★\",INDIRECT($B$2&$W$2&$A46))","v":"★"},{"$f":"IF(INDIRECT($B$2&$X$2&$A46)=\"\",\"★\",INDIRECT($B$2&$X$2&$A46))","v":"★"},{"$f":"IF(INDIRECT($B$2&$Y$2&$A46)=\"\",\"★\",INDIRECT($B$2&$Y$2&$A46))","v":"★"},{"$f":"IF(INDIRECT($B$2&$Z$2&$A46)=\"\",\"★\",INDIRECT($B$2&$Z$2&$A46))","v":"★"},{"$f":"IF(INDIRECT($B$2&$AA$2&$A46)=\"\",\"★\",INDIRECT($B$2&$AA$2&$A46))","v":"★"},{"$f":"IF(INDIRECT($B$2&$AB$2&$A46)=\"\",\"★\",INDIRECT($B$2&$AB$2&$A46))","v":"★"},{"$f":"IF(INDIRECT($B$2&AC$2&$A46)=\"\",\"★\",INDIRECT($B$2&AC$2&$A46))","v":"★"},{"$f":"IF(INDIRECT($B$2&AD$2&$A46)=\"\",\"★\",INDIRECT($B$2&AD$2&$A46))","v":"★"},{"$f":"IF(INDIRECT($B$2&AE$2&$A46)=\"\",\"★\",INDIRECT($B$2&AE$2&$A46))","v":"★"},{"$f":"IF(INDIRECT($B$2&AF$2&$A46)=\"\",\"★\",INDIRECT($B$2&AF$2&$A46))","v":"★"},{"$f":"IF(INDIRECT($B$2&AG$2&$A46)=\"\",\"★\",INDIRECT($B$2&AG$2&$A46))","v":"★"},{"$f":"IF(INDIRECT($B$2&AH$2&$A46)=\"\",\"★\",INDIRECT($B$2&AH$2&$A46))","v":"★"},{"$f":"IF(INDIRECT($B$2&AI$2&$A46)=\"\",\"★\",INDIRECT($B$2&AI$2&$A46))","v":"★"},{"$f":"IF(INDIRECT($B$2&AJ$2&$A46)=\"\",\"★\",INDIRECT($B$2&AJ$2&$A46))","v":"★"},{"$f":"IF(INDIRECT($B$2&AK$2&$A46)=\"\",\"★\",INDIRECT($B$2&AK$2&$A46))","v":"★"},{"$f":"IF(INDIRECT($B$2&AL$2&$A46)=\"\",\"★\",INDIRECT($B$2&AL$2&$A46))","v":"★"},{"$f":"IF(INDIRECT($B$2&AM$2&$A46)=\"\",\"★\",INDIRECT($B$2&AM$2&$A46))","v":"★"},{"$f":"IF(INDIRECT($B$2&AN$2&$A46)=\"\",\"★\",INDIRECT($B$2&AN$2&$A46))","v":"★"},{"$f":"IF(INDIRECT($B$2&AO$2&$A46)=\"\",\"★\",INDIRECT($B$2&AO$2&$A46))","v":"★"},{"$f":"IF(INDIRECT($B$2&AP$2&$A46)=\"\",\"★\",INDIRECT($B$2&AP$2&$A46))","v":"★"},{"$f":"IF(INDIRECT($B$2&AQ$2&$A46)=\"\",\"★\",INDIRECT($B$2&AQ$2&$A46))","v":"★"},{"$f":"IF(INDIRECT($B$2&AR$2&$A46)=\"\",\"★\",INDIRECT($B$2&AR$2&$A46))","v":0},{"$f":"IF(INDIRECT($B$2&AS$2&$A46)=\"\",\"★\",INDIRECT($B$2&AS$2&$A46))","v":"★"},{"$f":"IF(INDIRECT($B$2&AT$2&$A46)=\"\",\"★\",INDIRECT($B$2&AT$2&$A46))","v":"★"},{"$f":"IF(INDIRECT($B$2&AU$2&$A46)=\"\",\"★\",INDIRECT($B$2&AU$2&$A46))","v":"★"},{"$f":"IF(INDIRECT($B$2&AV$2&$A46)=\"\",\"★\",INDIRECT($B$2&AV$2&$A46))","v":"★"},{"$f":"IF(INDIRECT($B$2&AW$2&$A46)=\"\",\"★\",INDIRECT($B$2&AW$2&$A46))","v":"★"},{"$f":"IF(INDIRECT($B$2&AX$2&$A46)=\"\",\"★\",INDIRECT($B$2&AX$2&$A46))","v":"★"},{"$f":"IF(INDIRECT($B$2&AY$2&$A46)=\"\",\"★\",INDIRECT($B$2&AY$2&$A46))","v":"★"},{"$f":"IF(INDIRECT($B$2&AZ$2&$A46)=\"\",\"★\",INDIRECT($B$2&AZ$2&$A46))","v":"★"},{"$f":"IF(INDIRECT($B$2&BA$2&$A46)=\"\",\"★\",INDIRECT($B$2&BA$2&$A46))","v":"★"},{"$f":"IF(INDIRECT($B$2&BB$2&$A46)=\"\",\"★\",INDIRECT($B$2&BB$2&$A46))","v":"★"},{"$f":"IF(INDIRECT($B$2&BC$2&$A46)=\"\",\"★\",INDIRECT($B$2&BC$2&$A46))","v":"★"},{"$f":"IF(INDIRECT($B$2&BD$2&$A46)=\"\",\"★\",INDIRECT($B$2&BD$2&$A46))","v":"★"},{"$f":"IF(INDIRECT($B$2&BE$2&$A46)=\"\",\"★\",INDIRECT($B$2&BE$2&$A46))","v":"★"},{"$f":"IF(INDIRECT($B$2&BF$2&$A46)=\"\",\"★\",INDIRECT($B$2&BF$2&$A46))","v":"★"},{"$f":"IF(INDIRECT($B$2&BG$2&$A46)=\"\",\"★\",INDIRECT($B$2&BG$2&$A46))","v":0},{"$f":"IF(INDIRECT($B$2&BH$2&$A46)=\"\",\"★\",INDIRECT($B$2&BH$2&$A46))","v":"★"},{"$f":"IF(INDIRECT($B$2&BI$2&$A46)=\"\",\"★\",INDIRECT($B$2&BI$2&$A46))","v":"★"},{"$f":"IF(INDIRECT($B$2&BJ$2&$A46)=\"\",\"★\",INDIRECT($B$2&BJ$2&$A46))","v":"★"},{"$f":"IF(INDIRECT($B$2&BK$2&$A46)=\"\",\"★\",INDIRECT($B$2&BK$2&$A46))","v":"★"},{"$f":"IF(INDIRECT($B$2&BL$2&$A46)=\"\",\"★\",INDIRECT($B$2&BL$2&$A46))","v":"★"},{"$f":"IF(INDIRECT($B$2&BM$2&$A46)=\"\",\"★\",INDIRECT($B$2&BM$2&$A46))","v":"★"},{"$f":"IF(INDIRECT($B$2&BN$2&$A46)=\"\",\"★\",INDIRECT($B$2&BN$2&$A46))","v":"★"},{"$f":"IF(INDIRECT($B$2&BO$2&$A46)=\"\",\"★\",INDIRECT($B$2&BO$2&$A46))","v":"★"},{"$f":"IF(INDIRECT($B$2&BP$2&$A46)=\"\",\"★\",INDIRECT($B$2&BP$2&$A46))","v":"★"},{"$f":"IF(INDIRECT($B$2&BQ$2&$A46)=\"\",\"★\",INDIRECT($B$2&BQ$2&$A46))","v":"★"},{"$f":"IF(INDIRECT($B$2&BR$2&$A46)=\"\",\"★\",INDIRECT($B$2&BR$2&$A46))","v":"★"},{"$f":"IF(INDIRECT($B$2&BS$2&$A46)=\"\",\"★\",INDIRECT($B$2&BS$2&$A46))","v":"★"},{"$f":"IF(INDIRECT($B$2&BT$2&$A46)=\"\",\"★\",INDIRECT($B$2&BT$2&$A46))","v":"★"},{"$f":"IF(INDIRECT($B$2&BU$2&$A46)=\"\",\"★\",INDIRECT($B$2&BU$2&$A46))","v":"★"},{"$f":"IF(INDIRECT($B$2&BV$2&$A46)=\"\",\"★\",INDIRECT($B$2&BV$2&$A46))","v":"★"},{"$f":"IF(INDIRECT($B$2&BW$2&$A46)=\"\",\"★\",INDIRECT($B$2&BW$2&$A46))","v":"★"},{"$f":"IF(INDIRECT($B$2&BX$2&$A46)=\"\",\"★\",INDIRECT($B$2&BX$2&$A46))","v":"★"},{"$f":"IF(INDIRECT($B$2&BY$2&$A46)=\"\",\"★\",INDIRECT($B$2&BY$2&$A46))","v":"★"}]
[73,null,null,null,null,null,null,null,null,null,null,null,null,37,{"$f":"IF(INDIRECT($B$2&$O$2&$A47)=\"\",\"★\",INDIRECT($B$2&$O$2&$A47))","v":"★"},{"$f":"IF(INDIRECT($B$2&$P$2&$A47)=\"\",\"★\",INDIRECT($B$2&$P$2&$A47))","v":0},{"$f":"IF(INDIRECT($B$2&$Q$2&$A47)=\"\",\"★\",INDIRECT($B$2&$Q$2&$A47))","v":0},{"$f":"IF(INDIRECT($B$2&$R$2&$A47)=\"\",\"★\",INDIRECT($B$2&$R$2&$A47))","v":0},{"$f":"IF(INDIRECT($B$2&$S$2&$A47)=\"\",\"★\",INDIRECT($B$2&$S$2&$A47))","v":"★"},{"$f":"IF(INDIRECT($B$2&$T$2&$A47)=\"\",\"★\",INDIRECT($B$2&$T$2&$A47))","v":"★"},{"$f":"IF(INDIRECT($B$2&$U$2&$A47)=\"\",\"★\",INDIRECT($B$2&$U$2&$A47))","v":"★"},{"$f":"IF(INDIRECT($B$2&$V$2&$A47)=\"\",\"★\",INDIRECT($B$2&$V$2&$A47))","v":"★"},{"$f":"IF(INDIRECT($B$2&$W$2&$A47)=\"\",\"★\",INDIRECT($B$2&$W$2&$A47))","v":"★"},{"$f":"IF(INDIRECT($B$2&$X$2&$A47)=\"\",\"★\",INDIRECT($B$2&$X$2&$A47))","v":"★"},{"$f":"IF(INDIRECT($B$2&$Y$2&$A47)=\"\",\"★\",INDIRECT($B$2&$Y$2&$A47))","v":"★"},{"$f":"IF(INDIRECT($B$2&$Z$2&$A47)=\"\",\"★\",INDIRECT($B$2&$Z$2&$A47))","v":"★"},{"$f":"IF(INDIRECT($B$2&$AA$2&$A47)=\"\",\"★\",INDIRECT($B$2&$AA$2&$A47))","v":"★"},{"$f":"IF(INDIRECT($B$2&$AB$2&$A47)=\"\",\"★\",INDIRECT($B$2&$AB$2&$A47))","v":"★"},{"$f":"IF(INDIRECT($B$2&AC$2&$A47)=\"\",\"★\",INDIRECT($B$2&AC$2&$A47))","v":"★"},{"$f":"IF(INDIRECT($B$2&AD$2&$A47)=\"\",\"★\",INDIRECT($B$2&AD$2&$A47))","v":"★"},{"$f":"IF(INDIRECT($B$2&AE$2&$A47)=\"\",\"★\",INDIRECT($B$2&AE$2&$A47))","v":"★"},{"$f":"IF(INDIRECT($B$2&AF$2&$A47)=\"\",\"★\",INDIRECT($B$2&AF$2&$A47))","v":"★"},{"$f":"IF(INDIRECT($B$2&AG$2&$A47)=\"\",\"★\",INDIRECT($B$2&AG$2&$A47))","v":"★"},{"$f":"IF(INDIRECT($B$2&AH$2&$A47)=\"\",\"★\",INDIRECT($B$2&AH$2&$A47))","v":"★"},{"$f":"IF(INDIRECT($B$2&AI$2&$A47)=\"\",\"★\",INDIRECT($B$2&AI$2&$A47))","v":"★"},{"$f":"IF(INDIRECT($B$2&AJ$2&$A47)=\"\",\"★\",INDIRECT($B$2&AJ$2&$A47))","v":"★"},{"$f":"IF(INDIRECT($B$2&AK$2&$A47)=\"\",\"★\",INDIRECT($B$2&AK$2&$A47))","v":"★"},{"$f":"IF(INDIRECT($B$2&AL$2&$A47)=\"\",\"★\",INDIRECT($B$2&AL$2&$A47))","v":"★"},{"$f":"IF(INDIRECT($B$2&AM$2&$A47)=\"\",\"★\",INDIRECT($B$2&AM$2&$A47))","v":"★"},{"$f":"IF(INDIRECT($B$2&AN$2&$A47)=\"\",\"★\",INDIRECT($B$2&AN$2&$A47))","v":"★"},{"$f":"IF(INDIRECT($B$2&AO$2&$A47)=\"\",\"★\",INDIRECT($B$2&AO$2&$A47))","v":"★"},{"$f":"IF(INDIRECT($B$2&AP$2&$A47)=\"\",\"★\",INDIRECT($B$2&AP$2&$A47))","v":"★"},{"$f":"IF(INDIRECT($B$2&AQ$2&$A47)=\"\",\"★\",INDIRECT($B$2&AQ$2&$A47))","v":"★"},{"$f":"IF(INDIRECT($B$2&AR$2&$A47)=\"\",\"★\",INDIRECT($B$2&AR$2&$A47))","v":0},{"$f":"IF(INDIRECT($B$2&AS$2&$A47)=\"\",\"★\",INDIRECT($B$2&AS$2&$A47))","v":"★"},{"$f":"IF(INDIRECT($B$2&AT$2&$A47)=\"\",\"★\",INDIRECT($B$2&AT$2&$A47))","v":"★"},{"$f":"IF(INDIRECT($B$2&AU$2&$A47)=\"\",\"★\",INDIRECT($B$2&AU$2&$A47))","v":"★"},{"$f":"IF(INDIRECT($B$2&AV$2&$A47)=\"\",\"★\",INDIRECT($B$2&AV$2&$A47))","v":"★"},{"$f":"IF(INDIRECT($B$2&AW$2&$A47)=\"\",\"★\",INDIRECT($B$2&AW$2&$A47))","v":"★"},{"$f":"IF(INDIRECT($B$2&AX$2&$A47)=\"\",\"★\",INDIRECT($B$2&AX$2&$A47))","v":"★"},{"$f":"IF(INDIRECT($B$2&AY$2&$A47)=\"\",\"★\",INDIRECT($B$2&AY$2&$A47))","v":"★"},{"$f":"IF(INDIRECT($B$2&AZ$2&$A47)=\"\",\"★\",INDIRECT($B$2&AZ$2&$A47))","v":"★"},{"$f":"IF(INDIRECT($B$2&BA$2&$A47)=\"\",\"★\",INDIRECT($B$2&BA$2&$A47))","v":"★"},{"$f":"IF(INDIRECT($B$2&BB$2&$A47)=\"\",\"★\",INDIRECT($B$2&BB$2&$A47))","v":"★"},{"$f":"IF(INDIRECT($B$2&BC$2&$A47)=\"\",\"★\",INDIRECT($B$2&BC$2&$A47))","v":"★"},{"$f":"IF(INDIRECT($B$2&BD$2&$A47)=\"\",\"★\",INDIRECT($B$2&BD$2&$A47))","v":"★"},{"$f":"IF(INDIRECT($B$2&BE$2&$A47)=\"\",\"★\",INDIRECT($B$2&BE$2&$A47))","v":"★"},{"$f":"IF(INDIRECT($B$2&BF$2&$A47)=\"\",\"★\",INDIRECT($B$2&BF$2&$A47))","v":"★"},{"$f":"IF(INDIRECT($B$2&BG$2&$A47)=\"\",\"★\",INDIRECT($B$2&BG$2&$A47))","v":0},{"$f":"IF(INDIRECT($B$2&BH$2&$A47)=\"\",\"★\",INDIRECT($B$2&BH$2&$A47))","v":"★"},{"$f":"IF(INDIRECT($B$2&BI$2&$A47)=\"\",\"★\",INDIRECT($B$2&BI$2&$A47))","v":"★"},{"$f":"IF(INDIRECT($B$2&BJ$2&$A47)=\"\",\"★\",INDIRECT($B$2&BJ$2&$A47))","v":"★"},{"$f":"IF(INDIRECT($B$2&BK$2&$A47)=\"\",\"★\",INDIRECT($B$2&BK$2&$A47))","v":"★"},{"$f":"IF(INDIRECT($B$2&BL$2&$A47)=\"\",\"★\",INDIRECT($B$2&BL$2&$A47))","v":"★"},{"$f":"IF(INDIRECT($B$2&BM$2&$A47)=\"\",\"★\",INDIRECT($B$2&BM$2&$A47))","v":"★"},{"$f":"IF(INDIRECT($B$2&BN$2&$A47)=\"\",\"★\",INDIRECT($B$2&BN$2&$A47))","v":"★"},{"$f":"IF(INDIRECT($B$2&BO$2&$A47)=\"\",\"★\",INDIRECT($B$2&BO$2&$A47))","v":"★"},{"$f":"IF(INDIRECT($B$2&BP$2&$A47)=\"\",\"★\",INDIRECT($B$2&BP$2&$A47))","v":"★"},{"$f":"IF(INDIRECT($B$2&BQ$2&$A47)=\"\",\"★\",INDIRECT($B$2&BQ$2&$A47))","v":"★"},{"$f":"IF(INDIRECT($B$2&BR$2&$A47)=\"\",\"★\",INDIRECT($B$2&BR$2&$A47))","v":"★"},{"$f":"IF(INDIRECT($B$2&BS$2&$A47)=\"\",\"★\",INDIRECT($B$2&BS$2&$A47))","v":"★"},{"$f":"IF(INDIRECT($B$2&BT$2&$A47)=\"\",\"★\",INDIRECT($B$2&BT$2&$A47))","v":"★"},{"$f":"IF(INDIRECT($B$2&BU$2&$A47)=\"\",\"★\",INDIRECT($B$2&BU$2&$A47))","v":"★"},{"$f":"IF(INDIRECT($B$2&BV$2&$A47)=\"\",\"★\",INDIRECT($B$2&BV$2&$A47))","v":"★"},{"$f":"IF(INDIRECT($B$2&BW$2&$A47)=\"\",\"★\",INDIRECT($B$2&BW$2&$A47))","v":"★"},{"$f":"IF(INDIRECT($B$2&BX$2&$A47)=\"\",\"★\",INDIRECT($B$2&BX$2&$A47))","v":"★"},{"$f":"IF(INDIRECT($B$2&BY$2&$A47)=\"\",\"★\",INDIRECT($B$2&BY$2&$A47))","v":"★"}]
[74,null,null,null,null,null,null,null,null,null,null,null,null,38,{"$f":"IF(INDIRECT($B$2&$O$2&$A48)=\"\",\"★\",INDIRECT($B$2&$O$2&$A48))","v":"★"},{"$f":"IF(INDIRECT($B$2&$P$2&$A48)=\"\",\"★\",INDIRECT($B$2&$P$2&$A48))","v":0},{"$f":"IF(INDIRECT($B$2&$Q$2&$A48)=\"\",\"★\",INDIRECT($B$2&$Q$2&$A48))","v":0},{"$f":"IF(INDIRECT($B$2&$R$2&$A48)=\"\",\"★\",INDIRECT($B$2&$R$2&$A48))","v":0},{"$f":"IF(INDIRECT($B$2&$S$2&$A48)=\"\",\"★\",INDIRECT($B$2&$S$2&$A48))","v":"★"},{"$f":"IF(INDIRECT($B$2&$T$2&$A48)=\"\",\"★\",INDIRECT($B$2&$T$2&$A48))","v":"★"},{"$f":"IF(INDIRECT($B$2&$U$2&$A48)=\"\",\"★\",INDIRECT($B$2&$U$2&$A48))","v":"★"},{"$f":"IF(INDIRECT($B$2&$V$2&$A48)=\"\",\"★\",INDIRECT($B$2&$V$2&$A48))","v":"★"},{"$f":"IF(INDIRECT($B$2&$W$2&$A48)=\"\",\"★\",INDIRECT($B$2&$W$2&$A48))","v":"★"},{"$f":"IF(INDIRECT($B$2&$X$2&$A48)=\"\",\"★\",INDIRECT($B$2&$X$2&$A48))","v":"★"},{"$f":"IF(INDIRECT($B$2&$Y$2&$A48)=\"\",\"★\",INDIRECT($B$2&$Y$2&$A48))","v":"★"},{"$f":"IF(INDIRECT($B$2&$Z$2&$A48)=\"\",\"★\",INDIRECT($B$2&$Z$2&$A48))","v":"★"},{"$f":"IF(INDIRECT($B$2&$AA$2&$A48)=\"\",\"★\",INDIRECT($B$2&$AA$2&$A48))","v":"★"},{"$f":"IF(INDIRECT($B$2&$AB$2&$A48)=\"\",\"★\",INDIRECT($B$2&$AB$2&$A48))","v":"★"},{"$f":"IF(INDIRECT($B$2&AC$2&$A48)=\"\",\"★\",INDIRECT($B$2&AC$2&$A48))","v":"★"},{"$f":"IF(INDIRECT($B$2&AD$2&$A48)=\"\",\"★\",INDIRECT($B$2&AD$2&$A48))","v":"★"},{"$f":"IF(INDIRECT($B$2&AE$2&$A48)=\"\",\"★\",INDIRECT($B$2&AE$2&$A48))","v":"★"},{"$f":"IF(INDIRECT($B$2&AF$2&$A48)=\"\",\"★\",INDIRECT($B$2&AF$2&$A48))","v":"★"},{"$f":"IF(INDIRECT($B$2&AG$2&$A48)=\"\",\"★\",INDIRECT($B$2&AG$2&$A48))","v":"★"},{"$f":"IF(INDIRECT($B$2&AH$2&$A48)=\"\",\"★\",INDIRECT($B$2&AH$2&$A48))","v":"★"},{"$f":"IF(INDIRECT($B$2&AI$2&$A48)=\"\",\"★\",INDIRECT($B$2&AI$2&$A48))","v":"★"},{"$f":"IF(INDIRECT($B$2&AJ$2&$A48)=\"\",\"★\",INDIRECT($B$2&AJ$2&$A48))","v":"★"},{"$f":"IF(INDIRECT($B$2&AK$2&$A48)=\"\",\"★\",INDIRECT($B$2&AK$2&$A48))","v":"★"},{"$f":"IF(INDIRECT($B$2&AL$2&$A48)=\"\",\"★\",INDIRECT($B$2&AL$2&$A48))","v":"★"},{"$f":"IF(INDIRECT($B$2&AM$2&$A48)=\"\",\"★\",INDIRECT($B$2&AM$2&$A48))","v":"★"},{"$f":"IF(INDIRECT($B$2&AN$2&$A48)=\"\",\"★\",INDIRECT($B$2&AN$2&$A48))","v":"★"},{"$f":"IF(INDIRECT($B$2&AO$2&$A48)=\"\",\"★\",INDIRECT($B$2&AO$2&$A48))","v":"★"},{"$f":"IF(INDIRECT($B$2&AP$2&$A48)=\"\",\"★\",INDIRECT($B$2&AP$2&$A48))","v":"★"},{"$f":"IF(INDIRECT($B$2&AQ$2&$A48)=\"\",\"★\",INDIRECT($B$2&AQ$2&$A48))","v":"★"},{"$f":"IF(INDIRECT($B$2&AR$2&$A48)=\"\",\"★\",INDIRECT($B$2&AR$2&$A48))","v":0},{"$f":"IF(INDIRECT($B$2&AS$2&$A48)=\"\",\"★\",INDIRECT($B$2&AS$2&$A48))","v":"★"},{"$f":"IF(INDIRECT($B$2&AT$2&$A48)=\"\",\"★\",INDIRECT($B$2&AT$2&$A48))","v":"★"},{"$f":"IF(INDIRECT($B$2&AU$2&$A48)=\"\",\"★\",INDIRECT($B$2&AU$2&$A48))","v":"★"},{"$f":"IF(INDIRECT($B$2&AV$2&$A48)=\"\",\"★\",INDIRECT($B$2&AV$2&$A48))","v":"★"},{"$f":"IF(INDIRECT($B$2&AW$2&$A48)=\"\",\"★\",INDIRECT($B$2&AW$2&$A48))","v":"★"},{"$f":"IF(INDIRECT($B$2&AX$2&$A48)=\"\",\"★\",INDIRECT($B$2&AX$2&$A48))","v":"★"},{"$f":"IF(INDIRECT($B$2&AY$2&$A48)=\"\",\"★\",INDIRECT($B$2&AY$2&$A48))","v":"★"},{"$f":"IF(INDIRECT($B$2&AZ$2&$A48)=\"\",\"★\",INDIRECT($B$2&AZ$2&$A48))","v":"★"},{"$f":"IF(INDIRECT($B$2&BA$2&$A48)=\"\",\"★\",INDIRECT($B$2&BA$2&$A48))","v":"★"},{"$f":"IF(INDIRECT($B$2&BB$2&$A48)=\"\",\"★\",INDIRECT($B$2&BB$2&$A48))","v":"★"},{"$f":"IF(INDIRECT($B$2&BC$2&$A48)=\"\",\"★\",INDIRECT($B$2&BC$2&$A48))","v":"★"},{"$f":"IF(INDIRECT($B$2&BD$2&$A48)=\"\",\"★\",INDIRECT($B$2&BD$2&$A48))","v":"★"},{"$f":"IF(INDIRECT($B$2&BE$2&$A48)=\"\",\"★\",INDIRECT($B$2&BE$2&$A48))","v":"★"},{"$f":"IF(INDIRECT($B$2&BF$2&$A48)=\"\",\"★\",INDIRECT($B$2&BF$2&$A48))","v":"★"},{"$f":"IF(INDIRECT($B$2&BG$2&$A48)=\"\",\"★\",INDIRECT($B$2&BG$2&$A48))","v":0},{"$f":"IF(INDIRECT($B$2&BH$2&$A48)=\"\",\"★\",INDIRECT($B$2&BH$2&$A48))","v":"★"},{"$f":"IF(INDIRECT($B$2&BI$2&$A48)=\"\",\"★\",INDIRECT($B$2&BI$2&$A48))","v":"★"},{"$f":"IF(INDIRECT($B$2&BJ$2&$A48)=\"\",\"★\",INDIRECT($B$2&BJ$2&$A48))","v":"★"},{"$f":"IF(INDIRECT($B$2&BK$2&$A48)=\"\",\"★\",INDIRECT($B$2&BK$2&$A48))","v":"★"},{"$f":"IF(INDIRECT($B$2&BL$2&$A48)=\"\",\"★\",INDIRECT($B$2&BL$2&$A48))","v":"★"},{"$f":"IF(INDIRECT($B$2&BM$2&$A48)=\"\",\"★\",INDIRECT($B$2&BM$2&$A48))","v":"★"},{"$f":"IF(INDIRECT($B$2&BN$2&$A48)=\"\",\"★\",INDIRECT($B$2&BN$2&$A48))","v":"★"},{"$f":"IF(INDIRECT($B$2&BO$2&$A48)=\"\",\"★\",INDIRECT($B$2&BO$2&$A48))","v":"★"},{"$f":"IF(INDIRECT($B$2&BP$2&$A48)=\"\",\"★\",INDIRECT($B$2&BP$2&$A48))","v":"★"},{"$f":"IF(INDIRECT($B$2&BQ$2&$A48)=\"\",\"★\",INDIRECT($B$2&BQ$2&$A48))","v":"★"},{"$f":"IF(INDIRECT($B$2&BR$2&$A48)=\"\",\"★\",INDIRECT($B$2&BR$2&$A48))","v":"★"},{"$f":"IF(INDIRECT($B$2&BS$2&$A48)=\"\",\"★\",INDIRECT($B$2&BS$2&$A48))","v":"★"},{"$f":"IF(INDIRECT($B$2&BT$2&$A48)=\"\",\"★\",INDIRECT($B$2&BT$2&$A48))","v":"★"},{"$f":"IF(INDIRECT($B$2&BU$2&$A48)=\"\",\"★\",INDIRECT($B$2&BU$2&$A48))","v":"★"},{"$f":"IF(INDIRECT($B$2&BV$2&$A48)=\"\",\"★\",INDIRECT($B$2&BV$2&$A48))","v":"★"},{"$f":"IF(INDIRECT($B$2&BW$2&$A48)=\"\",\"★\",INDIRECT($B$2&BW$2&$A48))","v":"★"},{"$f":"IF(INDIRECT($B$2&BX$2&$A48)=\"\",\"★\",INDIRECT($B$2&BX$2&$A48))","v":"★"},{"$f":"IF(INDIRECT($B$2&BY$2&$A48)=\"\",\"★\",INDIRECT($B$2&BY$2&$A48))","v":"★"}]
[75,null,null,null,null,null,null,null,null,null,null,null,null,39,{"$f":"IF(INDIRECT($B$2&$O$2&$A49)=\"\",\"★\",INDIRECT($B$2&$O$2&$A49))","v":"★"},{"$f":"IF(INDIRECT($B$2&$P$2&$A49)=\"\",\"★\",INDIRECT($B$2&$P$2&$A49))","v":0},{"$f":"IF(INDIRECT($B$2&$Q$2&$A49)=\"\",\"★\",INDIRECT($B$2&$Q$2&$A49))","v":0},{"$f":"IF(INDIRECT($B$2&$R$2&$A49)=\"\",\"★\",INDIRECT($B$2&$R$2&$A49))","v":0},{"$f":"IF(INDIRECT($B$2&$S$2&$A49)=\"\",\"★\",INDIRECT($B$2&$S$2&$A49))","v":"★"},{"$f":"IF(INDIRECT($B$2&$T$2&$A49)=\"\",\"★\",INDIRECT($B$2&$T$2&$A49))","v":"★"},{"$f":"IF(INDIRECT($B$2&$U$2&$A49)=\"\",\"★\",INDIRECT($B$2&$U$2&$A49))","v":"★"},{"$f":"IF(INDIRECT($B$2&$V$2&$A49)=\"\",\"★\",INDIRECT($B$2&$V$2&$A49))","v":"★"},{"$f":"IF(INDIRECT($B$2&$W$2&$A49)=\"\",\"★\",INDIRECT($B$2&$W$2&$A49))","v":"★"},{"$f":"IF(INDIRECT($B$2&$X$2&$A49)=\"\",\"★\",INDIRECT($B$2&$X$2&$A49))","v":"★"},{"$f":"IF(INDIRECT($B$2&$Y$2&$A49)=\"\",\"★\",INDIRECT($B$2&$Y$2&$A49))","v":"★"},{"$f":"IF(INDIRECT($B$2&$Z$2&$A49)=\"\",\"★\",INDIRECT($B$2&$Z$2&$A49))","v":"★"},{"$f":"IF(INDIRECT($B$2&$AA$2&$A49)=\"\",\"★\",INDIRECT($B$2&$AA$2&$A49))","v":"★"},{"$f":"IF(INDIRECT($B$2&$AB$2&$A49)=\"\",\"★\",INDIRECT($B$2&$AB$2&$A49))","v":"★"},{"$f":"IF(INDIRECT($B$2&AC$2&$A49)=\"\",\"★\",INDIRECT($B$2&AC$2&$A49))","v":"★"},{"$f":"IF(INDIRECT($B$2&AD$2&$A49)=\"\",\"★\",INDIRECT($B$2&AD$2&$A49))","v":"★"},{"$f":"IF(INDIRECT($B$2&AE$2&$A49)=\"\",\"★\",INDIRECT($B$2&AE$2&$A49))","v":"★"},{"$f":"IF(INDIRECT($B$2&AF$2&$A49)=\"\",\"★\",INDIRECT($B$2&AF$2&$A49))","v":"★"},{"$f":"IF(INDIRECT($B$2&AG$2&$A49)=\"\",\"★\",INDIRECT($B$2&AG$2&$A49))","v":"★"},{"$f":"IF(INDIRECT($B$2&AH$2&$A49)=\"\",\"★\",INDIRECT($B$2&AH$2&$A49))","v":"★"},{"$f":"IF(INDIRECT($B$2&AI$2&$A49)=\"\",\"★\",INDIRECT($B$2&AI$2&$A49))","v":"★"},{"$f":"IF(INDIRECT($B$2&AJ$2&$A49)=\"\",\"★\",INDIRECT($B$2&AJ$2&$A49))","v":"★"},{"$f":"IF(INDIRECT($B$2&AK$2&$A49)=\"\",\"★\",INDIRECT($B$2&AK$2&$A49))","v":"★"},{"$f":"IF(INDIRECT($B$2&AL$2&$A49)=\"\",\"★\",INDIRECT($B$2&AL$2&$A49))","v":"★"},{"$f":"IF(INDIRECT($B$2&AM$2&$A49)=\"\",\"★\",INDIRECT($B$2&AM$2&$A49))","v":"★"},{"$f":"IF(INDIRECT($B$2&AN$2&$A49)=\"\",\"★\",INDIRECT($B$2&AN$2&$A49))","v":"★"},{"$f":"IF(INDIRECT($B$2&AO$2&$A49)=\"\",\"★\",INDIRECT($B$2&AO$2&$A49))","v":"★"},{"$f":"IF(INDIRECT($B$2&AP$2&$A49)=\"\",\"★\",INDIRECT($B$2&AP$2&$A49))","v":"★"},{"$f":"IF(INDIRECT($B$2&AQ$2&$A49)=\"\",\"★\",INDIRECT($B$2&AQ$2&$A49))","v":"★"},{"$f":"IF(INDIRECT($B$2&AR$2&$A49)=\"\",\"★\",INDIRECT($B$2&AR$2&$A49))","v":0},{"$f":"IF(INDIRECT($B$2&AS$2&$A49)=\"\",\"★\",INDIRECT($B$2&AS$2&$A49))","v":"★"},{"$f":"IF(INDIRECT($B$2&AT$2&$A49)=\"\",\"★\",INDIRECT($B$2&AT$2&$A49))","v":"★"},{"$f":"IF(INDIRECT($B$2&AU$2&$A49)=\"\",\"★\",INDIRECT($B$2&AU$2&$A49))","v":"★"},{"$f":"IF(INDIRECT($B$2&AV$2&$A49)=\"\",\"★\",INDIRECT($B$2&AV$2&$A49))","v":"★"},{"$f":"IF(INDIRECT($B$2&AW$2&$A49)=\"\",\"★\",INDIRECT($B$2&AW$2&$A49))","v":"★"},{"$f":"IF(INDIRECT($B$2&AX$2&$A49)=\"\",\"★\",INDIRECT($B$2&AX$2&$A49))","v":"★"},{"$f":"IF(INDIRECT($B$2&AY$2&$A49)=\"\",\"★\",INDIRECT($B$2&AY$2&$A49))","v":"★"},{"$f":"IF(INDIRECT($B$2&AZ$2&$A49)=\"\",\"★\",INDIRECT($B$2&AZ$2&$A49))","v":"★"},{"$f":"IF(INDIRECT($B$2&BA$2&$A49)=\"\",\"★\",INDIRECT($B$2&BA$2&$A49))","v":"★"},{"$f":"IF(INDIRECT($B$2&BB$2&$A49)=\"\",\"★\",INDIRECT($B$2&BB$2&$A49))","v":"★"},{"$f":"IF(INDIRECT($B$2&BC$2&$A49)=\"\",\"★\",INDIRECT($B$2&BC$2&$A49))","v":"★"},{"$f":"IF(INDIRECT($B$2&BD$2&$A49)=\"\",\"★\",INDIRECT($B$2&BD$2&$A49))","v":"★"},{"$f":"IF(INDIRECT($B$2&BE$2&$A49)=\"\",\"★\",INDIRECT($B$2&BE$2&$A49))","v":"★"},{"$f":"IF(INDIRECT($B$2&BF$2&$A49)=\"\",\"★\",INDIRECT($B$2&BF$2&$A49))","v":"★"},{"$f":"IF(INDIRECT($B$2&BG$2&$A49)=\"\",\"★\",INDIRECT($B$2&BG$2&$A49))","v":0},{"$f":"IF(INDIRECT($B$2&BH$2&$A49)=\"\",\"★\",INDIRECT($B$2&BH$2&$A49))","v":"★"},{"$f":"IF(INDIRECT($B$2&BI$2&$A49)=\"\",\"★\",INDIRECT($B$2&BI$2&$A49))","v":"★"},{"$f":"IF(INDIRECT($B$2&BJ$2&$A49)=\"\",\"★\",INDIRECT($B$2&BJ$2&$A49))","v":"★"},{"$f":"IF(INDIRECT($B$2&BK$2&$A49)=\"\",\"★\",INDIRECT($B$2&BK$2&$A49))","v":"★"},{"$f":"IF(INDIRECT($B$2&BL$2&$A49)=\"\",\"★\",INDIRECT($B$2&BL$2&$A49))","v":"★"},{"$f":"IF(INDIRECT($B$2&BM$2&$A49)=\"\",\"★\",INDIRECT($B$2&BM$2&$A49))","v":"★"},{"$f":"IF(INDIRECT($B$2&BN$2&$A49)=\"\",\"★\",INDIRECT($B$2&BN$2&$A49))","v":"★"},{"$f":"IF(INDIRECT($B$2&BO$2&$A49)=\"\",\"★\",INDIRECT($B$2&BO$2&$A49))","v":"★"},{"$f":"IF(INDIRECT($B$2&BP$2&$A49)=\"\",\"★\",INDIRECT($B$2&BP$2&$A49))","v":"★"},{"$f":"IF(INDIRECT($B$2&BQ$2&$A49)=\"\",\"★\",INDIRECT($B$2&BQ$2&$A49))","v":"★"},{"$f":"IF(INDIRECT($B$2&BR$2&$A49)=\"\",\"★\",INDIRECT($B$2&BR$2&$A49))","v":"★"},{"$f":"IF(INDIRECT($B$2&BS$2&$A49)=\"\",\"★\",INDIRECT($B$2&BS$2&$A49))","v":"★"},{"$f":"IF(INDIRECT($B$2&BT$2&$A49)=\"\",\"★\",INDIRECT($B$2&BT$2&$A49))","v":"★"},{"$f":"IF(INDIRECT($B$2&BU$2&$A49)=\"\",\"★\",INDIRECT($B$2&BU$2&$A49))","v":"★"},{"$f":"IF(INDIRECT($B$2&BV$2&$A49)=\"\",\"★\",INDIRECT($B$2&BV$2&$A49))","v":"★"},{"$f":"IF(INDIRECT($B$2&BW$2&$A49)=\"\",\"★\",INDIRECT($B$2&BW$2&$A49))","v":"★"},{"$f":"IF(INDIRECT($B$2&BX$2&$A49)=\"\",\"★\",INDIRECT($B$2&BX$2&$A49))","v":"★"},{"$f":"IF(INDIRECT($B$2&BY$2&$A49)=\"\",\"★\",INDIRECT($B$2&BY$2&$A49))","v":"★"}]
[76,null,null,null,null,null,null,null,null,null,null,null,null,40,{"$f":"IF(INDIRECT($B$2&$O$2&$A50)=\"\",\"★\",INDIRECT($B$2&$O$2&$A50))","v":"★"},{"$f":"IF(INDIRECT($B$2&$P$2&$A50)=\"\",\"★\",INDIRECT($B$2&$P$2&$A50))","v":0},{"$f":"IF(INDIRECT($B$2&$Q$2&$A50)=\"\",\"★\",INDIRECT($B$2&$Q$2&$A50))","v":0},{"$f":"IF(INDIRECT($B$2&$R$2&$A50)=\"\",\"★\",INDIRECT($B$2&$R$2&$A50))","v":0},{"$f":"IF(INDIRECT($B$2&$S$2&$A50)=\"\",\"★\",INDIRECT($B$2&$S$2&$A50))","v":"★"},{"$f":"IF(INDIRECT($B$2&$T$2&$A50)=\"\",\"★\",INDIRECT($B$2&$T$2&$A50))","v":"★"},{"$f":"IF(INDIRECT($B$2&$U$2&$A50)=\"\",\"★\",INDIRECT($B$2&$U$2&$A50))","v":"★"},{"$f":"IF(INDIRECT($B$2&$V$2&$A50)=\"\",\"★\",INDIRECT($B$2&$V$2&$A50))","v":"★"},{"$f":"IF(INDIRECT($B$2&$W$2&$A50)=\"\",\"★\",INDIRECT($B$2&$W$2&$A50))","v":"★"},{"$f":"IF(INDIRECT($B$2&$X$2&$A50)=\"\",\"★\",INDIRECT($B$2&$X$2&$A50))","v":"★"},{"$f":"IF(INDIRECT($B$2&$Y$2&$A50)=\"\",\"★\",INDIRECT($B$2&$Y$2&$A50))","v":"★"},{"$f":"IF(INDIRECT($B$2&$Z$2&$A50)=\"\",\"★\",INDIRECT($B$2&$Z$2&$A50))","v":"★"},{"$f":"IF(INDIRECT($B$2&$AA$2&$A50)=\"\",\"★\",INDIRECT($B$2&$AA$2&$A50))","v":"★"},{"$f":"IF(INDIRECT($B$2&$AB$2&$A50)=\"\",\"★\",INDIRECT($B$2&$AB$2&$A50))","v":"★"},{"$f":"IF(INDIRECT($B$2&AC$2&$A50)=\"\",\"★\",INDIRECT($B$2&AC$2&$A50))","v":"★"},{"$f":"IF(INDIRECT($B$2&AD$2&$A50)=\"\",\"★\",INDIRECT($B$2&AD$2&$A50))","v":"★"},{"$f":"IF(INDIRECT($B$2&AE$2&$A50)=\"\",\"★\",INDIRECT($B$2&AE$2&$A50))","v":"★"},{"$f":"IF(INDIRECT($B$2&AF$2&$A50)=\"\",\"★\",INDIRECT($B$2&AF$2&$A50))","v":"★"},{"$f":"IF(INDIRECT($B$2&AG$2&$A50)=\"\",\"★\",INDIRECT($B$2&AG$2&$A50))","v":"★"},{"$f":"IF(INDIRECT($B$2&AH$2&$A50)=\"\",\"★\",INDIRECT($B$2&AH$2&$A50))","v":"★"},{"$f":"IF(INDIRECT($B$2&AI$2&$A50)=\"\",\"★\",INDIRECT($B$2&AI$2&$A50))","v":"★"},{"$f":"IF(INDIRECT($B$2&AJ$2&$A50)=\"\",\"★\",INDIRECT($B$2&AJ$2&$A50))","v":"★"},{"$f":"IF(INDIRECT($B$2&AK$2&$A50)=\"\",\"★\",INDIRECT($B$2&AK$2&$A50))","v":"★"},{"$f":"IF(INDIRECT($B$2&AL$2&$A50)=\"\",\"★\",INDIRECT($B$2&AL$2&$A50))","v":"★"},{"$f":"IF(INDIRECT($B$2&AM$2&$A50)=\"\",\"★\",INDIRECT($B$2&AM$2&$A50))","v":"★"},{"$f":"IF(INDIRECT($B$2&AN$2&$A50)=\"\",\"★\",INDIRECT($B$2&AN$2&$A50))","v":"★"},{"$f":"IF(INDIRECT($B$2&AO$2&$A50)=\"\",\"★\",INDIRECT($B$2&AO$2&$A50))","v":"★"},{"$f":"IF(INDIRECT($B$2&AP$2&$A50)=\"\",\"★\",INDIRECT($B$2&AP$2&$A50))","v":"★"},{"$f":"IF(INDIRECT($B$2&AQ$2&$A50)=\"\",\"★\",INDIRECT($B$2&AQ$2&$A50))","v":"★"},{"$f":"IF(INDIRECT($B$2&AR$2&$A50)=\"\",\"★\",INDIRECT($B$2&AR$2&$A50))","v":0},{"$f":"IF(INDIRECT($B$2&AS$2&$A50)=\"\",\"★\",INDIRECT($B$2&AS$2&$A50))","v":"★"},{"$f":"IF(INDIRECT($B$2&AT$2&$A50)=\"\",\"★\",INDIRECT($B$2&AT$2&$A50))","v":"★"},{"$f":"IF(INDIRECT($B$2&AU$2&$A50)=\"\",\"★\",INDIRECT($B$2&AU$2&$A50))","v":"★"},{"$f":"IF(INDIRECT($B$2&AV$2&$A50)=\"\",\"★\",INDIRECT($B$2&AV$2&$A50))","v":"★"},{"$f":"IF(INDIRECT($B$2&AW$2&$A50)=\"\",\"★\",INDIRECT($B$2&AW$2&$A50))","v":"★"},{"$f":"IF(INDIRECT($B$2&AX$2&$A50)=\"\",\"★\",INDIRECT($B$2&AX$2&$A50))","v":"★"},{"$f":"IF(INDIRECT($B$2&AY$2&$A50)=\"\",\"★\",INDIRECT($B$2&AY$2&$A50))","v":"★"},{"$f":"IF(INDIRECT($B$2&AZ$2&$A50)=\"\",\"★\",INDIRECT($B$2&AZ$2&$A50))","v":"★"},{"$f":"IF(INDIRECT($B$2&BA$2&$A50)=\"\",\"★\",INDIRECT($B$2&BA$2&$A50))","v":"★"},{"$f":"IF(INDIRECT($B$2&BB$2&$A50)=\"\",\"★\",INDIRECT($B$2&BB$2&$A50))","v":"★"},{"$f":"IF(INDIRECT($B$2&BC$2&$A50)=\"\",\"★\",INDIRECT($B$2&BC$2&$A50))","v":"★"},{"$f":"IF(INDIRECT($B$2&BD$2&$A50)=\"\",\"★\",INDIRECT($B$2&BD$2&$A50))","v":"★"},{"$f":"IF(INDIRECT($B$2&BE$2&$A50)=\"\",\"★\",INDIRECT($B$2&BE$2&$A50))","v":"★"},{"$f":"IF(INDIRECT($B$2&BF$2&$A50)=\"\",\"★\",INDIRECT($B$2&BF$2&$A50))","v":"★"},{"$f":"IF(INDIRECT($B$2&BG$2&$A50)=\"\",\"★\",INDIRECT($B$2&BG$2&$A50))","v":0},{"$f":"IF(INDIRECT($B$2&BH$2&$A50)=\"\",\"★\",INDIRECT($B$2&BH$2&$A50))","v":"★"},{"$f":"IF(INDIRECT($B$2&BI$2&$A50)=\"\",\"★\",INDIRECT($B$2&BI$2&$A50))","v":"★"},{"$f":"IF(INDIRECT($B$2&BJ$2&$A50)=\"\",\"★\",INDIRECT($B$2&BJ$2&$A50))","v":"★"},{"$f":"IF(INDIRECT($B$2&BK$2&$A50)=\"\",\"★\",INDIRECT($B$2&BK$2&$A50))","v":"★"},{"$f":"IF(INDIRECT($B$2&BL$2&$A50)=\"\",\"★\",INDIRECT($B$2&BL$2&$A50))","v":"★"},{"$f":"IF(INDIRECT($B$2&BM$2&$A50)=\"\",\"★\",INDIRECT($B$2&BM$2&$A50))","v":"★"},{"$f":"IF(INDIRECT($B$2&BN$2&$A50)=\"\",\"★\",INDIRECT($B$2&BN$2&$A50))","v":"★"},{"$f":"IF(INDIRECT($B$2&BO$2&$A50)=\"\",\"★\",INDIRECT($B$2&BO$2&$A50))","v":"★"},{"$f":"IF(INDIRECT($B$2&BP$2&$A50)=\"\",\"★\",INDIRECT($B$2&BP$2&$A50))","v":"★"},{"$f":"IF(INDIRECT($B$2&BQ$2&$A50)=\"\",\"★\",INDIRECT($B$2&BQ$2&$A50))","v":"★"},{"$f":"IF(INDIRECT($B$2&BR$2&$A50)=\"\",\"★\",INDIRECT($B$2&BR$2&$A50))","v":"★"},{"$f":"IF(INDIRECT($B$2&BS$2&$A50)=\"\",\"★\",INDIRECT($B$2&BS$2&$A50))","v":"★"},{"$f":"IF(INDIRECT($B$2&BT$2&$A50)=\"\",\"★\",INDIRECT($B$2&BT$2&$A50))","v":"★"},{"$f":"IF(INDIRECT($B$2&BU$2&$A50)=\"\",\"★\",INDIRECT($B$2&BU$2&$A50))","v":"★"},{"$f":"IF(INDIRECT($B$2&BV$2&$A50)=\"\",\"★\",INDIRECT($B$2&BV$2&$A50))","v":"★"},{"$f":"IF(INDIRECT($B$2&BW$2&$A50)=\"\",\"★\",INDIRECT($B$2&BW$2&$A50))","v":"★"},{"$f":"IF(INDIRECT($B$2&BX$2&$A50)=\"\",\"★\",INDIRECT($B$2&BX$2&$A50))","v":"★"},{"$f":"IF(INDIRECT($B$2&BY$2&$A50)=\"\",\"★\",INDIRECT($B$2&BY$2&$A50))","v":"★"}]
[77,null,null,null,null,null,null,null,null,null,null,null,null,41,{"$f":"IF(INDIRECT($B$2&$O$2&$A51)=\"\",\"★\",INDIRECT($B$2&$O$2&$A51))","v":"★"},{"$f":"IF(INDIRECT($B$2&$P$2&$A51)=\"\",\"★\",INDIRECT($B$2&$P$2&$A51))","v":0},{"$f":"IF(INDIRECT($B$2&$Q$2&$A51)=\"\",\"★\",INDIRECT($B$2&$Q$2&$A51))","v":0},{"$f":"IF(INDIRECT($B$2&$R$2&$A51)=\"\",\"★\",INDIRECT($B$2&$R$2&$A51))","v":0},{"$f":"IF(INDIRECT($B$2&$S$2&$A51)=\"\",\"★\",INDIRECT($B$2&$S$2&$A51))","v":"★"},{"$f":"IF(INDIRECT($B$2&$T$2&$A51)=\"\",\"★\",INDIRECT($B$2&$T$2&$A51))","v":"★"},{"$f":"IF(INDIRECT($B$2&$U$2&$A51)=\"\",\"★\",INDIRECT($B$2&$U$2&$A51))","v":"★"},{"$f":"IF(INDIRECT($B$2&$V$2&$A51)=\"\",\"★\",INDIRECT($B$2&$V$2&$A51))","v":"★"},{"$f":"IF(INDIRECT($B$2&$W$2&$A51)=\"\",\"★\",INDIRECT($B$2&$W$2&$A51))","v":"★"},{"$f":"IF(INDIRECT($B$2&$X$2&$A51)=\"\",\"★\",INDIRECT($B$2&$X$2&$A51))","v":"★"},{"$f":"IF(INDIRECT($B$2&$Y$2&$A51)=\"\",\"★\",INDIRECT($B$2&$Y$2&$A51))","v":"★"},{"$f":"IF(INDIRECT($B$2&$Z$2&$A51)=\"\",\"★\",INDIRECT($B$2&$Z$2&$A51))","v":"★"},{"$f":"IF(INDIRECT($B$2&$AA$2&$A51)=\"\",\"★\",INDIRECT($B$2&$AA$2&$A51))","v":"★"},{"$f":"IF(INDIRECT($B$2&$AB$2&$A51)=\"\",\"★\",INDIRECT($B$2&$AB$2&$A51))","v":"★"},{"$f":"IF(INDIRECT($B$2&AC$2&$A51)=\"\",\"★\",INDIRECT($B$2&AC$2&$A51))","v":"★"},{"$f":"IF(INDIRECT($B$2&AD$2&$A51)=\"\",\"★\",INDIRECT($B$2&AD$2&$A51))","v":"★"},{"$f":"IF(INDIRECT($B$2&AE$2&$A51)=\"\",\"★\",INDIRECT($B$2&AE$2&$A51))","v":"★"},{"$f":"IF(INDIRECT($B$2&AF$2&$A51)=\"\",\"★\",INDIRECT($B$2&AF$2&$A51))","v":"★"},{"$f":"IF(INDIRECT($B$2&AG$2&$A51)=\"\",\"★\",INDIRECT($B$2&AG$2&$A51))","v":"★"},{"$f":"IF(INDIRECT($B$2&AH$2&$A51)=\"\",\"★\",INDIRECT($B$2&AH$2&$A51))","v":"★"},{"$f":"IF(INDIRECT($B$2&AI$2&$A51)=\"\",\"★\",INDIRECT($B$2&AI$2&$A51))","v":"★"},{"$f":"IF(INDIRECT($B$2&AJ$2&$A51)=\"\",\"★\",INDIRECT($B$2&AJ$2&$A51))","v":"★"},{"$f":"IF(INDIRECT($B$2&AK$2&$A51)=\"\",\"★\",INDIRECT($B$2&AK$2&$A51))","v":"★"},{"$f":"IF(INDIRECT($B$2&AL$2&$A51)=\"\",\"★\",INDIRECT($B$2&AL$2&$A51))","v":"★"},{"$f":"IF(INDIRECT($B$2&AM$2&$A51)=\"\",\"★\",INDIRECT($B$2&AM$2&$A51))","v":"★"},{"$f":"IF(INDIRECT($B$2&AN$2&$A51)=\"\",\"★\",INDIRECT($B$2&AN$2&$A51))","v":"★"},{"$f":"IF(INDIRECT($B$2&AO$2&$A51)=\"\",\"★\",INDIRECT($B$2&AO$2&$A51))","v":"★"},{"$f":"IF(INDIRECT($B$2&AP$2&$A51)=\"\",\"★\",INDIRECT($B$2&AP$2&$A51))","v":"★"},{"$f":"IF(INDIRECT($B$2&AQ$2&$A51)=\"\",\"★\",INDIRECT($B$2&AQ$2&$A51))","v":"★"},{"$f":"IF(INDIRECT($B$2&AR$2&$A51)=\"\",\"★\",INDIRECT($B$2&AR$2&$A51))","v":0},{"$f":"IF(INDIRECT($B$2&AS$2&$A51)=\"\",\"★\",INDIRECT($B$2&AS$2&$A51))","v":"★"},{"$f":"IF(INDIRECT($B$2&AT$2&$A51)=\"\",\"★\",INDIRECT($B$2&AT$2&$A51))","v":"★"},{"$f":"IF(INDIRECT($B$2&AU$2&$A51)=\"\",\"★\",INDIRECT($B$2&AU$2&$A51))","v":"★"},{"$f":"IF(INDIRECT($B$2&AV$2&$A51)=\"\",\"★\",INDIRECT($B$2&AV$2&$A51))","v":"★"},{"$f":"IF(INDIRECT($B$2&AW$2&$A51)=\"\",\"★\",INDIRECT($B$2&AW$2&$A51))","v":"★"},{"$f":"IF(INDIRECT($B$2&AX$2&$A51)=\"\",\"★\",INDIRECT($B$2&AX$2&$A51))","v":"★"},{"$f":"IF(INDIRECT($B$2&AY$2&$A51)=\"\",\"★\",INDIRECT($B$2&AY$2&$A51))","v":"★"},{"$f":"IF(INDIRECT($B$2&AZ$2&$A51)=\"\",\"★\",INDIRECT($B$2&AZ$2&$A51))","v":"★"},{"$f":"IF(INDIRECT($B$2&BA$2&$A51)=\"\",\"★\",INDIRECT($B$2&BA$2&$A51))","v":"★"},{"$f":"IF(INDIRECT($B$2&BB$2&$A51)=\"\",\"★\",INDIRECT($B$2&BB$2&$A51))","v":"★"},{"$f":"IF(INDIRECT($B$2&BC$2&$A51)=\"\",\"★\",INDIRECT($B$2&BC$2&$A51))","v":"★"},{"$f":"IF(INDIRECT($B$2&BD$2&$A51)=\"\",\"★\",INDIRECT($B$2&BD$2&$A51))","v":"★"},{"$f":"IF(INDIRECT($B$2&BE$2&$A51)=\"\",\"★\",INDIRECT($B$2&BE$2&$A51))","v":"★"},{"$f":"IF(INDIRECT($B$2&BF$2&$A51)=\"\",\"★\",INDIRECT($B$2&BF$2&$A51))","v":"★"},{"$f":"IF(INDIRECT($B$2&BG$2&$A51)=\"\",\"★\",INDIRECT($B$2&BG$2&$A51))","v":0},{"$f":"IF(INDIRECT($B$2&BH$2&$A51)=\"\",\"★\",INDIRECT($B$2&BH$2&$A51))","v":"★"},{"$f":"IF(INDIRECT($B$2&BI$2&$A51)=\"\",\"★\",INDIRECT($B$2&BI$2&$A51))","v":"★"},{"$f":"IF(INDIRECT($B$2&BJ$2&$A51)=\"\",\"★\",INDIRECT($B$2&BJ$2&$A51))","v":"★"},{"$f":"IF(INDIRECT($B$2&BK$2&$A51)=\"\",\"★\",INDIRECT($B$2&BK$2&$A51))","v":"★"},{"$f":"IF(INDIRECT($B$2&BL$2&$A51)=\"\",\"★\",INDIRECT($B$2&BL$2&$A51))","v":"★"},{"$f":"IF(INDIRECT($B$2&BM$2&$A51)=\"\",\"★\",INDIRECT($B$2&BM$2&$A51))","v":"★"},{"$f":"IF(INDIRECT($B$2&BN$2&$A51)=\"\",\"★\",INDIRECT($B$2&BN$2&$A51))","v":"★"},{"$f":"IF(INDIRECT($B$2&BO$2&$A51)=\"\",\"★\",INDIRECT($B$2&BO$2&$A51))","v":"★"},{"$f":"IF(INDIRECT($B$2&BP$2&$A51)=\"\",\"★\",INDIRECT($B$2&BP$2&$A51))","v":"★"},{"$f":"IF(INDIRECT($B$2&BQ$2&$A51)=\"\",\"★\",INDIRECT($B$2&BQ$2&$A51))","v":"★"},{"$f":"IF(INDIRECT($B$2&BR$2&$A51)=\"\",\"★\",INDIRECT($B$2&BR$2&$A51))","v":"★"},{"$f":"IF(INDIRECT($B$2&BS$2&$A51)=\"\",\"★\",INDIRECT($B$2&BS$2&$A51))","v":"★"},{"$f":"IF(INDIRECT($B$2&BT$2&$A51)=\"\",\"★\",INDIRECT($B$2&BT$2&$A51))","v":"★"},{"$f":"IF(INDIRECT($B$2&BU$2&$A51)=\"\",\"★\",INDIRECT($B$2&BU$2&$A51))","v":"★"},{"$f":"IF(INDIRECT($B$2&BV$2&$A51)=\"\",\"★\",INDIRECT($B$2&BV$2&$A51))","v":"★"},{"$f":"IF(INDIRECT($B$2&BW$2&$A51)=\"\",\"★\",INDIRECT($B$2&BW$2&$A51))","v":"★"},{"$f":"IF(INDIRECT($B$2&BX$2&$A51)=\"\",\"★\",INDIRECT($B$2&BX$2&$A51))","v":"★"},{"$f":"IF(INDIRECT($B$2&BY$2&$A51)=\"\",\"★\",INDIRECT($B$2&BY$2&$A51))","v":"★"}]
[78,null,null,null,null,null,null,null,null,null,null,null,null,42,{"$f":"IF(INDIRECT($B$2&$O$2&$A52)=\"\",\"★\",INDIRECT($B$2&$O$2&$A52))","v":"★"},{"$f":"IF(INDIRECT($B$2&$P$2&$A52)=\"\",\"★\",INDIRECT($B$2&$P$2&$A52))","v":0},{"$f":"IF(INDIRECT($B$2&$Q$2&$A52)=\"\",\"★\",INDIRECT($B$2&$Q$2&$A52))","v":0},{"$f":"IF(INDIRECT($B$2&$R$2&$A52)=\"\",\"★\",INDIRECT($B$2&$R$2&$A52))","v":0},{"$f":"IF(INDIRECT($B$2&$S$2&$A52)=\"\",\"★\",INDIRECT($B$2&$S$2&$A52))","v":"★"},{"$f":"IF(INDIRECT($B$2&$T$2&$A52)=\"\",\"★\",INDIRECT($B$2&$T$2&$A52))","v":"★"},{"$f":"IF(INDIRECT($B$2&$U$2&$A52)=\"\",\"★\",INDIRECT($B$2&$U$2&$A52))","v":"★"},{"$f":"IF(INDIRECT($B$2&$V$2&$A52)=\"\",\"★\",INDIRECT($B$2&$V$2&$A52))","v":"★"},{"$f":"IF(INDIRECT($B$2&$W$2&$A52)=\"\",\"★\",INDIRECT($B$2&$W$2&$A52))","v":"★"},{"$f":"IF(INDIRECT($B$2&$X$2&$A52)=\"\",\"★\",INDIRECT($B$2&$X$2&$A52))","v":"★"},{"$f":"IF(INDIRECT($B$2&$Y$2&$A52)=\"\",\"★\",INDIRECT($B$2&$Y$2&$A52))","v":"★"},{"$f":"IF(INDIRECT($B$2&$Z$2&$A52)=\"\",\"★\",INDIRECT($B$2&$Z$2&$A52))","v":"★"},{"$f":"IF(INDIRECT($B$2&$AA$2&$A52)=\"\",\"★\",INDIRECT($B$2&$AA$2&$A52))","v":"★"},{"$f":"IF(INDIRECT($B$2&$AB$2&$A52)=\"\",\"★\",INDIRECT($B$2&$AB$2&$A52))","v":"★"},{"$f":"IF(INDIRECT($B$2&AC$2&$A52)=\"\",\"★\",INDIRECT($B$2&AC$2&$A52))","v":"★"},{"$f":"IF(INDIRECT($B$2&AD$2&$A52)=\"\",\"★\",INDIRECT($B$2&AD$2&$A52))","v":"★"},{"$f":"IF(INDIRECT($B$2&AE$2&$A52)=\"\",\"★\",INDIRECT($B$2&AE$2&$A52))","v":"★"},{"$f":"IF(INDIRECT($B$2&AF$2&$A52)=\"\",\"★\",INDIRECT($B$2&AF$2&$A52))","v":"★"},{"$f":"IF(INDIRECT($B$2&AG$2&$A52)=\"\",\"★\",INDIRECT($B$2&AG$2&$A52))","v":"★"},{"$f":"IF(INDIRECT($B$2&AH$2&$A52)=\"\",\"★\",INDIRECT($B$2&AH$2&$A52))","v":"★"},{"$f":"IF(INDIRECT($B$2&AI$2&$A52)=\"\",\"★\",INDIRECT($B$2&AI$2&$A52))","v":"★"},{"$f":"IF(INDIRECT($B$2&AJ$2&$A52)=\"\",\"★\",INDIRECT($B$2&AJ$2&$A52))","v":"★"},{"$f":"IF(INDIRECT($B$2&AK$2&$A52)=\"\",\"★\",INDIRECT($B$2&AK$2&$A52))","v":"★"},{"$f":"IF(INDIRECT($B$2&AL$2&$A52)=\"\",\"★\",INDIRECT($B$2&AL$2&$A52))","v":"★"},{"$f":"IF(INDIRECT($B$2&AM$2&$A52)=\"\",\"★\",INDIRECT($B$2&AM$2&$A52))","v":"★"},{"$f":"IF(INDIRECT($B$2&AN$2&$A52)=\"\",\"★\",INDIRECT($B$2&AN$2&$A52))","v":"★"},{"$f":"IF(INDIRECT($B$2&AO$2&$A52)=\"\",\"★\",INDIRECT($B$2&AO$2&$A52))","v":"★"},{"$f":"IF(INDIRECT($B$2&AP$2&$A52)=\"\",\"★\",INDIRECT($B$2&AP$2&$A52))","v":"★"},{"$f":"IF(INDIRECT($B$2&AQ$2&$A52)=\"\",\"★\",INDIRECT($B$2&AQ$2&$A52))","v":"★"},{"$f":"IF(INDIRECT($B$2&AR$2&$A52)=\"\",\"★\",INDIRECT($B$2&AR$2&$A52))","v":0},{"$f":"IF(INDIRECT($B$2&AS$2&$A52)=\"\",\"★\",INDIRECT($B$2&AS$2&$A52))","v":"★"},{"$f":"IF(INDIRECT($B$2&AT$2&$A52)=\"\",\"★\",INDIRECT($B$2&AT$2&$A52))","v":"★"},{"$f":"IF(INDIRECT($B$2&AU$2&$A52)=\"\",\"★\",INDIRECT($B$2&AU$2&$A52))","v":"★"},{"$f":"IF(INDIRECT($B$2&AV$2&$A52)=\"\",\"★\",INDIRECT($B$2&AV$2&$A52))","v":"★"},{"$f":"IF(INDIRECT($B$2&AW$2&$A52)=\"\",\"★\",INDIRECT($B$2&AW$2&$A52))","v":"★"},{"$f":"IF(INDIRECT($B$2&AX$2&$A52)=\"\",\"★\",INDIRECT($B$2&AX$2&$A52))","v":"★"},{"$f":"IF(INDIRECT($B$2&AY$2&$A52)=\"\",\"★\",INDIRECT($B$2&AY$2&$A52))","v":"★"},{"$f":"IF(INDIRECT($B$2&AZ$2&$A52)=\"\",\"★\",INDIRECT($B$2&AZ$2&$A52))","v":"★"},{"$f":"IF(INDIRECT($B$2&BA$2&$A52)=\"\",\"★\",INDIRECT($B$2&BA$2&$A52))","v":"★"},{"$f":"IF(INDIRECT($B$2&BB$2&$A52)=\"\",\"★\",INDIRECT($B$2&BB$2&$A52))","v":"★"},{"$f":"IF(INDIRECT($B$2&BC$2&$A52)=\"\",\"★\",INDIRECT($B$2&BC$2&$A52))","v":"★"},{"$f":"IF(INDIRECT($B$2&BD$2&$A52)=\"\",\"★\",INDIRECT($B$2&BD$2&$A52))","v":"★"},{"$f":"IF(INDIRECT($B$2&BE$2&$A52)=\"\",\"★\",INDIRECT($B$2&BE$2&$A52))","v":"★"},{"$f":"IF(INDIRECT($B$2&BF$2&$A52)=\"\",\"★\",INDIRECT($B$2&BF$2&$A52))","v":"★"},{"$f":"IF(INDIRECT($B$2&BG$2&$A52)=\"\",\"★\",INDIRECT($B$2&BG$2&$A52))","v":0},{"$f":"IF(INDIRECT($B$2&BH$2&$A52)=\"\",\"★\",INDIRECT($B$2&BH$2&$A52))","v":"★"},{"$f":"IF(INDIRECT($B$2&BI$2&$A52)=\"\",\"★\",INDIRECT($B$2&BI$2&$A52))","v":"★"},{"$f":"IF(INDIRECT($B$2&BJ$2&$A52)=\"\",\"★\",INDIRECT($B$2&BJ$2&$A52))","v":"★"},{"$f":"IF(INDIRECT($B$2&BK$2&$A52)=\"\",\"★\",INDIRECT($B$2&BK$2&$A52))","v":"★"},{"$f":"IF(INDIRECT($B$2&BL$2&$A52)=\"\",\"★\",INDIRECT($B$2&BL$2&$A52))","v":"★"},{"$f":"IF(INDIRECT($B$2&BM$2&$A52)=\"\",\"★\",INDIRECT($B$2&BM$2&$A52))","v":"★"},{"$f":"IF(INDIRECT($B$2&BN$2&$A52)=\"\",\"★\",INDIRECT($B$2&BN$2&$A52))","v":"★"},{"$f":"IF(INDIRECT($B$2&BO$2&$A52)=\"\",\"★\",INDIRECT($B$2&BO$2&$A52))","v":"★"},{"$f":"IF(INDIRECT($B$2&BP$2&$A52)=\"\",\"★\",INDIRECT($B$2&BP$2&$A52))","v":"★"},{"$f":"IF(INDIRECT($B$2&BQ$2&$A52)=\"\",\"★\",INDIRECT($B$2&BQ$2&$A52))","v":"★"},{"$f":"IF(INDIRECT($B$2&BR$2&$A52)=\"\",\"★\",INDIRECT($B$2&BR$2&$A52))","v":"★"},{"$f":"IF(INDIRECT($B$2&BS$2&$A52)=\"\",\"★\",INDIRECT($B$2&BS$2&$A52))","v":"★"},{"$f":"IF(INDIRECT($B$2&BT$2&$A52)=\"\",\"★\",INDIRECT($B$2&BT$2&$A52))","v":"★"},{"$f":"IF(INDIRECT($B$2&BU$2&$A52)=\"\",\"★\",INDIRECT($B$2&BU$2&$A52))","v":"★"},{"$f":"IF(INDIRECT($B$2&BV$2&$A52)=\"\",\"★\",INDIRECT($B$2&BV$2&$A52))","v":"★"},{"$f":"IF(INDIRECT($B$2&BW$2&$A52)=\"\",\"★\",INDIRECT($B$2&BW$2&$A52))","v":"★"},{"$f":"IF(INDIRECT($B$2&BX$2&$A52)=\"\",\"★\",INDIRECT($B$2&BX$2&$A52))","v":"★"},{"$f":"IF(INDIRECT($B$2&BY$2&$A52)=\"\",\"★\",INDIRECT($B$2&BY$2&$A52))","v":"★"}]
[79,null,null,null,null,null,null,null,null,null,null,null,null,43,{"$f":"IF(INDIRECT($B$2&$O$2&$A53)=\"\",\"★\",INDIRECT($B$2&$O$2&$A53))","v":"★"},{"$f":"IF(INDIRECT($B$2&$P$2&$A53)=\"\",\"★\",INDIRECT($B$2&$P$2&$A53))","v":0},{"$f":"IF(INDIRECT($B$2&$Q$2&$A53)=\"\",\"★\",INDIRECT($B$2&$Q$2&$A53))","v":0},{"$f":"IF(INDIRECT($B$2&$R$2&$A53)=\"\",\"★\",INDIRECT($B$2&$R$2&$A53))","v":0},{"$f":"IF(INDIRECT($B$2&$S$2&$A53)=\"\",\"★\",INDIRECT($B$2&$S$2&$A53))","v":"★"},{"$f":"IF(INDIRECT($B$2&$T$2&$A53)=\"\",\"★\",INDIRECT($B$2&$T$2&$A53))","v":"★"},{"$f":"IF(INDIRECT($B$2&$U$2&$A53)=\"\",\"★\",INDIRECT($B$2&$U$2&$A53))","v":"★"},{"$f":"IF(INDIRECT($B$2&$V$2&$A53)=\"\",\"★\",INDIRECT($B$2&$V$2&$A53))","v":"★"},{"$f":"IF(INDIRECT($B$2&$W$2&$A53)=\"\",\"★\",INDIRECT($B$2&$W$2&$A53))","v":"★"},{"$f":"IF(INDIRECT($B$2&$X$2&$A53)=\"\",\"★\",INDIRECT($B$2&$X$2&$A53))","v":"★"},{"$f":"IF(INDIRECT($B$2&$Y$2&$A53)=\"\",\"★\",INDIRECT($B$2&$Y$2&$A53))","v":"★"},{"$f":"IF(INDIRECT($B$2&$Z$2&$A53)=\"\",\"★\",INDIRECT($B$2&$Z$2&$A53))","v":"★"},{"$f":"IF(INDIRECT($B$2&$AA$2&$A53)=\"\",\"★\",INDIRECT($B$2&$AA$2&$A53))","v":"★"},{"$f":"IF(INDIRECT($B$2&$AB$2&$A53)=\"\",\"★\",INDIRECT($B$2&$AB$2&$A53))","v":"★"},{"$f":"IF(INDIRECT($B$2&AC$2&$A53)=\"\",\"★\",INDIRECT($B$2&AC$2&$A53))","v":"★"},{"$f":"IF(INDIRECT($B$2&AD$2&$A53)=\"\",\"★\",INDIRECT($B$2&AD$2&$A53))","v":"★"},{"$f":"IF(INDIRECT($B$2&AE$2&$A53)=\"\",\"★\",INDIRECT($B$2&AE$2&$A53))","v":"★"},{"$f":"IF(INDIRECT($B$2&AF$2&$A53)=\"\",\"★\",INDIRECT($B$2&AF$2&$A53))","v":"★"},{"$f":"IF(INDIRECT($B$2&AG$2&$A53)=\"\",\"★\",INDIRECT($B$2&AG$2&$A53))","v":"★"},{"$f":"IF(INDIRECT($B$2&AH$2&$A53)=\"\",\"★\",INDIRECT($B$2&AH$2&$A53))","v":"★"},{"$f":"IF(INDIRECT($B$2&AI$2&$A53)=\"\",\"★\",INDIRECT($B$2&AI$2&$A53))","v":"★"},{"$f":"IF(INDIRECT($B$2&AJ$2&$A53)=\"\",\"★\",INDIRECT($B$2&AJ$2&$A53))","v":"★"},{"$f":"IF(INDIRECT($B$2&AK$2&$A53)=\"\",\"★\",INDIRECT($B$2&AK$2&$A53))","v":"★"},{"$f":"IF(INDIRECT($B$2&AL$2&$A53)=\"\",\"★\",INDIRECT($B$2&AL$2&$A53))","v":"★"},{"$f":"IF(INDIRECT($B$2&AM$2&$A53)=\"\",\"★\",INDIRECT($B$2&AM$2&$A53))","v":"★"},{"$f":"IF(INDIRECT($B$2&AN$2&$A53)=\"\",\"★\",INDIRECT($B$2&AN$2&$A53))","v":"★"},{"$f":"IF(INDIRECT($B$2&AO$2&$A53)=\"\",\"★\",INDIRECT($B$2&AO$2&$A53))","v":"★"},{"$f":"IF(INDIRECT($B$2&AP$2&$A53)=\"\",\"★\",INDIRECT($B$2&AP$2&$A53))","v":"★"},{"$f":"IF(INDIRECT($B$2&AQ$2&$A53)=\"\",\"★\",INDIRECT($B$2&AQ$2&$A53))","v":"★"},{"$f":"IF(INDIRECT($B$2&AR$2&$A53)=\"\",\"★\",INDIRECT($B$2&AR$2&$A53))","v":0},{"$f":"IF(INDIRECT($B$2&AS$2&$A53)=\"\",\"★\",INDIRECT($B$2&AS$2&$A53))","v":"★"},{"$f":"IF(INDIRECT($B$2&AT$2&$A53)=\"\",\"★\",INDIRECT($B$2&AT$2&$A53))","v":"★"},{"$f":"IF(INDIRECT($B$2&AU$2&$A53)=\"\",\"★\",INDIRECT($B$2&AU$2&$A53))","v":"★"},{"$f":"IF(INDIRECT($B$2&AV$2&$A53)=\"\",\"★\",INDIRECT($B$2&AV$2&$A53))","v":"★"},{"$f":"IF(INDIRECT($B$2&AW$2&$A53)=\"\",\"★\",INDIRECT($B$2&AW$2&$A53))","v":"★"},{"$f":"IF(INDIRECT($B$2&AX$2&$A53)=\"\",\"★\",INDIRECT($B$2&AX$2&$A53))","v":"★"},{"$f":"IF(INDIRECT($B$2&AY$2&$A53)=\"\",\"★\",INDIRECT($B$2&AY$2&$A53))","v":"★"},{"$f":"IF(INDIRECT($B$2&AZ$2&$A53)=\"\",\"★\",INDIRECT($B$2&AZ$2&$A53))","v":"★"},{"$f":"IF(INDIRECT($B$2&BA$2&$A53)=\"\",\"★\",INDIRECT($B$2&BA$2&$A53))","v":"★"},{"$f":"IF(INDIRECT($B$2&BB$2&$A53)=\"\",\"★\",INDIRECT($B$2&BB$2&$A53))","v":"★"},{"$f":"IF(INDIRECT($B$2&BC$2&$A53)=\"\",\"★\",INDIRECT($B$2&BC$2&$A53))","v":"★"},{"$f":"IF(INDIRECT($B$2&BD$2&$A53)=\"\",\"★\",INDIRECT($B$2&BD$2&$A53))","v":"★"},{"$f":"IF(INDIRECT($B$2&BE$2&$A53)=\"\",\"★\",INDIRECT($B$2&BE$2&$A53))","v":"★"},{"$f":"IF(INDIRECT($B$2&BF$2&$A53)=\"\",\"★\",INDIRECT($B$2&BF$2&$A53))","v":"★"},{"$f":"IF(INDIRECT($B$2&BG$2&$A53)=\"\",\"★\",INDIRECT($B$2&BG$2&$A53))","v":0},{"$f":"IF(INDIRECT($B$2&BH$2&$A53)=\"\",\"★\",INDIRECT($B$2&BH$2&$A53))","v":"★"},{"$f":"IF(INDIRECT($B$2&BI$2&$A53)=\"\",\"★\",INDIRECT($B$2&BI$2&$A53))","v":"★"},{"$f":"IF(INDIRECT($B$2&BJ$2&$A53)=\"\",\"★\",INDIRECT($B$2&BJ$2&$A53))","v":"★"},{"$f":"IF(INDIRECT($B$2&BK$2&$A53)=\"\",\"★\",INDIRECT($B$2&BK$2&$A53))","v":"★"},{"$f":"IF(INDIRECT($B$2&BL$2&$A53)=\"\",\"★\",INDIRECT($B$2&BL$2&$A53))","v":"★"},{"$f":"IF(INDIRECT($B$2&BM$2&$A53)=\"\",\"★\",INDIRECT($B$2&BM$2&$A53))","v":"★"},{"$f":"IF(INDIRECT($B$2&BN$2&$A53)=\"\",\"★\",INDIRECT($B$2&BN$2&$A53))","v":"★"},{"$f":"IF(INDIRECT($B$2&BO$2&$A53)=\"\",\"★\",INDIRECT($B$2&BO$2&$A53))","v":"★"},{"$f":"IF(INDIRECT($B$2&BP$2&$A53)=\"\",\"★\",INDIRECT($B$2&BP$2&$A53))","v":"★"},{"$f":"IF(INDIRECT($B$2&BQ$2&$A53)=\"\",\"★\",INDIRECT($B$2&BQ$2&$A53))","v":"★"},{"$f":"IF(INDIRECT($B$2&BR$2&$A53)=\"\",\"★\",INDIRECT($B$2&BR$2&$A53))","v":"★"},{"$f":"IF(INDIRECT($B$2&BS$2&$A53)=\"\",\"★\",INDIRECT($B$2&BS$2&$A53))","v":"★"},{"$f":"IF(INDIRECT($B$2&BT$2&$A53)=\"\",\"★\",INDIRECT($B$2&BT$2&$A53))","v":"★"},{"$f":"IF(INDIRECT($B$2&BU$2&$A53)=\"\",\"★\",INDIRECT($B$2&BU$2&$A53))","v":"★"},{"$f":"IF(INDIRECT($B$2&BV$2&$A53)=\"\",\"★\",INDIRECT($B$2&BV$2&$A53))","v":"★"},{"$f":"IF(INDIRECT($B$2&BW$2&$A53)=\"\",\"★\",INDIRECT($B$2&BW$2&$A53))","v":"★"},{"$f":"IF(INDIRECT($B$2&BX$2&$A53)=\"\",\"★\",INDIRECT($B$2&BX$2&$A53))","v":"★"},{"$f":"IF(INDIRECT($B$2&BY$2&$A53)=\"\",\"★\",INDIRECT($B$2&BY$2&$A53))","v":"★"}]
[80,null,null,null,null,null,null,null,null,null,null,null,null,44,{"$f":"IF(INDIRECT($B$2&$O$2&$A54)=\"\",\"★\",INDIRECT($B$2&$O$2&$A54))","v":"★"},{"$f":"IF(INDIRECT($B$2&$P$2&$A54)=\"\",\"★\",INDIRECT($B$2&$P$2&$A54))","v":0},{"$f":"IF(INDIRECT($B$2&$Q$2&$A54)=\"\",\"★\",INDIRECT($B$2&$Q$2&$A54))","v":0},{"$f":"IF(INDIRECT($B$2&$R$2&$A54)=\"\",\"★\",INDIRECT($B$2&$R$2&$A54))","v":0},{"$f":"IF(INDIRECT($B$2&$S$2&$A54)=\"\",\"★\",INDIRECT($B$2&$S$2&$A54))","v":"★"},{"$f":"IF(INDIRECT($B$2&$T$2&$A54)=\"\",\"★\",INDIRECT($B$2&$T$2&$A54))","v":"★"},{"$f":"IF(INDIRECT($B$2&$U$2&$A54)=\"\",\"★\",INDIRECT($B$2&$U$2&$A54))","v":"★"},{"$f":"IF(INDIRECT($B$2&$V$2&$A54)=\"\",\"★\",INDIRECT($B$2&$V$2&$A54))","v":"★"},{"$f":"IF(INDIRECT($B$2&$W$2&$A54)=\"\",\"★\",INDIRECT($B$2&$W$2&$A54))","v":"★"},{"$f":"IF(INDIRECT($B$2&$X$2&$A54)=\"\",\"★\",INDIRECT($B$2&$X$2&$A54))","v":"★"},{"$f":"IF(INDIRECT($B$2&$Y$2&$A54)=\"\",\"★\",INDIRECT($B$2&$Y$2&$A54))","v":"★"},{"$f":"IF(INDIRECT($B$2&$Z$2&$A54)=\"\",\"★\",INDIRECT($B$2&$Z$2&$A54))","v":"★"},{"$f":"IF(INDIRECT($B$2&$AA$2&$A54)=\"\",\"★\",INDIRECT($B$2&$AA$2&$A54))","v":"★"},{"$f":"IF(INDIRECT($B$2&$AB$2&$A54)=\"\",\"★\",INDIRECT($B$2&$AB$2&$A54))","v":"★"},{"$f":"IF(INDIRECT($B$2&AC$2&$A54)=\"\",\"★\",INDIRECT($B$2&AC$2&$A54))","v":"★"},{"$f":"IF(INDIRECT($B$2&AD$2&$A54)=\"\",\"★\",INDIRECT($B$2&AD$2&$A54))","v":"★"},{"$f":"IF(INDIRECT($B$2&AE$2&$A54)=\"\",\"★\",INDIRECT($B$2&AE$2&$A54))","v":"★"},{"$f":"IF(INDIRECT($B$2&AF$2&$A54)=\"\",\"★\",INDIRECT($B$2&AF$2&$A54))","v":"★"},{"$f":"IF(INDIRECT($B$2&AG$2&$A54)=\"\",\"★\",INDIRECT($B$2&AG$2&$A54))","v":"★"},{"$f":"IF(INDIRECT($B$2&AH$2&$A54)=\"\",\"★\",INDIRECT($B$2&AH$2&$A54))","v":"★"},{"$f":"IF(INDIRECT($B$2&AI$2&$A54)=\"\",\"★\",INDIRECT($B$2&AI$2&$A54))","v":"★"},{"$f":"IF(INDIRECT($B$2&AJ$2&$A54)=\"\",\"★\",INDIRECT($B$2&AJ$2&$A54))","v":"★"},{"$f":"IF(INDIRECT($B$2&AK$2&$A54)=\"\",\"★\",INDIRECT($B$2&AK$2&$A54))","v":"★"},{"$f":"IF(INDIRECT($B$2&AL$2&$A54)=\"\",\"★\",INDIRECT($B$2&AL$2&$A54))","v":"★"},{"$f":"IF(INDIRECT($B$2&AM$2&$A54)=\"\",\"★\",INDIRECT($B$2&AM$2&$A54))","v":"★"},{"$f":"IF(INDIRECT($B$2&AN$2&$A54)=\"\",\"★\",INDIRECT($B$2&AN$2&$A54))","v":"★"},{"$f":"IF(INDIRECT($B$2&AO$2&$A54)=\"\",\"★\",INDIRECT($B$2&AO$2&$A54))","v":"★"},{"$f":"IF(INDIRECT($B$2&AP$2&$A54)=\"\",\"★\",INDIRECT($B$2&AP$2&$A54))","v":"★"},{"$f":"IF(INDIRECT($B$2&AQ$2&$A54)=\"\",\"★\",INDIRECT($B$2&AQ$2&$A54))","v":"★"},{"$f":"IF(INDIRECT($B$2&AR$2&$A54)=\"\",\"★\",INDIRECT($B$2&AR$2&$A54))","v":0},{"$f":"IF(INDIRECT($B$2&AS$2&$A54)=\"\",\"★\",INDIRECT($B$2&AS$2&$A54))","v":"★"},{"$f":"IF(INDIRECT($B$2&AT$2&$A54)=\"\",\"★\",INDIRECT($B$2&AT$2&$A54))","v":"★"},{"$f":"IF(INDIRECT($B$2&AU$2&$A54)=\"\",\"★\",INDIRECT($B$2&AU$2&$A54))","v":"★"},{"$f":"IF(INDIRECT($B$2&AV$2&$A54)=\"\",\"★\",INDIRECT($B$2&AV$2&$A54))","v":"★"},{"$f":"IF(INDIRECT($B$2&AW$2&$A54)=\"\",\"★\",INDIRECT($B$2&AW$2&$A54))","v":"★"},{"$f":"IF(INDIRECT($B$2&AX$2&$A54)=\"\",\"★\",INDIRECT($B$2&AX$2&$A54))","v":"★"},{"$f":"IF(INDIRECT($B$2&AY$2&$A54)=\"\",\"★\",INDIRECT($B$2&AY$2&$A54))","v":"★"},{"$f":"IF(INDIRECT($B$2&AZ$2&$A54)=\"\",\"★\",INDIRECT($B$2&AZ$2&$A54))","v":"★"},{"$f":"IF(INDIRECT($B$2&BA$2&$A54)=\"\",\"★\",INDIRECT($B$2&BA$2&$A54))","v":"★"},{"$f":"IF(INDIRECT($B$2&BB$2&$A54)=\"\",\"★\",INDIRECT($B$2&BB$2&$A54))","v":"★"},{"$f":"IF(INDIRECT($B$2&BC$2&$A54)=\"\",\"★\",INDIRECT($B$2&BC$2&$A54))","v":"★"},{"$f":"IF(INDIRECT($B$2&BD$2&$A54)=\"\",\"★\",INDIRECT($B$2&BD$2&$A54))","v":"★"},{"$f":"IF(INDIRECT($B$2&BE$2&$A54)=\"\",\"★\",INDIRECT($B$2&BE$2&$A54))","v":"★"},{"$f":"IF(INDIRECT($B$2&BF$2&$A54)=\"\",\"★\",INDIRECT($B$2&BF$2&$A54))","v":"★"},{"$f":"IF(INDIRECT($B$2&BG$2&$A54)=\"\",\"★\",INDIRECT($B$2&BG$2&$A54))","v":0},{"$f":"IF(INDIRECT($B$2&BH$2&$A54)=\"\",\"★\",INDIRECT($B$2&BH$2&$A54))","v":"★"},{"$f":"IF(INDIRECT($B$2&BI$2&$A54)=\"\",\"★\",INDIRECT($B$2&BI$2&$A54))","v":"★"},{"$f":"IF(INDIRECT($B$2&BJ$2&$A54)=\"\",\"★\",INDIRECT($B$2&BJ$2&$A54))","v":"★"},{"$f":"IF(INDIRECT($B$2&BK$2&$A54)=\"\",\"★\",INDIRECT($B$2&BK$2&$A54))","v":"★"},{"$f":"IF(INDIRECT($B$2&BL$2&$A54)=\"\",\"★\",INDIRECT($B$2&BL$2&$A54))","v":"★"},{"$f":"IF(INDIRECT($B$2&BM$2&$A54)=\"\",\"★\",INDIRECT($B$2&BM$2&$A54))","v":"★"},{"$f":"IF(INDIRECT($B$2&BN$2&$A54)=\"\",\"★\",INDIRECT($B$2&BN$2&$A54))","v":"★"},{"$f":"IF(INDIRECT($B$2&BO$2&$A54)=\"\",\"★\",INDIRECT($B$2&BO$2&$A54))","v":"★"},{"$f":"IF(INDIRECT($B$2&BP$2&$A54)=\"\",\"★\",INDIRECT($B$2&BP$2&$A54))","v":"★"},{"$f":"IF(INDIRECT($B$2&BQ$2&$A54)=\"\",\"★\",INDIRECT($B$2&BQ$2&$A54))","v":"★"},{"$f":"IF(INDIRECT($B$2&BR$2&$A54)=\"\",\"★\",INDIRECT($B$2&BR$2&$A54))","v":"★"},{"$f":"IF(INDIRECT($B$2&BS$2&$A54)=\"\",\"★\",INDIRECT($B$2&BS$2&$A54))","v":"★"},{"$f":"IF(INDIRECT($B$2&BT$2&$A54)=\"\",\"★\",INDIRECT($B$2&BT$2&$A54))","v":"★"},{"$f":"IF(INDIRECT($B$2&BU$2&$A54)=\"\",\"★\",INDIRECT($B$2&BU$2&$A54))","v":"★"},{"$f":"IF(INDIRECT($B$2&BV$2&$A54)=\"\",\"★\",INDIRECT($B$2&BV$2&$A54))","v":"★"},{"$f":"IF(INDIRECT($B$2&BW$2&$A54)=\"\",\"★\",INDIRECT($B$2&BW$2&$A54))","v":"★"},{"$f":"IF(INDIRECT($B$2&BX$2&$A54)=\"\",\"★\",INDIRECT($B$2&BX$2&$A54))","v":"★"},{"$f":"IF(INDIRECT($B$2&BY$2&$A54)=\"\",\"★\",INDIRECT($B$2&BY$2&$A54))","v":"★"}]
[81,null,null,null,null,null,null,null,null,null,null,null,null,45,{"$f":"IF(INDIRECT($B$2&$O$2&$A55)=\"\",\"★\",INDIRECT($B$2&$O$2&$A55))","v":"★"},{"$f":"IF(INDIRECT($B$2&$P$2&$A55)=\"\",\"★\",INDIRECT($B$2&$P$2&$A55))","v":0},{"$f":"IF(INDIRECT($B$2&$Q$2&$A55)=\"\",\"★\",INDIRECT($B$2&$Q$2&$A55))","v":0},{"$f":"IF(INDIRECT($B$2&$R$2&$A55)=\"\",\"★\",INDIRECT($B$2&$R$2&$A55))","v":0},{"$f":"IF(INDIRECT($B$2&$S$2&$A55)=\"\",\"★\",INDIRECT($B$2&$S$2&$A55))","v":"★"},{"$f":"IF(INDIRECT($B$2&$T$2&$A55)=\"\",\"★\",INDIRECT($B$2&$T$2&$A55))","v":"★"},{"$f":"IF(INDIRECT($B$2&$U$2&$A55)=\"\",\"★\",INDIRECT($B$2&$U$2&$A55))","v":"★"},{"$f":"IF(INDIRECT($B$2&$V$2&$A55)=\"\",\"★\",INDIRECT($B$2&$V$2&$A55))","v":"★"},{"$f":"IF(INDIRECT($B$2&$W$2&$A55)=\"\",\"★\",INDIRECT($B$2&$W$2&$A55))","v":"★"},{"$f":"IF(INDIRECT($B$2&$X$2&$A55)=\"\",\"★\",INDIRECT($B$2&$X$2&$A55))","v":"★"},{"$f":"IF(INDIRECT($B$2&$Y$2&$A55)=\"\",\"★\",INDIRECT($B$2&$Y$2&$A55))","v":"★"},{"$f":"IF(INDIRECT($B$2&$Z$2&$A55)=\"\",\"★\",INDIRECT($B$2&$Z$2&$A55))","v":"★"},{"$f":"IF(INDIRECT($B$2&$AA$2&$A55)=\"\",\"★\",INDIRECT($B$2&$AA$2&$A55))","v":"★"},{"$f":"IF(INDIRECT($B$2&$AB$2&$A55)=\"\",\"★\",INDIRECT($B$2&$AB$2&$A55))","v":"★"},{"$f":"IF(INDIRECT($B$2&AC$2&$A55)=\"\",\"★\",INDIRECT($B$2&AC$2&$A55))","v":"★"},{"$f":"IF(INDIRECT($B$2&AD$2&$A55)=\"\",\"★\",INDIRECT($B$2&AD$2&$A55))","v":"★"},{"$f":"IF(INDIRECT($B$2&AE$2&$A55)=\"\",\"★\",INDIRECT($B$2&AE$2&$A55))","v":"★"},{"$f":"IF(INDIRECT($B$2&AF$2&$A55)=\"\",\"★\",INDIRECT($B$2&AF$2&$A55))","v":"★"},{"$f":"IF(INDIRECT($B$2&AG$2&$A55)=\"\",\"★\",INDIRECT($B$2&AG$2&$A55))","v":"★"},{"$f":"IF(INDIRECT($B$2&AH$2&$A55)=\"\",\"★\",INDIRECT($B$2&AH$2&$A55))","v":"★"},{"$f":"IF(INDIRECT($B$2&AI$2&$A55)=\"\",\"★\",INDIRECT($B$2&AI$2&$A55))","v":"★"},{"$f":"IF(INDIRECT($B$2&AJ$2&$A55)=\"\",\"★\",INDIRECT($B$2&AJ$2&$A55))","v":"★"},{"$f":"IF(INDIRECT($B$2&AK$2&$A55)=\"\",\"★\",INDIRECT($B$2&AK$2&$A55))","v":"★"},{"$f":"IF(INDIRECT($B$2&AL$2&$A55)=\"\",\"★\",INDIRECT($B$2&AL$2&$A55))","v":"★"},{"$f":"IF(INDIRECT($B$2&AM$2&$A55)=\"\",\"★\",INDIRECT($B$2&AM$2&$A55))","v":"★"},{"$f":"IF(INDIRECT($B$2&AN$2&$A55)=\"\",\"★\",INDIRECT($B$2&AN$2&$A55))","v":"★"},{"$f":"IF(INDIRECT($B$2&AO$2&$A55)=\"\",\"★\",INDIRECT($B$2&AO$2&$A55))","v":"★"},{"$f":"IF(INDIRECT($B$2&AP$2&$A55)=\"\",\"★\",INDIRECT($B$2&AP$2&$A55))","v":"★"},{"$f":"IF(INDIRECT($B$2&AQ$2&$A55)=\"\",\"★\",INDIRECT($B$2&AQ$2&$A55))","v":"★"},{"$f":"IF(INDIRECT($B$2&AR$2&$A55)=\"\",\"★\",INDIRECT($B$2&AR$2&$A55))","v":0},{"$f":"IF(INDIRECT($B$2&AS$2&$A55)=\"\",\"★\",INDIRECT($B$2&AS$2&$A55))","v":"★"},{"$f":"IF(INDIRECT($B$2&AT$2&$A55)=\"\",\"★\",INDIRECT($B$2&AT$2&$A55))","v":"★"},{"$f":"IF(INDIRECT($B$2&AU$2&$A55)=\"\",\"★\",INDIRECT($B$2&AU$2&$A55))","v":"★"},{"$f":"IF(INDIRECT($B$2&AV$2&$A55)=\"\",\"★\",INDIRECT($B$2&AV$2&$A55))","v":"★"},{"$f":"IF(INDIRECT($B$2&AW$2&$A55)=\"\",\"★\",INDIRECT($B$2&AW$2&$A55))","v":"★"},{"$f":"IF(INDIRECT($B$2&AX$2&$A55)=\"\",\"★\",INDIRECT($B$2&AX$2&$A55))","v":"★"},{"$f":"IF(INDIRECT($B$2&AY$2&$A55)=\"\",\"★\",INDIRECT($B$2&AY$2&$A55))","v":"★"},{"$f":"IF(INDIRECT($B$2&AZ$2&$A55)=\"\",\"★\",INDIRECT($B$2&AZ$2&$A55))","v":"★"},{"$f":"IF(INDIRECT($B$2&BA$2&$A55)=\"\",\"★\",INDIRECT($B$2&BA$2&$A55))","v":"★"},{"$f":"IF(INDIRECT($B$2&BB$2&$A55)=\"\",\"★\",INDIRECT($B$2&BB$2&$A55))","v":"★"},{"$f":"IF(INDIRECT($B$2&BC$2&$A55)=\"\",\"★\",INDIRECT($B$2&BC$2&$A55))","v":"★"},{"$f":"IF(INDIRECT($B$2&BD$2&$A55)=\"\",\"★\",INDIRECT($B$2&BD$2&$A55))","v":"★"},{"$f":"IF(INDIRECT($B$2&BE$2&$A55)=\"\",\"★\",INDIRECT($B$2&BE$2&$A55))","v":"★"},{"$f":"IF(INDIRECT($B$2&BF$2&$A55)=\"\",\"★\",INDIRECT($B$2&BF$2&$A55))","v":"★"},{"$f":"IF(INDIRECT($B$2&BG$2&$A55)=\"\",\"★\",INDIRECT($B$2&BG$2&$A55))","v":0},{"$f":"IF(INDIRECT($B$2&BH$2&$A55)=\"\",\"★\",INDIRECT($B$2&BH$2&$A55))","v":"★"},{"$f":"IF(INDIRECT($B$2&BI$2&$A55)=\"\",\"★\",INDIRECT($B$2&BI$2&$A55))","v":"★"},{"$f":"IF(INDIRECT($B$2&BJ$2&$A55)=\"\",\"★\",INDIRECT($B$2&BJ$2&$A55))","v":"★"},{"$f":"IF(INDIRECT($B$2&BK$2&$A55)=\"\",\"★\",INDIRECT($B$2&BK$2&$A55))","v":"★"},{"$f":"IF(INDIRECT($B$2&BL$2&$A55)=\"\",\"★\",INDIRECT($B$2&BL$2&$A55))","v":"★"},{"$f":"IF(INDIRECT($B$2&BM$2&$A55)=\"\",\"★\",INDIRECT($B$2&BM$2&$A55))","v":"★"},{"$f":"IF(INDIRECT($B$2&BN$2&$A55)=\"\",\"★\",INDIRECT($B$2&BN$2&$A55))","v":"★"},{"$f":"IF(INDIRECT($B$2&BO$2&$A55)=\"\",\"★\",INDIRECT($B$2&BO$2&$A55))","v":"★"},{"$f":"IF(INDIRECT($B$2&BP$2&$A55)=\"\",\"★\",INDIRECT($B$2&BP$2&$A55))","v":"★"},{"$f":"IF(INDIRECT($B$2&BQ$2&$A55)=\"\",\"★\",INDIRECT($B$2&BQ$2&$A55))","v":"★"},{"$f":"IF(INDIRECT($B$2&BR$2&$A55)=\"\",\"★\",INDIRECT($B$2&BR$2&$A55))","v":"★"},{"$f":"IF(INDIRECT($B$2&BS$2&$A55)=\"\",\"★\",INDIRECT($B$2&BS$2&$A55))","v":"★"},{"$f":"IF(INDIRECT($B$2&BT$2&$A55)=\"\",\"★\",INDIRECT($B$2&BT$2&$A55))","v":"★"},{"$f":"IF(INDIRECT($B$2&BU$2&$A55)=\"\",\"★\",INDIRECT($B$2&BU$2&$A55))","v":"★"},{"$f":"IF(INDIRECT($B$2&BV$2&$A55)=\"\",\"★\",INDIRECT($B$2&BV$2&$A55))","v":"★"},{"$f":"IF(INDIRECT($B$2&BW$2&$A55)=\"\",\"★\",INDIRECT($B$2&BW$2&$A55))","v":"★"},{"$f":"IF(INDIRECT($B$2&BX$2&$A55)=\"\",\"★\",INDIRECT($B$2&BX$2&$A55))","v":"★"},{"$f":"IF(INDIRECT($B$2&BY$2&$A55)=\"\",\"★\",INDIRECT($B$2&BY$2&$A55))","v":"★"}]
[82,null,null,null,null,null,null,null,null,null,null,null,null,46,{"$f":"IF(INDIRECT($B$2&$O$2&$A56)=\"\",\"★\",INDIRECT($B$2&$O$2&$A56))","v":"★"},{"$f":"IF(INDIRECT($B$2&$P$2&$A56)=\"\",\"★\",INDIRECT($B$2&$P$2&$A56))","v":0},{"$f":"IF(INDIRECT($B$2&$Q$2&$A56)=\"\",\"★\",INDIRECT($B$2&$Q$2&$A56))","v":0},{"$f":"IF(INDIRECT($B$2&$R$2&$A56)=\"\",\"★\",INDIRECT($B$2&$R$2&$A56))","v":0},{"$f":"IF(INDIRECT($B$2&$S$2&$A56)=\"\",\"★\",INDIRECT($B$2&$S$2&$A56))","v":"★"},{"$f":"IF(INDIRECT($B$2&$T$2&$A56)=\"\",\"★\",INDIRECT($B$2&$T$2&$A56))","v":"★"},{"$f":"IF(INDIRECT($B$2&$U$2&$A56)=\"\",\"★\",INDIRECT($B$2&$U$2&$A56))","v":"★"},{"$f":"IF(INDIRECT($B$2&$V$2&$A56)=\"\",\"★\",INDIRECT($B$2&$V$2&$A56))","v":"★"},{"$f":"IF(INDIRECT($B$2&$W$2&$A56)=\"\",\"★\",INDIRECT($B$2&$W$2&$A56))","v":"★"},{"$f":"IF(INDIRECT($B$2&$X$2&$A56)=\"\",\"★\",INDIRECT($B$2&$X$2&$A56))","v":"★"},{"$f":"IF(INDIRECT($B$2&$Y$2&$A56)=\"\",\"★\",INDIRECT($B$2&$Y$2&$A56))","v":"★"},{"$f":"IF(INDIRECT($B$2&$Z$2&$A56)=\"\",\"★\",INDIRECT($B$2&$Z$2&$A56))","v":"★"},{"$f":"IF(INDIRECT($B$2&$AA$2&$A56)=\"\",\"★\",INDIRECT($B$2&$AA$2&$A56))","v":"★"},{"$f":"IF(INDIRECT($B$2&$AB$2&$A56)=\"\",\"★\",INDIRECT($B$2&$AB$2&$A56))","v":"★"},{"$f":"IF(INDIRECT($B$2&AC$2&$A56)=\"\",\"★\",INDIRECT($B$2&AC$2&$A56))","v":"★"},{"$f":"IF(INDIRECT($B$2&AD$2&$A56)=\"\",\"★\",INDIRECT($B$2&AD$2&$A56))","v":"★"},{"$f":"IF(INDIRECT($B$2&AE$2&$A56)=\"\",\"★\",INDIRECT($B$2&AE$2&$A56))","v":"★"},{"$f":"IF(INDIRECT($B$2&AF$2&$A56)=\"\",\"★\",INDIRECT($B$2&AF$2&$A56))","v":"★"},{"$f":"IF(INDIRECT($B$2&AG$2&$A56)=\"\",\"★\",INDIRECT($B$2&AG$2&$A56))","v":"★"},{"$f":"IF(INDIRECT($B$2&AH$2&$A56)=\"\",\"★\",INDIRECT($B$2&AH$2&$A56))","v":"★"},{"$f":"IF(INDIRECT($B$2&AI$2&$A56)=\"\",\"★\",INDIRECT($B$2&AI$2&$A56))","v":"★"},{"$f":"IF(INDIRECT($B$2&AJ$2&$A56)=\"\",\"★\",INDIRECT($B$2&AJ$2&$A56))","v":"★"},{"$f":"IF(INDIRECT($B$2&AK$2&$A56)=\"\",\"★\",INDIRECT($B$2&AK$2&$A56))","v":"★"},{"$f":"IF(INDIRECT($B$2&AL$2&$A56)=\"\",\"★\",INDIRECT($B$2&AL$2&$A56))","v":"★"},{"$f":"IF(INDIRECT($B$2&AM$2&$A56)=\"\",\"★\",INDIRECT($B$2&AM$2&$A56))","v":"★"},{"$f":"IF(INDIRECT($B$2&AN$2&$A56)=\"\",\"★\",INDIRECT($B$2&AN$2&$A56))","v":"★"},{"$f":"IF(INDIRECT($B$2&AO$2&$A56)=\"\",\"★\",INDIRECT($B$2&AO$2&$A56))","v":"★"},{"$f":"IF(INDIRECT($B$2&AP$2&$A56)=\"\",\"★\",INDIRECT($B$2&AP$2&$A56))","v":"★"},{"$f":"IF(INDIRECT($B$2&AQ$2&$A56)=\"\",\"★\",INDIRECT($B$2&AQ$2&$A56))","v":"★"},{"$f":"IF(INDIRECT($B$2&AR$2&$A56)=\"\",\"★\",INDIRECT($B$2&AR$2&$A56))","v":0},{"$f":"IF(INDIRECT($B$2&AS$2&$A56)=\"\",\"★\",INDIRECT($B$2&AS$2&$A56))","v":"★"},{"$f":"IF(INDIRECT($B$2&AT$2&$A56)=\"\",\"★\",INDIRECT($B$2&AT$2&$A56))","v":"★"},{"$f":"IF(INDIRECT($B$2&AU$2&$A56)=\"\",\"★\",INDIRECT($B$2&AU$2&$A56))","v":"★"},{"$f":"IF(INDIRECT($B$2&AV$2&$A56)=\"\",\"★\",INDIRECT($B$2&AV$2&$A56))","v":"★"},{"$f":"IF(INDIRECT($B$2&AW$2&$A56)=\"\",\"★\",INDIRECT($B$2&AW$2&$A56))","v":"★"},{"$f":"IF(INDIRECT($B$2&AX$2&$A56)=\"\",\"★\",INDIRECT($B$2&AX$2&$A56))","v":"★"},{"$f":"IF(INDIRECT($B$2&AY$2&$A56)=\"\",\"★\",INDIRECT($B$2&AY$2&$A56))","v":"★"},{"$f":"IF(INDIRECT($B$2&AZ$2&$A56)=\"\",\"★\",INDIRECT($B$2&AZ$2&$A56))","v":"★"},{"$f":"IF(INDIRECT($B$2&BA$2&$A56)=\"\",\"★\",INDIRECT($B$2&BA$2&$A56))","v":"★"},{"$f":"IF(INDIRECT($B$2&BB$2&$A56)=\"\",\"★\",INDIRECT($B$2&BB$2&$A56))","v":"★"},{"$f":"IF(INDIRECT($B$2&BC$2&$A56)=\"\",\"★\",INDIRECT($B$2&BC$2&$A56))","v":"★"},{"$f":"IF(INDIRECT($B$2&BD$2&$A56)=\"\",\"★\",INDIRECT($B$2&BD$2&$A56))","v":"★"},{"$f":"IF(INDIRECT($B$2&BE$2&$A56)=\"\",\"★\",INDIRECT($B$2&BE$2&$A56))","v":"★"},{"$f":"IF(INDIRECT($B$2&BF$2&$A56)=\"\",\"★\",INDIRECT($B$2&BF$2&$A56))","v":"★"},{"$f":"IF(INDIRECT($B$2&BG$2&$A56)=\"\",\"★\",INDIRECT($B$2&BG$2&$A56))","v":0},{"$f":"IF(INDIRECT($B$2&BH$2&$A56)=\"\",\"★\",INDIRECT($B$2&BH$2&$A56))","v":"★"},{"$f":"IF(INDIRECT($B$2&BI$2&$A56)=\"\",\"★\",INDIRECT($B$2&BI$2&$A56))","v":"★"},{"$f":"IF(INDIRECT($B$2&BJ$2&$A56)=\"\",\"★\",INDIRECT($B$2&BJ$2&$A56))","v":"★"},{"$f":"IF(INDIRECT($B$2&BK$2&$A56)=\"\",\"★\",INDIRECT($B$2&BK$2&$A56))","v":"★"},{"$f":"IF(INDIRECT($B$2&BL$2&$A56)=\"\",\"★\",INDIRECT($B$2&BL$2&$A56))","v":"★"},{"$f":"IF(INDIRECT($B$2&BM$2&$A56)=\"\",\"★\",INDIRECT($B$2&BM$2&$A56))","v":"★"},{"$f":"IF(INDIRECT($B$2&BN$2&$A56)=\"\",\"★\",INDIRECT($B$2&BN$2&$A56))","v":"★"},{"$f":"IF(INDIRECT($B$2&BO$2&$A56)=\"\",\"★\",INDIRECT($B$2&BO$2&$A56))","v":"★"},{"$f":"IF(INDIRECT($B$2&BP$2&$A56)=\"\",\"★\",INDIRECT($B$2&BP$2&$A56))","v":"★"},{"$f":"IF(INDIRECT($B$2&BQ$2&$A56)=\"\",\"★\",INDIRECT($B$2&BQ$2&$A56))","v":"★"},{"$f":"IF(INDIRECT($B$2&BR$2&$A56)=\"\",\"★\",INDIRECT($B$2&BR$2&$A56))","v":"★"},{"$f":"IF(INDIRECT($B$2&BS$2&$A56)=\"\",\"★\",INDIRECT($B$2&BS$2&$A56))","v":"★"},{"$f":"IF(INDIRECT($B$2&BT$2&$A56)=\"\",\"★\",INDIRECT($B$2&BT$2&$A56))","v":"★"},{"$f":"IF(INDIRECT($B$2&BU$2&$A56)=\"\",\"★\",INDIRECT($B$2&BU$2&$A56))","v":"★"},{"$f":"IF(INDIRECT($B$2&BV$2&$A56)=\"\",\"★\",INDIRECT($B$2&BV$2&$A56))","v":"★"},{"$f":"IF(INDIRECT($B$2&BW$2&$A56)=\"\",\"★\",INDIRECT($B$2&BW$2&$A56))","v":"★"},{"$f":"IF(INDIRECT($B$2&BX$2&$A56)=\"\",\"★\",INDIRECT($B$2&BX$2&$A56))","v":"★"},{"$f":"IF(INDIRECT($B$2&BY$2&$A56)=\"\",\"★\",INDIRECT($B$2&BY$2&$A56))","v":"★"}]
[83,null,null,null,null,null,null,null,null,null,null,null,null,47,{"$f":"IF(INDIRECT($B$2&$O$2&$A57)=\"\",\"★\",INDIRECT($B$2&$O$2&$A57))","v":"★"},{"$f":"IF(INDIRECT($B$2&$P$2&$A57)=\"\",\"★\",INDIRECT($B$2&$P$2&$A57))","v":0},{"$f":"IF(INDIRECT($B$2&$Q$2&$A57)=\"\",\"★\",INDIRECT($B$2&$Q$2&$A57))","v":0},{"$f":"IF(INDIRECT($B$2&$R$2&$A57)=\"\",\"★\",INDIRECT($B$2&$R$2&$A57))","v":0},{"$f":"IF(INDIRECT($B$2&$S$2&$A57)=\"\",\"★\",INDIRECT($B$2&$S$2&$A57))","v":"★"},{"$f":"IF(INDIRECT($B$2&$T$2&$A57)=\"\",\"★\",INDIRECT($B$2&$T$2&$A57))","v":"★"},{"$f":"IF(INDIRECT($B$2&$U$2&$A57)=\"\",\"★\",INDIRECT($B$2&$U$2&$A57))","v":"★"},{"$f":"IF(INDIRECT($B$2&$V$2&$A57)=\"\",\"★\",INDIRECT($B$2&$V$2&$A57))","v":"★"},{"$f":"IF(INDIRECT($B$2&$W$2&$A57)=\"\",\"★\",INDIRECT($B$2&$W$2&$A57))","v":"★"},{"$f":"IF(INDIRECT($B$2&$X$2&$A57)=\"\",\"★\",INDIRECT($B$2&$X$2&$A57))","v":"★"},{"$f":"IF(INDIRECT($B$2&$Y$2&$A57)=\"\",\"★\",INDIRECT($B$2&$Y$2&$A57))","v":"★"},{"$f":"IF(INDIRECT($B$2&$Z$2&$A57)=\"\",\"★\",INDIRECT($B$2&$Z$2&$A57))","v":"★"},{"$f":"IF(INDIRECT($B$2&$AA$2&$A57)=\"\",\"★\",INDIRECT($B$2&$AA$2&$A57))","v":"★"},{"$f":"IF(INDIRECT($B$2&$AB$2&$A57)=\"\",\"★\",INDIRECT($B$2&$AB$2&$A57))","v":"★"},{"$f":"IF(INDIRECT($B$2&AC$2&$A57)=\"\",\"★\",INDIRECT($B$2&AC$2&$A57))","v":"★"},{"$f":"IF(INDIRECT($B$2&AD$2&$A57)=\"\",\"★\",INDIRECT($B$2&AD$2&$A57))","v":"★"},{"$f":"IF(INDIRECT($B$2&AE$2&$A57)=\"\",\"★\",INDIRECT($B$2&AE$2&$A57))","v":"★"},{"$f":"IF(INDIRECT($B$2&AF$2&$A57)=\"\",\"★\",INDIRECT($B$2&AF$2&$A57))","v":"★"},{"$f":"IF(INDIRECT($B$2&AG$2&$A57)=\"\",\"★\",INDIRECT($B$2&AG$2&$A57))","v":"★"},{"$f":"IF(INDIRECT($B$2&AH$2&$A57)=\"\",\"★\",INDIRECT($B$2&AH$2&$A57))","v":"★"},{"$f":"IF(INDIRECT($B$2&AI$2&$A57)=\"\",\"★\",INDIRECT($B$2&AI$2&$A57))","v":"★"},{"$f":"IF(INDIRECT($B$2&AJ$2&$A57)=\"\",\"★\",INDIRECT($B$2&AJ$2&$A57))","v":"★"},{"$f":"IF(INDIRECT($B$2&AK$2&$A57)=\"\",\"★\",INDIRECT($B$2&AK$2&$A57))","v":"★"},{"$f":"IF(INDIRECT($B$2&AL$2&$A57)=\"\",\"★\",INDIRECT($B$2&AL$2&$A57))","v":"★"},{"$f":"IF(INDIRECT($B$2&AM$2&$A57)=\"\",\"★\",INDIRECT($B$2&AM$2&$A57))","v":"★"},{"$f":"IF(INDIRECT($B$2&AN$2&$A57)=\"\",\"★\",INDIRECT($B$2&AN$2&$A57))","v":"★"},{"$f":"IF(INDIRECT($B$2&AO$2&$A57)=\"\",\"★\",INDIRECT($B$2&AO$2&$A57))","v":"★"},{"$f":"IF(INDIRECT($B$2&AP$2&$A57)=\"\",\"★\",INDIRECT($B$2&AP$2&$A57))","v":"★"},{"$f":"IF(INDIRECT($B$2&AQ$2&$A57)=\"\",\"★\",INDIRECT($B$2&AQ$2&$A57))","v":"★"},{"$f":"IF(INDIRECT($B$2&AR$2&$A57)=\"\",\"★\",INDIRECT($B$2&AR$2&$A57))","v":0},{"$f":"IF(INDIRECT($B$2&AS$2&$A57)=\"\",\"★\",INDIRECT($B$2&AS$2&$A57))","v":"★"},{"$f":"IF(INDIRECT($B$2&AT$2&$A57)=\"\",\"★\",INDIRECT($B$2&AT$2&$A57))","v":"★"},{"$f":"IF(INDIRECT($B$2&AU$2&$A57)=\"\",\"★\",INDIRECT($B$2&AU$2&$A57))","v":"★"},{"$f":"IF(INDIRECT($B$2&AV$2&$A57)=\"\",\"★\",INDIRECT($B$2&AV$2&$A57))","v":"★"},{"$f":"IF(INDIRECT($B$2&AW$2&$A57)=\"\",\"★\",INDIRECT($B$2&AW$2&$A57))","v":"★"},{"$f":"IF(INDIRECT($B$2&AX$2&$A57)=\"\",\"★\",INDIRECT($B$2&AX$2&$A57))","v":"★"},{"$f":"IF(INDIRECT($B$2&AY$2&$A57)=\"\",\"★\",INDIRECT($B$2&AY$2&$A57))","v":"★"},{"$f":"IF(INDIRECT($B$2&AZ$2&$A57)=\"\",\"★\",INDIRECT($B$2&AZ$2&$A57))","v":"★"},{"$f":"IF(INDIRECT($B$2&BA$2&$A57)=\"\",\"★\",INDIRECT($B$2&BA$2&$A57))","v":"★"},{"$f":"IF(INDIRECT($B$2&BB$2&$A57)=\"\",\"★\",INDIRECT($B$2&BB$2&$A57))","v":"★"},{"$f":"IF(INDIRECT($B$2&BC$2&$A57)=\"\",\"★\",INDIRECT($B$2&BC$2&$A57))","v":"★"},{"$f":"IF(INDIRECT($B$2&BD$2&$A57)=\"\",\"★\",INDIRECT($B$2&BD$2&$A57))","v":"★"},{"$f":"IF(INDIRECT($B$2&BE$2&$A57)=\"\",\"★\",INDIRECT($B$2&BE$2&$A57))","v":"★"},{"$f":"IF(INDIRECT($B$2&BF$2&$A57)=\"\",\"★\",INDIRECT($B$2&BF$2&$A57))","v":"★"},{"$f":"IF(INDIRECT($B$2&BG$2&$A57)=\"\",\"★\",INDIRECT($B$2&BG$2&$A57))","v":0},{"$f":"IF(INDIRECT($B$2&BH$2&$A57)=\"\",\"★\",INDIRECT($B$2&BH$2&$A57))","v":"★"},{"$f":"IF(INDIRECT($B$2&BI$2&$A57)=\"\",\"★\",INDIRECT($B$2&BI$2&$A57))","v":"★"},{"$f":"IF(INDIRECT($B$2&BJ$2&$A57)=\"\",\"★\",INDIRECT($B$2&BJ$2&$A57))","v":"★"},{"$f":"IF(INDIRECT($B$2&BK$2&$A57)=\"\",\"★\",INDIRECT($B$2&BK$2&$A57))","v":"★"},{"$f":"IF(INDIRECT($B$2&BL$2&$A57)=\"\",\"★\",INDIRECT($B$2&BL$2&$A57))","v":"★"},{"$f":"IF(INDIRECT($B$2&BM$2&$A57)=\"\",\"★\",INDIRECT($B$2&BM$2&$A57))","v":"★"},{"$f":"IF(INDIRECT($B$2&BN$2&$A57)=\"\",\"★\",INDIRECT($B$2&BN$2&$A57))","v":"★"},{"$f":"IF(INDIRECT($B$2&BO$2&$A57)=\"\",\"★\",INDIRECT($B$2&BO$2&$A57))","v":"★"},{"$f":"IF(INDIRECT($B$2&BP$2&$A57)=\"\",\"★\",INDIRECT($B$2&BP$2&$A57))","v":"★"},{"$f":"IF(INDIRECT($B$2&BQ$2&$A57)=\"\",\"★\",INDIRECT($B$2&BQ$2&$A57))","v":"★"},{"$f":"IF(INDIRECT($B$2&BR$2&$A57)=\"\",\"★\",INDIRECT($B$2&BR$2&$A57))","v":"★"},{"$f":"IF(INDIRECT($B$2&BS$2&$A57)=\"\",\"★\",INDIRECT($B$2&BS$2&$A57))","v":"★"},{"$f":"IF(INDIRECT($B$2&BT$2&$A57)=\"\",\"★\",INDIRECT($B$2&BT$2&$A57))","v":"★"},{"$f":"IF(INDIRECT($B$2&BU$2&$A57)=\"\",\"★\",INDIRECT($B$2&BU$2&$A57))","v":"★"},{"$f":"IF(INDIRECT($B$2&BV$2&$A57)=\"\",\"★\",INDIRECT($B$2&BV$2&$A57))","v":"★"},{"$f":"IF(INDIRECT($B$2&BW$2&$A57)=\"\",\"★\",INDIRECT($B$2&BW$2&$A57))","v":"★"},{"$f":"IF(INDIRECT($B$2&BX$2&$A57)=\"\",\"★\",INDIRECT($B$2&BX$2&$A57))","v":"★"},{"$f":"IF(INDIRECT($B$2&BY$2&$A57)=\"\",\"★\",INDIRECT($B$2&BY$2&$A57))","v":"★"}]
[84,null,null,null,null,null,null,null,null,null,null,null,null,48,{"$f":"IF(INDIRECT($B$2&$O$2&$A58)=\"\",\"★\",INDIRECT($B$2&$O$2&$A58))","v":"★"},{"$f":"IF(INDIRECT($B$2&$P$2&$A58)=\"\",\"★\",INDIRECT($B$2&$P$2&$A58))","v":0},{"$f":"IF(INDIRECT($B$2&$Q$2&$A58)=\"\",\"★\",INDIRECT($B$2&$Q$2&$A58))","v":0},{"$f":"IF(INDIRECT($B$2&$R$2&$A58)=\"\",\"★\",INDIRECT($B$2&$R$2&$A58))","v":0},{"$f":"IF(INDIRECT($B$2&$S$2&$A58)=\"\",\"★\",INDIRECT($B$2&$S$2&$A58))","v":"★"},{"$f":"IF(INDIRECT($B$2&$T$2&$A58)=\"\",\"★\",INDIRECT($B$2&$T$2&$A58))","v":"★"},{"$f":"IF(INDIRECT($B$2&$U$2&$A58)=\"\",\"★\",INDIRECT($B$2&$U$2&$A58))","v":"★"},{"$f":"IF(INDIRECT($B$2&$V$2&$A58)=\"\",\"★\",INDIRECT($B$2&$V$2&$A58))","v":"★"},{"$f":"IF(INDIRECT($B$2&$W$2&$A58)=\"\",\"★\",INDIRECT($B$2&$W$2&$A58))","v":"★"},{"$f":"IF(INDIRECT($B$2&$X$2&$A58)=\"\",\"★\",INDIRECT($B$2&$X$2&$A58))","v":"★"},{"$f":"IF(INDIRECT($B$2&$Y$2&$A58)=\"\",\"★\",INDIRECT($B$2&$Y$2&$A58))","v":"★"},{"$f":"IF(INDIRECT($B$2&$Z$2&$A58)=\"\",\"★\",INDIRECT($B$2&$Z$2&$A58))","v":"★"},{"$f":"IF(INDIRECT($B$2&$AA$2&$A58)=\"\",\"★\",INDIRECT($B$2&$AA$2&$A58))","v":"★"},{"$f":"IF(INDIRECT($B$2&$AB$2&$A58)=\"\",\"★\",INDIRECT($B$2&$AB$2&$A58))","v":"★"},{"$f":"IF(INDIRECT($B$2&AC$2&$A58)=\"\",\"★\",INDIRECT($B$2&AC$2&$A58))","v":"★"},{"$f":"IF(INDIRECT($B$2&AD$2&$A58)=\"\",\"★\",INDIRECT($B$2&AD$2&$A58))","v":"★"},{"$f":"IF(INDIRECT($B$2&AE$2&$A58)=\"\",\"★\",INDIRECT($B$2&AE$2&$A58))","v":"★"},{"$f":"IF(INDIRECT($B$2&AF$2&$A58)=\"\",\"★\",INDIRECT($B$2&AF$2&$A58))","v":"★"},{"$f":"IF(INDIRECT($B$2&AG$2&$A58)=\"\",\"★\",INDIRECT($B$2&AG$2&$A58))","v":"★"},{"$f":"IF(INDIRECT($B$2&AH$2&$A58)=\"\",\"★\",INDIRECT($B$2&AH$2&$A58))","v":"★"},{"$f":"IF(INDIRECT($B$2&AI$2&$A58)=\"\",\"★\",INDIRECT($B$2&AI$2&$A58))","v":"★"},{"$f":"IF(INDIRECT($B$2&AJ$2&$A58)=\"\",\"★\",INDIRECT($B$2&AJ$2&$A58))","v":"★"},{"$f":"IF(INDIRECT($B$2&AK$2&$A58)=\"\",\"★\",INDIRECT($B$2&AK$2&$A58))","v":"★"},{"$f":"IF(INDIRECT($B$2&AL$2&$A58)=\"\",\"★\",INDIRECT($B$2&AL$2&$A58))","v":"★"},{"$f":"IF(INDIRECT($B$2&AM$2&$A58)=\"\",\"★\",INDIRECT($B$2&AM$2&$A58))","v":"★"},{"$f":"IF(INDIRECT($B$2&AN$2&$A58)=\"\",\"★\",INDIRECT($B$2&AN$2&$A58))","v":"★"},{"$f":"IF(INDIRECT($B$2&AO$2&$A58)=\"\",\"★\",INDIRECT($B$2&AO$2&$A58))","v":"★"},{"$f":"IF(INDIRECT($B$2&AP$2&$A58)=\"\",\"★\",INDIRECT($B$2&AP$2&$A58))","v":"★"},{"$f":"IF(INDIRECT($B$2&AQ$2&$A58)=\"\",\"★\",INDIRECT($B$2&AQ$2&$A58))","v":"★"},{"$f":"IF(INDIRECT($B$2&AR$2&$A58)=\"\",\"★\",INDIRECT($B$2&AR$2&$A58))","v":0},{"$f":"IF(INDIRECT($B$2&AS$2&$A58)=\"\",\"★\",INDIRECT($B$2&AS$2&$A58))","v":"★"},{"$f":"IF(INDIRECT($B$2&AT$2&$A58)=\"\",\"★\",INDIRECT($B$2&AT$2&$A58))","v":"★"},{"$f":"IF(INDIRECT($B$2&AU$2&$A58)=\"\",\"★\",INDIRECT($B$2&AU$2&$A58))","v":"★"},{"$f":"IF(INDIRECT($B$2&AV$2&$A58)=\"\",\"★\",INDIRECT($B$2&AV$2&$A58))","v":"★"},{"$f":"IF(INDIRECT($B$2&AW$2&$A58)=\"\",\"★\",INDIRECT($B$2&AW$2&$A58))","v":"★"},{"$f":"IF(INDIRECT($B$2&AX$2&$A58)=\"\",\"★\",INDIRECT($B$2&AX$2&$A58))","v":"★"},{"$f":"IF(INDIRECT($B$2&AY$2&$A58)=\"\",\"★\",INDIRECT($B$2&AY$2&$A58))","v":"★"},{"$f":"IF(INDIRECT($B$2&AZ$2&$A58)=\"\",\"★\",INDIRECT($B$2&AZ$2&$A58))","v":"★"},{"$f":"IF(INDIRECT($B$2&BA$2&$A58)=\"\",\"★\",INDIRECT($B$2&BA$2&$A58))","v":"★"},{"$f":"IF(INDIRECT($B$2&BB$2&$A58)=\"\",\"★\",INDIRECT($B$2&BB$2&$A58))","v":"★"},{"$f":"IF(INDIRECT($B$2&BC$2&$A58)=\"\",\"★\",INDIRECT($B$2&BC$2&$A58))","v":"★"},{"$f":"IF(INDIRECT($B$2&BD$2&$A58)=\"\",\"★\",INDIRECT($B$2&BD$2&$A58))","v":"★"},{"$f":"IF(INDIRECT($B$2&BE$2&$A58)=\"\",\"★\",INDIRECT($B$2&BE$2&$A58))","v":"★"},{"$f":"IF(INDIRECT($B$2&BF$2&$A58)=\"\",\"★\",INDIRECT($B$2&BF$2&$A58))","v":"★"},{"$f":"IF(INDIRECT($B$2&BG$2&$A58)=\"\",\"★\",INDIRECT($B$2&BG$2&$A58))","v":0},{"$f":"IF(INDIRECT($B$2&BH$2&$A58)=\"\",\"★\",INDIRECT($B$2&BH$2&$A58))","v":"★"},{"$f":"IF(INDIRECT($B$2&BI$2&$A58)=\"\",\"★\",INDIRECT($B$2&BI$2&$A58))","v":"★"},{"$f":"IF(INDIRECT($B$2&BJ$2&$A58)=\"\",\"★\",INDIRECT($B$2&BJ$2&$A58))","v":"★"},{"$f":"IF(INDIRECT($B$2&BK$2&$A58)=\"\",\"★\",INDIRECT($B$2&BK$2&$A58))","v":"★"},{"$f":"IF(INDIRECT($B$2&BL$2&$A58)=\"\",\"★\",INDIRECT($B$2&BL$2&$A58))","v":"★"},{"$f":"IF(INDIRECT($B$2&BM$2&$A58)=\"\",\"★\",INDIRECT($B$2&BM$2&$A58))","v":"★"},{"$f":"IF(INDIRECT($B$2&BN$2&$A58)=\"\",\"★\",INDIRECT($B$2&BN$2&$A58))","v":"★"},{"$f":"IF(INDIRECT($B$2&BO$2&$A58)=\"\",\"★\",INDIRECT($B$2&BO$2&$A58))","v":"★"},{"$f":"IF(INDIRECT($B$2&BP$2&$A58)=\"\",\"★\",INDIRECT($B$2&BP$2&$A58))","v":"★"},{"$f":"IF(INDIRECT($B$2&BQ$2&$A58)=\"\",\"★\",INDIRECT($B$2&BQ$2&$A58))","v":"★"},{"$f":"IF(INDIRECT($B$2&BR$2&$A58)=\"\",\"★\",INDIRECT($B$2&BR$2&$A58))","v":"★"},{"$f":"IF(INDIRECT($B$2&BS$2&$A58)=\"\",\"★\",INDIRECT($B$2&BS$2&$A58))","v":"★"},{"$f":"IF(INDIRECT($B$2&BT$2&$A58)=\"\",\"★\",INDIRECT($B$2&BT$2&$A58))","v":"★"},{"$f":"IF(INDIRECT($B$2&BU$2&$A58)=\"\",\"★\",INDIRECT($B$2&BU$2&$A58))","v":"★"},{"$f":"IF(INDIRECT($B$2&BV$2&$A58)=\"\",\"★\",INDIRECT($B$2&BV$2&$A58))","v":"★"},{"$f":"IF(INDIRECT($B$2&BW$2&$A58)=\"\",\"★\",INDIRECT($B$2&BW$2&$A58))","v":"★"},{"$f":"IF(INDIRECT($B$2&BX$2&$A58)=\"\",\"★\",INDIRECT($B$2&BX$2&$A58))","v":"★"},{"$f":"IF(INDIRECT($B$2&BY$2&$A58)=\"\",\"★\",INDIRECT($B$2&BY$2&$A58))","v":"★"}]
[85,null,null,null,null,null,null,null,null,null,null,null,null,49,{"$f":"IF(INDIRECT($B$2&$O$2&$A59)=\"\",\"★\",INDIRECT($B$2&$O$2&$A59))","v":"★"},{"$f":"IF(INDIRECT($B$2&$P$2&$A59)=\"\",\"★\",INDIRECT($B$2&$P$2&$A59))","v":0},{"$f":"IF(INDIRECT($B$2&$Q$2&$A59)=\"\",\"★\",INDIRECT($B$2&$Q$2&$A59))","v":0},{"$f":"IF(INDIRECT($B$2&$R$2&$A59)=\"\",\"★\",INDIRECT($B$2&$R$2&$A59))","v":0},{"$f":"IF(INDIRECT($B$2&$S$2&$A59)=\"\",\"★\",INDIRECT($B$2&$S$2&$A59))","v":"★"},{"$f":"IF(INDIRECT($B$2&$T$2&$A59)=\"\",\"★\",INDIRECT($B$2&$T$2&$A59))","v":"★"},{"$f":"IF(INDIRECT($B$2&$U$2&$A59)=\"\",\"★\",INDIRECT($B$2&$U$2&$A59))","v":"★"},{"$f":"IF(INDIRECT($B$2&$V$2&$A59)=\"\",\"★\",INDIRECT($B$2&$V$2&$A59))","v":"★"},{"$f":"IF(INDIRECT($B$2&$W$2&$A59)=\"\",\"★\",INDIRECT($B$2&$W$2&$A59))","v":"★"},{"$f":"IF(INDIRECT($B$2&$X$2&$A59)=\"\",\"★\",INDIRECT($B$2&$X$2&$A59))","v":"★"},{"$f":"IF(INDIRECT($B$2&$Y$2&$A59)=\"\",\"★\",INDIRECT($B$2&$Y$2&$A59))","v":"★"},{"$f":"IF(INDIRECT($B$2&$Z$2&$A59)=\"\",\"★\",INDIRECT($B$2&$Z$2&$A59))","v":"★"},{"$f":"IF(INDIRECT($B$2&$AA$2&$A59)=\"\",\"★\",INDIRECT($B$2&$AA$2&$A59))","v":"★"},{"$f":"IF(INDIRECT($B$2&$AB$2&$A59)=\"\",\"★\",INDIRECT($B$2&$AB$2&$A59))","v":"★"},{"$f":"IF(INDIRECT($B$2&AC$2&$A59)=\"\",\"★\",INDIRECT($B$2&AC$2&$A59))","v":"★"},{"$f":"IF(INDIRECT($B$2&AD$2&$A59)=\"\",\"★\",INDIRECT($B$2&AD$2&$A59))","v":"★"},{"$f":"IF(INDIRECT($B$2&AE$2&$A59)=\"\",\"★\",INDIRECT($B$2&AE$2&$A59))","v":"★"},{"$f":"IF(INDIRECT($B$2&AF$2&$A59)=\"\",\"★\",INDIRECT($B$2&AF$2&$A59))","v":"★"},{"$f":"IF(INDIRECT($B$2&AG$2&$A59)=\"\",\"★\",INDIRECT($B$2&AG$2&$A59))","v":"★"},{"$f":"IF(INDIRECT($B$2&AH$2&$A59)=\"\",\"★\",INDIRECT($B$2&AH$2&$A59))","v":"★"},{"$f":"IF(INDIRECT($B$2&AI$2&$A59)=\"\",\"★\",INDIRECT($B$2&AI$2&$A59))","v":"★"},{"$f":"IF(INDIRECT($B$2&AJ$2&$A59)=\"\",\"★\",INDIRECT($B$2&AJ$2&$A59))","v":"★"},{"$f":"IF(INDIRECT($B$2&AK$2&$A59)=\"\",\"★\",INDIRECT($B$2&AK$2&$A59))","v":"★"},{"$f":"IF(INDIRECT($B$2&AL$2&$A59)=\"\",\"★\",INDIRECT($B$2&AL$2&$A59))","v":"★"},{"$f":"IF(INDIRECT($B$2&AM$2&$A59)=\"\",\"★\",INDIRECT($B$2&AM$2&$A59))","v":"★"},{"$f":"IF(INDIRECT($B$2&AN$2&$A59)=\"\",\"★\",INDIRECT($B$2&AN$2&$A59))","v":"★"},{"$f":"IF(INDIRECT($B$2&AO$2&$A59)=\"\",\"★\",INDIRECT($B$2&AO$2&$A59))","v":"★"},{"$f":"IF(INDIRECT($B$2&AP$2&$A59)=\"\",\"★\",INDIRECT($B$2&AP$2&$A59))","v":"★"},{"$f":"IF(INDIRECT($B$2&AQ$2&$A59)=\"\",\"★\",INDIRECT($B$2&AQ$2&$A59))","v":"★"},{"$f":"IF(INDIRECT($B$2&AR$2&$A59)=\"\",\"★\",INDIRECT($B$2&AR$2&$A59))","v":0},{"$f":"IF(INDIRECT($B$2&AS$2&$A59)=\"\",\"★\",INDIRECT($B$2&AS$2&$A59))","v":"★"},{"$f":"IF(INDIRECT($B$2&AT$2&$A59)=\"\",\"★\",INDIRECT($B$2&AT$2&$A59))","v":"★"},{"$f":"IF(INDIRECT($B$2&AU$2&$A59)=\"\",\"★\",INDIRECT($B$2&AU$2&$A59))","v":"★"},{"$f":"IF(INDIRECT($B$2&AV$2&$A59)=\"\",\"★\",INDIRECT($B$2&AV$2&$A59))","v":"★"},{"$f":"IF(INDIRECT($B$2&AW$2&$A59)=\"\",\"★\",INDIRECT($B$2&AW$2&$A59))","v":"★"},{"$f":"IF(INDIRECT($B$2&AX$2&$A59)=\"\",\"★\",INDIRECT($B$2&AX$2&$A59))","v":"★"},{"$f":"IF(INDIRECT($B$2&AY$2&$A59)=\"\",\"★\",INDIRECT($B$2&AY$2&$A59))","v":"★"},{"$f":"IF(INDIRECT($B$2&AZ$2&$A59)=\"\",\"★\",INDIRECT($B$2&AZ$2&$A59))","v":"★"},{"$f":"IF(INDIRECT($B$2&BA$2&$A59)=\"\",\"★\",INDIRECT($B$2&BA$2&$A59))","v":"★"},{"$f":"IF(INDIRECT($B$2&BB$2&$A59)=\"\",\"★\",INDIRECT($B$2&BB$2&$A59))","v":"★"},{"$f":"IF(INDIRECT($B$2&BC$2&$A59)=\"\",\"★\",INDIRECT($B$2&BC$2&$A59))","v":"★"},{"$f":"IF(INDIRECT($B$2&BD$2&$A59)=\"\",\"★\",INDIRECT($B$2&BD$2&$A59))","v":"★"},{"$f":"IF(INDIRECT($B$2&BE$2&$A59)=\"\",\"★\",INDIRECT($B$2&BE$2&$A59))","v":"★"},{"$f":"IF(INDIRECT($B$2&BF$2&$A59)=\"\",\"★\",INDIRECT($B$2&BF$2&$A59))","v":"★"},{"$f":"IF(INDIRECT($B$2&BG$2&$A59)=\"\",\"★\",INDIRECT($B$2&BG$2&$A59))","v":0},{"$f":"IF(INDIRECT($B$2&BH$2&$A59)=\"\",\"★\",INDIRECT($B$2&BH$2&$A59))","v":"★"},{"$f":"IF(INDIRECT($B$2&BI$2&$A59)=\"\",\"★\",INDIRECT($B$2&BI$2&$A59))","v":"★"},{"$f":"IF(INDIRECT($B$2&BJ$2&$A59)=\"\",\"★\",INDIRECT($B$2&BJ$2&$A59))","v":"★"},{"$f":"IF(INDIRECT($B$2&BK$2&$A59)=\"\",\"★\",INDIRECT($B$2&BK$2&$A59))","v":"★"},{"$f":"IF(INDIRECT($B$2&BL$2&$A59)=\"\",\"★\",INDIRECT($B$2&BL$2&$A59))","v":"★"},{"$f":"IF(INDIRECT($B$2&BM$2&$A59)=\"\",\"★\",INDIRECT($B$2&BM$2&$A59))","v":"★"},{"$f":"IF(INDIRECT($B$2&BN$2&$A59)=\"\",\"★\",INDIRECT($B$2&BN$2&$A59))","v":"★"},{"$f":"IF(INDIRECT($B$2&BO$2&$A59)=\"\",\"★\",INDIRECT($B$2&BO$2&$A59))","v":"★"},{"$f":"IF(INDIRECT($B$2&BP$2&$A59)=\"\",\"★\",INDIRECT($B$2&BP$2&$A59))","v":"★"},{"$f":"IF(INDIRECT($B$2&BQ$2&$A59)=\"\",\"★\",INDIRECT($B$2&BQ$2&$A59))","v":"★"},{"$f":"IF(INDIRECT($B$2&BR$2&$A59)=\"\",\"★\",INDIRECT($B$2&BR$2&$A59))","v":"★"},{"$f":"IF(INDIRECT($B$2&BS$2&$A59)=\"\",\"★\",INDIRECT($B$2&BS$2&$A59))","v":"★"},{"$f":"IF(INDIRECT($B$2&BT$2&$A59)=\"\",\"★\",INDIRECT($B$2&BT$2&$A59))","v":"★"},{"$f":"IF(INDIRECT($B$2&BU$2&$A59)=\"\",\"★\",INDIRECT($B$2&BU$2&$A59))","v":"★"},{"$f":"IF(INDIRECT($B$2&BV$2&$A59)=\"\",\"★\",INDIRECT($B$2&BV$2&$A59))","v":"★"},{"$f":"IF(INDIRECT($B$2&BW$2&$A59)=\"\",\"★\",INDIRECT($B$2&BW$2&$A59))","v":"★"},{"$f":"IF(INDIRECT($B$2&BX$2&$A59)=\"\",\"★\",INDIRECT($B$2&BX$2&$A59))","v":"★"},{"$f":"IF(INDIRECT($B$2&BY$2&$A59)=\"\",\"★\",INDIRECT($B$2&BY$2&$A59))","v":"★"}]
[86,null,null,null,null,null,null,null,null,null,null,null,null,50,{"$f":"IF(INDIRECT($B$2&$O$2&$A60)=\"\",\"★\",INDIRECT($B$2&$O$2&$A60))","v":"★"},{"$f":"IF(INDIRECT($B$2&$P$2&$A60)=\"\",\"★\",INDIRECT($B$2&$P$2&$A60))","v":0},{"$f":"IF(INDIRECT($B$2&$Q$2&$A60)=\"\",\"★\",INDIRECT($B$2&$Q$2&$A60))","v":0},{"$f":"IF(INDIRECT($B$2&$R$2&$A60)=\"\",\"★\",INDIRECT($B$2&$R$2&$A60))","v":0},{"$f":"IF(INDIRECT($B$2&$S$2&$A60)=\"\",\"★\",INDIRECT($B$2&$S$2&$A60))","v":"★"},{"$f":"IF(INDIRECT($B$2&$T$2&$A60)=\"\",\"★\",INDIRECT($B$2&$T$2&$A60))","v":"★"},{"$f":"IF(INDIRECT($B$2&$U$2&$A60)=\"\",\"★\",INDIRECT($B$2&$U$2&$A60))","v":"★"},{"$f":"IF(INDIRECT($B$2&$V$2&$A60)=\"\",\"★\",INDIRECT($B$2&$V$2&$A60))","v":"★"},{"$f":"IF(INDIRECT($B$2&$W$2&$A60)=\"\",\"★\",INDIRECT($B$2&$W$2&$A60))","v":"★"},{"$f":"IF(INDIRECT($B$2&$X$2&$A60)=\"\",\"★\",INDIRECT($B$2&$X$2&$A60))","v":"★"},{"$f":"IF(INDIRECT($B$2&$Y$2&$A60)=\"\",\"★\",INDIRECT($B$2&$Y$2&$A60))","v":"★"},{"$f":"IF(INDIRECT($B$2&$Z$2&$A60)=\"\",\"★\",INDIRECT($B$2&$Z$2&$A60))","v":"★"},{"$f":"IF(INDIRECT($B$2&$AA$2&$A60)=\"\",\"★\",INDIRECT($B$2&$AA$2&$A60))","v":"★"},{"$f":"IF(INDIRECT($B$2&$AB$2&$A60)=\"\",\"★\",INDIRECT($B$2&$AB$2&$A60))","v":"★"},{"$f":"IF(INDIRECT($B$2&AC$2&$A60)=\"\",\"★\",INDIRECT($B$2&AC$2&$A60))","v":"★"},{"$f":"IF(INDIRECT($B$2&AD$2&$A60)=\"\",\"★\",INDIRECT($B$2&AD$2&$A60))","v":"★"},{"$f":"IF(INDIRECT($B$2&AE$2&$A60)=\"\",\"★\",INDIRECT($B$2&AE$2&$A60))","v":"★"},{"$f":"IF(INDIRECT($B$2&AF$2&$A60)=\"\",\"★\",INDIRECT($B$2&AF$2&$A60))","v":"★"},{"$f":"IF(INDIRECT($B$2&AG$2&$A60)=\"\",\"★\",INDIRECT($B$2&AG$2&$A60))","v":"★"},{"$f":"IF(INDIRECT($B$2&AH$2&$A60)=\"\",\"★\",INDIRECT($B$2&AH$2&$A60))","v":"★"},{"$f":"IF(INDIRECT($B$2&AI$2&$A60)=\"\",\"★\",INDIRECT($B$2&AI$2&$A60))","v":"★"},{"$f":"IF(INDIRECT($B$2&AJ$2&$A60)=\"\",\"★\",INDIRECT($B$2&AJ$2&$A60))","v":"★"},{"$f":"IF(INDIRECT($B$2&AK$2&$A60)=\"\",\"★\",INDIRECT($B$2&AK$2&$A60))","v":"★"},{"$f":"IF(INDIRECT($B$2&AL$2&$A60)=\"\",\"★\",INDIRECT($B$2&AL$2&$A60))","v":"★"},{"$f":"IF(INDIRECT($B$2&AM$2&$A60)=\"\",\"★\",INDIRECT($B$2&AM$2&$A60))","v":"★"},{"$f":"IF(INDIRECT($B$2&AN$2&$A60)=\"\",\"★\",INDIRECT($B$2&AN$2&$A60))","v":"★"},{"$f":"IF(INDIRECT($B$2&AO$2&$A60)=\"\",\"★\",INDIRECT($B$2&AO$2&$A60))","v":"★"},{"$f":"IF(INDIRECT($B$2&AP$2&$A60)=\"\",\"★\",INDIRECT($B$2&AP$2&$A60))","v":"★"},{"$f":"IF(INDIRECT($B$2&AQ$2&$A60)=\"\",\"★\",INDIRECT($B$2&AQ$2&$A60))","v":"★"},{"$f":"IF(INDIRECT($B$2&AR$2&$A60)=\"\",\"★\",INDIRECT($B$2&AR$2&$A60))","v":0},{"$f":"IF(INDIRECT($B$2&AS$2&$A60)=\"\",\"★\",INDIRECT($B$2&AS$2&$A60))","v":"★"},{"$f":"IF(INDIRECT($B$2&AT$2&$A60)=\"\",\"★\",INDIRECT($B$2&AT$2&$A60))","v":"★"},{"$f":"IF(INDIRECT($B$2&AU$2&$A60)=\"\",\"★\",INDIRECT($B$2&AU$2&$A60))","v":"★"},{"$f":"IF(INDIRECT($B$2&AV$2&$A60)=\"\",\"★\",INDIRECT($B$2&AV$2&$A60))","v":"★"},{"$f":"IF(INDIRECT($B$2&AW$2&$A60)=\"\",\"★\",INDIRECT($B$2&AW$2&$A60))","v":"★"},{"$f":"IF(INDIRECT($B$2&AX$2&$A60)=\"\",\"★\",INDIRECT($B$2&AX$2&$A60))","v":"★"},{"$f":"IF(INDIRECT($B$2&AY$2&$A60)=\"\",\"★\",INDIRECT($B$2&AY$2&$A60))","v":"★"},{"$f":"IF(INDIRECT($B$2&AZ$2&$A60)=\"\",\"★\",INDIRECT($B$2&AZ$2&$A60))","v":"★"},{"$f":"IF(INDIRECT($B$2&BA$2&$A60)=\"\",\"★\",INDIRECT($B$2&BA$2&$A60))","v":"★"},{"$f":"IF(INDIRECT($B$2&BB$2&$A60)=\"\",\"★\",INDIRECT($B$2&BB$2&$A60))","v":"★"},{"$f":"IF(INDIRECT($B$2&BC$2&$A60)=\"\",\"★\",INDIRECT($B$2&BC$2&$A60))","v":"★"},{"$f":"IF(INDIRECT($B$2&BD$2&$A60)=\"\",\"★\",INDIRECT($B$2&BD$2&$A60))","v":"★"},{"$f":"IF(INDIRECT($B$2&BE$2&$A60)=\"\",\"★\",INDIRECT($B$2&BE$2&$A60))","v":"★"},{"$f":"IF(INDIRECT($B$2&BF$2&$A60)=\"\",\"★\",INDIRECT($B$2&BF$2&$A60))","v":"★"},{"$f":"IF(INDIRECT($B$2&BG$2&$A60)=\"\",\"★\",INDIRECT($B$2&BG$2&$A60))","v":0},{"$f":"IF(INDIRECT($B$2&BH$2&$A60)=\"\",\"★\",INDIRECT($B$2&BH$2&$A60))","v":"★"},{"$f":"IF(INDIRECT($B$2&BI$2&$A60)=\"\",\"★\",INDIRECT($B$2&BI$2&$A60))","v":"★"},{"$f":"IF(INDIRECT($B$2&BJ$2&$A60)=\"\",\"★\",INDIRECT($B$2&BJ$2&$A60))","v":"★"},{"$f":"IF(INDIRECT($B$2&BK$2&$A60)=\"\",\"★\",INDIRECT($B$2&BK$2&$A60))","v":"★"},{"$f":"IF(INDIRECT($B$2&BL$2&$A60)=\"\",\"★\",INDIRECT($B$2&BL$2&$A60))","v":"★"},{"$f":"IF(INDIRECT($B$2&BM$2&$A60)=\"\",\"★\",INDIRECT($B$2&BM$2&$A60))","v":"★"},{"$f":"IF(INDIRECT($B$2&BN$2&$A60)=\"\",\"★\",INDIRECT($B$2&BN$2&$A60))","v":"★"},{"$f":"IF(INDIRECT($B$2&BO$2&$A60)=\"\",\"★\",INDIRECT($B$2&BO$2&$A60))","v":"★"},{"$f":"IF(INDIRECT($B$2&BP$2&$A60)=\"\",\"★\",INDIRECT($B$2&BP$2&$A60))","v":"★"},{"$f":"IF(INDIRECT($B$2&BQ$2&$A60)=\"\",\"★\",INDIRECT($B$2&BQ$2&$A60))","v":"★"},{"$f":"IF(INDIRECT($B$2&BR$2&$A60)=\"\",\"★\",INDIRECT($B$2&BR$2&$A60))","v":"★"},{"$f":"IF(INDIRECT($B$2&BS$2&$A60)=\"\",\"★\",INDIRECT($B$2&BS$2&$A60))","v":"★"},{"$f":"IF(INDIRECT($B$2&BT$2&$A60)=\"\",\"★\",INDIRECT($B$2&BT$2&$A60))","v":"★"},{"$f":"IF(INDIRECT($B$2&BU$2&$A60)=\"\",\"★\",INDIRECT($B$2&BU$2&$A60))","v":"★"},{"$f":"IF(INDIRECT($B$2&BV$2&$A60)=\"\",\"★\",INDIRECT($B$2&BV$2&$A60))","v":"★"},{"$f":"IF(INDIRECT($B$2&BW$2&$A60)=\"\",\"★\",INDIRECT($B$2&BW$2&$A60))","v":"★"},{"$f":"IF(INDIRECT($B$2&BX$2&$A60)=\"\",\"★\",INDIRECT($B$2&BX$2&$A60))","v":"★"},{"$f":"IF(INDIRECT($B$2&BY$2&$A60)=\"\",\"★\",INDIRECT($B$2&BY$2&$A60))","v":"★"}]
[87,null,null,null,null,null,null,null,null,null,null,null,null,51,{"$f":"IF(INDIRECT($B$2&$O$2&$A61)=\"\",\"★\",INDIRECT($B$2&$O$2&$A61))","v":"★"},{"$f":"IF(INDIRECT($B$2&$P$2&$A61)=\"\",\"★\",INDIRECT($B$2&$P$2&$A61))","v":0},{"$f":"IF(INDIRECT($B$2&$Q$2&$A61)=\"\",\"★\",INDIRECT($B$2&$Q$2&$A61))","v":0},{"$f":"IF(INDIRECT($B$2&$R$2&$A61)=\"\",\"★\",INDIRECT($B$2&$R$2&$A61))","v":0},{"$f":"IF(INDIRECT($B$2&$S$2&$A61)=\"\",\"★\",INDIRECT($B$2&$S$2&$A61))","v":"★"},{"$f":"IF(INDIRECT($B$2&$T$2&$A61)=\"\",\"★\",INDIRECT($B$2&$T$2&$A61))","v":"★"},{"$f":"IF(INDIRECT($B$2&$U$2&$A61)=\"\",\"★\",INDIRECT($B$2&$U$2&$A61))","v":"★"},{"$f":"IF(INDIRECT($B$2&$V$2&$A61)=\"\",\"★\",INDIRECT($B$2&$V$2&$A61))","v":"★"},{"$f":"IF(INDIRECT($B$2&$W$2&$A61)=\"\",\"★\",INDIRECT($B$2&$W$2&$A61))","v":"★"},{"$f":"IF(INDIRECT($B$2&$X$2&$A61)=\"\",\"★\",INDIRECT($B$2&$X$2&$A61))","v":"★"},{"$f":"IF(INDIRECT($B$2&$Y$2&$A61)=\"\",\"★\",INDIRECT($B$2&$Y$2&$A61))","v":"★"},{"$f":"IF(INDIRECT($B$2&$Z$2&$A61)=\"\",\"★\",INDIRECT($B$2&$Z$2&$A61))","v":"★"},{"$f":"IF(INDIRECT($B$2&$AA$2&$A61)=\"\",\"★\",INDIRECT($B$2&$AA$2&$A61))","v":"★"},{"$f":"IF(INDIRECT($B$2&$AB$2&$A61)=\"\",\"★\",INDIRECT($B$2&$AB$2&$A61))","v":"★"},{"$f":"IF(INDIRECT($B$2&AC$2&$A61)=\"\",\"★\",INDIRECT($B$2&AC$2&$A61))","v":"★"},{"$f":"IF(INDIRECT($B$2&AD$2&$A61)=\"\",\"★\",INDIRECT($B$2&AD$2&$A61))","v":"★"},{"$f":"IF(INDIRECT($B$2&AE$2&$A61)=\"\",\"★\",INDIRECT($B$2&AE$2&$A61))","v":"★"},{"$f":"IF(INDIRECT($B$2&AF$2&$A61)=\"\",\"★\",INDIRECT($B$2&AF$2&$A61))","v":"★"},{"$f":"IF(INDIRECT($B$2&AG$2&$A61)=\"\",\"★\",INDIRECT($B$2&AG$2&$A61))","v":"★"},{"$f":"IF(INDIRECT($B$2&AH$2&$A61)=\"\",\"★\",INDIRECT($B$2&AH$2&$A61))","v":"★"},{"$f":"IF(INDIRECT($B$2&AI$2&$A61)=\"\",\"★\",INDIRECT($B$2&AI$2&$A61))","v":"★"},{"$f":"IF(INDIRECT($B$2&AJ$2&$A61)=\"\",\"★\",INDIRECT($B$2&AJ$2&$A61))","v":"★"},{"$f":"IF(INDIRECT($B$2&AK$2&$A61)=\"\",\"★\",INDIRECT($B$2&AK$2&$A61))","v":"★"},{"$f":"IF(INDIRECT($B$2&AL$2&$A61)=\"\",\"★\",INDIRECT($B$2&AL$2&$A61))","v":"★"},{"$f":"IF(INDIRECT($B$2&AM$2&$A61)=\"\",\"★\",INDIRECT($B$2&AM$2&$A61))","v":"★"},{"$f":"IF(INDIRECT($B$2&AN$2&$A61)=\"\",\"★\",INDIRECT($B$2&AN$2&$A61))","v":"★"},{"$f":"IF(INDIRECT($B$2&AO$2&$A61)=\"\",\"★\",INDIRECT($B$2&AO$2&$A61))","v":"★"},{"$f":"IF(INDIRECT($B$2&AP$2&$A61)=\"\",\"★\",INDIRECT($B$2&AP$2&$A61))","v":"★"},{"$f":"IF(INDIRECT($B$2&AQ$2&$A61)=\"\",\"★\",INDIRECT($B$2&AQ$2&$A61))","v":"★"},{"$f":"IF(INDIRECT($B$2&AR$2&$A61)=\"\",\"★\",INDIRECT($B$2&AR$2&$A61))","v":0},{"$f":"IF(INDIRECT($B$2&AS$2&$A61)=\"\",\"★\",INDIRECT($B$2&AS$2&$A61))","v":"★"},{"$f":"IF(INDIRECT($B$2&AT$2&$A61)=\"\",\"★\",INDIRECT($B$2&AT$2&$A61))","v":"★"},{"$f":"IF(INDIRECT($B$2&AU$2&$A61)=\"\",\"★\",INDIRECT($B$2&AU$2&$A61))","v":"★"},{"$f":"IF(INDIRECT($B$2&AV$2&$A61)=\"\",\"★\",INDIRECT($B$2&AV$2&$A61))","v":"★"},{"$f":"IF(INDIRECT($B$2&AW$2&$A61)=\"\",\"★\",INDIRECT($B$2&AW$2&$A61))","v":"★"},{"$f":"IF(INDIRECT($B$2&AX$2&$A61)=\"\",\"★\",INDIRECT($B$2&AX$2&$A61))","v":"★"},{"$f":"IF(INDIRECT($B$2&AY$2&$A61)=\"\",\"★\",INDIRECT($B$2&AY$2&$A61))","v":"★"},{"$f":"IF(INDIRECT($B$2&AZ$2&$A61)=\"\",\"★\",INDIRECT($B$2&AZ$2&$A61))","v":"★"},{"$f":"IF(INDIRECT($B$2&BA$2&$A61)=\"\",\"★\",INDIRECT($B$2&BA$2&$A61))","v":"★"},{"$f":"IF(INDIRECT($B$2&BB$2&$A61)=\"\",\"★\",INDIRECT($B$2&BB$2&$A61))","v":"★"},{"$f":"IF(INDIRECT($B$2&BC$2&$A61)=\"\",\"★\",INDIRECT($B$2&BC$2&$A61))","v":"★"},{"$f":"IF(INDIRECT($B$2&BD$2&$A61)=\"\",\"★\",INDIRECT($B$2&BD$2&$A61))","v":"★"},{"$f":"IF(INDIRECT($B$2&BE$2&$A61)=\"\",\"★\",INDIRECT($B$2&BE$2&$A61))","v":"★"},{"$f":"IF(INDIRECT($B$2&BF$2&$A61)=\"\",\"★\",INDIRECT($B$2&BF$2&$A61))","v":"★"},{"$f":"IF(INDIRECT($B$2&BG$2&$A61)=\"\",\"★\",INDIRECT($B$2&BG$2&$A61))","v":0},{"$f":"IF(INDIRECT($B$2&BH$2&$A61)=\"\",\"★\",INDIRECT($B$2&BH$2&$A61))","v":"★"},{"$f":"IF(INDIRECT($B$2&BI$2&$A61)=\"\",\"★\",INDIRECT($B$2&BI$2&$A61))","v":"★"},{"$f":"IF(INDIRECT($B$2&BJ$2&$A61)=\"\",\"★\",INDIRECT($B$2&BJ$2&$A61))","v":"★"},{"$f":"IF(INDIRECT($B$2&BK$2&$A61)=\"\",\"★\",INDIRECT($B$2&BK$2&$A61))","v":"★"},{"$f":"IF(INDIRECT($B$2&BL$2&$A61)=\"\",\"★\",INDIRECT($B$2&BL$2&$A61))","v":"★"},{"$f":"IF(INDIRECT($B$2&BM$2&$A61)=\"\",\"★\",INDIRECT($B$2&BM$2&$A61))","v":"★"},{"$f":"IF(INDIRECT($B$2&BN$2&$A61)=\"\",\"★\",INDIRECT($B$2&BN$2&$A61))","v":"★"},{"$f":"IF(INDIRECT($B$2&BO$2&$A61)=\"\",\"★\",INDIRECT($B$2&BO$2&$A61))","v":"★"},{"$f":"IF(INDIRECT($B$2&BP$2&$A61)=\"\",\"★\",INDIRECT($B$2&BP$2&$A61))","v":"★"},{"$f":"IF(INDIRECT($B$2&BQ$2&$A61)=\"\",\"★\",INDIRECT($B$2&BQ$2&$A61))","v":"★"},{"$f":"IF(INDIRECT($B$2&BR$2&$A61)=\"\",\"★\",INDIRECT($B$2&BR$2&$A61))","v":"★"},{"$f":"IF(INDIRECT($B$2&BS$2&$A61)=\"\",\"★\",INDIRECT($B$2&BS$2&$A61))","v":"★"},{"$f":"IF(INDIRECT($B$2&BT$2&$A61)=\"\",\"★\",INDIRECT($B$2&BT$2&$A61))","v":"★"},{"$f":"IF(INDIRECT($B$2&BU$2&$A61)=\"\",\"★\",INDIRECT($B$2&BU$2&$A61))","v":"★"},{"$f":"IF(INDIRECT($B$2&BV$2&$A61)=\"\",\"★\",INDIRECT($B$2&BV$2&$A61))","v":"★"},{"$f":"IF(INDIRECT($B$2&BW$2&$A61)=\"\",\"★\",INDIRECT($B$2&BW$2&$A61))","v":"★"},{"$f":"IF(INDIRECT($B$2&BX$2&$A61)=\"\",\"★\",INDIRECT($B$2&BX$2&$A61))","v":"★"},{"$f":"IF(INDIRECT($B$2&BY$2&$A61)=\"\",\"★\",INDIRECT($B$2&BY$2&$A61))","v":"★"}]
[88,null,null,null,null,null,null,null,null,null,null,null,null,52,{"$f":"IF(INDIRECT($B$2&$O$2&$A62)=\"\",\"★\",INDIRECT($B$2&$O$2&$A62))","v":"★"},{"$f":"IF(INDIRECT($B$2&$P$2&$A62)=\"\",\"★\",INDIRECT($B$2&$P$2&$A62))","v":0},{"$f":"IF(INDIRECT($B$2&$Q$2&$A62)=\"\",\"★\",INDIRECT($B$2&$Q$2&$A62))","v":0},{"$f":"IF(INDIRECT($B$2&$R$2&$A62)=\"\",\"★\",INDIRECT($B$2&$R$2&$A62))","v":0},{"$f":"IF(INDIRECT($B$2&$S$2&$A62)=\"\",\"★\",INDIRECT($B$2&$S$2&$A62))","v":"★"},{"$f":"IF(INDIRECT($B$2&$T$2&$A62)=\"\",\"★\",INDIRECT($B$2&$T$2&$A62))","v":"★"},{"$f":"IF(INDIRECT($B$2&$U$2&$A62)=\"\",\"★\",INDIRECT($B$2&$U$2&$A62))","v":"★"},{"$f":"IF(INDIRECT($B$2&$V$2&$A62)=\"\",\"★\",INDIRECT($B$2&$V$2&$A62))","v":"★"},{"$f":"IF(INDIRECT($B$2&$W$2&$A62)=\"\",\"★\",INDIRECT($B$2&$W$2&$A62))","v":"★"},{"$f":"IF(INDIRECT($B$2&$X$2&$A62)=\"\",\"★\",INDIRECT($B$2&$X$2&$A62))","v":"★"},{"$f":"IF(INDIRECT($B$2&$Y$2&$A62)=\"\",\"★\",INDIRECT($B$2&$Y$2&$A62))","v":"★"},{"$f":"IF(INDIRECT($B$2&$Z$2&$A62)=\"\",\"★\",INDIRECT($B$2&$Z$2&$A62))","v":"★"},{"$f":"IF(INDIRECT($B$2&$AA$2&$A62)=\"\",\"★\",INDIRECT($B$2&$AA$2&$A62))","v":"★"},{"$f":"IF(INDIRECT($B$2&$AB$2&$A62)=\"\",\"★\",INDIRECT($B$2&$AB$2&$A62))","v":"★"},{"$f":"IF(INDIRECT($B$2&AC$2&$A62)=\"\",\"★\",INDIRECT($B$2&AC$2&$A62))","v":"★"},{"$f":"IF(INDIRECT($B$2&AD$2&$A62)=\"\",\"★\",INDIRECT($B$2&AD$2&$A62))","v":"★"},{"$f":"IF(INDIRECT($B$2&AE$2&$A62)=\"\",\"★\",INDIRECT($B$2&AE$2&$A62))","v":"★"},{"$f":"IF(INDIRECT($B$2&AF$2&$A62)=\"\",\"★\",INDIRECT($B$2&AF$2&$A62))","v":"★"},{"$f":"IF(INDIRECT($B$2&AG$2&$A62)=\"\",\"★\",INDIRECT($B$2&AG$2&$A62))","v":"★"},{"$f":"IF(INDIRECT($B$2&AH$2&$A62)=\"\",\"★\",INDIRECT($B$2&AH$2&$A62))","v":"★"},{"$f":"IF(INDIRECT($B$2&AI$2&$A62)=\"\",\"★\",INDIRECT($B$2&AI$2&$A62))","v":"★"},{"$f":"IF(INDIRECT($B$2&AJ$2&$A62)=\"\",\"★\",INDIRECT($B$2&AJ$2&$A62))","v":"★"},{"$f":"IF(INDIRECT($B$2&AK$2&$A62)=\"\",\"★\",INDIRECT($B$2&AK$2&$A62))","v":"★"},{"$f":"IF(INDIRECT($B$2&AL$2&$A62)=\"\",\"★\",INDIRECT($B$2&AL$2&$A62))","v":"★"},{"$f":"IF(INDIRECT($B$2&AM$2&$A62)=\"\",\"★\",INDIRECT($B$2&AM$2&$A62))","v":"★"},{"$f":"IF(INDIRECT($B$2&AN$2&$A62)=\"\",\"★\",INDIRECT($B$2&AN$2&$A62))","v":"★"},{"$f":"IF(INDIRECT($B$2&AO$2&$A62)=\"\",\"★\",INDIRECT($B$2&AO$2&$A62))","v":"★"},{"$f":"IF(INDIRECT($B$2&AP$2&$A62)=\"\",\"★\",INDIRECT($B$2&AP$2&$A62))","v":"★"},{"$f":"IF(INDIRECT($B$2&AQ$2&$A62)=\"\",\"★\",INDIRECT($B$2&AQ$2&$A62))","v":"★"},{"$f":"IF(INDIRECT($B$2&AR$2&$A62)=\"\",\"★\",INDIRECT($B$2&AR$2&$A62))","v":0},{"$f":"IF(INDIRECT($B$2&AS$2&$A62)=\"\",\"★\",INDIRECT($B$2&AS$2&$A62))","v":"★"},{"$f":"IF(INDIRECT($B$2&AT$2&$A62)=\"\",\"★\",INDIRECT($B$2&AT$2&$A62))","v":"★"},{"$f":"IF(INDIRECT($B$2&AU$2&$A62)=\"\",\"★\",INDIRECT($B$2&AU$2&$A62))","v":"★"},{"$f":"IF(INDIRECT($B$2&AV$2&$A62)=\"\",\"★\",INDIRECT($B$2&AV$2&$A62))","v":"★"},{"$f":"IF(INDIRECT($B$2&AW$2&$A62)=\"\",\"★\",INDIRECT($B$2&AW$2&$A62))","v":"★"},{"$f":"IF(INDIRECT($B$2&AX$2&$A62)=\"\",\"★\",INDIRECT($B$2&AX$2&$A62))","v":"★"},{"$f":"IF(INDIRECT($B$2&AY$2&$A62)=\"\",\"★\",INDIRECT($B$2&AY$2&$A62))","v":"★"},{"$f":"IF(INDIRECT($B$2&AZ$2&$A62)=\"\",\"★\",INDIRECT($B$2&AZ$2&$A62))","v":"★"},{"$f":"IF(INDIRECT($B$2&BA$2&$A62)=\"\",\"★\",INDIRECT($B$2&BA$2&$A62))","v":"★"},{"$f":"IF(INDIRECT($B$2&BB$2&$A62)=\"\",\"★\",INDIRECT($B$2&BB$2&$A62))","v":"★"},{"$f":"IF(INDIRECT($B$2&BC$2&$A62)=\"\",\"★\",INDIRECT($B$2&BC$2&$A62))","v":"★"},{"$f":"IF(INDIRECT($B$2&BD$2&$A62)=\"\",\"★\",INDIRECT($B$2&BD$2&$A62))","v":"★"},{"$f":"IF(INDIRECT($B$2&BE$2&$A62)=\"\",\"★\",INDIRECT($B$2&BE$2&$A62))","v":"★"},{"$f":"IF(INDIRECT($B$2&BF$2&$A62)=\"\",\"★\",INDIRECT($B$2&BF$2&$A62))","v":"★"},{"$f":"IF(INDIRECT($B$2&BG$2&$A62)=\"\",\"★\",INDIRECT($B$2&BG$2&$A62))","v":0},{"$f":"IF(INDIRECT($B$2&BH$2&$A62)=\"\",\"★\",INDIRECT($B$2&BH$2&$A62))","v":"★"},{"$f":"IF(INDIRECT($B$2&BI$2&$A62)=\"\",\"★\",INDIRECT($B$2&BI$2&$A62))","v":"★"},{"$f":"IF(INDIRECT($B$2&BJ$2&$A62)=\"\",\"★\",INDIRECT($B$2&BJ$2&$A62))","v":"★"},{"$f":"IF(INDIRECT($B$2&BK$2&$A62)=\"\",\"★\",INDIRECT($B$2&BK$2&$A62))","v":"★"},{"$f":"IF(INDIRECT($B$2&BL$2&$A62)=\"\",\"★\",INDIRECT($B$2&BL$2&$A62))","v":"★"},{"$f":"IF(INDIRECT($B$2&BM$2&$A62)=\"\",\"★\",INDIRECT($B$2&BM$2&$A62))","v":"★"},{"$f":"IF(INDIRECT($B$2&BN$2&$A62)=\"\",\"★\",INDIRECT($B$2&BN$2&$A62))","v":"★"},{"$f":"IF(INDIRECT($B$2&BO$2&$A62)=\"\",\"★\",INDIRECT($B$2&BO$2&$A62))","v":"★"},{"$f":"IF(INDIRECT($B$2&BP$2&$A62)=\"\",\"★\",INDIRECT($B$2&BP$2&$A62))","v":"★"},{"$f":"IF(INDIRECT($B$2&BQ$2&$A62)=\"\",\"★\",INDIRECT($B$2&BQ$2&$A62))","v":"★"},{"$f":"IF(INDIRECT($B$2&BR$2&$A62)=\"\",\"★\",INDIRECT($B$2&BR$2&$A62))","v":"★"},{"$f":"IF(INDIRECT($B$2&BS$2&$A62)=\"\",\"★\",INDIRECT($B$2&BS$2&$A62))","v":"★"},{"$f":"IF(INDIRECT($B$2&BT$2&$A62)=\"\",\"★\",INDIRECT($B$2&BT$2&$A62))","v":"★"},{"$f":"IF(INDIRECT($B$2&BU$2&$A62)=\"\",\"★\",INDIRECT($B$2&BU$2&$A62))","v":"★"},{"$f":"IF(INDIRECT($B$2&BV$2&$A62)=\"\",\"★\",INDIRECT($B$2&BV$2&$A62))","v":"★"},{"$f":"IF(INDIRECT($B$2&BW$2&$A62)=\"\",\"★\",INDIRECT($B$2&BW$2&$A62))","v":"★"},{"$f":"IF(INDIRECT($B$2&BX$2&$A62)=\"\",\"★\",INDIRECT($B$2&BX$2&$A62))","v":"★"},{"$f":"IF(INDIRECT($B$2&BY$2&$A62)=\"\",\"★\",INDIRECT($B$2&BY$2&$A62))","v":"★"}]
[89,null,null,null,null,null,null,null,null,null,null,null,null,53,{"$f":"IF(INDIRECT($B$2&$O$2&$A63)=\"\",\"★\",INDIRECT($B$2&$O$2&$A63))","v":"★"},{"$f":"IF(INDIRECT($B$2&$P$2&$A63)=\"\",\"★\",INDIRECT($B$2&$P$2&$A63))","v":0},{"$f":"IF(INDIRECT($B$2&$Q$2&$A63)=\"\",\"★\",INDIRECT($B$2&$Q$2&$A63))","v":0},{"$f":"IF(INDIRECT($B$2&$R$2&$A63)=\"\",\"★\",INDIRECT($B$2&$R$2&$A63))","v":0},{"$f":"IF(INDIRECT($B$2&$S$2&$A63)=\"\",\"★\",INDIRECT($B$2&$S$2&$A63))","v":"★"},{"$f":"IF(INDIRECT($B$2&$T$2&$A63)=\"\",\"★\",INDIRECT($B$2&$T$2&$A63))","v":"★"},{"$f":"IF(INDIRECT($B$2&$U$2&$A63)=\"\",\"★\",INDIRECT($B$2&$U$2&$A63))","v":"★"},{"$f":"IF(INDIRECT($B$2&$V$2&$A63)=\"\",\"★\",INDIRECT($B$2&$V$2&$A63))","v":"★"},{"$f":"IF(INDIRECT($B$2&$W$2&$A63)=\"\",\"★\",INDIRECT($B$2&$W$2&$A63))","v":"★"},{"$f":"IF(INDIRECT($B$2&$X$2&$A63)=\"\",\"★\",INDIRECT($B$2&$X$2&$A63))","v":"★"},{"$f":"IF(INDIRECT($B$2&$Y$2&$A63)=\"\",\"★\",INDIRECT($B$2&$Y$2&$A63))","v":"★"},{"$f":"IF(INDIRECT($B$2&$Z$2&$A63)=\"\",\"★\",INDIRECT($B$2&$Z$2&$A63))","v":"★"},{"$f":"IF(INDIRECT($B$2&$AA$2&$A63)=\"\",\"★\",INDIRECT($B$2&$AA$2&$A63))","v":"★"},{"$f":"IF(INDIRECT($B$2&$AB$2&$A63)=\"\",\"★\",INDIRECT($B$2&$AB$2&$A63))","v":"★"},{"$f":"IF(INDIRECT($B$2&AC$2&$A63)=\"\",\"★\",INDIRECT($B$2&AC$2&$A63))","v":"★"},{"$f":"IF(INDIRECT($B$2&AD$2&$A63)=\"\",\"★\",INDIRECT($B$2&AD$2&$A63))","v":"★"},{"$f":"IF(INDIRECT($B$2&AE$2&$A63)=\"\",\"★\",INDIRECT($B$2&AE$2&$A63))","v":"★"},{"$f":"IF(INDIRECT($B$2&AF$2&$A63)=\"\",\"★\",INDIRECT($B$2&AF$2&$A63))","v":"★"},{"$f":"IF(INDIRECT($B$2&AG$2&$A63)=\"\",\"★\",INDIRECT($B$2&AG$2&$A63))","v":"★"},{"$f":"IF(INDIRECT($B$2&AH$2&$A63)=\"\",\"★\",INDIRECT($B$2&AH$2&$A63))","v":"★"},{"$f":"IF(INDIRECT($B$2&AI$2&$A63)=\"\",\"★\",INDIRECT($B$2&AI$2&$A63))","v":"★"},{"$f":"IF(INDIRECT($B$2&AJ$2&$A63)=\"\",\"★\",INDIRECT($B$2&AJ$2&$A63))","v":"★"},{"$f":"IF(INDIRECT($B$2&AK$2&$A63)=\"\",\"★\",INDIRECT($B$2&AK$2&$A63))","v":"★"},{"$f":"IF(INDIRECT($B$2&AL$2&$A63)=\"\",\"★\",INDIRECT($B$2&AL$2&$A63))","v":"★"},{"$f":"IF(INDIRECT($B$2&AM$2&$A63)=\"\",\"★\",INDIRECT($B$2&AM$2&$A63))","v":"★"},{"$f":"IF(INDIRECT($B$2&AN$2&$A63)=\"\",\"★\",INDIRECT($B$2&AN$2&$A63))","v":"★"},{"$f":"IF(INDIRECT($B$2&AO$2&$A63)=\"\",\"★\",INDIRECT($B$2&AO$2&$A63))","v":"★"},{"$f":"IF(INDIRECT($B$2&AP$2&$A63)=\"\",\"★\",INDIRECT($B$2&AP$2&$A63))","v":"★"},{"$f":"IF(INDIRECT($B$2&AQ$2&$A63)=\"\",\"★\",INDIRECT($B$2&AQ$2&$A63))","v":"★"},{"$f":"IF(INDIRECT($B$2&AR$2&$A63)=\"\",\"★\",INDIRECT($B$2&AR$2&$A63))","v":0},{"$f":"IF(INDIRECT($B$2&AS$2&$A63)=\"\",\"★\",INDIRECT($B$2&AS$2&$A63))","v":"★"},{"$f":"IF(INDIRECT($B$2&AT$2&$A63)=\"\",\"★\",INDIRECT($B$2&AT$2&$A63))","v":"★"},{"$f":"IF(INDIRECT($B$2&AU$2&$A63)=\"\",\"★\",INDIRECT($B$2&AU$2&$A63))","v":"★"},{"$f":"IF(INDIRECT($B$2&AV$2&$A63)=\"\",\"★\",INDIRECT($B$2&AV$2&$A63))","v":"★"},{"$f":"IF(INDIRECT($B$2&AW$2&$A63)=\"\",\"★\",INDIRECT($B$2&AW$2&$A63))","v":"★"},{"$f":"IF(INDIRECT($B$2&AX$2&$A63)=\"\",\"★\",INDIRECT($B$2&AX$2&$A63))","v":"★"},{"$f":"IF(INDIRECT($B$2&AY$2&$A63)=\"\",\"★\",INDIRECT($B$2&AY$2&$A63))","v":"★"},{"$f":"IF(INDIRECT($B$2&AZ$2&$A63)=\"\",\"★\",INDIRECT($B$2&AZ$2&$A63))","v":"★"},{"$f":"IF(INDIRECT($B$2&BA$2&$A63)=\"\",\"★\",INDIRECT($B$2&BA$2&$A63))","v":"★"},{"$f":"IF(INDIRECT($B$2&BB$2&$A63)=\"\",\"★\",INDIRECT($B$2&BB$2&$A63))","v":"★"},{"$f":"IF(INDIRECT($B$2&BC$2&$A63)=\"\",\"★\",INDIRECT($B$2&BC$2&$A63))","v":"★"},{"$f":"IF(INDIRECT($B$2&BD$2&$A63)=\"\",\"★\",INDIRECT($B$2&BD$2&$A63))","v":"★"},{"$f":"IF(INDIRECT($B$2&BE$2&$A63)=\"\",\"★\",INDIRECT($B$2&BE$2&$A63))","v":"★"},{"$f":"IF(INDIRECT($B$2&BF$2&$A63)=\"\",\"★\",INDIRECT($B$2&BF$2&$A63))","v":"★"},{"$f":"IF(INDIRECT($B$2&BG$2&$A63)=\"\",\"★\",INDIRECT($B$2&BG$2&$A63))","v":0},{"$f":"IF(INDIRECT($B$2&BH$2&$A63)=\"\",\"★\",INDIRECT($B$2&BH$2&$A63))","v":"★"},{"$f":"IF(INDIRECT($B$2&BI$2&$A63)=\"\",\"★\",INDIRECT($B$2&BI$2&$A63))","v":"★"},{"$f":"IF(INDIRECT($B$2&BJ$2&$A63)=\"\",\"★\",INDIRECT($B$2&BJ$2&$A63))","v":"★"},{"$f":"IF(INDIRECT($B$2&BK$2&$A63)=\"\",\"★\",INDIRECT($B$2&BK$2&$A63))","v":"★"},{"$f":"IF(INDIRECT($B$2&BL$2&$A63)=\"\",\"★\",INDIRECT($B$2&BL$2&$A63))","v":"★"},{"$f":"IF(INDIRECT($B$2&BM$2&$A63)=\"\",\"★\",INDIRECT($B$2&BM$2&$A63))","v":"★"},{"$f":"IF(INDIRECT($B$2&BN$2&$A63)=\"\",\"★\",INDIRECT($B$2&BN$2&$A63))","v":"★"},{"$f":"IF(INDIRECT($B$2&BO$2&$A63)=\"\",\"★\",INDIRECT($B$2&BO$2&$A63))","v":"★"},{"$f":"IF(INDIRECT($B$2&BP$2&$A63)=\"\",\"★\",INDIRECT($B$2&BP$2&$A63))","v":"★"},{"$f":"IF(INDIRECT($B$2&BQ$2&$A63)=\"\",\"★\",INDIRECT($B$2&BQ$2&$A63))","v":"★"},{"$f":"IF(INDIRECT($B$2&BR$2&$A63)=\"\",\"★\",INDIRECT($B$2&BR$2&$A63))","v":"★"},{"$f":"IF(INDIRECT($B$2&BS$2&$A63)=\"\",\"★\",INDIRECT($B$2&BS$2&$A63))","v":"★"},{"$f":"IF(INDIRECT($B$2&BT$2&$A63)=\"\",\"★\",INDIRECT($B$2&BT$2&$A63))","v":"★"},{"$f":"IF(INDIRECT($B$2&BU$2&$A63)=\"\",\"★\",INDIRECT($B$2&BU$2&$A63))","v":"★"},{"$f":"IF(INDIRECT($B$2&BV$2&$A63)=\"\",\"★\",INDIRECT($B$2&BV$2&$A63))","v":"★"},{"$f":"IF(INDIRECT($B$2&BW$2&$A63)=\"\",\"★\",INDIRECT($B$2&BW$2&$A63))","v":"★"},{"$f":"IF(INDIRECT($B$2&BX$2&$A63)=\"\",\"★\",INDIRECT($B$2&BX$2&$A63))","v":"★"},{"$f":"IF(INDIRECT($B$2&BY$2&$A63)=\"\",\"★\",INDIRECT($B$2&BY$2&$A63))","v":"★"}]
[90,null,null,null,null,null,null,null,null,null,null,null,null,54,{"$f":"IF(INDIRECT($B$2&$O$2&$A64)=\"\",\"★\",INDIRECT($B$2&$O$2&$A64))","v":"★"},{"$f":"IF(INDIRECT($B$2&$P$2&$A64)=\"\",\"★\",INDIRECT($B$2&$P$2&$A64))","v":0},{"$f":"IF(INDIRECT($B$2&$Q$2&$A64)=\"\",\"★\",INDIRECT($B$2&$Q$2&$A64))","v":0},{"$f":"IF(INDIRECT($B$2&$R$2&$A64)=\"\",\"★\",INDIRECT($B$2&$R$2&$A64))","v":0},{"$f":"IF(INDIRECT($B$2&$S$2&$A64)=\"\",\"★\",INDIRECT($B$2&$S$2&$A64))","v":"★"},{"$f":"IF(INDIRECT($B$2&$T$2&$A64)=\"\",\"★\",INDIRECT($B$2&$T$2&$A64))","v":"★"},{"$f":"IF(INDIRECT($B$2&$U$2&$A64)=\"\",\"★\",INDIRECT($B$2&$U$2&$A64))","v":"★"},{"$f":"IF(INDIRECT($B$2&$V$2&$A64)=\"\",\"★\",INDIRECT($B$2&$V$2&$A64))","v":"★"},{"$f":"IF(INDIRECT($B$2&$W$2&$A64)=\"\",\"★\",INDIRECT($B$2&$W$2&$A64))","v":"★"},{"$f":"IF(INDIRECT($B$2&$X$2&$A64)=\"\",\"★\",INDIRECT($B$2&$X$2&$A64))","v":"★"},{"$f":"IF(INDIRECT($B$2&$Y$2&$A64)=\"\",\"★\",INDIRECT($B$2&$Y$2&$A64))","v":"★"},{"$f":"IF(INDIRECT($B$2&$Z$2&$A64)=\"\",\"★\",INDIRECT($B$2&$Z$2&$A64))","v":"★"},{"$f":"IF(INDIRECT($B$2&$AA$2&$A64)=\"\",\"★\",INDIRECT($B$2&$AA$2&$A64))","v":"★"},{"$f":"IF(INDIRECT($B$2&$AB$2&$A64)=\"\",\"★\",INDIRECT($B$2&$AB$2&$A64))","v":"★"},{"$f":"IF(INDIRECT($B$2&AC$2&$A64)=\"\",\"★\",INDIRECT($B$2&AC$2&$A64))","v":"★"},{"$f":"IF(INDIRECT($B$2&AD$2&$A64)=\"\",\"★\",INDIRECT($B$2&AD$2&$A64))","v":"★"},{"$f":"IF(INDIRECT($B$2&AE$2&$A64)=\"\",\"★\",INDIRECT($B$2&AE$2&$A64))","v":"★"},{"$f":"IF(INDIRECT($B$2&AF$2&$A64)=\"\",\"★\",INDIRECT($B$2&AF$2&$A64))","v":"★"},{"$f":"IF(INDIRECT($B$2&AG$2&$A64)=\"\",\"★\",INDIRECT($B$2&AG$2&$A64))","v":"★"},{"$f":"IF(INDIRECT($B$2&AH$2&$A64)=\"\",\"★\",INDIRECT($B$2&AH$2&$A64))","v":"★"},{"$f":"IF(INDIRECT($B$2&AI$2&$A64)=\"\",\"★\",INDIRECT($B$2&AI$2&$A64))","v":"★"},{"$f":"IF(INDIRECT($B$2&AJ$2&$A64)=\"\",\"★\",INDIRECT($B$2&AJ$2&$A64))","v":"★"},{"$f":"IF(INDIRECT($B$2&AK$2&$A64)=\"\",\"★\",INDIRECT($B$2&AK$2&$A64))","v":"★"},{"$f":"IF(INDIRECT($B$2&AL$2&$A64)=\"\",\"★\",INDIRECT($B$2&AL$2&$A64))","v":"★"},{"$f":"IF(INDIRECT($B$2&AM$2&$A64)=\"\",\"★\",INDIRECT($B$2&AM$2&$A64))","v":"★"},{"$f":"IF(INDIRECT($B$2&AN$2&$A64)=\"\",\"★\",INDIRECT($B$2&AN$2&$A64))","v":"★"},{"$f":"IF(INDIRECT($B$2&AO$2&$A64)=\"\",\"★\",INDIRECT($B$2&AO$2&$A64))","v":"★"},{"$f":"IF(INDIRECT($B$2&AP$2&$A64)=\"\",\"★\",INDIRECT($B$2&AP$2&$A64))","v":"★"},{"$f":"IF(INDIRECT($B$2&AQ$2&$A64)=\"\",\"★\",INDIRECT($B$2&AQ$2&$A64))","v":"★"},{"$f":"IF(INDIRECT($B$2&AR$2&$A64)=\"\",\"★\",INDIRECT($B$2&AR$2&$A64))","v":0},{"$f":"IF(INDIRECT($B$2&AS$2&$A64)=\"\",\"★\",INDIRECT($B$2&AS$2&$A64))","v":"★"},{"$f":"IF(INDIRECT($B$2&AT$2&$A64)=\"\",\"★\",INDIRECT($B$2&AT$2&$A64))","v":"★"},{"$f":"IF(INDIRECT($B$2&AU$2&$A64)=\"\",\"★\",INDIRECT($B$2&AU$2&$A64))","v":"★"},{"$f":"IF(INDIRECT($B$2&AV$2&$A64)=\"\",\"★\",INDIRECT($B$2&AV$2&$A64))","v":"★"},{"$f":"IF(INDIRECT($B$2&AW$2&$A64)=\"\",\"★\",INDIRECT($B$2&AW$2&$A64))","v":"★"},{"$f":"IF(INDIRECT($B$2&AX$2&$A64)=\"\",\"★\",INDIRECT($B$2&AX$2&$A64))","v":"★"},{"$f":"IF(INDIRECT($B$2&AY$2&$A64)=\"\",\"★\",INDIRECT($B$2&AY$2&$A64))","v":"★"},{"$f":"IF(INDIRECT($B$2&AZ$2&$A64)=\"\",\"★\",INDIRECT($B$2&AZ$2&$A64))","v":"★"},{"$f":"IF(INDIRECT($B$2&BA$2&$A64)=\"\",\"★\",INDIRECT($B$2&BA$2&$A64))","v":"★"},{"$f":"IF(INDIRECT($B$2&BB$2&$A64)=\"\",\"★\",INDIRECT($B$2&BB$2&$A64))","v":"★"},{"$f":"IF(INDIRECT($B$2&BC$2&$A64)=\"\",\"★\",INDIRECT($B$2&BC$2&$A64))","v":"★"},{"$f":"IF(INDIRECT($B$2&BD$2&$A64)=\"\",\"★\",INDIRECT($B$2&BD$2&$A64))","v":"★"},{"$f":"IF(INDIRECT($B$2&BE$2&$A64)=\"\",\"★\",INDIRECT($B$2&BE$2&$A64))","v":"★"},{"$f":"IF(INDIRECT($B$2&BF$2&$A64)=\"\",\"★\",INDIRECT($B$2&BF$2&$A64))","v":"★"},{"$f":"IF(INDIRECT($B$2&BG$2&$A64)=\"\",\"★\",INDIRECT($B$2&BG$2&$A64))","v":0},{"$f":"IF(INDIRECT($B$2&BH$2&$A64)=\"\",\"★\",INDIRECT($B$2&BH$2&$A64))","v":"★"},{"$f":"IF(INDIRECT($B$2&BI$2&$A64)=\"\",\"★\",INDIRECT($B$2&BI$2&$A64))","v":"★"},{"$f":"IF(INDIRECT($B$2&BJ$2&$A64)=\"\",\"★\",INDIRECT($B$2&BJ$2&$A64))","v":"★"},{"$f":"IF(INDIRECT($B$2&BK$2&$A64)=\"\",\"★\",INDIRECT($B$2&BK$2&$A64))","v":"★"},{"$f":"IF(INDIRECT($B$2&BL$2&$A64)=\"\",\"★\",INDIRECT($B$2&BL$2&$A64))","v":"★"},{"$f":"IF(INDIRECT($B$2&BM$2&$A64)=\"\",\"★\",INDIRECT($B$2&BM$2&$A64))","v":"★"},{"$f":"IF(INDIRECT($B$2&BN$2&$A64)=\"\",\"★\",INDIRECT($B$2&BN$2&$A64))","v":"★"},{"$f":"IF(INDIRECT($B$2&BO$2&$A64)=\"\",\"★\",INDIRECT($B$2&BO$2&$A64))","v":"★"},{"$f":"IF(INDIRECT($B$2&BP$2&$A64)=\"\",\"★\",INDIRECT($B$2&BP$2&$A64))","v":"★"},{"$f":"IF(INDIRECT($B$2&BQ$2&$A64)=\"\",\"★\",INDIRECT($B$2&BQ$2&$A64))","v":"★"},{"$f":"IF(INDIRECT($B$2&BR$2&$A64)=\"\",\"★\",INDIRECT($B$2&BR$2&$A64))","v":"★"},{"$f":"IF(INDIRECT($B$2&BS$2&$A64)=\"\",\"★\",INDIRECT($B$2&BS$2&$A64))","v":"★"},{"$f":"IF(INDIRECT($B$2&BT$2&$A64)=\"\",\"★\",INDIRECT($B$2&BT$2&$A64))","v":"★"},{"$f":"IF(INDIRECT($B$2&BU$2&$A64)=\"\",\"★\",INDIRECT($B$2&BU$2&$A64))","v":"★"},{"$f":"IF(INDIRECT($B$2&BV$2&$A64)=\"\",\"★\",INDIRECT($B$2&BV$2&$A64))","v":"★"},{"$f":"IF(INDIRECT($B$2&BW$2&$A64)=\"\",\"★\",INDIRECT($B$2&BW$2&$A64))","v":"★"},{"$f":"IF(INDIRECT($B$2&BX$2&$A64)=\"\",\"★\",INDIRECT($B$2&BX$2&$A64))","v":"★"},{"$f":"IF(INDIRECT($B$2&BY$2&$A64)=\"\",\"★\",INDIRECT($B$2&BY$2&$A64))","v":"★"}]
[91,null,null,null,null,null,null,null,null,null,null,null,null,55,{"$f":"IF(INDIRECT($B$2&$O$2&$A65)=\"\",\"★\",INDIRECT($B$2&$O$2&$A65))","v":"★"},{"$f":"IF(INDIRECT($B$2&$P$2&$A65)=\"\",\"★\",INDIRECT($B$2&$P$2&$A65))","v":0},{"$f":"IF(INDIRECT($B$2&$Q$2&$A65)=\"\",\"★\",INDIRECT($B$2&$Q$2&$A65))","v":0},{"$f":"IF(INDIRECT($B$2&$R$2&$A65)=\"\",\"★\",INDIRECT($B$2&$R$2&$A65))","v":0},{"$f":"IF(INDIRECT($B$2&$S$2&$A65)=\"\",\"★\",INDIRECT($B$2&$S$2&$A65))","v":"★"},{"$f":"IF(INDIRECT($B$2&$T$2&$A65)=\"\",\"★\",INDIRECT($B$2&$T$2&$A65))","v":"★"},{"$f":"IF(INDIRECT($B$2&$U$2&$A65)=\"\",\"★\",INDIRECT($B$2&$U$2&$A65))","v":"★"},{"$f":"IF(INDIRECT($B$2&$V$2&$A65)=\"\",\"★\",INDIRECT($B$2&$V$2&$A65))","v":"★"},{"$f":"IF(INDIRECT($B$2&$W$2&$A65)=\"\",\"★\",INDIRECT($B$2&$W$2&$A65))","v":"★"},{"$f":"IF(INDIRECT($B$2&$X$2&$A65)=\"\",\"★\",INDIRECT($B$2&$X$2&$A65))","v":"★"},{"$f":"IF(INDIRECT($B$2&$Y$2&$A65)=\"\",\"★\",INDIRECT($B$2&$Y$2&$A65))","v":"★"},{"$f":"IF(INDIRECT($B$2&$Z$2&$A65)=\"\",\"★\",INDIRECT($B$2&$Z$2&$A65))","v":"★"},{"$f":"IF(INDIRECT($B$2&$AA$2&$A65)=\"\",\"★\",INDIRECT($B$2&$AA$2&$A65))","v":"★"},{"$f":"IF(INDIRECT($B$2&$AB$2&$A65)=\"\",\"★\",INDIRECT($B$2&$AB$2&$A65))","v":"★"},{"$f":"IF(INDIRECT($B$2&AC$2&$A65)=\"\",\"★\",INDIRECT($B$2&AC$2&$A65))","v":"★"},{"$f":"IF(INDIRECT($B$2&AD$2&$A65)=\"\",\"★\",INDIRECT($B$2&AD$2&$A65))","v":"★"},{"$f":"IF(INDIRECT($B$2&AE$2&$A65)=\"\",\"★\",INDIRECT($B$2&AE$2&$A65))","v":"★"},{"$f":"IF(INDIRECT($B$2&AF$2&$A65)=\"\",\"★\",INDIRECT($B$2&AF$2&$A65))","v":"★"},{"$f":"IF(INDIRECT($B$2&AG$2&$A65)=\"\",\"★\",INDIRECT($B$2&AG$2&$A65))","v":"★"},{"$f":"IF(INDIRECT($B$2&AH$2&$A65)=\"\",\"★\",INDIRECT($B$2&AH$2&$A65))","v":"★"},{"$f":"IF(INDIRECT($B$2&AI$2&$A65)=\"\",\"★\",INDIRECT($B$2&AI$2&$A65))","v":"★"},{"$f":"IF(INDIRECT($B$2&AJ$2&$A65)=\"\",\"★\",INDIRECT($B$2&AJ$2&$A65))","v":"★"},{"$f":"IF(INDIRECT($B$2&AK$2&$A65)=\"\",\"★\",INDIRECT($B$2&AK$2&$A65))","v":"★"},{"$f":"IF(INDIRECT($B$2&AL$2&$A65)=\"\",\"★\",INDIRECT($B$2&AL$2&$A65))","v":"★"},{"$f":"IF(INDIRECT($B$2&AM$2&$A65)=\"\",\"★\",INDIRECT($B$2&AM$2&$A65))","v":"★"},{"$f":"IF(INDIRECT($B$2&AN$2&$A65)=\"\",\"★\",INDIRECT($B$2&AN$2&$A65))","v":"★"},{"$f":"IF(INDIRECT($B$2&AO$2&$A65)=\"\",\"★\",INDIRECT($B$2&AO$2&$A65))","v":"★"},{"$f":"IF(INDIRECT($B$2&AP$2&$A65)=\"\",\"★\",INDIRECT($B$2&AP$2&$A65))","v":"★"},{"$f":"IF(INDIRECT($B$2&AQ$2&$A65)=\"\",\"★\",INDIRECT($B$2&AQ$2&$A65))","v":"★"},{"$f":"IF(INDIRECT($B$2&AR$2&$A65)=\"\",\"★\",INDIRECT($B$2&AR$2&$A65))","v":0},{"$f":"IF(INDIRECT($B$2&AS$2&$A65)=\"\",\"★\",INDIRECT($B$2&AS$2&$A65))","v":"★"},{"$f":"IF(INDIRECT($B$2&AT$2&$A65)=\"\",\"★\",INDIRECT($B$2&AT$2&$A65))","v":"★"},{"$f":"IF(INDIRECT($B$2&AU$2&$A65)=\"\",\"★\",INDIRECT($B$2&AU$2&$A65))","v":"★"},{"$f":"IF(INDIRECT($B$2&AV$2&$A65)=\"\",\"★\",INDIRECT($B$2&AV$2&$A65))","v":"★"},{"$f":"IF(INDIRECT($B$2&AW$2&$A65)=\"\",\"★\",INDIRECT($B$2&AW$2&$A65))","v":"★"},{"$f":"IF(INDIRECT($B$2&AX$2&$A65)=\"\",\"★\",INDIRECT($B$2&AX$2&$A65))","v":"★"},{"$f":"IF(INDIRECT($B$2&AY$2&$A65)=\"\",\"★\",INDIRECT($B$2&AY$2&$A65))","v":"★"},{"$f":"IF(INDIRECT($B$2&AZ$2&$A65)=\"\",\"★\",INDIRECT($B$2&AZ$2&$A65))","v":"★"},{"$f":"IF(INDIRECT($B$2&BA$2&$A65)=\"\",\"★\",INDIRECT($B$2&BA$2&$A65))","v":"★"},{"$f":"IF(INDIRECT($B$2&BB$2&$A65)=\"\",\"★\",INDIRECT($B$2&BB$2&$A65))","v":"★"},{"$f":"IF(INDIRECT($B$2&BC$2&$A65)=\"\",\"★\",INDIRECT($B$2&BC$2&$A65))","v":"★"},{"$f":"IF(INDIRECT($B$2&BD$2&$A65)=\"\",\"★\",INDIRECT($B$2&BD$2&$A65))","v":"★"},{"$f":"IF(INDIRECT($B$2&BE$2&$A65)=\"\",\"★\",INDIRECT($B$2&BE$2&$A65))","v":"★"},{"$f":"IF(INDIRECT($B$2&BF$2&$A65)=\"\",\"★\",INDIRECT($B$2&BF$2&$A65))","v":"★"},{"$f":"IF(INDIRECT($B$2&BG$2&$A65)=\"\",\"★\",INDIRECT($B$2&BG$2&$A65))","v":0},{"$f":"IF(INDIRECT($B$2&BH$2&$A65)=\"\",\"★\",INDIRECT($B$2&BH$2&$A65))","v":"★"},{"$f":"IF(INDIRECT($B$2&BI$2&$A65)=\"\",\"★\",INDIRECT($B$2&BI$2&$A65))","v":"★"},{"$f":"IF(INDIRECT($B$2&BJ$2&$A65)=\"\",\"★\",INDIRECT($B$2&BJ$2&$A65))","v":"★"},{"$f":"IF(INDIRECT($B$2&BK$2&$A65)=\"\",\"★\",INDIRECT($B$2&BK$2&$A65))","v":"★"},{"$f":"IF(INDIRECT($B$2&BL$2&$A65)=\"\",\"★\",INDIRECT($B$2&BL$2&$A65))","v":"★"},{"$f":"IF(INDIRECT($B$2&BM$2&$A65)=\"\",\"★\",INDIRECT($B$2&BM$2&$A65))","v":"★"},{"$f":"IF(INDIRECT($B$2&BN$2&$A65)=\"\",\"★\",INDIRECT($B$2&BN$2&$A65))","v":"★"},{"$f":"IF(INDIRECT($B$2&BO$2&$A65)=\"\",\"★\",INDIRECT($B$2&BO$2&$A65))","v":"★"},{"$f":"IF(INDIRECT($B$2&BP$2&$A65)=\"\",\"★\",INDIRECT($B$2&BP$2&$A65))","v":"★"},{"$f":"IF(INDIRECT($B$2&BQ$2&$A65)=\"\",\"★\",INDIRECT($B$2&BQ$2&$A65))","v":"★"},{"$f":"IF(INDIRECT($B$2&BR$2&$A65)=\"\",\"★\",INDIRECT($B$2&BR$2&$A65))","v":"★"},{"$f":"IF(INDIRECT($B$2&BS$2&$A65)=\"\",\"★\",INDIRECT($B$2&BS$2&$A65))","v":"★"},{"$f":"IF(INDIRECT($B$2&BT$2&$A65)=\"\",\"★\",INDIRECT($B$2&BT$2&$A65))","v":"★"},{"$f":"IF(INDIRECT($B$2&BU$2&$A65)=\"\",\"★\",INDIRECT($B$2&BU$2&$A65))","v":"★"},{"$f":"IF(INDIRECT($B$2&BV$2&$A65)=\"\",\"★\",INDIRECT($B$2&BV$2&$A65))","v":"★"},{"$f":"IF(INDIRECT($B$2&BW$2&$A65)=\"\",\"★\",INDIRECT($B$2&BW$2&$A65))","v":"★"},{"$f":"IF(INDIRECT($B$2&BX$2&$A65)=\"\",\"★\",INDIRECT($B$2&BX$2&$A65))","v":"★"},{"$f":"IF(INDIRECT($B$2&BY$2&$A65)=\"\",\"★\",INDIRECT($B$2&BY$2&$A65))","v":"★"}]
[92,null,null,null,null,null,null,null,null,null,null,null,null,56,{"$f":"IF(INDIRECT($B$2&$O$2&$A66)=\"\",\"★\",INDIRECT($B$2&$O$2&$A66))","v":"★"},{"$f":"IF(INDIRECT($B$2&$P$2&$A66)=\"\",\"★\",INDIRECT($B$2&$P$2&$A66))","v":0},{"$f":"IF(INDIRECT($B$2&$Q$2&$A66)=\"\",\"★\",INDIRECT($B$2&$Q$2&$A66))","v":0},{"$f":"IF(INDIRECT($B$2&$R$2&$A66)=\"\",\"★\",INDIRECT($B$2&$R$2&$A66))","v":0},{"$f":"IF(INDIRECT($B$2&$S$2&$A66)=\"\",\"★\",INDIRECT($B$2&$S$2&$A66))","v":"★"},{"$f":"IF(INDIRECT($B$2&$T$2&$A66)=\"\",\"★\",INDIRECT($B$2&$T$2&$A66))","v":"★"},{"$f":"IF(INDIRECT($B$2&$U$2&$A66)=\"\",\"★\",INDIRECT($B$2&$U$2&$A66))","v":"★"},{"$f":"IF(INDIRECT($B$2&$V$2&$A66)=\"\",\"★\",INDIRECT($B$2&$V$2&$A66))","v":"★"},{"$f":"IF(INDIRECT($B$2&$W$2&$A66)=\"\",\"★\",INDIRECT($B$2&$W$2&$A66))","v":"★"},{"$f":"IF(INDIRECT($B$2&$X$2&$A66)=\"\",\"★\",INDIRECT($B$2&$X$2&$A66))","v":"★"},{"$f":"IF(INDIRECT($B$2&$Y$2&$A66)=\"\",\"★\",INDIRECT($B$2&$Y$2&$A66))","v":"★"},{"$f":"IF(INDIRECT($B$2&$Z$2&$A66)=\"\",\"★\",INDIRECT($B$2&$Z$2&$A66))","v":"★"},{"$f":"IF(INDIRECT($B$2&$AA$2&$A66)=\"\",\"★\",INDIRECT($B$2&$AA$2&$A66))","v":"★"},{"$f":"IF(INDIRECT($B$2&$AB$2&$A66)=\"\",\"★\",INDIRECT($B$2&$AB$2&$A66))","v":"★"},{"$f":"IF(INDIRECT($B$2&AC$2&$A66)=\"\",\"★\",INDIRECT($B$2&AC$2&$A66))","v":"★"},{"$f":"IF(INDIRECT($B$2&AD$2&$A66)=\"\",\"★\",INDIRECT($B$2&AD$2&$A66))","v":"★"},{"$f":"IF(INDIRECT($B$2&AE$2&$A66)=\"\",\"★\",INDIRECT($B$2&AE$2&$A66))","v":"★"},{"$f":"IF(INDIRECT($B$2&AF$2&$A66)=\"\",\"★\",INDIRECT($B$2&AF$2&$A66))","v":"★"},{"$f":"IF(INDIRECT($B$2&AG$2&$A66)=\"\",\"★\",INDIRECT($B$2&AG$2&$A66))","v":"★"},{"$f":"IF(INDIRECT($B$2&AH$2&$A66)=\"\",\"★\",INDIRECT($B$2&AH$2&$A66))","v":"★"},{"$f":"IF(INDIRECT($B$2&AI$2&$A66)=\"\",\"★\",INDIRECT($B$2&AI$2&$A66))","v":"★"},{"$f":"IF(INDIRECT($B$2&AJ$2&$A66)=\"\",\"★\",INDIRECT($B$2&AJ$2&$A66))","v":"★"},{"$f":"IF(INDIRECT($B$2&AK$2&$A66)=\"\",\"★\",INDIRECT($B$2&AK$2&$A66))","v":"★"},{"$f":"IF(INDIRECT($B$2&AL$2&$A66)=\"\",\"★\",INDIRECT($B$2&AL$2&$A66))","v":"★"},{"$f":"IF(INDIRECT($B$2&AM$2&$A66)=\"\",\"★\",INDIRECT($B$2&AM$2&$A66))","v":"★"},{"$f":"IF(INDIRECT($B$2&AN$2&$A66)=\"\",\"★\",INDIRECT($B$2&AN$2&$A66))","v":"★"},{"$f":"IF(INDIRECT($B$2&AO$2&$A66)=\"\",\"★\",INDIRECT($B$2&AO$2&$A66))","v":"★"},{"$f":"IF(INDIRECT($B$2&AP$2&$A66)=\"\",\"★\",INDIRECT($B$2&AP$2&$A66))","v":"★"},{"$f":"IF(INDIRECT($B$2&AQ$2&$A66)=\"\",\"★\",INDIRECT($B$2&AQ$2&$A66))","v":"★"},{"$f":"IF(INDIRECT($B$2&AR$2&$A66)=\"\",\"★\",INDIRECT($B$2&AR$2&$A66))","v":0},{"$f":"IF(INDIRECT($B$2&AS$2&$A66)=\"\",\"★\",INDIRECT($B$2&AS$2&$A66))","v":"★"},{"$f":"IF(INDIRECT($B$2&AT$2&$A66)=\"\",\"★\",INDIRECT($B$2&AT$2&$A66))","v":"★"},{"$f":"IF(INDIRECT($B$2&AU$2&$A66)=\"\",\"★\",INDIRECT($B$2&AU$2&$A66))","v":"★"},{"$f":"IF(INDIRECT($B$2&AV$2&$A66)=\"\",\"★\",INDIRECT($B$2&AV$2&$A66))","v":"★"},{"$f":"IF(INDIRECT($B$2&AW$2&$A66)=\"\",\"★\",INDIRECT($B$2&AW$2&$A66))","v":"★"},{"$f":"IF(INDIRECT($B$2&AX$2&$A66)=\"\",\"★\",INDIRECT($B$2&AX$2&$A66))","v":"★"},{"$f":"IF(INDIRECT($B$2&AY$2&$A66)=\"\",\"★\",INDIRECT($B$2&AY$2&$A66))","v":"★"},{"$f":"IF(INDIRECT($B$2&AZ$2&$A66)=\"\",\"★\",INDIRECT($B$2&AZ$2&$A66))","v":"★"},{"$f":"IF(INDIRECT($B$2&BA$2&$A66)=\"\",\"★\",INDIRECT($B$2&BA$2&$A66))","v":"★"},{"$f":"IF(INDIRECT($B$2&BB$2&$A66)=\"\",\"★\",INDIRECT($B$2&BB$2&$A66))","v":"★"},{"$f":"IF(INDIRECT($B$2&BC$2&$A66)=\"\",\"★\",INDIRECT($B$2&BC$2&$A66))","v":"★"},{"$f":"IF(INDIRECT($B$2&BD$2&$A66)=\"\",\"★\",INDIRECT($B$2&BD$2&$A66))","v":"★"},{"$f":"IF(INDIRECT($B$2&BE$2&$A66)=\"\",\"★\",INDIRECT($B$2&BE$2&$A66))","v":"★"},{"$f":"IF(INDIRECT($B$2&BF$2&$A66)=\"\",\"★\",INDIRECT($B$2&BF$2&$A66))","v":"★"},{"$f":"IF(INDIRECT($B$2&BG$2&$A66)=\"\",\"★\",INDIRECT($B$2&BG$2&$A66))","v":0},{"$f":"IF(INDIRECT($B$2&BH$2&$A66)=\"\",\"★\",INDIRECT($B$2&BH$2&$A66))","v":"★"},{"$f":"IF(INDIRECT($B$2&BI$2&$A66)=\"\",\"★\",INDIRECT($B$2&BI$2&$A66))","v":"★"},{"$f":"IF(INDIRECT($B$2&BJ$2&$A66)=\"\",\"★\",INDIRECT($B$2&BJ$2&$A66))","v":"★"},{"$f":"IF(INDIRECT($B$2&BK$2&$A66)=\"\",\"★\",INDIRECT($B$2&BK$2&$A66))","v":"★"},{"$f":"IF(INDIRECT($B$2&BL$2&$A66)=\"\",\"★\",INDIRECT($B$2&BL$2&$A66))","v":"★"},{"$f":"IF(INDIRECT($B$2&BM$2&$A66)=\"\",\"★\",INDIRECT($B$2&BM$2&$A66))","v":"★"},{"$f":"IF(INDIRECT($B$2&BN$2&$A66)=\"\",\"★\",INDIRECT($B$2&BN$2&$A66))","v":"★"},{"$f":"IF(INDIRECT($B$2&BO$2&$A66)=\"\",\"★\",INDIRECT($B$2&BO$2&$A66))","v":"★"},{"$f":"IF(INDIRECT($B$2&BP$2&$A66)=\"\",\"★\",INDIRECT($B$2&BP$2&$A66))","v":"★"},{"$f":"IF(INDIRECT($B$2&BQ$2&$A66)=\"\",\"★\",INDIRECT($B$2&BQ$2&$A66))","v":"★"},{"$f":"IF(INDIRECT($B$2&BR$2&$A66)=\"\",\"★\",INDIRECT($B$2&BR$2&$A66))","v":"★"},{"$f":"IF(INDIRECT($B$2&BS$2&$A66)=\"\",\"★\",INDIRECT($B$2&BS$2&$A66))","v":"★"},{"$f":"IF(INDIRECT($B$2&BT$2&$A66)=\"\",\"★\",INDIRECT($B$2&BT$2&$A66))","v":"★"},{"$f":"IF(INDIRECT($B$2&BU$2&$A66)=\"\",\"★\",INDIRECT($B$2&BU$2&$A66))","v":"★"},{"$f":"IF(INDIRECT($B$2&BV$2&$A66)=\"\",\"★\",INDIRECT($B$2&BV$2&$A66))","v":"★"},{"$f":"IF(INDIRECT($B$2&BW$2&$A66)=\"\",\"★\",INDIRECT($B$2&BW$2&$A66))","v":"★"},{"$f":"IF(INDIRECT($B$2&BX$2&$A66)=\"\",\"★\",INDIRECT($B$2&BX$2&$A66))","v":"★"},{"$f":"IF(INDIRECT($B$2&BY$2&$A66)=\"\",\"★\",INDIRECT($B$2&BY$2&$A66))","v":"★"}]
[93,null,null,null,null,null,null,null,null,null,null,null,null,57,{"$f":"IF(INDIRECT($B$2&$O$2&$A67)=\"\",\"★\",INDIRECT($B$2&$O$2&$A67))","v":"★"},{"$f":"IF(INDIRECT($B$2&$P$2&$A67)=\"\",\"★\",INDIRECT($B$2&$P$2&$A67))","v":0},{"$f":"IF(INDIRECT($B$2&$Q$2&$A67)=\"\",\"★\",INDIRECT($B$2&$Q$2&$A67))","v":0},{"$f":"IF(INDIRECT($B$2&$R$2&$A67)=\"\",\"★\",INDIRECT($B$2&$R$2&$A67))","v":0},{"$f":"IF(INDIRECT($B$2&$S$2&$A67)=\"\",\"★\",INDIRECT($B$2&$S$2&$A67))","v":"★"},{"$f":"IF(INDIRECT($B$2&$T$2&$A67)=\"\",\"★\",INDIRECT($B$2&$T$2&$A67))","v":"★"},{"$f":"IF(INDIRECT($B$2&$U$2&$A67)=\"\",\"★\",INDIRECT($B$2&$U$2&$A67))","v":"★"},{"$f":"IF(INDIRECT($B$2&$V$2&$A67)=\"\",\"★\",INDIRECT($B$2&$V$2&$A67))","v":"★"},{"$f":"IF(INDIRECT($B$2&$W$2&$A67)=\"\",\"★\",INDIRECT($B$2&$W$2&$A67))","v":"★"},{"$f":"IF(INDIRECT($B$2&$X$2&$A67)=\"\",\"★\",INDIRECT($B$2&$X$2&$A67))","v":"★"},{"$f":"IF(INDIRECT($B$2&$Y$2&$A67)=\"\",\"★\",INDIRECT($B$2&$Y$2&$A67))","v":"★"},{"$f":"IF(INDIRECT($B$2&$Z$2&$A67)=\"\",\"★\",INDIRECT($B$2&$Z$2&$A67))","v":"★"},{"$f":"IF(INDIRECT($B$2&$AA$2&$A67)=\"\",\"★\",INDIRECT($B$2&$AA$2&$A67))","v":"★"},{"$f":"IF(INDIRECT($B$2&$AB$2&$A67)=\"\",\"★\",INDIRECT($B$2&$AB$2&$A67))","v":"★"},{"$f":"IF(INDIRECT($B$2&AC$2&$A67)=\"\",\"★\",INDIRECT($B$2&AC$2&$A67))","v":"★"},{"$f":"IF(INDIRECT($B$2&AD$2&$A67)=\"\",\"★\",INDIRECT($B$2&AD$2&$A67))","v":"★"},{"$f":"IF(INDIRECT($B$2&AE$2&$A67)=\"\",\"★\",INDIRECT($B$2&AE$2&$A67))","v":"★"},{"$f":"IF(INDIRECT($B$2&AF$2&$A67)=\"\",\"★\",INDIRECT($B$2&AF$2&$A67))","v":"★"},{"$f":"IF(INDIRECT($B$2&AG$2&$A67)=\"\",\"★\",INDIRECT($B$2&AG$2&$A67))","v":"★"},{"$f":"IF(INDIRECT($B$2&AH$2&$A67)=\"\",\"★\",INDIRECT($B$2&AH$2&$A67))","v":"★"},{"$f":"IF(INDIRECT($B$2&AI$2&$A67)=\"\",\"★\",INDIRECT($B$2&AI$2&$A67))","v":"★"},{"$f":"IF(INDIRECT($B$2&AJ$2&$A67)=\"\",\"★\",INDIRECT($B$2&AJ$2&$A67))","v":"★"},{"$f":"IF(INDIRECT($B$2&AK$2&$A67)=\"\",\"★\",INDIRECT($B$2&AK$2&$A67))","v":"★"},{"$f":"IF(INDIRECT($B$2&AL$2&$A67)=\"\",\"★\",INDIRECT($B$2&AL$2&$A67))","v":"★"},{"$f":"IF(INDIRECT($B$2&AM$2&$A67)=\"\",\"★\",INDIRECT($B$2&AM$2&$A67))","v":"★"},{"$f":"IF(INDIRECT($B$2&AN$2&$A67)=\"\",\"★\",INDIRECT($B$2&AN$2&$A67))","v":"★"},{"$f":"IF(INDIRECT($B$2&AO$2&$A67)=\"\",\"★\",INDIRECT($B$2&AO$2&$A67))","v":"★"},{"$f":"IF(INDIRECT($B$2&AP$2&$A67)=\"\",\"★\",INDIRECT($B$2&AP$2&$A67))","v":"★"},{"$f":"IF(INDIRECT($B$2&AQ$2&$A67)=\"\",\"★\",INDIRECT($B$2&AQ$2&$A67))","v":"★"},{"$f":"IF(INDIRECT($B$2&AR$2&$A67)=\"\",\"★\",INDIRECT($B$2&AR$2&$A67))","v":0},{"$f":"IF(INDIRECT($B$2&AS$2&$A67)=\"\",\"★\",INDIRECT($B$2&AS$2&$A67))","v":"★"},{"$f":"IF(INDIRECT($B$2&AT$2&$A67)=\"\",\"★\",INDIRECT($B$2&AT$2&$A67))","v":"★"},{"$f":"IF(INDIRECT($B$2&AU$2&$A67)=\"\",\"★\",INDIRECT($B$2&AU$2&$A67))","v":"★"},{"$f":"IF(INDIRECT($B$2&AV$2&$A67)=\"\",\"★\",INDIRECT($B$2&AV$2&$A67))","v":"★"},{"$f":"IF(INDIRECT($B$2&AW$2&$A67)=\"\",\"★\",INDIRECT($B$2&AW$2&$A67))","v":"★"},{"$f":"IF(INDIRECT($B$2&AX$2&$A67)=\"\",\"★\",INDIRECT($B$2&AX$2&$A67))","v":"★"},{"$f":"IF(INDIRECT($B$2&AY$2&$A67)=\"\",\"★\",INDIRECT($B$2&AY$2&$A67))","v":"★"},{"$f":"IF(INDIRECT($B$2&AZ$2&$A67)=\"\",\"★\",INDIRECT($B$2&AZ$2&$A67))","v":"★"},{"$f":"IF(INDIRECT($B$2&BA$2&$A67)=\"\",\"★\",INDIRECT($B$2&BA$2&$A67))","v":"★"},{"$f":"IF(INDIRECT($B$2&BB$2&$A67)=\"\",\"★\",INDIRECT($B$2&BB$2&$A67))","v":"★"},{"$f":"IF(INDIRECT($B$2&BC$2&$A67)=\"\",\"★\",INDIRECT($B$2&BC$2&$A67))","v":"★"},{"$f":"IF(INDIRECT($B$2&BD$2&$A67)=\"\",\"★\",INDIRECT($B$2&BD$2&$A67))","v":"★"},{"$f":"IF(INDIRECT($B$2&BE$2&$A67)=\"\",\"★\",INDIRECT($B$2&BE$2&$A67))","v":"★"},{"$f":"IF(INDIRECT($B$2&BF$2&$A67)=\"\",\"★\",INDIRECT($B$2&BF$2&$A67))","v":"★"},{"$f":"IF(INDIRECT($B$2&BG$2&$A67)=\"\",\"★\",INDIRECT($B$2&BG$2&$A67))","v":0},{"$f":"IF(INDIRECT($B$2&BH$2&$A67)=\"\",\"★\",INDIRECT($B$2&BH$2&$A67))","v":"★"},{"$f":"IF(INDIRECT($B$2&BI$2&$A67)=\"\",\"★\",INDIRECT($B$2&BI$2&$A67))","v":"★"},{"$f":"IF(INDIRECT($B$2&BJ$2&$A67)=\"\",\"★\",INDIRECT($B$2&BJ$2&$A67))","v":"★"},{"$f":"IF(INDIRECT($B$2&BK$2&$A67)=\"\",\"★\",INDIRECT($B$2&BK$2&$A67))","v":"★"},{"$f":"IF(INDIRECT($B$2&BL$2&$A67)=\"\",\"★\",INDIRECT($B$2&BL$2&$A67))","v":"★"},{"$f":"IF(INDIRECT($B$2&BM$2&$A67)=\"\",\"★\",INDIRECT($B$2&BM$2&$A67))","v":"★"},{"$f":"IF(INDIRECT($B$2&BN$2&$A67)=\"\",\"★\",INDIRECT($B$2&BN$2&$A67))","v":"★"},{"$f":"IF(INDIRECT($B$2&BO$2&$A67)=\"\",\"★\",INDIRECT($B$2&BO$2&$A67))","v":"★"},{"$f":"IF(INDIRECT($B$2&BP$2&$A67)=\"\",\"★\",INDIRECT($B$2&BP$2&$A67))","v":"★"},{"$f":"IF(INDIRECT($B$2&BQ$2&$A67)=\"\",\"★\",INDIRECT($B$2&BQ$2&$A67))","v":"★"},{"$f":"IF(INDIRECT($B$2&BR$2&$A67)=\"\",\"★\",INDIRECT($B$2&BR$2&$A67))","v":"★"},{"$f":"IF(INDIRECT($B$2&BS$2&$A67)=\"\",\"★\",INDIRECT($B$2&BS$2&$A67))","v":"★"},{"$f":"IF(INDIRECT($B$2&BT$2&$A67)=\"\",\"★\",INDIRECT($B$2&BT$2&$A67))","v":"★"},{"$f":"IF(INDIRECT($B$2&BU$2&$A67)=\"\",\"★\",INDIRECT($B$2&BU$2&$A67))","v":"★"},{"$f":"IF(INDIRECT($B$2&BV$2&$A67)=\"\",\"★\",INDIRECT($B$2&BV$2&$A67))","v":"★"},{"$f":"IF(INDIRECT($B$2&BW$2&$A67)=\"\",\"★\",INDIRECT($B$2&BW$2&$A67))","v":"★"},{"$f":"IF(INDIRECT($B$2&BX$2&$A67)=\"\",\"★\",INDIRECT($B$2&BX$2&$A67))","v":"★"},{"$f":"IF(INDIRECT($B$2&BY$2&$A67)=\"\",\"★\",INDIRECT($B$2&BY$2&$A67))","v":"★"}]
[94,null,null,null,null,null,null,null,null,null,null,null,null,58,{"$f":"IF(INDIRECT($B$2&$O$2&$A68)=\"\",\"★\",INDIRECT($B$2&$O$2&$A68))","v":"★"},{"$f":"IF(INDIRECT($B$2&$P$2&$A68)=\"\",\"★\",INDIRECT($B$2&$P$2&$A68))","v":0},{"$f":"IF(INDIRECT($B$2&$Q$2&$A68)=\"\",\"★\",INDIRECT($B$2&$Q$2&$A68))","v":0},{"$f":"IF(INDIRECT($B$2&$R$2&$A68)=\"\",\"★\",INDIRECT($B$2&$R$2&$A68))","v":0},{"$f":"IF(INDIRECT($B$2&$S$2&$A68)=\"\",\"★\",INDIRECT($B$2&$S$2&$A68))","v":"★"},{"$f":"IF(INDIRECT($B$2&$T$2&$A68)=\"\",\"★\",INDIRECT($B$2&$T$2&$A68))","v":"★"},{"$f":"IF(INDIRECT($B$2&$U$2&$A68)=\"\",\"★\",INDIRECT($B$2&$U$2&$A68))","v":"★"},{"$f":"IF(INDIRECT($B$2&$V$2&$A68)=\"\",\"★\",INDIRECT($B$2&$V$2&$A68))","v":"★"},{"$f":"IF(INDIRECT($B$2&$W$2&$A68)=\"\",\"★\",INDIRECT($B$2&$W$2&$A68))","v":"★"},{"$f":"IF(INDIRECT($B$2&$X$2&$A68)=\"\",\"★\",INDIRECT($B$2&$X$2&$A68))","v":"★"},{"$f":"IF(INDIRECT($B$2&$Y$2&$A68)=\"\",\"★\",INDIRECT($B$2&$Y$2&$A68))","v":"★"},{"$f":"IF(INDIRECT($B$2&$Z$2&$A68)=\"\",\"★\",INDIRECT($B$2&$Z$2&$A68))","v":"★"},{"$f":"IF(INDIRECT($B$2&$AA$2&$A68)=\"\",\"★\",INDIRECT($B$2&$AA$2&$A68))","v":"★"},{"$f":"IF(INDIRECT($B$2&$AB$2&$A68)=\"\",\"★\",INDIRECT($B$2&$AB$2&$A68))","v":"★"},{"$f":"IF(INDIRECT($B$2&AC$2&$A68)=\"\",\"★\",INDIRECT($B$2&AC$2&$A68))","v":"★"},{"$f":"IF(INDIRECT($B$2&AD$2&$A68)=\"\",\"★\",INDIRECT($B$2&AD$2&$A68))","v":"★"},{"$f":"IF(INDIRECT($B$2&AE$2&$A68)=\"\",\"★\",INDIRECT($B$2&AE$2&$A68))","v":"★"},{"$f":"IF(INDIRECT($B$2&AF$2&$A68)=\"\",\"★\",INDIRECT($B$2&AF$2&$A68))","v":"★"},{"$f":"IF(INDIRECT($B$2&AG$2&$A68)=\"\",\"★\",INDIRECT($B$2&AG$2&$A68))","v":"★"},{"$f":"IF(INDIRECT($B$2&AH$2&$A68)=\"\",\"★\",INDIRECT($B$2&AH$2&$A68))","v":"★"},{"$f":"IF(INDIRECT($B$2&AI$2&$A68)=\"\",\"★\",INDIRECT($B$2&AI$2&$A68))","v":"★"},{"$f":"IF(INDIRECT($B$2&AJ$2&$A68)=\"\",\"★\",INDIRECT($B$2&AJ$2&$A68))","v":"★"},{"$f":"IF(INDIRECT($B$2&AK$2&$A68)=\"\",\"★\",INDIRECT($B$2&AK$2&$A68))","v":"★"},{"$f":"IF(INDIRECT($B$2&AL$2&$A68)=\"\",\"★\",INDIRECT($B$2&AL$2&$A68))","v":"★"},{"$f":"IF(INDIRECT($B$2&AM$2&$A68)=\"\",\"★\",INDIRECT($B$2&AM$2&$A68))","v":"★"},{"$f":"IF(INDIRECT($B$2&AN$2&$A68)=\"\",\"★\",INDIRECT($B$2&AN$2&$A68))","v":"★"},{"$f":"IF(INDIRECT($B$2&AO$2&$A68)=\"\",\"★\",INDIRECT($B$2&AO$2&$A68))","v":"★"},{"$f":"IF(INDIRECT($B$2&AP$2&$A68)=\"\",\"★\",INDIRECT($B$2&AP$2&$A68))","v":"★"},{"$f":"IF(INDIRECT($B$2&AQ$2&$A68)=\"\",\"★\",INDIRECT($B$2&AQ$2&$A68))","v":"★"},{"$f":"IF(INDIRECT($B$2&AR$2&$A68)=\"\",\"★\",INDIRECT($B$2&AR$2&$A68))","v":0},{"$f":"IF(INDIRECT($B$2&AS$2&$A68)=\"\",\"★\",INDIRECT($B$2&AS$2&$A68))","v":"★"},{"$f":"IF(INDIRECT($B$2&AT$2&$A68)=\"\",\"★\",INDIRECT($B$2&AT$2&$A68))","v":"★"},{"$f":"IF(INDIRECT($B$2&AU$2&$A68)=\"\",\"★\",INDIRECT($B$2&AU$2&$A68))","v":"★"},{"$f":"IF(INDIRECT($B$2&AV$2&$A68)=\"\",\"★\",INDIRECT($B$2&AV$2&$A68))","v":"★"},{"$f":"IF(INDIRECT($B$2&AW$2&$A68)=\"\",\"★\",INDIRECT($B$2&AW$2&$A68))","v":"★"},{"$f":"IF(INDIRECT($B$2&AX$2&$A68)=\"\",\"★\",INDIRECT($B$2&AX$2&$A68))","v":"★"},{"$f":"IF(INDIRECT($B$2&AY$2&$A68)=\"\",\"★\",INDIRECT($B$2&AY$2&$A68))","v":"★"},{"$f":"IF(INDIRECT($B$2&AZ$2&$A68)=\"\",\"★\",INDIRECT($B$2&AZ$2&$A68))","v":"★"},{"$f":"IF(INDIRECT($B$2&BA$2&$A68)=\"\",\"★\",INDIRECT($B$2&BA$2&$A68))","v":"★"},{"$f":"IF(INDIRECT($B$2&BB$2&$A68)=\"\",\"★\",INDIRECT($B$2&BB$2&$A68))","v":"★"},{"$f":"IF(INDIRECT($B$2&BC$2&$A68)=\"\",\"★\",INDIRECT($B$2&BC$2&$A68))","v":"★"},{"$f":"IF(INDIRECT($B$2&BD$2&$A68)=\"\",\"★\",INDIRECT($B$2&BD$2&$A68))","v":"★"},{"$f":"IF(INDIRECT($B$2&BE$2&$A68)=\"\",\"★\",INDIRECT($B$2&BE$2&$A68))","v":"★"},{"$f":"IF(INDIRECT($B$2&BF$2&$A68)=\"\",\"★\",INDIRECT($B$2&BF$2&$A68))","v":"★"},{"$f":"IF(INDIRECT($B$2&BG$2&$A68)=\"\",\"★\",INDIRECT($B$2&BG$2&$A68))","v":0},{"$f":"IF(INDIRECT($B$2&BH$2&$A68)=\"\",\"★\",INDIRECT($B$2&BH$2&$A68))","v":"★"},{"$f":"IF(INDIRECT($B$2&BI$2&$A68)=\"\",\"★\",INDIRECT($B$2&BI$2&$A68))","v":"★"},{"$f":"IF(INDIRECT($B$2&BJ$2&$A68)=\"\",\"★\",INDIRECT($B$2&BJ$2&$A68))","v":"★"},{"$f":"IF(INDIRECT($B$2&BK$2&$A68)=\"\",\"★\",INDIRECT($B$2&BK$2&$A68))","v":"★"},{"$f":"IF(INDIRECT($B$2&BL$2&$A68)=\"\",\"★\",INDIRECT($B$2&BL$2&$A68))","v":"★"},{"$f":"IF(INDIRECT($B$2&BM$2&$A68)=\"\",\"★\",INDIRECT($B$2&BM$2&$A68))","v":"★"},{"$f":"IF(INDIRECT($B$2&BN$2&$A68)=\"\",\"★\",INDIRECT($B$2&BN$2&$A68))","v":"★"},{"$f":"IF(INDIRECT($B$2&BO$2&$A68)=\"\",\"★\",INDIRECT($B$2&BO$2&$A68))","v":"★"},{"$f":"IF(INDIRECT($B$2&BP$2&$A68)=\"\",\"★\",INDIRECT($B$2&BP$2&$A68))","v":"★"},{"$f":"IF(INDIRECT($B$2&BQ$2&$A68)=\"\",\"★\",INDIRECT($B$2&BQ$2&$A68))","v":"★"},{"$f":"IF(INDIRECT($B$2&BR$2&$A68)=\"\",\"★\",INDIRECT($B$2&BR$2&$A68))","v":"★"},{"$f":"IF(INDIRECT($B$2&BS$2&$A68)=\"\",\"★\",INDIRECT($B$2&BS$2&$A68))","v":"★"},{"$f":"IF(INDIRECT($B$2&BT$2&$A68)=\"\",\"★\",INDIRECT($B$2&BT$2&$A68))","v":"★"},{"$f":"IF(INDIRECT($B$2&BU$2&$A68)=\"\",\"★\",INDIRECT($B$2&BU$2&$A68))","v":"★"},{"$f":"IF(INDIRECT($B$2&BV$2&$A68)=\"\",\"★\",INDIRECT($B$2&BV$2&$A68))","v":"★"},{"$f":"IF(INDIRECT($B$2&BW$2&$A68)=\"\",\"★\",INDIRECT($B$2&BW$2&$A68))","v":"★"},{"$f":"IF(INDIRECT($B$2&BX$2&$A68)=\"\",\"★\",INDIRECT($B$2&BX$2&$A68))","v":"★"},{"$f":"IF(INDIRECT($B$2&BY$2&$A68)=\"\",\"★\",INDIRECT($B$2&BY$2&$A68))","v":"★"}]
[95,null,null,null,null,null,null,null,null,null,null,null,null,59,{"$f":"IF(INDIRECT($B$2&$O$2&$A69)=\"\",\"★\",INDIRECT($B$2&$O$2&$A69))","v":"★"},{"$f":"IF(INDIRECT($B$2&$P$2&$A69)=\"\",\"★\",INDIRECT($B$2&$P$2&$A69))","v":0},{"$f":"IF(INDIRECT($B$2&$Q$2&$A69)=\"\",\"★\",INDIRECT($B$2&$Q$2&$A69))","v":0},{"$f":"IF(INDIRECT($B$2&$R$2&$A69)=\"\",\"★\",INDIRECT($B$2&$R$2&$A69))","v":0},{"$f":"IF(INDIRECT($B$2&$S$2&$A69)=\"\",\"★\",INDIRECT($B$2&$S$2&$A69))","v":"★"},{"$f":"IF(INDIRECT($B$2&$T$2&$A69)=\"\",\"★\",INDIRECT($B$2&$T$2&$A69))","v":"★"},{"$f":"IF(INDIRECT($B$2&$U$2&$A69)=\"\",\"★\",INDIRECT($B$2&$U$2&$A69))","v":"★"},{"$f":"IF(INDIRECT($B$2&$V$2&$A69)=\"\",\"★\",INDIRECT($B$2&$V$2&$A69))","v":"★"},{"$f":"IF(INDIRECT($B$2&$W$2&$A69)=\"\",\"★\",INDIRECT($B$2&$W$2&$A69))","v":"★"},{"$f":"IF(INDIRECT($B$2&$X$2&$A69)=\"\",\"★\",INDIRECT($B$2&$X$2&$A69))","v":"★"},{"$f":"IF(INDIRECT($B$2&$Y$2&$A69)=\"\",\"★\",INDIRECT($B$2&$Y$2&$A69))","v":"★"},{"$f":"IF(INDIRECT($B$2&$Z$2&$A69)=\"\",\"★\",INDIRECT($B$2&$Z$2&$A69))","v":"★"},{"$f":"IF(INDIRECT($B$2&$AA$2&$A69)=\"\",\"★\",INDIRECT($B$2&$AA$2&$A69))","v":"★"},{"$f":"IF(INDIRECT($B$2&$AB$2&$A69)=\"\",\"★\",INDIRECT($B$2&$AB$2&$A69))","v":"★"},{"$f":"IF(INDIRECT($B$2&AC$2&$A69)=\"\",\"★\",INDIRECT($B$2&AC$2&$A69))","v":"★"},{"$f":"IF(INDIRECT($B$2&AD$2&$A69)=\"\",\"★\",INDIRECT($B$2&AD$2&$A69))","v":"★"},{"$f":"IF(INDIRECT($B$2&AE$2&$A69)=\"\",\"★\",INDIRECT($B$2&AE$2&$A69))","v":"★"},{"$f":"IF(INDIRECT($B$2&AF$2&$A69)=\"\",\"★\",INDIRECT($B$2&AF$2&$A69))","v":"★"},{"$f":"IF(INDIRECT($B$2&AG$2&$A69)=\"\",\"★\",INDIRECT($B$2&AG$2&$A69))","v":"★"},{"$f":"IF(INDIRECT($B$2&AH$2&$A69)=\"\",\"★\",INDIRECT($B$2&AH$2&$A69))","v":"★"},{"$f":"IF(INDIRECT($B$2&AI$2&$A69)=\"\",\"★\",INDIRECT($B$2&AI$2&$A69))","v":"★"},{"$f":"IF(INDIRECT($B$2&AJ$2&$A69)=\"\",\"★\",INDIRECT($B$2&AJ$2&$A69))","v":"★"},{"$f":"IF(INDIRECT($B$2&AK$2&$A69)=\"\",\"★\",INDIRECT($B$2&AK$2&$A69))","v":"★"},{"$f":"IF(INDIRECT($B$2&AL$2&$A69)=\"\",\"★\",INDIRECT($B$2&AL$2&$A69))","v":"★"},{"$f":"IF(INDIRECT($B$2&AM$2&$A69)=\"\",\"★\",INDIRECT($B$2&AM$2&$A69))","v":"★"},{"$f":"IF(INDIRECT($B$2&AN$2&$A69)=\"\",\"★\",INDIRECT($B$2&AN$2&$A69))","v":"★"},{"$f":"IF(INDIRECT($B$2&AO$2&$A69)=\"\",\"★\",INDIRECT($B$2&AO$2&$A69))","v":"★"},{"$f":"IF(INDIRECT($B$2&AP$2&$A69)=\"\",\"★\",INDIRECT($B$2&AP$2&$A69))","v":"★"},{"$f":"IF(INDIRECT($B$2&AQ$2&$A69)=\"\",\"★\",INDIRECT($B$2&AQ$2&$A69))","v":"★"},{"$f":"IF(INDIRECT($B$2&AR$2&$A69)=\"\",\"★\",INDIRECT($B$2&AR$2&$A69))","v":0},{"$f":"IF(INDIRECT($B$2&AS$2&$A69)=\"\",\"★\",INDIRECT($B$2&AS$2&$A69))","v":"★"},{"$f":"IF(INDIRECT($B$2&AT$2&$A69)=\"\",\"★\",INDIRECT($B$2&AT$2&$A69))","v":"★"},{"$f":"IF(INDIRECT($B$2&AU$2&$A69)=\"\",\"★\",INDIRECT($B$2&AU$2&$A69))","v":"★"},{"$f":"IF(INDIRECT($B$2&AV$2&$A69)=\"\",\"★\",INDIRECT($B$2&AV$2&$A69))","v":"★"},{"$f":"IF(INDIRECT($B$2&AW$2&$A69)=\"\",\"★\",INDIRECT($B$2&AW$2&$A69))","v":"★"},{"$f":"IF(INDIRECT($B$2&AX$2&$A69)=\"\",\"★\",INDIRECT($B$2&AX$2&$A69))","v":"★"},{"$f":"IF(INDIRECT($B$2&AY$2&$A69)=\"\",\"★\",INDIRECT($B$2&AY$2&$A69))","v":"★"},{"$f":"IF(INDIRECT($B$2&AZ$2&$A69)=\"\",\"★\",INDIRECT($B$2&AZ$2&$A69))","v":"★"},{"$f":"IF(INDIRECT($B$2&BA$2&$A69)=\"\",\"★\",INDIRECT($B$2&BA$2&$A69))","v":"★"},{"$f":"IF(INDIRECT($B$2&BB$2&$A69)=\"\",\"★\",INDIRECT($B$2&BB$2&$A69))","v":"★"},{"$f":"IF(INDIRECT($B$2&BC$2&$A69)=\"\",\"★\",INDIRECT($B$2&BC$2&$A69))","v":"★"},{"$f":"IF(INDIRECT($B$2&BD$2&$A69)=\"\",\"★\",INDIRECT($B$2&BD$2&$A69))","v":"★"},{"$f":"IF(INDIRECT($B$2&BE$2&$A69)=\"\",\"★\",INDIRECT($B$2&BE$2&$A69))","v":"★"},{"$f":"IF(INDIRECT($B$2&BF$2&$A69)=\"\",\"★\",INDIRECT($B$2&BF$2&$A69))","v":"★"},{"$f":"IF(INDIRECT($B$2&BG$2&$A69)=\"\",\"★\",INDIRECT($B$2&BG$2&$A69))","v":0},{"$f":"IF(INDIRECT($B$2&BH$2&$A69)=\"\",\"★\",INDIRECT($B$2&BH$2&$A69))","v":"★"},{"$f":"IF(INDIRECT($B$2&BI$2&$A69)=\"\",\"★\",INDIRECT($B$2&BI$2&$A69))","v":"★"},{"$f":"IF(INDIRECT($B$2&BJ$2&$A69)=\"\",\"★\",INDIRECT($B$2&BJ$2&$A69))","v":"★"},{"$f":"IF(INDIRECT($B$2&BK$2&$A69)=\"\",\"★\",INDIRECT($B$2&BK$2&$A69))","v":"★"},{"$f":"IF(INDIRECT($B$2&BL$2&$A69)=\"\",\"★\",INDIRECT($B$2&BL$2&$A69))","v":"★"},{"$f":"IF(INDIRECT($B$2&BM$2&$A69)=\"\",\"★\",INDIRECT($B$2&BM$2&$A69))","v":"★"},{"$f":"IF(INDIRECT($B$2&BN$2&$A69)=\"\",\"★\",INDIRECT($B$2&BN$2&$A69))","v":"★"},{"$f":"IF(INDIRECT($B$2&BO$2&$A69)=\"\",\"★\",INDIRECT($B$2&BO$2&$A69))","v":"★"},{"$f":"IF(INDIRECT($B$2&BP$2&$A69)=\"\",\"★\",INDIRECT($B$2&BP$2&$A69))","v":"★"},{"$f":"IF(INDIRECT($B$2&BQ$2&$A69)=\"\",\"★\",INDIRECT($B$2&BQ$2&$A69))","v":"★"},{"$f":"IF(INDIRECT($B$2&BR$2&$A69)=\"\",\"★\",INDIRECT($B$2&BR$2&$A69))","v":"★"},{"$f":"IF(INDIRECT($B$2&BS$2&$A69)=\"\",\"★\",INDIRECT($B$2&BS$2&$A69))","v":"★"},{"$f":"IF(INDIRECT($B$2&BT$2&$A69)=\"\",\"★\",INDIRECT($B$2&BT$2&$A69))","v":"★"},{"$f":"IF(INDIRECT($B$2&BU$2&$A69)=\"\",\"★\",INDIRECT($B$2&BU$2&$A69))","v":"★"},{"$f":"IF(INDIRECT($B$2&BV$2&$A69)=\"\",\"★\",INDIRECT($B$2&BV$2&$A69))","v":"★"},{"$f":"IF(INDIRECT($B$2&BW$2&$A69)=\"\",\"★\",INDIRECT($B$2&BW$2&$A69))","v":"★"},{"$f":"IF(INDIRECT($B$2&BX$2&$A69)=\"\",\"★\",INDIRECT($B$2&BX$2&$A69))","v":"★"},{"$f":"IF(INDIRECT($B$2&BY$2&$A69)=\"\",\"★\",INDIRECT($B$2&BY$2&$A69))","v":"★"}]
[96,null,null,null,null,null,null,null,null,null,null,null,null,60,{"$f":"IF(INDIRECT($B$2&$O$2&$A70)=\"\",\"★\",INDIRECT($B$2&$O$2&$A70))","v":"★"},{"$f":"IF(INDIRECT($B$2&$P$2&$A70)=\"\",\"★\",INDIRECT($B$2&$P$2&$A70))","v":0},{"$f":"IF(INDIRECT($B$2&$Q$2&$A70)=\"\",\"★\",INDIRECT($B$2&$Q$2&$A70))","v":0},{"$f":"IF(INDIRECT($B$2&$R$2&$A70)=\"\",\"★\",INDIRECT($B$2&$R$2&$A70))","v":0},{"$f":"IF(INDIRECT($B$2&$S$2&$A70)=\"\",\"★\",INDIRECT($B$2&$S$2&$A70))","v":"★"},{"$f":"IF(INDIRECT($B$2&$T$2&$A70)=\"\",\"★\",INDIRECT($B$2&$T$2&$A70))","v":"★"},{"$f":"IF(INDIRECT($B$2&$U$2&$A70)=\"\",\"★\",INDIRECT($B$2&$U$2&$A70))","v":"★"},{"$f":"IF(INDIRECT($B$2&$V$2&$A70)=\"\",\"★\",INDIRECT($B$2&$V$2&$A70))","v":"★"},{"$f":"IF(INDIRECT($B$2&$W$2&$A70)=\"\",\"★\",INDIRECT($B$2&$W$2&$A70))","v":"★"},{"$f":"IF(INDIRECT($B$2&$X$2&$A70)=\"\",\"★\",INDIRECT($B$2&$X$2&$A70))","v":"★"},{"$f":"IF(INDIRECT($B$2&$Y$2&$A70)=\"\",\"★\",INDIRECT($B$2&$Y$2&$A70))","v":"★"},{"$f":"IF(INDIRECT($B$2&$Z$2&$A70)=\"\",\"★\",INDIRECT($B$2&$Z$2&$A70))","v":"★"},{"$f":"IF(INDIRECT($B$2&$AA$2&$A70)=\"\",\"★\",INDIRECT($B$2&$AA$2&$A70))","v":"★"},{"$f":"IF(INDIRECT($B$2&$AB$2&$A70)=\"\",\"★\",INDIRECT($B$2&$AB$2&$A70))","v":"★"},{"$f":"IF(INDIRECT($B$2&AC$2&$A70)=\"\",\"★\",INDIRECT($B$2&AC$2&$A70))","v":"★"},{"$f":"IF(INDIRECT($B$2&AD$2&$A70)=\"\",\"★\",INDIRECT($B$2&AD$2&$A70))","v":"★"},{"$f":"IF(INDIRECT($B$2&AE$2&$A70)=\"\",\"★\",INDIRECT($B$2&AE$2&$A70))","v":"★"},{"$f":"IF(INDIRECT($B$2&AF$2&$A70)=\"\",\"★\",INDIRECT($B$2&AF$2&$A70))","v":"★"},{"$f":"IF(INDIRECT($B$2&AG$2&$A70)=\"\",\"★\",INDIRECT($B$2&AG$2&$A70))","v":"★"},{"$f":"IF(INDIRECT($B$2&AH$2&$A70)=\"\",\"★\",INDIRECT($B$2&AH$2&$A70))","v":"★"},{"$f":"IF(INDIRECT($B$2&AI$2&$A70)=\"\",\"★\",INDIRECT($B$2&AI$2&$A70))","v":"★"},{"$f":"IF(INDIRECT($B$2&AJ$2&$A70)=\"\",\"★\",INDIRECT($B$2&AJ$2&$A70))","v":"★"},{"$f":"IF(INDIRECT($B$2&AK$2&$A70)=\"\",\"★\",INDIRECT($B$2&AK$2&$A70))","v":"★"},{"$f":"IF(INDIRECT($B$2&AL$2&$A70)=\"\",\"★\",INDIRECT($B$2&AL$2&$A70))","v":"★"},{"$f":"IF(INDIRECT($B$2&AM$2&$A70)=\"\",\"★\",INDIRECT($B$2&AM$2&$A70))","v":"★"},{"$f":"IF(INDIRECT($B$2&AN$2&$A70)=\"\",\"★\",INDIRECT($B$2&AN$2&$A70))","v":"★"},{"$f":"IF(INDIRECT($B$2&AO$2&$A70)=\"\",\"★\",INDIRECT($B$2&AO$2&$A70))","v":"★"},{"$f":"IF(INDIRECT($B$2&AP$2&$A70)=\"\",\"★\",INDIRECT($B$2&AP$2&$A70))","v":"★"},{"$f":"IF(INDIRECT($B$2&AQ$2&$A70)=\"\",\"★\",INDIRECT($B$2&AQ$2&$A70))","v":"★"},{"$f":"IF(INDIRECT($B$2&AR$2&$A70)=\"\",\"★\",INDIRECT($B$2&AR$2&$A70))","v":0},{"$f":"IF(INDIRECT($B$2&AS$2&$A70)=\"\",\"★\",INDIRECT($B$2&AS$2&$A70))","v":"★"},{"$f":"IF(INDIRECT($B$2&AT$2&$A70)=\"\",\"★\",INDIRECT($B$2&AT$2&$A70))","v":"★"},{"$f":"IF(INDIRECT($B$2&AU$2&$A70)=\"\",\"★\",INDIRECT($B$2&AU$2&$A70))","v":"★"},{"$f":"IF(INDIRECT($B$2&AV$2&$A70)=\"\",\"★\",INDIRECT($B$2&AV$2&$A70))","v":"★"},{"$f":"IF(INDIRECT($B$2&AW$2&$A70)=\"\",\"★\",INDIRECT($B$2&AW$2&$A70))","v":"★"},{"$f":"IF(INDIRECT($B$2&AX$2&$A70)=\"\",\"★\",INDIRECT($B$2&AX$2&$A70))","v":"★"},{"$f":"IF(INDIRECT($B$2&AY$2&$A70)=\"\",\"★\",INDIRECT($B$2&AY$2&$A70))","v":"★"},{"$f":"IF(INDIRECT($B$2&AZ$2&$A70)=\"\",\"★\",INDIRECT($B$2&AZ$2&$A70))","v":"★"},{"$f":"IF(INDIRECT($B$2&BA$2&$A70)=\"\",\"★\",INDIRECT($B$2&BA$2&$A70))","v":"★"},{"$f":"IF(INDIRECT($B$2&BB$2&$A70)=\"\",\"★\",INDIRECT($B$2&BB$2&$A70))","v":"★"},{"$f":"IF(INDIRECT($B$2&BC$2&$A70)=\"\",\"★\",INDIRECT($B$2&BC$2&$A70))","v":"★"},{"$f":"IF(INDIRECT($B$2&BD$2&$A70)=\"\",\"★\",INDIRECT($B$2&BD$2&$A70))","v":"★"},{"$f":"IF(INDIRECT($B$2&BE$2&$A70)=\"\",\"★\",INDIRECT($B$2&BE$2&$A70))","v":"★"},{"$f":"IF(INDIRECT($B$2&BF$2&$A70)=\"\",\"★\",INDIRECT($B$2&BF$2&$A70))","v":"★"},{"$f":"IF(INDIRECT($B$2&BG$2&$A70)=\"\",\"★\",INDIRECT($B$2&BG$2&$A70))","v":0},{"$f":"IF(INDIRECT($B$2&BH$2&$A70)=\"\",\"★\",INDIRECT($B$2&BH$2&$A70))","v":"★"},{"$f":"IF(INDIRECT($B$2&BI$2&$A70)=\"\",\"★\",INDIRECT($B$2&BI$2&$A70))","v":"★"},{"$f":"IF(INDIRECT($B$2&BJ$2&$A70)=\"\",\"★\",INDIRECT($B$2&BJ$2&$A70))","v":"★"},{"$f":"IF(INDIRECT($B$2&BK$2&$A70)=\"\",\"★\",INDIRECT($B$2&BK$2&$A70))","v":"★"},{"$f":"IF(INDIRECT($B$2&BL$2&$A70)=\"\",\"★\",INDIRECT($B$2&BL$2&$A70))","v":"★"},{"$f":"IF(INDIRECT($B$2&BM$2&$A70)=\"\",\"★\",INDIRECT($B$2&BM$2&$A70))","v":"★"},{"$f":"IF(INDIRECT($B$2&BN$2&$A70)=\"\",\"★\",INDIRECT($B$2&BN$2&$A70))","v":"★"},{"$f":"IF(INDIRECT($B$2&BO$2&$A70)=\"\",\"★\",INDIRECT($B$2&BO$2&$A70))","v":"★"},{"$f":"IF(INDIRECT($B$2&BP$2&$A70)=\"\",\"★\",INDIRECT($B$2&BP$2&$A70))","v":"★"},{"$f":"IF(INDIRECT($B$2&BQ$2&$A70)=\"\",\"★\",INDIRECT($B$2&BQ$2&$A70))","v":"★"},{"$f":"IF(INDIRECT($B$2&BR$2&$A70)=\"\",\"★\",INDIRECT($B$2&BR$2&$A70))","v":"★"},{"$f":"IF(INDIRECT($B$2&BS$2&$A70)=\"\",\"★\",INDIRECT($B$2&BS$2&$A70))","v":"★"},{"$f":"IF(INDIRECT($B$2&BT$2&$A70)=\"\",\"★\",INDIRECT($B$2&BT$2&$A70))","v":"★"},{"$f":"IF(INDIRECT($B$2&BU$2&$A70)=\"\",\"★\",INDIRECT($B$2&BU$2&$A70))","v":"★"},{"$f":"IF(INDIRECT($B$2&BV$2&$A70)=\"\",\"★\",INDIRECT($B$2&BV$2&$A70))","v":"★"},{"$f":"IF(INDIRECT($B$2&BW$2&$A70)=\"\",\"★\",INDIRECT($B$2&BW$2&$A70))","v":"★"},{"$f":"IF(INDIRECT($B$2&BX$2&$A70)=\"\",\"★\",INDIRECT($B$2&BX$2&$A70))","v":"★"},{"$f":"IF(INDIRECT($B$2&BY$2&$A70)=\"\",\"★\",INDIRECT($B$2&BY$2&$A70))","v":"★"}]
[97,null,null,null,null,null,null,null,null,null,null,null,null,61,{"$f":"IF(INDIRECT($B$2&$O$2&$A71)=\"\",\"★\",INDIRECT($B$2&$O$2&$A71))","v":"★"},{"$f":"IF(INDIRECT($B$2&$P$2&$A71)=\"\",\"★\",INDIRECT($B$2&$P$2&$A71))","v":0},{"$f":"IF(INDIRECT($B$2&$Q$2&$A71)=\"\",\"★\",INDIRECT($B$2&$Q$2&$A71))","v":0},{"$f":"IF(INDIRECT($B$2&$R$2&$A71)=\"\",\"★\",INDIRECT($B$2&$R$2&$A71))","v":0},{"$f":"IF(INDIRECT($B$2&$S$2&$A71)=\"\",\"★\",INDIRECT($B$2&$S$2&$A71))","v":"★"},{"$f":"IF(INDIRECT($B$2&$T$2&$A71)=\"\",\"★\",INDIRECT($B$2&$T$2&$A71))","v":"★"},{"$f":"IF(INDIRECT($B$2&$U$2&$A71)=\"\",\"★\",INDIRECT($B$2&$U$2&$A71))","v":"★"},{"$f":"IF(INDIRECT($B$2&$V$2&$A71)=\"\",\"★\",INDIRECT($B$2&$V$2&$A71))","v":"★"},{"$f":"IF(INDIRECT($B$2&$W$2&$A71)=\"\",\"★\",INDIRECT($B$2&$W$2&$A71))","v":"★"},{"$f":"IF(INDIRECT($B$2&$X$2&$A71)=\"\",\"★\",INDIRECT($B$2&$X$2&$A71))","v":"★"},{"$f":"IF(INDIRECT($B$2&$Y$2&$A71)=\"\",\"★\",INDIRECT($B$2&$Y$2&$A71))","v":"★"},{"$f":"IF(INDIRECT($B$2&$Z$2&$A71)=\"\",\"★\",INDIRECT($B$2&$Z$2&$A71))","v":"★"},{"$f":"IF(INDIRECT($B$2&$AA$2&$A71)=\"\",\"★\",INDIRECT($B$2&$AA$2&$A71))","v":"★"},{"$f":"IF(INDIRECT($B$2&$AB$2&$A71)=\"\",\"★\",INDIRECT($B$2&$AB$2&$A71))","v":"★"},{"$f":"IF(INDIRECT($B$2&AC$2&$A71)=\"\",\"★\",INDIRECT($B$2&AC$2&$A71))","v":"★"},{"$f":"IF(INDIRECT($B$2&AD$2&$A71)=\"\",\"★\",INDIRECT($B$2&AD$2&$A71))","v":"★"},{"$f":"IF(INDIRECT($B$2&AE$2&$A71)=\"\",\"★\",INDIRECT($B$2&AE$2&$A71))","v":"★"},{"$f":"IF(INDIRECT($B$2&AF$2&$A71)=\"\",\"★\",INDIRECT($B$2&AF$2&$A71))","v":"★"},{"$f":"IF(INDIRECT($B$2&AG$2&$A71)=\"\",\"★\",INDIRECT($B$2&AG$2&$A71))","v":"★"},{"$f":"IF(INDIRECT($B$2&AH$2&$A71)=\"\",\"★\",INDIRECT($B$2&AH$2&$A71))","v":"★"},{"$f":"IF(INDIRECT($B$2&AI$2&$A71)=\"\",\"★\",INDIRECT($B$2&AI$2&$A71))","v":"★"},{"$f":"IF(INDIRECT($B$2&AJ$2&$A71)=\"\",\"★\",INDIRECT($B$2&AJ$2&$A71))","v":"★"},{"$f":"IF(INDIRECT($B$2&AK$2&$A71)=\"\",\"★\",INDIRECT($B$2&AK$2&$A71))","v":"★"},{"$f":"IF(INDIRECT($B$2&AL$2&$A71)=\"\",\"★\",INDIRECT($B$2&AL$2&$A71))","v":"★"},{"$f":"IF(INDIRECT($B$2&AM$2&$A71)=\"\",\"★\",INDIRECT($B$2&AM$2&$A71))","v":"★"},{"$f":"IF(INDIRECT($B$2&AN$2&$A71)=\"\",\"★\",INDIRECT($B$2&AN$2&$A71))","v":"★"},{"$f":"IF(INDIRECT($B$2&AO$2&$A71)=\"\",\"★\",INDIRECT($B$2&AO$2&$A71))","v":"★"},{"$f":"IF(INDIRECT($B$2&AP$2&$A71)=\"\",\"★\",INDIRECT($B$2&AP$2&$A71))","v":"★"},{"$f":"IF(INDIRECT($B$2&AQ$2&$A71)=\"\",\"★\",INDIRECT($B$2&AQ$2&$A71))","v":"★"},{"$f":"IF(INDIRECT($B$2&AR$2&$A71)=\"\",\"★\",INDIRECT($B$2&AR$2&$A71))","v":0},{"$f":"IF(INDIRECT($B$2&AS$2&$A71)=\"\",\"★\",INDIRECT($B$2&AS$2&$A71))","v":"★"},{"$f":"IF(INDIRECT($B$2&AT$2&$A71)=\"\",\"★\",INDIRECT($B$2&AT$2&$A71))","v":"★"},{"$f":"IF(INDIRECT($B$2&AU$2&$A71)=\"\",\"★\",INDIRECT($B$2&AU$2&$A71))","v":"★"},{"$f":"IF(INDIRECT($B$2&AV$2&$A71)=\"\",\"★\",INDIRECT($B$2&AV$2&$A71))","v":"★"},{"$f":"IF(INDIRECT($B$2&AW$2&$A71)=\"\",\"★\",INDIRECT($B$2&AW$2&$A71))","v":"★"},{"$f":"IF(INDIRECT($B$2&AX$2&$A71)=\"\",\"★\",INDIRECT($B$2&AX$2&$A71))","v":"★"},{"$f":"IF(INDIRECT($B$2&AY$2&$A71)=\"\",\"★\",INDIRECT($B$2&AY$2&$A71))","v":"★"},{"$f":"IF(INDIRECT($B$2&AZ$2&$A71)=\"\",\"★\",INDIRECT($B$2&AZ$2&$A71))","v":"★"},{"$f":"IF(INDIRECT($B$2&BA$2&$A71)=\"\",\"★\",INDIRECT($B$2&BA$2&$A71))","v":"★"},{"$f":"IF(INDIRECT($B$2&BB$2&$A71)=\"\",\"★\",INDIRECT($B$2&BB$2&$A71))","v":"★"},{"$f":"IF(INDIRECT($B$2&BC$2&$A71)=\"\",\"★\",INDIRECT($B$2&BC$2&$A71))","v":"★"},{"$f":"IF(INDIRECT($B$2&BD$2&$A71)=\"\",\"★\",INDIRECT($B$2&BD$2&$A71))","v":"★"},{"$f":"IF(INDIRECT($B$2&BE$2&$A71)=\"\",\"★\",INDIRECT($B$2&BE$2&$A71))","v":"★"},{"$f":"IF(INDIRECT($B$2&BF$2&$A71)=\"\",\"★\",INDIRECT($B$2&BF$2&$A71))","v":"★"},{"$f":"IF(INDIRECT($B$2&BG$2&$A71)=\"\",\"★\",INDIRECT($B$2&BG$2&$A71))","v":0},{"$f":"IF(INDIRECT($B$2&BH$2&$A71)=\"\",\"★\",INDIRECT($B$2&BH$2&$A71))","v":"★"},{"$f":"IF(INDIRECT($B$2&BI$2&$A71)=\"\",\"★\",INDIRECT($B$2&BI$2&$A71))","v":"★"},{"$f":"IF(INDIRECT($B$2&BJ$2&$A71)=\"\",\"★\",INDIRECT($B$2&BJ$2&$A71))","v":"★"},{"$f":"IF(INDIRECT($B$2&BK$2&$A71)=\"\",\"★\",INDIRECT($B$2&BK$2&$A71))","v":"★"},{"$f":"IF(INDIRECT($B$2&BL$2&$A71)=\"\",\"★\",INDIRECT($B$2&BL$2&$A71))","v":"★"},{"$f":"IF(INDIRECT($B$2&BM$2&$A71)=\"\",\"★\",INDIRECT($B$2&BM$2&$A71))","v":"★"},{"$f":"IF(INDIRECT($B$2&BN$2&$A71)=\"\",\"★\",INDIRECT($B$2&BN$2&$A71))","v":"★"},{"$f":"IF(INDIRECT($B$2&BO$2&$A71)=\"\",\"★\",INDIRECT($B$2&BO$2&$A71))","v":"★"},{"$f":"IF(INDIRECT($B$2&BP$2&$A71)=\"\",\"★\",INDIRECT($B$2&BP$2&$A71))","v":"★"},{"$f":"IF(INDIRECT($B$2&BQ$2&$A71)=\"\",\"★\",INDIRECT($B$2&BQ$2&$A71))","v":"★"},{"$f":"IF(INDIRECT($B$2&BR$2&$A71)=\"\",\"★\",INDIRECT($B$2&BR$2&$A71))","v":"★"},{"$f":"IF(INDIRECT($B$2&BS$2&$A71)=\"\",\"★\",INDIRECT($B$2&BS$2&$A71))","v":"★"},{"$f":"IF(INDIRECT($B$2&BT$2&$A71)=\"\",\"★\",INDIRECT($B$2&BT$2&$A71))","v":"★"},{"$f":"IF(INDIRECT($B$2&BU$2&$A71)=\"\",\"★\",INDIRECT($B$2&BU$2&$A71))","v":"★"},{"$f":"IF(INDIRECT($B$2&BV$2&$A71)=\"\",\"★\",INDIRECT($B$2&BV$2&$A71))","v":"★"},{"$f":"IF(INDIRECT($B$2&BW$2&$A71)=\"\",\"★\",INDIRECT($B$2&BW$2&$A71))","v":"★"},{"$f":"IF(INDIRECT($B$2&BX$2&$A71)=\"\",\"★\",INDIRECT($B$2&BX$2&$A71))","v":"★"},{"$f":"IF(INDIRECT($B$2&BY$2&$A71)=\"\",\"★\",INDIRECT($B$2&BY$2&$A71))","v":"★"}]
[98,null,null,null,null,null,null,null,null,null,null,null,null,62,{"$f":"IF(INDIRECT($B$2&$O$2&$A72)=\"\",\"★\",INDIRECT($B$2&$O$2&$A72))","v":"★"},{"$f":"IF(INDIRECT($B$2&$P$2&$A72)=\"\",\"★\",INDIRECT($B$2&$P$2&$A72))","v":0},{"$f":"IF(INDIRECT($B$2&$Q$2&$A72)=\"\",\"★\",INDIRECT($B$2&$Q$2&$A72))","v":0},{"$f":"IF(INDIRECT($B$2&$R$2&$A72)=\"\",\"★\",INDIRECT($B$2&$R$2&$A72))","v":0},{"$f":"IF(INDIRECT($B$2&$S$2&$A72)=\"\",\"★\",INDIRECT($B$2&$S$2&$A72))","v":"★"},{"$f":"IF(INDIRECT($B$2&$T$2&$A72)=\"\",\"★\",INDIRECT($B$2&$T$2&$A72))","v":"★"},{"$f":"IF(INDIRECT($B$2&$U$2&$A72)=\"\",\"★\",INDIRECT($B$2&$U$2&$A72))","v":"★"},{"$f":"IF(INDIRECT($B$2&$V$2&$A72)=\"\",\"★\",INDIRECT($B$2&$V$2&$A72))","v":"★"},{"$f":"IF(INDIRECT($B$2&$W$2&$A72)=\"\",\"★\",INDIRECT($B$2&$W$2&$A72))","v":"★"},{"$f":"IF(INDIRECT($B$2&$X$2&$A72)=\"\",\"★\",INDIRECT($B$2&$X$2&$A72))","v":"★"},{"$f":"IF(INDIRECT($B$2&$Y$2&$A72)=\"\",\"★\",INDIRECT($B$2&$Y$2&$A72))","v":"★"},{"$f":"IF(INDIRECT($B$2&$Z$2&$A72)=\"\",\"★\",INDIRECT($B$2&$Z$2&$A72))","v":"★"},{"$f":"IF(INDIRECT($B$2&$AA$2&$A72)=\"\",\"★\",INDIRECT($B$2&$AA$2&$A72))","v":"★"},{"$f":"IF(INDIRECT($B$2&$AB$2&$A72)=\"\",\"★\",INDIRECT($B$2&$AB$2&$A72))","v":"★"},{"$f":"IF(INDIRECT($B$2&AC$2&$A72)=\"\",\"★\",INDIRECT($B$2&AC$2&$A72))","v":"★"},{"$f":"IF(INDIRECT($B$2&AD$2&$A72)=\"\",\"★\",INDIRECT($B$2&AD$2&$A72))","v":"★"},{"$f":"IF(INDIRECT($B$2&AE$2&$A72)=\"\",\"★\",INDIRECT($B$2&AE$2&$A72))","v":"★"},{"$f":"IF(INDIRECT($B$2&AF$2&$A72)=\"\",\"★\",INDIRECT($B$2&AF$2&$A72))","v":"★"},{"$f":"IF(INDIRECT($B$2&AG$2&$A72)=\"\",\"★\",INDIRECT($B$2&AG$2&$A72))","v":"★"},{"$f":"IF(INDIRECT($B$2&AH$2&$A72)=\"\",\"★\",INDIRECT($B$2&AH$2&$A72))","v":"★"},{"$f":"IF(INDIRECT($B$2&AI$2&$A72)=\"\",\"★\",INDIRECT($B$2&AI$2&$A72))","v":"★"},{"$f":"IF(INDIRECT($B$2&AJ$2&$A72)=\"\",\"★\",INDIRECT($B$2&AJ$2&$A72))","v":"★"},{"$f":"IF(INDIRECT($B$2&AK$2&$A72)=\"\",\"★\",INDIRECT($B$2&AK$2&$A72))","v":"★"},{"$f":"IF(INDIRECT($B$2&AL$2&$A72)=\"\",\"★\",INDIRECT($B$2&AL$2&$A72))","v":"★"},{"$f":"IF(INDIRECT($B$2&AM$2&$A72)=\"\",\"★\",INDIRECT($B$2&AM$2&$A72))","v":"★"},{"$f":"IF(INDIRECT($B$2&AN$2&$A72)=\"\",\"★\",INDIRECT($B$2&AN$2&$A72))","v":"★"},{"$f":"IF(INDIRECT($B$2&AO$2&$A72)=\"\",\"★\",INDIRECT($B$2&AO$2&$A72))","v":"★"},{"$f":"IF(INDIRECT($B$2&AP$2&$A72)=\"\",\"★\",INDIRECT($B$2&AP$2&$A72))","v":"★"},{"$f":"IF(INDIRECT($B$2&AQ$2&$A72)=\"\",\"★\",INDIRECT($B$2&AQ$2&$A72))","v":"★"},{"$f":"IF(INDIRECT($B$2&AR$2&$A72)=\"\",\"★\",INDIRECT($B$2&AR$2&$A72))","v":0},{"$f":"IF(INDIRECT($B$2&AS$2&$A72)=\"\",\"★\",INDIRECT($B$2&AS$2&$A72))","v":"★"},{"$f":"IF(INDIRECT($B$2&AT$2&$A72)=\"\",\"★\",INDIRECT($B$2&AT$2&$A72))","v":"★"},{"$f":"IF(INDIRECT($B$2&AU$2&$A72)=\"\",\"★\",INDIRECT($B$2&AU$2&$A72))","v":"★"},{"$f":"IF(INDIRECT($B$2&AV$2&$A72)=\"\",\"★\",INDIRECT($B$2&AV$2&$A72))","v":"★"},{"$f":"IF(INDIRECT($B$2&AW$2&$A72)=\"\",\"★\",INDIRECT($B$2&AW$2&$A72))","v":"★"},{"$f":"IF(INDIRECT($B$2&AX$2&$A72)=\"\",\"★\",INDIRECT($B$2&AX$2&$A72))","v":"★"},{"$f":"IF(INDIRECT($B$2&AY$2&$A72)=\"\",\"★\",INDIRECT($B$2&AY$2&$A72))","v":"★"},{"$f":"IF(INDIRECT($B$2&AZ$2&$A72)=\"\",\"★\",INDIRECT($B$2&AZ$2&$A72))","v":"★"},{"$f":"IF(INDIRECT($B$2&BA$2&$A72)=\"\",\"★\",INDIRECT($B$2&BA$2&$A72))","v":"★"},{"$f":"IF(INDIRECT($B$2&BB$2&$A72)=\"\",\"★\",INDIRECT($B$2&BB$2&$A72))","v":"★"},{"$f":"IF(INDIRECT($B$2&BC$2&$A72)=\"\",\"★\",INDIRECT($B$2&BC$2&$A72))","v":"★"},{"$f":"IF(INDIRECT($B$2&BD$2&$A72)=\"\",\"★\",INDIRECT($B$2&BD$2&$A72))","v":"★"},{"$f":"IF(INDIRECT($B$2&BE$2&$A72)=\"\",\"★\",INDIRECT($B$2&BE$2&$A72))","v":"★"},{"$f":"IF(INDIRECT($B$2&BF$2&$A72)=\"\",\"★\",INDIRECT($B$2&BF$2&$A72))","v":"★"},{"$f":"IF(INDIRECT($B$2&BG$2&$A72)=\"\",\"★\",INDIRECT($B$2&BG$2&$A72))","v":0},{"$f":"IF(INDIRECT($B$2&BH$2&$A72)=\"\",\"★\",INDIRECT($B$2&BH$2&$A72))","v":"★"},{"$f":"IF(INDIRECT($B$2&BI$2&$A72)=\"\",\"★\",INDIRECT($B$2&BI$2&$A72))","v":"★"},{"$f":"IF(INDIRECT($B$2&BJ$2&$A72)=\"\",\"★\",INDIRECT($B$2&BJ$2&$A72))","v":"★"},{"$f":"IF(INDIRECT($B$2&BK$2&$A72)=\"\",\"★\",INDIRECT($B$2&BK$2&$A72))","v":"★"},{"$f":"IF(INDIRECT($B$2&BL$2&$A72)=\"\",\"★\",INDIRECT($B$2&BL$2&$A72))","v":"★"},{"$f":"IF(INDIRECT($B$2&BM$2&$A72)=\"\",\"★\",INDIRECT($B$2&BM$2&$A72))","v":"★"},{"$f":"IF(INDIRECT($B$2&BN$2&$A72)=\"\",\"★\",INDIRECT($B$2&BN$2&$A72))","v":"★"},{"$f":"IF(INDIRECT($B$2&BO$2&$A72)=\"\",\"★\",INDIRECT($B$2&BO$2&$A72))","v":"★"},{"$f":"IF(INDIRECT($B$2&BP$2&$A72)=\"\",\"★\",INDIRECT($B$2&BP$2&$A72))","v":"★"},{"$f":"IF(INDIRECT($B$2&BQ$2&$A72)=\"\",\"★\",INDIRECT($B$2&BQ$2&$A72))","v":"★"},{"$f":"IF(INDIRECT($B$2&BR$2&$A72)=\"\",\"★\",INDIRECT($B$2&BR$2&$A72))","v":"★"},{"$f":"IF(INDIRECT($B$2&BS$2&$A72)=\"\",\"★\",INDIRECT($B$2&BS$2&$A72))","v":"★"},{"$f":"IF(INDIRECT($B$2&BT$2&$A72)=\"\",\"★\",INDIRECT($B$2&BT$2&$A72))","v":"★"},{"$f":"IF(INDIRECT($B$2&BU$2&$A72)=\"\",\"★\",INDIRECT($B$2&BU$2&$A72))","v":"★"},{"$f":"IF(INDIRECT($B$2&BV$2&$A72)=\"\",\"★\",INDIRECT($B$2&BV$2&$A72))","v":"★"},{"$f":"IF(INDIRECT($B$2&BW$2&$A72)=\"\",\"★\",INDIRECT($B$2&BW$2&$A72))","v":"★"},{"$f":"IF(INDIRECT($B$2&BX$2&$A72)=\"\",\"★\",INDIRECT($B$2&BX$2&$A72))","v":"★"},{"$f":"IF(INDIRECT($B$2&BY$2&$A72)=\"\",\"★\",INDIRECT($B$2&BY$2&$A72))","v":"★"}]
[99,null,null,null,null,null,null,null,null,null,null,null,null,63,{"$f":"IF(INDIRECT($B$2&$O$2&$A73)=\"\",\"★\",INDIRECT($B$2&$O$2&$A73))","v":"★"},{"$f":"IF(INDIRECT($B$2&$P$2&$A73)=\"\",\"★\",INDIRECT($B$2&$P$2&$A73))","v":0},{"$f":"IF(INDIRECT($B$2&$Q$2&$A73)=\"\",\"★\",INDIRECT($B$2&$Q$2&$A73))","v":0},{"$f":"IF(INDIRECT($B$2&$R$2&$A73)=\"\",\"★\",INDIRECT($B$2&$R$2&$A73))","v":0},{"$f":"IF(INDIRECT($B$2&$S$2&$A73)=\"\",\"★\",INDIRECT($B$2&$S$2&$A73))","v":"★"},{"$f":"IF(INDIRECT($B$2&$T$2&$A73)=\"\",\"★\",INDIRECT($B$2&$T$2&$A73))","v":"★"},{"$f":"IF(INDIRECT($B$2&$U$2&$A73)=\"\",\"★\",INDIRECT($B$2&$U$2&$A73))","v":"★"},{"$f":"IF(INDIRECT($B$2&$V$2&$A73)=\"\",\"★\",INDIRECT($B$2&$V$2&$A73))","v":"★"},{"$f":"IF(INDIRECT($B$2&$W$2&$A73)=\"\",\"★\",INDIRECT($B$2&$W$2&$A73))","v":"★"},{"$f":"IF(INDIRECT($B$2&$X$2&$A73)=\"\",\"★\",INDIRECT($B$2&$X$2&$A73))","v":"★"},{"$f":"IF(INDIRECT($B$2&$Y$2&$A73)=\"\",\"★\",INDIRECT($B$2&$Y$2&$A73))","v":"★"},{"$f":"IF(INDIRECT($B$2&$Z$2&$A73)=\"\",\"★\",INDIRECT($B$2&$Z$2&$A73))","v":"★"},{"$f":"IF(INDIRECT($B$2&$AA$2&$A73)=\"\",\"★\",INDIRECT($B$2&$AA$2&$A73))","v":"★"},{"$f":"IF(INDIRECT($B$2&$AB$2&$A73)=\"\",\"★\",INDIRECT($B$2&$AB$2&$A73))","v":"★"},{"$f":"IF(INDIRECT($B$2&AC$2&$A73)=\"\",\"★\",INDIRECT($B$2&AC$2&$A73))","v":"★"},{"$f":"IF(INDIRECT($B$2&AD$2&$A73)=\"\",\"★\",INDIRECT($B$2&AD$2&$A73))","v":"★"},{"$f":"IF(INDIRECT($B$2&AE$2&$A73)=\"\",\"★\",INDIRECT($B$2&AE$2&$A73))","v":"★"},{"$f":"IF(INDIRECT($B$2&AF$2&$A73)=\"\",\"★\",INDIRECT($B$2&AF$2&$A73))","v":"★"},{"$f":"IF(INDIRECT($B$2&AG$2&$A73)=\"\",\"★\",INDIRECT($B$2&AG$2&$A73))","v":"★"},{"$f":"IF(INDIRECT($B$2&AH$2&$A73)=\"\",\"★\",INDIRECT($B$2&AH$2&$A73))","v":"★"},{"$f":"IF(INDIRECT($B$2&AI$2&$A73)=\"\",\"★\",INDIRECT($B$2&AI$2&$A73))","v":"★"},{"$f":"IF(INDIRECT($B$2&AJ$2&$A73)=\"\",\"★\",INDIRECT($B$2&AJ$2&$A73))","v":"★"},{"$f":"IF(INDIRECT($B$2&AK$2&$A73)=\"\",\"★\",INDIRECT($B$2&AK$2&$A73))","v":"★"},{"$f":"IF(INDIRECT($B$2&AL$2&$A73)=\"\",\"★\",INDIRECT($B$2&AL$2&$A73))","v":"★"},{"$f":"IF(INDIRECT($B$2&AM$2&$A73)=\"\",\"★\",INDIRECT($B$2&AM$2&$A73))","v":"★"},{"$f":"IF(INDIRECT($B$2&AN$2&$A73)=\"\",\"★\",INDIRECT($B$2&AN$2&$A73))","v":"★"},{"$f":"IF(INDIRECT($B$2&AO$2&$A73)=\"\",\"★\",INDIRECT($B$2&AO$2&$A73))","v":"★"},{"$f":"IF(INDIRECT($B$2&AP$2&$A73)=\"\",\"★\",INDIRECT($B$2&AP$2&$A73))","v":"★"},{"$f":"IF(INDIRECT($B$2&AQ$2&$A73)=\"\",\"★\",INDIRECT($B$2&AQ$2&$A73))","v":"★"},{"$f":"IF(INDIRECT($B$2&AR$2&$A73)=\"\",\"★\",INDIRECT($B$2&AR$2&$A73))","v":0},{"$f":"IF(INDIRECT($B$2&AS$2&$A73)=\"\",\"★\",INDIRECT($B$2&AS$2&$A73))","v":"★"},{"$f":"IF(INDIRECT($B$2&AT$2&$A73)=\"\",\"★\",INDIRECT($B$2&AT$2&$A73))","v":"★"},{"$f":"IF(INDIRECT($B$2&AU$2&$A73)=\"\",\"★\",INDIRECT($B$2&AU$2&$A73))","v":"★"},{"$f":"IF(INDIRECT($B$2&AV$2&$A73)=\"\",\"★\",INDIRECT($B$2&AV$2&$A73))","v":"★"},{"$f":"IF(INDIRECT($B$2&AW$2&$A73)=\"\",\"★\",INDIRECT($B$2&AW$2&$A73))","v":"★"},{"$f":"IF(INDIRECT($B$2&AX$2&$A73)=\"\",\"★\",INDIRECT($B$2&AX$2&$A73))","v":"★"},{"$f":"IF(INDIRECT($B$2&AY$2&$A73)=\"\",\"★\",INDIRECT($B$2&AY$2&$A73))","v":"★"},{"$f":"IF(INDIRECT($B$2&AZ$2&$A73)=\"\",\"★\",INDIRECT($B$2&AZ$2&$A73))","v":"★"},{"$f":"IF(INDIRECT($B$2&BA$2&$A73)=\"\",\"★\",INDIRECT($B$2&BA$2&$A73))","v":"★"},{"$f":"IF(INDIRECT($B$2&BB$2&$A73)=\"\",\"★\",INDIRECT($B$2&BB$2&$A73))","v":"★"},{"$f":"IF(INDIRECT($B$2&BC$2&$A73)=\"\",\"★\",INDIRECT($B$2&BC$2&$A73))","v":"★"},{"$f":"IF(INDIRECT($B$2&BD$2&$A73)=\"\",\"★\",INDIRECT($B$2&BD$2&$A73))","v":"★"},{"$f":"IF(INDIRECT($B$2&BE$2&$A73)=\"\",\"★\",INDIRECT($B$2&BE$2&$A73))","v":"★"},{"$f":"IF(INDIRECT($B$2&BF$2&$A73)=\"\",\"★\",INDIRECT($B$2&BF$2&$A73))","v":"★"},{"$f":"IF(INDIRECT($B$2&BG$2&$A73)=\"\",\"★\",INDIRECT($B$2&BG$2&$A73))","v":0},{"$f":"IF(INDIRECT($B$2&BH$2&$A73)=\"\",\"★\",INDIRECT($B$2&BH$2&$A73))","v":"★"},{"$f":"IF(INDIRECT($B$2&BI$2&$A73)=\"\",\"★\",INDIRECT($B$2&BI$2&$A73))","v":"★"},{"$f":"IF(INDIRECT($B$2&BJ$2&$A73)=\"\",\"★\",INDIRECT($B$2&BJ$2&$A73))","v":"★"},{"$f":"IF(INDIRECT($B$2&BK$2&$A73)=\"\",\"★\",INDIRECT($B$2&BK$2&$A73))","v":"★"},{"$f":"IF(INDIRECT($B$2&BL$2&$A73)=\"\",\"★\",INDIRECT($B$2&BL$2&$A73))","v":"★"},{"$f":"IF(INDIRECT($B$2&BM$2&$A73)=\"\",\"★\",INDIRECT($B$2&BM$2&$A73))","v":"★"},{"$f":"IF(INDIRECT($B$2&BN$2&$A73)=\"\",\"★\",INDIRECT($B$2&BN$2&$A73))","v":"★"},{"$f":"IF(INDIRECT($B$2&BO$2&$A73)=\"\",\"★\",INDIRECT($B$2&BO$2&$A73))","v":"★"},{"$f":"IF(INDIRECT($B$2&BP$2&$A73)=\"\",\"★\",INDIRECT($B$2&BP$2&$A73))","v":"★"},{"$f":"IF(INDIRECT($B$2&BQ$2&$A73)=\"\",\"★\",INDIRECT($B$2&BQ$2&$A73))","v":"★"},{"$f":"IF(INDIRECT($B$2&BR$2&$A73)=\"\",\"★\",INDIRECT($B$2&BR$2&$A73))","v":"★"},{"$f":"IF(INDIRECT($B$2&BS$2&$A73)=\"\",\"★\",INDIRECT($B$2&BS$2&$A73))","v":"★"},{"$f":"IF(INDIRECT($B$2&BT$2&$A73)=\"\",\"★\",INDIRECT($B$2&BT$2&$A73))","v":"★"},{"$f":"IF(INDIRECT($B$2&BU$2&$A73)=\"\",\"★\",INDIRECT($B$2&BU$2&$A73))","v":"★"},{"$f":"IF(INDIRECT($B$2&BV$2&$A73)=\"\",\"★\",INDIRECT($B$2&BV$2&$A73))","v":"★"},{"$f":"IF(INDIRECT($B$2&BW$2&$A73)=\"\",\"★\",INDIRECT($B$2&BW$2&$A73))","v":"★"},{"$f":"IF(INDIRECT($B$2&BX$2&$A73)=\"\",\"★\",INDIRECT($B$2&BX$2&$A73))","v":"★"},{"$f":"IF(INDIRECT($B$2&BY$2&$A73)=\"\",\"★\",INDIRECT($B$2&BY$2&$A73))","v":"★"}]
[100,null,null,null,null,null,null,null,null,null,null,null,null,64,{"$f":"IF(INDIRECT($B$2&$O$2&$A74)=\"\",\"★\",INDIRECT($B$2&$O$2&$A74))","v":"★"},{"$f":"IF(INDIRECT($B$2&$P$2&$A74)=\"\",\"★\",INDIRECT($B$2&$P$2&$A74))","v":0},{"$f":"IF(INDIRECT($B$2&$Q$2&$A74)=\"\",\"★\",INDIRECT($B$2&$Q$2&$A74))","v":0},{"$f":"IF(INDIRECT($B$2&$R$2&$A74)=\"\",\"★\",INDIRECT($B$2&$R$2&$A74))","v":0},{"$f":"IF(INDIRECT($B$2&$S$2&$A74)=\"\",\"★\",INDIRECT($B$2&$S$2&$A74))","v":"★"},{"$f":"IF(INDIRECT($B$2&$T$2&$A74)=\"\",\"★\",INDIRECT($B$2&$T$2&$A74))","v":"★"},{"$f":"IF(INDIRECT($B$2&$U$2&$A74)=\"\",\"★\",INDIRECT($B$2&$U$2&$A74))","v":"★"},{"$f":"IF(INDIRECT($B$2&$V$2&$A74)=\"\",\"★\",INDIRECT($B$2&$V$2&$A74))","v":"★"},{"$f":"IF(INDIRECT($B$2&$W$2&$A74)=\"\",\"★\",INDIRECT($B$2&$W$2&$A74))","v":"★"},{"$f":"IF(INDIRECT($B$2&$X$2&$A74)=\"\",\"★\",INDIRECT($B$2&$X$2&$A74))","v":"★"},{"$f":"IF(INDIRECT($B$2&$Y$2&$A74)=\"\",\"★\",INDIRECT($B$2&$Y$2&$A74))","v":"★"},{"$f":"IF(INDIRECT($B$2&$Z$2&$A74)=\"\",\"★\",INDIRECT($B$2&$Z$2&$A74))","v":"★"},{"$f":"IF(INDIRECT($B$2&$AA$2&$A74)=\"\",\"★\",INDIRECT($B$2&$AA$2&$A74))","v":"★"},{"$f":"IF(INDIRECT($B$2&$AB$2&$A74)=\"\",\"★\",INDIRECT($B$2&$AB$2&$A74))","v":"★"},{"$f":"IF(INDIRECT($B$2&AC$2&$A74)=\"\",\"★\",INDIRECT($B$2&AC$2&$A74))","v":"★"},{"$f":"IF(INDIRECT($B$2&AD$2&$A74)=\"\",\"★\",INDIRECT($B$2&AD$2&$A74))","v":"★"},{"$f":"IF(INDIRECT($B$2&AE$2&$A74)=\"\",\"★\",INDIRECT($B$2&AE$2&$A74))","v":"★"},{"$f":"IF(INDIRECT($B$2&AF$2&$A74)=\"\",\"★\",INDIRECT($B$2&AF$2&$A74))","v":"★"},{"$f":"IF(INDIRECT($B$2&AG$2&$A74)=\"\",\"★\",INDIRECT($B$2&AG$2&$A74))","v":"★"},{"$f":"IF(INDIRECT($B$2&AH$2&$A74)=\"\",\"★\",INDIRECT($B$2&AH$2&$A74))","v":"★"},{"$f":"IF(INDIRECT($B$2&AI$2&$A74)=\"\",\"★\",INDIRECT($B$2&AI$2&$A74))","v":"★"},{"$f":"IF(INDIRECT($B$2&AJ$2&$A74)=\"\",\"★\",INDIRECT($B$2&AJ$2&$A74))","v":"★"},{"$f":"IF(INDIRECT($B$2&AK$2&$A74)=\"\",\"★\",INDIRECT($B$2&AK$2&$A74))","v":"★"},{"$f":"IF(INDIRECT($B$2&AL$2&$A74)=\"\",\"★\",INDIRECT($B$2&AL$2&$A74))","v":"★"},{"$f":"IF(INDIRECT($B$2&AM$2&$A74)=\"\",\"★\",INDIRECT($B$2&AM$2&$A74))","v":"★"},{"$f":"IF(INDIRECT($B$2&AN$2&$A74)=\"\",\"★\",INDIRECT($B$2&AN$2&$A74))","v":"★"},{"$f":"IF(INDIRECT($B$2&AO$2&$A74)=\"\",\"★\",INDIRECT($B$2&AO$2&$A74))","v":"★"},{"$f":"IF(INDIRECT($B$2&AP$2&$A74)=\"\",\"★\",INDIRECT($B$2&AP$2&$A74))","v":"★"},{"$f":"IF(INDIRECT($B$2&AQ$2&$A74)=\"\",\"★\",INDIRECT($B$2&AQ$2&$A74))","v":"★"},{"$f":"IF(INDIRECT($B$2&AR$2&$A74)=\"\",\"★\",INDIRECT($B$2&AR$2&$A74))","v":0},{"$f":"IF(INDIRECT($B$2&AS$2&$A74)=\"\",\"★\",INDIRECT($B$2&AS$2&$A74))","v":"★"},{"$f":"IF(INDIRECT($B$2&AT$2&$A74)=\"\",\"★\",INDIRECT($B$2&AT$2&$A74))","v":"★"},{"$f":"IF(INDIRECT($B$2&AU$2&$A74)=\"\",\"★\",INDIRECT($B$2&AU$2&$A74))","v":"★"},{"$f":"IF(INDIRECT($B$2&AV$2&$A74)=\"\",\"★\",INDIRECT($B$2&AV$2&$A74))","v":"★"},{"$f":"IF(INDIRECT($B$2&AW$2&$A74)=\"\",\"★\",INDIRECT($B$2&AW$2&$A74))","v":"★"},{"$f":"IF(INDIRECT($B$2&AX$2&$A74)=\"\",\"★\",INDIRECT($B$2&AX$2&$A74))","v":"★"},{"$f":"IF(INDIRECT($B$2&AY$2&$A74)=\"\",\"★\",INDIRECT($B$2&AY$2&$A74))","v":"★"},{"$f":"IF(INDIRECT($B$2&AZ$2&$A74)=\"\",\"★\",INDIRECT($B$2&AZ$2&$A74))","v":"★"},{"$f":"IF(INDIRECT($B$2&BA$2&$A74)=\"\",\"★\",INDIRECT($B$2&BA$2&$A74))","v":"★"},{"$f":"IF(INDIRECT($B$2&BB$2&$A74)=\"\",\"★\",INDIRECT($B$2&BB$2&$A74))","v":"★"},{"$f":"IF(INDIRECT($B$2&BC$2&$A74)=\"\",\"★\",INDIRECT($B$2&BC$2&$A74))","v":"★"},{"$f":"IF(INDIRECT($B$2&BD$2&$A74)=\"\",\"★\",INDIRECT($B$2&BD$2&$A74))","v":"★"},{"$f":"IF(INDIRECT($B$2&BE$2&$A74)=\"\",\"★\",INDIRECT($B$2&BE$2&$A74))","v":"★"},{"$f":"IF(INDIRECT($B$2&BF$2&$A74)=\"\",\"★\",INDIRECT($B$2&BF$2&$A74))","v":"★"},{"$f":"IF(INDIRECT($B$2&BG$2&$A74)=\"\",\"★\",INDIRECT($B$2&BG$2&$A74))","v":0},{"$f":"IF(INDIRECT($B$2&BH$2&$A74)=\"\",\"★\",INDIRECT($B$2&BH$2&$A74))","v":"★"},{"$f":"IF(INDIRECT($B$2&BI$2&$A74)=\"\",\"★\",INDIRECT($B$2&BI$2&$A74))","v":"★"},{"$f":"IF(INDIRECT($B$2&BJ$2&$A74)=\"\",\"★\",INDIRECT($B$2&BJ$2&$A74))","v":"★"},{"$f":"IF(INDIRECT($B$2&BK$2&$A74)=\"\",\"★\",INDIRECT($B$2&BK$2&$A74))","v":"★"},{"$f":"IF(INDIRECT($B$2&BL$2&$A74)=\"\",\"★\",INDIRECT($B$2&BL$2&$A74))","v":"★"},{"$f":"IF(INDIRECT($B$2&BM$2&$A74)=\"\",\"★\",INDIRECT($B$2&BM$2&$A74))","v":"★"},{"$f":"IF(INDIRECT($B$2&BN$2&$A74)=\"\",\"★\",INDIRECT($B$2&BN$2&$A74))","v":"★"},{"$f":"IF(INDIRECT($B$2&BO$2&$A74)=\"\",\"★\",INDIRECT($B$2&BO$2&$A74))","v":"★"},{"$f":"IF(INDIRECT($B$2&BP$2&$A74)=\"\",\"★\",INDIRECT($B$2&BP$2&$A74))","v":"★"},{"$f":"IF(INDIRECT($B$2&BQ$2&$A74)=\"\",\"★\",INDIRECT($B$2&BQ$2&$A74))","v":"★"},{"$f":"IF(INDIRECT($B$2&BR$2&$A74)=\"\",\"★\",INDIRECT($B$2&BR$2&$A74))","v":"★"},{"$f":"IF(INDIRECT($B$2&BS$2&$A74)=\"\",\"★\",INDIRECT($B$2&BS$2&$A74))","v":"★"},{"$f":"IF(INDIRECT($B$2&BT$2&$A74)=\"\",\"★\",INDIRECT($B$2&BT$2&$A74))","v":"★"},{"$f":"IF(INDIRECT($B$2&BU$2&$A74)=\"\",\"★\",INDIRECT($B$2&BU$2&$A74))","v":"★"},{"$f":"IF(INDIRECT($B$2&BV$2&$A74)=\"\",\"★\",INDIRECT($B$2&BV$2&$A74))","v":"★"},{"$f":"IF(INDIRECT($B$2&BW$2&$A74)=\"\",\"★\",INDIRECT($B$2&BW$2&$A74))","v":"★"},{"$f":"IF(INDIRECT($B$2&BX$2&$A74)=\"\",\"★\",INDIRECT($B$2&BX$2&$A74))","v":"★"},{"$f":"IF(INDIRECT($B$2&BY$2&$A74)=\"\",\"★\",INDIRECT($B$2&BY$2&$A74))","v":"★"}]
[101,null,null,null,null,null,null,null,null,null,null,null,null,65,{"$f":"IF(INDIRECT($B$2&$O$2&$A75)=\"\",\"★\",INDIRECT($B$2&$O$2&$A75))","v":"★"},{"$f":"IF(INDIRECT($B$2&$P$2&$A75)=\"\",\"★\",INDIRECT($B$2&$P$2&$A75))","v":0},{"$f":"IF(INDIRECT($B$2&$Q$2&$A75)=\"\",\"★\",INDIRECT($B$2&$Q$2&$A75))","v":0},{"$f":"IF(INDIRECT($B$2&$R$2&$A75)=\"\",\"★\",INDIRECT($B$2&$R$2&$A75))","v":0},{"$f":"IF(INDIRECT($B$2&$S$2&$A75)=\"\",\"★\",INDIRECT($B$2&$S$2&$A75))","v":"★"},{"$f":"IF(INDIRECT($B$2&$T$2&$A75)=\"\",\"★\",INDIRECT($B$2&$T$2&$A75))","v":"★"},{"$f":"IF(INDIRECT($B$2&$U$2&$A75)=\"\",\"★\",INDIRECT($B$2&$U$2&$A75))","v":"★"},{"$f":"IF(INDIRECT($B$2&$V$2&$A75)=\"\",\"★\",INDIRECT($B$2&$V$2&$A75))","v":"★"},{"$f":"IF(INDIRECT($B$2&$W$2&$A75)=\"\",\"★\",INDIRECT($B$2&$W$2&$A75))","v":"★"},{"$f":"IF(INDIRECT($B$2&$X$2&$A75)=\"\",\"★\",INDIRECT($B$2&$X$2&$A75))","v":"★"},{"$f":"IF(INDIRECT($B$2&$Y$2&$A75)=\"\",\"★\",INDIRECT($B$2&$Y$2&$A75))","v":"★"},{"$f":"IF(INDIRECT($B$2&$Z$2&$A75)=\"\",\"★\",INDIRECT($B$2&$Z$2&$A75))","v":"★"},{"$f":"IF(INDIRECT($B$2&$AA$2&$A75)=\"\",\"★\",INDIRECT($B$2&$AA$2&$A75))","v":"★"},{"$f":"IF(INDIRECT($B$2&$AB$2&$A75)=\"\",\"★\",INDIRECT($B$2&$AB$2&$A75))","v":"★"},{"$f":"IF(INDIRECT($B$2&AC$2&$A75)=\"\",\"★\",INDIRECT($B$2&AC$2&$A75))","v":"★"},{"$f":"IF(INDIRECT($B$2&AD$2&$A75)=\"\",\"★\",INDIRECT($B$2&AD$2&$A75))","v":"★"},{"$f":"IF(INDIRECT($B$2&AE$2&$A75)=\"\",\"★\",INDIRECT($B$2&AE$2&$A75))","v":"★"},{"$f":"IF(INDIRECT($B$2&AF$2&$A75)=\"\",\"★\",INDIRECT($B$2&AF$2&$A75))","v":"★"},{"$f":"IF(INDIRECT($B$2&AG$2&$A75)=\"\",\"★\",INDIRECT($B$2&AG$2&$A75))","v":"★"},{"$f":"IF(INDIRECT($B$2&AH$2&$A75)=\"\",\"★\",INDIRECT($B$2&AH$2&$A75))","v":"★"},{"$f":"IF(INDIRECT($B$2&AI$2&$A75)=\"\",\"★\",INDIRECT($B$2&AI$2&$A75))","v":"★"},{"$f":"IF(INDIRECT($B$2&AJ$2&$A75)=\"\",\"★\",INDIRECT($B$2&AJ$2&$A75))","v":"★"},{"$f":"IF(INDIRECT($B$2&AK$2&$A75)=\"\",\"★\",INDIRECT($B$2&AK$2&$A75))","v":"★"},{"$f":"IF(INDIRECT($B$2&AL$2&$A75)=\"\",\"★\",INDIRECT($B$2&AL$2&$A75))","v":"★"},{"$f":"IF(INDIRECT($B$2&AM$2&$A75)=\"\",\"★\",INDIRECT($B$2&AM$2&$A75))","v":"★"},{"$f":"IF(INDIRECT($B$2&AN$2&$A75)=\"\",\"★\",INDIRECT($B$2&AN$2&$A75))","v":"★"},{"$f":"IF(INDIRECT($B$2&AO$2&$A75)=\"\",\"★\",INDIRECT($B$2&AO$2&$A75))","v":"★"},{"$f":"IF(INDIRECT($B$2&AP$2&$A75)=\"\",\"★\",INDIRECT($B$2&AP$2&$A75))","v":"★"},{"$f":"IF(INDIRECT($B$2&AQ$2&$A75)=\"\",\"★\",INDIRECT($B$2&AQ$2&$A75))","v":"★"},{"$f":"IF(INDIRECT($B$2&AR$2&$A75)=\"\",\"★\",INDIRECT($B$2&AR$2&$A75))","v":0},{"$f":"IF(INDIRECT($B$2&AS$2&$A75)=\"\",\"★\",INDIRECT($B$2&AS$2&$A75))","v":"★"},{"$f":"IF(INDIRECT($B$2&AT$2&$A75)=\"\",\"★\",INDIRECT($B$2&AT$2&$A75))","v":"★"},{"$f":"IF(INDIRECT($B$2&AU$2&$A75)=\"\",\"★\",INDIRECT($B$2&AU$2&$A75))","v":"★"},{"$f":"IF(INDIRECT($B$2&AV$2&$A75)=\"\",\"★\",INDIRECT($B$2&AV$2&$A75))","v":"★"},{"$f":"IF(INDIRECT($B$2&AW$2&$A75)=\"\",\"★\",INDIRECT($B$2&AW$2&$A75))","v":"★"},{"$f":"IF(INDIRECT($B$2&AX$2&$A75)=\"\",\"★\",INDIRECT($B$2&AX$2&$A75))","v":"★"},{"$f":"IF(INDIRECT($B$2&AY$2&$A75)=\"\",\"★\",INDIRECT($B$2&AY$2&$A75))","v":"★"},{"$f":"IF(INDIRECT($B$2&AZ$2&$A75)=\"\",\"★\",INDIRECT($B$2&AZ$2&$A75))","v":"★"},{"$f":"IF(INDIRECT($B$2&BA$2&$A75)=\"\",\"★\",INDIRECT($B$2&BA$2&$A75))","v":"★"},{"$f":"IF(INDIRECT($B$2&BB$2&$A75)=\"\",\"★\",INDIRECT($B$2&BB$2&$A75))","v":"★"},{"$f":"IF(INDIRECT($B$2&BC$2&$A75)=\"\",\"★\",INDIRECT($B$2&BC$2&$A75))","v":"★"},{"$f":"IF(INDIRECT($B$2&BD$2&$A75)=\"\",\"★\",INDIRECT($B$2&BD$2&$A75))","v":"★"},{"$f":"IF(INDIRECT($B$2&BE$2&$A75)=\"\",\"★\",INDIRECT($B$2&BE$2&$A75))","v":"★"},{"$f":"IF(INDIRECT($B$2&BF$2&$A75)=\"\",\"★\",INDIRECT($B$2&BF$2&$A75))","v":"★"},{"$f":"IF(INDIRECT($B$2&BG$2&$A75)=\"\",\"★\",INDIRECT($B$2&BG$2&$A75))","v":0},{"$f":"IF(INDIRECT($B$2&BH$2&$A75)=\"\",\"★\",INDIRECT($B$2&BH$2&$A75))","v":"★"},{"$f":"IF(INDIRECT($B$2&BI$2&$A75)=\"\",\"★\",INDIRECT($B$2&BI$2&$A75))","v":"★"},{"$f":"IF(INDIRECT($B$2&BJ$2&$A75)=\"\",\"★\",INDIRECT($B$2&BJ$2&$A75))","v":"★"},{"$f":"IF(INDIRECT($B$2&BK$2&$A75)=\"\",\"★\",INDIRECT($B$2&BK$2&$A75))","v":"★"},{"$f":"IF(INDIRECT($B$2&BL$2&$A75)=\"\",\"★\",INDIRECT($B$2&BL$2&$A75))","v":"★"},{"$f":"IF(INDIRECT($B$2&BM$2&$A75)=\"\",\"★\",INDIRECT($B$2&BM$2&$A75))","v":"★"},{"$f":"IF(INDIRECT($B$2&BN$2&$A75)=\"\",\"★\",INDIRECT($B$2&BN$2&$A75))","v":"★"},{"$f":"IF(INDIRECT($B$2&BO$2&$A75)=\"\",\"★\",INDIRECT($B$2&BO$2&$A75))","v":"★"},{"$f":"IF(INDIRECT($B$2&BP$2&$A75)=\"\",\"★\",INDIRECT($B$2&BP$2&$A75))","v":"★"},{"$f":"IF(INDIRECT($B$2&BQ$2&$A75)=\"\",\"★\",INDIRECT($B$2&BQ$2&$A75))","v":"★"},{"$f":"IF(INDIRECT($B$2&BR$2&$A75)=\"\",\"★\",INDIRECT($B$2&BR$2&$A75))","v":"★"},{"$f":"IF(INDIRECT($B$2&BS$2&$A75)=\"\",\"★\",INDIRECT($B$2&BS$2&$A75))","v":"★"},{"$f":"IF(INDIRECT($B$2&BT$2&$A75)=\"\",\"★\",INDIRECT($B$2&BT$2&$A75))","v":"★"},{"$f":"IF(INDIRECT($B$2&BU$2&$A75)=\"\",\"★\",INDIRECT($B$2&BU$2&$A75))","v":"★"},{"$f":"IF(INDIRECT($B$2&BV$2&$A75)=\"\",\"★\",INDIRECT($B$2&BV$2&$A75))","v":"★"},{"$f":"IF(INDIRECT($B$2&BW$2&$A75)=\"\",\"★\",INDIRECT($B$2&BW$2&$A75))","v":"★"},{"$f":"IF(INDIRECT($B$2&BX$2&$A75)=\"\",\"★\",INDIRECT($B$2&BX$2&$A75))","v":"★"},{"$f":"IF(INDIRECT($B$2&BY$2&$A75)=\"\",\"★\",INDIRECT($B$2&BY$2&$A75))","v":"★"}]
[102,null,null,null,null,null,null,null,null,null,null,null,null,66,{"$f":"IF(INDIRECT($B$2&$O$2&$A76)=\"\",\"★\",INDIRECT($B$2&$O$2&$A76))","v":"★"},{"$f":"IF(INDIRECT($B$2&$P$2&$A76)=\"\",\"★\",INDIRECT($B$2&$P$2&$A76))","v":0},{"$f":"IF(INDIRECT($B$2&$Q$2&$A76)=\"\",\"★\",INDIRECT($B$2&$Q$2&$A76))","v":0},{"$f":"IF(INDIRECT($B$2&$R$2&$A76)=\"\",\"★\",INDIRECT($B$2&$R$2&$A76))","v":0},{"$f":"IF(INDIRECT($B$2&$S$2&$A76)=\"\",\"★\",INDIRECT($B$2&$S$2&$A76))","v":"★"},{"$f":"IF(INDIRECT($B$2&$T$2&$A76)=\"\",\"★\",INDIRECT($B$2&$T$2&$A76))","v":"★"},{"$f":"IF(INDIRECT($B$2&$U$2&$A76)=\"\",\"★\",INDIRECT($B$2&$U$2&$A76))","v":"★"},{"$f":"IF(INDIRECT($B$2&$V$2&$A76)=\"\",\"★\",INDIRECT($B$2&$V$2&$A76))","v":"★"},{"$f":"IF(INDIRECT($B$2&$W$2&$A76)=\"\",\"★\",INDIRECT($B$2&$W$2&$A76))","v":"★"},{"$f":"IF(INDIRECT($B$2&$X$2&$A76)=\"\",\"★\",INDIRECT($B$2&$X$2&$A76))","v":"★"},{"$f":"IF(INDIRECT($B$2&$Y$2&$A76)=\"\",\"★\",INDIRECT($B$2&$Y$2&$A76))","v":"★"},{"$f":"IF(INDIRECT($B$2&$Z$2&$A76)=\"\",\"★\",INDIRECT($B$2&$Z$2&$A76))","v":"★"},{"$f":"IF(INDIRECT($B$2&$AA$2&$A76)=\"\",\"★\",INDIRECT($B$2&$AA$2&$A76))","v":"★"},{"$f":"IF(INDIRECT($B$2&$AB$2&$A76)=\"\",\"★\",INDIRECT($B$2&$AB$2&$A76))","v":"★"},{"$f":"IF(INDIRECT($B$2&AC$2&$A76)=\"\",\"★\",INDIRECT($B$2&AC$2&$A76))","v":"★"},{"$f":"IF(INDIRECT($B$2&AD$2&$A76)=\"\",\"★\",INDIRECT($B$2&AD$2&$A76))","v":"★"},{"$f":"IF(INDIRECT($B$2&AE$2&$A76)=\"\",\"★\",INDIRECT($B$2&AE$2&$A76))","v":"★"},{"$f":"IF(INDIRECT($B$2&AF$2&$A76)=\"\",\"★\",INDIRECT($B$2&AF$2&$A76))","v":"★"},{"$f":"IF(INDIRECT($B$2&AG$2&$A76)=\"\",\"★\",INDIRECT($B$2&AG$2&$A76))","v":"★"},{"$f":"IF(INDIRECT($B$2&AH$2&$A76)=\"\",\"★\",INDIRECT($B$2&AH$2&$A76))","v":"★"},{"$f":"IF(INDIRECT($B$2&AI$2&$A76)=\"\",\"★\",INDIRECT($B$2&AI$2&$A76))","v":"★"},{"$f":"IF(INDIRECT($B$2&AJ$2&$A76)=\"\",\"★\",INDIRECT($B$2&AJ$2&$A76))","v":"★"},{"$f":"IF(INDIRECT($B$2&AK$2&$A76)=\"\",\"★\",INDIRECT($B$2&AK$2&$A76))","v":"★"},{"$f":"IF(INDIRECT($B$2&AL$2&$A76)=\"\",\"★\",INDIRECT($B$2&AL$2&$A76))","v":"★"},{"$f":"IF(INDIRECT($B$2&AM$2&$A76)=\"\",\"★\",INDIRECT($B$2&AM$2&$A76))","v":"★"},{"$f":"IF(INDIRECT($B$2&AN$2&$A76)=\"\",\"★\",INDIRECT($B$2&AN$2&$A76))","v":"★"},{"$f":"IF(INDIRECT($B$2&AO$2&$A76)=\"\",\"★\",INDIRECT($B$2&AO$2&$A76))","v":"★"},{"$f":"IF(INDIRECT($B$2&AP$2&$A76)=\"\",\"★\",INDIRECT($B$2&AP$2&$A76))","v":"★"},{"$f":"IF(INDIRECT($B$2&AQ$2&$A76)=\"\",\"★\",INDIRECT($B$2&AQ$2&$A76))","v":"★"},{"$f":"IF(INDIRECT($B$2&AR$2&$A76)=\"\",\"★\",INDIRECT($B$2&AR$2&$A76))","v":0},{"$f":"IF(INDIRECT($B$2&AS$2&$A76)=\"\",\"★\",INDIRECT($B$2&AS$2&$A76))","v":"★"},{"$f":"IF(INDIRECT($B$2&AT$2&$A76)=\"\",\"★\",INDIRECT($B$2&AT$2&$A76))","v":"★"},{"$f":"IF(INDIRECT($B$2&AU$2&$A76)=\"\",\"★\",INDIRECT($B$2&AU$2&$A76))","v":"★"},{"$f":"IF(INDIRECT($B$2&AV$2&$A76)=\"\",\"★\",INDIRECT($B$2&AV$2&$A76))","v":"★"},{"$f":"IF(INDIRECT($B$2&AW$2&$A76)=\"\",\"★\",INDIRECT($B$2&AW$2&$A76))","v":"★"},{"$f":"IF(INDIRECT($B$2&AX$2&$A76)=\"\",\"★\",INDIRECT($B$2&AX$2&$A76))","v":"★"},{"$f":"IF(INDIRECT($B$2&AY$2&$A76)=\"\",\"★\",INDIRECT($B$2&AY$2&$A76))","v":"★"},{"$f":"IF(INDIRECT($B$2&AZ$2&$A76)=\"\",\"★\",INDIRECT($B$2&AZ$2&$A76))","v":"★"},{"$f":"IF(INDIRECT($B$2&BA$2&$A76)=\"\",\"★\",INDIRECT($B$2&BA$2&$A76))","v":"★"},{"$f":"IF(INDIRECT($B$2&BB$2&$A76)=\"\",\"★\",INDIRECT($B$2&BB$2&$A76))","v":"★"},{"$f":"IF(INDIRECT($B$2&BC$2&$A76)=\"\",\"★\",INDIRECT($B$2&BC$2&$A76))","v":"★"},{"$f":"IF(INDIRECT($B$2&BD$2&$A76)=\"\",\"★\",INDIRECT($B$2&BD$2&$A76))","v":"★"},{"$f":"IF(INDIRECT($B$2&BE$2&$A76)=\"\",\"★\",INDIRECT($B$2&BE$2&$A76))","v":"★"},{"$f":"IF(INDIRECT($B$2&BF$2&$A76)=\"\",\"★\",INDIRECT($B$2&BF$2&$A76))","v":"★"},{"$f":"IF(INDIRECT($B$2&BG$2&$A76)=\"\",\"★\",INDIRECT($B$2&BG$2&$A76))","v":0},{"$f":"IF(INDIRECT($B$2&BH$2&$A76)=\"\",\"★\",INDIRECT($B$2&BH$2&$A76))","v":"★"},{"$f":"IF(INDIRECT($B$2&BI$2&$A76)=\"\",\"★\",INDIRECT($B$2&BI$2&$A76))","v":"★"},{"$f":"IF(INDIRECT($B$2&BJ$2&$A76)=\"\",\"★\",INDIRECT($B$2&BJ$2&$A76))","v":"★"},{"$f":"IF(INDIRECT($B$2&BK$2&$A76)=\"\",\"★\",INDIRECT($B$2&BK$2&$A76))","v":"★"},{"$f":"IF(INDIRECT($B$2&BL$2&$A76)=\"\",\"★\",INDIRECT($B$2&BL$2&$A76))","v":"★"},{"$f":"IF(INDIRECT($B$2&BM$2&$A76)=\"\",\"★\",INDIRECT($B$2&BM$2&$A76))","v":"★"},{"$f":"IF(INDIRECT($B$2&BN$2&$A76)=\"\",\"★\",INDIRECT($B$2&BN$2&$A76))","v":"★"},{"$f":"IF(INDIRECT($B$2&BO$2&$A76)=\"\",\"★\",INDIRECT($B$2&BO$2&$A76))","v":"★"},{"$f":"IF(INDIRECT($B$2&BP$2&$A76)=\"\",\"★\",INDIRECT($B$2&BP$2&$A76))","v":"★"},{"$f":"IF(INDIRECT($B$2&BQ$2&$A76)=\"\",\"★\",INDIRECT($B$2&BQ$2&$A76))","v":"★"},{"$f":"IF(INDIRECT($B$2&BR$2&$A76)=\"\",\"★\",INDIRECT($B$2&BR$2&$A76))","v":"★"},{"$f":"IF(INDIRECT($B$2&BS$2&$A76)=\"\",\"★\",INDIRECT($B$2&BS$2&$A76))","v":"★"},{"$f":"IF(INDIRECT($B$2&BT$2&$A76)=\"\",\"★\",INDIRECT($B$2&BT$2&$A76))","v":"★"},{"$f":"IF(INDIRECT($B$2&BU$2&$A76)=\"\",\"★\",INDIRECT($B$2&BU$2&$A76))","v":"★"},{"$f":"IF(INDIRECT($B$2&BV$2&$A76)=\"\",\"★\",INDIRECT($B$2&BV$2&$A76))","v":"★"},{"$f":"IF(INDIRECT($B$2&BW$2&$A76)=\"\",\"★\",INDIRECT($B$2&BW$2&$A76))","v":"★"},{"$f":"IF(INDIRECT($B$2&BX$2&$A76)=\"\",\"★\",INDIRECT($B$2&BX$2&$A76))","v":"★"},{"$f":"IF(INDIRECT($B$2&BY$2&$A76)=\"\",\"★\",INDIRECT($B$2&BY$2&$A76))","v":"★"}]
[103,null,null,null,null,null,null,null,null,null,null,null,null,67,{"$f":"IF(INDIRECT($B$2&$O$2&$A77)=\"\",\"★\",INDIRECT($B$2&$O$2&$A77))","v":"★"},{"$f":"IF(INDIRECT($B$2&$P$2&$A77)=\"\",\"★\",INDIRECT($B$2&$P$2&$A77))","v":0},{"$f":"IF(INDIRECT($B$2&$Q$2&$A77)=\"\",\"★\",INDIRECT($B$2&$Q$2&$A77))","v":0},{"$f":"IF(INDIRECT($B$2&$R$2&$A77)=\"\",\"★\",INDIRECT($B$2&$R$2&$A77))","v":0},{"$f":"IF(INDIRECT($B$2&$S$2&$A77)=\"\",\"★\",INDIRECT($B$2&$S$2&$A77))","v":"★"},{"$f":"IF(INDIRECT($B$2&$T$2&$A77)=\"\",\"★\",INDIRECT($B$2&$T$2&$A77))","v":"★"},{"$f":"IF(INDIRECT($B$2&$U$2&$A77)=\"\",\"★\",INDIRECT($B$2&$U$2&$A77))","v":"★"},{"$f":"IF(INDIRECT($B$2&$V$2&$A77)=\"\",\"★\",INDIRECT($B$2&$V$2&$A77))","v":"★"},{"$f":"IF(INDIRECT($B$2&$W$2&$A77)=\"\",\"★\",INDIRECT($B$2&$W$2&$A77))","v":"★"},{"$f":"IF(INDIRECT($B$2&$X$2&$A77)=\"\",\"★\",INDIRECT($B$2&$X$2&$A77))","v":"★"},{"$f":"IF(INDIRECT($B$2&$Y$2&$A77)=\"\",\"★\",INDIRECT($B$2&$Y$2&$A77))","v":"★"},{"$f":"IF(INDIRECT($B$2&$Z$2&$A77)=\"\",\"★\",INDIRECT($B$2&$Z$2&$A77))","v":"★"},{"$f":"IF(INDIRECT($B$2&$AA$2&$A77)=\"\",\"★\",INDIRECT($B$2&$AA$2&$A77))","v":"★"},{"$f":"IF(INDIRECT($B$2&$AB$2&$A77)=\"\",\"★\",INDIRECT($B$2&$AB$2&$A77))","v":"★"},{"$f":"IF(INDIRECT($B$2&AC$2&$A77)=\"\",\"★\",INDIRECT($B$2&AC$2&$A77))","v":"★"},{"$f":"IF(INDIRECT($B$2&AD$2&$A77)=\"\",\"★\",INDIRECT($B$2&AD$2&$A77))","v":"★"},{"$f":"IF(INDIRECT($B$2&AE$2&$A77)=\"\",\"★\",INDIRECT($B$2&AE$2&$A77))","v":"★"},{"$f":"IF(INDIRECT($B$2&AF$2&$A77)=\"\",\"★\",INDIRECT($B$2&AF$2&$A77))","v":"★"},{"$f":"IF(INDIRECT($B$2&AG$2&$A77)=\"\",\"★\",INDIRECT($B$2&AG$2&$A77))","v":"★"},{"$f":"IF(INDIRECT($B$2&AH$2&$A77)=\"\",\"★\",INDIRECT($B$2&AH$2&$A77))","v":"★"},{"$f":"IF(INDIRECT($B$2&AI$2&$A77)=\"\",\"★\",INDIRECT($B$2&AI$2&$A77))","v":"★"},{"$f":"IF(INDIRECT($B$2&AJ$2&$A77)=\"\",\"★\",INDIRECT($B$2&AJ$2&$A77))","v":"★"},{"$f":"IF(INDIRECT($B$2&AK$2&$A77)=\"\",\"★\",INDIRECT($B$2&AK$2&$A77))","v":"★"},{"$f":"IF(INDIRECT($B$2&AL$2&$A77)=\"\",\"★\",INDIRECT($B$2&AL$2&$A77))","v":"★"},{"$f":"IF(INDIRECT($B$2&AM$2&$A77)=\"\",\"★\",INDIRECT($B$2&AM$2&$A77))","v":"★"},{"$f":"IF(INDIRECT($B$2&AN$2&$A77)=\"\",\"★\",INDIRECT($B$2&AN$2&$A77))","v":"★"},{"$f":"IF(INDIRECT($B$2&AO$2&$A77)=\"\",\"★\",INDIRECT($B$2&AO$2&$A77))","v":"★"},{"$f":"IF(INDIRECT($B$2&AP$2&$A77)=\"\",\"★\",INDIRECT($B$2&AP$2&$A77))","v":"★"},{"$f":"IF(INDIRECT($B$2&AQ$2&$A77)=\"\",\"★\",INDIRECT($B$2&AQ$2&$A77))","v":"★"},{"$f":"IF(INDIRECT($B$2&AR$2&$A77)=\"\",\"★\",INDIRECT($B$2&AR$2&$A77))","v":0},{"$f":"IF(INDIRECT($B$2&AS$2&$A77)=\"\",\"★\",INDIRECT($B$2&AS$2&$A77))","v":"★"},{"$f":"IF(INDIRECT($B$2&AT$2&$A77)=\"\",\"★\",INDIRECT($B$2&AT$2&$A77))","v":"★"},{"$f":"IF(INDIRECT($B$2&AU$2&$A77)=\"\",\"★\",INDIRECT($B$2&AU$2&$A77))","v":"★"},{"$f":"IF(INDIRECT($B$2&AV$2&$A77)=\"\",\"★\",INDIRECT($B$2&AV$2&$A77))","v":"★"},{"$f":"IF(INDIRECT($B$2&AW$2&$A77)=\"\",\"★\",INDIRECT($B$2&AW$2&$A77))","v":"★"},{"$f":"IF(INDIRECT($B$2&AX$2&$A77)=\"\",\"★\",INDIRECT($B$2&AX$2&$A77))","v":"★"},{"$f":"IF(INDIRECT($B$2&AY$2&$A77)=\"\",\"★\",INDIRECT($B$2&AY$2&$A77))","v":"★"},{"$f":"IF(INDIRECT($B$2&AZ$2&$A77)=\"\",\"★\",INDIRECT($B$2&AZ$2&$A77))","v":"★"},{"$f":"IF(INDIRECT($B$2&BA$2&$A77)=\"\",\"★\",INDIRECT($B$2&BA$2&$A77))","v":"★"},{"$f":"IF(INDIRECT($B$2&BB$2&$A77)=\"\",\"★\",INDIRECT($B$2&BB$2&$A77))","v":"★"},{"$f":"IF(INDIRECT($B$2&BC$2&$A77)=\"\",\"★\",INDIRECT($B$2&BC$2&$A77))","v":"★"},{"$f":"IF(INDIRECT($B$2&BD$2&$A77)=\"\",\"★\",INDIRECT($B$2&BD$2&$A77))","v":"★"},{"$f":"IF(INDIRECT($B$2&BE$2&$A77)=\"\",\"★\",INDIRECT($B$2&BE$2&$A77))","v":"★"},{"$f":"IF(INDIRECT($B$2&BF$2&$A77)=\"\",\"★\",INDIRECT($B$2&BF$2&$A77))","v":"★"},{"$f":"IF(INDIRECT($B$2&BG$2&$A77)=\"\",\"★\",INDIRECT($B$2&BG$2&$A77))","v":0},{"$f":"IF(INDIRECT($B$2&BH$2&$A77)=\"\",\"★\",INDIRECT($B$2&BH$2&$A77))","v":"★"},{"$f":"IF(INDIRECT($B$2&BI$2&$A77)=\"\",\"★\",INDIRECT($B$2&BI$2&$A77))","v":"★"},{"$f":"IF(INDIRECT($B$2&BJ$2&$A77)=\"\",\"★\",INDIRECT($B$2&BJ$2&$A77))","v":"★"},{"$f":"IF(INDIRECT($B$2&BK$2&$A77)=\"\",\"★\",INDIRECT($B$2&BK$2&$A77))","v":"★"},{"$f":"IF(INDIRECT($B$2&BL$2&$A77)=\"\",\"★\",INDIRECT($B$2&BL$2&$A77))","v":"★"},{"$f":"IF(INDIRECT($B$2&BM$2&$A77)=\"\",\"★\",INDIRECT($B$2&BM$2&$A77))","v":"★"},{"$f":"IF(INDIRECT($B$2&BN$2&$A77)=\"\",\"★\",INDIRECT($B$2&BN$2&$A77))","v":"★"},{"$f":"IF(INDIRECT($B$2&BO$2&$A77)=\"\",\"★\",INDIRECT($B$2&BO$2&$A77))","v":"★"},{"$f":"IF(INDIRECT($B$2&BP$2&$A77)=\"\",\"★\",INDIRECT($B$2&BP$2&$A77))","v":"★"},{"$f":"IF(INDIRECT($B$2&BQ$2&$A77)=\"\",\"★\",INDIRECT($B$2&BQ$2&$A77))","v":"★"},{"$f":"IF(INDIRECT($B$2&BR$2&$A77)=\"\",\"★\",INDIRECT($B$2&BR$2&$A77))","v":"★"},{"$f":"IF(INDIRECT($B$2&BS$2&$A77)=\"\",\"★\",INDIRECT($B$2&BS$2&$A77))","v":"★"},{"$f":"IF(INDIRECT($B$2&BT$2&$A77)=\"\",\"★\",INDIRECT($B$2&BT$2&$A77))","v":"★"},{"$f":"IF(INDIRECT($B$2&BU$2&$A77)=\"\",\"★\",INDIRECT($B$2&BU$2&$A77))","v":"★"},{"$f":"IF(INDIRECT($B$2&BV$2&$A77)=\"\",\"★\",INDIRECT($B$2&BV$2&$A77))","v":"★"},{"$f":"IF(INDIRECT($B$2&BW$2&$A77)=\"\",\"★\",INDIRECT($B$2&BW$2&$A77))","v":"★"},{"$f":"IF(INDIRECT($B$2&BX$2&$A77)=\"\",\"★\",INDIRECT($B$2&BX$2&$A77))","v":"★"},{"$f":"IF(INDIRECT($B$2&BY$2&$A77)=\"\",\"★\",INDIRECT($B$2&BY$2&$A77))","v":"★"}]
[104,null,null,null,null,null,null,null,null,null,null,null,null,68,{"$f":"IF(INDIRECT($B$2&$O$2&$A78)=\"\",\"★\",INDIRECT($B$2&$O$2&$A78))","v":"★"},{"$f":"IF(INDIRECT($B$2&$P$2&$A78)=\"\",\"★\",INDIRECT($B$2&$P$2&$A78))","v":0},{"$f":"IF(INDIRECT($B$2&$Q$2&$A78)=\"\",\"★\",INDIRECT($B$2&$Q$2&$A78))","v":0},{"$f":"IF(INDIRECT($B$2&$R$2&$A78)=\"\",\"★\",INDIRECT($B$2&$R$2&$A78))","v":0},{"$f":"IF(INDIRECT($B$2&$S$2&$A78)=\"\",\"★\",INDIRECT($B$2&$S$2&$A78))","v":"★"},{"$f":"IF(INDIRECT($B$2&$T$2&$A78)=\"\",\"★\",INDIRECT($B$2&$T$2&$A78))","v":"★"},{"$f":"IF(INDIRECT($B$2&$U$2&$A78)=\"\",\"★\",INDIRECT($B$2&$U$2&$A78))","v":"★"},{"$f":"IF(INDIRECT($B$2&$V$2&$A78)=\"\",\"★\",INDIRECT($B$2&$V$2&$A78))","v":"★"},{"$f":"IF(INDIRECT($B$2&$W$2&$A78)=\"\",\"★\",INDIRECT($B$2&$W$2&$A78))","v":"★"},{"$f":"IF(INDIRECT($B$2&$X$2&$A78)=\"\",\"★\",INDIRECT($B$2&$X$2&$A78))","v":"★"},{"$f":"IF(INDIRECT($B$2&$Y$2&$A78)=\"\",\"★\",INDIRECT($B$2&$Y$2&$A78))","v":"★"},{"$f":"IF(INDIRECT($B$2&$Z$2&$A78)=\"\",\"★\",INDIRECT($B$2&$Z$2&$A78))","v":"★"},{"$f":"IF(INDIRECT($B$2&$AA$2&$A78)=\"\",\"★\",INDIRECT($B$2&$AA$2&$A78))","v":"★"},{"$f":"IF(INDIRECT($B$2&$AB$2&$A78)=\"\",\"★\",INDIRECT($B$2&$AB$2&$A78))","v":"★"},{"$f":"IF(INDIRECT($B$2&AC$2&$A78)=\"\",\"★\",INDIRECT($B$2&AC$2&$A78))","v":"★"},{"$f":"IF(INDIRECT($B$2&AD$2&$A78)=\"\",\"★\",INDIRECT($B$2&AD$2&$A78))","v":"★"},{"$f":"IF(INDIRECT($B$2&AE$2&$A78)=\"\",\"★\",INDIRECT($B$2&AE$2&$A78))","v":"★"},{"$f":"IF(INDIRECT($B$2&AF$2&$A78)=\"\",\"★\",INDIRECT($B$2&AF$2&$A78))","v":"★"},{"$f":"IF(INDIRECT($B$2&AG$2&$A78)=\"\",\"★\",INDIRECT($B$2&AG$2&$A78))","v":"★"},{"$f":"IF(INDIRECT($B$2&AH$2&$A78)=\"\",\"★\",INDIRECT($B$2&AH$2&$A78))","v":"★"},{"$f":"IF(INDIRECT($B$2&AI$2&$A78)=\"\",\"★\",INDIRECT($B$2&AI$2&$A78))","v":"★"},{"$f":"IF(INDIRECT($B$2&AJ$2&$A78)=\"\",\"★\",INDIRECT($B$2&AJ$2&$A78))","v":"★"},{"$f":"IF(INDIRECT($B$2&AK$2&$A78)=\"\",\"★\",INDIRECT($B$2&AK$2&$A78))","v":"★"},{"$f":"IF(INDIRECT($B$2&AL$2&$A78)=\"\",\"★\",INDIRECT($B$2&AL$2&$A78))","v":"★"},{"$f":"IF(INDIRECT($B$2&AM$2&$A78)=\"\",\"★\",INDIRECT($B$2&AM$2&$A78))","v":"★"},{"$f":"IF(INDIRECT($B$2&AN$2&$A78)=\"\",\"★\",INDIRECT($B$2&AN$2&$A78))","v":"★"},{"$f":"IF(INDIRECT($B$2&AO$2&$A78)=\"\",\"★\",INDIRECT($B$2&AO$2&$A78))","v":"★"},{"$f":"IF(INDIRECT($B$2&AP$2&$A78)=\"\",\"★\",INDIRECT($B$2&AP$2&$A78))","v":"★"},{"$f":"IF(INDIRECT($B$2&AQ$2&$A78)=\"\",\"★\",INDIRECT($B$2&AQ$2&$A78))","v":"★"},{"$f":"IF(INDIRECT($B$2&AR$2&$A78)=\"\",\"★\",INDIRECT($B$2&AR$2&$A78))","v":0},{"$f":"IF(INDIRECT($B$2&AS$2&$A78)=\"\",\"★\",INDIRECT($B$2&AS$2&$A78))","v":"★"},{"$f":"IF(INDIRECT($B$2&AT$2&$A78)=\"\",\"★\",INDIRECT($B$2&AT$2&$A78))","v":"★"},{"$f":"IF(INDIRECT($B$2&AU$2&$A78)=\"\",\"★\",INDIRECT($B$2&AU$2&$A78))","v":"★"},{"$f":"IF(INDIRECT($B$2&AV$2&$A78)=\"\",\"★\",INDIRECT($B$2&AV$2&$A78))","v":"★"},{"$f":"IF(INDIRECT($B$2&AW$2&$A78)=\"\",\"★\",INDIRECT($B$2&AW$2&$A78))","v":"★"},{"$f":"IF(INDIRECT($B$2&AX$2&$A78)=\"\",\"★\",INDIRECT($B$2&AX$2&$A78))","v":"★"},{"$f":"IF(INDIRECT($B$2&AY$2&$A78)=\"\",\"★\",INDIRECT($B$2&AY$2&$A78))","v":"★"},{"$f":"IF(INDIRECT($B$2&AZ$2&$A78)=\"\",\"★\",INDIRECT($B$2&AZ$2&$A78))","v":"★"},{"$f":"IF(INDIRECT($B$2&BA$2&$A78)=\"\",\"★\",INDIRECT($B$2&BA$2&$A78))","v":"★"},{"$f":"IF(INDIRECT($B$2&BB$2&$A78)=\"\",\"★\",INDIRECT($B$2&BB$2&$A78))","v":"★"},{"$f":"IF(INDIRECT($B$2&BC$2&$A78)=\"\",\"★\",INDIRECT($B$2&BC$2&$A78))","v":"★"},{"$f":"IF(INDIRECT($B$2&BD$2&$A78)=\"\",\"★\",INDIRECT($B$2&BD$2&$A78))","v":"★"},{"$f":"IF(INDIRECT($B$2&BE$2&$A78)=\"\",\"★\",INDIRECT($B$2&BE$2&$A78))","v":"★"},{"$f":"IF(INDIRECT($B$2&BF$2&$A78)=\"\",\"★\",INDIRECT($B$2&BF$2&$A78))","v":"★"},{"$f":"IF(INDIRECT($B$2&BG$2&$A78)=\"\",\"★\",INDIRECT($B$2&BG$2&$A78))","v":0},{"$f":"IF(INDIRECT($B$2&BH$2&$A78)=\"\",\"★\",INDIRECT($B$2&BH$2&$A78))","v":"★"},{"$f":"IF(INDIRECT($B$2&BI$2&$A78)=\"\",\"★\",INDIRECT($B$2&BI$2&$A78))","v":"★"},{"$f":"IF(INDIRECT($B$2&BJ$2&$A78)=\"\",\"★\",INDIRECT($B$2&BJ$2&$A78))","v":"★"},{"$f":"IF(INDIRECT($B$2&BK$2&$A78)=\"\",\"★\",INDIRECT($B$2&BK$2&$A78))","v":"★"},{"$f":"IF(INDIRECT($B$2&BL$2&$A78)=\"\",\"★\",INDIRECT($B$2&BL$2&$A78))","v":"★"},{"$f":"IF(INDIRECT($B$2&BM$2&$A78)=\"\",\"★\",INDIRECT($B$2&BM$2&$A78))","v":"★"},{"$f":"IF(INDIRECT($B$2&BN$2&$A78)=\"\",\"★\",INDIRECT($B$2&BN$2&$A78))","v":"★"},{"$f":"IF(INDIRECT($B$2&BO$2&$A78)=\"\",\"★\",INDIRECT($B$2&BO$2&$A78))","v":"★"},{"$f":"IF(INDIRECT($B$2&BP$2&$A78)=\"\",\"★\",INDIRECT($B$2&BP$2&$A78))","v":"★"},{"$f":"IF(INDIRECT($B$2&BQ$2&$A78)=\"\",\"★\",INDIRECT($B$2&BQ$2&$A78))","v":"★"},{"$f":"IF(INDIRECT($B$2&BR$2&$A78)=\"\",\"★\",INDIRECT($B$2&BR$2&$A78))","v":"★"},{"$f":"IF(INDIRECT($B$2&BS$2&$A78)=\"\",\"★\",INDIRECT($B$2&BS$2&$A78))","v":"★"},{"$f":"IF(INDIRECT($B$2&BT$2&$A78)=\"\",\"★\",INDIRECT($B$2&BT$2&$A78))","v":"★"},{"$f":"IF(INDIRECT($B$2&BU$2&$A78)=\"\",\"★\",INDIRECT($B$2&BU$2&$A78))","v":"★"},{"$f":"IF(INDIRECT($B$2&BV$2&$A78)=\"\",\"★\",INDIRECT($B$2&BV$2&$A78))","v":"★"},{"$f":"IF(INDIRECT($B$2&BW$2&$A78)=\"\",\"★\",INDIRECT($B$2&BW$2&$A78))","v":"★"},{"$f":"IF(INDIRECT($B$2&BX$2&$A78)=\"\",\"★\",INDIRECT($B$2&BX$2&$A78))","v":"★"},{"$f":"IF(INDIRECT($B$2&BY$2&$A78)=\"\",\"★\",INDIRECT($B$2&BY$2&$A78))","v":"★"}]
[105,null,null,null,null,null,null,null,null,null,null,null,null,69,{"$f":"IF(INDIRECT($B$2&$O$2&$A79)=\"\",\"★\",INDIRECT($B$2&$O$2&$A79))","v":"★"},{"$f":"IF(INDIRECT($B$2&$P$2&$A79)=\"\",\"★\",INDIRECT($B$2&$P$2&$A79))","v":0},{"$f":"IF(INDIRECT($B$2&$Q$2&$A79)=\"\",\"★\",INDIRECT($B$2&$Q$2&$A79))","v":0},{"$f":"IF(INDIRECT($B$2&$R$2&$A79)=\"\",\"★\",INDIRECT($B$2&$R$2&$A79))","v":0},{"$f":"IF(INDIRECT($B$2&$S$2&$A79)=\"\",\"★\",INDIRECT($B$2&$S$2&$A79))","v":"★"},{"$f":"IF(INDIRECT($B$2&$T$2&$A79)=\"\",\"★\",INDIRECT($B$2&$T$2&$A79))","v":"★"},{"$f":"IF(INDIRECT($B$2&$U$2&$A79)=\"\",\"★\",INDIRECT($B$2&$U$2&$A79))","v":"★"},{"$f":"IF(INDIRECT($B$2&$V$2&$A79)=\"\",\"★\",INDIRECT($B$2&$V$2&$A79))","v":"★"},{"$f":"IF(INDIRECT($B$2&$W$2&$A79)=\"\",\"★\",INDIRECT($B$2&$W$2&$A79))","v":"★"},{"$f":"IF(INDIRECT($B$2&$X$2&$A79)=\"\",\"★\",INDIRECT($B$2&$X$2&$A79))","v":"★"},{"$f":"IF(INDIRECT($B$2&$Y$2&$A79)=\"\",\"★\",INDIRECT($B$2&$Y$2&$A79))","v":"★"},{"$f":"IF(INDIRECT($B$2&$Z$2&$A79)=\"\",\"★\",INDIRECT($B$2&$Z$2&$A79))","v":"★"},{"$f":"IF(INDIRECT($B$2&$AA$2&$A79)=\"\",\"★\",INDIRECT($B$2&$AA$2&$A79))","v":"★"},{"$f":"IF(INDIRECT($B$2&$AB$2&$A79)=\"\",\"★\",INDIRECT($B$2&$AB$2&$A79))","v":"★"},{"$f":"IF(INDIRECT($B$2&AC$2&$A79)=\"\",\"★\",INDIRECT($B$2&AC$2&$A79))","v":"★"},{"$f":"IF(INDIRECT($B$2&AD$2&$A79)=\"\",\"★\",INDIRECT($B$2&AD$2&$A79))","v":"★"},{"$f":"IF(INDIRECT($B$2&AE$2&$A79)=\"\",\"★\",INDIRECT($B$2&AE$2&$A79))","v":"★"},{"$f":"IF(INDIRECT($B$2&AF$2&$A79)=\"\",\"★\",INDIRECT($B$2&AF$2&$A79))","v":"★"},{"$f":"IF(INDIRECT($B$2&AG$2&$A79)=\"\",\"★\",INDIRECT($B$2&AG$2&$A79))","v":"★"},{"$f":"IF(INDIRECT($B$2&AH$2&$A79)=\"\",\"★\",INDIRECT($B$2&AH$2&$A79))","v":"★"},{"$f":"IF(INDIRECT($B$2&AI$2&$A79)=\"\",\"★\",INDIRECT($B$2&AI$2&$A79))","v":"★"},{"$f":"IF(INDIRECT($B$2&AJ$2&$A79)=\"\",\"★\",INDIRECT($B$2&AJ$2&$A79))","v":"★"},{"$f":"IF(INDIRECT($B$2&AK$2&$A79)=\"\",\"★\",INDIRECT($B$2&AK$2&$A79))","v":"★"},{"$f":"IF(INDIRECT($B$2&AL$2&$A79)=\"\",\"★\",INDIRECT($B$2&AL$2&$A79))","v":"★"},{"$f":"IF(INDIRECT($B$2&AM$2&$A79)=\"\",\"★\",INDIRECT($B$2&AM$2&$A79))","v":"★"},{"$f":"IF(INDIRECT($B$2&AN$2&$A79)=\"\",\"★\",INDIRECT($B$2&AN$2&$A79))","v":"★"},{"$f":"IF(INDIRECT($B$2&AO$2&$A79)=\"\",\"★\",INDIRECT($B$2&AO$2&$A79))","v":"★"},{"$f":"IF(INDIRECT($B$2&AP$2&$A79)=\"\",\"★\",INDIRECT($B$2&AP$2&$A79))","v":"★"},{"$f":"IF(INDIRECT($B$2&AQ$2&$A79)=\"\",\"★\",INDIRECT($B$2&AQ$2&$A79))","v":"★"},{"$f":"IF(INDIRECT($B$2&AR$2&$A79)=\"\",\"★\",INDIRECT($B$2&AR$2&$A79))","v":0},{"$f":"IF(INDIRECT($B$2&AS$2&$A79)=\"\",\"★\",INDIRECT($B$2&AS$2&$A79))","v":"★"},{"$f":"IF(INDIRECT($B$2&AT$2&$A79)=\"\",\"★\",INDIRECT($B$2&AT$2&$A79))","v":"★"},{"$f":"IF(INDIRECT($B$2&AU$2&$A79)=\"\",\"★\",INDIRECT($B$2&AU$2&$A79))","v":"★"},{"$f":"IF(INDIRECT($B$2&AV$2&$A79)=\"\",\"★\",INDIRECT($B$2&AV$2&$A79))","v":"★"},{"$f":"IF(INDIRECT($B$2&AW$2&$A79)=\"\",\"★\",INDIRECT($B$2&AW$2&$A79))","v":"★"},{"$f":"IF(INDIRECT($B$2&AX$2&$A79)=\"\",\"★\",INDIRECT($B$2&AX$2&$A79))","v":"★"},{"$f":"IF(INDIRECT($B$2&AY$2&$A79)=\"\",\"★\",INDIRECT($B$2&AY$2&$A79))","v":"★"},{"$f":"IF(INDIRECT($B$2&AZ$2&$A79)=\"\",\"★\",INDIRECT($B$2&AZ$2&$A79))","v":"★"},{"$f":"IF(INDIRECT($B$2&BA$2&$A79)=\"\",\"★\",INDIRECT($B$2&BA$2&$A79))","v":"★"},{"$f":"IF(INDIRECT($B$2&BB$2&$A79)=\"\",\"★\",INDIRECT($B$2&BB$2&$A79))","v":"★"},{"$f":"IF(INDIRECT($B$2&BC$2&$A79)=\"\",\"★\",INDIRECT($B$2&BC$2&$A79))","v":"★"},{"$f":"IF(INDIRECT($B$2&BD$2&$A79)=\"\",\"★\",INDIRECT($B$2&BD$2&$A79))","v":"★"},{"$f":"IF(INDIRECT($B$2&BE$2&$A79)=\"\",\"★\",INDIRECT($B$2&BE$2&$A79))","v":"★"},{"$f":"IF(INDIRECT($B$2&BF$2&$A79)=\"\",\"★\",INDIRECT($B$2&BF$2&$A79))","v":"★"},{"$f":"IF(INDIRECT($B$2&BG$2&$A79)=\"\",\"★\",INDIRECT($B$2&BG$2&$A79))","v":0},{"$f":"IF(INDIRECT($B$2&BH$2&$A79)=\"\",\"★\",INDIRECT($B$2&BH$2&$A79))","v":"★"},{"$f":"IF(INDIRECT($B$2&BI$2&$A79)=\"\",\"★\",INDIRECT($B$2&BI$2&$A79))","v":"★"},{"$f":"IF(INDIRECT($B$2&BJ$2&$A79)=\"\",\"★\",INDIRECT($B$2&BJ$2&$A79))","v":"★"},{"$f":"IF(INDIRECT($B$2&BK$2&$A79)=\"\",\"★\",INDIRECT($B$2&BK$2&$A79))","v":"★"},{"$f":"IF(INDIRECT($B$2&BL$2&$A79)=\"\",\"★\",INDIRECT($B$2&BL$2&$A79))","v":"★"},{"$f":"IF(INDIRECT($B$2&BM$2&$A79)=\"\",\"★\",INDIRECT($B$2&BM$2&$A79))","v":"★"},{"$f":"IF(INDIRECT($B$2&BN$2&$A79)=\"\",\"★\",INDIRECT($B$2&BN$2&$A79))","v":"★"},{"$f":"IF(INDIRECT($B$2&BO$2&$A79)=\"\",\"★\",INDIRECT($B$2&BO$2&$A79))","v":"★"},{"$f":"IF(INDIRECT($B$2&BP$2&$A79)=\"\",\"★\",INDIRECT($B$2&BP$2&$A79))","v":"★"},{"$f":"IF(INDIRECT($B$2&BQ$2&$A79)=\"\",\"★\",INDIRECT($B$2&BQ$2&$A79))","v":"★"},{"$f":"IF(INDIRECT($B$2&BR$2&$A79)=\"\",\"★\",INDIRECT($B$2&BR$2&$A79))","v":"★"},{"$f":"IF(INDIRECT($B$2&BS$2&$A79)=\"\",\"★\",INDIRECT($B$2&BS$2&$A79))","v":"★"},{"$f":"IF(INDIRECT($B$2&BT$2&$A79)=\"\",\"★\",INDIRECT($B$2&BT$2&$A79))","v":"★"},{"$f":"IF(INDIRECT($B$2&BU$2&$A79)=\"\",\"★\",INDIRECT($B$2&BU$2&$A79))","v":"★"},{"$f":"IF(INDIRECT($B$2&BV$2&$A79)=\"\",\"★\",INDIRECT($B$2&BV$2&$A79))","v":"★"},{"$f":"IF(INDIRECT($B$2&BW$2&$A79)=\"\",\"★\",INDIRECT($B$2&BW$2&$A79))","v":"★"},{"$f":"IF(INDIRECT($B$2&BX$2&$A79)=\"\",\"★\",INDIRECT($B$2&BX$2&$A79))","v":"★"},{"$f":"IF(INDIRECT($B$2&BY$2&$A79)=\"\",\"★\",INDIRECT($B$2&BY$2&$A79))","v":"★"}]
[106,null,null,null,null,null,null,null,null,null,null,null,null,70,{"$f":"IF(INDIRECT($B$2&$O$2&$A80)=\"\",\"★\",INDIRECT($B$2&$O$2&$A80))","v":"★"},{"$f":"IF(INDIRECT($B$2&$P$2&$A80)=\"\",\"★\",INDIRECT($B$2&$P$2&$A80))","v":0},{"$f":"IF(INDIRECT($B$2&$Q$2&$A80)=\"\",\"★\",INDIRECT($B$2&$Q$2&$A80))","v":0},{"$f":"IF(INDIRECT($B$2&$R$2&$A80)=\"\",\"★\",INDIRECT($B$2&$R$2&$A80))","v":0},{"$f":"IF(INDIRECT($B$2&$S$2&$A80)=\"\",\"★\",INDIRECT($B$2&$S$2&$A80))","v":"★"},{"$f":"IF(INDIRECT($B$2&$T$2&$A80)=\"\",\"★\",INDIRECT($B$2&$T$2&$A80))","v":"★"},{"$f":"IF(INDIRECT($B$2&$U$2&$A80)=\"\",\"★\",INDIRECT($B$2&$U$2&$A80))","v":"★"},{"$f":"IF(INDIRECT($B$2&$V$2&$A80)=\"\",\"★\",INDIRECT($B$2&$V$2&$A80))","v":"★"},{"$f":"IF(INDIRECT($B$2&$W$2&$A80)=\"\",\"★\",INDIRECT($B$2&$W$2&$A80))","v":"★"},{"$f":"IF(INDIRECT($B$2&$X$2&$A80)=\"\",\"★\",INDIRECT($B$2&$X$2&$A80))","v":"★"},{"$f":"IF(INDIRECT($B$2&$Y$2&$A80)=\"\",\"★\",INDIRECT($B$2&$Y$2&$A80))","v":"★"},{"$f":"IF(INDIRECT($B$2&$Z$2&$A80)=\"\",\"★\",INDIRECT($B$2&$Z$2&$A80))","v":"★"},{"$f":"IF(INDIRECT($B$2&$AA$2&$A80)=\"\",\"★\",INDIRECT($B$2&$AA$2&$A80))","v":"★"},{"$f":"IF(INDIRECT($B$2&$AB$2&$A80)=\"\",\"★\",INDIRECT($B$2&$AB$2&$A80))","v":"★"},{"$f":"IF(INDIRECT($B$2&AC$2&$A80)=\"\",\"★\",INDIRECT($B$2&AC$2&$A80))","v":"★"},{"$f":"IF(INDIRECT($B$2&AD$2&$A80)=\"\",\"★\",INDIRECT($B$2&AD$2&$A80))","v":"★"},{"$f":"IF(INDIRECT($B$2&AE$2&$A80)=\"\",\"★\",INDIRECT($B$2&AE$2&$A80))","v":"★"},{"$f":"IF(INDIRECT($B$2&AF$2&$A80)=\"\",\"★\",INDIRECT($B$2&AF$2&$A80))","v":"★"},{"$f":"IF(INDIRECT($B$2&AG$2&$A80)=\"\",\"★\",INDIRECT($B$2&AG$2&$A80))","v":"★"},{"$f":"IF(INDIRECT($B$2&AH$2&$A80)=\"\",\"★\",INDIRECT($B$2&AH$2&$A80))","v":"★"},{"$f":"IF(INDIRECT($B$2&AI$2&$A80)=\"\",\"★\",INDIRECT($B$2&AI$2&$A80))","v":"★"},{"$f":"IF(INDIRECT($B$2&AJ$2&$A80)=\"\",\"★\",INDIRECT($B$2&AJ$2&$A80))","v":"★"},{"$f":"IF(INDIRECT($B$2&AK$2&$A80)=\"\",\"★\",INDIRECT($B$2&AK$2&$A80))","v":"★"},{"$f":"IF(INDIRECT($B$2&AL$2&$A80)=\"\",\"★\",INDIRECT($B$2&AL$2&$A80))","v":"★"},{"$f":"IF(INDIRECT($B$2&AM$2&$A80)=\"\",\"★\",INDIRECT($B$2&AM$2&$A80))","v":"★"},{"$f":"IF(INDIRECT($B$2&AN$2&$A80)=\"\",\"★\",INDIRECT($B$2&AN$2&$A80))","v":"★"},{"$f":"IF(INDIRECT($B$2&AO$2&$A80)=\"\",\"★\",INDIRECT($B$2&AO$2&$A80))","v":"★"},{"$f":"IF(INDIRECT($B$2&AP$2&$A80)=\"\",\"★\",INDIRECT($B$2&AP$2&$A80))","v":"★"},{"$f":"IF(INDIRECT($B$2&AQ$2&$A80)=\"\",\"★\",INDIRECT($B$2&AQ$2&$A80))","v":"★"},{"$f":"IF(INDIRECT($B$2&AR$2&$A80)=\"\",\"★\",INDIRECT($B$2&AR$2&$A80))","v":0},{"$f":"IF(INDIRECT($B$2&AS$2&$A80)=\"\",\"★\",INDIRECT($B$2&AS$2&$A80))","v":"★"},{"$f":"IF(INDIRECT($B$2&AT$2&$A80)=\"\",\"★\",INDIRECT($B$2&AT$2&$A80))","v":"★"},{"$f":"IF(INDIRECT($B$2&AU$2&$A80)=\"\",\"★\",INDIRECT($B$2&AU$2&$A80))","v":"★"},{"$f":"IF(INDIRECT($B$2&AV$2&$A80)=\"\",\"★\",INDIRECT($B$2&AV$2&$A80))","v":"★"},{"$f":"IF(INDIRECT($B$2&AW$2&$A80)=\"\",\"★\",INDIRECT($B$2&AW$2&$A80))","v":"★"},{"$f":"IF(INDIRECT($B$2&AX$2&$A80)=\"\",\"★\",INDIRECT($B$2&AX$2&$A80))","v":"★"},{"$f":"IF(INDIRECT($B$2&AY$2&$A80)=\"\",\"★\",INDIRECT($B$2&AY$2&$A80))","v":"★"},{"$f":"IF(INDIRECT($B$2&AZ$2&$A80)=\"\",\"★\",INDIRECT($B$2&AZ$2&$A80))","v":"★"},{"$f":"IF(INDIRECT($B$2&BA$2&$A80)=\"\",\"★\",INDIRECT($B$2&BA$2&$A80))","v":"★"},{"$f":"IF(INDIRECT($B$2&BB$2&$A80)=\"\",\"★\",INDIRECT($B$2&BB$2&$A80))","v":"★"},{"$f":"IF(INDIRECT($B$2&BC$2&$A80)=\"\",\"★\",INDIRECT($B$2&BC$2&$A80))","v":"★"},{"$f":"IF(INDIRECT($B$2&BD$2&$A80)=\"\",\"★\",INDIRECT($B$2&BD$2&$A80))","v":"★"},{"$f":"IF(INDIRECT($B$2&BE$2&$A80)=\"\",\"★\",INDIRECT($B$2&BE$2&$A80))","v":"★"},{"$f":"IF(INDIRECT($B$2&BF$2&$A80)=\"\",\"★\",INDIRECT($B$2&BF$2&$A80))","v":"★"},{"$f":"IF(INDIRECT($B$2&BG$2&$A80)=\"\",\"★\",INDIRECT($B$2&BG$2&$A80))","v":0},{"$f":"IF(INDIRECT($B$2&BH$2&$A80)=\"\",\"★\",INDIRECT($B$2&BH$2&$A80))","v":"★"},{"$f":"IF(INDIRECT($B$2&BI$2&$A80)=\"\",\"★\",INDIRECT($B$2&BI$2&$A80))","v":"★"},{"$f":"IF(INDIRECT($B$2&BJ$2&$A80)=\"\",\"★\",INDIRECT($B$2&BJ$2&$A80))","v":"★"},{"$f":"IF(INDIRECT($B$2&BK$2&$A80)=\"\",\"★\",INDIRECT($B$2&BK$2&$A80))","v":"★"},{"$f":"IF(INDIRECT($B$2&BL$2&$A80)=\"\",\"★\",INDIRECT($B$2&BL$2&$A80))","v":"★"},{"$f":"IF(INDIRECT($B$2&BM$2&$A80)=\"\",\"★\",INDIRECT($B$2&BM$2&$A80))","v":"★"},{"$f":"IF(INDIRECT($B$2&BN$2&$A80)=\"\",\"★\",INDIRECT($B$2&BN$2&$A80))","v":"★"},{"$f":"IF(INDIRECT($B$2&BO$2&$A80)=\"\",\"★\",INDIRECT($B$2&BO$2&$A80))","v":"★"},{"$f":"IF(INDIRECT($B$2&BP$2&$A80)=\"\",\"★\",INDIRECT($B$2&BP$2&$A80))","v":"★"},{"$f":"IF(INDIRECT($B$2&BQ$2&$A80)=\"\",\"★\",INDIRECT($B$2&BQ$2&$A80))","v":"★"},{"$f":"IF(INDIRECT($B$2&BR$2&$A80)=\"\",\"★\",INDIRECT($B$2&BR$2&$A80))","v":"★"},{"$f":"IF(INDIRECT($B$2&BS$2&$A80)=\"\",\"★\",INDIRECT($B$2&BS$2&$A80))","v":"★"},{"$f":"IF(INDIRECT($B$2&BT$2&$A80)=\"\",\"★\",INDIRECT($B$2&BT$2&$A80))","v":"★"},{"$f":"IF(INDIRECT($B$2&BU$2&$A80)=\"\",\"★\",INDIRECT($B$2&BU$2&$A80))","v":"★"},{"$f":"IF(INDIRECT($B$2&BV$2&$A80)=\"\",\"★\",INDIRECT($B$2&BV$2&$A80))","v":"★"},{"$f":"IF(INDIRECT($B$2&BW$2&$A80)=\"\",\"★\",INDIRECT($B$2&BW$2&$A80))","v":"★"},{"$f":"IF(INDIRECT($B$2&BX$2&$A80)=\"\",\"★\",INDIRECT($B$2&BX$2&$A80))","v":"★"},{"$f":"IF(INDIRECT($B$2&BY$2&$A80)=\"\",\"★\",INDIRECT($B$2&BY$2&$A80))","v":"★"}]
[107,null,null,null,null,null,null,null,null,null,null,null,null,71,{"$f":"IF(INDIRECT($B$2&$O$2&$A81)=\"\",\"★\",INDIRECT($B$2&$O$2&$A81))","v":"★"},{"$f":"IF(INDIRECT($B$2&$P$2&$A81)=\"\",\"★\",INDIRECT($B$2&$P$2&$A81))","v":0},{"$f":"IF(INDIRECT($B$2&$Q$2&$A81)=\"\",\"★\",INDIRECT($B$2&$Q$2&$A81))","v":0},{"$f":"IF(INDIRECT($B$2&$R$2&$A81)=\"\",\"★\",INDIRECT($B$2&$R$2&$A81))","v":0},{"$f":"IF(INDIRECT($B$2&$S$2&$A81)=\"\",\"★\",INDIRECT($B$2&$S$2&$A81))","v":"★"},{"$f":"IF(INDIRECT($B$2&$T$2&$A81)=\"\",\"★\",INDIRECT($B$2&$T$2&$A81))","v":"★"},{"$f":"IF(INDIRECT($B$2&$U$2&$A81)=\"\",\"★\",INDIRECT($B$2&$U$2&$A81))","v":"★"},{"$f":"IF(INDIRECT($B$2&$V$2&$A81)=\"\",\"★\",INDIRECT($B$2&$V$2&$A81))","v":"★"},{"$f":"IF(INDIRECT($B$2&$W$2&$A81)=\"\",\"★\",INDIRECT($B$2&$W$2&$A81))","v":"★"},{"$f":"IF(INDIRECT($B$2&$X$2&$A81)=\"\",\"★\",INDIRECT($B$2&$X$2&$A81))","v":"★"},{"$f":"IF(INDIRECT($B$2&$Y$2&$A81)=\"\",\"★\",INDIRECT($B$2&$Y$2&$A81))","v":"★"},{"$f":"IF(INDIRECT($B$2&$Z$2&$A81)=\"\",\"★\",INDIRECT($B$2&$Z$2&$A81))","v":"★"},{"$f":"IF(INDIRECT($B$2&$AA$2&$A81)=\"\",\"★\",INDIRECT($B$2&$AA$2&$A81))","v":"★"},{"$f":"IF(INDIRECT($B$2&$AB$2&$A81)=\"\",\"★\",INDIRECT($B$2&$AB$2&$A81))","v":"★"},{"$f":"IF(INDIRECT($B$2&AC$2&$A81)=\"\",\"★\",INDIRECT($B$2&AC$2&$A81))","v":"★"},{"$f":"IF(INDIRECT($B$2&AD$2&$A81)=\"\",\"★\",INDIRECT($B$2&AD$2&$A81))","v":"★"},{"$f":"IF(INDIRECT($B$2&AE$2&$A81)=\"\",\"★\",INDIRECT($B$2&AE$2&$A81))","v":"★"},{"$f":"IF(INDIRECT($B$2&AF$2&$A81)=\"\",\"★\",INDIRECT($B$2&AF$2&$A81))","v":"★"},{"$f":"IF(INDIRECT($B$2&AG$2&$A81)=\"\",\"★\",INDIRECT($B$2&AG$2&$A81))","v":"★"},{"$f":"IF(INDIRECT($B$2&AH$2&$A81)=\"\",\"★\",INDIRECT($B$2&AH$2&$A81))","v":"★"},{"$f":"IF(INDIRECT($B$2&AI$2&$A81)=\"\",\"★\",INDIRECT($B$2&AI$2&$A81))","v":"★"},{"$f":"IF(INDIRECT($B$2&AJ$2&$A81)=\"\",\"★\",INDIRECT($B$2&AJ$2&$A81))","v":"★"},{"$f":"IF(INDIRECT($B$2&AK$2&$A81)=\"\",\"★\",INDIRECT($B$2&AK$2&$A81))","v":"★"},{"$f":"IF(INDIRECT($B$2&AL$2&$A81)=\"\",\"★\",INDIRECT($B$2&AL$2&$A81))","v":"★"},{"$f":"IF(INDIRECT($B$2&AM$2&$A81)=\"\",\"★\",INDIRECT($B$2&AM$2&$A81))","v":"★"},{"$f":"IF(INDIRECT($B$2&AN$2&$A81)=\"\",\"★\",INDIRECT($B$2&AN$2&$A81))","v":"★"},{"$f":"IF(INDIRECT($B$2&AO$2&$A81)=\"\",\"★\",INDIRECT($B$2&AO$2&$A81))","v":"★"},{"$f":"IF(INDIRECT($B$2&AP$2&$A81)=\"\",\"★\",INDIRECT($B$2&AP$2&$A81))","v":"★"},{"$f":"IF(INDIRECT($B$2&AQ$2&$A81)=\"\",\"★\",INDIRECT($B$2&AQ$2&$A81))","v":"★"},{"$f":"IF(INDIRECT($B$2&AR$2&$A81)=\"\",\"★\",INDIRECT($B$2&AR$2&$A81))","v":0},{"$f":"IF(INDIRECT($B$2&AS$2&$A81)=\"\",\"★\",INDIRECT($B$2&AS$2&$A81))","v":"★"},{"$f":"IF(INDIRECT($B$2&AT$2&$A81)=\"\",\"★\",INDIRECT($B$2&AT$2&$A81))","v":"★"},{"$f":"IF(INDIRECT($B$2&AU$2&$A81)=\"\",\"★\",INDIRECT($B$2&AU$2&$A81))","v":"★"},{"$f":"IF(INDIRECT($B$2&AV$2&$A81)=\"\",\"★\",INDIRECT($B$2&AV$2&$A81))","v":"★"},{"$f":"IF(INDIRECT($B$2&AW$2&$A81)=\"\",\"★\",INDIRECT($B$2&AW$2&$A81))","v":"★"},{"$f":"IF(INDIRECT($B$2&AX$2&$A81)=\"\",\"★\",INDIRECT($B$2&AX$2&$A81))","v":"★"},{"$f":"IF(INDIRECT($B$2&AY$2&$A81)=\"\",\"★\",INDIRECT($B$2&AY$2&$A81))","v":"★"},{"$f":"IF(INDIRECT($B$2&AZ$2&$A81)=\"\",\"★\",INDIRECT($B$2&AZ$2&$A81))","v":"★"},{"$f":"IF(INDIRECT($B$2&BA$2&$A81)=\"\",\"★\",INDIRECT($B$2&BA$2&$A81))","v":"★"},{"$f":"IF(INDIRECT($B$2&BB$2&$A81)=\"\",\"★\",INDIRECT($B$2&BB$2&$A81))","v":"★"},{"$f":"IF(INDIRECT($B$2&BC$2&$A81)=\"\",\"★\",INDIRECT($B$2&BC$2&$A81))","v":"★"},{"$f":"IF(INDIRECT($B$2&BD$2&$A81)=\"\",\"★\",INDIRECT($B$2&BD$2&$A81))","v":"★"},{"$f":"IF(INDIRECT($B$2&BE$2&$A81)=\"\",\"★\",INDIRECT($B$2&BE$2&$A81))","v":"★"},{"$f":"IF(INDIRECT($B$2&BF$2&$A81)=\"\",\"★\",INDIRECT($B$2&BF$2&$A81))","v":"★"},{"$f":"IF(INDIRECT($B$2&BG$2&$A81)=\"\",\"★\",INDIRECT($B$2&BG$2&$A81))","v":0},{"$f":"IF(INDIRECT($B$2&BH$2&$A81)=\"\",\"★\",INDIRECT($B$2&BH$2&$A81))","v":"★"},{"$f":"IF(INDIRECT($B$2&BI$2&$A81)=\"\",\"★\",INDIRECT($B$2&BI$2&$A81))","v":"★"},{"$f":"IF(INDIRECT($B$2&BJ$2&$A81)=\"\",\"★\",INDIRECT($B$2&BJ$2&$A81))","v":"★"},{"$f":"IF(INDIRECT($B$2&BK$2&$A81)=\"\",\"★\",INDIRECT($B$2&BK$2&$A81))","v":"★"},{"$f":"IF(INDIRECT($B$2&BL$2&$A81)=\"\",\"★\",INDIRECT($B$2&BL$2&$A81))","v":"★"},{"$f":"IF(INDIRECT($B$2&BM$2&$A81)=\"\",\"★\",INDIRECT($B$2&BM$2&$A81))","v":"★"},{"$f":"IF(INDIRECT($B$2&BN$2&$A81)=\"\",\"★\",INDIRECT($B$2&BN$2&$A81))","v":"★"},{"$f":"IF(INDIRECT($B$2&BO$2&$A81)=\"\",\"★\",INDIRECT($B$2&BO$2&$A81))","v":"★"},{"$f":"IF(INDIRECT($B$2&BP$2&$A81)=\"\",\"★\",INDIRECT($B$2&BP$2&$A81))","v":"★"},{"$f":"IF(INDIRECT($B$2&BQ$2&$A81)=\"\",\"★\",INDIRECT($B$2&BQ$2&$A81))","v":"★"},{"$f":"IF(INDIRECT($B$2&BR$2&$A81)=\"\",\"★\",INDIRECT($B$2&BR$2&$A81))","v":"★"},{"$f":"IF(INDIRECT($B$2&BS$2&$A81)=\"\",\"★\",INDIRECT($B$2&BS$2&$A81))","v":"★"},{"$f":"IF(INDIRECT($B$2&BT$2&$A81)=\"\",\"★\",INDIRECT($B$2&BT$2&$A81))","v":"★"},{"$f":"IF(INDIRECT($B$2&BU$2&$A81)=\"\",\"★\",INDIRECT($B$2&BU$2&$A81))","v":"★"},{"$f":"IF(INDIRECT($B$2&BV$2&$A81)=\"\",\"★\",INDIRECT($B$2&BV$2&$A81))","v":"★"},{"$f":"IF(INDIRECT($B$2&BW$2&$A81)=\"\",\"★\",INDIRECT($B$2&BW$2&$A81))","v":"★"},{"$f":"IF(INDIRECT($B$2&BX$2&$A81)=\"\",\"★\",INDIRECT($B$2&BX$2&$A81))","v":"★"},{"$f":"IF(INDIRECT($B$2&BY$2&$A81)=\"\",\"★\",INDIRECT($B$2&BY$2&$A81))","v":"★"}]
[108,null,null,null,null,null,null,null,null,null,null,null,null,72,{"$f":"IF(INDIRECT($B$2&$O$2&$A82)=\"\",\"★\",INDIRECT($B$2&$O$2&$A82))","v":"★"},{"$f":"IF(INDIRECT($B$2&$P$2&$A82)=\"\",\"★\",INDIRECT($B$2&$P$2&$A82))","v":0},{"$f":"IF(INDIRECT($B$2&$Q$2&$A82)=\"\",\"★\",INDIRECT($B$2&$Q$2&$A82))","v":0},{"$f":"IF(INDIRECT($B$2&$R$2&$A82)=\"\",\"★\",INDIRECT($B$2&$R$2&$A82))","v":0},{"$f":"IF(INDIRECT($B$2&$S$2&$A82)=\"\",\"★\",INDIRECT($B$2&$S$2&$A82))","v":"★"},{"$f":"IF(INDIRECT($B$2&$T$2&$A82)=\"\",\"★\",INDIRECT($B$2&$T$2&$A82))","v":"★"},{"$f":"IF(INDIRECT($B$2&$U$2&$A82)=\"\",\"★\",INDIRECT($B$2&$U$2&$A82))","v":"★"},{"$f":"IF(INDIRECT($B$2&$V$2&$A82)=\"\",\"★\",INDIRECT($B$2&$V$2&$A82))","v":"★"},{"$f":"IF(INDIRECT($B$2&$W$2&$A82)=\"\",\"★\",INDIRECT($B$2&$W$2&$A82))","v":"★"},{"$f":"IF(INDIRECT($B$2&$X$2&$A82)=\"\",\"★\",INDIRECT($B$2&$X$2&$A82))","v":"★"},{"$f":"IF(INDIRECT($B$2&$Y$2&$A82)=\"\",\"★\",INDIRECT($B$2&$Y$2&$A82))","v":"★"},{"$f":"IF(INDIRECT($B$2&$Z$2&$A82)=\"\",\"★\",INDIRECT($B$2&$Z$2&$A82))","v":"★"},{"$f":"IF(INDIRECT($B$2&$AA$2&$A82)=\"\",\"★\",INDIRECT($B$2&$AA$2&$A82))","v":"★"},{"$f":"IF(INDIRECT($B$2&$AB$2&$A82)=\"\",\"★\",INDIRECT($B$2&$AB$2&$A82))","v":"★"},{"$f":"IF(INDIRECT($B$2&AC$2&$A82)=\"\",\"★\",INDIRECT($B$2&AC$2&$A82))","v":"★"},{"$f":"IF(INDIRECT($B$2&AD$2&$A82)=\"\",\"★\",INDIRECT($B$2&AD$2&$A82))","v":"★"},{"$f":"IF(INDIRECT($B$2&AE$2&$A82)=\"\",\"★\",INDIRECT($B$2&AE$2&$A82))","v":"★"},{"$f":"IF(INDIRECT($B$2&AF$2&$A82)=\"\",\"★\",INDIRECT($B$2&AF$2&$A82))","v":"★"},{"$f":"IF(INDIRECT($B$2&AG$2&$A82)=\"\",\"★\",INDIRECT($B$2&AG$2&$A82))","v":"★"},{"$f":"IF(INDIRECT($B$2&AH$2&$A82)=\"\",\"★\",INDIRECT($B$2&AH$2&$A82))","v":"★"},{"$f":"IF(INDIRECT($B$2&AI$2&$A82)=\"\",\"★\",INDIRECT($B$2&AI$2&$A82))","v":"★"},{"$f":"IF(INDIRECT($B$2&AJ$2&$A82)=\"\",\"★\",INDIRECT($B$2&AJ$2&$A82))","v":"★"},{"$f":"IF(INDIRECT($B$2&AK$2&$A82)=\"\",\"★\",INDIRECT($B$2&AK$2&$A82))","v":"★"},{"$f":"IF(INDIRECT($B$2&AL$2&$A82)=\"\",\"★\",INDIRECT($B$2&AL$2&$A82))","v":"★"},{"$f":"IF(INDIRECT($B$2&AM$2&$A82)=\"\",\"★\",INDIRECT($B$2&AM$2&$A82))","v":"★"},{"$f":"IF(INDIRECT($B$2&AN$2&$A82)=\"\",\"★\",INDIRECT($B$2&AN$2&$A82))","v":"★"},{"$f":"IF(INDIRECT($B$2&AO$2&$A82)=\"\",\"★\",INDIRECT($B$2&AO$2&$A82))","v":"★"},{"$f":"IF(INDIRECT($B$2&AP$2&$A82)=\"\",\"★\",INDIRECT($B$2&AP$2&$A82))","v":"★"},{"$f":"IF(INDIRECT($B$2&AQ$2&$A82)=\"\",\"★\",INDIRECT($B$2&AQ$2&$A82))","v":"★"},{"$f":"IF(INDIRECT($B$2&AR$2&$A82)=\"\",\"★\",INDIRECT($B$2&AR$2&$A82))","v":0},{"$f":"IF(INDIRECT($B$2&AS$2&$A82)=\"\",\"★\",INDIRECT($B$2&AS$2&$A82))","v":"★"},{"$f":"IF(INDIRECT($B$2&AT$2&$A82)=\"\",\"★\",INDIRECT($B$2&AT$2&$A82))","v":"★"},{"$f":"IF(INDIRECT($B$2&AU$2&$A82)=\"\",\"★\",INDIRECT($B$2&AU$2&$A82))","v":"★"},{"$f":"IF(INDIRECT($B$2&AV$2&$A82)=\"\",\"★\",INDIRECT($B$2&AV$2&$A82))","v":"★"},{"$f":"IF(INDIRECT($B$2&AW$2&$A82)=\"\",\"★\",INDIRECT($B$2&AW$2&$A82))","v":"★"},{"$f":"IF(INDIRECT($B$2&AX$2&$A82)=\"\",\"★\",INDIRECT($B$2&AX$2&$A82))","v":"★"},{"$f":"IF(INDIRECT($B$2&AY$2&$A82)=\"\",\"★\",INDIRECT($B$2&AY$2&$A82))","v":"★"},{"$f":"IF(INDIRECT($B$2&AZ$2&$A82)=\"\",\"★\",INDIRECT($B$2&AZ$2&$A82))","v":"★"},{"$f":"IF(INDIRECT($B$2&BA$2&$A82)=\"\",\"★\",INDIRECT($B$2&BA$2&$A82))","v":"★"},{"$f":"IF(INDIRECT($B$2&BB$2&$A82)=\"\",\"★\",INDIRECT($B$2&BB$2&$A82))","v":"★"},{"$f":"IF(INDIRECT($B$2&BC$2&$A82)=\"\",\"★\",INDIRECT($B$2&BC$2&$A82))","v":"★"},{"$f":"IF(INDIRECT($B$2&BD$2&$A82)=\"\",\"★\",INDIRECT($B$2&BD$2&$A82))","v":"★"},{"$f":"IF(INDIRECT($B$2&BE$2&$A82)=\"\",\"★\",INDIRECT($B$2&BE$2&$A82))","v":"★"},{"$f":"IF(INDIRECT($B$2&BF$2&$A82)=\"\",\"★\",INDIRECT($B$2&BF$2&$A82))","v":"★"},{"$f":"IF(INDIRECT($B$2&BG$2&$A82)=\"\",\"★\",INDIRECT($B$2&BG$2&$A82))","v":0},{"$f":"IF(INDIRECT($B$2&BH$2&$A82)=\"\",\"★\",INDIRECT($B$2&BH$2&$A82))","v":"★"},{"$f":"IF(INDIRECT($B$2&BI$2&$A82)=\"\",\"★\",INDIRECT($B$2&BI$2&$A82))","v":"★"},{"$f":"IF(INDIRECT($B$2&BJ$2&$A82)=\"\",\"★\",INDIRECT($B$2&BJ$2&$A82))","v":"★"},{"$f":"IF(INDIRECT($B$2&BK$2&$A82)=\"\",\"★\",INDIRECT($B$2&BK$2&$A82))","v":"★"},{"$f":"IF(INDIRECT($B$2&BL$2&$A82)=\"\",\"★\",INDIRECT($B$2&BL$2&$A82))","v":"★"},{"$f":"IF(INDIRECT($B$2&BM$2&$A82)=\"\",\"★\",INDIRECT($B$2&BM$2&$A82))","v":"★"},{"$f":"IF(INDIRECT($B$2&BN$2&$A82)=\"\",\"★\",INDIRECT($B$2&BN$2&$A82))","v":"★"},{"$f":"IF(INDIRECT($B$2&BO$2&$A82)=\"\",\"★\",INDIRECT($B$2&BO$2&$A82))","v":"★"},{"$f":"IF(INDIRECT($B$2&BP$2&$A82)=\"\",\"★\",INDIRECT($B$2&BP$2&$A82))","v":"★"},{"$f":"IF(INDIRECT($B$2&BQ$2&$A82)=\"\",\"★\",INDIRECT($B$2&BQ$2&$A82))","v":"★"},{"$f":"IF(INDIRECT($B$2&BR$2&$A82)=\"\",\"★\",INDIRECT($B$2&BR$2&$A82))","v":"★"},{"$f":"IF(INDIRECT($B$2&BS$2&$A82)=\"\",\"★\",INDIRECT($B$2&BS$2&$A82))","v":"★"},{"$f":"IF(INDIRECT($B$2&BT$2&$A82)=\"\",\"★\",INDIRECT($B$2&BT$2&$A82))","v":"★"},{"$f":"IF(INDIRECT($B$2&BU$2&$A82)=\"\",\"★\",INDIRECT($B$2&BU$2&$A82))","v":"★"},{"$f":"IF(INDIRECT($B$2&BV$2&$A82)=\"\",\"★\",INDIRECT($B$2&BV$2&$A82))","v":"★"},{"$f":"IF(INDIRECT($B$2&BW$2&$A82)=\"\",\"★\",INDIRECT($B$2&BW$2&$A82))","v":"★"},{"$f":"IF(INDIRECT($B$2&BX$2&$A82)=\"\",\"★\",INDIRECT($B$2&BX$2&$A82))","v":"★"},{"$f":"IF(INDIRECT($B$2&BY$2&$A82)=\"\",\"★\",INDIRECT($B$2&BY$2&$A82))","v":"★"}]
[109,null,null,null,null,null,null,null,null,null,null,null,null,73,{"$f":"IF(INDIRECT($B$2&$O$2&$A83)=\"\",\"★\",INDIRECT($B$2&$O$2&$A83))","v":"★"},{"$f":"IF(INDIRECT($B$2&$P$2&$A83)=\"\",\"★\",INDIRECT($B$2&$P$2&$A83))","v":0},{"$f":"IF(INDIRECT($B$2&$Q$2&$A83)=\"\",\"★\",INDIRECT($B$2&$Q$2&$A83))","v":0},{"$f":"IF(INDIRECT($B$2&$R$2&$A83)=\"\",\"★\",INDIRECT($B$2&$R$2&$A83))","v":0},{"$f":"IF(INDIRECT($B$2&$S$2&$A83)=\"\",\"★\",INDIRECT($B$2&$S$2&$A83))","v":"★"},{"$f":"IF(INDIRECT($B$2&$T$2&$A83)=\"\",\"★\",INDIRECT($B$2&$T$2&$A83))","v":"★"},{"$f":"IF(INDIRECT($B$2&$U$2&$A83)=\"\",\"★\",INDIRECT($B$2&$U$2&$A83))","v":"★"},{"$f":"IF(INDIRECT($B$2&$V$2&$A83)=\"\",\"★\",INDIRECT($B$2&$V$2&$A83))","v":"★"},{"$f":"IF(INDIRECT($B$2&$W$2&$A83)=\"\",\"★\",INDIRECT($B$2&$W$2&$A83))","v":"★"},{"$f":"IF(INDIRECT($B$2&$X$2&$A83)=\"\",\"★\",INDIRECT($B$2&$X$2&$A83))","v":"★"},{"$f":"IF(INDIRECT($B$2&$Y$2&$A83)=\"\",\"★\",INDIRECT($B$2&$Y$2&$A83))","v":"★"},{"$f":"IF(INDIRECT($B$2&$Z$2&$A83)=\"\",\"★\",INDIRECT($B$2&$Z$2&$A83))","v":"★"},{"$f":"IF(INDIRECT($B$2&$AA$2&$A83)=\"\",\"★\",INDIRECT($B$2&$AA$2&$A83))","v":"★"},{"$f":"IF(INDIRECT($B$2&$AB$2&$A83)=\"\",\"★\",INDIRECT($B$2&$AB$2&$A83))","v":"★"},{"$f":"IF(INDIRECT($B$2&AC$2&$A83)=\"\",\"★\",INDIRECT($B$2&AC$2&$A83))","v":"★"},{"$f":"IF(INDIRECT($B$2&AD$2&$A83)=\"\",\"★\",INDIRECT($B$2&AD$2&$A83))","v":"★"},{"$f":"IF(INDIRECT($B$2&AE$2&$A83)=\"\",\"★\",INDIRECT($B$2&AE$2&$A83))","v":"★"},{"$f":"IF(INDIRECT($B$2&AF$2&$A83)=\"\",\"★\",INDIRECT($B$2&AF$2&$A83))","v":"★"},{"$f":"IF(INDIRECT($B$2&AG$2&$A83)=\"\",\"★\",INDIRECT($B$2&AG$2&$A83))","v":"★"},{"$f":"IF(INDIRECT($B$2&AH$2&$A83)=\"\",\"★\",INDIRECT($B$2&AH$2&$A83))","v":"★"},{"$f":"IF(INDIRECT($B$2&AI$2&$A83)=\"\",\"★\",INDIRECT($B$2&AI$2&$A83))","v":"★"},{"$f":"IF(INDIRECT($B$2&AJ$2&$A83)=\"\",\"★\",INDIRECT($B$2&AJ$2&$A83))","v":"★"},{"$f":"IF(INDIRECT($B$2&AK$2&$A83)=\"\",\"★\",INDIRECT($B$2&AK$2&$A83))","v":"★"},{"$f":"IF(INDIRECT($B$2&AL$2&$A83)=\"\",\"★\",INDIRECT($B$2&AL$2&$A83))","v":"★"},{"$f":"IF(INDIRECT($B$2&AM$2&$A83)=\"\",\"★\",INDIRECT($B$2&AM$2&$A83))","v":"★"},{"$f":"IF(INDIRECT($B$2&AN$2&$A83)=\"\",\"★\",INDIRECT($B$2&AN$2&$A83))","v":"★"},{"$f":"IF(INDIRECT($B$2&AO$2&$A83)=\"\",\"★\",INDIRECT($B$2&AO$2&$A83))","v":"★"},{"$f":"IF(INDIRECT($B$2&AP$2&$A83)=\"\",\"★\",INDIRECT($B$2&AP$2&$A83))","v":"★"},{"$f":"IF(INDIRECT($B$2&AQ$2&$A83)=\"\",\"★\",INDIRECT($B$2&AQ$2&$A83))","v":"★"},{"$f":"IF(INDIRECT($B$2&AR$2&$A83)=\"\",\"★\",INDIRECT($B$2&AR$2&$A83))","v":0},{"$f":"IF(INDIRECT($B$2&AS$2&$A83)=\"\",\"★\",INDIRECT($B$2&AS$2&$A83))","v":"★"},{"$f":"IF(INDIRECT($B$2&AT$2&$A83)=\"\",\"★\",INDIRECT($B$2&AT$2&$A83))","v":"★"},{"$f":"IF(INDIRECT($B$2&AU$2&$A83)=\"\",\"★\",INDIRECT($B$2&AU$2&$A83))","v":"★"},{"$f":"IF(INDIRECT($B$2&AV$2&$A83)=\"\",\"★\",INDIRECT($B$2&AV$2&$A83))","v":"★"},{"$f":"IF(INDIRECT($B$2&AW$2&$A83)=\"\",\"★\",INDIRECT($B$2&AW$2&$A83))","v":"★"},{"$f":"IF(INDIRECT($B$2&AX$2&$A83)=\"\",\"★\",INDIRECT($B$2&AX$2&$A83))","v":"★"},{"$f":"IF(INDIRECT($B$2&AY$2&$A83)=\"\",\"★\",INDIRECT($B$2&AY$2&$A83))","v":"★"},{"$f":"IF(INDIRECT($B$2&AZ$2&$A83)=\"\",\"★\",INDIRECT($B$2&AZ$2&$A83))","v":"★"},{"$f":"IF(INDIRECT($B$2&BA$2&$A83)=\"\",\"★\",INDIRECT($B$2&BA$2&$A83))","v":"★"},{"$f":"IF(INDIRECT($B$2&BB$2&$A83)=\"\",\"★\",INDIRECT($B$2&BB$2&$A83))","v":"★"},{"$f":"IF(INDIRECT($B$2&BC$2&$A83)=\"\",\"★\",INDIRECT($B$2&BC$2&$A83))","v":"★"},{"$f":"IF(INDIRECT($B$2&BD$2&$A83)=\"\",\"★\",INDIRECT($B$2&BD$2&$A83))","v":"★"},{"$f":"IF(INDIRECT($B$2&BE$2&$A83)=\"\",\"★\",INDIRECT($B$2&BE$2&$A83))","v":"★"},{"$f":"IF(INDIRECT($B$2&BF$2&$A83)=\"\",\"★\",INDIRECT($B$2&BF$2&$A83))","v":"★"},{"$f":"IF(INDIRECT($B$2&BG$2&$A83)=\"\",\"★\",INDIRECT($B$2&BG$2&$A83))","v":0},{"$f":"IF(INDIRECT($B$2&BH$2&$A83)=\"\",\"★\",INDIRECT($B$2&BH$2&$A83))","v":"★"},{"$f":"IF(INDIRECT($B$2&BI$2&$A83)=\"\",\"★\",INDIRECT($B$2&BI$2&$A83))","v":"★"},{"$f":"IF(INDIRECT($B$2&BJ$2&$A83)=\"\",\"★\",INDIRECT($B$2&BJ$2&$A83))","v":"★"},{"$f":"IF(INDIRECT($B$2&BK$2&$A83)=\"\",\"★\",INDIRECT($B$2&BK$2&$A83))","v":"★"},{"$f":"IF(INDIRECT($B$2&BL$2&$A83)=\"\",\"★\",INDIRECT($B$2&BL$2&$A83))","v":"★"},{"$f":"IF(INDIRECT($B$2&BM$2&$A83)=\"\",\"★\",INDIRECT($B$2&BM$2&$A83))","v":"★"},{"$f":"IF(INDIRECT($B$2&BN$2&$A83)=\"\",\"★\",INDIRECT($B$2&BN$2&$A83))","v":"★"},{"$f":"IF(INDIRECT($B$2&BO$2&$A83)=\"\",\"★\",INDIRECT($B$2&BO$2&$A83))","v":"★"},{"$f":"IF(INDIRECT($B$2&BP$2&$A83)=\"\",\"★\",INDIRECT($B$2&BP$2&$A83))","v":"★"},{"$f":"IF(INDIRECT($B$2&BQ$2&$A83)=\"\",\"★\",INDIRECT($B$2&BQ$2&$A83))","v":"★"},{"$f":"IF(INDIRECT($B$2&BR$2&$A83)=\"\",\"★\",INDIRECT($B$2&BR$2&$A83))","v":"★"},{"$f":"IF(INDIRECT($B$2&BS$2&$A83)=\"\",\"★\",INDIRECT($B$2&BS$2&$A83))","v":"★"},{"$f":"IF(INDIRECT($B$2&BT$2&$A83)=\"\",\"★\",INDIRECT($B$2&BT$2&$A83))","v":"★"},{"$f":"IF(INDIRECT($B$2&BU$2&$A83)=\"\",\"★\",INDIRECT($B$2&BU$2&$A83))","v":"★"},{"$f":"IF(INDIRECT($B$2&BV$2&$A83)=\"\",\"★\",INDIRECT($B$2&BV$2&$A83))","v":"★"},{"$f":"IF(INDIRECT($B$2&BW$2&$A83)=\"\",\"★\",INDIRECT($B$2&BW$2&$A83))","v":"★"},{"$f":"IF(INDIRECT($B$2&BX$2&$A83)=\"\",\"★\",INDIRECT($B$2&BX$2&$A83))","v":"★"},{"$f":"IF(INDIRECT($B$2&BY$2&$A83)=\"\",\"★\",INDIRECT($B$2&BY$2&$A83))","v":"★"}]

{"sheet":"作業用_活動量と単位","index":17,"n_rows":80,"n_cols":17,"rows_kept":80,"cut":false,"hidden":true,"merged":[]}
[]
[]
[null,null,null,"R4SHIFT：R4モニタリングガイドライン2.0と一致を確認2022/4/12"]
[null,null,null,"R5SHIFT：R4モニタリングガイドライン2.0から変更なし（系統電力の排出係数を除く）と聞いた（2023/3/10）"]
[]
[null,null,null,"※活動種別は細分化済みの状態"]
[null,"ガイドライン"]
[null,"項目","ページ","活動種別","計算式振り分け用","活動量の種別","活動単位","単位発熱量の単位","CO2排出係数の単位","GJ換算対象（エネ起＝対象／非エネ起＝非対象）"]
[null,1.2,"II-15","系統電力",1,"使用量","kWh","---","t-CO2/kWh","対象"]
[null,null,"排出係数単価表で使用","系統電力①",1,"使用量","kWh","---","t-CO2/kWh","対象"]
[null,null,"排出係数単価表で使用","系統電力②",1,"使用量","kWh","---","t-CO2/kWh","対象"]
[null,null,"排出係数単価表で使用","系統電力切替先①",1,"使用量","kWh","---","t-CO2/kWh","対象",null,null,null,null,"電力等のGJ換算係数"]
[null,null,"排出係数単価表で使用","系統電力切替先②",1,"使用量","kWh","---","t-CO2/kWh","対象",null,null,null,null,"*系統電力*",9.7599999999999996E-3,"GJ/kWh"]
[null,1.1000000000000001,"II-21","輸入原料炭",0,"使用量","t","GJ/t","t-CO2/GJ","対象",null,null,null,null,"*産業用蒸気*",1.02,"GJ"]
[null,1.1000000000000001,"II-21","国産一般炭",0,"使用量","t","GJ/t","t-CO2/GJ","対象",null,null,null,null,"*温水*",1.36,"GJ"]
[null,1.1000000000000001,"II-21","輸入一般炭",0,"使用量","t","GJ/t","t-CO2/GJ","対象",null,null,null,null,"*冷水*",1.36,"GJ"]
[null,1.1000000000000001,"II-21","輸入無煙炭",0,"使用量","t","GJ/t","t-CO2/GJ","対象",null,null,null,null,"*蒸気（産業用以外）*",1.36,"GJ"]
[null,1.1000000000000001,"II-21","コークス",0,"使用量","t","GJ/t","t-CO2/GJ","対象"]
[null,1.1000000000000001,"II-21","原油",0,"使用量","kl","GJ/kl","t-CO2/GJ","対象",null,null,null,null,"↑R4補正・R5の算定・診断・実施の様式と合致済み"]
[null,1.1000000000000001,"II-21","ガソリン",0,"使用量","kl","GJ/kl","t-CO2/GJ","対象"]
[null,1.1000000000000001,"II-21","ナフサ",0,"使用量","kl","GJ/kl","t-CO2/GJ","対象"]
[null,1.1000000000000001,"II-21","ジェット燃料",0,"使用量","kl","GJ/kl","t-CO2/GJ","対象"]
[null,1.1000000000000001,"II-21","灯油",0,"使用量","kl","GJ/kl","t-CO2/GJ","対象"]
[null,1.1000000000000001,"II-21","軽油",0,"使用量","kl","GJ/kl","t-CO2/GJ","対象"]
[null,1.1000000000000001,"II-21","A重油",0,"使用量","kl","GJ/kl","t-CO2/GJ","対象"]
[null,1.1000000000000001,"II-21","B重油",0,"使用量","kl","GJ/kl","t-CO2/GJ","対象"]
[null,1.1000000000000001,"II-21","C重油",0,"使用量","kl","GJ/kl","t-CO2/GJ","対象"]
[null,1.1000000000000001,"II-21","潤滑油",0,"使用量","kl","GJ/kl","t-CO2/GJ","対象"]
[null,1.1000000000000001,"II-21","オイルコークス",0,"使用量","t","GJ/t","t-CO2/GJ","対象"]
[null,1.1000000000000001,"II-21","LPG",0,"使用量","t","GJ/t","t-CO2/GJ","対象"]
[null,1.1000000000000001,"II-21","天然ガス",0,"使用量","千Nm3","GJ/千Nm3","t-CO2/GJ","対象"]
[null,1.1000000000000001,"II-21","LNG",0,"使用量","t","GJ/t","t-CO2/GJ","対象"]
[null,1.1000000000000001,"II-21","都市ガス",0,"使用量","千Nm3","GJ/千Nm3","t-CO2/GJ","対象"]
[null,1.1000000000000001,"II-21","コールタール",0,"使用量","t","GJ/t","t-CO2/GJ","対象"]
[null,1.1000000000000001,"II-21","アスファルト",0,"使用量","t","GJ/t","t-CO2/GJ","対象"]
[null,1.1000000000000001,"II-21","NGL・コンデンセート",0,"使用量","kl","GJ/kl","t-CO2/GJ","対象"]
[null,1.1000000000000001,"II-21","製油所ガス",0,"使用量","千Nm3","GJ/千Nm3","t-CO2/GJ","対象"]
[null,1.1000000000000001,"II-21","コークス炉ガス",0,"使用量","千Nm3","GJ/千Nm3","t-CO2/GJ","対象"]
[null,1.1000000000000001,"II-21","高炉ガス",0,"使用量","千Nm3","GJ/千Nm3","t-CO2/GJ","対象"]
[null,1.1000000000000001,"II-21","転炉ガス",0,"使用量","千Nm3","GJ/千Nm3","t-CO2/GJ","対象"]
[null,1.3,"II-17","産業用蒸気",1,"使用量","GJ","---","t-CO2/GJ","対象"]
[null,1.3,"II-17","温水",1,"使用量","GJ","---","t-CO2/GJ","対象"]
[null,1.3,"II-17","冷水",1,"使用量","GJ","---","t-CO2/GJ","対象"]
[null,1.3,"II-17","蒸気（産業用以外）",1,"使用量","GJ","---","t-CO2/GJ","対象"]
[null,1.4,"II-18","所内消費電力",1,"---","---","---","---","---","←6-1.～6-3.、7-1.～7-3.で使用しない場合は、把握対象、単位は不要。"]
[null,1.4,"II-18","外部供給電力",1,"---","---","---","---","---","←6-1.～6-3.、7-1.～7-4.で使用しない場合は、把握対象、単位は不要。"]
[null,1.4,"II-18","所内消費熱",1,"---","---","---","---","---","←6-1.～6-3.、7-1.～7-5.で使用しない場合は、把握対象、単位は不要。"]
[null,1.4,"II-18","外部供給熱",1,"---","---","---","---","---","←6-1.～6-3.、7-1.～7-6.で使用しない場合は、把握対象、単位は不要。"]
[null,2,"II-27","①廃油",1,"焼却・使用量","t","---","t-CO2/t","---"]
[null,2,"II-27","②廃合成繊維",1,"焼却・使用量","t","---","t-CO2/t","---"]
[null,2,"II-27","③廃ゴムタイヤ",1,"焼却・使用量","t","---","t-CO2/t","---"]
[null,2,"II-27","④　②③以外の廃プラスチック類（産業廃棄物）",1,"焼却・使用量","t","---","t-CO2/t","---"]
[null,2,"II-27","⑤　②③④以外の廃プラスチック類（一般廃棄物）",1,"焼却・使用量","t","---","t-CO2/t","---"]
[null,2,"II-27","廃油から製造される燃料油",1,"焼却・使用量","kl","---","t-CO2/kl","---"]
[null,2,"II-27","廃プラスチック類から製造される燃料油",1,"焼却・使用量","kl","---","t-CO2/kl","---"]
[null,2,"II-27","ごみ固形燃料（RPF）",1,"焼却・使用量","t","---","t-CO2/t","---"]
[null,2,"II-27","ごみ固形燃料（RDF）",1,"焼却・使用量","t","---","t-CO2/t","---"]
[null,3.1,"II-28","セメントの製造",1,"クリンカー製造量","t","---","t-CO2/t","---"]
[null,3.2,"II-30","生石灰の製造（原料：石灰石）",1,"原料使用量","t","---","t-CO2/t","---"]
[null,3.2,"II-30","生石灰の製造（原料：ドロマイト）",1,"原料使用量","t","---","t-CO2/t","---"]
[null,3.3,"II-32","石灰石（タンカル）の使用",1,"使用量","t","---","t-CO2/t","---"]
[null,3.3,"II-32","ドロマイトの使用",1,"使用量","t","---","t-CO2/t","---"]
[null,3.4,"II-35","ソーダ灰の製造",1,"追加投入量","t","---","t-CO2/t","---"]
[null,3.5,"II-37","ソーダ灰の使用",1,"使用量","t","---","t-CO2/t","---"]
[null,3.6,"II-39","アンモニアの製造（原料：石炭）",1,"原料使用量","t","---","t-CO2/t","---"]
[null,3.6,"II-39","アンモニアの製造（原料：ナフサ）",1,"原料使用量","kl","---","t-CO2/kl","---"]
[null,3.6,"II-39","アンモニアの製造（原料：オイルコークス）",1,"原料使用量","t","---","t-CO2/t","---"]
[null,3.6,"II-39","アンモニアの製造（原料：LPG）",1,"原料使用量","t","---","t-CO2/t","---"]
[null,3.6,"II-39","アンモニアの製造（原料：LNG）",1,"原料使用量","t","---","t-CO2/t","---"]
[null,3.6,"II-39","アンモニアの製造（原料：天然ガス(LNG除く)）",1,"原料使用量","千Nm3","---","t-CO2/千Nm3","---"]
[null,3.6,"II-39","アンモニアの製造（原料：コークス炉ガス）",1,"原料使用量","千Nm3","---","t-CO2/千Nm3","---"]
[null,3.6,"II-39","アンモニアの製造（原料：石油系炭化水素ガス）",1,"原料使用量","千Nm3","---","t-CO2/千Nm3","---"]
[null,3.7,"II-42","シリコンカーバイドの製造",1,"石油コークス使用量","t","---","t-CO2/t","---"]
[null,3.8,"II-44","カルシウムカーバイドの製造（石灰石起源）",1,"製造量","t","---","t-CO2/t","---"]
[null,3.8,"II-44","カルシウムカーバイドの製造（還元剤起源）",1,"製造量","t","---","t-CO2/t","---"]
[null,3.9,"II-46","エチレンの製造",1,"製造量","t","---","t-CO2/t","---"]
[null,"3.10","II-47","カルシウムカーバイドを原料としたアセチレンの使用（燃焼）",1,"使用量","t","---","t-CO2/t","---"]
[null,"3.11","II-49","電気炉を使用した粗鋼の製造",1,"製造量","t","---","t-CO2/t","---"]
[null,"3.12","II-50","ドライアイス／液化炭酸ガス／噴霧器の使用",1,"使用量","t","---","t-CO2/t","---"]
[null,null,null,"その他（要：備考欄への詳細記載）",null,null,null,null,null,"---","←「計算式の振り分け」は、6-1.～6-3.、7-1.～7-3.の各シートにおける係数の入力状況に基づき、各シートのA列にて判断。"]

{"sheet":"作業用_年月等","index":18,"n_rows":539,"n_cols":31,"rows_kept":539,"cut":false,"hidden":true,"merged":[]}
[]
[null,"診断報告書（応募申請書）で使用したシートと同じ"]
[]
[]
[]
[]
[]
[null,null,"年度","年",null,"実施状況",null,null,null,"対策個票の呼び出し番号",null,null,null,"システム・設備区分",null,null,"対策種類",null,"補助対象設備の種類"]
[null,2021,"令和3年度","令和3年",null,"未実施",null,null,null,"個票1",1,null,null,"空調システム（発生）",null,null,"運用改善",null,"補助対象設備（LED照明設備・再生可能エネルギー設備を除く）",null,null,null,null,null,"中分類",null,null,"中分類","小分類","部門","中分類"]
[null,2022,"令和4年度","令和4年",null,"当該年度途中から実施（次年度よりCO2削減効果算定）",null,null,null,"個票2",2,null,null,"空調システム（移送）",null,null,"部分更新・機能付加",null,"LED照明設備・再生可能エネルギー設備",null,null,null,null,null,"01 農業","中分類1",null,"01 農業","010 管理，補助的経済活動を行う事業所（01農業）","業務","01 農業"]
[null,2023,"令和5年度","令和5年",null,"実施済み（CO2削減効果算定）",null,null,null,"個票3",3,null,null,"空調システム（消費）",null,null,"設備導入",null,null,null,null,null,null,null,"02 林業","中分類2",null,null,"011 耕種農業","産業","01 農業"]
[null,2024,"令和6年度","令和6年",null,null,null,null,null,"個票4",4,null,null,"蒸気システム（発生）",null,null,"燃料低炭素化",null,null,null,null,null,null,null,"03 漁業（水産養殖業を除く）","中分類3",null,null,"012 畜産農業","産業","01 農業"]
[null,2025,"令和7年度","令和7年",null,null,null,null,null,"個票5",5,null,null,"蒸気システム（移送）",null,null,"電化",null,null,null,null,null,null,null,"04 水産養殖業","中分類4",null,null,"013 農業サービス業（園芸サービス業を除く）","産業","01 農業"]
[null,2026,"令和8年度","令和8年",null,"計画どおり実施(当該年度4月～3月のCO2削減効果把握)",null,null,null,"個票6",6,null,null,"蒸気システム（消費）",null,null,"電力低炭素化",null,null,null,null,null,null,null,"05 鉱業，採石業，砂利採取業","中分類5",null,null,"014 園芸サービス業","産業","01 農業"]
[null,2027,"令和9年度","令和9年",null,"計画を変更して実施(当該年度4月～3月のCO2削減効果把握)",null,null,null,"個票7",7,null,null,"冷却水システム（発生）",null,null,null,null,null,null,null,null,null,null,"06 総合工事業","中分類6",null,"02 林業","020 管理，補助的経済活動を行う事業所（02林業）","業務","02 林業"]
[null,2028,"令和10年度","令和10年",null,"未実施(当該年度途中に実施した対策を含む）",null,null,null,"個票8",8,null,null,"冷却水システム（移送）",null,null,null,null,null,null,null,null,null,null,"07 職別工事業(設備工事業を除く)","中分類7",null,null,"021 育林業","産業","02 林業"]
[null,2029,"令和11年度","令和11年",null,null,null,null,null,"個票9",9,null,null,"冷却水システム（消費）",null,null,null,null,null,null,null,null,null,null,"08 設備工事業","中分類8",null,null,"022 素材生産業","産業","02 林業"]
[null,2030,"令和12年度","令和12年",null,null,null,null,null,"個票10",10,null,null,"圧空システム（発生）",null,null,null,null,null,null,null,null,null,null,"09 食料品製造業","中分類9",null,null,"023 特用林産物生産業（きのこ類の栽培を除く）","産業","02 林業"]
[null,2031,"令和13年度","令和13年",null,null,null,null,null,"個票11",11,null,null,"圧空システム（移送）",null,null,null,null,null,null,null,null,null,null,"10 飲料・たばこ・飼料製造業","中分類10",null,null,"024 林業サービス業","産業","02 林業"]
[null,2032,"令和14年度","令和14年",null,null,null,null,null,"個票12",12,null,null,"圧空システム（消費）",null,null,null,null,null,null,null,null,null,null,"11 繊維工業","中分類11",null,null,"029 その他の林業","産業","02 林業"]
[null,2033,"令和15年度","令和15年",null,null,null,null,null,"個票13",13,null,null,"照明設備",null,null,null,null,null,null,null,null,null,null,"12 木材・木製品製造業（家具を除く）","中分類12",null,"03 漁業（水産養殖業を除く）","030 管理，補助的経済活動を行う事業所（03漁業）","業務","03 漁業（水産養殖業を除く）"]
[null,2034,"令和16年度","令和16年",null,null,null,null,null,"個票14",14,null,null,"受変電・配電設備",null,null,null,null,null,null,null,null,null,null,"13 家具・装備品製造業","中分類13",null,null,"031 海面漁業","産業","03 漁業（水産養殖業を除く）"]
[null,2035,"令和17年度","令和17年",null,null,null,null,null,"個票15",15,null,null,"OA機器",null,null,null,null,null,null,null,null,null,null,"14 パルプ・紙・紙加工品製造業","中分類14",null,null,"032 内水面漁業","産業","03 漁業（水産養殖業を除く）"]
[null,2036,"令和18年度","令和18年",null,null,null,null,null,"個票16",16,null,null,"電動機・ポンプ・ファン",null,null,null,null,null,null,null,null,null,null,"15 印刷・同関連業","中分類15",null,"04 水産養殖業","040 管理，補助的経済活動を行う事業所（04水産養殖業）","業務","04 水産養殖業"]
[null,2037,"令和19年度","令和19年",null,null,null,null,null,"個票17",17,null,null,"工業炉",null,null,null,null,null,null,null,null,null,null,"16 化学工業","中分類16",null,null,"041 海面養殖業","産業","04 水産養殖業"]
[null,2038,"令和20年度","令和20年",null,null,null,null,null,"個票18",18,null,null,"冷凍・冷蔵設備",null,null,null,null,null,null,null,null,null,null,"17 石油製品・石炭製品製造業","中分類17",null,null,"042 内水面養殖業","産業","04 水産養殖業"]
[null,null,null,null,null,null,null,null,null,"個票19",19,null,null,"排水処理設備",null,null,null,null,null,null,null,null,null,null,"18 プラスチック製品製造業（別掲を除く）","中分類18",null,"05 鉱業，採石業，砂利採取業","050 管理，補助的経済活動を行う事業所（05鉱業，採石業，砂利採取業）","業務","05 鉱業，採石業，砂利採取業"]
[null,null,null,null,null,null,null,null,null,"個票20",20,null,null,"昇降設備",null,null,null,null,null,null,null,null,null,null,"19 ゴム製品製造業","中分類19",null,null,"051 金属鉱業","産業","05 鉱業，採石業，砂利採取業"]
[null,null,null,null,null,null,null,null,null,"個票21",21,null,null,"給湯・温水利用設備",null,null,null,null,null,null,null,null,null,null,"20 なめし革・同製品・毛皮製造業","中分類20",null,null,"052 石炭・亜炭鉱業","産業","05 鉱業，採石業，砂利採取業"]
[null,null,null,null,null,null,null,null,null,"個票22",22,null,null,"発電設備",null,null,null,null,null,null,null,null,null,null,"21 窯業・土石製品製造業","中分類21",null,null,"053 原油・天然ガス鉱業","産業","05 鉱業，採石業，砂利採取業"]
[null,null,null,null,null,null,null,null,null,"個票23",23,null,null,"水利用設備",null,null,null,null,null,null,null,null,null,null,"22 鉄鋼業","中分類22",null,null,"054 採石業，砂・砂利・玉石採取業","産業","05 鉱業，採石業，砂利採取業"]
[null,null,null,null,null,null,null,null,null,"個票24",24,null,null,"エネルギー管理設備",null,null,null,null,null,null,null,null,null,null,"23 非鉄金属製造業","中分類23",null,null,"055 窯業原料用鉱物鉱業（耐火物・陶磁器・ガラス・セメント原料用に限る）","産業","05 鉱業，採石業，砂利採取業"]
[null,null,null,null,null,null,null,null,null,null,null,null,null,"その他のシステム、設備機器",null,null,null,null,null,null,null,null,null,null,"24 金属製品製造業","中分類24",null,null,"059 その他の鉱業","産業","05 鉱業，採石業，砂利採取業"]
[null,null,null,null,null,null,null,null,null,null,null,null,null,null,null,null,null,null,null,null,null,null,null,null,"25 はん用機械器具製造業","中分類25",null,"06 総合工事業","060 管理，補助的経済活動を行う事業所（06総合工事業）","業務","06 総合工事業"]
[null,null,null,null,null,null,null,null,null,null,null,null,null,null,null,null,null,null,null,null,null,null,null,null,"26 生産用機械器具製造業","中分類26",null,null,"061 一般土木建築工事業","産業","06 総合工事業"]
[null,null,null,null,null,null,null,null,null,null,null,null,null,null,null,null,null,null,null,null,null,null,null,null,"27 業務用機械器具製造業","中分類27",null,null,"062 土木工事業（舗装工事業を除く）","産業","06 総合工事業"]
[null,null,null,null,null,null,null,null,null,null,null,null,null,null,null,null,null,null,null,null,null,null,null,null,"28 電子部品・デバイス・電子回路製造業","中分類28",null,null,"063 舗装工事業","産業","06 総合工事業"]
[null,null,null,null,null,null,null,null,null,null,null,null,null,null,null,null,null,null,null,null,null,null,null,null,"29 電気機械器具製造業","中分類29",null,null,"064 建築工事業(木造建築工事業を除く)","産業","06 総合工事業"]
[null,null,null,null,null,null,null,null,null,null,null,null,null,null,null,null,null,null,null,null,null,null,null,null,"30 情報通信機械器具製造業","中分類30",null,null,"065 木造建築工事業","産業","06 総合工事業"]
[null,null,null,null,null,null,null,null,null,null,null,null,null,null,null,null,null,null,null,null,null,null,null,null,"31 輸送用機械器具製造業","中分類31",null,null,"066 建築リフォーム工事業","産業","06 総合工事業"]
[null,null,null,null,null,null,null,null,null,null,null,null,null,null,null,null,null,null,null,null,null,null,null,null,"32 その他の製造業","中分類32",null,"07 職別工事業(設備工事業を除く)","070 管理，補助的経済活動を行う事業所（07職別工事業）","業務","07 職別工事業(設備工事業を除く)"]
[null,null,null,null,null,null,null,null,null,null,null,null,null,null,null,null,null,null,null,null,null,null,null,null,"33 電気業","中分類33",null,null,"071 大工工事業","産業","07 職別工事業(設備工事業を除く)"]
[null,null,null,null,null,null,null,null,null,null,null,null,null,null,null,null,null,null,null,null,null,null,null,null,"34 ガス業","中分類34",null,null,"072 とび・土工・コンクリート工事業","産業","07 職別工事業(設備工事業を除く)"]
[null,null,null,null,null,null,null,null,null,null,null,null,null,null,null,null,null,null,null,null,null,null,null,null,"35 熱供給業","中分類35",null,null,"073 鉄骨・鉄筋工事業","産業","07 職別工事業(設備工事業を除く)"]
[null,null,null,null,null,null,null,null,null,null,null,null,null,null,null,null,null,null,null,null,null,null,null,null,"36 水道業","中分類36",null,null,"074 石工・れんが・タイル・ブロック工事業","産業","07 職別工事業(設備工事業を除く)"]
[null,null,null,null,null,null,null,null,null,null,null,null,null,null,null,null,null,null,null,null,null,null,null,null,"37 通信業","中分類37",null,null,"075 左官工事業","産業","07 職別工事業(設備工事業を除く)"]
[null,null,null,null,null,null,null,null,null,null,null,null,null,null,null,null,null,null,null,null,null,null,null,null,"38 放送業","中分類38",null,null,"076 板金・金物工事業","産業","07 職別工事業(設備工事業を除く)"]
[null,null,null,null,null,null,null,null,null,null,null,null,null,null,null,null,null,null,null,null,null,null,null,null,"39 情報サービス業","中分類39",null,null,"077 塗装工事業","産業","07 職別工事業(設備工事業を除く)"]
[null,null,null,null,null,null,null,null,null,null,null,null,null,null,null,null,null,null,null,null,null,null,null,null,"40 インターネット附随サービス業","中分類40",null,null,"078 床・内装工事業","産業","07 職別工事業(設備工事業を除く)"]
[null,null,null,null,null,null,null,null,null,null,null,null,null,null,null,null,null,null,null,null,null,null,null,null,"41 映像・音声・文字情報制作業","中分類41",null,null,"079 その他の職別工事業","産業","07 職別工事業(設備工事業を除く)"]
[null,null,null,null,null,null,null,null,null,null,null,null,null,null,null,null,null,null,null,null,null,null,null,null,"42 鉄道業","中分類42",null,"08 設備工事業","080 管理，補助的経済活動を行う事業所（08設備工事業）","業務","08 設備工事業"]
[null,null,null,null,null,null,null,null,null,null,null,null,null,null,null,null,null,null,null,null,null,null,null,null,"43 道路旅客運送業","中分類43",null,null,"081 電気工事業","産業","08 設備工事業"]
[null,null,null,null,null,null,null,null,null,null,null,null,null,null,null,null,null,null,null,null,null,null,null,null,"44 道路貨物運送業","中分類44",null,null,"082 電気通信・信号装置工事業","産業","08 設備工事業"]
[null,null,null,null,null,null,null,null,null,null,null,null,null,null,null,null,null,null,null,null,null,null,null,null,"45 水運業","中分類45",null,null,"083 管工事業（さく井工事業を除く）","産業","08 設備工事業"]
[null,null,null,null,null,null,null,null,null,null,null,null,null,null,null,null,null,null,null,null,null,null,null,null,"46 航空運輸業","中分類46",null,null,"084 機械器具設置工事業","産業","08 設備工事業"]
[null,null,null,null,null,null,null,null,null,null,null,null,null,null,null,null,null,null,null,null,null,null,null,null,"47 倉庫業","中分類47",null,null,"089 その他の設備工事業","産業","08 設備工事業"]
[null,null,null,null,null,null,null,null,null,null,null,null,null,null,null,null,null,null,null,null,null,null,null,null,"48 運輸に附帯するサービス業","中分類48",null,"09 食料品製造業","090 管理，補助的経済活動を行う事業所（09食料品製造業）","業務","09 食料品製造業"]
[null,null,null,null,null,null,null,null,null,null,null,null,null,null,null,null,null,null,null,null,null,null,null,null,"49 郵便業（信書便事業を含む）","中分類49",null,null,"091 畜産食料品製造業","産業","09 食料品製造業"]
[null,null,null,null,null,null,null,null,null,null,null,null,null,null,null,null,null,null,null,null,null,null,null,null,"50 各種商品卸売業","中分類50",null,null,"092 水産食料品製造業","産業","09 食料品製造業"]
[null,null,null,null,null,null,null,null,null,null,null,null,null,null,null,null,null,null,null,null,null,null,null,null,"51 繊維・衣服等卸売業","中分類51",null,null,"093 野菜缶詰・果実缶詰・農産保存食料品製造業","産業","09 食料品製造業"]
[null,null,null,null,null,null,null,null,null,null,null,null,null,null,null,null,null,null,null,null,null,null,null,null,"52 飲食料品卸売業","中分類52",null,null,"094 調味料製造業","産業","09 食料品製造業"]
[null,null,null,null,null,null,null,null,null,null,null,null,null,null,null,null,null,null,null,null,null,null,null,null,"53 建築材料，鉱物・金属材料等卸売業","中分類53",null,null,"095 糖類製造業","産業","09 食料品製造業"]
[null,null,null,null,null,null,null,null,null,null,null,null,null,null,null,null,null,null,null,null,null,null,null,null,"54 機械器具卸売業","中分類54",null,null,"096 精穀・製粉業","産業","09 食料品製造業"]
[null,null,null,null,null,null,null,null,null,null,null,null,null,null,null,null,null,null,null,null,null,null,null,null,"55 その他の卸売業","中分類55",null,null,"097 パン・菓子製造業","産業","09 食料品製造業"]
[null,null,null,null,null,null,null,null,null,null,null,null,null,null,null,null,null,null,null,null,null,null,null,null,"56 各種商品小売業","中分類56",null,null,"098 動植物油脂製造業","産業","09 食料品製造業"]
[null,null,null,null,null,null,null,null,null,null,null,null,null,null,null,null,null,null,null,null,null,null,null,null,"57 織物・衣服・身の回り品小売業","中分類57",null,null,"099 その他の食料品製造業","産業","09 食料品製造業"]
[null,null,null,null,null,null,null,null,null,null,null,null,null,null,null,null,null,null,null,null,null,null,null,null,"58 飲食料品小売業","中分類58",null,"10 飲料・たばこ・飼料製造業","100 管理，補助的経済活動を行う事業所（10飲料・たばこ・飼料製造業）","業務","10 飲料・たばこ・飼料製造業"]
[null,null,null,null,null,null,null,null,null,null,null,null,null,null,null,null,null,null,null,null,null,null,null,null,"59 機械器具小売業","中分類59",null,null,"101 清涼飲料製造業","産業","10 飲料・たばこ・飼料製造業"]
[null,null,null,null,null,null,null,null,null,null,null,null,null,null,null,null,null,null,null,null,null,null,null,null,"60 その他の小売業","中分類60",null,null,"102 酒類製造業","産業","10 飲料・たばこ・飼料製造業"]
[null,null,null,null,null,null,null,null,null,null,null,null,null,null,null,null,null,null,null,null,null,null,null,null,"61 無店舗小売業","中分類61",null,null,"103 茶・コーヒー製造業（清涼飲料を除く）","産業","10 飲料・たばこ・飼料製造業"]
[null,null,null,null,null,null,null,null,null,null,null,null,null,null,null,null,null,null,null,null,null,null,null,null,"62 銀行業","中分類62",null,null,"104 製氷業","産業","10 飲料・たばこ・飼料製造業"]
[null,null,null,null,null,null,null,null,null,null,null,null,null,null,null,null,null,null,null,null,null,null,null,null,"63 協同組織金融業","中分類63",null,null,"105 たばこ製造業","産業","10 飲料・たばこ・飼料製造業"]
[null,null,null,null,null,null,null,null,null,null,null,null,null,null,null,null,null,null,null,null,null,null,null,null,"64 貸金業，クレジットカード業等非預金信用機関","中分類64",null,null,"106 飼料・有機質肥料製造業","産業","10 飲料・たばこ・飼料製造業"]
[null,null,null,null,null,null,null,null,null,null,null,null,null,null,null,null,null,null,null,null,null,null,null,null,"65 金融商品取引業，商品先物取引業","中分類65",null,"11 繊維工業","110 管理，補助的経済活動を行う事業所（11繊維工業）","業務","11 繊維工業"]
[null,null,null,null,null,null,null,null,null,null,null,null,null,null,null,null,null,null,null,null,null,null,null,null,"66 補助的金融業等","中分類66",null,null,"111 製糸業，紡績業，化学繊維・ねん糸等製造業","産業","11 繊維工業"]
[null,null,null,null,null,null,null,null,null,null,null,null,null,null,null,null,null,null,null,null,null,null,null,null,"67 保険業（保険媒介代理業，保険サービス業を含む）","中分類67",null,null,"112 織物業","産業","11 繊維工業"]
[null,null,null,null,null,null,null,null,null,null,null,null,null,null,null,null,null,null,null,null,null,null,null,null,"68 不動産取引業","中分類68",null,null,"113 ニット生地製造業","産業","11 繊維工業"]
[null,null,null,null,null,null,null,null,null,null,null,null,null,null,null,null,null,null,null,null,null,null,null,null,"69 不動産賃貸業・管理業","中分類69",null,null,"114 染色整理業","産業","11 繊維工業"]
[null,null,null,null,null,null,null,null,null,null,null,null,null,null,null,null,null,null,null,null,null,null,null,null,"70 物品賃貸業","中分類70",null,null,"115 綱・網・レース・繊維粗製品製造業","産業","11 繊維工業"]
[null,null,null,null,null,null,null,null,null,null,null,null,null,null,null,null,null,null,null,null,null,null,null,null,"71 学術・開発研究機関","中分類71",null,null,"116 外衣・シャツ製造業（和式を除く）","産業","11 繊維工業"]
[null,null,null,null,null,null,null,null,null,null,null,null,null,null,null,null,null,null,null,null,null,null,null,null,"72 専門サービス業（他に分類されないもの）","中分類72",null,null,"117 下着類製造業","産業","11 繊維工業"]
[null,null,null,null,null,null,null,null,null,null,null,null,null,null,null,null,null,null,null,null,null,null,null,null,"73 広告業","中分類73",null,null,"118 和装製品・その他の衣服・繊維製身の回り品製造業","産業","11 繊維工業"]
[null,null,null,null,null,null,null,null,null,null,null,null,null,null,null,null,null,null,null,null,null,null,null,null,"74 技術サービス業（他に分類されないもの）","中分類74",null,null,"119 その他の繊維製品製造業","産業","11 繊維工業"]
[null,null,null,null,null,null,null,null,null,null,null,null,null,null,null,null,null,null,null,null,null,null,null,null,"75 宿泊業","中分類75",null,"12 木材・木製品製造業（家具を除く）","120 管理，補助的経済活動を行う事業所（12木材・木製品製造業）","業務","12 木材・木製品製造業（家具を除く）"]
[null,null,null,null,null,null,null,null,null,null,null,null,null,null,null,null,null,null,null,null,null,null,null,null,"76 飲食店","中分類76",null,null,"121 製材業，木製品製造業","産業","12 木材・木製品製造業（家具を除く）"]
[null,null,null,null,null,null,null,null,null,null,null,null,null,null,null,null,null,null,null,null,null,null,null,null,"77 持ち帰り・配達飲食サービス業","中分類77",null,null,"122 造作材・合板・建築用組立材料製造業","産業","12 木材・木製品製造業（家具を除く）"]
[null,null,null,null,null,null,null,null,null,null,null,null,null,null,null,null,null,null,null,null,null,null,null,null,"78 洗濯・理容・美容・浴場業","中分類78",null,null,"123 木製容器製造業（竹，とうを含む）","産業","12 木材・木製品製造業（家具を除く）"]
[null,null,null,null,null,null,null,null,null,null,null,null,null,null,null,null,null,null,null,null,null,null,null,null,"79 その他の生活関連サービス業","中分類79",null,null,"129 その他の木製品製造業(竹，とうを含む)","産業","12 木材・木製品製造業（家具を除く）"]
[null,null,null,null,null,null,null,null,null,null,null,null,null,null,null,null,null,null,null,null,null,null,null,null,"80 娯楽業","中分類80",null,"13 家具・装備品製造業","130 管理，補助的経済活動を行う事業所（13家具・装備品製造業）","業務","13 家具・装備品製造業"]
[null,null,null,null,null,null,null,null,null,null,null,null,null,null,null,null,null,null,null,null,null,null,null,null,"81 学校教育","中分類81",null,null,"131 家具製造業","産業","13 家具・装備品製造業"]
[null,null,null,null,null,null,null,null,null,null,null,null,null,null,null,null,null,null,null,null,null,null,null,null,"82 その他の教育，学習支援業","中分類82",null,null,"132 宗教用具製造業","産業","13 家具・装備品製造業"]
[null,null,null,null,null,null,null,null,null,null,null,null,null,null,null,null,null,null,null,null,null,null,null,null,"83 医療業","中分類83",null,null,"133 建具製造業","産業","13 家具・装備品製造業"]
[null,null,null,null,null,null,null,null,null,null,null,null,null,null,null,null,null,null,null,null,null,null,null,null,"84 保健衛生","中分類84",null,null,"139 その他の家具・装備品製造業","産業","13 家具・装備品製造業"]
[null,null,null,null,null,null,null,null,null,null,null,null,null,null,null,null,null,null,null,null,null,null,null,null,"85 社会保険・社会福祉・介護事業","中分類85",null,"14 パルプ・紙・紙加工品製造業","140 管理，補助的経済活動を行う事業所（14パルプ・紙・紙加工品製造業）","業務","14 パルプ・紙・紙加工品製造業"]
[null,null,null,null,null,null,null,null,null,null,null,null,null,null,null,null,null,null,null,null,null,null,null,null,"86 郵便局","中分類86",null,null,"141 パルプ製造業","産業","14 パルプ・紙・紙加工品製造業"]
[null,null,null,null,null,null,null,null,null,null,null,null,null,null,null,null,null,null,null,null,null,null,null,null,"87 協同組合（他に分類されないもの）","中分類87",null,null,"142 紙製造業","産業","14 パルプ・紙・紙加工品製造業"]
[null,null,null,null,null,null,null,null,null,null,null,null,null,null,null,null,null,null,null,null,null,null,null,null,"88 廃棄物処理業","中分類88",null,null,"143 加工紙製造業","産業","14 パルプ・紙・紙加工品製造業"]
[null,null,null,null,null,null,null,null,null,null,null,null,null,null,null,null,null,null,null,null,null,null,null,null,"89 自動車整備業","中分類89",null,null,"144 紙製品製造業","産業","14 パルプ・紙・紙加工品製造業"]
[null,null,null,null,null,null,null,null,null,null,null,null,null,null,null,null,null,null,null,null,null,null,null,null,"90 機械等修理業（別掲を除く）","中分類90",null,null,"145 紙製容器製造業","産業","14 パルプ・紙・紙加工品製造業"]
[null,null,null,null,null,null,null,null,null,null,null,null,null,null,null,null,null,null,null,null,null,null,null,null,"91 職業紹介・労働者派遣業","中分類91",null,null,"149 その他のパルプ・紙・紙加工品製造業","産業","14 パルプ・紙・紙加工品製造業"]
[null,null,null,null,null,null,null,null,null,null,null,null,null,null,null,null,null,null,null,null,null,null,null,null,"92 その他の事業サービス業","中分類92",null,"15 印刷・同関連業","150 管理，補助的経済活動を行う事業所（15印刷・同関連業）","業務","15 印刷・同関連業"]
[null,null,null,null,null,null,null,null,null,null,null,null,null,null,null,null,null,null,null,null,null,null,null,null,"93 政治・経済・文化団体","中分類93",null,null,"151 印刷業","産業","15 印刷・同関連業"]
[null,null,null,null,null,null,null,null,null,null,null,null,null,null,null,null,null,null,null,null,null,null,null,null,"94 宗教","中分類94",null,null,"152 製版業","産業","15 印刷・同関連業"]
[null,null,null,null,null,null,null,null,null,null,null,null,null,null,null,null,null,null,null,null,null,null,null,null,"95 その他のサービス業","中分類95",null,null,"153 製本業，印刷物加工業","産業","15 印刷・同関連業"]
[null,null,null,null,null,null,null,null,null,null,null,null,null,null,null,null,null,null,null,null,null,null,null,null,"96 外国公務","中分類96",null,null,"159 印刷関連サービス業","産業","15 印刷・同関連業"]
[null,null,null,null,null,null,null,null,null,null,null,null,null,null,null,null,null,null,null,null,null,null,null,null,"97 国家公務","中分類97",null,"16 化学工業","160 管理，補助的経済活動を行う事業所（16化学工業）","業務","16 化学工業"]
[null,null,null,null,null,null,null,null,null,null,null,null,null,null,null,null,null,null,null,null,null,null,null,null,"98 地方公務","中分類98",null,null,"161 化学肥料製造業","産業","16 化学工業"]
[null,null,null,null,null,null,null,null,null,null,null,null,null,null,null,null,null,null,null,null,null,null,null,null,"99 分類不能の産業","中分類99",null,null,"162 無機化学工業製品製造業","産業","16 化学工業"]
[null,null,null,null,null,null,null,null,null,null,null,null,null,null,null,null,null,null,null,null,null,null,null,null,null,null,null,null,"163 有機化学工業製品製造業","産業","16 化学工業"]
[null,null,null,null,null,null,null,null,null,null,null,null,null,null,null,null,null,null,null,null,null,null,null,null,null,null,null,null,"164 油脂加工製品・石けん・合成洗剤・界面活性剤・塗料製造業","産業","16 化学工業"]
[null,null,null,null,null,null,null,null,null,null,null,null,null,null,null,null,null,null,null,null,null,null,null,null,null,null,null,null,"165 医薬品製造業","産業","16 化学工業"]
[null,null,null,null,null,null,null,null,null,null,null,null,null,null,null,null,null,null,null,null,null,null,null,null,null,null,null,null,"166 化粧品・歯磨・その他の化粧用調整品製造業","産業","16 化学工業"]
[null,null,null,null,null,null,null,null,null,null,null,null,null,null,null,null,null,null,null,null,null,null,null,null,null,null,null,null,"169 その他の化学工業","産業","16 化学工業"]
[null,null,null,null,null,null,null,null,null,null,null,null,null,null,null,null,null,null,null,null,null,null,null,null,null,null,null,"17 石油製品・石炭製品製造業","170 管理，補助的経済活動を行う事業所（17石油製品・石炭製品製造業）","業務","17 石油製品・石炭製品製造業"]
[null,null,null,null,null,null,null,null,null,null,null,null,null,null,null,null,null,null,null,null,null,null,null,null,null,null,null,null,"171 石油精製業","産業","17 石油製品・石炭製品製造業"]
[null,null,null,null,null,null,null,null,null,null,null,null,null,null,null,null,null,null,null,null,null,null,null,null,null,null,null,null,"172 潤滑油・グリース製造業（石油精製業によらないもの）","産業","17 石油製品・石炭製品製造業"]
[null,null,null,null,null,null,null,null,null,null,null,null,null,null,null,null,null,null,null,null,null,null,null,null,null,null,null,null,"173 コークス製造業","産業","17 石油製品・石炭製品製造業"]
[null,null,null,null,null,null,null,null,null,null,null,null,null,null,null,null,null,null,null,null,null,null,null,null,null,null,null,null,"174 舗装材料製造業","産業","17 石油製品・石炭製品製造業"]
[null,null,null,null,null,null,null,null,null,null,null,null,null,null,null,null,null,null,null,null,null,null,null,null,null,null,null,null,"179 その他の石油製品・石炭製品製造業","産業","17 石油製品・石炭製品製造業"]
[null,null,null,null,null,null,null,null,null,null,null,null,null,null,null,null,null,null,null,null,null,null,null,null,null,null,null,"18 プラスチック製品製造業（別掲を除く）","180 管理，補助的経済活動を行う事業所（18プラスチック製品製造業）","業務","18 プラスチック製品製造業（別掲を除く）"]
[null,null,null,null,null,null,null,null,null,null,null,null,null,null,null,null,null,null,null,null,null,null,null,null,null,null,null,null,"181 プラスチック板・棒・管・継手・異形押出製品製造業","産業","18 プラスチック製品製造業（別掲を除く）"]
[null,null,null,null,null,null,null,null,null,null,null,null,null,null,null,null,null,null,null,null,null,null,null,null,null,null,null,null,"182 プラスチックフィルム・シート・床材・合成皮革製造業","産業","18 プラスチック製品製造業（別掲を除く）"]
[null,null,null,null,null,null,null,null,null,null,null,null,null,null,null,null,null,null,null,null,null,null,null,null,null,null,null,null,"183 工業用プラスチック製品製造業","産業","18 プラスチック製品製造業（別掲を除く）"]
[null,null,null,null,null,null,null,null,null,null,null,null,null,null,null,null,null,null,null,null,null,null,null,null,null,null,null,null,"184 発泡・強化プラスチック製品製造業","産業","18 プラスチック製品製造業（別掲を除く）"]
[null,null,null,null,null,null,null,null,null,null,null,null,null,null,null,null,null,null,null,null,null,null,null,null,null,null,null,null,"185 プラスチック成形材料製造業（廃プラスチックを含む）","産業","18 プラスチック製品製造業（別掲を除く）"]
[null,null,null,null,null,null,null,null,null,null,null,null,null,null,null,null,null,null,null,null,null,null,null,null,null,null,null,null,"189 その他のプラスチック製品製造業","産業","18 プラスチック製品製造業（別掲を除く）"]
[null,null,null,null,null,null,null,null,null,null,null,null,null,null,null,null,null,null,null,null,null,null,null,null,null,null,null,"19 ゴム製品製造業","190 管理，補助的経済活動を行う事業所（19ゴム製品製造業）","業務","19 ゴム製品製造業"]
[null,null,null,null,null,null,null,null,null,null,null,null,null,null,null,null,null,null,null,null,null,null,null,null,null,null,null,null,"191 タイヤ・チューブ製造業","産業","19 ゴム製品製造業"]
[null,null,null,null,null,null,null,null,null,null,null,null,null,null,null,null,null,null,null,null,null,null,null,null,null,null,null,null,"192 ゴム製・プラスチック製履物・同附属品製造業","産業","19 ゴム製品製造業"]
[null,null,null,null,null,null,null,null,null,null,null,null,null,null,null,null,null,null,null,null,null,null,null,null,null,null,null,null,"193 ゴムベルト・ゴムホース・工業用ゴム製品製造業","産業","19 ゴム製品製造業"]
[null,null,null,null,null,null,null,null,null,null,null,null,null,null,null,null,null,null,null,null,null,null,null,null,null,null,null,null,"199 その他のゴム製品製造業","産業","19 ゴム製品製造業"]
[null,null,null,null,null,null,null,null,null,null,null,null,null,null,null,null,null,null,null,null,null,null,null,null,null,null,null,"20 なめし革・同製品・毛皮製造業","200 管理，補助的経済活動を行う事業所（20なめし革・同製品・毛皮製造業）","業務","20 なめし革・同製品・毛皮製造業"]
[null,null,null,null,null,null,null,null,null,null,null,null,null,null,null,null,null,null,null,null,null,null,null,null,null,null,null,null,"201 なめし革製造業","産業","20 なめし革・同製品・毛皮製造業"]
[null,null,null,null,null,null,null,null,null,null,null,null,null,null,null,null,null,null,null,null,null,null,null,null,null,null,null,null,"202 工業用革製品製造業（手袋を除く）","産業","20 なめし革・同製品・毛皮製造業"]
[null,null,null,null,null,null,null,null,null,null,null,null,null,null,null,null,null,null,null,null,null,null,null,null,null,null,null,null,"203 革製履物用材料・同附属品製造業","産業","20 なめし革・同製品・毛皮製造業"]
[null,null,null,null,null,null,null,null,null,null,null,null,null,null,null,null,null,null,null,null,null,null,null,null,null,null,null,null,"204 革製履物製造業","産業","20 なめし革・同製品・毛皮製造業"]
[null,null,null,null,null,null,null,null,null,null,null,null,null,null,null,null,null,null,null,null,null,null,null,null,null,null,null,null,"205 革製手袋製造業","産業","20 なめし革・同製品・毛皮製造業"]
[null,null,null,null,null,null,null,null,null,null,null,null,null,null,null,null,null,null,null,null,null,null,null,null,null,null,null,null,"206 かばん製造業","産業","20 なめし革・同製品・毛皮製造業"]
[null,null,null,null,null,null,null,null,null,null,null,null,null,null,null,null,null,null,null,null,null,null,null,null,null,null,null,null,"207 袋物製造業","産業","20 なめし革・同製品・毛皮製造業"]
[null,null,null,null,null,null,null,null,null,null,null,null,null,null,null,null,null,null,null,null,null,null,null,null,null,null,null,null,"208 毛皮製造業","産業","20 なめし革・同製品・毛皮製造業"]
[null,null,null,null,null,null,null,null,null,null,null,null,null,null,null,null,null,null,null,null,null,null,null,null,null,null,null,null,"209 その他のなめし革製品製造業","産業","20 なめし革・同製品・毛皮製造業"]
[null,null,null,null,null,null,null,null,null,null,null,null,null,null,null,null,null,null,null,null,null,null,null,null,null,null,null,"21 窯業・土石製品製造業","210 管理，補助的経済活動を行う事業所（21窯業・土石製品製造業）","業務","21 窯業・土石製品製造業"]
[null,null,null,null,null,null,null,null,null,null,null,null,null,null,null,null,null,null,null,null,null,null,null,null,null,null,null,null,"211 ガラス・同製品製造業","産業","21 窯業・土石製品製造業"]
[null,null,null,null,null,null,null,null,null,null,null,null,null,null,null,null,null,null,null,null,null,null,null,null,null,null,null,null,"212 セメント・同製品製造業","産業","21 窯業・土石製品製造業"]
[null,null,null,null,null,null,null,null,null,null,null,null,null,null,null,null,null,null,null,null,null,null,null,null,null,null,null,null,"213 建設用粘土製品製造業（陶磁器製を除く)","産業","21 窯業・土石製品製造業"]
[null,null,null,null,null,null,null,null,null,null,null,null,null,null,null,null,null,null,null,null,null,null,null,null,null,null,null,null,"214 陶磁器・同関連製品製造業","産業","21 窯業・土石製品製造業"]
[null,null,null,null,null,null,null,null,null,null,null,null,null,null,null,null,null,null,null,null,null,null,null,null,null,null,null,null,"215 耐火物製造業","産業","21 窯業・土石製品製造業"]
[null,null,null,null,null,null,null,null,null,null,null,null,null,null,null,null,null,null,null,null,null,null,null,null,null,null,null,null,"216 炭素・黒鉛製品製造業","産業","21 窯業・土石製品製造業"]
[null,null,null,null,null,null,null,null,null,null,null,null,null,null,null,null,null,null,null,null,null,null,null,null,null,null,null,null,"217 研磨材・同製品製造業","産業","21 窯業・土石製品製造業"]
[null,null,null,null,null,null,null,null,null,null,null,null,null,null,null,null,null,null,null,null,null,null,null,null,null,null,null,null,"218 骨材・石工品等製造業","産業","21 窯業・土石製品製造業"]
[null,null,null,null,null,null,null,null,null,null,null,null,null,null,null,null,null,null,null,null,null,null,null,null,null,null,null,null,"219 その他の窯業・土石製品製造業","産業","21 窯業・土石製品製造業"]
[null,null,null,null,null,null,null,null,null,null,null,null,null,null,null,null,null,null,null,null,null,null,null,null,null,null,null,"22 鉄鋼業","220 管理，補助的経済活動を行う事業所（22鉄鋼業）","業務","22 鉄鋼業"]
[null,null,null,null,null,null,null,null,null,null,null,null,null,null,null,null,null,null,null,null,null,null,null,null,null,null,null,null,"221 製鉄業","産業","22 鉄鋼業"]
[null,null,null,null,null,null,null,null,null,null,null,null,null,null,null,null,null,null,null,null,null,null,null,null,null,null,null,null,"222 製鋼・製鋼圧延業","産業","22 鉄鋼業"]
[null,null,null,null,null,null,null,null,null,null,null,null,null,null,null,null,null,null,null,null,null,null,null,null,null,null,null,null,"223 製鋼を行わない鋼材製造業（表面処理鋼材を除く）","産業","22 鉄鋼業"]
[null,null,null,null,null,null,null,null,null,null,null,null,null,null,null,null,null,null,null,null,null,null,null,null,null,null,null,null,"224 表面処理鋼材製造業","産業","22 鉄鋼業"]
[null,null,null,null,null,null,null,null,null,null,null,null,null,null,null,null,null,null,null,null,null,null,null,null,null,null,null,null,"225 鉄素形材製造業","産業","22 鉄鋼業"]
[null,null,null,null,null,null,null,null,null,null,null,null,null,null,null,null,null,null,null,null,null,null,null,null,null,null,null,null,"229 その他の鉄鋼業","産業","22 鉄鋼業"]
[null,null,null,null,null,null,null,null,null,null,null,null,null,null,null,null,null,null,null,null,null,null,null,null,null,null,null,"23 非鉄金属製造業","230 管理，補助的経済活動を行う事業所（23非鉄金属製造業）","業務","23 非鉄金属製造業"]
[null,null,null,null,null,null,null,null,null,null,null,null,null,null,null,null,null,null,null,null,null,null,null,null,null,null,null,null,"231 非鉄金属第1次製錬・精製業","産業","23 非鉄金属製造業"]
[null,null,null,null,null,null,null,null,null,null,null,null,null,null,null,null,null,null,null,null,null,null,null,null,null,null,null,null,"232 非鉄金属第2次製錬・精製業（非鉄金属合金製造業を含む）","産業","23 非鉄金属製造業"]
[null,null,null,null,null,null,null,null,null,null,null,null,null,null,null,null,null,null,null,null,null,null,null,null,null,null,null,null,"233 非鉄金属・同合金圧延業（抽伸，押出しを含む）","産業","23 非鉄金属製造業"]
[null,null,null,null,null,null,null,null,null,null,null,null,null,null,null,null,null,null,null,null,null,null,null,null,null,null,null,null,"234 電線・ケーブル製造業","産業","23 非鉄金属製造業"]
[null,null,null,null,null,null,null,null,null,null,null,null,null,null,null,null,null,null,null,null,null,null,null,null,null,null,null,null,"235 非鉄金属素形材製造業","産業","23 非鉄金属製造業"]
[null,null,null,null,null,null,null,null,null,null,null,null,null,null,null,null,null,null,null,null,null,null,null,null,null,null,null,null,"239 その他の非鉄金属製造業","産業","23 非鉄金属製造業"]
[null,null,null,null,null,null,null,null,null,null,null,null,null,null,null,null,null,null,null,null,null,null,null,null,null,null,null,"24 金属製品製造業","240 管理，補助的経済活動を行う事業所（24金属製品製造業）","業務","24 金属製品製造業"]
[null,null,null,null,null,null,null,null,null,null,null,null,null,null,null,null,null,null,null,null,null,null,null,null,null,null,null,null,"241 ブリキ缶・その他のめっき板等製品製造業","産業","24 金属製品製造業"]
[null,null,null,null,null,null,null,null,null,null,null,null,null,null,null,null,null,null,null,null,null,null,null,null,null,null,null,null,"242 洋食器・刃物・手道具・金物類製造業","産業","24 金属製品製造業"]
[null,null,null,null,null,null,null,null,null,null,null,null,null,null,null,null,null,null,null,null,null,null,null,null,null,null,null,null,"243 暖房・調理等装置,配管工事用附属品製造業","産業","24 金属製品製造業"]
[null,null,null,null,null,null,null,null,null,null,null,null,null,null,null,null,null,null,null,null,null,null,null,null,null,null,null,null,"244 建設用・建築用金属製品製造業（製缶板金業を含む)","産業","24 金属製品製造業"]
[null,null,null,null,null,null,null,null,null,null,null,null,null,null,null,null,null,null,null,null,null,null,null,null,null,null,null,null,"245 金属素形材製品製造業","産業","24 金属製品製造業"]
[null,null,null,null,null,null,null,null,null,null,null,null,null,null,null,null,null,null,null,null,null,null,null,null,null,null,null,null,"246 金属被覆・彫刻業，熱処理業（ほうろう鉄器を除く）","産業","24 金属製品製造業"]
[null,null,null,null,null,null,null,null,null,null,null,null,null,null,null,null,null,null,null,null,null,null,null,null,null,null,null,null,"247 金属線製品製造業（ねじ類を除く)","産業","24 金属製品製造業"]
[null,null,null,null,null,null,null,null,null,null,null,null,null,null,null,null,null,null,null,null,null,null,null,null,null,null,null,null,"248 ボルト・ナット・リベット・小ねじ・木ねじ等製造業","産業","24 金属製品製造業"]
[null,null,null,null,null,null,null,null,null,null,null,null,null,null,null,null,null,null,null,null,null,null,null,null,null,null,null,null,"249 その他の金属製品製造業","産業","24 金属製品製造業"]
[null,null,null,null,null,null,null,null,null,null,null,null,null,null,null,null,null,null,null,null,null,null,null,null,null,null,null,"25 はん用機械器具製造業","250 管理，補助的経済活動を行う事業所（25はん用機械器具製造業）","業務","25 はん用機械器具製造業"]
[null,null,null,null,null,null,null,null,null,null,null,null,null,null,null,null,null,null,null,null,null,null,null,null,null,null,null,null,"251 ボイラ・原動機製造業","産業","25 はん用機械器具製造業"]
[null,null,null,null,null,null,null,null,null,null,null,null,null,null,null,null,null,null,null,null,null,null,null,null,null,null,null,null,"252 ポンプ・圧縮機器製造業","産業","25 はん用機械器具製造業"]
[null,null,null,null,null,null,null,null,null,null,null,null,null,null,null,null,null,null,null,null,null,null,null,null,null,null,null,null,"253 一般産業用機械・装置製造業","産業","25 はん用機械器具製造業"]
[null,null,null,null,null,null,null,null,null,null,null,null,null,null,null,null,null,null,null,null,null,null,null,null,null,null,null,null,"259 その他のはん用機械・同部分品製造業","産業","25 はん用機械器具製造業"]
[null,null,null,null,null,null,null,null,null,null,null,null,null,null,null,null,null,null,null,null,null,null,null,null,null,null,null,"26 生産用機械器具製造業","260 管理，補助的経済活動を行う事業所（26生産用機械器具製造業）","業務","26 生産用機械器具製造業"]
[null,null,null,null,null,null,null,null,null,null,null,null,null,null,null,null,null,null,null,null,null,null,null,null,null,null,null,null,"261 農業用機械製造業（農業用器具を除く）","産業","26 生産用機械器具製造業"]
[null,null,null,null,null,null,null,null,null,null,null,null,null,null,null,null,null,null,null,null,null,null,null,null,null,null,null,null,"262 建設機械・鉱山機械製造業","産業","26 生産用機械器具製造業"]
[null,null,null,null,null,null,null,null,null,null,null,null,null,null,null,null,null,null,null,null,null,null,null,null,null,null,null,null,"263 繊維機械製造業","産業","26 生産用機械器具製造業"]
[null,null,null,null,null,null,null,null,null,null,null,null,null,null,null,null,null,null,null,null,null,null,null,null,null,null,null,null,"264 生活関連産業用機械製造業","産業","26 生産用機械器具製造業"]
[null,null,null,null,null,null,null,null,null,null,null,null,null,null,null,null,null,null,null,null,null,null,null,null,null,null,null,null,"265 基礎素材産業用機械製造業","産業","26 生産用機械器具製造業"]
[null,null,null,null,null,null,null,null,null,null,null,null,null,null,null,null,null,null,null,null,null,null,null,null,null,null,null,null,"266 金属加工機械製造業","産業","26 生産用機械器具製造業"]
[null,null,null,null,null,null,null,null,null,null,null,null,null,null,null,null,null,null,null,null,null,null,null,null,null,null,null,null,"267 半導体・フラットパネルディスプレイ製造装置製造業","産業","26 生産用機械器具製造業"]
[null,null,null,null,null,null,null,null,null,null,null,null,null,null,null,null,null,null,null,null,null,null,null,null,null,null,null,null,"269 その他の生産用機械・同部分品製造業","産業","26 生産用機械器具製造業"]
[null,null,null,null,null,null,null,null,null,null,null,null,null,null,null,null,null,null,null,null,null,null,null,null,null,null,null,"27 業務用機械器具製造業","270 管理，補助的経済活動を行う事業所（27業務用機械器具製造業）","業務","27 業務用機械器具製造業"]
[null,null,null,null,null,null,null,null,null,null,null,null,null,null,null,null,null,null,null,null,null,null,null,null,null,null,null,null,"271 事務用機械器具製造業","産業","27 業務用機械器具製造業"]
[null,null,null,null,null,null,null,null,null,null,null,null,null,null,null,null,null,null,null,null,null,null,null,null,null,null,null,null,"272 サービス用・娯楽用機械器具製造業","産業","27 業務用機械器具製造業"]
[null,null,null,null,null,null,null,null,null,null,null,null,null,null,null,null,null,null,null,null,null,null,null,null,null,null,null,null,"273 計量器・測定器・分析機器・試験機・測量機械器具・理化学機械器具製造業","産業","27 業務用機械器具製造業"]
[null,null,null,null,null,null,null,null,null,null,null,null,null,null,null,null,null,null,null,null,null,null,null,null,null,null,null,null,"274 医療用機械器具・医療用品製造業","産業","27 業務用機械器具製造業"]
[null,null,null,null,null,null,null,null,null,null,null,null,null,null,null,null,null,null,null,null,null,null,null,null,null,null,null,null,"275 光学機械器具・レンズ製造業","産業","27 業務用機械器具製造業"]
[null,null,null,null,null,null,null,null,null,null,null,null,null,null,null,null,null,null,null,null,null,null,null,null,null,null,null,null,"276 武器製造業","産業","27 業務用機械器具製造業"]
[null,null,null,null,null,null,null,null,null,null,null,null,null,null,null,null,null,null,null,null,null,null,null,null,null,null,null,"28 電子部品・デバイス・電子回路製造業","280 管理，補助的経済活動を行う事業所（28電子部品・デバイス・電子回路製造業）","業務","28 電子部品・デバイス・電子回路製造業"]
[null,null,null,null,null,null,null,null,null,null,null,null,null,null,null,null,null,null,null,null,null,null,null,null,null,null,null,null,"281 電子デバイス製造業","産業","28 電子部品・デバイス・電子回路製造業"]
[null,null,null,null,null,null,null,null,null,null,null,null,null,null,null,null,null,null,null,null,null,null,null,null,null,null,null,null,"282 電子部品製造業","産業","28 電子部品・デバイス・電子回路製造業"]
[null,null,null,null,null,null,null,null,null,null,null,null,null,null,null,null,null,null,null,null,null,null,null,null,null,null,null,null,"283 記録メディア製造業","産業","28 電子部品・デバイス・電子回路製造業"]
[null,null,null,null,null,null,null,null,null,null,null,null,null,null,null,null,null,null,null,null,null,null,null,null,null,null,null,null,"284 電子回路製造業","産業","28 電子部品・デバイス・電子回路製造業"]
[null,null,null,null,null,null,null,null,null,null,null,null,null,null,null,null,null,null,null,null,null,null,null,null,null,null,null,null,"285 ユニット部品製造業","産業","28 電子部品・デバイス・電子回路製造業"]
[null,null,null,null,null,null,null,null,null,null,null,null,null,null,null,null,null,null,null,null,null,null,null,null,null,null,null,null,"289 その他の電子部品・デバイス・電子回路製造業","産業","28 電子部品・デバイス・電子回路製造業"]
[null,null,null,null,null,null,null,null,null,null,null,null,null,null,null,null,null,null,null,null,null,null,null,null,null,null,null,"29 電気機械器具製造業","290 管理，補助的経済活動を行う事業所（29電気機械器具製造業）","業務","29 電気機械器具製造業"]
[null,null,null,null,null,null,null,null,null,null,null,null,null,null,null,null,null,null,null,null,null,null,null,null,null,null,null,null,"291 発電用・送電用・配電用電気機械器具製造業","産業","29 電気機械器具製造業"]
[null,null,null,null,null,null,null,null,null,null,null,null,null,null,null,null,null,null,null,null,null,null,null,null,null,null,null,null,"292 産業用電気機械器具製造業","産業","29 電気機械器具製造業"]
[null,null,null,null,null,null,null,null,null,null,null,null,null,null,null,null,null,null,null,null,null,null,null,null,null,null,null,null,"293 民生用電気機械器具製造業","産業","29 電気機械器具製造業"]
[null,null,null,null,null,null,null,null,null,null,null,null,null,null,null,null,null,null,null,null,null,null,null,null,null,null,null,null,"294 電球・電気照明器具製造業","産業","29 電気機械器具製造業"]
[null,null,null,null,null,null,null,null,null,null,null,null,null,null,null,null,null,null,null,null,null,null,null,null,null,null,null,null,"295 電池製造業","産業","29 電気機械器具製造業"]
[null,null,null,null,null,null,null,null,null,null,null,null,null,null,null,null,null,null,null,null,null,null,null,null,null,null,null,null,"296 電子応用装置製造業","産業","29 電気機械器具製造業"]
[null,null,null,null,null,null,null,null,null,null,null,null,null,null,null,null,null,null,null,null,null,null,null,null,null,null,null,null,"297 電気計測器製造業","産業","29 電気機械器具製造業"]
[null,null,null,null,null,null,null,null,null,null,null,null,null,null,null,null,null,null,null,null,null,null,null,null,null,null,null,null,"299 その他の電気機械器具製造業","産業","29 電気機械器具製造業"]
[null,null,null,null,null,null,null,null,null,null,null,null,null,null,null,null,null,null,null,null,null,null,null,null,null,null,null,"30 情報通信機械器具製造業","300 管理，補助的経済活動を行う事業所（30情報通信機械器具製造業）","業務","30 情報通信機械器具製造業"]
[null,null,null,null,null,null,null,null,null,null,null,null,null,null,null,null,null,null,null,null,null,null,null,null,null,null,null,null,"301 通信機械器具・同関連機械器具製造業","産業","30 情報通信機械器具製造業"]
[null,null,null,null,null,null,null,null,null,null,null,null,null,null,null,null,null,null,null,null,null,null,null,null,null,null,null,null,"302 映像・音響機械器具製造業","産業","30 情報通信機械器具製造業"]
[null,null,null,null,null,null,null,null,null,null,null,null,null,null,null,null,null,null,null,null,null,null,null,null,null,null,null,null,"303 電子計算機・同附属装置製造業","産業","30 情報通信機械器具製造業"]
[null,null,null,null,null,null,null,null,null,null,null,null,null,null,null,null,null,null,null,null,null,null,null,null,null,null,null,"31 輸送用機械器具製造業","310 管理，補助的経済活動を行う事業所（31輸送用機械器具製造業）","業務","31 輸送用機械器具製造業"]
[null,null,null,null,null,null,null,null,null,null,null,null,null,null,null,null,null,null,null,null,null,null,null,null,null,null,null,null,"311 自動車・同附属品製造業","産業","31 輸送用機械器具製造業"]
[null,null,null,null,null,null,null,null,null,null,null,null,null,null,null,null,null,null,null,null,null,null,null,null,null,null,null,null,"312 鉄道車両・同部分品製造業","産業","31 輸送用機械器具製造業"]
[null,null,null,null,null,null,null,null,null,null,null,null,null,null,null,null,null,null,null,null,null,null,null,null,null,null,null,null,"313 船舶製造・修理業，舶用機関製造業","産業","31 輸送用機械器具製造業"]
[null,null,null,null,null,null,null,null,null,null,null,null,null,null,null,null,null,null,null,null,null,null,null,null,null,null,null,null,"314 航空機・同附属品製造業","産業","31 輸送用機械器具製造業"]
[null,null,null,null,null,null,null,null,null,null,null,null,null,null,null,null,null,null,null,null,null,null,null,null,null,null,null,null,"315 産業用運搬車両・同部分品・附属品製造業","産業","31 輸送用機械器具製造業"]
[null,null,null,null,null,null,null,null,null,null,null,null,null,null,null,null,null,null,null,null,null,null,null,null,null,null,null,null,"319 その他の輸送用機械器具製造業","産業","31 輸送用機械器具製造業"]
[null,null,null,null,null,null,null,null,null,null,null,null,null,null,null,null,null,null,null,null,null,null,null,null,null,null,null,"32 その他の製造業","320 管理，補助的経済活動を行う事業所（32その他の製造業）","業務","32 その他の製造業"]
[null,null,null,null,null,null,null,null,null,null,null,null,null,null,null,null,null,null,null,null,null,null,null,null,null,null,null,null,"321 貴金属・宝石製品製造業","産業","32 その他の製造業"]
[null,null,null,null,null,null,null,null,null,null,null,null,null,null,null,null,null,null,null,null,null,null,null,null,null,null,null,null,"322 装身具・装飾品・ボタン・同関連品製造業（貴金属・宝石製を除く）","産業","32 その他の製造業"]
[null,null,null,null,null,null,null,null,null,null,null,null,null,null,null,null,null,null,null,null,null,null,null,null,null,null,null,null,"323 時計・同部分品製造業","産業","32 その他の製造業"]
[null,null,null,null,null,null,null,null,null,null,null,null,null,null,null,null,null,null,null,null,null,null,null,null,null,null,null,null,"324 楽器製造業","産業","32 その他の製造業"]
[null,null,null,null,null,null,null,null,null,null,null,null,null,null,null,null,null,null,null,null,null,null,null,null,null,null,null,null,"325 がん具・運動用具製造業","産業","32 その他の製造業"]
[null,null,null,null,null,null,null,null,null,null,null,null,null,null,null,null,null,null,null,null,null,null,null,null,null,null,null,null,"326 ペン・鉛筆・絵画用品・その他の事務用品製造業","産業","32 その他の製造業"]
[null,null,null,null,null,null,null,null,null,null,null,null,null,null,null,null,null,null,null,null,null,null,null,null,null,null,null,null,"327 漆器製造業","産業","32 その他の製造業"]
[null,null,null,null,null,null,null,null,null,null,null,null,null,null,null,null,null,null,null,null,null,null,null,null,null,null,null,null,"328 畳等生活雑貨製品製造業","産業","32 その他の製造業"]
[null,null,null,null,null,null,null,null,null,null,null,null,null,null,null,null,null,null,null,null,null,null,null,null,null,null,null,null,"329 他に分類されない製造業","産業","32 その他の製造業"]
[null,null,null,null,null,null,null,null,null,null,null,null,null,null,null,null,null,null,null,null,null,null,null,null,null,null,null,"33 電気業","330 管理，補助的経済活動を行う事業所（33電気業）","業務","33 電気業"]
[null,null,null,null,null,null,null,null,null,null,null,null,null,null,null,null,null,null,null,null,null,null,null,null,null,null,null,null,"331 電気業","業務","33 電気業"]
[null,null,null,null,null,null,null,null,null,null,null,null,null,null,null,null,null,null,null,null,null,null,null,null,null,null,null,"34 ガス業","340 管理，補助的経済活動を行う事業所（34ガス業）","業務","34 ガス業"]
[null,null,null,null,null,null,null,null,null,null,null,null,null,null,null,null,null,null,null,null,null,null,null,null,null,null,null,null,"341 ガス業","業務","34 ガス業"]
[null,null,null,null,null,null,null,null,null,null,null,null,null,null,null,null,null,null,null,null,null,null,null,null,null,null,null,"35 熱供給業","350 管理，補助的経済活動を行う事業所（35熱供給業）","業務","35 熱供給業"]
[null,null,null,null,null,null,null,null,null,null,null,null,null,null,null,null,null,null,null,null,null,null,null,null,null,null,null,null,"351 熱供給業","業務","35 熱供給業"]
[null,null,null,null,null,null,null,null,null,null,null,null,null,null,null,null,null,null,null,null,null,null,null,null,null,null,null,"36 水道業","360 管理，補助的経済活動を行う事業所（36水道業）","業務","36 水道業"]
[null,null,null,null,null,null,null,null,null,null,null,null,null,null,null,null,null,null,null,null,null,null,null,null,null,null,null,null,"361 上水道業","業務","36 水道業"]
[null,null,null,null,null,null,null,null,null,null,null,null,null,null,null,null,null,null,null,null,null,null,null,null,null,null,null,null,"362 工業用水道業","業務","36 水道業"]
[null,null,null,null,null,null,null,null,null,null,null,null,null,null,null,null,null,null,null,null,null,null,null,null,null,null,null,null,"363 下水道業","業務","36 水道業"]
[null,null,null,null,null,null,null,null,null,null,null,null,null,null,null,null,null,null,null,null,null,null,null,null,null,null,null,"37 通信業","370 管理，補助的経済活動を行う事業所（37通信業）","業務","37 通信業"]
[null,null,null,null,null,null,null,null,null,null,null,null,null,null,null,null,null,null,null,null,null,null,null,null,null,null,null,null,"371 固定電気通信業","業務","37 通信業"]
[null,null,null,null,null,null,null,null,null,null,null,null,null,null,null,null,null,null,null,null,null,null,null,null,null,null,null,null,"372 移動電気通信業","業務","37 通信業"]
[null,null,null,null,null,null,null,null,null,null,null,null,null,null,null,null,null,null,null,null,null,null,null,null,null,null,null,null,"373 電気通信に附帯するサービス業","業務","37 通信業"]
[null,null,null,null,null,null,null,null,null,null,null,null,null,null,null,null,null,null,null,null,null,null,null,null,null,null,null,"38 放送業","380 管理，補助的経済活動を行う事業所（38放送業）","業務","38 放送業"]
[null,null,null,null,null,null,null,null,null,null,null,null,null,null,null,null,null,null,null,null,null,null,null,null,null,null,null,null,"381 公共放送業（有線放送業を除く）","業務","38 放送業"]
[null,null,null,null,null,null,null,null,null,null,null,null,null,null,null,null,null,null,null,null,null,null,null,null,null,null,null,null,"382 民間放送業（有線放送業を除く）","業務","38 放送業"]
[null,null,null,null,null,null,null,null,null,null,null,null,null,null,null,null,null,null,null,null,null,null,null,null,null,null,null,null,"383 有線放送業","業務","38 放送業"]
[null,null,null,null,null,null,null,null,null,null,null,null,null,null,null,null,null,null,null,null,null,null,null,null,null,null,null,"39 情報サービス業","390 管理，補助的経済活動を行う事業所（39情報サービス業）","業務","39 情報サービス業"]
[null,null,null,null,null,null,null,null,null,null,null,null,null,null,null,null,null,null,null,null,null,null,null,null,null,null,null,null,"391 ソフトウェア業","業務","39 情報サービス業"]
[null,null,null,null,null,null,null,null,null,null,null,null,null,null,null,null,null,null,null,null,null,null,null,null,null,null,null,null,"392 情報処理・提供サービス業","業務","39 情報サービス業"]
[null,null,null,null,null,null,null,null,null,null,null,null,null,null,null,null,null,null,null,null,null,null,null,null,null,null,null,"40 インターネット附随サービス業","400 管理，補助的経済活動を行う事業所（40インターネット附随サービス業）","業務","40 インターネット附随サービス業"]
[null,null,null,null,null,null,null,null,null,null,null,null,null,null,null,null,null,null,null,null,null,null,null,null,null,null,null,null,"401 インターネット附随サービス業","業務","40 インターネット附随サービス業"]
[null,null,null,null,null,null,null,null,null,null,null,null,null,null,null,null,null,null,null,null,null,null,null,null,null,null,null,"41 映像・音声・文字情報制作業","410 管理，補助的経済活動を行う事業所（41映像・音声・文字情報制作業）","業務","41 映像・音声・文字情報制作業"]
[null,null,null,null,null,null,null,null,null,null,null,null,null,null,null,null,null,null,null,null,null,null,null,null,null,null,null,null,"411 映像情報制作・配給業","業務","41 映像・音声・文字情報制作業"]
[null,null,null,null,null,null,null,null,null,null,null,null,null,null,null,null,null,null,null,null,null,null,null,null,null,null,null,null,"412 音声情報制作業","業務","41 映像・音声・文字情報制作業"]
[null,null,null,null,null,null,null,null,null,null,null,null,null,null,null,null,null,null,null,null,null,null,null,null,null,null,null,null,"413 新聞業","業務","41 映像・音声・文字情報制作業"]
[null,null,null,null,null,null,null,null,null,null,null,null,null,null,null,null,null,null,null,null,null,null,null,null,null,null,null,null,"414 出版業","業務","41 映像・音声・文字情報制作業"]
[null,null,null,null,null,null,null,null,null,null,null,null,null,null,null,null,null,null,null,null,null,null,null,null,null,null,null,null,"415 広告制作業","業務","41 映像・音声・文字情報制作業"]
[null,null,null,null,null,null,null,null,null,null,null,null,null,null,null,null,null,null,null,null,null,null,null,null,null,null,null,null,"416 映像・音声・文字情報制作に附帯するサービス業","業務","41 映像・音声・文字情報制作業"]
[null,null,null,null,null,null,null,null,null,null,null,null,null,null,null,null,null,null,null,null,null,null,null,null,null,null,null,"42 鉄道業","420 管理，補助的経済活動を行う事業所（42鉄道業）","業務","42 鉄道業"]
[null,null,null,null,null,null,null,null,null,null,null,null,null,null,null,null,null,null,null,null,null,null,null,null,null,null,null,null,"421 鉄道業","業務","42 鉄道業"]
[null,null,null,null,null,null,null,null,null,null,null,null,null,null,null,null,null,null,null,null,null,null,null,null,null,null,null,"43 道路旅客運送業","430 管理，補助的経済活動を行う事業所（43道路旅客運送業）","業務","43 道路旅客運送業"]
[null,null,null,null,null,null,null,null,null,null,null,null,null,null,null,null,null,null,null,null,null,null,null,null,null,null,null,null,"431 一般乗合旅客自動車運送業","業務","43 道路旅客運送業"]
[null,null,null,null,null,null,null,null,null,null,null,null,null,null,null,null,null,null,null,null,null,null,null,null,null,null,null,null,"432 一般乗用旅客自動車運送業","業務","43 道路旅客運送業"]
[null,null,null,null,null,null,null,null,null,null,null,null,null,null,null,null,null,null,null,null,null,null,null,null,null,null,null,null,"433 一般貸切旅客自動車運送業","業務","43 道路旅客運送業"]
[null,null,null,null,null,null,null,null,null,null,null,null,null,null,null,null,null,null,null,null,null,null,null,null,null,null,null,null,"439 その他の道路旅客運送業","業務","43 道路旅客運送業"]
[null,null,null,null,null,null,null,null,null,null,null,null,null,null,null,null,null,null,null,null,null,null,null,null,null,null,null,"44 道路貨物運送業","440 管理，補助的経済活動を行う事業所（44道路貨物運送業）","業務","44 道路貨物運送業"]
[null,null,null,null,null,null,null,null,null,null,null,null,null,null,null,null,null,null,null,null,null,null,null,null,null,null,null,null,"441 一般貨物自動車運送業","業務","44 道路貨物運送業"]
[null,null,null,null,null,null,null,null,null,null,null,null,null,null,null,null,null,null,null,null,null,null,null,null,null,null,null,null,"442 特定貨物自動車運送業","業務","44 道路貨物運送業"]
[null,null,null,null,null,null,null,null,null,null,null,null,null,null,null,null,null,null,null,null,null,null,null,null,null,null,null,null,"443 貨物軽自動車運送業","業務","44 道路貨物運送業"]
[null,null,null,null,null,null,null,null,null,null,null,null,null,null,null,null,null,null,null,null,null,null,null,null,null,null,null,null,"444 集配利用運送業","業務","44 道路貨物運送業"]
[null,null,null,null,null,null,null,null,null,null,null,null,null,null,null,null,null,null,null,null,null,null,null,null,null,null,null,null,"449 その他の道路貨物運送業","業務","44 道路貨物運送業"]
[null,null,null,null,null,null,null,null,null,null,null,null,null,null,null,null,null,null,null,null,null,null,null,null,null,null,null,"45 水運業","450 管理，補助的経済活動を行う事業所（45水運業）","業務","45 水運業"]
[null,null,null,null,null,null,null,null,null,null,null,null,null,null,null,null,null,null,null,null,null,null,null,null,null,null,null,null,"451 外航海運業","業務","45 水運業"]
[null,null,null,null,null,null,null,null,null,null,null,null,null,null,null,null,null,null,null,null,null,null,null,null,null,null,null,null,"452 沿海海運業","業務","45 水運業"]
[null,null,null,null,null,null,null,null,null,null,null,null,null,null,null,null,null,null,null,null,null,null,null,null,null,null,null,null,"453 内陸水運業","業務","45 水運業"]
[null,null,null,null,null,null,null,null,null,null,null,null,null,null,null,null,null,null,null,null,null,null,null,null,null,null,null,null,"454 船舶貸渡業","業務","45 水運業"]
[null,null,null,null,null,null,null,null,null,null,null,null,null,null,null,null,null,null,null,null,null,null,null,null,null,null,null,"46 航空運輸業","460 管理，補助的経済活動を行う事業所（46航空運輸業）","業務","46 航空運輸業"]
[null,null,null,null,null,null,null,null,null,null,null,null,null,null,null,null,null,null,null,null,null,null,null,null,null,null,null,null,"461 航空運送業","業務","46 航空運輸業"]
[null,null,null,null,null,null,null,null,null,null,null,null,null,null,null,null,null,null,null,null,null,null,null,null,null,null,null,null,"462 航空機使用業（航空運送業を除く）","業務","46 航空運輸業"]
[null,null,null,null,null,null,null,null,null,null,null,null,null,null,null,null,null,null,null,null,null,null,null,null,null,null,null,"47 倉庫業","470 管理，補助的経済活動を行う事業所（47倉庫業）","業務","47 倉庫業"]
[null,null,null,null,null,null,null,null,null,null,null,null,null,null,null,null,null,null,null,null,null,null,null,null,null,null,null,null,"471 倉庫業（冷蔵倉庫業を除く）","業務","47 倉庫業"]
[null,null,null,null,null,null,null,null,null,null,null,null,null,null,null,null,null,null,null,null,null,null,null,null,null,null,null,null,"472 冷蔵倉庫業","業務","47 倉庫業"]
[null,null,null,null,null,null,null,null,null,null,null,null,null,null,null,null,null,null,null,null,null,null,null,null,null,null,null,"48 運輸に附帯するサービス業","480 管理，補助的経済活動を行う事業所（48運輸に附帯するサービス業）","業務","48 運輸に附帯するサービス業"]
[null,null,null,null,null,null,null,null,null,null,null,null,null,null,null,null,null,null,null,null,null,null,null,null,null,null,null,null,"481 港湾運送業","業務","48 運輸に附帯するサービス業"]
[null,null,null,null,null,null,null,null,null,null,null,null,null,null,null,null,null,null,null,null,null,null,null,null,null,null,null,null,"482 貨物運送取扱業（集配利用運送業を除く）","業務","48 運輸に附帯するサービス業"]
[null,null,null,null,null,null,null,null,null,null,null,null,null,null,null,null,null,null,null,null,null,null,null,null,null,null,null,null,"483 運送代理店","業務","48 運輸に附帯するサービス業"]
[null,null,null,null,null,null,null,null,null,null,null,null,null,null,null,null,null,null,null,null,null,null,null,null,null,null,null,null,"484 こん包業","業務","48 運輸に附帯するサービス業"]
[null,null,null,null,null,null,null,null,null,null,null,null,null,null,null,null,null,null,null,null,null,null,null,null,null,null,null,null,"485 運輸施設提供業","業務","48 運輸に附帯するサービス業"]
[null,null,null,null,null,null,null,null,null,null,null,null,null,null,null,null,null,null,null,null,null,null,null,null,null,null,null,null,"489 その他の運輸に附帯するサービス業","業務","48 運輸に附帯するサービス業"]
[null,null,null,null,null,null,null,null,null,null,null,null,null,null,null,null,null,null,null,null,null,null,null,null,null,null,null,"49 郵便業（信書便事業を含む）","490 管理，補助的経済活動を行う事業所（49郵便業）","業務","49 郵便業（信書便事業を含む）"]
[null,null,null,null,null,null,null,null,null,null,null,null,null,null,null,null,null,null,null,null,null,null,null,null,null,null,null,null,"491 郵便業（信書便事業を含む）","業務","49 郵便業（信書便事業を含む）"]
[null,null,null,null,null,null,null,null,null,null,null,null,null,null,null,null,null,null,null,null,null,null,null,null,null,null,null,"50 各種商品卸売業","500 管理，補助的経済活動を行う事業所（50各種商品卸売業）","業務","50 各種商品卸売業"]
[null,null,null,null,null,null,null,null,null,null,null,null,null,null,null,null,null,null,null,null,null,null,null,null,null,null,null,null,"501 各種商品卸売業","業務","50 各種商品卸売業"]
[null,null,null,null,null,null,null,null,null,null,null,null,null,null,null,null,null,null,null,null,null,null,null,null,null,null,null,"51 繊維・衣服等卸売業","510 管理，補助的経済活動を行う事業所（51繊維・衣服等卸売業）","業務","51 繊維・衣服等卸売業"]
[null,null,null,null,null,null,null,null,null,null,null,null,null,null,null,null,null,null,null,null,null,null,null,null,null,null,null,null,"511 繊維品卸売業（衣服，身の回り品を除く）","業務","51 繊維・衣服等卸売業"]
[null,null,null,null,null,null,null,null,null,null,null,null,null,null,null,null,null,null,null,null,null,null,null,null,null,null,null,null,"512 衣服卸売業","業務","51 繊維・衣服等卸売業"]
[null,null,null,null,null,null,null,null,null,null,null,null,null,null,null,null,null,null,null,null,null,null,null,null,null,null,null,null,"513 身の回り品卸売業","業務","51 繊維・衣服等卸売業"]
[null,null,null,null,null,null,null,null,null,null,null,null,null,null,null,null,null,null,null,null,null,null,null,null,null,null,null,"52 飲食料品卸売業","520 管理，補助的経済活動を行う事業所（52飲食料品卸売業）","業務","52 飲食料品卸売業"]
[null,null,null,null,null,null,null,null,null,null,null,null,null,null,null,null,null,null,null,null,null,null,null,null,null,null,null,null,"521 農畜産物・水産物卸売業","業務","52 飲食料品卸売業"]
[null,null,null,null,null,null,null,null,null,null,null,null,null,null,null,null,null,null,null,null,null,null,null,null,null,null,null,null,"522 食料・飲料卸売業","業務","52 飲食料品卸売業"]
[null,null,null,null,null,null,null,null,null,null,null,null,null,null,null,null,null,null,null,null,null,null,null,null,null,null,null,"53 建築材料，鉱物・金属材料等卸売業","530 管理，補助的経済活動を行う事業所（53建築材料，鉱物・金属材料等卸売業）","業務","53 建築材料，鉱物・金属材料等卸売業"]
[null,null,null,null,null,null,null,null,null,null,null,null,null,null,null,null,null,null,null,null,null,null,null,null,null,null,null,null,"531 建築材料卸売業","業務","53 建築材料，鉱物・金属材料等卸売業"]
[null,null,null,null,null,null,null,null,null,null,null,null,null,null,null,null,null,null,null,null,null,null,null,null,null,null,null,null,"532 化学製品卸売業","業務","53 建築材料，鉱物・金属材料等卸売業"]
[null,null,null,null,null,null,null,null,null,null,null,null,null,null,null,null,null,null,null,null,null,null,null,null,null,null,null,null,"533 石油・鉱物卸売業","業務","53 建築材料，鉱物・金属材料等卸売業"]
[null,null,null,null,null,null,null,null,null,null,null,null,null,null,null,null,null,null,null,null,null,null,null,null,null,null,null,null,"534 鉄鋼製品卸売業","業務","53 建築材料，鉱物・金属材料等卸売業"]
[null,null,null,null,null,null,null,null,null,null,null,null,null,null,null,null,null,null,null,null,null,null,null,null,null,null,null,null,"535 非鉄金属卸売業","業務","53 建築材料，鉱物・金属材料等卸売業"]
[null,null,null,null,null,null,null,null,null,null,null,null,null,null,null,null,null,null,null,null,null,null,null,null,null,null,null,null,"536 再生資源卸売業","業務","53 建築材料，鉱物・金属材料等卸売業"]
[null,null,null,null,null,null,null,null,null,null,null,null,null,null,null,null,null,null,null,null,null,null,null,null,null,null,null,"54 機械器具卸売業","540 管理，補助的経済活動を行う事業所（54機械器具卸売業）","業務","54 機械器具卸売業"]
[null,null,null,null,null,null,null,null,null,null,null,null,null,null,null,null,null,null,null,null,null,null,null,null,null,null,null,null,"541 産業機械器具卸売業","業務","54 機械器具卸売業"]
[null,null,null,null,null,null,null,null,null,null,null,null,null,null,null,null,null,null,null,null,null,null,null,null,null,null,null,null,"542 自動車卸売業","業務","54 機械器具卸売業"]
[null,null,null,null,null,null,null,null,null,null,null,null,null,null,null,null,null,null,null,null,null,null,null,null,null,null,null,null,"543 電気機械器具卸売業","業務","54 機械器具卸売業"]
[null,null,null,null,null,null,null,null,null,null,null,null,null,null,null,null,null,null,null,null,null,null,null,null,null,null,null,null,"549 その他の機械器具卸売業","業務","54 機械器具卸売業"]
[null,null,null,null,null,null,null,null,null,null,null,null,null,null,null,null,null,null,null,null,null,null,null,null,null,null,null,"55 その他の卸売業","550 管理，補助的経済活動を行う事業所（55その他の卸売業）","業務","55 その他の卸売業"]
[null,null,null,null,null,null,null,null,null,null,null,null,null,null,null,null,null,null,null,null,null,null,null,null,null,null,null,null,"551 家具・建具・じゅう器等卸売業","業務","55 その他の卸売業"]
[null,null,null,null,null,null,null,null,null,null,null,null,null,null,null,null,null,null,null,null,null,null,null,null,null,null,null,null,"552 医薬品・化粧品等卸売業","業務","55 その他の卸売業"]
[null,null,null,null,null,null,null,null,null,null,null,null,null,null,null,null,null,null,null,null,null,null,null,null,null,null,null,null,"553 紙・紙製品卸売業","業務","55 その他の卸売業"]
[null,null,null,null,null,null,null,null,null,null,null,null,null,null,null,null,null,null,null,null,null,null,null,null,null,null,null,null,"559 他に分類されない卸売業","業務","55 その他の卸売業"]
[null,null,null,null,null,null,null,null,null,null,null,null,null,null,null,null,null,null,null,null,null,null,null,null,null,null,null,"56 各種商品小売業","560 管理，補助的経済活動を行う事業所（56各種商品小売業）","業務","56 各種商品小売業"]
[null,null,null,null,null,null,null,null,null,null,null,null,null,null,null,null,null,null,null,null,null,null,null,null,null,null,null,null,"561 百貨店，総合スーパー","業務","56 各種商品小売業"]
[null,null,null,null,null,null,null,null,null,null,null,null,null,null,null,null,null,null,null,null,null,null,null,null,null,null,null,null,"569 その他の各種商品小売業（従業者が常時50人未満のもの）","業務","56 各種商品小売業"]
[null,null,null,null,null,null,null,null,null,null,null,null,null,null,null,null,null,null,null,null,null,null,null,null,null,null,null,"57 織物・衣服・身の回り品小売業","570 管理，補助的経済活動を行う事業所（57織物・衣服・身の回り品小売業）","業務","57 織物・衣服・身の回り品小売業"]
[null,null,null,null,null,null,null,null,null,null,null,null,null,null,null,null,null,null,null,null,null,null,null,null,null,null,null,null,"571 呉服・服地・寝具小売業","業務","57 織物・衣服・身の回り品小売業"]
[null,null,null,null,null,null,null,null,null,null,null,null,null,null,null,null,null,null,null,null,null,null,null,null,null,null,null,null,"572 男子服小売業","業務","57 織物・衣服・身の回り品小売業"]
[null,null,null,null,null,null,null,null,null,null,null,null,null,null,null,null,null,null,null,null,null,null,null,null,null,null,null,null,"573 婦人・子供服小売業","業務","57 織物・衣服・身の回り品小売業"]
[null,null,null,null,null,null,null,null,null,null,null,null,null,null,null,null,null,null,null,null,null,null,null,null,null,null,null,null,"574 靴・履物小売業","業務","57 織物・衣服・身の回り品小売業"]
[null,null,null,null,null,null,null,null,null,null,null,null,null,null,null,null,null,null,null,null,null,null,null,null,null,null,null,null,"579 その他の織物・衣服・身の回り品小売業","業務","57 織物・衣服・身の回り品小売業"]
[null,null,null,null,null,null,null,null,null,null,null,null,null,null,null,null,null,null,null,null,null,null,null,null,null,null,null,"58 飲食料品小売業","580 管理，補助的経済活動を行う事業所（58飲食料品小売業）","業務","58 飲食料品小売業"]
[null,null,null,null,null,null,null,null,null,null,null,null,null,null,null,null,null,null,null,null,null,null,null,null,null,null,null,null,"581 各種食料品小売業","業務","58 飲食料品小売業"]
[null,null,null,null,null,null,null,null,null,null,null,null,null,null,null,null,null,null,null,null,null,null,null,null,null,null,null,null,"582 野菜・果実小売業","業務","58 飲食料品小売業"]
[null,null,null,null,null,null,null,null,null,null,null,null,null,null,null,null,null,null,null,null,null,null,null,null,null,null,null,null,"583 食肉小売業","業務","58 飲食料品小売業"]
[null,null,null,null,null,null,null,null,null,null,null,null,null,null,null,null,null,null,null,null,null,null,null,null,null,null,null,null,"584 鮮魚小売業","業務","58 飲食料品小売業"]
[null,null,null,null,null,null,null,null,null,null,null,null,null,null,null,null,null,null,null,null,null,null,null,null,null,null,null,null,"585 酒小売業","業務","58 飲食料品小売業"]
[null,null,null,null,null,null,null,null,null,null,null,null,null,null,null,null,null,null,null,null,null,null,null,null,null,null,null,null,"586 菓子・パン小売業","業務","58 飲食料品小売業"]
[null,null,null,null,null,null,null,null,null,null,null,null,null,null,null,null,null,null,null,null,null,null,null,null,null,null,null,null,"589 その他の飲食料品小売業","業務","58 飲食料品小売業"]
[null,null,null,null,null,null,null,null,null,null,null,null,null,null,null,null,null,null,null,null,null,null,null,null,null,null,null,"59 機械器具小売業","590 管理，補助的経済活動を行う事業所（59機械器具小売業）","業務","59 機械器具小売業"]
[null,null,null,null,null,null,null,null,null,null,null,null,null,null,null,null,null,null,null,null,null,null,null,null,null,null,null,null,"591 自動車小売業","業務","59 機械器具小売業"]
[null,null,null,null,null,null,null,null,null,null,null,null,null,null,null,null,null,null,null,null,null,null,null,null,null,null,null,null,"592 自転車小売業","業務","59 機械器具小売業"]
[null,null,null,null,null,null,null,null,null,null,null,null,null,null,null,null,null,null,null,null,null,null,null,null,null,null,null,null,"593 機械器具小売業（自動車，自転車を除く）","業務","59 機械器具小売業"]
[null,null,null,null,null,null,null,null,null,null,null,null,null,null,null,null,null,null,null,null,null,null,null,null,null,null,null,"60 その他の小売業","600 管理，補助的経済活動を行う事業所（60その他の小売業）","業務","60 その他の小売業"]
[null,null,null,null,null,null,null,null,null,null,null,null,null,null,null,null,null,null,null,null,null,null,null,null,null,null,null,null,"601 家具・建具・畳小売業","業務","60 その他の小売業"]
[null,null,null,null,null,null,null,null,null,null,null,null,null,null,null,null,null,null,null,null,null,null,null,null,null,null,null,null,"602 じゅう器小売業","業務","60 その他の小売業"]
[null,null,null,null,null,null,null,null,null,null,null,null,null,null,null,null,null,null,null,null,null,null,null,null,null,null,null,null,"603 医薬品・化粧品小売業","業務","60 その他の小売業"]
[null,null,null,null,null,null,null,null,null,null,null,null,null,null,null,null,null,null,null,null,null,null,null,null,null,null,null,null,"604 農耕用品小売業","業務","60 その他の小売業"]
[null,null,null,null,null,null,null,null,null,null,null,null,null,null,null,null,null,null,null,null,null,null,null,null,null,null,null,null,"605 燃料小売業","業務","60 その他の小売業"]
[null,null,null,null,null,null,null,null,null,null,null,null,null,null,null,null,null,null,null,null,null,null,null,null,null,null,null,null,"606 書籍・文房具小売業","業務","60 その他の小売業"]
[null,null,null,null,null,null,null,null,null,null,null,null,null,null,null,null,null,null,null,null,null,null,null,null,null,null,null,null,"607 スポーツ用品・がん具・娯楽用品・楽器小売業","業務","60 その他の小売業"]
[null,null,null,null,null,null,null,null,null,null,null,null,null,null,null,null,null,null,null,null,null,null,null,null,null,null,null,null,"608 写真機・時計・眼鏡小売業","業務","60 その他の小売業"]
[null,null,null,null,null,null,null,null,null,null,null,null,null,null,null,null,null,null,null,null,null,null,null,null,null,null,null,null,"609 他に分類されない小売業","業務","60 その他の小売業"]
[null,null,null,null,null,null,null,null,null,null,null,null,null,null,null,null,null,null,null,null,null,null,null,null,null,null,null,"61 無店舗小売業","610 管理，補助的経済活動を行う事業所（61無店舗小売業）","業務","61 無店舗小売業"]
[null,null,null,null,null,null,null,null,null,null,null,null,null,null,null,null,null,null,null,null,null,null,null,null,null,null,null,null,"611 通信販売・訪問販売小売業","業務","61 無店舗小売業"]
[null,null,null,null,null,null,null,null,null,null,null,null,null,null,null,null,null,null,null,null,null,null,null,null,null,null,null,null,"612 自動販売機による小売業","業務","61 無店舗小売業"]
[null,null,null,null,null,null,null,null,null,null,null,null,null,null,null,null,null,null,null,null,null,null,null,null,null,null,null,null,"619 その他の無店舗小売業","業務","61 無店舗小売業"]
[null,null,null,null,null,null,null,null,null,null,null,null,null,null,null,null,null,null,null,null,null,null,null,null,null,null,null,"62 銀行業","620 管理，補助的経済活動を行う事業所（62銀行業）","業務","62 銀行業"]
[null,null,null,null,null,null,null,null,null,null,null,null,null,null,null,null,null,null,null,null,null,null,null,null,null,null,null,null,"621 中央銀行","業務","62 銀行業"]
[null,null,null,null,null,null,null,null,null,null,null,null,null,null,null,null,null,null,null,null,null,null,null,null,null,null,null,null,"622 銀行（中央銀行を除く）","業務","62 銀行業"]
[null,null,null,null,null,null,null,null,null,null,null,null,null,null,null,null,null,null,null,null,null,null,null,null,null,null,null,"63 協同組織金融業","630 管理，補助的経済活動を行う事業所（63協同組織金融業）","業務","63 協同組織金融業"]
[null,null,null,null,null,null,null,null,null,null,null,null,null,null,null,null,null,null,null,null,null,null,null,null,null,null,null,null,"631 中小企業等金融業","業務","63 協同組織金融業"]
[null,null,null,null,null,null,null,null,null,null,null,null,null,null,null,null,null,null,null,null,null,null,null,null,null,null,null,null,"632 農林水産金融業","業務","63 協同組織金融業"]
[null,null,null,null,null,null,null,null,null,null,null,null,null,null,null,null,null,null,null,null,null,null,null,null,null,null,null,"64 貸金業，クレジットカード業等非預金信用機関","640 管理，補助的経済活動を行う事業所（64貸金業，クレジットカード業等非預金信用機関）","業務","64 貸金業，クレジットカード業等非預金信用機関"]
[null,null,null,null,null,null,null,null,null,null,null,null,null,null,null,null,null,null,null,null,null,null,null,null,null,null,null,null,"641 貸金業","業務","64 貸金業，クレジットカード業等非預金信用機関"]
[null,null,null,null,null,null,null,null,null,null,null,null,null,null,null,null,null,null,null,null,null,null,null,null,null,null,null,null,"642 質屋","業務","64 貸金業，クレジットカード業等非預金信用機関"]
[null,null,null,null,null,null,null,null,null,null,null,null,null,null,null,null,null,null,null,null,null,null,null,null,null,null,null,null,"643 クレジットカード業，割賦金融業","業務","64 貸金業，クレジットカード業等非預金信用機関"]
[null,null,null,null,null,null,null,null,null,null,null,null,null,null,null,null,null,null,null,null,null,null,null,null,null,null,null,null,"649 その他の非預金信用機関","業務","64 貸金業，クレジットカード業等非預金信用機関"]
[null,null,null,null,null,null,null,null,null,null,null,null,null,null,null,null,null,null,null,null,null,null,null,null,null,null,null,"65 金融商品取引業，商品先物取引業","650 管理，補助的経済活動を行う事業所（65金融商品取引業，商品先物取引業）","業務","65 金融商品取引業，商品先物取引業"]
[null,null,null,null,null,null,null,null,null,null,null,null,null,null,null,null,null,null,null,null,null,null,null,null,null,null,null,null,"651 金融商品取引業","業務","65 金融商品取引業，商品先物取引業"]
[null,null,null,null,null,null,null,null,null,null,null,null,null,null,null,null,null,null,null,null,null,null,null,null,null,null,null,null,"652 商品先物取引業，商品投資顧問業","業務","65 金融商品取引業，商品先物取引業"]
[null,null,null,null,null,null,null,null,null,null,null,null,null,null,null,null,null,null,null,null,null,null,null,null,null,null,null,"66 補助的金融業等","660 管理，補助的経済活動を行う事業所（66補助的金融業等）","業務","66 補助的金融業等"]
[null,null,null,null,null,null,null,null,null,null,null,null,null,null,null,null,null,null,null,null,null,null,null,null,null,null,null,null,"661 補助的金融業，金融附帯業","業務","66 補助的金融業等"]
[null,null,null,null,null,null,null,null,null,null,null,null,null,null,null,null,null,null,null,null,null,null,null,null,null,null,null,null,"662 信託業","業務","66 補助的金融業等"]
[null,null,null,null,null,null,null,null,null,null,null,null,null,null,null,null,null,null,null,null,null,null,null,null,null,null,null,null,"663 金融代理業","業務","66 補助的金融業等"]
[null,null,null,null,null,null,null,null,null,null,null,null,null,null,null,null,null,null,null,null,null,null,null,null,null,null,null,"67 保険業（保険媒介代理業，保険サービス業を含む）","670 管理，補助的経済活動を行う事業所（67保険業）","業務","67 保険業（保険媒介代理業，保険サービス業を含む）"]
[null,null,null,null,null,null,null,null,null,null,null,null,null,null,null,null,null,null,null,null,null,null,null,null,null,null,null,null,"671 生命保険業","業務","67 保険業（保険媒介代理業，保険サービス業を含む）"]
[null,null,null,null,null,null,null,null,null,null,null,null,null,null,null,null,null,null,null,null,null,null,null,null,null,null,null,null,"672 損害保険業","業務","67 保険業（保険媒介代理業，保険サービス業を含む）"]
[null,null,null,null,null,null,null,null,null,null,null,null,null,null,null,null,null,null,null,null,null,null,null,null,null,null,null,null,"673 共済事業，少額短期保険業","業務","67 保険業（保険媒介代理業，保険サービス業を含む）"]
[null,null,null,null,null,null,null,null,null,null,null,null,null,null,null,null,null,null,null,null,null,null,null,null,null,null,null,null,"674 保険媒介代理業","業務","67 保険業（保険媒介代理業，保険サービス業を含む）"]
[null,null,null,null,null,null,null,null,null,null,null,null,null,null,null,null,null,null,null,null,null,null,null,null,null,null,null,null,"675 保険サービス業","業務","67 保険業（保険媒介代理業，保険サービス業を含む）"]
[null,null,null,null,null,null,null,null,null,null,null,null,null,null,null,null,null,null,null,null,null,null,null,null,null,null,null,"68 不動産取引業","680 管理，補助的経済活動を行う事業所（68不動産取引業）","業務","68 不動産取引業"]
[null,null,null,null,null,null,null,null,null,null,null,null,null,null,null,null,null,null,null,null,null,null,null,null,null,null,null,null,"681 建物売買業，土地売買業","業務","68 不動産取引業"]
[null,null,null,null,null,null,null,null,null,null,null,null,null,null,null,null,null,null,null,null,null,null,null,null,null,null,null,null,"682 不動産代理業・仲介業","業務","68 不動産取引業"]
[null,null,null,null,null,null,null,null,null,null,null,null,null,null,null,null,null,null,null,null,null,null,null,null,null,null,null,"69 不動産賃貸業・管理業","690 管理，補助的経済活動を行う事業所（69不動産賃貸業・管理業）","業務","69 不動産賃貸業・管理業"]
[null,null,null,null,null,null,null,null,null,null,null,null,null,null,null,null,null,null,null,null,null,null,null,null,null,null,null,null,"691 不動産賃貸業（貸家業，貸間業を除く）","業務","69 不動産賃貸業・管理業"]
[null,null,null,null,null,null,null,null,null,null,null,null,null,null,null,null,null,null,null,null,null,null,null,null,null,null,null,null,"692 貸家業，貸間業","業務","69 不動産賃貸業・管理業"]
[null,null,null,null,null,null,null,null,null,null,null,null,null,null,null,null,null,null,null,null,null,null,null,null,null,null,null,null,"693 駐車場業","業務","69 不動産賃貸業・管理業"]
[null,null,null,null,null,null,null,null,null,null,null,null,null,null,null,null,null,null,null,null,null,null,null,null,null,null,null,null,"694 不動産管理業","業務","69 不動産賃貸業・管理業"]
[null,null,null,null,null,null,null,null,null,null,null,null,null,null,null,null,null,null,null,null,null,null,null,null,null,null,null,"70 物品賃貸業","700 管理，補助的経済活動を行う事業所（70物品賃貸業）","業務","70 物品賃貸業"]
[null,null,null,null,null,null,null,null,null,null,null,null,null,null,null,null,null,null,null,null,null,null,null,null,null,null,null,null,"701 各種物品賃貸業","業務","70 物品賃貸業"]
[null,null,null,null,null,null,null,null,null,null,null,null,null,null,null,null,null,null,null,null,null,null,null,null,null,null,null,null,"702 産業用機械器具賃貸業","業務","70 物品賃貸業"]
[null,null,null,null,null,null,null,null,null,null,null,null,null,null,null,null,null,null,null,null,null,null,null,null,null,null,null,null,"703 事務用機械器具賃貸業","業務","70 物品賃貸業"]
[null,null,null,null,null,null,null,null,null,null,null,null,null,null,null,null,null,null,null,null,null,null,null,null,null,null,null,null,"704 自動車賃貸業","業務","70 物品賃貸業"]
[null,null,null,null,null,null,null,null,null,null,null,null,null,null,null,null,null,null,null,null,null,null,null,null,null,null,null,null,"705 スポーツ・娯楽用品賃貸業","業務","70 物品賃貸業"]
[null,null,null,null,null,null,null,null,null,null,null,null,null,null,null,null,null,null,null,null,null,null,null,null,null,null,null,null,"709 その他の物品賃貸業","業務","70 物品賃貸業"]
[null,null,null,null,null,null,null,null,null,null,null,null,null,null,null,null,null,null,null,null,null,null,null,null,null,null,null,"71 学術・開発研究機関","710 管理，補助的経済活動を行う事業所（71学術・開発研究機関）","業務","71 学術・開発研究機関"]
[null,null,null,null,null,null,null,null,null,null,null,null,null,null,null,null,null,null,null,null,null,null,null,null,null,null,null,null,"711 自然科学研究所","業務","71 学術・開発研究機関"]
[null,null,null,null,null,null,null,null,null,null,null,null,null,null,null,null,null,null,null,null,null,null,null,null,null,null,null,null,"712 人文・社会科学研究所","業務","71 学術・開発研究機関"]
[null,null,null,null,null,null,null,null,null,null,null,null,null,null,null,null,null,null,null,null,null,null,null,null,null,null,null,"72 専門サービス業（他に分類されないもの）","720 管理，補助的経済活動を行う事業所（72専門サービス業）","業務","72 専門サービス業（他に分類されないもの）"]
[null,null,null,null,null,null,null,null,null,null,null,null,null,null,null,null,null,null,null,null,null,null,null,null,null,null,null,null,"721 法律事務所，特許事務所","業務","72 専門サービス業（他に分類されないもの）"]
[null,null,null,null,null,null,null,null,null,null,null,null,null,null,null,null,null,null,null,null,null,null,null,null,null,null,null,null,"722 公証人役場，司法書士事務所，土地家屋調査士事務所","業務","72 専門サービス業（他に分類されないもの）"]
[null,null,null,null,null,null,null,null,null,null,null,null,null,null,null,null,null,null,null,null,null,null,null,null,null,null,null,null,"723 行政書士事務所","業務","72 専門サービス業（他に分類されないもの）"]
[null,null,null,null,null,null,null,null,null,null,null,null,null,null,null,null,null,null,null,null,null,null,null,null,null,null,null,null,"724 公認会計士事務所，税理士事務所","業務","72 専門サービス業（他に分類されないもの）"]
[null,null,null,null,null,null,null,null,null,null,null,null,null,null,null,null,null,null,null,null,null,null,null,null,null,null,null,null,"725 社会保険労務士事務所","業務","72 専門サービス業（他に分類されないもの）"]
[null,null,null,null,null,null,null,null,null,null,null,null,null,null,null,null,null,null,null,null,null,null,null,null,null,null,null,null,"726 デザイン業","業務","72 専門サービス業（他に分類されないもの）"]
[null,null,null,null,null,null,null,null,null,null,null,null,null,null,null,null,null,null,null,null,null,null,null,null,null,null,null,null,"727 著述・芸術家業","業務","72 専門サービス業（他に分類されないもの）"]
[null,null,null,null,null,null,null,null,null,null,null,null,null,null,null,null,null,null,null,null,null,null,null,null,null,null,null,null,"728 経営コンサルタント業，純粋持株会社","業務","72 専門サービス業（他に分類されないもの）"]
[null,null,null,null,null,null,null,null,null,null,null,null,null,null,null,null,null,null,null,null,null,null,null,null,null,null,null,null,"729 その他の専門サービス業","業務","72 専門サービス業（他に分類されないもの）"]
[null,null,null,null,null,null,null,null,null,null,null,null,null,null,null,null,null,null,null,null,null,null,null,null,null,null,null,"73 広告業","730 管理，補助的経済活動を行う事業所（73広告業）","業務","73 広告業"]
[null,null,null,null,null,null,null,null,null,null,null,null,null,null,null,null,null,null,null,null,null,null,null,null,null,null,null,null,"731 広告業","業務","73 広告業"]
[null,null,null,null,null,null,null,null,null,null,null,null,null,null,null,null,null,null,null,null,null,null,null,null,null,null,null,"74 技術サービス業（他に分類されないもの）","740 管理，補助的経済活動を行う事業所（74技術サービス業）","業務","74 技術サービス業（他に分類されないもの）"]
[null,null,null,null,null,null,null,null,null,null,null,null,null,null,null,null,null,null,null,null,null,null,null,null,null,null,null,null,"741 獣医業","業務","74 技術サービス業（他に分類されないもの）"]
[null,null,null,null,null,null,null,null,null,null,null,null,null,null,null,null,null,null,null,null,null,null,null,null,null,null,null,null,"742 土木建築サービス業","業務","74 技術サービス業（他に分類されないもの）"]
[null,null,null,null,null,null,null,null,null,null,null,null,null,null,null,null,null,null,null,null,null,null,null,null,null,null,null,null,"743 機械設計業","業務","74 技術サービス業（他に分類されないもの）"]
[null,null,null,null,null,null,null,null,null,null,null,null,null,null,null,null,null,null,null,null,null,null,null,null,null,null,null,null,"744 商品・非破壊検査業","業務","74 技術サービス業（他に分類されないもの）"]
[null,null,null,null,null,null,null,null,null,null,null,null,null,null,null,null,null,null,null,null,null,null,null,null,null,null,null,null,"745 計量証明業","業務","74 技術サービス業（他に分類されないもの）"]
[null,null,null,null,null,null,null,null,null,null,null,null,null,null,null,null,null,null,null,null,null,null,null,null,null,null,null,null,"746 写真業","業務","74 技術サービス業（他に分類されないもの）"]
[null,null,null,null,null,null,null,null,null,null,null,null,null,null,null,null,null,null,null,null,null,null,null,null,null,null,null,null,"749 その他の技術サービス業","業務","74 技術サービス業（他に分類されないもの）"]
[null,null,null,null,null,null,null,null,null,null,null,null,null,null,null,null,null,null,null,null,null,null,null,null,null,null,null,"75 宿泊業","750 管理，補助的経済活動を行う事業所（75宿泊業）","業務","75 宿泊業"]
[null,null,null,null,null,null,null,null,null,null,null,null,null,null,null,null,null,null,null,null,null,null,null,null,null,null,null,null,"751 旅館，ホテル","業務","75 宿泊業"]
[null,null,null,null,null,null,null,null,null,null,null,null,null,null,null,null,null,null,null,null,null,null,null,null,null,null,null,null,"752 簡易宿所","業務","75 宿泊業"]
[null,null,null,null,null,null,null,null,null,null,null,null,null,null,null,null,null,null,null,null,null,null,null,null,null,null,null,null,"753 下宿業","業務","75 宿泊業"]
[null,null,null,null,null,null,null,null,null,null,null,null,null,null,null,null,null,null,null,null,null,null,null,null,null,null,null,null,"759 その他の宿泊業","業務","75 宿泊業"]
[null,null,null,null,null,null,null,null,null,null,null,null,null,null,null,null,null,null,null,null,null,null,null,null,null,null,null,"76 飲食店","760 管理，補助的経済活動を行う事業所（76飲食店）","業務","76 飲食店"]
[null,null,null,null,null,null,null,null,null,null,null,null,null,null,null,null,null,null,null,null,null,null,null,null,null,null,null,null,"761 食堂，レストラン（専門料理店を除く）","業務","76 飲食店"]
[null,null,null,null,null,null,null,null,null,null,null,null,null,null,null,null,null,null,null,null,null,null,null,null,null,null,null,null,"762 専門料理店","業務","76 飲食店"]
[null,null,null,null,null,null,null,null,null,null,null,null,null,null,null,null,null,null,null,null,null,null,null,null,null,null,null,null,"763 そば・うどん店","業務","76 飲食店"]
[null,null,null,null,null,null,null,null,null,null,null,null,null,null,null,null,null,null,null,null,null,null,null,null,null,null,null,null,"764 すし店","業務","76 飲食店"]
[null,null,null,null,null,null,null,null,null,null,null,null,null,null,null,null,null,null,null,null,null,null,null,null,null,null,null,null,"765 酒場，ビヤホール","業務","76 飲食店"]
[null,null,null,null,null,null,null,null,null,null,null,null,null,null,null,null,null,null,null,null,null,null,null,null,null,null,null,null,"766 バー，キャバレー，ナイトクラブ","業務","76 飲食店"]
[null,null,null,null,null,null,null,null,null,null,null,null,null,null,null,null,null,null,null,null,null,null,null,null,null,null,null,null,"767 喫茶店","業務","76 飲食店"]
[null,null,null,null,null,null,null,null,null,null,null,null,null,null,null,null,null,null,null,null,null,null,null,null,null,null,null,null,"769 その他の飲食店","業務","76 飲食店"]
[null,null,null,null,null,null,null,null,null,null,null,null,null,null,null,null,null,null,null,null,null,null,null,null,null,null,null,"77 持ち帰り・配達飲食サービス業","770 管理，補助的経済活動を行う事業所（77持ち帰り・配達飲食サービス業）","業務","77 持ち帰り・配達飲食サービス業"]
[null,null,null,null,null,null,null,null,null,null,null,null,null,null,null,null,null,null,null,null,null,null,null,null,null,null,null,null,"771 持ち帰り飲食サービス業","業務","77 持ち帰り・配達飲食サービス業"]
[null,null,null,null,null,null,null,null,null,null,null,null,null,null,null,null,null,null,null,null,null,null,null,null,null,null,null,null,"772 配達飲食サービス業","業務","77 持ち帰り・配達飲食サービス業"]
[null,null,null,null,null,null,null,null,null,null,null,null,null,null,null,null,null,null,null,null,null,null,null,null,null,null,null,"78 洗濯・理容・美容・浴場業","780 管理，補助的経済活動を行う事業所（78洗濯・理容・美容・浴場業）","業務","78 洗濯・理容・美容・浴場業"]
[null,null,null,null,null,null,null,null,null,null,null,null,null,null,null,null,null,null,null,null,null,null,null,null,null,null,null,null,"781 洗濯業","業務","78 洗濯・理容・美容・浴場業"]
[null,null,null,null,null,null,null,null,null,null,null,null,null,null,null,null,null,null,null,null,null,null,null,null,null,null,null,null,"782 理容業","業務","78 洗濯・理容・美容・浴場業"]
[null,null,null,null,null,null,null,null,null,null,null,null,null,null,null,null,null,null,null,null,null,null,null,null,null,null,null,null,"783 美容業","業務","78 洗濯・理容・美容・浴場業"]
[null,null,null,null,null,null,null,null,null,null,null,null,null,null,null,null,null,null,null,null,null,null,null,null,null,null,null,null,"784 一般公衆浴場業","業務","78 洗濯・理容・美容・浴場業"]
[null,null,null,null,null,null,null,null,null,null,null,null,null,null,null,null,null,null,null,null,null,null,null,null,null,null,null,null,"785 その他の公衆浴場業","業務","78 洗濯・理容・美容・浴場業"]
[null,null,null,null,null,null,null,null,null,null,null,null,null,null,null,null,null,null,null,null,null,null,null,null,null,null,null,null,"789 その他の洗濯・理容・美容・浴場業","業務","78 洗濯・理容・美容・浴場業"]
[null,null,null,null,null,null,null,null,null,null,null,null,null,null,null,null,null,null,null,null,null,null,null,null,null,null,null,"79 その他の生活関連サービス業","790 管理，補助的経済活動を行う事業所（79その他の生活関連サービス業）","業務","79 その他の生活関連サービス業"]
[null,null,null,null,null,null,null,null,null,null,null,null,null,null,null,null,null,null,null,null,null,null,null,null,null,null,null,null,"791 旅行業","業務","79 その他の生活関連サービス業"]
[null,null,null,null,null,null,null,null,null,null,null,null,null,null,null,null,null,null,null,null,null,null,null,null,null,null,null,null,"792 家事サービス業","業務","79 その他の生活関連サービス業"]
[null,null,null,null,null,null,null,null,null,null,null,null,null,null,null,null,null,null,null,null,null,null,null,null,null,null,null,null,"793 衣服裁縫修理業","業務","79 その他の生活関連サービス業"]
[null,null,null,null,null,null,null,null,null,null,null,null,null,null,null,null,null,null,null,null,null,null,null,null,null,null,null,null,"794 物品預り業","業務","79 その他の生活関連サービス業"]
[null,null,null,null,null,null,null,null,null,null,null,null,null,null,null,null,null,null,null,null,null,null,null,null,null,null,null,null,"795 火葬・墓地管理業","業務","79 その他の生活関連サービス業"]
[null,null,null,null,null,null,null,null,null,null,null,null,null,null,null,null,null,null,null,null,null,null,null,null,null,null,null,null,"796 冠婚葬祭業","業務","79 その他の生活関連サービス業"]
[null,null,null,null,null,null,null,null,null,null,null,null,null,null,null,null,null,null,null,null,null,null,null,null,null,null,null,null,"799 他に分類されない生活関連サービス業","業務","79 その他の生活関連サービス業"]
[null,null,null,null,null,null,null,null,null,null,null,null,null,null,null,null,null,null,null,null,null,null,null,null,null,null,null,"80 娯楽業","800 管理，補助的経済活動を行う事業所（80娯楽業）","業務","80 娯楽業"]
[null,null,null,null,null,null,null,null,null,null,null,null,null,null,null,null,null,null,null,null,null,null,null,null,null,null,null,null,"801 映画館","業務","80 娯楽業"]
[null,null,null,null,null,null,null,null,null,null,null,null,null,null,null,null,null,null,null,null,null,null,null,null,null,null,null,null,"802 興行場（別掲を除く），興行団","業務","80 娯楽業"]
[null,null,null,null,null,null,null,null,null,null,null,null,null,null,null,null,null,null,null,null,null,null,null,null,null,null,null,null,"803 競輪・競馬等の競走場，競技団","業務","80 娯楽業"]
[null,null,null,null,null,null,null,null,null,null,null,null,null,null,null,null,null,null,null,null,null,null,null,null,null,null,null,null,"804 スポーツ施設提供業","業務","80 娯楽業"]
[null,null,null,null,null,null,null,null,null,null,null,null,null,null,null,null,null,null,null,null,null,null,null,null,null,null,null,null,"805 公園，遊園地","業務","80 娯楽業"]
[null,null,null,null,null,null,null,null,null,null,null,null,null,null,null,null,null,null,null,null,null,null,null,null,null,null,null,null,"806 遊戯場","業務","80 娯楽業"]
[null,null,null,null,null,null,null,null,null,null,null,null,null,null,null,null,null,null,null,null,null,null,null,null,null,null,null,null,"809 その他の娯楽業","業務","80 娯楽業"]
[null,null,null,null,null,null,null,null,null,null,null,null,null,null,null,null,null,null,null,null,null,null,null,null,null,null,null,"81 学校教育","810 管理，補助的経済活動を行う事業所（81学校教育）","業務","81 学校教育"]
[null,null,null,null,null,null,null,null,null,null,null,null,null,null,null,null,null,null,null,null,null,null,null,null,null,null,null,null,"811 幼稚園","業務","81 学校教育"]
[null,null,null,null,null,null,null,null,null,null,null,null,null,null,null,null,null,null,null,null,null,null,null,null,null,null,null,null,"812 小学校","業務","81 学校教育"]
[null,null,null,null,null,null,null,null,null,null,null,null,null,null,null,null,null,null,null,null,null,null,null,null,null,null,null,null,"813 中学校","業務","81 学校教育"]
[null,null,null,null,null,null,null,null,null,null,null,null,null,null,null,null,null,null,null,null,null,null,null,null,null,null,null,null,"814 高等学校，中等教育学校","業務","81 学校教育"]
[null,null,null,null,null,null,null,null,null,null,null,null,null,null,null,null,null,null,null,null,null,null,null,null,null,null,null,null,"815 特別支援学校","業務","81 学校教育"]
[null,null,null,null,null,null,null,null,null,null,null,null,null,null,null,null,null,null,null,null,null,null,null,null,null,null,null,null,"816 高等教育機関","業務","81 学校教育"]
[null,null,null,null,null,null,null,null,null,null,null,null,null,null,null,null,null,null,null,null,null,null,null,null,null,null,null,null,"817 専修学校，各種学校","業務","81 学校教育"]
[null,null,null,null,null,null,null,null,null,null,null,null,null,null,null,null,null,null,null,null,null,null,null,null,null,null,null,null,"818 学校教育支援機関","業務","81 学校教育"]
[null,null,null,null,null,null,null,null,null,null,null,null,null,null,null,null,null,null,null,null,null,null,null,null,null,null,null,null,"819 幼保連携型認定こども園","業務","81 学校教育"]
[null,null,null,null,null,null,null,null,null,null,null,null,null,null,null,null,null,null,null,null,null,null,null,null,null,null,null,"82 その他の教育，学習支援業","820 管理，補助的経済活動を行う事業所（82その他の教育，学習支援業）","業務","82 その他の教育，学習支援業"]
[null,null,null,null,null,null,null,null,null,null,null,null,null,null,null,null,null,null,null,null,null,null,null,null,null,null,null,null,"821 社会教育","業務","82 その他の教育，学習支援業"]
[null,null,null,null,null,null,null,null,null,null,null,null,null,null,null,null,null,null,null,null,null,null,null,null,null,null,null,null,"822 職業・教育支援施設","業務","82 その他の教育，学習支援業"]
[null,null,null,null,null,null,null,null,null,null,null,null,null,null,null,null,null,null,null,null,null,null,null,null,null,null,null,null,"823 学習塾","業務","82 その他の教育，学習支援業"]
[null,null,null,null,null,null,null,null,null,null,null,null,null,null,null,null,null,null,null,null,null,null,null,null,null,null,null,null,"824 教養・技能教授業","業務","82 その他の教育，学習支援業"]
[null,null,null,null,null,null,null,null,null,null,null,null,null,null,null,null,null,null,null,null,null,null,null,null,null,null,null,null,"829 他に分類されない教育，学習支援業","業務","82 その他の教育，学習支援業"]
[null,null,null,null,null,null,null,null,null,null,null,null,null,null,null,null,null,null,null,null,null,null,null,null,null,null,null,"83 医療業","830 管理，補助的経済活動を行う事業所（83医療業）","業務","83 医療業"]
[null,null,null,null,null,null,null,null,null,null,null,null,null,null,null,null,null,null,null,null,null,null,null,null,null,null,null,null,"831 病院","業務","83 医療業"]
[null,null,null,null,null,null,null,null,null,null,null,null,null,null,null,null,null,null,null,null,null,null,null,null,null,null,null,null,"832 一般診療所","業務","83 医療業"]
[null,null,null,null,null,null,null,null,null,null,null,null,null,null,null,null,null,null,null,null,null,null,null,null,null,null,null,null,"833 歯科診療所","業務","83 医療業"]
[null,null,null,null,null,null,null,null,null,null,null,null,null,null,null,null,null,null,null,null,null,null,null,null,null,null,null,null,"834 助産・看護業","業務","83 医療業"]
[null,null,null,null,null,null,null,null,null,null,null,null,null,null,null,null,null,null,null,null,null,null,null,null,null,null,null,null,"835 療術業","業務","83 医療業"]
[null,null,null,null,null,null,null,null,null,null,null,null,null,null,null,null,null,null,null,null,null,null,null,null,null,null,null,null,"836 医療に附帯するサービス業","業務","83 医療業"]
[null,null,null,null,null,null,null,null,null,null,null,null,null,null,null,null,null,null,null,null,null,null,null,null,null,null,null,"84 保健衛生","840 管理，補助的経済活動を行う事業所（84保健衛生）","業務","84 保健衛生"]
[null,null,null,null,null,null,null,null,null,null,null,null,null,null,null,null,null,null,null,null,null,null,null,null,null,null,null,null,"841 保健所","業務","84 保健衛生"]
[null,null,null,null,null,null,null,null,null,null,null,null,null,null,null,null,null,null,null,null,null,null,null,null,null,null,null,null,"842 健康相談施設","業務","84 保健衛生"]
[null,null,null,null,null,null,null,null,null,null,null,null,null,null,null,null,null,null,null,null,null,null,null,null,null,null,null,null,"849 その他の保健衛生","業務","84 保健衛生"]
[null,null,null,null,null,null,null,null,null,null,null,null,null,null,null,null,null,null,null,null,null,null,null,null,null,null,null,"85 社会保険・社会福祉・介護事業","850 管理，補助的経済活動を行う事業所（85社会保険・社会福祉・介護事業）","業務","85 社会保険・社会福祉・介護事業"]
[null,null,null,null,null,null,null,null,null,null,null,null,null,null,null,null,null,null,null,null,null,null,null,null,null,null,null,null,"851 社会保険事業団体","業務","85 社会保険・社会福祉・介護事業"]
[null,null,null,null,null,null,null,null,null,null,null,null,null,null,null,null,null,null,null,null,null,null,null,null,null,null,null,null,"852 福祉事務所","業務","85 社会保険・社会福祉・介護事業"]
[null,null,null,null,null,null,null,null,null,null,null,null,null,null,null,null,null,null,null,null,null,null,null,null,null,null,null,null,"853 児童福祉事業","業務","85 社会保険・社会福祉・介護事業"]
[null,null,null,null,null,null,null,null,null,null,null,null,null,null,null,null,null,null,null,null,null,null,null,null,null,null,null,null,"854 老人福祉・介護事業","業務","85 社会保険・社会福祉・介護事業"]
[null,null,null,null,null,null,null,null,null,null,null,null,null,null,null,null,null,null,null,null,null,null,null,null,null,null,null,null,"855 障害者福祉事業","業務","85 社会保険・社会福祉・介護事業"]
[null,null,null,null,null,null,null,null,null,null,null,null,null,null,null,null,null,null,null,null,null,null,null,null,null,null,null,null,"859 その他の社会保険・社会福祉・介護事業","業務","85 社会保険・社会福祉・介護事業"]
[null,null,null,null,null,null,null,null,null,null,null,null,null,null,null,null,null,null,null,null,null,null,null,null,null,null,null,"86 郵便局","860 管理，補助的経済活動を行う事業所（86郵便局）","業務","86 郵便局"]
[null,null,null,null,null,null,null,null,null,null,null,null,null,null,null,null,null,null,null,null,null,null,null,null,null,null,null,null,"861 郵便局","業務","86 郵便局"]
[null,null,null,null,null,null,null,null,null,null,null,null,null,null,null,null,null,null,null,null,null,null,null,null,null,null,null,null,"862 郵便局受託業","業務","86 郵便局"]
[null,null,null,null,null,null,null,null,null,null,null,null,null,null,null,null,null,null,null,null,null,null,null,null,null,null,null,"87 協同組合（他に分類されないもの）","870 管理，補助的経済活動を行う事業所（87協同組合）","業務","87 協同組合（他に分類されないもの）"]
[null,null,null,null,null,null,null,null,null,null,null,null,null,null,null,null,null,null,null,null,null,null,null,null,null,null,null,null,"871 農林水産業協同組合（他に分類されないもの）","業務","87 協同組合（他に分類されないもの）"]
[null,null,null,null,null,null,null,null,null,null,null,null,null,null,null,null,null,null,null,null,null,null,null,null,null,null,null,null,"872 事業協同組合（他に分類されないもの）","業務","87 協同組合（他に分類されないもの）"]
[null,null,null,null,null,null,null,null,null,null,null,null,null,null,null,null,null,null,null,null,null,null,null,null,null,null,null,"88 廃棄物処理業","880 管理，補助的経済活動を行う事業所（88廃棄物処理業）","業務","88 廃棄物処理業"]
[null,null,null,null,null,null,null,null,null,null,null,null,null,null,null,null,null,null,null,null,null,null,null,null,null,null,null,null,"881 一般廃棄物処理業","業務","88 廃棄物処理業"]
[null,null,null,null,null,null,null,null,null,null,null,null,null,null,null,null,null,null,null,null,null,null,null,null,null,null,null,null,"882 産業廃棄物処理業","業務","88 廃棄物処理業"]
[null,null,null,null,null,null,null,null,null,null,null,null,null,null,null,null,null,null,null,null,null,null,null,null,null,null,null,null,"889 その他の廃棄物処理業","業務","88 廃棄物処理業"]
[null,null,null,null,null,null,null,null,null,null,null,null,null,null,null,null,null,null,null,null,null,null,null,null,null,null,null,"89 自動車整備業","890 管理，補助的経済活動を行う事業所（89自動車整備業）","業務","89 自動車整備業"]
[null,null,null,null,null,null,null,null,null,null,null,null,null,null,null,null,null,null,null,null,null,null,null,null,null,null,null,null,"891 自動車整備業","業務","89 自動車整備業"]
[null,null,null,null,null,null,null,null,null,null,null,null,null,null,null,null,null,null,null,null,null,null,null,null,null,null,null,"90 機械等修理業（別掲を除く）","900 管理，補助的経済活動を行う事業所（90機械等修理業）","業務","90 機械等修理業（別掲を除く）"]
[null,null,null,null,null,null,null,null,null,null,null,null,null,null,null,null,null,null,null,null,null,null,null,null,null,null,null,null,"901 機械修理業（電気機械器具を除く）","業務","90 機械等修理業（別掲を除く）"]
[null,null,null,null,null,null,null,null,null,null,null,null,null,null,null,null,null,null,null,null,null,null,null,null,null,null,null,null,"902 電気機械器具修理業","業務","90 機械等修理業（別掲を除く）"]
[null,null,null,null,null,null,null,null,null,null,null,null,null,null,null,null,null,null,null,null,null,null,null,null,null,null,null,null,"903 表具業","業務","90 機械等修理業（別掲を除く）"]
[null,null,null,null,null,null,null,null,null,null,null,null,null,null,null,null,null,null,null,null,null,null,null,null,null,null,null,null,"909 その他の修理業","業務","90 機械等修理業（別掲を除く）"]
[null,null,null,null,null,null,null,null,null,null,null,null,null,null,null,null,null,null,null,null,null,null,null,null,null,null,null,"91 職業紹介・労働者派遣業","910 管理，補助的経済活動を行う事業所（91職業紹介・労働者派遣業）","業務","91 職業紹介・労働者派遣業"]
[null,null,null,null,null,null,null,null,null,null,null,null,null,null,null,null,null,null,null,null,null,null,null,null,null,null,null,null,"911 職業紹介業","業務","91 職業紹介・労働者派遣業"]
[null,null,null,null,null,null,null,null,null,null,null,null,null,null,null,null,null,null,null,null,null,null,null,null,null,null,null,null,"912 労働者派遣業","業務","91 職業紹介・労働者派遣業"]
[null,null,null,null,null,null,null,null,null,null,null,null,null,null,null,null,null,null,null,null,null,null,null,null,null,null,null,"92 その他の事業サービス業","920 管理，補助的経済活動を行う事業所（92その他の事業サービス業）","業務","92 その他の事業サービス業"]
[null,null,null,null,null,null,null,null,null,null,null,null,null,null,null,null,null,null,null,null,null,null,null,null,null,null,null,null,"921 速記・ワープロ入力・複写業","業務","92 その他の事業サービス業"]
[null,null,null,null,null,null,null,null,null,null,null,null,null,null,null,null,null,null,null,null,null,null,null,null,null,null,null,null,"922 建物サービス業","業務","92 その他の事業サービス業"]
[null,null,null,null,null,null,null,null,null,null,null,null,null,null,null,null,null,null,null,null,null,null,null,null,null,null,null,null,"923 警備業","業務","92 その他の事業サービス業"]
[null,null,null,null,null,null,null,null,null,null,null,null,null,null,null,null,null,null,null,null,null,null,null,null,null,null,null,null,"929 他に分類されない事業サービス業","業務","92 その他の事業サービス業"]
[null,null,null,null,null,null,null,null,null,null,null,null,null,null,null,null,null,null,null,null,null,null,null,null,null,null,null,"93 政治・経済・文化団体","931 経済団体","業務","93 政治・経済・文化団体"]
[null,null,null,null,null,null,null,null,null,null,null,null,null,null,null,null,null,null,null,null,null,null,null,null,null,null,null,null,"932 労働団体","業務","93 政治・経済・文化団体"]
[null,null,null,null,null,null,null,null,null,null,null,null,null,null,null,null,null,null,null,null,null,null,null,null,null,null,null,null,"933 学術・文化団体","業務","93 政治・経済・文化団体"]
[null,null,null,null,null,null,null,null,null,null,null,null,null,null,null,null,null,null,null,null,null,null,null,null,null,null,null,null,"934 政治団体","業務","93 政治・経済・文化団体"]
[null,null,null,null,null,null,null,null,null,null,null,null,null,null,null,null,null,null,null,null,null,null,null,null,null,null,null,null,"939 他に分類されない非営利的団体","業務","93 政治・経済・文化団体"]
[null,null,null,null,null,null,null,null,null,null,null,null,null,null,null,null,null,null,null,null,null,null,null,null,null,null,null,"94 宗教","941 神道系宗教","業務","94 宗教"]
[null,null,null,null,null,null,null,null,null,null,null,null,null,null,null,null,null,null,null,null,null,null,null,null,null,null,null,null,"942 仏教系宗教","業務","94 宗教"]
[null,null,null,null,null,null,null,null,null,null,null,null,null,null,null,null,null,null,null,null,null,null,null,null,null,null,null,null,"943 キリスト教系宗教","業務","94 宗教"]
[null,null,null,null,null,null,null,null,null,null,null,null,null,null,null,null,null,null,null,null,null,null,null,null,null,null,null,null,"949 その他の宗教","業務","94 宗教"]
[null,null,null,null,null,null,null,null,null,null,null,null,null,null,null,null,null,null,null,null,null,null,null,null,null,null,null,"95 その他のサービス業","950 管理，補助的経済活動を行う事業所（95その他のサービス業）","業務","95 その他のサービス業"]
[null,null,null,null,null,null,null,null,null,null,null,null,null,null,null,null,null,null,null,null,null,null,null,null,null,null,null,null,"951 集会場","業務","95 その他のサービス業"]
[null,null,null,null,null,null,null,null,null,null,null,null,null,null,null,null,null,null,null,null,null,null,null,null,null,null,null,null,"952 と畜場","業務","95 その他のサービス業"]
[null,null,null,null,null,null,null,null,null,null,null,null,null,null,null,null,null,null,null,null,null,null,null,null,null,null,null,null,"959 他に分類されないサービス業","業務","95 その他のサービス業"]
[null,null,null,null,null,null,null,null,null,null,null,null,null,null,null,null,null,null,null,null,null,null,null,null,null,null,null,"96 外国公務","961 外国公館","業務","96 外国公務"]
[null,null,null,null,null,null,null,null,null,null,null,null,null,null,null,null,null,null,null,null,null,null,null,null,null,null,null,null,"969 その他の外国公務","業務","96 外国公務"]
[null,null,null,null,null,null,null,null,null,null,null,null,null,null,null,null,null,null,null,null,null,null,null,null,null,null,null,"97 国家公務","971 立法機関","業務","97 国家公務"]
[null,null,null,null,null,null,null,null,null,null,null,null,null,null,null,null,null,null,null,null,null,null,null,null,null,null,null,null,"972 司法機関","業務","97 国家公務"]
[null,null,null,null,null,null,null,null,null,null,null,null,null,null,null,null,null,null,null,null,null,null,null,null,null,null,null,null,"973 行政機関","業務","97 国家公務"]
[null,null,null,null,null,null,null,null,null,null,null,null,null,null,null,null,null,null,null,null,null,null,null,null,null,null,null,"98 地方公務","981 都道府県機関","業務","98 地方公務"]
[null,null,null,null,null,null,null,null,null,null,null,null,null,null,null,null,null,null,null,null,null,null,null,null,null,null,null,null,"982 市町村機関","業務","98 地方公務"]
[null,null,null,null,null,null,null,null,null,null,null,null,null,null,null,null,null,null,null,null,null,null,null,null,null,null,null,"99 分類不能の産業","999 分類不能の産業","業務","99 分類不能の産業"]

{"sheet":"作業用_活動種別と単位","index":19,"n_rows":76,"n_cols":17,"rows_kept":76,"cut":false,"hidden":true,"merged":[]}
[]
[]
[null,null,null,"R4SHIFT：R4モニタリングガイドライン2.0と一致を確認2022/4/12"]
[null,null,null,"R5SHIFT：R4モニタリングガイドライン2.0から変更なし（系統電力の排出係数を除く）と聞いた（2023/3/10）"]
[]
[null,null,null,"※活動種別は細分化済みの状態"]
[null,"ガイドライン"]
[null,"項目","ページ","活動種別","計算式振り分け用","活動量の種別","活動単位","単位発熱量の単位","CO2排出係数の単位","GJ換算対象（エネ起＝対象／非エネ起＝非対象）",null,null,null,null,"電力等のGJ換算係数"]
[null,1.2,"II-15","系統電力",1,"使用量","kWh","---","t-CO2/kWh","対象",null,null,null,null,"系統電力",9.7599999999999996E-3,"GJ/kWh"]
[null,1.1000000000000001,"II-21","輸入原料炭",0,"使用量","t","GJ/t","t-CO2/GJ","対象",null,null,null,null,"産業用蒸気",1.02,"GJ"]
[null,1.1000000000000001,"II-21","国産一般炭",0,"使用量","t","GJ/t","t-CO2/GJ","対象",null,null,null,null,"温水",1.36,"GJ"]
[null,1.1000000000000001,"II-21","輸入一般炭",0,"使用量","t","GJ/t","t-CO2/GJ","対象",null,null,null,null,"冷水",1.36,"GJ"]
[null,1.1000000000000001,"II-21","輸入無煙炭",0,"使用量","t","GJ/t","t-CO2/GJ","対象",null,null,null,null,"蒸気（産業用以外）",1.36,"GJ"]
[null,1.1000000000000001,"II-21","コークス",0,"使用量","t","GJ/t","t-CO2/GJ","対象"]
[null,1.1000000000000001,"II-21","原油",0,"使用量","kl","GJ/kl","t-CO2/GJ","対象",null,null,null,null,"↑R4補正・R5の算定・診断・実施の様式と合致済み"]
[null,1.1000000000000001,"II-21","ガソリン",0,"使用量","kl","GJ/kl","t-CO2/GJ","対象"]
[null,1.1000000000000001,"II-21","ナフサ",0,"使用量","kl","GJ/kl","t-CO2/GJ","対象"]
[null,1.1000000000000001,"II-21","ジェット燃料",0,"使用量","kl","GJ/kl","t-CO2/GJ","対象"]
[null,1.1000000000000001,"II-21","灯油",0,"使用量","kl","GJ/kl","t-CO2/GJ","対象"]
[null,1.1000000000000001,"II-21","軽油",0,"使用量","kl","GJ/kl","t-CO2/GJ","対象"]
[null,1.1000000000000001,"II-21","A重油",0,"使用量","kl","GJ/kl","t-CO2/GJ","対象"]
[null,1.1000000000000001,"II-21","B重油",0,"使用量","kl","GJ/kl","t-CO2/GJ","対象"]
[null,1.1000000000000001,"II-21","C重油",0,"使用量","kl","GJ/kl","t-CO2/GJ","対象"]
[null,1.1000000000000001,"II-21","潤滑油",0,"使用量","kl","GJ/kl","t-CO2/GJ","対象"]
[null,1.1000000000000001,"II-21","オイルコークス",0,"使用量","t","GJ/t","t-CO2/GJ","対象"]
[null,1.1000000000000001,"II-21","LPG",0,"使用量","t","GJ/t","t-CO2/GJ","対象"]
[null,1.1000000000000001,"II-21","天然ガス",0,"使用量","千Nm3","GJ/千Nm3","t-CO2/GJ","対象"]
[null,1.1000000000000001,"II-21","LNG",0,"使用量","t","GJ/t","t-CO2/GJ","対象"]
[null,1.1000000000000001,"II-21","都市ガス",0,"使用量","千Nm3","GJ/千Nm3","t-CO2/GJ","対象"]
[null,1.1000000000000001,"II-21","コールタール",0,"使用量","t","GJ/t","t-CO2/GJ","対象"]
[null,1.1000000000000001,"II-21","アスファルト",0,"使用量","t","GJ/t","t-CO2/GJ","対象"]
[null,1.1000000000000001,"II-21","NGL・コンデンセート",0,"使用量","kl","GJ/kl","t-CO2/GJ","対象"]
[null,1.1000000000000001,"II-21","製油所ガス",0,"使用量","千Nm3","GJ/千Nm3","t-CO2/GJ","対象"]
[null,1.1000000000000001,"II-21","コークス炉ガス",0,"使用量","千Nm3","GJ/千Nm3","t-CO2/GJ","対象"]
[null,1.1000000000000001,"II-21","高炉ガス",0,"使用量","千Nm3","GJ/千Nm3","t-CO2/GJ","対象"]
[null,1.1000000000000001,"II-21","転炉ガス",0,"使用量","千Nm3","GJ/千Nm3","t-CO2/GJ","対象"]
[null,1.3,"II-17","産業用蒸気",1,"使用量","GJ","---","t-CO2/GJ","対象"]
[null,1.3,"II-17","温水",1,"使用量","GJ","---","t-CO2/GJ","対象"]
[null,1.3,"II-17","冷水",1,"使用量","GJ","---","t-CO2/GJ","対象"]
[null,1.3,"II-17","蒸気（産業用以外）",1,"使用量","GJ","---","t-CO2/GJ","対象"]
[null,1.4,"II-18","所内消費電力",1,"---","---","---","---","---","←6-1.～6-3.、7-1.～7-3.で使用しない場合は、把握対象、単位は不要。"]
[null,1.4,"II-18","外部供給電力",1,"---","---","---","---","---","←6-1.～6-3.、7-1.～7-4.で使用しない場合は、把握対象、単位は不要。"]
[null,1.4,"II-18","所内消費熱",1,"---","---","---","---","---","←6-1.～6-3.、7-1.～7-5.で使用しない場合は、把握対象、単位は不要。"]
[null,1.4,"II-18","外部供給熱",1,"---","---","---","---","---","←6-1.～6-3.、7-1.～7-6.で使用しない場合は、把握対象、単位は不要。"]
[null,2,"II-27","①廃油",1,"焼却・使用量","t","---","t-CO2/t","---"]
[null,2,"II-27","②廃合成繊維",1,"焼却・使用量","t","---","t-CO2/t","---"]
[null,2,"II-27","③廃ゴムタイヤ",1,"焼却・使用量","t","---","t-CO2/t","---"]
[null,2,"II-27","④　②③以外の廃プラスチック類（産業廃棄物）",1,"焼却・使用量","t","---","t-CO2/t","---"]
[null,2,"II-27","⑤　②③④以外の廃プラスチック類（一般廃棄物）",1,"焼却・使用量","t","---","t-CO2/t","---"]
[null,2,"II-27","廃油から製造される燃料油",1,"焼却・使用量","kl","---","t-CO2/kl","---"]
[null,2,"II-27","廃プラスチック類から製造される燃料油",1,"焼却・使用量","kl","---","t-CO2/kl","---"]
[null,2,"II-27","ごみ固形燃料（RPF）",1,"焼却・使用量","t","---","t-CO2/t","---"]
[null,2,"II-27","ごみ固形燃料（RDF）",1,"焼却・使用量","t","---","t-CO2/t","---"]
[null,3.1,"II-28","セメントの製造",1,"クリンカー製造量","t","---","t-CO2/t","---"]
[null,3.2,"II-30","生石灰の製造（原料：石灰石）",1,"原料使用量","t","---","t-CO2/t","---"]
[null,3.2,"II-30","生石灰の製造（原料：ドロマイト）",1,"原料使用量","t","---","t-CO2/t","---"]
[null,3.3,"II-32","石灰石（タンカル）の使用",1,"使用量","t","---","t-CO2/t","---"]
[null,3.3,"II-32","ドロマイトの使用",1,"使用量","t","---","t-CO2/t","---"]
[null,3.4,"II-35","ソーダ灰の製造",1,"追加投入量","t","---","t-CO2/t","---"]
[null,3.5,"II-37","ソーダ灰の使用",1,"使用量","t","---","t-CO2/t","---"]
[null,3.6,"II-39","アンモニアの製造（原料：石炭）",1,"原料使用量","t","---","t-CO2/t","---"]
[null,3.6,"II-39","アンモニアの製造（原料：ナフサ）",1,"原料使用量","kl","---","t-CO2/kl","---"]
[null,3.6,"II-39","アンモニアの製造（原料：オイルコークス）",1,"原料使用量","t","---","t-CO2/t","---"]
[null,3.6,"II-39","アンモニアの製造（原料：LPG）",1,"原料使用量","t","---","t-CO2/t","---"]
[null,3.6,"II-39","アンモニアの製造（原料：LNG）",1,"原料使用量","t","---","t-CO2/t","---"]
[null,3.6,"II-39","アンモニアの製造（原料：天然ガス(LNG除く)）",1,"原料使用量","千Nm3","---","t-CO2/千Nm3","---"]
[null,3.6,"II-39","アンモニアの製造（原料：コークス炉ガス）",1,"原料使用量","千Nm3","---","t-CO2/千Nm3","---"]
[null,3.6,"II-39","アンモニアの製造（原料：石油系炭化水素ガス）",1,"原料使用量","千Nm3","---","t-CO2/千Nm3","---"]
[null,3.7,"II-42","シリコンカーバイドの製造",1,"石油コークス使用量","t","---","t-CO2/t","---"]
[null,3.8,"II-44","カルシウムカーバイドの製造（石灰石起源）",1,"製造量","t","---","t-CO2/t","---"]
[null,3.8,"II-44","カルシウムカーバイドの製造（還元剤起源）",1,"製造量","t","---","t-CO2/t","---"]
[null,3.9,"II-46","エチレンの製造",1,"製造量","t","---","t-CO2/t","---"]
[null,"3.10","II-47","カルシウムカーバイドを原料としたアセチレンの使用（燃焼）",1,"使用量","t","---","t-CO2/t","---"]
[null,"3.11","II-49","電気炉を使用した粗鋼の製造",1,"製造量","t","---","t-CO2/t","---"]
[null,"3.12","II-50","ドライアイス／液化炭酸ガス／噴霧器の使用",1,"使用量","t","---","t-CO2/t","---"]
[null,null,null,"その他（要：備考欄への詳細記載）",null,null,null,null,null,"---","←「計算式の振り分け」は、6-1.～6-3.、7-1.～7-3.の各シートにおける係数の入力状況に基づき、各シートのA列にて判断。"]